{"text_format":"1","workbook":"xlsx","n_sheets":16,"sheets":["Main","Coefficients","Device Resistance Tables","NTC Thermistor Comparison","4th Order Polynomial TMP vs Res","4th Order Polynomial TMP vs Vdc","Steinhart-Hart","Lookup Table","Interpolation from Lookup Table","Threshold Detection","Averaging","Low Pass Filter","Basic Formulas","RBias TCR_PPM","Worst-Case Analysis","Drift analysis"],"not_rendered":{"charts":20,"images":32,"macros":1,"external_links":0,"defined_names":0,"comments":0,"pivot_tables":0},"unopened":[],"bounds":{"document_bytes":16777216,"sheet_cells":100000,"rows_first":2000,"rows_last":500,"rows_between":2000,"halvings":0,"cell_chars":16384,"cell_head_chars":4096},"cells_cut":0,"cells_raw":0,"read":"whole","date_system":"1900"}

{"sheet":"Main","index":0,"n_rows":55,"n_cols":18,"rows_kept":55,"cut":false,"hidden":false,"merged":[[52,10,52,12],[0,0,2,20],[3,0,3,24],[36,10,36,12],[37,10,37,12],[24,13,24,14],[20,13,20,14],[21,13,21,14],[23,13,23,14],[26,13,26,14],[27,13,27,14],[29,13,29,14],[30,13,30,14],[20,16,20,17],[51,10,51,12],[44,10,44,12],[45,10,45,12],[50,10,50,12],[40,10,40,12],[42,10,42,12],[43,10,43,12],[48,10,48,12],[41,10,41,12],[49,10,49,12]]}
[]
[]
[]
[]
[null,"Version Number",null,null,"1.701","Locked"]
[null,null,null,null,null,null,null,null,null,null,null,null,"TMP6x FAQ","FAQ's for the TMP6x series of thermistors"]
[]
[]
[]
[]
[]
[]
[]
[]
[]
[]
[]
[]
[]
["Version History","Version","Change List Description"]
[null,null,null,null,null,null,null,null,null,null,null,null,null,"Device",null,null,"Max Operating Temperature"]
[null,null,null,null,null,null,null,null,null,null,null,null,"       Select the TI device to model >>>>","TMP6131DECR",null,"q",{"$f":"VLOOKUP('NTC Thermistor Comparison'!$B$26,Coefficients!$E$2:$H$28,4,FALSE)","v":125},"℃"]
[]
[null,null,null,null,null,null,null,null,null,null,null,null,null,{"$f":"Coefficients!J35","v":"VBias (0.3Vdc -  6.5Vdc)"}]
[null,null,null,null,null,null,null,null,null,null,null,null,"Enter VBias Voltage >>>>",3.3,null,"Vdc"]
[]
[null,null,null,null,null,null,null,null,null,null,null,null,null,"ADC Bits (8 - 32 bits)"]
[null,null,null,null,null,null,null,null,null,null,null,null,"Enter ADC Bit value >>>>",12,null,"Bits"]
[]
[null,null,null,null,null,null,null,null,null,null,null,null,null,"RBias"]
[null,null,null,null,null,null,null,null,null,null,null,null,"RBias >>>>",{"$f":"VLOOKUP('NTC Thermistor Comparison'!$B$26,Coefficients!$E$2:$F$28,2,FALSE)","v":10000},null,"Ohms"]
[null,null,null,null,null,null,null,null,null,null,null,null,null,"The top resister is a fixed value. "]
[null,null,null,null,null,null,null,null,null,null,null,null,null,"Preferred resistor tolerance should be 1% or better."]
[]
[]
[null,null,null,null,null,null,null,null,null,null,"Useful Data"]
[null,null,null,null,null,null,null,null,null,null,"Device Resistance Tables",null,null,"Provides the resistance to temperature tables "]
[null,null,null,null,null,null,null,null,null,null,"NTC Thermistor Comparison",null,null,"Compare some of the differences between the TI device chosen and an NTC thermistor (user inputted)"]
[]
[null,null,null,null,null,null,null,null,null,null,"Temperature Conversion Methods"]
[null,null,null,null,null,null,null,null,null,null,"4th Order Polynomial TMP vs Res",null,null,"Preferred method to calculate the temperature values from the resistance"]
[null,null,null,null,null,null,null,null,null,null,"4th Order Polynomial TMP vs Vdc",null,null,"Preferred method to calculate the temperature values from the Vsense voltage"]
[null,null,null,null,null,null,null,null,null,null,"Steinhart-Hart",null,null,"Steinhart-Hart coefficients and model solved "]
[null,null,null,null,null,null,null,null,null,null,"Lookup Table",null,null,"Pre-calculated values stored in a lookup table for quick and easy indexing"]
[null,null,null,null,null,null,null,null,null,null,"Interpolation from Lookup Table",null,null,"Highly accurate, full range interpolation from a small lookup table "]
[null,null,null,null,null,null,null,null,null,null,"Threshold Detection",null,null,"Calculate at 2 points for limit or threshold based designs"]
[]
[null,null,null,null,null,null,null,null,null,null,"Helpful formula worksheets"]
[null,null,null,null,null,null,null,null,null,null,"Averaging",null,null,"Averaging and oversampling techniques "]
[null,null,null,null,null,null,null,null,null,null,"Low Pass Filter",null,null,"Firmware based Low Pass Filter"]
[null,null,null,null,null,null,null,null,null,null,"Basic Formulas",null,null,"Quick computations to help during design"]
[null,null,null,null,null,null,null,null,null,null,"RBias TCR_PPM",null,null,"Calculate the bias resistor tolerances, PPM values, and more"]
[]
[]
[null,null,null,null,null,null,null,null,null,null,"0402 Footprint",null,null,null,null,null,null,"0603 Footprint"]

{"sheet":"Coefficients","index":1,"n_rows":212,"n_cols":29,"rows_kept":212,"cut":false,"hidden":true,"merged":[]}
["Coefficients",null,null,null,"Part List","Resistance @25C",null,"Max Temperature","Min Temperature","Min Vbias","Max Vbias",null,null,"Hide this page before locking the worksheet with a password",null,null,null,"Password: ","THS_Apps_01","Use this password to lock and unlock each tab",null,null,"THS_apps_0","Old Password"]
[1,null,null,null,"TMP6131DECR",10000,"Ohms",125,-40,0.3,6.5]
[2,null,null,null,"TMP6131DECT",10000,"Ohms",125,-40,0.3,6.5]
[3,null,null,null,"TMP6131QDECRQ1",10000,"Ohms",125,-40,0.3,6.5,null,null,"Version","Date","Edits","Description"]
[4,null,null,null,"TMP6131QDECTQ1",10000,"Ohms",125,-40,0.3,6.5,null,null,1,"2019-12-04",null,"Released Version - to TI.com"]
[5,null,null,null,"TMP6131DYAR",10000,"Ohms",150,-40,0.3,6.5,null,null,1.01,"2019-12-11",1,"updated the NTC resistance table to 1%"]
[6,null,null,null,"TMP6131QDYARQ1",10000,"Ohms",150,-40,0.3,6.5,null,null,null,null,2,"Changed the resistance tolerance to 1.5% from 71C and above"]
[7,null,null,null,"TMP6131DYAT",10000,"Ohms",150,-40,0.3,6.5,null,null,null,null,3,"Added new worksheet “Averaging” to the tool"]
[8,null,null,null,"TMP6131QDYATQ1",10000,"Ohms",150,-40,0.3,6.5,null,null,1.02,"2019-12-17",1,"Added new plot for tolerance error to the “NTC compare worksheet” "]
[9,null,null,null,"TMP6131LPGM",10000,"Ohms",150,-40,0.3,6.5,null,null,null,null,2,"Changed the plot labels “NTC compare worksheet” to show the corresponding TI device part number instead of PTC"]
[10,null,null,null,"TMP6131QLPGMQ1",10000,"Ohms",150,-40,0.3,6.5,null,null,null,null,3,"Increased the scale range for the calculated regression error “4th order poly worksheet” to minimize the appearance of the error"]
[11,null,null,null,"TMP6131ELPGMQ1",10000,"Ohms",170,-40,0.8,5.5,null,null,null,null,4," Corrected range bugs for entered data across some sheets"]
[12,null,null,null,"TMP6331DECR",100000,"Ohms",125,-40,0.8,5.5,null,null,1.03,"2019-12-18",1,"Changed the data images to include the step size info in the image in the \"Averaging\" worksheet"]
[13,null,null,null,"TMP6331QDECRQ1",100000,"Ohms",125,-40,0.8,5.5,null,null,null,null,2,"Added a note about sample size for resolution changes to the \"Averaging\" worksheet"]
[14,null,null,null,"TMP6331DECT",100000,"Ohms",125,-40,0.8,5.5,null,null,1.1000000000000001,"2019-12-18",1,"Changed the revision to V1.100 because we added the \"Averaging\" worksheet"]
[15,null,null,null,"TMP6331QDECTQ1",100000,"Ohms",125,-40,0.8,5.5,null,null,1.1100000000000001,"2020-01-09",1,"Including in the tool new APL parts to the drop down menu and using existing polynomials"]
[16,null,null,null,"TMP6331DYAR",100000,"Ohms",150,-40,0.8,5.5,null,null,1.1200000000000001,"2020-01-10",1,"corrected part numbers for new additional parts "]
[17,null,null,null,"TMP6331DYAT",100000,"Ohms",150,-40,0.8,5.5,null,null,1.1299999999999999,"2020-01-13",1,"Corrected the max and min tolerances in the 5% resistance tables"]
[18,null,null,null,"TMP6331QDYARQ1",100000,"Ohms",150,-40,0.8,5.5,null,null,1.2,"2020-01-20",1,"Extended temperature range for all sheets to 175"]
[19,null,null,null,"TMP6331QDYATQ1",100000,"Ohms",150,-40,0.8,5.5,null,null,null,null,2,"Added min temp to coefficients"]
[20,null,null,null,"TMP6431DECR",47000,"Ohms",125,-40,0.8,5.5,null,null,null,null,3,"Made corrections to a few of the sheets"]
[21,null,null,null,"TMP6431DECT",47000,"Ohms",125,-40,0.8,5.5,null,null,null,null,4,"updated the ELPG coefficients for 175C"]
[22,null,null,null,"TMP6431DYAR",47000,"Ohms",150,-40,0.8,5.5,null,null,1.3,"2020-02-12",1,"Bryan's updated text edits"]
[23,null,null,null,"TMP6431DYAT",47000,"Ohms",150,-40,0.8,5.5,null,null,null,null,2,"Replaced all \"PTC\" with \"THRM\""]
[24,null,null,null,"TMP6431QDYARQ1",47000,"Ohms",150,-40,0.8,5.5,null,null,1.31,"2020-02-14",1,"Updated the Plots for extended temperature"]
[25,null,null,null,"TMP6431QDYATQ1",47000,"Ohms",150,-40,0.8,5.5,null,null,1.4,"2020-11-12",1,"Added 8 new part numbers and coefficients"]
[26,null,null,null,"TMP6431QDECRQ1",47000,"Ohms",125,-40,0.8,5.5,null,null,null,null,2,"aligned and sized plots to be more aesthetic"]
[27,null,null,null,"TMP6431QDECTQ1",47000,"Ohms",125,-40,0.8,5.5,null,null,null,null,3,"Updated all coefficients to the newest and most accurate coefficients"]
[null,null,null,null,null,null,null,null,null,"To add new products insert the part number and data before the last line",null,null,null,1.401,"2020-11-27",1,"Increased Rbias to 6.5Vdc maximum input value. This keeps the Vdiv below 5.5V and the current at -40C below 400uA."]
[null,null,null,null,null,null,null,null,null,"Adding before this line will insert the new data and all sheets will be ",null,null,null,1.5,"2021-02-24",1,"increased DYA temperature high limit to 150C"]
[null,null,null,null,null,null,null,null,null,"updated  automatically. Adding after this line will mean that you will have",null,null,null,null,null,2,"Added Temperature vs Vtemp (VDC) tab"]
[null,null,null,null,null,null,null,null,null,"manually go to every sheet and update the new table ranges",null,null,null,null,null,3,"Corrected typo errors throughout the worksheet"]
[null,null,null,null,null,null,null,null,null,null,null,null,null,null,null,4,"Updated copyright dates"]
[null,null,null,null,null,null,null,null,"Do not change this label",null,null,null,null,null,null,5,"Added Firmware LPF tab"]
[null,null,null,null,null,null,null,null,"VBias Voltage Label",{"$f":"\"VBias (\"&CELL(\"contents\",$J$36)&\"Vdc\"&\" - \"&\" \"&CELL(\"contents\",$J$37)&\"Vdc)\"","v":"VBias (0.3Vdc -  6.5Vdc)"},null,null,null,null,null,6,"extended the VBias down to 0.3V and up to 6.5V"]
[null,null,null,null,null,null,null,null,"Min VBias Lookup",{"$f":"VLOOKUP('NTC Thermistor Comparison'!$B$26,Coefficients!$E$2:$K$28,6,FALSE)","v":0.3},null,null,null,null,null,7,"added max temp for part to main page"]
[null,null,null,null,null,null,null,null,"Max VBias Lookup",{"$f":"VLOOKUP('NTC Thermistor Comparison'!$B$26,Coefficients!$E$2:$K$28,7,FALSE)","v":6.5},null,null,null,1.51,"2021-04-26",1,"Added VBA to reset voltage on part number change"]
[null,null,null,null,null,null,null,null,null,null,null,null,null,1.6,"2021-12-02",1,"Corrected missing link on the basic formulas tab to carry forward the VBias"]
[null,null,null,null,null,null,null,null,null,null,null,null,null,null,null,2,"Added Worst Case tab (VBias, RBias, ADC, TCR, Beta, Arhenius)"]
[null,null,null,null,null,null,null,null,null,null,null,null,null,null,null,3,"Removed main link to Worst Case and hide tab for release. Show tab for apps, marketing and select customers."]
[null,null,null,null,null,null,null,null,null,null,null,null,null,null,null,4,"Corrected ppm error calculation in RBias tab"]
[null,null,null,null,null,null,null,null,null,null,null,null,null,1.7,"2022-05-31",1,"Created A version with WCA and Drift.  Created non A version with WCA and Drift hidden"]
[null,null,null,null,null,null,null,null,null,null,null,null,null,null,null,2,"Changed the password to unlock this document"]
[null,null,null,null,null,null,null,null,null,null,null,null,null,1.7010000000000001,"2022-06-13",1,"TMP64 coefficients are incorrect. Changed back to v1.4 coefficients until it's figured out."]
[]
[]
[]
[null,null,null,null,null,null,"Coefficients are created from real data of 5 test points and t offset for accuracy"]
[null,"use to verify order",null,null,null,"Vlookup tables"]
[null,"Indexed to list",null,"The part number must match this "]
["Row","Coefficient number","Part number","lookup table wit A0/A4 added",null,"COEFFICENT","X0","X1","X2","X3","X4","STD Vbias","TMP6131DECR",null,null,null,null,null,"ext Vbias","TMP6131DECR","X0","X1","X2","X3","X4"]
[1,{"$f":"INDEX($A$2:$A$28,MATCH(C52,$E$2:$E$28,0))","v":1},"TMP6131DECR",null,"TMP6131DECRA0","A0",8339.9251945161704,54.154715686148002,-5.78616061394467,1.47111238439537,-0.115876333353779,"0.3V-6.5V",8339.9251945161704,54.154715686148002,-5.78616061394467,1.47111238439537,-0.115876333353779,null,"0.3V-6.5V","A0",8339.9251945161704,54.154715686148002,-5.78616061394467,1.47111238439537,-0.115876333353779]
[null,{"$f":"INDEX($F$2:$F$28,MATCH(C52,$E$2:$E$28,0))","v":10000},null,null,"TMP6131DECRA1","A1",53.519439171642901,0.111930161345648,0.18987442220474199,-4.60507145157859E-2,3.7681976436438999E-3,null,53.519439171642901,0.111930161345648,0.18987442220474199,-4.60507145157859E-2,3.7681976436438999E-3,null,null,"A1",53.519439171642901,0.111930161345648,0.18987442220474199,-4.60507145157859E-2,3.7681976436438999E-3]
[null,{"$f":"INDEX($H$2:$H$28,MATCH(C52,$E$2:$E$28,0))","v":125},null,null,"TMP6131DECRA2","A2",0.14962693895820001,-5.4830524870576897E-3,3.8003927509140199E-3,-8.04689323736446E-4,5.84268115194529E-5,null,0.14962693895820001,-5.4830524870576897E-3,3.8003927509140199E-3,-8.04689323736446E-4,5.84268115194529E-5,null,null,"A2",0.14962693895820001,-5.4830524870576897E-3,3.8003927509140199E-3,-8.04689323736446E-4,5.84268115194529E-5]
[null,{"$f":"INDEX($I$2:$I$28,MATCH(C52,$E$2:$E$28,0))","v":-40},null,null,"TMP6131DECRA3","A3",7.7764366717815907E-6,1.0146010335395299E-4,-5.8340665406269602E-5,1.3401513694378001E-5,-1.0941921253097099E-6,null,7.7764366717815907E-6,1.0146010335395299E-4,-5.8340665406269602E-5,1.3401513694378001E-5,-1.0941921253097099E-6,null,null,"A3",7.7764366717815907E-6,1.0146010335395299E-4,-5.8340665406269602E-5,1.3401513694378001E-5,-1.0941921253097099E-6]
[null,null,null,null,"TMP6131DECRA4","A4",3.5239682993970999E-7,-4.1515958229399602E-7,2.7552937506444702E-7,-6.7111197681992294E-8,5.7413790872433604E-9,null,3.5239682993970999E-7,-4.1515958229399602E-7,2.7552937506444702E-7,-6.7111197681992294E-8,5.7413790872433604E-9,null,null,"A4",3.5239682993970999E-7,-4.1515958229399602E-7,2.7552937506444702E-7,-6.7111197681992294E-8,5.7413790872433604E-9]
[]
[2,{"$f":"INDEX($A$2:$A$28,MATCH(C58,$E$2:$E$28,0))","v":2},"TMP6131DECT",null,"TMP6131DECTA0","A0",8339.9251945161704,54.154715686148002,-5.78616061394467,1.47111238439537,-0.115876333353779,null,"TMP6131DYAR",null,null,null,null,null,"ext Vbias","TMP6131DYAR"]
[null,{"$f":"INDEX($F$2:$F$28,MATCH(C58,$E$2:$E$28,0))","v":10000},null,null,"TMP6131DECTA1","A1",53.519439171642901,0.111930161345648,0.18987442220474199,-4.60507145157859E-2,3.7681976436438999E-3,"0.3V-6.5V",8361.0324913716704,48.337340872126603,-1.65480131630854,0.64777941368762704,-7.7399944373615706E-2,null,"0.3V-6.5V","A0",8361.0324913716704,48.337340872126603,-1.65480131630854,0.64777941368762704,-7.7399944373615706E-2]
[null,{"$f":"INDEX($H$2:$H$28,MATCH(C58,$E$2:$E$28,0))","v":125},null,null,"TMP6131DECTA2","A2",0.14962693895820001,-5.4830524870576897E-3,3.8003927509140199E-3,-8.04689323736446E-4,5.84268115194529E-5,null,52.354403938256702,0.57382533774766398,6.9378164298414896E-2,-4.2079396498636103E-2,4.6585395537100697E-3,null,null,"A1",52.354403938256702,0.57382533774766398,6.9378164298414896E-2,-4.2079396498636103E-2,4.6585395537100697E-3]
[null,{"$f":"INDEX($I$2:$I$28,MATCH(C58,$E$2:$E$28,0))","v":-40},null,null,"TMP6131DECTA3","A3",7.7764366717815907E-6,1.0146010335395299E-4,-5.8340665406269602E-5,1.3401513694378001E-5,-1.0941921253097099E-6,null,0.14305301264459799,2.26173822482239E-3,2.4276187415637199E-4,-1.5286804568051299E-4,1.73203149221607E-5,null,null,"A2",0.14305301264459799,2.26173822482239E-3,2.4276187415637199E-4,-1.5286804568051299E-4,1.73203149221607E-5]
[null,null,null,null,"TMP6131DECTA4","A4",3.5239682993970999E-7,-4.1515958229399602E-7,2.7552937506444702E-7,-6.7111197681992294E-8,5.7413790872433604E-9,null,4.7371303574906001E-5,4.24309723085448E-5,-1.05969840414511E-4,3.77286351244807E-5,-3.76269527611648E-6,null,null,"A3",4.7371303574906001E-5,4.24309723085448E-5,-1.05969840414511E-4,3.77286351244807E-5,-3.76269527611648E-6]
[null,null,null,null,null,null,null,null,null,null,null,null,9.6068114216146397E-8,-2.4859924337395901E-7,6.4571270790703703E-7,-2.2842259016657001E-7,2.27096878741564E-8,null,null,"A4",9.6068114216146397E-8,-2.4859924337395901E-7,6.4571270790703703E-7,-2.2842259016657001E-7,2.27096878741564E-8]
[2,{"$f":"INDEX($A$2:$A$28,MATCH(C64,$E$2:$E$28,0))","v":3},"TMP6131QDECRQ1",null,"TMP6131QDECRQ1A0","A0",8339.9251945161704,54.154715686148002,-5.78616061394467,1.47111238439537,-0.115876333353779]
[null,{"$f":"INDEX($F$2:$F$28,MATCH(C64,$E$2:$E$28,0))","v":10000},null,null,"TMP6131QDECRQ1A1","A1",53.519439171642901,0.111930161345648,0.18987442220474199,-4.60507145157859E-2,3.7681976436438999E-3,null,"TMP6131LPGM",null,null,null,null,null,"ext Vbias","TMP6131LPGM","X0","X1","X2","X3","X4"]
[null,{"$f":"INDEX($H$2:$H$28,MATCH(C64,$E$2:$E$28,0))","v":125},null,null,"TMP6131QDECRQ1A2","A2",0.14962693895820001,-5.4830524870576897E-3,3.8003927509140199E-3,-8.04689323736446E-4,5.84268115194529E-5,"0.3V-6.5V",8372.3615939093106,50.999913326927803,-0.39817713312681702,-0.35474818919505702,2.6871006620532802E-2,null,"0.3V-6.5V","A0",8372.3615939093106,50.999913326927803,-0.39817713312681702,-0.35474818919505702,2.6871006620532802E-2]
[null,{"$f":"INDEX($I$2:$I$28,MATCH(C64,$E$2:$E$28,0))","v":-40},null,null,"TMP6131QDECRQ1A3","A3",7.7764366717815907E-6,1.0146010335395299E-4,-5.8340665406269602E-5,1.3401513694378001E-5,-1.0941921253097099E-6,null,52.4959157636737,0.523310445629112,-4.7999161452887698E-2,7.0678957907649902E-3,-4.8841564170884596E-4,null,null,"A1",52.4959157636737,0.523310445629112,-4.7999161452887698E-2,7.0678957907649902E-3,-4.8841564170884596E-4]
[null,null,null,null,"TMP6131QDECRQ1A4","A4",3.5239682993970999E-7,-4.1515958229399602E-7,2.7552937506444702E-7,-6.7111197681992294E-8,5.7413790872433604E-9,null,0.136378594352284,3.9627735841903603E-3,-1.8438781893195999E-3,4.7582387443736301E-4,-3.8224148665906102E-5,null,null,"A2",0.136378594352284,3.9627735841903603E-3,-1.8438781893195999E-3,4.7582387443736301E-4,-3.8224148665906102E-5]
[null,null,null,null,null,null,null,null,null,null,null,null,1.91447173481012E-4,-5.6778982769049697E-5,3.9172318094447799E-5,-9.7470177886775406E-6,7.48386974016252E-7,null,null,"A3",1.91447173481012E-4,-5.6778982769049697E-5,3.9172318094447799E-5,-9.7470177886775406E-6,7.48386974016252E-7]
[4,{"$f":"INDEX($A$2:$A$28,MATCH(C70,$E$2:$E$28,0))","v":4},"TMP6131QDECTQ1",null,"TMP6131QDECTQ1A0","A0",8339.9251945161704,54.154715686148002,-5.78616061394467,1.47111238439537,-0.115876333353779,null,-4.2893845061380202E-7,6.3986673669595005E-7,-3.6709738962319602E-7,8.4422184348922404E-8,-6.3065574785736401E-9,null,null,"A4",-4.2893845061380202E-7,6.3986673669595005E-7,-3.6709738962319602E-7,8.4422184348922404E-8,-6.3065574785736401E-9]
[null,{"$f":"INDEX($F$2:$F$28,MATCH(C70,$E$2:$E$28,0))","v":10000},null,null,"TMP6131QDECTQ1A1","A1",53.519439171642901,0.111930161345648,0.18987442220474199,-4.60507145157859E-2,3.7681976436438999E-3]
[null,{"$f":"INDEX($H$2:$H$28,MATCH(C70,$E$2:$E$28,0))","v":125},null,null,"TMP6131QDECTQ1A2","A2",0.14962693895820001,-5.4830524870576897E-3,3.8003927509140199E-3,-8.04689323736446E-4,5.84268115194529E-5,null,"TMP6131ELPGMQ1"]
[null,{"$f":"INDEX($I$2:$I$28,MATCH(C70,$E$2:$E$28,0))","v":-40},null,null,"TMP6131QDECTQ1A3","A3",7.7764366717815907E-6,1.0146010335395299E-4,-5.8340665406269602E-5,1.3401513694378001E-5,-1.0941921253097099E-6,"0.8V-5.5V",8376.4047789259203,56.067391853266997,-6.4171042655813197,1.5492420676686101,-0.151541706949952]
[null,null,null,null,"TMP6131QDECTQ1A4","A4",3.5239682993970999E-7,-4.1515958229399602E-7,2.7552937506444702E-7,-6.7111197681992294E-8,5.7413790872433604E-9,null,52.170927838267502,0.489427543719062,7.8127590380147605E-2,-3.5798408977859103E-2,3.6514171630348999E-3]
[null,null,null,null,null,null,null,null,null,null,null,null,0.133030694593748,2.09388976502628E-3,1.4215016850833101E-3,-5.7334284218350502E-4,5.8984695954595497E-5]
[5,{"$f":"INDEX($A$2:$A$28,MATCH(C76,$E$2:$E$28,0))","v":5},"TMP6131DYAR",null,"TMP6131DYARA0","A0",8361.0324913716704,48.337340872126603,-1.65480131630854,0.64777941368762704,-7.7399944373615706E-2,null,3.6884316025766699E-4,-2.3637949347307099E-4,1.03465899712959E-4,-2.18302556771475E-5,1.7261098384421201E-6]
[null,{"$f":"INDEX($F$2:$F$28,MATCH(C76,$E$2:$E$28,0))","v":10000},null,null,"TMP6131DYARA1","A1",52.354403938256702,0.57382533774766398,6.9378164298414896E-2,-4.2079396498636103E-2,4.6585395537100697E-3,null,-1.21382752673235E-6,1.22640272647557E-6,-5.1606364116429999E-7,1.07182593352566E-7,-8.4186262261153103E-9]
[null,{"$f":"INDEX($H$2:$H$28,MATCH(C76,$E$2:$E$28,0))","v":150},null,null,"TMP6131DYARA2","A2",0.14305301264459799,2.26173822482239E-3,2.4276187415637199E-4,-1.5286804568051299E-4,1.73203149221607E-5]
[null,{"$f":"INDEX($I$2:$I$28,MATCH(C76,$E$2:$E$28,0))","v":-40},null,null,"TMP6131DYARA3","A3",4.7371303574906001E-5,4.24309723085448E-5,-1.05969840414511E-4,3.77286351244807E-5,-3.76269527611648E-6,null,"TMP6331DECR"]
[null,null,null,null,"TMP6131DYARA4","A4",9.6068114216146397E-8,-2.4859924337395901E-7,6.4571270790703703E-7,-2.2842259016657001E-7,2.27096878741564E-8,"0.8V-5.5V",82766.371429999999,703.6268374,-31.813050260000001,6.4979977010000001,-0.65004340800000004]
[null,null,null,null,null,null,null,null,null,null,null,null,522.99226610000005,9.061605557,-0.84159497699999997,5.8449747000000003E-2,2.58504E-4]
[6,{"$f":"INDEX($A$2:$A$28,MATCH(C82,$E$2:$E$28,0))","v":6},"TMP6131QDYARQ1",null,"TMP6131QDYARQ1A0","A0",8361.0324913716704,48.337340872126603,-1.65480131630854,0.64777941368762704,-7.7399944373615706E-2,null,1.4768911300000001,-8.8166704999999998E-2,6.3005229999999995E-2,-1.5223415000000001E-2,1.319036E-3]
[null,{"$f":"INDEX($F$2:$F$28,MATCH(C82,$E$2:$E$28,0))","v":10000},null,null,"TMP6131QDYARQ1A1","A1",52.354403938256702,0.57382533774766398,6.9378164298414896E-2,-4.2079396498636103E-2,4.6585395537100697E-3,null,6.8564099999999996E-4,5.37599E-5,-3.2918800000000001E-4,1.2525399999999999E-4,-1.3606400000000001E-5]
[null,{"$f":"INDEX($H$2:$H$28,MATCH(C82,$E$2:$E$28,0))","v":150},null,null,"TMP6131QDYARQ1A2","A2",0.14305301264459799,2.26173822482239E-3,2.4276187415637199E-4,-1.5286804568051299E-4,1.73203149221607E-5,null,-6.31274E-6,1.0225500000000001E-5,-3.1066399999999999E-6,3.7826699999999998E-7,-1.1756699999999999E-8]
[null,{"$f":"INDEX($I$2:$I$28,MATCH(C82,$E$2:$E$28,0))","v":-40},null,null,"TMP6131QDYARQ1A3","A3",4.7371303574906001E-5,4.24309723085448E-5,-1.05969840414511E-4,3.77286351244807E-5,-3.76269527611648E-6]
[null,null,null,null,"TMP6131QDYARQ1A4","A4",9.6068114216146397E-8,-2.4859924337395901E-7,6.4571270790703703E-7,-2.2842259016657001E-7,2.27096878741564E-8,null,"TMP6331DYAR"]
[null,null,null,null,null,null,null,null,null,null,null,"0.8V-5.5V",82978.3770518776,646.13432392997299,17.231510001847401,-7.39034007785882,0.48423257929514502]
[7,{"$f":"INDEX($A$2:$A$28,MATCH(C88,$E$2:$E$28,0))","v":7},"TMP6131DYAT",null,"TMP6131DYATA0","A0",8361.0324913716704,48.337340872126603,-1.65480131630854,0.64777941368762704,-7.7399944373615706E-2,null,510.92476009278499,18.435227187798599,-5.8192550787425796,1.14965900381177,-8.57870768838081E-2]
[null,{"$f":"INDEX($F$2:$F$28,MATCH(C88,$E$2:$E$28,0))","v":10000},null,null,"TMP6131DYATA1","A1",52.354403938256702,0.57382533774766398,6.9378164298414896E-2,-4.2079396498636103E-2,4.6585395537100697E-3,null,1.4947194903871801,-0.123401431627037,7.84976925092742E-2,-1.77758422142292E-2,1.4132273986937501E-3]
[null,{"$f":"INDEX($H$2:$H$28,MATCH(C88,$E$2:$E$28,0))","v":150},null,null,"TMP6131DYATA2","A2",0.14305301264459799,2.26173822482239E-3,2.4276187415637199E-4,-1.5286804568051299E-4,1.73203149221607E-5,null,5.9850910045278899E-3,-7.7630349239670099E-3,3.8437013565914102E-3,-8.1084180541790498E-4,6.1594363857237898E-5]
[null,{"$f":"INDEX($I$2:$I$28,MATCH(C88,$E$2:$E$28,0))","v":-40},null,null,"TMP6131DYATA3","A3",4.7371303574906001E-5,4.24309723085448E-5,-1.05969840414511E-4,3.77286351244807E-5,-3.76269527611648E-6,null,-4.3198795754093399E-5,5.9299861115010497E-5,-2.9259143614860502E-5,6.1927537580354801E-6,-4.72335000760647E-7]
[null,null,null,null,"TMP6131DYATA4","A4",9.6068114216146397E-8,-2.4859924337395901E-7,6.4571270790703703E-7,-2.2842259016657001E-7,2.27096878741564E-8,null,null,null,null,null,null,null,"v1.4",null,null,null,null,null,"V1.7"]
[null,null,null,null,null,null,null,null,null,null,null,null,"TMP6431DECR",null,null,null,null,null,"TMP6431DECR",null,null,null,null,null,"TMP6431DECR"]
[8,{"$f":"INDEX($A$2:$A$28,MATCH(C94,$E$2:$E$28,0))","v":8},"TMP6131QDYATQ1",null,"TMP6131QDYATQ1A0","A0",8361.0324913716704,48.337340872126603,-1.65480131630854,0.64777941368762704,-7.7399944373615706E-2,"0.8V-5.5V",39073.527896342501,18.842883797025902,0.25581897208566801,-5.3503036281571199E-3,2.9654683038591102E-5,null,39081.321069999998,217.2204385,35.366503049999999,-9.6982433090000004,0.80816924700000004,null,39073.527896342501,18.842883797025902,0.25581897208566801,-5.3503036281571199E-3,2.9654683038591102E-5]
[null,{"$f":"INDEX($F$2:$F$28,MATCH(C94,$E$2:$E$28,0))","v":10000},null,null,"TMP6131QDYATQ1A1","A1",52.354403938256702,0.57382533774766398,6.9378164298414896E-2,-4.2079396498636103E-2,4.6585395537100697E-3,null,246.69282823589299,0.58969600356734198,-1.50292158592613E-2,2.7370985763503701E-4,-1.54974531645501E-6,null,246.43709290000001,4.7811996250000002,-1.1653009110000001,0.24705002200000001,-1.9717684999999999E-2,null,246.69282823589299,0.58969600356734198,-1.50292158592613E-2,2.7370985763503701E-4,-1.54974531645501E-6]
[null,{"$f":"INDEX($H$2:$H$28,MATCH(C94,$E$2:$E$28,0))","v":150},null,null,"TMP6131QDYATQ1A2","A2",0.14305301264459799,2.26173822482239E-3,2.4276187415637199E-4,-1.5286804568051299E-4,1.73203149221607E-5,null,0.66104021479253205,3.3113147669142202E-3,-7.6584113134323996E-5,1.25344071481677E-6,-6.7085148182899501E-9,null,0.66535669200000003,5.5007749000000002E-2,-2.7957012E-2,6.8824309999999996E-3,-5.8887399999999997E-4,null,0.66104021479253205,3.3113147669142202E-3,-7.6584113134323996E-5,1.25344071481677E-6,-6.7085148182899501E-9]
[null,{"$f":"INDEX($I$2:$I$28,MATCH(C94,$E$2:$E$28,0))","v":-40},null,null,"TMP6131QDYATQ1A3","A3",4.7371303574906001E-5,4.24309723085448E-5,-1.05969840414511E-4,3.77286351244807E-5,-3.76269527611648E-6,null,9.5079858576910302E-4,-1.5447829994645E-4,8.0550366138575096E-6,-1.5573269824507299E-7,8.9258955612169E-10,null,3.325E-4,-2.81179E-4,6.3738600000000007E-5,-5.5542400000000004E-7,-8.0205599999999997E-7,null,9.5079858576910302E-4,-1.5447829994645E-4,8.0550366138575096E-6,-1.5573269824507299E-7,8.9258955612169E-10]
[null,null,null,null,"TMP6131QDYATQ1A4","A4",9.6068114216146397E-8,-2.4859924337395901E-7,6.4571270790703703E-7,-2.2842259016657001E-7,2.27096878741564E-8,null,-4.4732875444217696E-6,1.2370882496924101E-6,-6.2183422903682898E-8,1.1987246676915001E-9,-6.86435601010155E-12,null,-5.9691900000000005E-7,2.22867E-6,-4.4049100000000002E-7,-5.28157E-9,6.5826600000000001E-9,null,-4.4732875444217696E-6,1.2370882496924101E-6,-6.2183422903682898E-8,1.1987246676915001E-9,-6.86435601010155E-12]
[]
[9,{"$f":"INDEX($A$2:$A$28,MATCH(C100,$E$2:$E$28,0))","v":9},"TMP6131LPGM",null,"TMP6131LPGMA0","A0",8372.3615939093106,50.999913326927803,-0.39817713312681702,-0.35474818919505702,2.6871006620532802E-2,null,"TMP6431DYAR",null,null,null,null,null,"TMP6431DYAR",null,null,null,null,null,"TMP6431DYAR"]
[null,{"$f":"INDEX($F$2:$F$28,MATCH(C100,$E$2:$E$28,0))","v":10000},null,null,"TMP6131LPGMA1","A1",52.4959157636737,0.523310445629112,-4.7999161452887698E-2,7.0678957907649902E-3,-4.8841564170884596E-4,"0.8V-5.5V",39168.574985617102,18.684582842233599,0.24173203617390299,-4.8853846471426697E-3,2.65815730132797E-5,null,39168.574985617102,18.684582842233599,0.24173203617390299,-4.8853846471426697E-3,2.65815730132797E-5,null,39168.574985617102,18.684582842233599,0.24173203617390299,-4.8853846471426697E-3,2.65815730132797E-5]
[null,{"$f":"INDEX($H$2:$H$28,MATCH(C100,$E$2:$E$28,0))","v":150},null,null,"TMP6131LPGMA2","A2",0.136378594352284,3.9627735841903603E-3,-1.8438781893195999E-3,4.7582387443736301E-4,-3.8224148665906102E-5,null,243.56600424651899,0.61246544691819305,-1.6271884868654201E-2,2.9497710469131999E-4,-1.6635826320493701E-6,null,243.56600424651899,0.61246544691819305,-1.6271884868654201E-2,2.9497710469131999E-4,-1.6635826320493701E-6,null,243.56600424651899,0.61246544691819305,-1.6271884868654201E-2,2.9497710469131999E-4,-1.6635826320493701E-6]
[null,{"$f":"INDEX($I$2:$I$28,MATCH(C100,$E$2:$E$28,0))","v":-40},null,null,"TMP6131LPGMA3","A3",1.91447173481012E-4,-5.6778982769049697E-5,3.9172318094447799E-5,-9.7470177886775406E-6,7.48386974016252E-7,null,0.64114181731042896,3.0164923461275298E-3,-6.3519963468189805E-5,1.01919890559555E-6,-5.4048435953805197E-9,null,0.64114181731042896,3.0164923461275298E-3,-6.3519963468189805E-5,1.01919890559555E-6,-5.4048435953805197E-9,null,0.64114181731042896,3.0164923461275298E-3,-6.3519963468189805E-5,1.01919890559555E-6,-5.4048435953805197E-9]
[null,null,null,null,"TMP6131LPGMA4","A4",-4.2893845061380202E-7,6.3986673669595005E-7,-3.6709738962319602E-7,8.4422184348922404E-8,-6.3065574785736401E-9,null,1.3475458839712401E-3,-1.69564705674006E-4,8.9466355504256997E-6,-1.73217522510246E-7,9.9427151188728497E-10,null,1.3475458839712401E-3,-1.69564705674006E-4,8.9466355504256997E-6,-1.73217522510246E-7,9.9427151188728497E-10,null,1.3475458839712401E-3,-1.69564705674006E-4,8.9466355504256997E-6,-1.73217522510246E-7,9.9427151188728497E-10]
[null,null,null,null,null,null,null,null,null,null,null,null,-7.2096260590240796E-6,1.3771760925430199E-6,-7.0349752707070406E-8,1.35804343258657E-9,-7.78727902361835E-12,null,-7.2096260590240796E-6,1.3771760925430199E-6,-7.0349752707070406E-8,1.35804343258657E-9,-7.78727902361835E-12,null,-7.2096260590240796E-6,1.3771760925430199E-6,-7.0349752707070406E-8,1.35804343258657E-9,-7.78727902361835E-12]
[10,{"$f":"INDEX($A$2:$A$28,MATCH(C106,$E$2:$E$28,0))","v":10},"TMP6131QLPGMQ1",null,"TMP6131QLPGMQ1A0","A0",8372.3615939093106,50.999913326927803,-0.39817713312681702,-0.35474818919505702,2.6871006620532802E-2]
[null,{"$f":"INDEX($F$2:$F$28,MATCH(C106,$E$2:$E$28,0))","v":10000},null,null,"TMP6131QLPGMQ1A1","A1",52.4959157636737,0.523310445629112,-4.7999161452887698E-2,7.0678957907649902E-3,-4.8841564170884596E-4]
[null,{"$f":"INDEX($H$2:$H$28,MATCH(C106,$E$2:$E$28,0))","v":150},null,null,"TMP6131QLPGMQ1A2","A2",0.136378594352284,3.9627735841903603E-3,-1.8438781893195999E-3,4.7582387443736301E-4,-3.8224148665906102E-5]
[null,{"$f":"INDEX($I$2:$I$28,MATCH(C106,$E$2:$E$28,0))","v":-40},null,null,"TMP6131QLPGMQ1A3","A3",1.91447173481012E-4,-5.6778982769049697E-5,3.9172318094447799E-5,-9.7470177886775406E-6,7.48386974016252E-7]
[null,null,null,null,"TMP6131QLPGMQ1A4","A4",-4.2893845061380202E-7,6.3986673669595005E-7,-3.6709738962319602E-7,8.4422184348922404E-8,-6.3065574785736401E-9]
[]
[11,{"$f":"INDEX($A$2:$A$28,MATCH(C112,$E$2:$E$28,0))","v":11},"TMP6131ELPGMQ1",null,"TMP6131ELPGMQ1A0","A0",8376.4047789259203,56.067391853266997,-6.4171042655813197,1.5492420676686101,-0.151541706949952]
[null,{"$f":"INDEX($F$2:$F$28,MATCH(C112,$E$2:$E$28,0))","v":10000},null,null,"TMP6131ELPGMQ1A1","A1",52.170927838267502,0.489427543719062,7.8127590380147605E-2,-3.5798408977859103E-2,3.6514171630348999E-3]
[null,{"$f":"INDEX($H$2:$H$28,MATCH(C112,$E$2:$E$28,0))","v":170},null,null,"TMP6131ELPGMQ1A2","A2",0.133030694593748,2.09388976502628E-3,1.4215016850833101E-3,-5.7334284218350502E-4,5.8984695954595497E-5]
[null,{"$f":"INDEX($I$2:$I$28,MATCH(C112,$E$2:$E$28,0))","v":-40},null,null,"TMP6131ELPGMQ1A3","A3",3.6884316025766699E-4,-2.3637949347307099E-4,1.03465899712959E-4,-2.18302556771475E-5,1.7261098384421201E-6]
[null,null,null,null,"TMP6131ELPGMQ1A4","A4",-1.21382752673235E-6,1.22640272647557E-6,-5.1606364116429999E-7,1.07182593352566E-7,-8.4186262261153103E-9]
[]
[12,{"$f":"INDEX($A$2:$A$28,MATCH(C118,$E$2:$E$28,0))","v":12},"TMP6331DECR",null,"TMP6331DECRA0","A0",82766.371429289968,703.62683737283646,-31.813050255623118,6.4979977007211289,-0.65004340770771107]
[null,{"$f":"INDEX($F$2:$F$28,MATCH(C118,$E$2:$E$28,0))","v":100000},null,null,"TMP6331DECRA1","A1",522.99226607574792,9.0616055570385949,-0.84159497747348611,5.8449746501772488E-2,2.5850429026688318E-4]
[null,{"$f":"INDEX($H$2:$H$28,MATCH(C118,$E$2:$E$28,0))","v":125},null,null,"TMP6331DECRA2","A2",1.4768911295910694,-8.8166705422638922E-2,6.3005230039385643E-2,-1.5223414950914033E-2,1.3190363648578371E-3]
[null,{"$f":"INDEX($I$2:$I$28,MATCH(C118,$E$2:$E$28,0))","v":-40},null,null,"TMP6331DECRA3","A3",6.8564100112656224E-4,5.375986463466249E-5,-3.2918783098492453E-4,1.2525378776346592E-4,-1.3606351635872326E-5]
[null,null,null,null,"TMP6331DECRA4","A4",-6.3127371753050356E-6,1.0225479035738336E-5,-3.1066406903682506E-6,3.782672573318005E-7,-1.1756732943879402E-8]
[]
[13,{"$f":"INDEX($A$2:$A$28,MATCH(C124,$E$2:$E$28,0))","v":13},"TMP6331QDECRQ1",null,"TMP6331QDECRQ1A0","A0",82766.371429289968,703.62683737283646,-31.813050255623118,6.4979977007211289,-0.65004340770771107]
[null,{"$f":"INDEX($F$2:$F$28,MATCH(C124,$E$2:$E$28,0))","v":100000},null,null,"TMP6331QDECRQ1A1","A1",522.99226607574792,9.0616055570385949,-0.84159497747348611,5.8449746501772488E-2,2.5850429026688318E-4]
[null,{"$f":"INDEX($H$2:$H$28,MATCH(C124,$E$2:$E$28,0))","v":125},null,null,"TMP6331QDECRQ1A2","A2",1.4768911295910694,-8.8166705422638922E-2,6.3005230039385643E-2,-1.5223414950914033E-2,1.3190363648578371E-3]
[null,{"$f":"INDEX($I$2:$I$28,MATCH(C124,$E$2:$E$28,0))","v":-40},null,null,"TMP6331QDECRQ1A3","A3",6.8564100112656224E-4,5.375986463466249E-5,-3.2918783098492453E-4,1.2525378776346592E-4,-1.3606351635872326E-5]
[null,null,null,null,"TMP6331QDECRQ1A4","A4",-6.3127371753050356E-6,1.0225479035738336E-5,-3.1066406903682506E-6,3.782672573318005E-7,-1.1756732943879402E-8]
[]
[14,{"$f":"INDEX($A$2:$A$28,MATCH(C130,$E$2:$E$28,0))","v":14},"TMP6331DECT",null,"TMP6331DECTA0","A0",82766.371429289968,703.62683737283646,-31.813050255623118,6.4979977007211289,-0.65004340770771107]
[null,{"$f":"INDEX($F$2:$F$28,MATCH(C130,$E$2:$E$28,0))","v":100000},null,null,"TMP6331DECTA1","A1",522.99226607574792,9.0616055570385949,-0.84159497747348611,5.8449746501772488E-2,2.5850429026688318E-4]
[null,{"$f":"INDEX($H$2:$H$28,MATCH(C130,$E$2:$E$28,0))","v":125},null,null,"TMP6331DECTA2","A2",1.4768911295910694,-8.8166705422638922E-2,6.3005230039385643E-2,-1.5223414950914033E-2,1.3190363648578371E-3]
[null,{"$f":"INDEX($I$2:$I$28,MATCH(C130,$E$2:$E$28,0))","v":-40},null,null,"TMP6331DECTA3","A3",6.8564100112656224E-4,5.375986463466249E-5,-3.2918783098492453E-4,1.2525378776346592E-4,-1.3606351635872326E-5]
[null,null,null,null,"TMP6331DECTA4","A4",-6.3127371753050356E-6,1.0225479035738336E-5,-3.1066406903682506E-6,3.782672573318005E-7,-1.1756732943879402E-8]
[]
[15,{"$f":"INDEX($A$2:$A$28,MATCH(C136,$E$2:$E$28,0))","v":15},"TMP6331QDECTQ1",null,"TMP6331QDECTQ1A0","A0",82766.371429289968,703.62683737283646,-31.813050255623118,6.4979977007211289,-0.65004340770771107]
[null,{"$f":"INDEX($F$2:$F$28,MATCH(C136,$E$2:$E$28,0))","v":100000},null,null,"TMP6331QDECTQ1A1","A1",522.99226607574792,9.0616055570385949,-0.84159497747348611,5.8449746501772488E-2,2.5850429026688318E-4]
[null,{"$f":"INDEX($H$2:$H$28,MATCH(C136,$E$2:$E$28,0))","v":125},null,null,"TMP6331QDECTQ1A2","A2",1.4768911295910694,-8.8166705422638922E-2,6.3005230039385643E-2,-1.5223414950914033E-2,1.3190363648578371E-3]
[null,{"$f":"INDEX($I$2:$I$28,MATCH(C136,$E$2:$E$28,0))","v":-40},null,null,"TMP6331QDECTQ1A3","A3",6.8564100112656224E-4,5.375986463466249E-5,-3.2918783098492453E-4,1.2525378776346592E-4,-1.3606351635872326E-5]
[null,null,null,null,"TMP6331QDECTQ1A4","A4",-6.3127371753050356E-6,1.0225479035738336E-5,-3.1066406903682506E-6,3.782672573318005E-7,-1.1756732943879402E-8]
[]
[16,{"$f":"INDEX($A$2:$A$28,MATCH(C142,$E$2:$E$28,0))","v":16},"TMP6331DYAR",null,"TMP6331DYARA0","A0",82978.3770518776,646.13432392997299,17.231510001847401,-7.39034007785882,0.48423257929514502]
[null,{"$f":"INDEX($F$2:$F$28,MATCH(C142,$E$2:$E$28,0))","v":100000},null,null,"TMP6331DYARA1","A1",510.92476009278499,18.435227187798599,-5.8192550787425796,1.14965900381177,-8.57870768838081E-2]
[null,{"$f":"INDEX($H$2:$H$28,MATCH(C142,$E$2:$E$28,0))","v":150},null,null,"TMP6331DYARA2","A2",1.4947194903871801,-0.123401431627037,7.84976925092742E-2,-1.77758422142292E-2,1.4132273986937501E-3]
[null,{"$f":"INDEX($I$2:$I$28,MATCH(C142,$E$2:$E$28,0))","v":-40},null,null,"TMP6331DYARA3","A3",5.9850910045278899E-3,-7.7630349239670099E-3,3.8437013565914102E-3,-8.1084180541790498E-4,6.1594363857237898E-5]
[null,null,null,null,"TMP6331DYARA4","A4",-4.3198795754093399E-5,5.9299861115010497E-5,-2.9259143614860502E-5,6.1927537580354801E-6,-4.72335000760647E-7]
[]
[17,{"$f":"INDEX($A$2:$A$28,MATCH(C148,$E$2:$E$28,0))","v":17},"TMP6331DYAT",null,"TMP6331DYATA0","A0",82978.3770518776,646.13432392997299,17.231510001847401,-7.39034007785882,0.48423257929514502]
[null,{"$f":"INDEX($F$2:$F$28,MATCH(C148,$E$2:$E$28,0))","v":100000},null,null,"TMP6331DYATA1","A1",510.92476009278499,18.435227187798599,-5.8192550787425796,1.14965900381177,-8.57870768838081E-2]
[null,{"$f":"INDEX($H$2:$H$28,MATCH(C148,$E$2:$E$28,0))","v":150},null,null,"TMP6331DYATA2","A2",1.4947194903871801,-0.123401431627037,7.84976925092742E-2,-1.77758422142292E-2,1.4132273986937501E-3]
[null,{"$f":"INDEX($I$2:$I$28,MATCH(C148,$E$2:$E$28,0))","v":-40},null,null,"TMP6331DYATA3","A3",5.9850910045278899E-3,-7.7630349239670099E-3,3.8437013565914102E-3,-8.1084180541790498E-4,6.1594363857237898E-5]
[null,null,null,null,"TMP6331DYATA4","A4",-4.3198795754093399E-5,5.9299861115010497E-5,-2.9259143614860502E-5,6.1927537580354801E-6,-4.72335000760647E-7]
[]
[18,{"$f":"INDEX($A$2:$A$28,MATCH(C154,$E$2:$E$28,0))","v":18},"TMP6331QDYARQ1",null,"TMP6331QDYARQ1A0","A0",82978.3770518776,646.13432392997299,17.231510001847401,-7.39034007785882,0.48423257929514502]
[null,{"$f":"INDEX($F$2:$F$28,MATCH(C154,$E$2:$E$28,0))","v":100000},null,null,"TMP6331QDYARQ1A1","A1",510.92476009278499,18.435227187798599,-5.8192550787425796,1.14965900381177,-8.57870768838081E-2]
[null,{"$f":"INDEX($H$2:$H$28,MATCH(C154,$E$2:$E$28,0))","v":150},null,null,"TMP6331QDYARQ1A2","A2",1.4947194903871801,-0.123401431627037,7.84976925092742E-2,-1.77758422142292E-2,1.4132273986937501E-3]
[null,{"$f":"INDEX($I$2:$I$28,MATCH(C154,$E$2:$E$28,0))","v":-40},null,null,"TMP6331QDYARQ1A3","A3",5.9850910045278899E-3,-7.7630349239670099E-3,3.8437013565914102E-3,-8.1084180541790498E-4,6.1594363857237898E-5]
[null,null,null,null,"TMP6331QDYARQ1A4","A4",-4.3198795754093399E-5,5.9299861115010497E-5,-2.9259143614860502E-5,6.1927537580354801E-6,-4.72335000760647E-7]
[]
[19,{"$f":"INDEX($A$2:$A$28,MATCH(C160,$E$2:$E$28,0))","v":19},"TMP6331QDYATQ1",null,"TMP6331QDYATQ1A0","A0",82978.3770518776,646.13432392997299,17.231510001847401,-7.39034007785882,0.48423257929514502]
[null,{"$f":"INDEX($F$2:$F$28,MATCH(C160,$E$2:$E$28,0))","v":100000},null,null,"TMP6331QDYATQ1A1","A1",510.92476009278499,18.435227187798599,-5.8192550787425796,1.14965900381177,-8.57870768838081E-2]
[null,{"$f":"INDEX($H$2:$H$28,MATCH(C160,$E$2:$E$28,0))","v":150},null,null,"TMP6331QDYATQ1A2","A2",1.4947194903871801,-0.123401431627037,7.84976925092742E-2,-1.77758422142292E-2,1.4132273986937501E-3]
[null,{"$f":"INDEX($I$2:$I$28,MATCH(C160,$E$2:$E$28,0))","v":-40},null,null,"TMP6331QDYATQ1A3","A3",5.9850910045278899E-3,-7.7630349239670099E-3,3.8437013565914102E-3,-8.1084180541790498E-4,6.1594363857237898E-5]
[null,null,null,null,"TMP6331QDYATQ1A4","A4",-4.3198795754093399E-5,5.9299861115010497E-5,-2.9259143614860502E-5,6.1927537580354801E-6,-4.72335000760647E-7]
[]
[20,{"$f":"INDEX($A$2:$A$28,MATCH(C166,$E$2:$E$28,0))","v":20},"TMP6431DECR",null,"TMP6431DECRA0","A0",39081.321069999998,217.2204385,35.366503049999999,-9.6982433090000004,0.80816924700000004]
[null,{"$f":"INDEX($F$2:$F$28,MATCH(C166,$E$2:$E$28,0))","v":47000},null,null,"TMP6431DECRA1","A1",246.43709290000001,4.7811996250000002,-1.1653009110000001,0.24705002200000001,-1.9717684999999999E-2]
[null,{"$f":"INDEX($H$2:$H$28,MATCH(C166,$E$2:$E$28,0))","v":125},null,null,"TMP6431DECRA2","A2",0.66535669200000003,5.5007749000000002E-2,-2.7957012E-2,6.8824309999999996E-3,-5.8887399999999997E-4]
[null,{"$f":"INDEX($I$2:$I$28,MATCH(C166,$E$2:$E$28,0))","v":-40},null,null,"TMP6431DECRA3","A3",3.325E-4,-2.81179E-4,6.3738600000000007E-5,-5.5542400000000004E-7,-8.0205599999999997E-7]
[null,null,null,null,"TMP6431DECRA4","A4",-5.9691900000000005E-7,2.22867E-6,-4.4049100000000002E-7,-5.28157E-9,6.5826600000000001E-9]
[]
[21,{"$f":"INDEX($A$2:$A$28,MATCH(C172,$E$2:$E$28,0))","v":21},"TMP6431DECT",null,"TMP6431DECTA0","A0",39081.321069999998,217.2204385,35.366503049999999,-9.6982433090000004,0.80816924700000004]
[null,{"$f":"INDEX($F$2:$F$28,MATCH(C172,$E$2:$E$28,0))","v":47000},null,null,"TMP6431DECTA1","A1",246.43709290000001,4.7811996250000002,-1.1653009110000001,0.24705002200000001,-1.9717684999999999E-2]
[null,{"$f":"INDEX($H$2:$H$28,MATCH(C172,$E$2:$E$28,0))","v":125},null,null,"TMP6431DECTA2","A2",0.66535669200000003,5.5007749000000002E-2,-2.7957012E-2,6.8824309999999996E-3,-5.8887399999999997E-4]
[null,{"$f":"INDEX($I$2:$I$28,MATCH(C172,$E$2:$E$28,0))","v":-40},null,null,"TMP6431DECTA3","A3",3.325E-4,-2.81179E-4,6.3738600000000007E-5,-5.5542400000000004E-7,-8.0205599999999997E-7]
[null,null,null,null,"TMP6431DECTA4","A4",-5.9691900000000005E-7,2.22867E-6,-4.4049100000000002E-7,-5.28157E-9,6.5826600000000001E-9]
[]
[22,{"$f":"INDEX($A$2:$A$28,MATCH(C178,$E$2:$E$28,0))","v":22},"TMP6431DYAR",null,"TMP6431DYARA0","A0",39168.574985617102,18.684582842233599,0.24173203617390299,-4.8853846471426697E-3,2.65815730132797E-5]
[null,{"$f":"INDEX($F$2:$F$28,MATCH(C178,$E$2:$E$28,0))","v":47000},null,null,"TMP6431DYARA1","A1",243.56600424651899,0.61246544691819305,-1.6271884868654201E-2,2.9497710469131999E-4,-1.6635826320493701E-6]
[null,{"$f":"INDEX($H$2:$H$28,MATCH(C178,$E$2:$E$28,0))","v":150},null,null,"TMP6431DYARA2","A2",0.64114181731042896,3.0164923461275298E-3,-6.3519963468189805E-5,1.01919890559555E-6,-5.4048435953805197E-9]
[null,{"$f":"INDEX($I$2:$I$28,MATCH(C178,$E$2:$E$28,0))","v":-40},null,null,"TMP6431DYARA3","A3",1.3475458839712401E-3,-1.69564705674006E-4,8.9466355504256997E-6,-1.73217522510246E-7,9.9427151188728497E-10]
[null,null,null,null,"TMP6431DYARA4","A4",-7.2096260590240796E-6,1.3771760925430199E-6,-7.0349752707070406E-8,1.35804343258657E-9,-7.78727902361835E-12]
[]
[23,{"$f":"INDEX($A$2:$A$28,MATCH(C184,$E$2:$E$28,0))","v":23},"TMP6431DYAT",null,"TMP6431DYATA0","A0",39168.574985617102,18.684582842233599,0.24173203617390299,-4.8853846471426697E-3,2.65815730132797E-5]
[null,{"$f":"INDEX($F$2:$F$28,MATCH(C184,$E$2:$E$28,0))","v":47000},null,null,"TMP6431DYATA1","A1",243.56600424651899,0.61246544691819305,-1.6271884868654201E-2,2.9497710469131999E-4,-1.6635826320493701E-6]
[null,{"$f":"INDEX($H$2:$H$28,MATCH(C184,$E$2:$E$28,0))","v":150},null,null,"TMP6431DYATA2","A2",0.64114181731042896,3.0164923461275298E-3,-6.3519963468189805E-5,1.01919890559555E-6,-5.4048435953805197E-9]
[null,{"$f":"INDEX($I$2:$I$28,MATCH(C184,$E$2:$E$28,0))","v":-40},null,null,"TMP6431DYATA3","A3",1.3475458839712401E-3,-1.69564705674006E-4,8.9466355504256997E-6,-1.73217522510246E-7,9.9427151188728497E-10]
[null,null,null,null,"TMP6431DYATA4","A4",-7.2096260590240796E-6,1.3771760925430199E-6,-7.0349752707070406E-8,1.35804343258657E-9,-7.78727902361835E-12]
[]
[24,{"$f":"INDEX($A$2:$A$28,MATCH(C190,$E$2:$E$28,0))","v":24},"TMP6431QDYARQ1",null,"TMP6431QDYARQ1A0","A0",39168.574985617102,18.684582842233599,0.24173203617390299,-4.8853846471426697E-3,2.65815730132797E-5]
[null,{"$f":"INDEX($F$2:$F$28,MATCH(C190,$E$2:$E$28,0))","v":47000},null,null,"TMP6431QDYARQ1A1","A1",243.56600424651899,0.61246544691819305,-1.6271884868654201E-2,2.9497710469131999E-4,-1.6635826320493701E-6]
[null,{"$f":"INDEX($H$2:$H$28,MATCH(C190,$E$2:$E$28,0))","v":150},null,null,"TMP6431QDYARQ1A2","A2",0.64114181731042896,3.0164923461275298E-3,-6.3519963468189805E-5,1.01919890559555E-6,-5.4048435953805197E-9]
[null,{"$f":"INDEX($I$2:$I$28,MATCH(C190,$E$2:$E$28,0))","v":-40},null,null,"TMP6431QDYARQ1A3","A3",1.3475458839712401E-3,-1.69564705674006E-4,8.9466355504256997E-6,-1.73217522510246E-7,9.9427151188728497E-10]
[null,null,null,null,"TMP6431QDYARQ1A4","A4",-7.2096260590240796E-6,1.3771760925430199E-6,-7.0349752707070406E-8,1.35804343258657E-9,-7.78727902361835E-12]
[]
[25,{"$f":"INDEX($A$2:$A$28,MATCH(C196,$E$2:$E$28,0))","v":25},"TMP6431QDYATQ1",null,"TMP6431QDYATQ1A0","A0",39168.574985617102,18.684582842233599,0.24173203617390299,-4.8853846471426697E-3,2.65815730132797E-5]
[null,{"$f":"INDEX($F$2:$F$28,MATCH(C196,$E$2:$E$28,0))","v":47000},null,null,"TMP6431QDYATQ1A1","A1",243.56600424651899,0.61246544691819305,-1.6271884868654201E-2,2.9497710469131999E-4,-1.6635826320493701E-6]
[null,{"$f":"INDEX($H$2:$H$28,MATCH(C196,$E$2:$E$28,0))","v":150},null,null,"TMP6431QDYATQ1A2","A2",0.64114181731042896,3.0164923461275298E-3,-6.3519963468189805E-5,1.01919890559555E-6,-5.4048435953805197E-9]
[null,{"$f":"INDEX($I$2:$I$28,MATCH(C196,$E$2:$E$28,0))","v":-40},null,null,"TMP6431QDYATQ1A3","A3",1.3475458839712401E-3,-1.69564705674006E-4,8.9466355504256997E-6,-1.73217522510246E-7,9.9427151188728497E-10]
[null,null,null,null,"TMP6431QDYATQ1A4","A4",-7.2096260590240796E-6,1.3771760925430199E-6,-7.0349752707070406E-8,1.35804343258657E-9,-7.78727902361835E-12]
[]
[26,{"$f":"INDEX($A$2:$A$28,MATCH(C202,$E$2:$E$28,0))","v":26},"TMP6431QDECRQ1",null,"TMP6431QDECRQ1A0","A0",39081.321069999998,217.2204385,35.366503049999999,-9.6982433090000004,0.80816924700000004]
[null,{"$f":"INDEX($F$2:$F$28,MATCH(C202,$E$2:$E$28,0))","v":47000},null,null,"TMP6431QDECRQ1A1","A1",246.43709290000001,4.7811996250000002,-1.1653009110000001,0.24705002200000001,-1.9717684999999999E-2]
[null,{"$f":"INDEX($H$2:$H$28,MATCH(C202,$E$2:$E$28,0))","v":125},null,null,"TMP6431QDECRQ1A2","A2",0.66535669200000003,5.5007749000000002E-2,-2.7957012E-2,6.8824309999999996E-3,-5.8887399999999997E-4]
[null,{"$f":"INDEX($I$2:$I$28,MATCH(C202,$E$2:$E$28,0))","v":-40},null,null,"TMP6431QDECRQ1A3","A3",3.325E-4,-2.81179E-4,6.3738600000000007E-5,-5.5542400000000004E-7,-8.0205599999999997E-7]
[null,null,null,null,"TMP6431QDECRQ1A4","A4",-5.9691900000000005E-7,2.22867E-6,-4.4049100000000002E-7,-5.28157E-9,6.5826600000000001E-9]
[]
[27,{"$f":"INDEX($A$2:$A$28,MATCH(C208,$E$2:$E$28,0))","v":27},"TMP6431QDECTQ1",null,"TMP6431QDECTQ1A0","A0",39081.321069999998,217.2204385,35.366503049999999,-9.6982433090000004,0.80816924700000004,null,"To add new coefficients for new part numbers insert before this line"]
[null,{"$f":"INDEX($F$2:$F$28,MATCH(C208,$E$2:$E$28,0))","v":47000},null,null,"TMP6431QDECTQ1A1","A1",246.43709290000001,4.7811996250000002,-1.1653009110000001,0.24705002200000001,-1.9717684999999999E-2,null,"Adding before this line will insert the new data and all sheet will be "]
[null,{"$f":"INDEX($H$2:$H$28,MATCH(C208,$E$2:$E$28,0))","v":125},null,null,"TMP6431QDECTQ1A2","A2",0.66535669200000003,5.5007749000000002E-2,-2.7957012E-2,6.8824309999999996E-3,-5.8887399999999997E-4,null,"updated  automatically. Adding after this line will mean that you will have"]
[null,{"$f":"INDEX($I$2:$I$28,MATCH(C208,$E$2:$E$28,0))","v":-40},null,null,"TMP6431QDECTQ1A3","A3",3.325E-4,-2.81179E-4,6.3738600000000007E-5,-5.5542400000000004E-7,-8.0205599999999997E-7,null,"manually go to every sheet and update the new table ranges"]
[null,null,null,null,"TMP6431QDECTQ1A4","A4",-5.9691900000000005E-7,2.22867E-6,-4.4049100000000002E-7,-5.28157E-9,6.5826600000000001E-9]

{"sheet":"Device Resistance Tables","index":2,"n_rows":459,"n_cols":20,"rows_kept":459,"cut":false,"hidden":false,"merged":[[0,0,2,23],[3,0,3,27]]}
[]
[]
[]
[]
["Return to Menu  "]
[]
[]
[]
[]
[]
[]
[]
["TI Device",{"$f":"Main!$N$22","v":"TMP6131DECR"}]
["VBias",{"$f":"Main!$N$25","v":3.3},"Vdc"]
["RBias",{"$f":"Main!$N$31","v":10000},"Ohms"]
[]
["1 °C Steps","Example Code",null,null,null,null,null,null,null,null,null,null,"5 °C Steps","Example Code"]
[null,null,null,null,"hide column"]
["Line #","Temperature (°C)","Min Resistance (Ω)","Typical Resistance (Ω)","Calculated Resistance (Ω)","Max Resistance (Ω)",null,null,null,"Regression","Regression Error (°C)",null,"Line #","Temperature (°C)","Min Resistance (Ω)","Typical Resistance (Ω) ","Max Resistance (Ω)"]
[1,-40,{"$f":"IFERROR(D20*0.985,NA())","v":6445.0124766823874},{"$f":"IF(B20 <= VLOOKUP(Main!$N$22,Coefficients!$E$2:$H$28,4,FALSE),E20,NA())","v":6543.1598748044544},{"$f":"'4th Order Polynomial TMP vs Res'!$B$41+'4th Order Polynomial TMP vs Res'!$C$41*POWER(B20,1)+'4th Order Polynomial TMP vs Res'!$D$41*POWER(B20,2)+'4th Order Polynomial TMP vs Res'!$E$41*POWER(B20,3)+'4th Order Polynomial TMP vs Res'!$F$41*POWER(B20,4)","v":6543.1598748044544},{"$f":"IFERROR(D20*1.015,NA())","v":6641.3072729265205},null,null,null,{"$f":"'4th Order Polynomial TMP vs Res'!$I$41*E20^4 + '4th Order Polynomial TMP vs Res'!$J$41*E20^3 + '4th Order Polynomial TMP vs Res'!$K$41*E20^2 + '4th Order Polynomial TMP vs Res'!$L$41*E20 + '4th Order Polynomial TMP vs Res'!$M$41","v":-39.829982274927943},{"$f":"B20-J20","v":-0.17001772507205715},null,1,-40,{"$f":"IFERROR(P20*0.985,NA())","v":6445.0124766823874},{"$f":"IFERROR(OFFSET($D$20,(ROW(D1)-1)*5,0),NA())","v":6543.1598748044544},{"$f":"IFERROR(P20*1.015,NA())","v":6641.3072729265205}]
[2,{"$f":"B20+1","v":-39},{"$f":"IFERROR(D21*0.985,NA())","v":6487.4064843524502},{"$f":"IF(B21 <= VLOOKUP(Main!$N$22,Coefficients!$E$2:$H$28,4,FALSE),E21,NA())","v":6586.1994764999499},{"$f":"'4th Order Polynomial TMP vs Res'!$B$41+'4th Order Polynomial TMP vs Res'!$C$41*POWER(B21,1)+'4th Order Polynomial TMP vs Res'!$D$41*POWER(B21,2)+'4th Order Polynomial TMP vs Res'!$E$41*POWER(B21,3)+'4th Order Polynomial TMP vs Res'!$F$41*POWER(B21,4)","v":6586.1994764999499},{"$f":"IFERROR(D21*1.015,NA())","v":6684.9924686474487},null,null,null,{"$f":"'4th Order Polynomial TMP vs Res'!$I$41*E21^4 + '4th Order Polynomial TMP vs Res'!$J$41*E21^3 + '4th Order Polynomial TMP vs Res'!$K$41*E21^2 + '4th Order Polynomial TMP vs Res'!$L$41*E21 + '4th Order Polynomial TMP vs Res'!$M$41","v":-38.854685670735222},-0.14531432926477805,null,2,-35,{"$f":"IFERROR(P21*0.985,NA())","v":6659.8661255864117},6761.2854066867121,{"$f":"IFERROR(P21*1.015,NA())","v":6862.7046877870125}]
[3,{"$f":"B21+1","v":-38},6530.0887300921222,{"$f":"IF(B22 <= VLOOKUP(Main!$N$22,Coefficients!$E$2:$H$28,4,FALSE),E22,NA())","v":6629.5317056772819},{"$f":"'4th Order Polynomial TMP vs Res'!$B$41+'4th Order Polynomial TMP vs Res'!$C$41*POWER(B22,1)+'4th Order Polynomial TMP vs Res'!$D$41*POWER(B22,2)+'4th Order Polynomial TMP vs Res'!$E$41*POWER(B22,3)+'4th Order Polynomial TMP vs Res'!$F$41*POWER(B22,4)","v":6629.5317056772819},6728.9746812624408,null,null,null,{"$f":"'4th Order Polynomial TMP vs Res'!$I$41*E22^4 + '4th Order Polynomial TMP vs Res'!$J$41*E22^3 + '4th Order Polynomial TMP vs Res'!$K$41*E22^2 + '4th Order Polynomial TMP vs Res'!$L$41*E22 + '4th Order Polynomial TMP vs Res'!$M$41","v":-37.877723194104732},-0.12227680589526813,null,3,-30,6881.9389183711646,6986.7400186509285,7091.5411189306915]
[4,-37,6573.0593339086181,{"$f":"IF(B23 <= VLOOKUP(Main!$N$22,Coefficients!$E$2:$H$28,4,FALSE),E23,NA())","v":6673.1566841711856},{"$f":"'4th Order Polynomial TMP vs Res'!$B$41+'4th Order Polynomial TMP vs Res'!$C$41*POWER(B23,1)+'4th Order Polynomial TMP vs Res'!$D$41*POWER(B23,2)+'4th Order Polynomial TMP vs Res'!$E$41*POWER(B23,3)+'4th Order Polynomial TMP vs Res'!$F$41*POWER(B23,4)","v":6673.1566841711856},6773.2540344337531,null,null,null,{"$f":"'4th Order Polynomial TMP vs Res'!$I$41*E23^4 + '4th Order Polynomial TMP vs Res'!$J$41*E23^3 + '4th Order Polynomial TMP vs Res'!$K$41*E23^2 + '4th Order Polynomial TMP vs Res'!$L$41*E23 + '4th Order Polynomial TMP vs Res'!$M$41","v":-36.89915373283057},-0.10084626716943035,null,4,-25,7111.250323760024,7219.543475898502,7327.8366280369792]
[5,-36,6616.3184217662465,{"$f":"IF(B24 <= VLOOKUP(Main!$N$22,Coefficients!$E$2:$H$28,4,FALSE),E24,NA())","v":6717.0745398642093},{"$f":"'4th Order Polynomial TMP vs Res'!$B$41+'4th Order Polynomial TMP vs Res'!$C$41*POWER(B24,1)+'4th Order Polynomial TMP vs Res'!$D$41*POWER(B24,2)+'4th Order Polynomial TMP vs Res'!$E$41*POWER(B24,3)+'4th Order Polynomial TMP vs Res'!$F$41*POWER(B24,4)","v":6717.0745398642093},6817.8306579621722,null,null,null,{"$f":"'4th Order Polynomial TMP vs Res'!$I$41*E24^4 + '4th Order Polynomial TMP vs Res'!$J$41*E24^3 + '4th Order Polynomial TMP vs Res'!$K$41*E24^2 + '4th Order Polynomial TMP vs Res'!$L$41*E24 + '4th Order Polynomial TMP vs Res'!$M$41","v":-35.919035385461115},-8.0964614538885371E-2,null,5,-20,7347.8235336610405,7459.7193235137465,7571.6151133664516]
[6,-35,6659.8661255864117,{"$f":"IF(B25 <= VLOOKUP(Main!$N$22,Coefficients!$E$2:$H$28,4,FALSE),E25,NA())","v":6761.2854066867121},{"$f":"'4th Order Polynomial TMP vs Res'!$B$41+'4th Order Polynomial TMP vs Res'!$C$41*POWER(B25,1)+'4th Order Polynomial TMP vs Res'!$D$41*POWER(B25,2)+'4th Order Polynomial TMP vs Res'!$E$41*POWER(B25,3)+'4th Order Polynomial TMP vs Res'!$F$41*POWER(B25,4)","v":6761.2854066867121},6862.7046877870125,null,null,null,{"$f":"'4th Order Polynomial TMP vs Res'!$I$41*E25^4 + '4th Order Polynomial TMP vs Res'!$J$41*E25^3 + '4th Order Polynomial TMP vs Res'!$K$41*E25^2 + '4th Order Polynomial TMP vs Res'!$L$41*E25 + '4th Order Polynomial TMP vs Res'!$M$41","v":-34.937425451293905},-6.2574548706095356E-2,null,6,-15,7591.6854631669385,7707.2948864638975,7822.9043097608555]
[7,-34,6703.7025832476138,{"$f":"IF(B26 <= VLOOKUP(Main!$N$22,Coefficients!$E$2:$H$28,4,FALSE),E26,NA())","v":6805.7894246168671},{"$f":"'4th Order Polynomial TMP vs Res'!$B$41+'4th Order Polynomial TMP vs Res'!$C$41*POWER(B26,1)+'4th Order Polynomial TMP vs Res'!$D$41*POWER(B26,2)+'4th Order Polynomial TMP vs Res'!$E$41*POWER(B26,3)+'4th Order Polynomial TMP vs Res'!$F$41*POWER(B26,4)","v":6805.7894246168671},6907.8762659861195,null,null,null,{"$f":"'4th Order Polynomial TMP vs Res'!$I$41*E26^4 + '4th Order Polynomial TMP vs Res'!$J$41*E26^3 + '4th Order Polynomial TMP vs Res'!$K$41*E26^2 + '4th Order Polynomial TMP vs Res'!$L$41*E26 + '4th Order Polynomial TMP vs Res'!$M$41","v":-33.95438042055099},-4.5619579449009962E-2,null,7,-10,7842.8667505551184,7962.3012695991047,8081.73578864309]
[8,-33,6747.8279385854521,{"$f":"IF(B27 <= VLOOKUP(Main!$N$22,Coefficients!$E$2:$H$28,4,FALSE),E27,NA())","v":6850.5867396806625},{"$f":"'4th Order Polynomial TMP vs Res'!$B$41+'4th Order Polynomial TMP vs Res'!$C$41*POWER(B27,1)+'4th Order Polynomial TMP vs Res'!$D$41*POWER(B27,2)+'4th Order Polynomial TMP vs Res'!$E$41*POWER(B27,3)+'4th Order Polynomial TMP vs Res'!$F$41*POWER(B27,4)","v":6850.5867396806625},6953.345540775872,null,null,null,{"$f":"'4th Order Polynomial TMP vs Res'!$I$41*E27^4 + '4th Order Polynomial TMP vs Res'!$J$41*E27^3 + '4th Order Polynomial TMP vs Res'!$K$41*E27^2 + '4th Order Polynomial TMP vs Res'!$L$41*E27 + '4th Order Polynomial TMP vs Res'!$M$41","v":-32.969955964738915},-3.00440352610849E-2,null,8,-5,8101.4017572876537,8224.7733576524406,8348.1449580172266]
[9,-32,6792.2423413926172,{"$f":"IF(B28 <= VLOOKUP(Main!$N$22,Coefficients!$E$2:$H$28,4,FALSE),E28,NA())","v":6895.6775039518952},{"$f":"'4th Order Polynomial TMP vs Res'!$B$41+'4th Order Polynomial TMP vs Res'!$C$41*POWER(B28,1)+'4th Order Polynomial TMP vs Res'!$D$41*POWER(B28,2)+'4th Order Polynomial TMP vs Res'!$E$41*POWER(B28,3)+'4th Order Polynomial TMP vs Res'!$F$41*POWER(B28,4)","v":6895.6775039518952},6999.1126665111733,null,null,null,{"$f":"'4th Order Polynomial TMP vs Res'!$I$41*E28^4 + '4th Order Polynomial TMP vs Res'!$J$41*E28^3 + '4th Order Polynomial TMP vs Res'!$K$41*E28^2 + '4th Order Polynomial TMP vs Res'!$L$41*E28 + '4th Order Polynomial TMP vs Res'!$M$41","v":-31.984206927198443},-1.5793072801557173E-2,null,9,0,{"$f":"IFERROR(P28*0.99,NA())","v":8409.8023170874949},8494.749815239893,{"$f":"IFERROR(P28*1.01,NA())","v":8579.6973133922911}]
[10,-31,6836.9459474188934,{"$f":"IF(B29 <= VLOOKUP(Main!$N$22,Coefficients!$E$2:$H$28,4,FALSE),E29,NA())","v":6941.0618755521764},{"$f":"'4th Order Polynomial TMP vs Res'!$B$41+'4th Order Polynomial TMP vs Res'!$C$41*POWER(B29,1)+'4th Order Polynomial TMP vs Res'!$D$41*POWER(B29,2)+'4th Order Polynomial TMP vs Res'!$E$41*POWER(B29,3)+'4th Order Polynomial TMP vs Res'!$F$41*POWER(B29,4)","v":6941.0618755521764},7045.1778036854585,null,null,null,{"$f":"'4th Order Polynomial TMP vs Res'!$I$41*E29^4 + '4th Order Polynomial TMP vs Res'!$J$41*E29^3 + '4th Order Polynomial TMP vs Res'!$K$41*E29^2 + '4th Order Polynomial TMP vs Res'!$L$41*E29 + '4th Order Polynomial TMP vs Res'!$M$41","v":-30.997187313845529},-2.8126861544706117E-3,null,10,5,{"$f":"IFERROR(P29*0.99,NA())","v":8684.5503559917688},8772.2730868603721,8859.9958177289755]
[11,-30,6881.9389183711646,{"$f":"IF(B30 <= VLOOKUP(Main!$N$22,Coefficients!$E$2:$H$28,4,FALSE),E30,NA())","v":6986.7400186509285},{"$f":"'4th Order Polynomial TMP vs Res'!$B$41+'4th Order Polynomial TMP vs Res'!$C$41*POWER(B30,1)+'4th Order Polynomial TMP vs Res'!$D$41*POWER(B30,2)+'4th Order Polynomial TMP vs Res'!$E$41*POWER(B30,3)+'4th Order Polynomial TMP vs Res'!$F$41*POWER(B30,4)","v":6986.7400186509285},7091.5411189306915,null,null,null,{"$f":"'4th Order Polynomial TMP vs Res'!$I$41*E30^4 + '4th Order Polynomial TMP vs Res'!$J$41*E30^3 + '4th Order Polynomial TMP vs Res'!$K$41*E30^2 + '4th Order Polynomial TMP vs Res'!$L$41*E30 + '4th Order Polynomial TMP vs Res'!$M$41","v":-30.00895028411054},8.9502841105399966E-3,null,11,10,8966.8155029267436,9057.3893968957,9147.9632908646563]
[12,-29,6927.2214219134103,{"$f":"IF(B31 <= VLOOKUP(Main!$N$22,Coefficients!$E$2:$H$28,4,FALSE),E31,NA())","v":7032.712103465391},{"$f":"'4th Order Polynomial TMP vs Res'!$B$41+'4th Order Polynomial TMP vs Res'!$C$41*POWER(B31,1)+'4th Order Polynomial TMP vs Res'!$D$41*POWER(B31,2)+'4th Order Polynomial TMP vs Res'!$E$41*POWER(B31,3)+'4th Order Polynomial TMP vs Res'!$F$41*POWER(B31,4)","v":7032.712103465391},7138.2027850173708,null,null,null,{"$f":"'4th Order Polynomial TMP vs Res'!$I$41*E31^4 + '4th Order Polynomial TMP vs Res'!$J$41*E31^3 + '4th Order Polynomial TMP vs Res'!$K$41*E31^2 + '4th Order Polynomial TMP vs Res'!$L$41*E31 + '4th Order Polynomial TMP vs Res'!$M$41","v":-29.019548142078008},1.9548142078008368E-2,null,12,15,9256.6472621145222,9350.1487496106292,9443.6502371067363]
[13,-28,6972.793631666701,{"$f":"IF(B32 <= VLOOKUP(Main!$N$22,Coefficients!$E$2:$H$28,4,FALSE),E32,NA())","v":7078.9783062606102},{"$f":"'4th Order Polynomial TMP vs Res'!$B$41+'4th Order Polynomial TMP vs Res'!$C$41*POWER(B32,1)+'4th Order Polynomial TMP vs Res'!$D$41*POWER(B32,2)+'4th Order Polynomial TMP vs Res'!$E$41*POWER(B32,3)+'4th Order Polynomial TMP vs Res'!$F$41*POWER(B32,4)","v":7078.9783062606102},7185.1629808545185,null,null,null,{"$f":"'4th Order Polynomial TMP vs Res'!$I$41*E32^4 + '4th Order Polynomial TMP vs Res'!$J$41*E32^3 + '4th Order Polynomial TMP vs Res'!$K$41*E32^2 + '4th Order Polynomial TMP vs Res'!$L$41*E32 + '4th Order Polynomial TMP vs Res'!$M$41","v":-28.02903232783234},2.9032327832339888E-2,null,13,20,9554.0988798612889,9650.6049291528179,9747.110978444347]
[14,-27,7018.6557272092086,{"$f":"IF(B33 <= VLOOKUP(Main!$N$22,Coefficients!$E$2:$H$28,4,FALSE),E33,NA())","v":7125.5388093494503},{"$f":"'4th Order Polynomial TMP vs Res'!$B$41+'4th Order Polynomial TMP vs Res'!$C$41*POWER(B33,1)+'4th Order Polynomial TMP vs Res'!$D$41*POWER(B33,2)+'4th Order Polynomial TMP vs Res'!$E$41*POWER(B33,3)+'4th Order Polynomial TMP vs Res'!$F$41*POWER(B33,4)","v":7125.5388093494503},7232.421891489691,null,null,null,{"$f":"'4th Order Polynomial TMP vs Res'!$I$41*E33^4 + '4th Order Polynomial TMP vs Res'!$J$41*E33^3 + '4th Order Polynomial TMP vs Res'!$K$41*E33^2 + '4th Order Polynomial TMP vs Res'!$L$41*E33 + '4th Order Polynomial TMP vs Res'!$M$41","v":-27.037453409013267},3.7453409013266992E-2,null,14,25,9859.227344557321,9958.8154995528494,{"$f":"IFERROR(P33*1.01,NA())","v":10058.403654548378}]
[15,-26,7064.8078940761961,{"$f":"IF(B34 <= VLOOKUP(Main!$N$22,Coefficients!$E$2:$H$28,4,FALSE),E34,NA())","v":7172.3938010925849},{"$f":"'4th Order Polynomial TMP vs Res'!$B$41+'4th Order Polynomial TMP vs Res'!$C$41*POWER(B34,1)+'4th Order Polynomial TMP vs Res'!$D$41*POWER(B34,2)+'4th Order Polynomial TMP vs Res'!$E$41*POWER(B34,3)+'4th Order Polynomial TMP vs Res'!$F$41*POWER(B34,4)","v":7172.3938010925849},7279.9797081089728,null,null,null,{"$f":"'4th Order Polynomial TMP vs Res'!$I$41*E34^4 + '4th Order Polynomial TMP vs Res'!$J$41*E34^3 + '4th Order Polynomial TMP vs Res'!$K$41*E34^2 + '4th Order Polynomial TMP vs Res'!$L$41*E34 + '4th Order Polynomial TMP vs Res'!$M$41","v":-26.044861072586002},4.4861072586002138E-2,null,15,30,10172.093386676985,10274.841804724227,{"$f":"IFERROR(P34*1.01,NA())","v":10377.590222771469}]
[16,-25,7111.250323760024,{"$f":"IF(B35 <= VLOOKUP(Main!$N$22,Coefficients!$E$2:$H$28,4,FALSE),E35,NA())","v":7219.543475898502},{"$f":"'4th Order Polynomial TMP vs Res'!$B$41+'4th Order Polynomial TMP vs Res'!$C$41*POWER(B35,1)+'4th Order Polynomial TMP vs Res'!$D$41*POWER(B35,2)+'4th Order Polynomial TMP vs Res'!$E$41*POWER(B35,3)+'4th Order Polynomial TMP vs Res'!$F$41*POWER(B35,4)","v":7219.543475898502},7327.8366280369792,null,null,null,{"$f":"'4th Order Polynomial TMP vs Res'!$I$41*E35^4 + '4th Order Polynomial TMP vs Res'!$J$41*E35^3 + '4th Order Polynomial TMP vs Res'!$K$41*E35^2 + '4th Order Polynomial TMP vs Res'!$L$41*E35 + '4th Order Polynomial TMP vs Res'!$M$41","v":-25.05130411683092},5.1304116830920066E-2,null,16,35,10492.761478778735,10598.748968463369,10704.736458148003]
[17,-24,7157.9832137101475,{"$f":"IF(B36 <= VLOOKUP(Main!$N$22,Coefficients!$E$2:$H$28,4,FALSE),E36,NA())","v":7266.9880342235001},{"$f":"'4th Order Polynomial TMP vs Res'!$B$41+'4th Order Polynomial TMP vs Res'!$C$41*POWER(B36,1)+'4th Order Polynomial TMP vs Res'!$D$41*POWER(B36,2)+'4th Order Polynomial TMP vs Res'!$E$41*POWER(B36,3)+'4th Order Polynomial TMP vs Res'!$F$41*POWER(B36,4)","v":7266.9880342235001},7375.9928547368518,null,null,null,{"$f":"'4th Order Polynomial TMP vs Res'!$I$41*E36^4 + '4th Order Polynomial TMP vs Res'!$J$41*E36^3 + '4th Order Polynomial TMP vs Res'!$K$41*E36^2 + '4th Order Polynomial TMP vs Res'!$L$41*E36 + '4th Order Polynomial TMP vs Res'!$M$41","v":-24.056830443557118},5.683044355711786E-2,null,17,40,10821.299835505122,10930.605894449618,11039.911953394114]
[18,-23,7205.0067673331159,{"$f":"IF(B37 <= VLOOKUP(Main!$N$22,Coefficients!$E$2:$H$28,4,FALSE),E37,NA())","v":7314.7276825716917},{"$f":"'4th Order Polynomial TMP vs Res'!$B$41+'4th Order Polynomial TMP vs Res'!$C$41*POWER(B37,1)+'4th Order Polynomial TMP vs Res'!$D$41*POWER(B37,2)+'4th Order Polynomial TMP vs Res'!$E$41*POWER(B37,3)+'4th Order Polynomial TMP vs Res'!$F$41*POWER(B37,4)","v":7314.7276825716917},7424.4485978102666,null,null,null,{"$f":"'4th Order Polynomial TMP vs Res'!$I$41*E37^4 + '4th Order Polynomial TMP vs Res'!$J$41*E37^3 + '4th Order Polynomial TMP vs Res'!$K$41*E37^2 + '4th Order Polynomial TMP vs Res'!$L$41*E37 + '4th Order Polynomial TMP vs Res'!$M$41","v":-23.061487050545026},6.1487050545025568E-2,null,18,45,11157.78041358277,11270.485266245223,11383.190118907676]
[19,-22,7252.3211939925786,{"$f":"IF(B38 <= VLOOKUP(Main!$N$22,Coefficients!$E$2:$H$28,4,FALSE),E38,NA())","v":7362.7626334950037},{"$f":"'4th Order Polynomial TMP vs Res'!$B$41+'4th Order Polynomial TMP vs Res'!$C$41*POWER(B38,1)+'4th Order Polynomial TMP vs Res'!$D$41*POWER(B38,2)+'4th Order Polynomial TMP vs Res'!$E$41*POWER(B38,3)+'4th Order Polynomial TMP vs Res'!$F$41*POWER(B38,4)","v":7362.7626334950037},7473.2040729974278,null,null,null,{"$f":"'4th Order Polynomial TMP vs Res'!$I$41*E38^4 + '4th Order Polynomial TMP vs Res'!$J$41*E38^3 + '4th Order Polynomial TMP vs Res'!$K$41*E38^2 + '4th Order Polynomial TMP vs Res'!$L$41*E38 + '4th Order Polynomial TMP vs Res'!$M$41","v":-22.065320024223269},6.5320024223268547E-2,null,19,50,11502.278911822412,11618.463547295365,11734.648182768318]
[20,-21,7299.9267090092735,{"$f":"IF(B39 <= VLOOKUP(Main!$N$22,Coefficients!$E$2:$H$28,4,FALSE),E39,NA())","v":7411.0931055931715},{"$f":"'4th Order Polynomial TMP vs Res'!$B$41+'4th Order Polynomial TMP vs Res'!$C$41*POWER(B39,1)+'4th Order Polynomial TMP vs Res'!$D$41*POWER(B39,2)+'4th Order Polynomial TMP vs Res'!$E$41*POWER(B39,3)+'4th Order Polynomial TMP vs Res'!$F$41*POWER(B39,4)","v":7411.0931055931715},7522.2595021770685,null,null,null,{"$f":"'4th Order Polynomial TMP vs Res'!$I$41*E39^4 + '4th Order Polynomial TMP vs Res'!$J$41*E39^3 + '4th Order Polynomial TMP vs Res'!$K$41*E39^2 + '4th Order Polynomial TMP vs Res'!$L$41*E39 + '4th Order Polynomial TMP vs Res'!$M$41","v":-21.0683745325845},6.8374532584499548E-2,null,20,55,11854.874771118857,11974.620980928139,12094.367190737421]
[21,-20,7347.8235336610405,{"$f":"IF(B40 <= VLOOKUP(Main!$N$22,Coefficients!$E$2:$H$28,4,FALSE),E40,NA())","v":7459.7193235137465},{"$f":"'4th Order Polynomial TMP vs Res'!$B$41+'4th Order Polynomial TMP vs Res'!$C$41*POWER(B40,1)+'4th Order Polynomial TMP vs Res'!$D$41*POWER(B40,2)+'4th Order Polynomial TMP vs Res'!$E$41*POWER(B40,3)+'4th Order Polynomial TMP vs Res'!$F$41*POWER(B40,4)","v":7459.7193235137465},7571.6151133664516,null,null,null,{"$f":"'4th Order Polynomial TMP vs Res'!$I$41*E40^4 + '4th Order Polynomial TMP vs Res'!$J$41*E40^3 + '4th Order Polynomial TMP vs Res'!$K$41*E40^2 + '4th Order Polynomial TMP vs Res'!$L$41*E40 + '4th Order Polynomial TMP vs Res'!$M$41","v":-20.070694818345942},7.0694818345941712E-2,null,21,60,12215.651174451012,12339.041590354558,12462.432006258105]
[22,-19,7396.0118951828126,{"$f":"IF(B41 <= VLOOKUP(Main!$N$22,Coefficients!$E$2:$H$28,4,FALSE),E41,NA())","v":7508.6415179520945},{"$f":"'4th Order Polynomial TMP vs Res'!$B$41+'4th Order Polynomial TMP vs Res'!$C$41*POWER(B41,1)+'4th Order Polynomial TMP vs Res'!$D$41*POWER(B41,2)+'4th Order Polynomial TMP vs Res'!$E$41*POWER(B41,3)+'4th Order Polynomial TMP vs Res'!$F$41*POWER(B41,4)","v":7508.6415179520945},7621.2711407213756,null,null,null,{"$f":"'4th Order Polynomial TMP vs Res'!$I$41*E41^4 + '4th Order Polynomial TMP vs Res'!$J$41*E41^3 + '4th Order Polynomial TMP vs Res'!$K$41*E41^2 + '4th Order Polynomial TMP vs Res'!$L$41*E41 + '4th Order Polynomial TMP vs Res'!$M$41","v":-19.072324192359815},7.2324192359815243E-2,null,22,65,12584.695046881865,12711.81317866855,12838.931310455235]
[23,-18,7444.4920267666166,{"$f":"IF(B42 <= VLOOKUP(Main!$N$22,Coefficients!$E$2:$H$28,4,FALSE),E42,NA())","v":7557.8599256513871},{"$f":"'4th Order Polynomial TMP vs Res'!$B$41+'4th Order Polynomial TMP vs Res'!$C$41*POWER(B42,1)+'4th Order Polynomial TMP vs Res'!$D$41*POWER(B42,2)+'4th Order Polynomial TMP vs Res'!$E$41*POWER(B42,3)+'4th Order Polynomial TMP vs Res'!$F$41*POWER(B42,4)","v":7557.8599256513871},7671.2278245361576,null,null,null,{"$f":"'4th Order Polynomial TMP vs Res'!$I$41*E42^4 + '4th Order Polynomial TMP vs Res'!$J$41*E42^3 + '4th Order Polynomial TMP vs Res'!$K$41*E42^2 + '4th Order Polynomial TMP vs Res'!$L$41*E42 + '4th Order Polynomial TMP vs Res'!$M$41","v":-18.073305027279162},7.330502727916155E-2,null,23,70,12962.097055558499,13093.027328846969,13223.957602135439]
[24,-17,7493.2641675615769,{"$f":"IF(B43 <= VLOOKUP(Main!$N$22,Coefficients!$E$2:$H$28,4,FALSE),E43,NA())","v":7607.3747894026164},{"$f":"'4th Order Polynomial TMP vs Res'!$B$41+'4th Order Polynomial TMP vs Res'!$C$41*POWER(B43,1)+'4th Order Polynomial TMP vs Res'!$D$41*POWER(B43,2)+'4th Order Polynomial TMP vs Res'!$E$41*POWER(B43,3)+'4th Order Polynomial TMP vs Res'!$F$41*POWER(B43,4)","v":7607.3747894026164},7721.4854112436551,null,null,null,{"$f":"'4th Order Polynomial TMP vs Res'!$I$41*E43^4 + '4th Order Polynomial TMP vs Res'!$J$41*E43^3 + '4th Order Polynomial TMP vs Res'!$K$41*E43^2 + '4th Order Polynomial TMP vs Res'!$L$41*E43 + '4th Order Polynomial TMP vs Res'!$M$41","v":-17.073678751484863},7.3678751484862914E-2,null,24,75,13280.53771269334,13482.779403749584,13685.021094805827]
[25,-16,7542.3285626739125,{"$f":"IF(B44 <= VLOOKUP(Main!$N$22,Coefficients!$E$2:$H$28,4,FALSE),E44,NA())","v":7657.1863580445815},{"$f":"'4th Order Polynomial TMP vs Res'!$B$41+'4th Order Polynomial TMP vs Res'!$C$41*POWER(B44,1)+'4th Order Polynomial TMP vs Res'!$D$41*POWER(B44,2)+'4th Order Polynomial TMP vs Res'!$E$41*POWER(B44,3)+'4th Order Polynomial TMP vs Res'!$F$41*POWER(B44,4)","v":7657.1863580445815},7772.0441534152496,null,null,null,{"$f":"'4th Order Polynomial TMP vs Res'!$I$41*E44^4 + '4th Order Polynomial TMP vs Res'!$J$41*E44^3 + '4th Order Polynomial TMP vs Res'!$K$41*E44^2 + '4th Order Polynomial TMP vs Res'!$L$41*E44 + '4th Order Polynomial TMP vs Res'!$M$41","v":-16.073485843279627},7.3485843279627261E-2,null,25,80,13672.951017927295,13881.168546119081,14089.386074310865]
[26,-15,7591.6854631669385,{"$f":"IF(B45 <= VLOOKUP(Main!$N$22,Coefficients!$E$2:$H$28,4,FALSE),E45,NA())","v":7707.2948864638975},{"$f":"'4th Order Polynomial TMP vs Res'!$B$41+'4th Order Polynomial TMP vs Res'!$C$41*POWER(B45,1)+'4th Order Polynomial TMP vs Res'!$D$41*POWER(B45,2)+'4th Order Polynomial TMP vs Res'!$E$41*POWER(B45,3)+'4th Order Polynomial TMP vs Res'!$F$41*POWER(B45,4)","v":7707.2948864638975},7822.9043097608555,null,null,null,{"$f":"'4th Order Polynomial TMP vs Res'!$I$41*E45^4 + '4th Order Polynomial TMP vs Res'!$J$41*E45^3 + '4th Order Polynomial TMP vs Res'!$K$41*E45^2 + '4th Order Polynomial TMP vs Res'!$L$41*E45 + '4th Order Polynomial TMP vs Res'!$M$41","v":-15.072765825354679},7.2765825354679237E-2,null,26,85,14073.973213402351,14288.297678581066,14502.622143759781]
[27,-14,7641.3351260610661,{"$f":"IF(B46 <= VLOOKUP(Main!$N$22,Coefficients!$E$2:$H$28,4,FALSE),E46,NA())","v":7757.7006355949907},{"$f":"'4th Order Polynomial TMP vs Res'!$B$41+'4th Order Polynomial TMP vs Res'!$C$41*POWER(B46,1)+'4th Order Polynomial TMP vs Res'!$D$41*POWER(B46,2)+'4th Order Polynomial TMP vs Res'!$E$41*POWER(B46,3)+'4th Order Polynomial TMP vs Res'!$F$41*POWER(B46,4)","v":7757.7006355949907},7874.0661451289152,null,null,null,{"$f":"'4th Order Polynomial TMP vs Res'!$I$41*E46^4 + '4th Order Polynomial TMP vs Res'!$J$41*E46^3 + '4th Order Polynomial TMP vs Res'!$K$41*E46^2 + '4th Order Polynomial TMP vs Res'!$L$41*E46 + '4th Order Polynomial TMP vs Res'!$M$41","v":-14.071557259535723},7.1557259535723006E-2,null,27,90,14483.709401089403,14704.273503644064,14924.837606198724]
[28,-13,7691.2778143337982,{"$f":"IF(B47 <= VLOOKUP(Main!$N$22,Coefficients!$E$2:$H$28,4,FALSE),E47,NA())","v":7808.4038724201},{"$f":"'4th Order Polynomial TMP vs Res'!$B$41+'4th Order Polynomial TMP vs Res'!$C$41*POWER(B47,1)+'4th Order Polynomial TMP vs Res'!$D$41*POWER(B47,2)+'4th Order Polynomial TMP vs Res'!$E$41*POWER(B47,3)+'4th Order Polynomial TMP vs Res'!$F$41*POWER(B47,4)","v":7808.4038724201},7925.5299305064009,null,null,null,{"$f":"'4th Order Polynomial TMP vs Res'!$I$41*E47^4 + '4th Order Polynomial TMP vs Res'!$J$41*E47^3 + '4th Order Polynomial TMP vs Res'!$K$41*E47^2 + '4th Order Polynomial TMP vs Res'!$L$41*E47 + '4th Order Polynomial TMP vs Res'!$M$41","v":-13.069897741814088},6.9897741814088477E-2,null,28,95,14902.268406144029,15129.206503699521,15356.144601255011]
[29,-12,7741.5137969197367,{"$f":"IF(B48 <= VLOOKUP(Main!$N$22,Coefficients!$E$2:$H$28,4,FALSE),E48,NA())","v":7859.4048699692758},{"$f":"'4th Order Polynomial TMP vs Res'!$B$41+'4th Order Polynomial TMP vs Res'!$C$41*POWER(B48,1)+'4th Order Polynomial TMP vs Res'!$D$41*POWER(B48,2)+'4th Order Polynomial TMP vs Res'!$E$41*POWER(B48,3)+'4th Order Polynomial TMP vs Res'!$F$41*POWER(B48,4)","v":7859.4048699692758},7977.2959430188139,null,null,null,{"$f":"'4th Order Polynomial TMP vs Res'!$I$41*E48^4 + '4th Order Polynomial TMP vs Res'!$J$41*E48^3 + '4th Order Polynomial TMP vs Res'!$K$41*E48^2 + '4th Order Polynomial TMP vs Res'!$L$41*E48 + '4th Order Polynomial TMP vs Res'!$M$41","v":-12.067823897669086},6.7823897669086364E-2,null,29,100,15329.762776906467,15563.210941021794,15796.65910513712]
[30,-11,7792.0433487105793,{"$f":"IF(B49 <= VLOOKUP(Main!$N$22,Coefficients!$E$2:$H$28,4,FALSE),E49,NA())","v":7910.703907320385},{"$f":"'4th Order Polynomial TMP vs Res'!$B$41+'4th Order Polynomial TMP vs Res'!$C$41*POWER(B49,1)+'4th Order Polynomial TMP vs Res'!$D$41*POWER(B49,2)+'4th Order Polynomial TMP vs Res'!$E$41*POWER(B49,3)+'4th Order Polynomial TMP vs Res'!$F$41*POWER(B49,4)","v":7910.703907320385},8029.3644659301899,null,null,null,{"$f":"'4th Order Polynomial TMP vs Res'!$I$41*E49^4 + '4th Order Polynomial TMP vs Res'!$J$41*E49^3 + '4th Order Polynomial TMP vs Res'!$K$41*E49^2 + '4th Order Polynomial TMP vs Res'!$L$41*E49 + '4th Order Polynomial TMP vs Res'!$M$41","v":-11.065371377689075},6.5371377689075416E-2,null,30,105,15766.308784901647,16006.40485776817,16246.500930634691]
[31,-10,7842.8667505551184,{"$f":"IF(B50 <= VLOOKUP(Main!$N$22,Coefficients!$E$2:$H$28,4,FALSE),E50,NA())","v":7962.3012695991047},{"$f":"'4th Order Polynomial TMP vs Res'!$B$41+'4th Order Polynomial TMP vs Res'!$C$41*POWER(B50,1)+'4th Order Polynomial TMP vs Res'!$D$41*POWER(B50,2)+'4th Order Polynomial TMP vs Res'!$E$41*POWER(B50,3)+'4th Order Polynomial TMP vs Res'!$F$41*POWER(B50,4)","v":7962.3012695991047},8081.73578864309,null,null,null,{"$f":"'4th Order Polynomial TMP vs Res'!$I$41*E50^4 + '4th Order Polynomial TMP vs Res'!$J$41*E50^3 + '4th Order Polynomial TMP vs Res'!$K$41*E50^2 + '4th Order Polynomial TMP vs Res'!$L$41*E50 + '4th Order Polynomial TMP vs Res'!$M$41","v":-10.062574853496869},6.2574853496869309E-2,null,31,110,16212.026424839163,16458.910075978845,16705.793727118526]
[32,-9,7893.9842892592405,{"$f":"IF(B51 <= VLOOKUP(Main!$N$22,Coefficients!$E$2:$H$28,4,FALSE),E51,NA())","v":8014.1972479789247},{"$f":"'4th Order Polynomial TMP vs Res'!$B$41+'4th Order Polynomial TMP vs Res'!$C$41*POWER(B51,1)+'4th Order Polynomial TMP vs Res'!$D$41*POWER(B51,2)+'4th Order Polynomial TMP vs Res'!$E$41*POWER(B51,3)+'4th Order Polynomial TMP vs Res'!$F$41*POWER(B51,4)","v":8014.1972479789247},8134.4102066986079,null,null,null,{"$f":"'4th Order Polynomial TMP vs Res'!$I$41*E51^4 + '4th Order Polynomial TMP vs Res'!$J$41*E51^3 + '4th Order Polynomial TMP vs Res'!$K$41*E51^2 + '4th Order Polynomial TMP vs Res'!$L$41*E51 + '4th Order Polynomial TMP vs Res'!$M$41","v":-9.0594680139873276},5.9468013987327595E-2,null,32,115,16667.039414613282,16920.852197576936,17174.66498054059]
[33,-8,7945.3962575859287,{"$f":"IF(B52 <= VLOOKUP(Main!$N$22,Coefficients!$E$2:$H$28,4,FALSE),E52,NA())","v":8066.3921396811456},{"$f":"'4th Order Polynomial TMP vs Res'!$B$41+'4th Order Polynomial TMP vs Res'!$C$41*POWER(B52,1)+'4th Order Polynomial TMP vs Res'!$D$41*POWER(B52,2)+'4th Order Polynomial TMP vs Res'!$E$41*POWER(B52,3)+'4th Order Polynomial TMP vs Res'!$F$41*POWER(B52,4)","v":8066.3921396811456},8187.3880217763617,null,null,null,{"$f":"'4th Order Polynomial TMP vs Res'!$I$41*E52^4 + '4th Order Polynomial TMP vs Res'!$J$41*E52^3 + '4th Order Polynomial TMP vs Res'!$K$41*E52^2 + '4th Order Polynomial TMP vs Res'!$L$41*E52 + '4th Order Polynomial TMP vs Res'!$M$41","v":-8.0560835618833266},{"$f":"B52-J52","v":5.6083561883326638E-2},null,33,120,17131.475195302959,17392.360604368485,17653.246013434011]
[34,-7,7997.1029542552615,{"$f":"IF(B53 <= VLOOKUP(Main!$N$22,Coefficients!$E$2:$H$28,4,FALSE),E53,NA())","v":8118.886247974885},{"$f":"'4th Order Polynomial TMP vs Res'!$B$41+'4th Order Polynomial TMP vs Res'!$C$41*POWER(B53,1)+'4th Order Polynomial TMP vs Res'!$D$41*POWER(B53,2)+'4th Order Polynomial TMP vs Res'!$E$41*POWER(B53,3)+'4th Order Polynomial TMP vs Res'!$F$41*POWER(B53,4)","v":8118.886247974885},8240.6695416945076,null,null,null,{"$f":"'4th Order Polynomial TMP vs Res'!$I$41*E53^4 + '4th Order Polynomial TMP vs Res'!$J$41*E53^3 + '4th Order Polynomial TMP vs Res'!$K$41*E53^2 + '4th Order Polynomial TMP vs Res'!$L$41*E53 + '4th Order Polynomial TMP vs Res'!$M$41","v":-7.052453210617216},5.2453210617215973E-2,null,34,125,17605.464931171799,17873.568458042435,18141.671984913071]
[35,-6,8049.1046839444125,{"$f":"IF(B54 <= VLOOKUP(Main!$N$22,Coefficients!$E$2:$H$28,4,FALSE),E54,NA())","v":8171.679882177069},{"$f":"'4th Order Polynomial TMP vs Res'!$B$41+'4th Order Polynomial TMP vs Res'!$C$41*POWER(B54,1)+'4th Order Polynomial TMP vs Res'!$D$41*POWER(B54,2)+'4th Order Polynomial TMP vs Res'!$E$41*POWER(B54,3)+'4th Order Polynomial TMP vs Res'!$F$41*POWER(B54,4)","v":8171.679882177069},8294.2550804097245,null,null,null,{"$f":"'4th Order Polynomial TMP vs Res'!$I$41*E54^4 + '4th Order Polynomial TMP vs Res'!$J$41*E54^3 + '4th Order Polynomial TMP vs Res'!$K$41*E54^2 + '4th Order Polynomial TMP vs Res'!$L$41*E54 + '4th Order Polynomial TMP vs Res'!$M$41","v":-6.0486076815465708},4.8607681546570802E-2,null,35,130,{"$error":"#N/A"},{"$error":"#N/A"},{"$error":"#N/A"}]
[36,-5,8101.4017572876537,{"$f":"IF(B55 <= VLOOKUP(Main!$N$22,Coefficients!$E$2:$H$28,4,FALSE),E55,NA())","v":8224.7733576524406},{"$f":"'4th Order Polynomial TMP vs Res'!$B$41+'4th Order Polynomial TMP vs Res'!$C$41*POWER(B55,1)+'4th Order Polynomial TMP vs Res'!$D$41*POWER(B55,2)+'4th Order Polynomial TMP vs Res'!$E$41*POWER(B55,3)+'4th Order Polynomial TMP vs Res'!$F$41*POWER(B55,4)","v":8224.7733576524406},8348.1449580172266,null,null,null,{"$f":"'4th Order Polynomial TMP vs Res'!$I$41*E55^4 + '4th Order Polynomial TMP vs Res'!$J$41*E55^3 + '4th Order Polynomial TMP vs Res'!$K$41*E55^2 + '4th Order Polynomial TMP vs Res'!$L$41*E55 + '4th Order Polynomial TMP vs Res'!$M$41","v":-5.0445767015094702},4.457670150947024E-2,null,36,135,{"$error":"#N/A"},{"$error":"#N/A"},{"$error":"#N/A"}]
[37,-4,8153.9944908763464,{"$f":"IF(B56 <= VLOOKUP(Main!$N$22,Coefficients!$E$2:$H$28,4,FALSE),E56,NA())","v":8278.1669958135499},{"$f":"'4th Order Polynomial TMP vs Res'!$B$41+'4th Order Polynomial TMP vs Res'!$C$41*POWER(B56,1)+'4th Order Polynomial TMP vs Res'!$D$41*POWER(B56,2)+'4th Order Polynomial TMP vs Res'!$E$41*POWER(B56,3)+'4th Order Polynomial TMP vs Res'!$F$41*POWER(B56,4)","v":8278.1669958135499},8402.3395007507515,null,null,null,{"$f":"'4th Order Polynomial TMP vs Res'!$I$41*E56^4 + '4th Order Polynomial TMP vs Res'!$J$41*E56^3 + '4th Order Polynomial TMP vs Res'!$K$41*E56^2 + '4th Order Polynomial TMP vs Res'!$L$41*E56 + '4th Order Polynomial TMP vs Res'!$M$41","v":-4.0403890007293626},4.0389000729362579E-2,null,37,140,{"$error":"#N/A"},{"$error":"#N/A"},{"$error":"#N/A"}]
[38,-3,8206.8832072589539,{"$f":"IF(B57 <= VLOOKUP(Main!$N$22,Coefficients!$E$2:$H$28,4,FALSE),E57,NA())","v":8331.8611241207655},{"$f":"'4th Order Polynomial TMP vs Res'!$B$41+'4th Order Polynomial TMP vs Res'!$C$41*POWER(B57,1)+'4th Order Polynomial TMP vs Res'!$D$41*POWER(B57,2)+'4th Order Polynomial TMP vs Res'!$E$41*POWER(B57,3)+'4th Order Polynomial TMP vs Res'!$F$41*POWER(B57,4)","v":8331.8611241207655},8456.839040982577,null,null,null,{"$f":"'4th Order Polynomial TMP vs Res'!$I$41*E57^4 + '4th Order Polynomial TMP vs Res'!$J$41*E57^3 + '4th Order Polynomial TMP vs Res'!$K$41*E57^2 + '4th Order Polynomial TMP vs Res'!$L$41*E57 + '4th Order Polynomial TMP vs Res'!$M$41","v":-3.0360723110746335},3.607231107463349E-2,null,38,145,{"$error":"#N/A"},{"$error":"#N/A"},{"$error":"#N/A"}]
[39,-2,8260.0682349410308,{"$f":"IF(B58 <= VLOOKUP(Main!$N$22,Coefficients!$E$2:$H$28,4,FALSE),E58,NA())","v":8385.8560760822656},{"$f":"'4th Order Polynomial TMP vs Res'!$B$41+'4th Order Polynomial TMP vs Res'!$C$41*POWER(B58,1)+'4th Order Polynomial TMP vs Res'!$D$41*POWER(B58,2)+'4th Order Polynomial TMP vs Res'!$E$41*POWER(B58,3)+'4th Order Polynomial TMP vs Res'!$F$41*POWER(B58,4)","v":8385.8560760822656},8511.6439172234986,null,null,null,{"$f":"'4th Order Polynomial TMP vs Res'!$I$41*E58^4 + '4th Order Polynomial TMP vs Res'!$J$41*E58^3 + '4th Order Polynomial TMP vs Res'!$K$41*E58^2 + '4th Order Polynomial TMP vs Res'!$L$41*E58 + '4th Order Polynomial TMP vs Res'!$M$41","v":-2.0316533646845869},3.1653364684586904E-2,null,39,150,{"$error":"#N/A"},{"$error":"#N/A"},{"$error":"#N/A"}]
[40,-1,8313.5499083852283,{"$f":"IF(B59 <= VLOOKUP(Main!$N$22,Coefficients!$E$2:$H$28,4,FALSE),E59,NA())","v":8440.1521912540393},{"$f":"'4th Order Polynomial TMP vs Res'!$B$41+'4th Order Polynomial TMP vs Res'!$C$41*POWER(B59,1)+'4th Order Polynomial TMP vs Res'!$D$41*POWER(B59,2)+'4th Order Polynomial TMP vs Res'!$E$41*POWER(B59,3)+'4th Order Polynomial TMP vs Res'!$F$41*POWER(B59,4)","v":8440.1521912540393},8566.7544741228485,null,null,null,{"$f":"'4th Order Polynomial TMP vs Res'!$I$41*E59^4 + '4th Order Polynomial TMP vs Res'!$J$41*E59^3 + '4th Order Polynomial TMP vs Res'!$K$41*E59^2 + '4th Order Polynomial TMP vs Res'!$L$41*E59 + '4th Order Polynomial TMP vs Res'!$M$41","v":-1.0271578929664997},2.715789296649973E-2,null,40,155,{"$f":"IFERROR(P59*0.985,NA())","v":{"$error":"#N/A"}},{"$f":"IFERROR(OFFSET($D$20,(ROW(D40)-1)*5,0),NA())","v":{"$error":"#N/A"}},{"$f":"IFERROR(P59*1.015,NA())","v":{"$error":"#N/A"}}]
[41,0,{"$f":"IFERROR(D60*0.99,NA())","v":8409.8023170874949},{"$f":"IF(B60 <= VLOOKUP(Main!$N$22,Coefficients!$E$2:$H$28,4,FALSE),E60,NA())","v":8494.749815239893},{"$f":"'4th Order Polynomial TMP vs Res'!$B$41+'4th Order Polynomial TMP vs Res'!$C$41*POWER(B60,1)+'4th Order Polynomial TMP vs Res'!$D$41*POWER(B60,2)+'4th Order Polynomial TMP vs Res'!$E$41*POWER(B60,3)+'4th Order Polynomial TMP vs Res'!$F$41*POWER(B60,4)","v":8494.749815239893},{"$f":"IFERROR(D60*1.01,NA())","v":8579.6973133922911},null,null,null,{"$f":"'4th Order Polynomial TMP vs Res'!$I$41*E60^4 + '4th Order Polynomial TMP vs Res'!$J$41*E60^3 + '4th Order Polynomial TMP vs Res'!$K$41*E60^2 + '4th Order Polynomial TMP vs Res'!$L$41*E60 + '4th Order Polynomial TMP vs Res'!$M$41","v":-2.2610625973641163E-2},2.2610625973641163E-2,null,41,160,{"$error":"#N/A"},{"$error":"#N/A"},{"$error":"#N/A"}]
[42,1,{"$f":"IFERROR(D61*0.99,NA())","v":8464.1528066945266},{"$f":"IF(B61 <= VLOOKUP(Main!$N$22,Coefficients!$E$2:$H$28,4,FALSE),E61,NA())","v":8549.6492996914403},{"$f":"'4th Order Polynomial TMP vs Res'!$B$41+'4th Order Polynomial TMP vs Res'!$C$41*POWER(B61,1)+'4th Order Polynomial TMP vs Res'!$D$41*POWER(B61,2)+'4th Order Polynomial TMP vs Res'!$E$41*POWER(B61,3)+'4th Order Polynomial TMP vs Res'!$F$41*POWER(B61,4)","v":8549.6492996914403},{"$f":"IFERROR(D61*1.01,NA())","v":8635.145792688354},null,null,null,{"$f":"'4th Order Polynomial TMP vs Res'!$I$41*E61^4 + '4th Order Polynomial TMP vs Res'!$J$41*E61^3 + '4th Order Polynomial TMP vs Res'!$K$41*E61^2 + '4th Order Polynomial TMP vs Res'!$L$41*E61 + '4th Order Polynomial TMP vs Res'!$M$41","v":0.98196470782596634},1.8035292174033657E-2,null,42,165,{"$error":"#N/A"},{"$error":"#N/A"},{"$error":"#N/A"}]
[43,2,8518.8024922850364,{"$f":"IF(B62 <= VLOOKUP(Main!$N$22,Coefficients!$E$2:$H$28,4,FALSE),E62,NA())","v":8604.851002308118},{"$f":"'4th Order Polynomial TMP vs Res'!$B$41+'4th Order Polynomial TMP vs Res'!$C$41*POWER(B62,1)+'4th Order Polynomial TMP vs Res'!$D$41*POWER(B62,2)+'4th Order Polynomial TMP vs Res'!$E$41*POWER(B62,3)+'4th Order Polynomial TMP vs Res'!$F$41*POWER(B62,4)","v":8604.851002308118},8690.8995123311997,null,null,null,{"$f":"'4th Order Polynomial TMP vs Res'!$I$41*E62^4 + '4th Order Polynomial TMP vs Res'!$J$41*E62^3 + '4th Order Polynomial TMP vs Res'!$K$41*E62^2 + '4th Order Polynomial TMP vs Res'!$L$41*E62 + '4th Order Polynomial TMP vs Res'!$M$41","v":1.9865453813832232},1.345461861677677E-2,null,43,170,{"$error":"#N/A"},{"$error":"#N/A"},{"$error":"#N/A"}]
[44,3,8573.7517339687874,{"$f":"IF(B63 <= VLOOKUP(Main!$N$22,Coefficients!$E$2:$H$28,4,FALSE),E63,NA())","v":8660.3552868371589},{"$f":"'4th Order Polynomial TMP vs Res'!$B$41+'4th Order Polynomial TMP vs Res'!$C$41*POWER(B63,1)+'4th Order Polynomial TMP vs Res'!$D$41*POWER(B63,2)+'4th Order Polynomial TMP vs Res'!$E$41*POWER(B63,3)+'4th Order Polynomial TMP vs Res'!$F$41*POWER(B63,4)","v":8660.3552868371589},8746.9588397055304,null,null,null,{"$f":"'4th Order Polynomial TMP vs Res'!$I$41*E63^4 + '4th Order Polynomial TMP vs Res'!$J$41*E63^3 + '4th Order Polynomial TMP vs Res'!$K$41*E63^2 + '4th Order Polynomial TMP vs Res'!$L$41*E63 + '4th Order Polynomial TMP vs Res'!$M$41","v":2.9911096684938343},8.890331506165694E-3]
[45,4,8629.000897842885,{"$f":"IF(B64 <= VLOOKUP(Main!$N$22,Coefficients!$E$2:$H$28,4,FALSE),E64,NA())","v":8716.1625230736208},{"$f":"'4th Order Polynomial TMP vs Res'!$B$41+'4th Order Polynomial TMP vs Res'!$C$41*POWER(B64,1)+'4th Order Polynomial TMP vs Res'!$D$41*POWER(B64,2)+'4th Order Polynomial TMP vs Res'!$E$41*POWER(B64,3)+'4th Order Polynomial TMP vs Res'!$F$41*POWER(B64,4)","v":8716.1625230736208},8803.3241483043566,null,null,null,{"$f":"'4th Order Polynomial TMP vs Res'!$I$41*E64^4 + '4th Order Polynomial TMP vs Res'!$J$41*E64^3 + '4th Order Polynomial TMP vs Res'!$K$41*E64^2 + '4th Order Polynomial TMP vs Res'!$L$41*E64 + '4th Order Polynomial TMP vs Res'!$M$41","v":3.9956368428077553},4.363157192244671E-3]
[46,5,8684.5503559917688,{"$f":"IF(B65 <= VLOOKUP(Main!$N$22,Coefficients!$E$2:$H$28,4,FALSE),E65,NA())","v":8772.2730868603721},{"$f":"'4th Order Polynomial TMP vs Res'!$B$41+'4th Order Polynomial TMP vs Res'!$C$41*POWER(B65,1)+'4th Order Polynomial TMP vs Res'!$D$41*POWER(B65,2)+'4th Order Polynomial TMP vs Res'!$E$41*POWER(B65,3)+'4th Order Polynomial TMP vs Res'!$F$41*POWER(B65,4)","v":8772.2730868603721},8859.9958177289755,null,null,null,{"$f":"'4th Order Polynomial TMP vs Res'!$I$41*E65^4 + '4th Order Polynomial TMP vs Res'!$J$41*E65^3 + '4th Order Polynomial TMP vs Res'!$K$41*E65^2 + '4th Order Polynomial TMP vs Res'!$L$41*E65 + '4th Order Polynomial TMP vs Res'!$M$41","v":5.0001071764120297},-1.0717641202973027E-4]
[47,6,8740.4004864872113,{"$f":"IF(B66 <= VLOOKUP(Main!$N$22,Coefficients!$E$2:$H$28,4,FALSE),E66,NA())","v":8828.6873600880917},{"$f":"'4th Order Polynomial TMP vs Res'!$B$41+'4th Order Polynomial TMP vs Res'!$C$41*POWER(B66,1)+'4th Order Polynomial TMP vs Res'!$D$41*POWER(B66,2)+'4th Order Polynomial TMP vs Res'!$E$41*POWER(B66,3)+'4th Order Polynomial TMP vs Res'!$F$41*POWER(B66,4)","v":8828.6873600880917},8916.9742336889722,null,null,null,{"$f":"'4th Order Polynomial TMP vs Res'!$I$41*E66^4 + '4th Order Polynomial TMP vs Res'!$J$41*E66^3 + '4th Order Polynomial TMP vs Res'!$K$41*E66^2 + '4th Order Polynomial TMP vs Res'!$L$41*E66 + '4th Order Polynomial TMP vs Res'!$M$41","v":6.0045019379780342},-4.5019379780342206E-3]
[48,7,8796.5516733883196,{"$f":"IF(B67 <= VLOOKUP(Main!$N$22,Coefficients!$E$2:$H$28,4,FALSE),E67,NA())","v":8885.4057306952727},{"$f":"'4th Order Polynomial TMP vs Res'!$B$41+'4th Order Polynomial TMP vs Res'!$C$41*POWER(B67,1)+'4th Order Polynomial TMP vs Res'!$D$41*POWER(B67,2)+'4th Order Polynomial TMP vs Res'!$E$41*POWER(B67,3)+'4th Order Polynomial TMP vs Res'!$F$41*POWER(B67,4)","v":8885.4057306952727},8974.2597880022258,null,null,null,{"$f":"'4th Order Polynomial TMP vs Res'!$I$41*E67^4 + '4th Order Polynomial TMP vs Res'!$J$41*E67^3 + '4th Order Polynomial TMP vs Res'!$K$41*E67^2 + '4th Order Polynomial TMP vs Res'!$L$41*E67 + '4th Order Polynomial TMP vs Res'!$M$41","v":7.0088033904636404},-8.8033904636404259E-3]
[49,8,8853.004306741539,{"$f":"IF(B68 <= VLOOKUP(Main!$N$22,Coefficients!$E$2:$H$28,4,FALSE),E68,NA())","v":8942.4285926682205},{"$f":"'4th Order Polynomial TMP vs Res'!$B$41+'4th Order Polynomial TMP vs Res'!$C$41*POWER(B68,1)+'4th Order Polynomial TMP vs Res'!$D$41*POWER(B68,2)+'4th Order Polynomial TMP vs Res'!$E$41*POWER(B68,3)+'4th Order Polynomial TMP vs Res'!$F$41*POWER(B68,4)","v":8942.4285926682205},9031.852878594902,null,null,null,{"$f":"'4th Order Polynomial TMP vs Res'!$I$41*E68^4 + '4th Order Polynomial TMP vs Res'!$J$41*E68^3 + '4th Order Polynomial TMP vs Res'!$K$41*E68^2 + '4th Order Polynomial TMP vs Res'!$L$41*E68 + '4th Order Polynomial TMP vs Res'!$M$41","v":8.0129947883584123},-1.2994788358412279E-2]
[50,9,8909.758782580644,{"$f":"IF(B69 <= VLOOKUP(Main!$N$22,Coefficients!$E$2:$H$28,4,FALSE),E69,NA())","v":8999.7563460410547},{"$f":"'4th Order Polynomial TMP vs Res'!$B$41+'4th Order Polynomial TMP vs Res'!$C$41*POWER(B69,1)+'4th Order Polynomial TMP vs Res'!$D$41*POWER(B69,2)+'4th Order Polynomial TMP vs Res'!$E$41*POWER(B69,3)+'4th Order Polynomial TMP vs Res'!$F$41*POWER(B69,4)","v":8999.7563460410547},9089.7539095014654,null,null,null,{"$f":"'4th Order Polynomial TMP vs Res'!$I$41*E69^4 + '4th Order Polynomial TMP vs Res'!$J$41*E69^3 + '4th Order Polynomial TMP vs Res'!$K$41*E69^2 + '4th Order Polynomial TMP vs Res'!$L$41*E69 + '4th Order Polynomial TMP vs Res'!$M$41","v":9.0170603744641085},-1.7060374464108463E-2]
[51,10,8966.8155029267436,{"$f":"IF(B70 <= VLOOKUP(Main!$N$22,Coefficients!$E$2:$H$28,4,FALSE),E70,NA())","v":9057.3893968957},{"$f":"'4th Order Polynomial TMP vs Res'!$B$41+'4th Order Polynomial TMP vs Res'!$C$41*POWER(B70,1)+'4th Order Polynomial TMP vs Res'!$D$41*POWER(B70,2)+'4th Order Polynomial TMP vs Res'!$E$41*POWER(B70,3)+'4th Order Polynomial TMP vs Res'!$F$41*POWER(B70,4)","v":9057.3893968957},9147.9632908646563,null,null,null,{"$f":"'4th Order Polynomial TMP vs Res'!$I$41*E70^4 + '4th Order Polynomial TMP vs Res'!$J$41*E70^3 + '4th Order Polynomial TMP vs Res'!$K$41*E70^2 + '4th Order Polynomial TMP vs Res'!$L$41*E70 + '4th Order Polynomial TMP vs Res'!$M$41","v":10.020985376197132},-2.09853761971317E-2]
[52,11,9024.1748757882906,{"$f":"IF(B71 <= VLOOKUP(Main!$N$22,Coefficients!$E$2:$H$28,4,FALSE),E71,NA())","v":9115.3281573619097},{"$f":"'4th Order Polynomial TMP vs Res'!$B$41+'4th Order Polynomial TMP vs Res'!$C$41*POWER(B71,1)+'4th Order Polynomial TMP vs Res'!$D$41*POWER(B71,2)+'4th Order Polynomial TMP vs Res'!$E$41*POWER(B71,3)+'4th Order Polynomial TMP vs Res'!$F$41*POWER(B71,4)","v":9115.3281573619097},9206.4814389355288,null,null,null,{"$f":"'4th Order Polynomial TMP vs Res'!$I$41*E71^4 + '4th Order Polynomial TMP vs Res'!$J$41*E71^3 + '4th Order Polynomial TMP vs Res'!$K$41*E71^2 + '4th Order Polynomial TMP vs Res'!$L$41*E71 + '4th Order Polynomial TMP vs Res'!$M$41","v":11.024756001405365},-2.4756001405364714E-2]
[53,12,9081.8373151610576,{"$f":"IF(B72 <= VLOOKUP(Main!$N$22,Coefficients!$E$2:$H$28,4,FALSE),E72,NA())","v":9173.5730456172296},{"$f":"'4th Order Polynomial TMP vs Res'!$B$41+'4th Order Polynomial TMP vs Res'!$C$41*POWER(B72,1)+'4th Order Polynomial TMP vs Res'!$D$41*POWER(B72,2)+'4th Order Polynomial TMP vs Res'!$E$41*POWER(B72,3)+'4th Order Polynomial TMP vs Res'!$F$41*POWER(B72,4)","v":9173.5730456172296},9265.3087760734015,null,null,null,{"$f":"'4th Order Polynomial TMP vs Res'!$I$41*E72^4 + '4th Order Polynomial TMP vs Res'!$J$41*E72^3 + '4th Order Polynomial TMP vs Res'!$K$41*E72^2 + '4th Order Polynomial TMP vs Res'!$L$41*E72 + '4th Order Polynomial TMP vs Res'!$M$41","v":12.028359433684159},-2.835943368415883E-2]
[54,13,9139.803241028163,{"$f":"IF(B73 <= VLOOKUP(Main!$N$22,Coefficients!$E$2:$H$28,4,FALSE),E73,NA())","v":9232.1244858870341},{"$f":"'4th Order Polynomial TMP vs Res'!$B$41+'4th Order Polynomial TMP vs Res'!$C$41*POWER(B73,1)+'4th Order Polynomial TMP vs Res'!$D$41*POWER(B73,2)+'4th Order Polynomial TMP vs Res'!$E$41*POWER(B73,3)+'4th Order Polynomial TMP vs Res'!$F$41*POWER(B73,4)","v":9232.1244858870341},9324.4457307459052,null,null,null,{"$f":"'4th Order Polynomial TMP vs Res'!$I$41*E73^4 + '4th Order Polynomial TMP vs Res'!$J$41*E73^3 + '4th Order Polynomial TMP vs Res'!$K$41*E73^2 + '4th Order Polynomial TMP vs Res'!$L$41*E73 + '4th Order Polynomial TMP vs Res'!$M$41","v":13.031783827185507},-3.1783827185506652E-2]
[55,14,9198.073079360056,{"$f":"IF(B74 <= VLOOKUP(Main!$N$22,Coefficients!$E$2:$H$28,4,FALSE),E74,NA())","v":9290.9829084445009},{"$f":"'4th Order Polynomial TMP vs Res'!$B$41+'4th Order Polynomial TMP vs Res'!$C$41*POWER(B74,1)+'4th Order Polynomial TMP vs Res'!$D$41*POWER(B74,2)+'4th Order Polynomial TMP vs Res'!$E$41*POWER(B74,3)+'4th Order Polynomial TMP vs Res'!$F$41*POWER(B74,4)","v":9290.9829084445009},9383.8927375289459,null,null,null,{"$f":"'4th Order Polynomial TMP vs Res'!$I$41*E74^4 + '4th Order Polynomial TMP vs Res'!$J$41*E74^3 + '4th Order Polynomial TMP vs Res'!$K$41*E74^2 + '4th Order Polynomial TMP vs Res'!$L$41*E74 + '4th Order Polynomial TMP vs Res'!$M$41","v":14.035018300903459},-3.5018300903459476E-2]
[56,15,9256.6472621145222,{"$f":"IF(B75 <= VLOOKUP(Main!$N$22,Coefficients!$E$2:$H$28,4,FALSE),E75,NA())","v":9350.1487496106292},{"$f":"'4th Order Polynomial TMP vs Res'!$B$41+'4th Order Polynomial TMP vs Res'!$C$41*POWER(B75,1)+'4th Order Polynomial TMP vs Res'!$D$41*POWER(B75,2)+'4th Order Polynomial TMP vs Res'!$E$41*POWER(B75,3)+'4th Order Polynomial TMP vs Res'!$F$41*POWER(B75,4)","v":9350.1487496106292},9443.6502371067363,null,null,null,{"$f":"'4th Order Polynomial TMP vs Res'!$I$41*E75^4 + '4th Order Polynomial TMP vs Res'!$J$41*E75^3 + '4th Order Polynomial TMP vs Res'!$K$41*E75^2 + '4th Order Polynomial TMP vs Res'!$L$41*E75 + '4th Order Polynomial TMP vs Res'!$M$41","v":15.038052932428002},-3.8052932428001895E-2]
[57,16,9315.5262272366799,{"$f":"IF(B76 <= VLOOKUP(Main!$N$22,Coefficients!$E$2:$H$28,4,FALSE),E76,NA())","v":9409.6224517542214},{"$f":"'4th Order Polynomial TMP vs Res'!$B$41+'4th Order Polynomial TMP vs Res'!$C$41*POWER(B76,1)+'4th Order Polynomial TMP vs Res'!$D$41*POWER(B76,2)+'4th Order Polynomial TMP vs Res'!$E$41*POWER(B76,3)+'4th Order Polynomial TMP vs Res'!$F$41*POWER(B76,4)","v":9409.6224517542214},9503.7186762717629,null,null,null,{"$f":"'4th Order Polynomial TMP vs Res'!$I$41*E76^4 + '4th Order Polynomial TMP vs Res'!$J$41*E76^3 + '4th Order Polynomial TMP vs Res'!$K$41*E76^2 + '4th Order Polynomial TMP vs Res'!$L$41*E76 + '4th Order Polynomial TMP vs Res'!$M$41","v":16.040878751153571},-4.0878751153570647E-2]
[58,17,9374.7104186589804,{"$f":"IF(B77 <= VLOOKUP(Main!$N$22,Coefficients!$E$2:$H$28,4,FALSE),E77,NA())","v":9469.4044632918994},{"$f":"'4th Order Polynomial TMP vs Res'!$B$41+'4th Order Polynomial TMP vs Res'!$C$41*POWER(B77,1)+'4th Order Polynomial TMP vs Res'!$D$41*POWER(B77,2)+'4th Order Polynomial TMP vs Res'!$E$41*POWER(B77,3)+'4th Order Polynomial TMP vs Res'!$F$41*POWER(B77,4)","v":9469.4044632918994},9564.0985079248185,null,null,null,{"$f":"'4th Order Polynomial TMP vs Res'!$I$41*E77^4 + '4th Order Polynomial TMP vs Res'!$J$41*E77^3 + '4th Order Polynomial TMP vs Res'!$K$41*E77^2 + '4th Order Polynomial TMP vs Res'!$L$41*E77 + '4th Order Polynomial TMP vs Res'!$M$41","v":17.043487730930394},-4.3487730930394264E-2]
[59,18,9434.2002863012112,{"$f":"IF(B78 <= VLOOKUP(Main!$N$22,Coefficients!$E$2:$H$28,4,FALSE),E78,NA())","v":9529.4952386880923},{"$f":"'4th Order Polynomial TMP vs Res'!$B$41+'4th Order Polynomial TMP vs Res'!$C$41*POWER(B78,1)+'4th Order Polynomial TMP vs Res'!$D$41*POWER(B78,2)+'4th Order Polynomial TMP vs Res'!$E$41*POWER(B78,3)+'4th Order Polynomial TMP vs Res'!$F$41*POWER(B78,4)","v":9529.4952386880923},9624.7901910749733,null,null,null,{"$f":"'4th Order Polynomial TMP vs Res'!$I$41*E78^4 + '4th Order Polynomial TMP vs Res'!$J$41*E78^3 + '4th Order Polynomial TMP vs Res'!$K$41*E78^2 + '4th Order Polynomial TMP vs Res'!$L$41*E78 + '4th Order Polynomial TMP vs Res'!$M$41","v":18.045872782145523},-4.5872782145522706E-2]
[60,19,9493.9962860704945,{"$f":"IF(B79 <= VLOOKUP(Main!$N$22,Coefficients!$E$2:$H$28,4,FALSE),E79,NA())","v":9589.8952384550448},{"$f":"'4th Order Polynomial TMP vs Res'!$B$41+'4th Order Polynomial TMP vs Res'!$C$41*POWER(B79,1)+'4th Order Polynomial TMP vs Res'!$D$41*POWER(B79,2)+'4th Order Polynomial TMP vs Res'!$E$41*POWER(B79,3)+'4th Order Polynomial TMP vs Res'!$F$41*POWER(B79,4)","v":9589.8952384550448},9685.7941908395951,null,null,null,{"$f":"'4th Order Polynomial TMP vs Res'!$I$41*E79^4 + '4th Order Polynomial TMP vs Res'!$J$41*E79^3 + '4th Order Polynomial TMP vs Res'!$K$41*E79^2 + '4th Order Polynomial TMP vs Res'!$L$41*E79 + '4th Order Polynomial TMP vs Res'!$M$41","v":19.048027743221212},-4.8027743221211949E-2]
[61,20,9554.0988798612889,{"$f":"IF(B80 <= VLOOKUP(Main!$N$22,Coefficients!$E$2:$H$28,4,FALSE),E80,NA())","v":9650.6049291528179},{"$f":"'4th Order Polynomial TMP vs Res'!$B$41+'4th Order Polynomial TMP vs Res'!$C$41*POWER(B80,1)+'4th Order Polynomial TMP vs Res'!$D$41*POWER(B80,2)+'4th Order Polynomial TMP vs Res'!$E$41*POWER(B80,3)+'4th Order Polynomial TMP vs Res'!$F$41*POWER(B80,4)","v":9650.6049291528179},9747.110978444347,null,null,null,{"$f":"'4th Order Polynomial TMP vs Res'!$I$41*E80^4 + '4th Order Polynomial TMP vs Res'!$J$41*E80^3 + '4th Order Polynomial TMP vs Res'!$K$41*E80^2 + '4th Order Polynomial TMP vs Res'!$L$41*E80 + '4th Order Polynomial TMP vs Res'!$M$41","v":20.049947371519011},-4.994737151901063E-2]
[62,21,9614.5085355553874,{"$f":"IF(B81 <= VLOOKUP(Main!$N$22,Coefficients!$E$2:$H$28,4,FALSE),E81,NA())","v":9711.6247833892794},{"$f":"'4th Order Polynomial TMP vs Res'!$B$41+'4th Order Polynomial TMP vs Res'!$C$41*POWER(B81,1)+'4th Order Polynomial TMP vs Res'!$D$41*POWER(B81,2)+'4th Order Polynomial TMP vs Res'!$E$41*POWER(B81,3)+'4th Order Polynomial TMP vs Res'!$F$41*POWER(B81,4)","v":9711.6247833892794},9808.7410312231714,null,null,null,{"$f":"'4th Order Polynomial TMP vs Res'!$I$41*E81^4 + '4th Order Polynomial TMP vs Res'!$J$41*E81^3 + '4th Order Polynomial TMP vs Res'!$K$41*E81^2 + '4th Order Polynomial TMP vs Res'!$L$41*E81 + '4th Order Polynomial TMP vs Res'!$M$41","v":21.051627333631757},-5.1627333631756755E-2]
[63,22,9675.2257270219088,{"$f":"IF(B82 <= VLOOKUP(Main!$N$22,Coefficients!$E$2:$H$28,4,FALSE),E82,NA())","v":9772.9552798201094},{"$f":"'4th Order Polynomial TMP vs Res'!$B$41+'4th Order Polynomial TMP vs Res'!$C$41*POWER(B82,1)+'4th Order Polynomial TMP vs Res'!$D$41*POWER(B82,2)+'4th Order Polynomial TMP vs Res'!$E$41*POWER(B82,3)+'4th Order Polynomial TMP vs Res'!$F$41*POWER(B82,4)","v":9772.9552798201094},9870.6848326183099,null,null,null,{"$f":"'4th Order Polynomial TMP vs Res'!$I$41*E82^4 + '4th Order Polynomial TMP vs Res'!$J$41*E82^3 + '4th Order Polynomial TMP vs Res'!$K$41*E82^2 + '4th Order Polynomial TMP vs Res'!$L$41*E82 + '4th Order Polynomial TMP vs Res'!$M$41","v":22.05306419505564},-5.3064195055640084E-2]
[64,23,9736.2509341173227,{"$f":"IF(B83 <= VLOOKUP(Main!$N$22,Coefficients!$E$2:$H$28,4,FALSE),E83,NA())","v":9834.5969031488112},{"$f":"'4th Order Polynomial TMP vs Res'!$B$41+'4th Order Polynomial TMP vs Res'!$C$41*POWER(B83,1)+'4th Order Polynomial TMP vs Res'!$D$41*POWER(B83,2)+'4th Order Polynomial TMP vs Res'!$E$41*POWER(B83,3)+'4th Order Polynomial TMP vs Res'!$F$41*POWER(B83,4)","v":9834.5969031488112},9932.9428721802997,null,null,null,{"$f":"'4th Order Polynomial TMP vs Res'!$I$41*E83^4 + '4th Order Polynomial TMP vs Res'!$J$41*E83^3 + '4th Order Polynomial TMP vs Res'!$K$41*E83^2 + '4th Order Polynomial TMP vs Res'!$L$41*E83 + '4th Order Polynomial TMP vs Res'!$M$41","v":23.054255409223458},-5.4255409223458173E-2]
[65,24,9797.5846426854132,{"$f":"IF(B84 <= VLOOKUP(Main!$N$22,Coefficients!$E$2:$H$28,4,FALSE),E84,NA())","v":9896.5501441266806},{"$f":"'4th Order Polynomial TMP vs Res'!$B$41+'4th Order Polynomial TMP vs Res'!$C$41*POWER(B84,1)+'4th Order Polynomial TMP vs Res'!$D$41*POWER(B84,2)+'4th Order Polynomial TMP vs Res'!$E$41*POWER(B84,3)+'4th Order Polynomial TMP vs Res'!$F$41*POWER(B84,4)","v":9896.5501441266806},9995.515645567948,null,null,null,{"$f":"'4th Order Polynomial TMP vs Res'!$I$41*E84^4 + '4th Order Polynomial TMP vs Res'!$J$41*E84^3 + '4th Order Polynomial TMP vs Res'!$K$41*E84^2 + '4th Order Polynomial TMP vs Res'!$L$41*E84 + '4th Order Polynomial TMP vs Res'!$M$41","v":24.055199305887413},{"$f":"B84-J84","v":-5.5199305887413175E-2}]
[66,25,9859.227344557321,{"$f":"IF(B85 <= VLOOKUP(Main!$N$22,Coefficients!$E$2:$H$28,4,FALSE),E85,NA())","v":9958.8154995528494},{"$f":"'4th Order Polynomial TMP vs Res'!$B$41+'4th Order Polynomial TMP vs Res'!$C$41*POWER(B85,1)+'4th Order Polynomial TMP vs Res'!$D$41*POWER(B85,2)+'4th Order Polynomial TMP vs Res'!$E$41*POWER(B85,3)+'4th Order Polynomial TMP vs Res'!$F$41*POWER(B85,4)","v":9958.8154995528494},10058.403654548378,null,null,null,{"$f":"'4th Order Polynomial TMP vs Res'!$I$41*E85^4 + '4th Order Polynomial TMP vs Res'!$J$41*E85^3 + '4th Order Polynomial TMP vs Res'!$K$41*E85^2 + '4th Order Polynomial TMP vs Res'!$L$41*E85 + '4th Order Polynomial TMP vs Res'!$M$41","v":25.055895078836556},-5.5895078836556422E-2]
[67,{"$f":"B85+1","v":26},9921.179537551503,{"$f":"IF(B86 <= VLOOKUP(Main!$N$22,Coefficients!$E$2:$H$28,4,FALSE),E86,NA())","v":10021.393472274245},{"$f":"'4th Order Polynomial TMP vs Res'!$B$41+'4th Order Polynomial TMP vs Res'!$C$41*POWER(B86,1)+'4th Order Polynomial TMP vs Res'!$D$41*POWER(B86,2)+'4th Order Polynomial TMP vs Res'!$E$41*POWER(B86,3)+'4th Order Polynomial TMP vs Res'!$F$41*POWER(B86,4)","v":10021.393472274245},10121.607406996987,null,null,null,{"$f":"'4th Order Polynomial TMP vs Res'!$I$41*E86^4 + '4th Order Polynomial TMP vs Res'!$J$41*E86^3 + '4th Order Polynomial TMP vs Res'!$K$41*E86^2 + '4th Order Polynomial TMP vs Res'!$L$41*E86 + '4th Order Polynomial TMP vs Res'!$M$41","v":26.056342772932851},-5.6342772932850949E-2]
[68,27,9983.44172547376,{"$f":"IF(B87 <= VLOOKUP(Main!$N$22,Coefficients!$E$2:$H$28,4,FALSE),E87,NA())","v":10084.284571185617},{"$f":"'4th Order Polynomial TMP vs Res'!$B$41+'4th Order Polynomial TMP vs Res'!$C$41*POWER(B87,1)+'4th Order Polynomial TMP vs Res'!$D$41*POWER(B87,2)+'4th Order Polynomial TMP vs Res'!$E$41*POWER(B87,3)+'4th Order Polynomial TMP vs Res'!$F$41*POWER(B87,4)","v":10084.284571185617},10185.127416897474,null,null,null,{"$f":"'4th Order Polynomial TMP vs Res'!$I$41*E87^4 + '4th Order Polynomial TMP vs Res'!$J$41*E87^3 + '4th Order Polynomial TMP vs Res'!$K$41*E87^2 + '4th Order Polynomial TMP vs Res'!$L$41*E87 + '4th Order Polynomial TMP vs Res'!$M$41","v":27.056543270451755},-5.6543270451754779E-2]
[69,28,10046.014418117225,{"$f":"IF(B88 <= VLOOKUP(Main!$N$22,Coefficients!$E$2:$H$28,4,FALSE),E88,NA())","v":10147.489311229521},{"$f":"'4th Order Polynomial TMP vs Res'!$B$41+'4th Order Polynomial TMP vs Res'!$C$41*POWER(B88,1)+'4th Order Polynomial TMP vs Res'!$D$41*POWER(B88,2)+'4th Order Polynomial TMP vs Res'!$E$41*POWER(B88,3)+'4th Order Polynomial TMP vs Res'!$F$41*POWER(B88,4)","v":10147.489311229521},10248.964204341817,null,null,null,{"$f":"'4th Order Polynomial TMP vs Res'!$I$41*E88^4 + '4th Order Polynomial TMP vs Res'!$J$41*E88^3 + '4th Order Polynomial TMP vs Res'!$K$41*E88^2 + '4th Order Polynomial TMP vs Res'!$L$41*E88 + '4th Order Polynomial TMP vs Res'!$M$41","v":28.056498276712034},-5.6498276712034112E-2]
[70,29,10108.898131262365,{"$f":"IF(B89 <= VLOOKUP(Main!$N$22,Coefficients!$E$2:$H$28,4,FALSE),E89,NA())","v":10211.00821339633},{"$f":"'4th Order Polynomial TMP vs Res'!$B$41+'4th Order Polynomial TMP vs Res'!$C$41*POWER(B89,1)+'4th Order Polynomial TMP vs Res'!$D$41*POWER(B89,2)+'4th Order Polynomial TMP vs Res'!$E$41*POWER(B89,3)+'4th Order Polynomial TMP vs Res'!$F$41*POWER(B89,4)","v":10211.00821339633},10313.118295530294,null,null,null,{"$f":"'4th Order Polynomial TMP vs Res'!$I$41*E89^4 + '4th Order Polynomial TMP vs Res'!$J$41*E89^3 + '4th Order Polynomial TMP vs Res'!$K$41*E89^2 + '4th Order Polynomial TMP vs Res'!$L$41*E89 + '4th Order Polynomial TMP vs Res'!$M$41","v":29.056210304977014},-5.6210304977014403E-2]
[71,30,10172.093386676985,{"$f":"IF(B90 <= VLOOKUP(Main!$N$22,Coefficients!$E$2:$H$28,4,FALSE),E90,NA())","v":10274.841804724227},{"$f":"'4th Order Polynomial TMP vs Res'!$B$41+'4th Order Polynomial TMP vs Res'!$C$41*POWER(B90,1)+'4th Order Polynomial TMP vs Res'!$D$41*POWER(B90,2)+'4th Order Polynomial TMP vs Res'!$E$41*POWER(B90,3)+'4th Order Polynomial TMP vs Res'!$F$41*POWER(B90,4)","v":10274.841804724227},10377.590222771469,null,null,null,{"$f":"'4th Order Polynomial TMP vs Res'!$I$41*E90^4 + '4th Order Polynomial TMP vs Res'!$J$41*E90^3 + '4th Order Polynomial TMP vs Res'!$K$41*E90^2 + '4th Order Polynomial TMP vs Res'!$L$41*E90 + '4th Order Polynomial TMP vs Res'!$M$41","v":30.055682660614195},-5.5682660614195356E-2]
[72,31,10235.600712116217,{"$f":"IF(B91 <= VLOOKUP(Main!$N$22,Coefficients!$E$2:$H$28,4,FALSE),E91,NA())","v":10338.990618299209},{"$f":"'4th Order Polynomial TMP vs Res'!$B$41+'4th Order Polynomial TMP vs Res'!$C$41*POWER(B91,1)+'4th Order Polynomial TMP vs Res'!$D$41*POWER(B91,2)+'4th Order Polynomial TMP vs Res'!$E$41*POWER(B91,3)+'4th Order Polynomial TMP vs Res'!$F$41*POWER(B91,4)","v":10338.990618299209},10442.380524482202,null,null,null,{"$f":"'4th Order Polynomial TMP vs Res'!$I$41*E91^4 + '4th Order Polynomial TMP vs Res'!$J$41*E91^3 + '4th Order Polynomial TMP vs Res'!$K$41*E91^2 + '4th Order Polynomial TMP vs Res'!$L$41*E91 + '4th Order Polynomial TMP vs Res'!$M$41","v":31.054919424493107},-5.4919424493107272E-2]
[73,32,10299.420641322537,{"$f":"IF(B92 <= VLOOKUP(Main!$N$22,Coefficients!$E$2:$H$28,4,FALSE),E92,NA())","v":10403.455193255088},{"$f":"'4th Order Polynomial TMP vs Res'!$B$41+'4th Order Polynomial TMP vs Res'!$C$41*POWER(B92,1)+'4th Order Polynomial TMP vs Res'!$D$41*POWER(B92,2)+'4th Order Polynomial TMP vs Res'!$E$41*POWER(B92,3)+'4th Order Polynomial TMP vs Res'!$F$41*POWER(B92,4)","v":10403.455193255088},10507.489745187639,null,null,null,{"$f":"'4th Order Polynomial TMP vs Res'!$I$41*E92^4 + '4th Order Polynomial TMP vs Res'!$J$41*E92^3 + '4th Order Polynomial TMP vs Res'!$K$41*E92^2 + '4th Order Polynomial TMP vs Res'!$L$41*E92 + '4th Order Polynomial TMP vs Res'!$M$41","v":32.053925435607823},-5.3925435607823147E-2]
[74,33,10363.553714025746,{"$f":"IF(B93 <= VLOOKUP(Main!$N$22,Coefficients!$E$2:$H$28,4,FALSE),E93,NA())","v":10468.23607477348},{"$f":"'4th Order Polynomial TMP vs Res'!$B$41+'4th Order Polynomial TMP vs Res'!$C$41*POWER(B93,1)+'4th Order Polynomial TMP vs Res'!$D$41*POWER(B93,2)+'4th Order Polynomial TMP vs Res'!$E$41*POWER(B93,3)+'4th Order Polynomial TMP vs Res'!$F$41*POWER(B93,4)","v":10468.23607477348},10572.918435521215,null,null,null,{"$f":"'4th Order Polynomial TMP vs Res'!$I$41*E93^4 + '4th Order Polynomial TMP vs Res'!$J$41*E93^3 + '4th Order Polynomial TMP vs Res'!$K$41*E93^2 + '4th Order Polynomial TMP vs Res'!$L$41*E93 + '4th Order Polynomial TMP vs Res'!$M$41","v":33.0527062729048},-5.2706272904799789E-2]
[75,34,10428.000475942988,{"$f":"IF(B94 <= VLOOKUP(Main!$N$22,Coefficients!$E$2:$H$28,4,FALSE),E94,NA())","v":10533.333814083828},{"$f":"'4th Order Polynomial TMP vs Res'!$B$41+'4th Order Polynomial TMP vs Res'!$C$41*POWER(B94,1)+'4th Order Polynomial TMP vs Res'!$D$41*POWER(B94,2)+'4th Order Polynomial TMP vs Res'!$E$41*POWER(B94,3)+'4th Order Polynomial TMP vs Res'!$F$41*POWER(B94,4)","v":10533.333814083828},10638.667152224667,null,null,null,{"$f":"'4th Order Polynomial TMP vs Res'!$I$41*E94^4 + '4th Order Polynomial TMP vs Res'!$J$41*E94^3 + '4th Order Polynomial TMP vs Res'!$K$41*E94^2 + '4th Order Polynomial TMP vs Res'!$L$41*E94 + '4th Order Polynomial TMP vs Res'!$M$41","v":34.051268236298654},-5.1268236298653846E-2]
[76,35,10492.761478778735,{"$f":"IF(B95 <= VLOOKUP(Main!$N$22,Coefficients!$E$2:$H$28,4,FALSE),E95,NA())","v":10598.748968463369},{"$f":"'4th Order Polynomial TMP vs Res'!$B$41+'4th Order Polynomial TMP vs Res'!$C$41*POWER(B95,1)+'4th Order Polynomial TMP vs Res'!$D$41*POWER(B95,2)+'4th Order Polynomial TMP vs Res'!$E$41*POWER(B95,3)+'4th Order Polynomial TMP vs Res'!$F$41*POWER(B95,4)","v":10598.748968463369},10704.736458148003,null,null,null,{"$f":"'4th Order Polynomial TMP vs Res'!$I$41*E95^4 + '4th Order Polynomial TMP vs Res'!$J$41*E95^3 + '4th Order Polynomial TMP vs Res'!$K$41*E95^2 + '4th Order Polynomial TMP vs Res'!$L$41*E95 + '4th Order Polynomial TMP vs Res'!$M$41","v":35.049618326859957},-4.9618326859956596E-2]
[77,36,10557.837280224801,{"$f":"IF(B96 <= VLOOKUP(Main!$N$22,Coefficients!$E$2:$H$28,4,FALSE),E96,NA())","v":10664.482101237174},{"$f":"'4th Order Polynomial TMP vs Res'!$B$41+'4th Order Polynomial TMP vs Res'!$C$41*POWER(B96,1)+'4th Order Polynomial TMP vs Res'!$D$41*POWER(B96,2)+'4th Order Polynomial TMP vs Res'!$E$41*POWER(B96,3)+'4th Order Polynomial TMP vs Res'!$F$41*POWER(B96,4)","v":10664.482101237174},10771.126922249547,null,null,null,{"$f":"'4th Order Polynomial TMP vs Res'!$I$41*E96^4 + '4th Order Polynomial TMP vs Res'!$J$41*E96^3 + '4th Order Polynomial TMP vs Res'!$K$41*E96^2 + '4th Order Polynomial TMP vs Res'!$L$41*E96 + '4th Order Polynomial TMP vs Res'!$M$41","v":36.047764226152651},-4.776422615265119E-2]
[78,37,10623.228443960326,{"$f":"IF(B97 <= VLOOKUP(Main!$N$22,Coefficients!$E$2:$H$28,4,FALSE),E97,NA())","v":10730.533781778107},{"$f":"'4th Order Polynomial TMP vs Res'!$B$41+'4th Order Polynomial TMP vs Res'!$C$41*POWER(B97,1)+'4th Order Polynomial TMP vs Res'!$D$41*POWER(B97,2)+'4th Order Polynomial TMP vs Res'!$E$41*POWER(B97,3)+'4th Order Polynomial TMP vs Res'!$F$41*POWER(B97,4)","v":10730.533781778107},10837.839119595888,null,null,null,{"$f":"'4th Order Polynomial TMP vs Res'!$I$41*E97^4 + '4th Order Polynomial TMP vs Res'!$J$41*E97^3 + '4th Order Polynomial TMP vs Res'!$K$41*E97^2 + '4th Order Polynomial TMP vs Res'!$L$41*E97 + '4th Order Polynomial TMP vs Res'!$M$41","v":37.045714274707507},-4.5714274707506775E-2]
[79,38,10688.935539651789,{"$f":"IF(B98 <= VLOOKUP(Main!$N$22,Coefficients!$E$2:$H$28,4,FALSE),E98,NA())","v":10796.904585506858},{"$f":"'4th Order Polynomial TMP vs Res'!$B$41+'4th Order Polynomial TMP vs Res'!$C$41*POWER(B98,1)+'4th Order Polynomial TMP vs Res'!$D$41*POWER(B98,2)+'4th Order Polynomial TMP vs Res'!$E$41*POWER(B98,3)+'4th Order Polynomial TMP vs Res'!$F$41*POWER(B98,4)","v":10796.904585506858},10904.873631361927,null,null,null,{"$f":"'4th Order Polynomial TMP vs Res'!$I$41*E98^4 + '4th Order Polynomial TMP vs Res'!$J$41*E98^3 + '4th Order Polynomial TMP vs Res'!$K$41*E98^2 + '4th Order Polynomial TMP vs Res'!$L$41*E98 + '4th Order Polynomial TMP vs Res'!$M$41","v":38.043477449608133},-4.3477449608133156E-2]
[80,39,10754.959142953006,{"$f":"IF(B99 <= VLOOKUP(Main!$N$22,Coefficients!$E$2:$H$28,4,FALSE),E99,NA())","v":10863.595093891925},{"$f":"'4th Order Polynomial TMP vs Res'!$B$41+'4th Order Polynomial TMP vs Res'!$C$41*POWER(B99,1)+'4th Order Polynomial TMP vs Res'!$D$41*POWER(B99,2)+'4th Order Polynomial TMP vs Res'!$E$41*POWER(B99,3)+'4th Order Polynomial TMP vs Res'!$F$41*POWER(B99,4)","v":10863.595093891925},10972.231044830844,null,null,null,{"$f":"'4th Order Polynomial TMP vs Res'!$I$41*E99^4 + '4th Order Polynomial TMP vs Res'!$J$41*E99^3 + '4th Order Polynomial TMP vs Res'!$K$41*E99^2 + '4th Order Polynomial TMP vs Res'!$L$41*E99 + '4th Order Polynomial TMP vs Res'!$M$41","v":39.041063341172162},-4.1063341172161927E-2]
[81,40,10821.299835505122,{"$f":"IF(B100 <= VLOOKUP(Main!$N$22,Coefficients!$E$2:$H$28,4,FALSE),E100,NA())","v":10930.605894449618},{"$f":"'4th Order Polynomial TMP vs Res'!$B$41+'4th Order Polynomial TMP vs Res'!$C$41*POWER(B100,1)+'4th Order Polynomial TMP vs Res'!$D$41*POWER(B100,2)+'4th Order Polynomial TMP vs Res'!$E$41*POWER(B100,3)+'4th Order Polynomial TMP vs Res'!$F$41*POWER(B100,4)","v":10930.605894449618},11039.911953394114,null,null,null,{"$f":"'4th Order Polynomial TMP vs Res'!$I$41*E100^4 + '4th Order Polynomial TMP vs Res'!$J$41*E100^3 + '4th Order Polynomial TMP vs Res'!$K$41*E100^2 + '4th Order Polynomial TMP vs Res'!$L$41*E100 + '4th Order Polynomial TMP vs Res'!$M$41","v":40.038482128707926},-3.8482128707926222E-2]
[82,41,10887.958204936616,{"$f":"IF(B101 <= VLOOKUP(Main!$N$22,Coefficients!$E$2:$H$28,4,FALSE),E101,NA())","v":10997.937580744057},{"$f":"'4th Order Polynomial TMP vs Res'!$B$41+'4th Order Polynomial TMP vs Res'!$C$41*POWER(B101,1)+'4th Order Polynomial TMP vs Res'!$D$41*POWER(B101,2)+'4th Order Polynomial TMP vs Res'!$E$41*POWER(B101,3)+'4th Order Polynomial TMP vs Res'!$F$41*POWER(B101,4)","v":10997.937580744057},11107.916956551499,null,null,null,{"$f":"'4th Order Polynomial TMP vs Res'!$I$41*E101^4 + '4th Order Polynomial TMP vs Res'!$J$41*E101^3 + '4th Order Polynomial TMP vs Res'!$K$41*E101^2 + '4th Order Polynomial TMP vs Res'!$L$41*E101 + '4th Order Polynomial TMP vs Res'!$M$41","v":41.035744555325721},-3.5744555325720739E-2]
[83,42,10954.934844863312,{"$f":"IF(B102 <= VLOOKUP(Main!$N$22,Coefficients!$E$2:$H$28,4,FALSE),E102,NA())","v":11065.590752387183},{"$f":"'4th Order Polynomial TMP vs Res'!$B$41+'4th Order Polynomial TMP vs Res'!$C$41*POWER(B102,1)+'4th Order Polynomial TMP vs Res'!$D$41*POWER(B102,2)+'4th Order Polynomial TMP vs Res'!$E$41*POWER(B102,3)+'4th Order Polynomial TMP vs Res'!$F$41*POWER(B102,4)","v":11065.590752387183},11176.246659911054,null,null,null,{"$f":"'4th Order Polynomial TMP vs Res'!$I$41*E102^4 + '4th Order Polynomial TMP vs Res'!$J$41*E102^3 + '4th Order Polynomial TMP vs Res'!$K$41*E102^2 + '4th Order Polynomial TMP vs Res'!$L$41*E102 + '4th Order Polynomial TMP vs Res'!$M$41","v":42.032861901782383},-3.2861901782382574E-2]
[84,43,11022.230354888356,{"$f":"IF(B103 <= VLOOKUP(Main!$N$22,Coefficients!$E$2:$H$28,4,FALSE),E103,NA())","v":11133.566015038743},{"$f":"'4th Order Polynomial TMP vs Res'!$B$41+'4th Order Polynomial TMP vs Res'!$C$41*POWER(B103,1)+'4th Order Polynomial TMP vs Res'!$D$41*POWER(B103,2)+'4th Order Polynomial TMP vs Res'!$E$41*POWER(B103,3)+'4th Order Polynomial TMP vs Res'!$F$41*POWER(B103,4)","v":11133.566015038743},11244.90167518913,null,null,null,{"$f":"'4th Order Polynomial TMP vs Res'!$I$41*E103^4 + '4th Order Polynomial TMP vs Res'!$J$41*E103^3 + '4th Order Polynomial TMP vs Res'!$K$41*E103^2 + '4th Order Polynomial TMP vs Res'!$L$41*E103 + '4th Order Polynomial TMP vs Res'!$M$41","v":43.029845959339752},-2.9845959339752426E-2]
[85,44,11089.845340602236,{"$f":"IF(B104 <= VLOOKUP(Main!$N$22,Coefficients!$E$2:$H$28,4,FALSE),E104,NA())","v":11201.863980406299},{"$f":"'4th Order Polynomial TMP vs Res'!$B$41+'4th Order Polynomial TMP vs Res'!$C$41*POWER(B104,1)+'4th Order Polynomial TMP vs Res'!$D$41*POWER(B104,2)+'4th Order Polynomial TMP vs Res'!$E$41*POWER(B104,3)+'4th Order Polynomial TMP vs Res'!$F$41*POWER(B104,4)","v":11201.863980406299},11313.882620210361,null,null,null,{"$f":"'4th Order Polynomial TMP vs Res'!$I$41*E104^4 + '4th Order Polynomial TMP vs Res'!$J$41*E104^3 + '4th Order Polynomial TMP vs Res'!$K$41*E104^2 + '4th Order Polynomial TMP vs Res'!$L$41*E104 + '4th Order Polynomial TMP vs Res'!$M$41","v":44.026709001613199},-2.670900161319878E-2]
[86,45,11157.78041358277,{"$f":"IF(B105 <= VLOOKUP(Main!$N$22,Coefficients!$E$2:$H$28,4,FALSE),E105,NA())","v":11270.485266245223},{"$f":"'4th Order Polynomial TMP vs Res'!$B$41+'4th Order Polynomial TMP vs Res'!$C$41*POWER(B105,1)+'4th Order Polynomial TMP vs Res'!$D$41*POWER(B105,2)+'4th Order Polynomial TMP vs Res'!$E$41*POWER(B105,3)+'4th Order Polynomial TMP vs Res'!$F$41*POWER(B105,4)","v":11270.485266245223},11383.190118907676,null,null,null,{"$f":"'4th Order Polynomial TMP vs Res'!$I$41*E105^4 + '4th Order Polynomial TMP vs Res'!$J$41*E105^3 + '4th Order Polynomial TMP vs Res'!$K$41*E105^2 + '4th Order Polynomial TMP vs Res'!$L$41*E105 + '4th Order Polynomial TMP vs Res'!$M$41","v":45.023463755391333},-2.3463755391333052E-2]
[87,46,11226.036191395116,{"$f":"IF(B106 <= VLOOKUP(Main!$N$22,Coefficients!$E$2:$H$28,4,FALSE),E106,NA())","v":11339.430496358704},{"$f":"'4th Order Polynomial TMP vs Res'!$B$41+'4th Order Polynomial TMP vs Res'!$C$41*POWER(B106,1)+'4th Order Polynomial TMP vs Res'!$D$41*POWER(B106,2)+'4th Order Polynomial TMP vs Res'!$E$41*POWER(B106,3)+'4th Order Polynomial TMP vs Res'!$F$41*POWER(B106,4)","v":11339.430496358704},11452.824801322291,null,null,null,{"$f":"'4th Order Polynomial TMP vs Res'!$I$41*E106^4 + '4th Order Polynomial TMP vs Res'!$J$41*E106^3 + '4th Order Polynomial TMP vs Res'!$K$41*E106^2 + '4th Order Polynomial TMP vs Res'!$L$41*E106 + '4th Order Polynomial TMP vs Res'!$M$41","v":46.020123370401166},-2.012337040116563E-2]
[88,47,11294.613297591763,{"$f":"IF(B107 <= VLOOKUP(Main!$N$22,Coefficients!$E$2:$H$28,4,FALSE),E107,NA())","v":11408.70030059774},{"$f":"'4th Order Polynomial TMP vs Res'!$B$41+'4th Order Polynomial TMP vs Res'!$C$41*POWER(B107,1)+'4th Order Polynomial TMP vs Res'!$D$41*POWER(B107,2)+'4th Order Polynomial TMP vs Res'!$E$41*POWER(B107,3)+'4th Order Polynomial TMP vs Res'!$F$41*POWER(B107,4)","v":11408.70030059774},11522.787303603718,null,null,null,{"$f":"'4th Order Polynomial TMP vs Res'!$I$41*E107^4 + '4th Order Polynomial TMP vs Res'!$J$41*E107^3 + '4th Order Polynomial TMP vs Res'!$K$41*E107^2 + '4th Order Polynomial TMP vs Res'!$L$41*E107 + '4th Order Polynomial TMP vs Res'!$M$41","v":47.016701387997671},-1.6701387997670736E-2]
[89,48,11363.512361712534,{"$f":"IF(B108 <= VLOOKUP(Main!$N$22,Coefficients!$E$2:$H$28,4,FALSE),E108,NA())","v":11478.295314861145},{"$f":"'4th Order Polynomial TMP vs Res'!$B$41+'4th Order Polynomial TMP vs Res'!$C$41*POWER(B108,1)+'4th Order Polynomial TMP vs Res'!$D$41*POWER(B108,2)+'4th Order Polynomial TMP vs Res'!$E$41*POWER(B108,3)+'4th Order Polynomial TMP vs Res'!$F$41*POWER(B108,4)","v":11478.295314861145},11593.078268009756,null,null,null,{"$f":"'4th Order Polynomial TMP vs Res'!$I$41*E108^4 + '4th Order Polynomial TMP vs Res'!$J$41*E108^3 + '4th Order Polynomial TMP vs Res'!$K$41*E108^2 + '4th Order Polynomial TMP vs Res'!$L$41*E108 + '4th Order Polynomial TMP vs Res'!$M$41","v":48.013211708755136},-1.3211708755136442E-2]
[90,49,11432.734019284584,{"$f":"IF(B109 <= VLOOKUP(Main!$N$22,Coefficients!$E$2:$H$28,4,FALSE),E109,NA())","v":11548.21618109554},{"$f":"'4th Order Polynomial TMP vs Res'!$B$41+'4th Order Polynomial TMP vs Res'!$C$41*POWER(B109,1)+'4th Order Polynomial TMP vs Res'!$D$41*POWER(B109,2)+'4th Order Polynomial TMP vs Res'!$E$41*POWER(B109,3)+'4th Order Polynomial TMP vs Res'!$F$41*POWER(B109,4)","v":11548.21618109554},11663.698342906497,null,null,null,{"$f":"'4th Order Polynomial TMP vs Res'!$I$41*E109^4 + '4th Order Polynomial TMP vs Res'!$J$41*E109^3 + '4th Order Polynomial TMP vs Res'!$K$41*E109^2 + '4th Order Polynomial TMP vs Res'!$L$41*E109 + '4th Order Polynomial TMP vs Res'!$M$41","v":49.009668558933697},-9.6685589336971134E-3]
[91,50,11502.278911822412,{"$f":"IF(B110 <= VLOOKUP(Main!$N$22,Coefficients!$E$2:$H$28,4,FALSE),E110,NA())","v":11618.463547295365},{"$f":"'4th Order Polynomial TMP vs Res'!$B$41+'4th Order Polynomial TMP vs Res'!$C$41*POWER(B110,1)+'4th Order Polynomial TMP vs Res'!$D$41*POWER(B110,2)+'4th Order Polynomial TMP vs Res'!$E$41*POWER(B110,3)+'4th Order Polynomial TMP vs Res'!$F$41*POWER(B110,4)","v":11618.463547295365},11734.648182768318,null,null,null,{"$f":"'4th Order Polynomial TMP vs Res'!$I$41*E110^4 + '4th Order Polynomial TMP vs Res'!$J$41*E110^3 + '4th Order Polynomial TMP vs Res'!$K$41*E110^2 + '4th Order Polynomial TMP vs Res'!$L$41*E110 + '4th Order Polynomial TMP vs Res'!$M$41","v":50.006086455800926},-6.0864558009257053E-3]
[92,51,11572.147686827842,{"$f":"IF(B111 <= VLOOKUP(Main!$N$22,Coefficients!$E$2:$H$28,4,FALSE),E111,NA())","v":11689.038067502872},{"$f":"'4th Order Polynomial TMP vs Res'!$B$41+'4th Order Polynomial TMP vs Res'!$C$41*POWER(B111,1)+'4th Order Polynomial TMP vs Res'!$D$41*POWER(B111,2)+'4th Order Polynomial TMP vs Res'!$E$41*POWER(B111,3)+'4th Order Polynomial TMP vs Res'!$F$41*POWER(B111,4)","v":11689.038067502872},11805.928448177901,null,null,null,{"$f":"'4th Order Polynomial TMP vs Res'!$I$41*E111^4 + '4th Order Polynomial TMP vs Res'!$J$41*E111^3 + '4th Order Polynomial TMP vs Res'!$K$41*E111^2 + '4th Order Polynomial TMP vs Res'!$L$41*E111 + '4th Order Polynomial TMP vs Res'!$M$41","v":51.002480171779041},-2.4801717790410294E-3]
[93,52,11642.340997790041,{"$f":"IF(B112 <= VLOOKUP(Main!$N$22,Coefficients!$E$2:$H$28,4,FALSE),E112,NA())","v":11759.940401808122},{"$f":"'4th Order Polynomial TMP vs Res'!$B$41+'4th Order Polynomial TMP vs Res'!$C$41*POWER(B112,1)+'4th Order Polynomial TMP vs Res'!$D$41*POWER(B112,2)+'4th Order Polynomial TMP vs Res'!$E$41*POWER(B112,3)+'4th Order Polynomial TMP vs Res'!$F$41*POWER(B112,4)","v":11759.940401808122},11877.539805826204,null,null,null,{"$f":"'4th Order Polynomial TMP vs Res'!$I$41*E112^4 + '4th Order Polynomial TMP vs Res'!$J$41*E112^3 + '4th Order Polynomial TMP vs Res'!$K$41*E112^2 + '4th Order Polynomial TMP vs Res'!$L$41*E112 + '4th Order Polynomial TMP vs Res'!$M$41","v":51.998864697397039},1.1353026029610191E-3]
[94,53,11712.859504185497,{"$f":"IF(B113 <= VLOOKUP(Main!$N$22,Coefficients!$E$2:$H$28,4,FALSE),E113,NA())","v":11831.171216348986},{"$f":"'4th Order Polynomial TMP vs Res'!$B$41+'4th Order Polynomial TMP vs Res'!$C$41*POWER(B113,1)+'4th Order Polynomial TMP vs Res'!$D$41*POWER(B113,2)+'4th Order Polynomial TMP vs Res'!$E$41*POWER(B113,3)+'4th Order Polynomial TMP vs Res'!$F$41*POWER(B113,4)","v":11831.171216348986},11949.482928512476,null,null,null,{"$f":"'4th Order Polynomial TMP vs Res'!$I$41*E113^4 + '4th Order Polynomial TMP vs Res'!$J$41*E113^3 + '4th Order Polynomial TMP vs Res'!$K$41*E113^2 + '4th Order Polynomial TMP vs Res'!$L$41*E113 + '4th Order Polynomial TMP vs Res'!$M$41","v":52.995255203018132},4.7447969818676938E-3]
[95,54,11783.703871478048,{"$f":"IF(B114 <= VLOOKUP(Main!$N$22,Coefficients!$E$2:$H$28,4,FALSE),E114,NA())","v":11902.73118331116},{"$f":"'4th Order Polynomial TMP vs Res'!$B$41+'4th Order Polynomial TMP vs Res'!$C$41*POWER(B114,1)+'4th Order Polynomial TMP vs Res'!$D$41*POWER(B114,2)+'4th Order Polynomial TMP vs Res'!$E$41*POWER(B114,3)+'4th Order Polynomial TMP vs Res'!$F$41*POWER(B114,4)","v":11902.73118331116},12021.758495144271,null,null,null,{"$f":"'4th Order Polynomial TMP vs Res'!$I$41*E114^4 + '4th Order Polynomial TMP vs Res'!$J$41*E114^3 + '4th Order Polynomial TMP vs Res'!$K$41*E114^2 + '4th Order Polynomial TMP vs Res'!$L$41*E114 + '4th Order Polynomial TMP vs Res'!$M$41","v":53.991666999319307},8.3330006806932033E-3]
[96,55,11854.874771118857,{"$f":"IF(B115 <= VLOOKUP(Main!$N$22,Coefficients!$E$2:$H$28,4,FALSE),E115,NA())","v":11974.620980928139},{"$f":"'4th Order Polynomial TMP vs Res'!$B$41+'4th Order Polynomial TMP vs Res'!$C$41*POWER(B115,1)+'4th Order Polynomial TMP vs Res'!$D$41*POWER(B115,2)+'4th Order Polynomial TMP vs Res'!$E$41*POWER(B115,3)+'4th Order Polynomial TMP vs Res'!$F$41*POWER(B115,4)","v":11974.620980928139},12094.367190737421,null,null,null,{"$f":"'4th Order Polynomial TMP vs Res'!$I$41*E115^4 + '4th Order Polynomial TMP vs Res'!$J$41*E115^3 + '4th Order Polynomial TMP vs Res'!$K$41*E115^2 + '4th Order Polynomial TMP vs Res'!$L$41*E115 + '4th Order Polynomial TMP vs Res'!$M$41","v":54.988115496494459},1.1884503505541488E-2]
[97,56,11926.372880546427,{"$f":"IF(B116 <= VLOOKUP(Main!$N$22,Coefficients!$E$2:$H$28,4,FALSE),E116,NA())","v":12046.84129348124},{"$f":"'4th Order Polynomial TMP vs Res'!$B$41+'4th Order Polynomial TMP vs Res'!$C$41*POWER(B116,1)+'4th Order Polynomial TMP vs Res'!$D$41*POWER(B116,2)+'4th Order Polynomial TMP vs Res'!$E$41*POWER(B116,3)+'4th Order Polynomial TMP vs Res'!$F$41*POWER(B116,4)","v":12046.84129348124},12167.309706416054,null,null,null,{"$f":"'4th Order Polynomial TMP vs Res'!$I$41*E116^4 + '4th Order Polynomial TMP vs Res'!$J$41*E116^3 + '4th Order Polynomial TMP vs Res'!$K$41*E116^2 + '4th Order Polynomial TMP vs Res'!$L$41*E116 + '4th Order Polynomial TMP vs Res'!$M$41","v":55.984616162154282},{"$f":"B116-J116","v":1.5383837845718062E-2}]
[98,57,11998.198883186591,{"$f":"IF(B117 <= VLOOKUP(Main!$N$22,Coefficients!$E$2:$H$28,4,FALSE),E117,NA())","v":12119.392811299587},{"$f":"'4th Order Polynomial TMP vs Res'!$B$41+'4th Order Polynomial TMP vs Res'!$C$41*POWER(B117,1)+'4th Order Polynomial TMP vs Res'!$D$41*POWER(B117,2)+'4th Order Polynomial TMP vs Res'!$E$41*POWER(B117,3)+'4th Order Polynomial TMP vs Res'!$F$41*POWER(B117,4)","v":12119.392811299587},12240.586739412583,null,null,null,{"$f":"'4th Order Polynomial TMP vs Res'!$I$41*E117^4 + '4th Order Polynomial TMP vs Res'!$J$41*E117^3 + '4th Order Polynomial TMP vs Res'!$K$41*E117^2 + '4th Order Polynomial TMP vs Res'!$L$41*E117 + '4th Order Polynomial TMP vs Res'!$M$41","v":56.981184477894828},1.8815522105171567E-2]
[99,58,12070.353468452518,{"$f":"IF(B118 <= VLOOKUP(Main!$N$22,Coefficients!$E$2:$H$28,4,FALSE),E118,NA())","v":12192.276230760121},{"$f":"'4th Order Polynomial TMP vs Res'!$B$41+'4th Order Polynomial TMP vs Res'!$C$41*POWER(B118,1)+'4th Order Polynomial TMP vs Res'!$D$41*POWER(B118,2)+'4th Order Polynomial TMP vs Res'!$E$41*POWER(B118,3)+'4th Order Polynomial TMP vs Res'!$F$41*POWER(B118,4)","v":12192.276230760121},12314.198993067723,null,null,null,{"$f":"'4th Order Polynomial TMP vs Res'!$I$41*E118^4 + '4th Order Polynomial TMP vs Res'!$J$41*E118^3 + '4th Order Polynomial TMP vs Res'!$K$41*E118^2 + '4th Order Polynomial TMP vs Res'!$L$41*E118 + '4th Order Polynomial TMP vs Res'!$M$41","v":57.977835894508019},2.2164105491981445E-2]
[100,59,12142.837331744711,{"$f":"IF(B119 <= VLOOKUP(Main!$N$22,Coefficients!$E$2:$H$28,4,FALSE),E119,NA())","v":12265.492254287587},{"$f":"'4th Order Polynomial TMP vs Res'!$B$41+'4th Order Polynomial TMP vs Res'!$C$41*POWER(B119,1)+'4th Order Polynomial TMP vs Res'!$D$41*POWER(B119,2)+'4th Order Polynomial TMP vs Res'!$E$41*POWER(B119,3)+'4th Order Polynomial TMP vs Res'!$F$41*POWER(B119,4)","v":12265.492254287587},12388.147176830462,null,null,null,{"$f":"'4th Order Polynomial TMP vs Res'!$I$41*E119^4 + '4th Order Polynomial TMP vs Res'!$J$41*E119^3 + '4th Order Polynomial TMP vs Res'!$K$41*E119^2 + '4th Order Polynomial TMP vs Res'!$L$41*E119 + '4th Order Polynomial TMP vs Res'!$M$41","v":58.974585785802503},2.5414214197496676E-2]
[101,60,12215.651174451012,{"$f":"IF(B120 <= VLOOKUP(Main!$N$22,Coefficients!$E$2:$H$28,4,FALSE),E120,NA())","v":12339.041590354558},{"$f":"'4th Order Polynomial TMP vs Res'!$B$41+'4th Order Polynomial TMP vs Res'!$C$41*POWER(B120,1)+'4th Order Polynomial TMP vs Res'!$D$41*POWER(B120,2)+'4th Order Polynomial TMP vs Res'!$E$41*POWER(B120,3)+'4th Order Polynomial TMP vs Res'!$F$41*POWER(B120,4)","v":12339.041590354558},12462.432006258105,null,null,null,{"$f":"'4th Order Polynomial TMP vs Res'!$I$41*E120^4 + '4th Order Polynomial TMP vs Res'!$J$41*E120^3 + '4th Order Polynomial TMP vs Res'!$K$41*E120^2 + '4th Order Polynomial TMP vs Res'!$L$41*E120 + '4th Order Polynomial TMP vs Res'!$M$41","v":59.971449401006851},2.8550598993149379E-2]
[102,61,12288.795703946593,{"$f":"IF(B121 <= VLOOKUP(Main!$N$22,Coefficients!$E$2:$H$28,4,FALSE),E121,NA())","v":12412.924953481406},{"$f":"'4th Order Polynomial TMP vs Res'!$B$41+'4th Order Polynomial TMP vs Res'!$C$41*POWER(B121,1)+'4th Order Polynomial TMP vs Res'!$D$41*POWER(B121,2)+'4th Order Polynomial TMP vs Res'!$E$41*POWER(B121,3)+'4th Order Polynomial TMP vs Res'!$F$41*POWER(B121,4)","v":12412.924953481406},12537.05420301622,null,null,null,{"$f":"'4th Order Polynomial TMP vs Res'!$I$41*E121^4 + '4th Order Polynomial TMP vs Res'!$J$41*E121^3 + '4th Order Polynomial TMP vs Res'!$K$41*E121^2 + '4th Order Polynomial TMP vs Res'!$L$41*E121 + '4th Order Polynomial TMP vs Res'!$M$41","v":60.968441815727203},3.1558184272796552E-2]
[103,62,12362.271633593959,{"$f":"IF(B122 <= VLOOKUP(Main!$N$22,Coefficients!$E$2:$H$28,4,FALSE),E122,NA())","v":12487.143064236321},{"$f":"'4th Order Polynomial TMP vs Res'!$B$41+'4th Order Polynomial TMP vs Res'!$C$41*POWER(B122,1)+'4th Order Polynomial TMP vs Res'!$D$41*POWER(B122,2)+'4th Order Polynomial TMP vs Res'!$E$41*POWER(B122,3)+'4th Order Polynomial TMP vs Res'!$F$41*POWER(B122,4)","v":12487.143064236321},12612.014494878684,null,null,null,{"$f":"'4th Order Polynomial TMP vs Res'!$I$41*E122^4 + '4th Order Polynomial TMP vs Res'!$J$41*E122^3 + '4th Order Polynomial TMP vs Res'!$K$41*E122^2 + '4th Order Polynomial TMP vs Res'!$L$41*E122 + '4th Order Polynomial TMP vs Res'!$M$41","v":61.965577881423371},3.4422118576628691E-2]
[104,63,12436.079682742949,{"$f":"IF(B123 <= VLOOKUP(Main!$N$22,Coefficients!$E$2:$H$28,4,FALSE),E123,NA())","v":12561.696649235302},{"$f":"'4th Order Polynomial TMP vs Res'!$B$41+'4th Order Polynomial TMP vs Res'!$C$41*POWER(B123,1)+'4th Order Polynomial TMP vs Res'!$D$41*POWER(B123,2)+'4th Order Polynomial TMP vs Res'!$E$41*POWER(B123,3)+'4th Order Polynomial TMP vs Res'!$F$41*POWER(B123,4)","v":12561.696649235302},12687.313615727655,null,null,null,{"$f":"'4th Order Polynomial TMP vs Res'!$I$41*E123^4 + '4th Order Polynomial TMP vs Res'!$J$41*E123^3 + '4th Order Polynomial TMP vs Res'!$K$41*E123^2 + '4th Order Polynomial TMP vs Res'!$L$41*E123 + '4th Order Polynomial TMP vs Res'!$M$41","v":62.962872173377662},3.7127826622338489E-2]
[105,64,12510.22057673075,{"$f":"IF(B124 <= VLOOKUP(Main!$N$22,Coefficients!$E$2:$H$28,4,FALSE),E124,NA())","v":12636.586441142172},{"$f":"'4th Order Polynomial TMP vs Res'!$B$41+'4th Order Polynomial TMP vs Res'!$C$41*POWER(B124,1)+'4th Order Polynomial TMP vs Res'!$D$41*POWER(B124,2)+'4th Order Polynomial TMP vs Res'!$E$41*POWER(B124,3)+'4th Order Polynomial TMP vs Res'!$F$41*POWER(B124,4)","v":12636.586441142172},12762.952305553594,null,null,null,{"$f":"'4th Order Polynomial TMP vs Res'!$I$41*E124^4 + '4th Order Polynomial TMP vs Res'!$J$41*E124^3 + '4th Order Polynomial TMP vs Res'!$K$41*E124^2 + '4th Order Polynomial TMP vs Res'!$L$41*E124 + '4th Order Polynomial TMP vs Res'!$M$41","v":63.960338937121719},3.9661062878280973E-2]
[106,65,{"$f":"IFERROR(D125*0.99,NA())","v":12584.695046881865},{"$f":"IF(B125 <= VLOOKUP(Main!$N$22,Coefficients!$E$2:$H$28,4,FALSE),E125,NA())","v":12711.81317866855},{"$f":"'4th Order Polynomial TMP vs Res'!$B$41+'4th Order Polynomial TMP vs Res'!$C$41*POWER(B125,1)+'4th Order Polynomial TMP vs Res'!$D$41*POWER(B125,2)+'4th Order Polynomial TMP vs Res'!$E$41*POWER(B125,3)+'4th Order Polynomial TMP vs Res'!$F$41*POWER(B125,4)","v":12711.81317866855},{"$f":"IFERROR(D125*1.01,NA())","v":12838.931310455235},null,null,null,{"$f":"'4th Order Polynomial TMP vs Res'!$I$41*E125^4 + '4th Order Polynomial TMP vs Res'!$J$41*E125^3 + '4th Order Polynomial TMP vs Res'!$K$41*E125^2 + '4th Order Polynomial TMP vs Res'!$L$41*E125 + '4th Order Polynomial TMP vs Res'!$M$41","v":64.95799203328977},4.2007966710229994E-2]
[107,66,12659.503830508145,{"$f":"IF(B126 <= VLOOKUP(Main!$N$22,Coefficients!$E$2:$H$28,4,FALSE),E126,NA())","v":12787.377606573884},{"$f":"'4th Order Polynomial TMP vs Res'!$B$41+'4th Order Polynomial TMP vs Res'!$C$41*POWER(B126,1)+'4th Order Polynomial TMP vs Res'!$D$41*POWER(B126,2)+'4th Order Polynomial TMP vs Res'!$E$41*POWER(B126,3)+'4th Order Polynomial TMP vs Res'!$F$41*POWER(B126,4)","v":12787.377606573884},12915.251382639623,null,null,null,{"$f":"'4th Order Polynomial TMP vs Res'!$I$41*E126^4 + '4th Order Polynomial TMP vs Res'!$J$41*E126^3 + '4th Order Polynomial TMP vs Res'!$K$41*E126^2 + '4th Order Polynomial TMP vs Res'!$L$41*E126 + '4th Order Polynomial TMP vs Res'!$M$41","v":65.955844880865186},4.4155119134813958E-2]
[108,67,12734.647670908762,{"$f":"IF(B127 <= VLOOKUP(Main!$N$22,Coefficients!$E$2:$H$28,4,FALSE),E127,NA())","v":12863.280475665417},{"$f":"'4th Order Polynomial TMP vs Res'!$B$41+'4th Order Polynomial TMP vs Res'!$C$41*POWER(B127,1)+'4th Order Polynomial TMP vs Res'!$D$41*POWER(B127,2)+'4th Order Polynomial TMP vs Res'!$E$41*POWER(B127,3)+'4th Order Polynomial TMP vs Res'!$F$41*POWER(B127,4)","v":12863.280475665417},12991.913280422072,null,null,null,{"$f":"'4th Order Polynomial TMP vs Res'!$I$41*E127^4 + '4th Order Polynomial TMP vs Res'!$J$41*E127^3 + '4th Order Polynomial TMP vs Res'!$K$41*E127^2 + '4th Order Polynomial TMP vs Res'!$L$41*E127 + '4th Order Polynomial TMP vs Res'!$M$41","v":66.953910398785979},4.6089601214021059E-2]
[109,68,12810.127317370243,{"$f":"IF(B128 <= VLOOKUP(Main!$N$22,Coefficients!$E$2:$H$28,4,FALSE),E128,NA())","v":12939.522542798226},{"$f":"'4th Order Polynomial TMP vs Res'!$B$41+'4th Order Polynomial TMP vs Res'!$C$41*POWER(B128,1)+'4th Order Polynomial TMP vs Res'!$D$41*POWER(B128,2)+'4th Order Polynomial TMP vs Res'!$E$41*POWER(B128,3)+'4th Order Polynomial TMP vs Res'!$F$41*POWER(B128,4)","v":12939.522542798226},13068.917768226209,null,null,null,{"$f":"'4th Order Polynomial TMP vs Res'!$I$41*E128^4 + '4th Order Polynomial TMP vs Res'!$J$41*E128^3 + '4th Order Polynomial TMP vs Res'!$K$41*E128^2 + '4th Order Polynomial TMP vs Res'!$L$41*E128 + '4th Order Polynomial TMP vs Res'!$M$41","v":67.952200945876996},4.7799054123004225E-2]
[110,69,12885.943525166427,{"$f":"IF(B129 <= VLOOKUP(Main!$N$22,Coefficients!$E$2:$H$28,4,FALSE),E129,NA())","v":13016.104570875179},{"$f":"'4th Order Polynomial TMP vs Res'!$B$41+'4th Order Polynomial TMP vs Res'!$C$41*POWER(B129,1)+'4th Order Polynomial TMP vs Res'!$D$41*POWER(B129,2)+'4th Order Polynomial TMP vs Res'!$E$41*POWER(B129,3)+'4th Order Polynomial TMP vs Res'!$F$41*POWER(B129,4)","v":13016.104570875179},13146.265616583931,null,null,null,{"$f":"'4th Order Polynomial TMP vs Res'!$I$41*E129^4 + '4th Order Polynomial TMP vs Res'!$J$41*E129^3 + '4th Order Polynomial TMP vs Res'!$K$41*E129^2 + '4th Order Polynomial TMP vs Res'!$L$41*E129 + '4th Order Polynomial TMP vs Res'!$M$41","v":68.950728259070502},4.9271740929498264E-2]
[111,70,12962.097055558499,{"$f":"IF(B130 <= VLOOKUP(Main!$N$22,Coefficients!$E$2:$H$28,4,FALSE),E130,NA())","v":13093.027328846969},{"$f":"'4th Order Polynomial TMP vs Res'!$B$41+'4th Order Polynomial TMP vs Res'!$C$41*POWER(B130,1)+'4th Order Polynomial TMP vs Res'!$D$41*POWER(B130,2)+'4th Order Polynomial TMP vs Res'!$E$41*POWER(B130,3)+'4th Order Polynomial TMP vs Res'!$F$41*POWER(B130,4)","v":13093.027328846969},13223.957602135439,null,null,null,{"$f":"'4th Order Polynomial TMP vs Res'!$I$41*E130^4 + '4th Order Polynomial TMP vs Res'!$J$41*E130^3 + '4th Order Polynomial TMP vs Res'!$K$41*E130^2 + '4th Order Polynomial TMP vs Res'!$L$41*E130 + '4th Order Polynomial TMP vs Res'!$M$41","v":69.94950338988383},5.0496610116169904E-2]
[112,71,{"$f":"IFERROR(D131*0.985,NA())","v":12972.737217836424},{"$f":"IF(B131 <= VLOOKUP(Main!$N$22,Coefficients!$E$2:$H$28,4,FALSE),E131,NA())","v":13170.291591712106},{"$f":"'4th Order Polynomial TMP vs Res'!$B$41+'4th Order Polynomial TMP vs Res'!$C$41*POWER(B131,1)+'4th Order Polynomial TMP vs Res'!$D$41*POWER(B131,2)+'4th Order Polynomial TMP vs Res'!$E$41*POWER(B131,3)+'4th Order Polynomial TMP vs Res'!$F$41*POWER(B131,4)","v":13170.291591712106},{"$f":"IFERROR(D131*1.015,NA())","v":13367.845965587787},null,null,null,{"$f":"'4th Order Polynomial TMP vs Res'!$I$41*E131^4 + '4th Order Polynomial TMP vs Res'!$J$41*E131^3 + '4th Order Polynomial TMP vs Res'!$K$41*E131^2 + '4th Order Polynomial TMP vs Res'!$L$41*E131 + '4th Order Polynomial TMP vs Res'!$M$41","v":70.948536639114081},5.1463360885918519E-2]
[113,72,13049.179668409144,{"$f":"IF(B132 <= VLOOKUP(Main!$N$22,Coefficients!$E$2:$H$28,4,FALSE),E132,NA())","v":13247.898140516898},{"$f":"'4th Order Polynomial TMP vs Res'!$B$41+'4th Order Polynomial TMP vs Res'!$C$41*POWER(B132,1)+'4th Order Polynomial TMP vs Res'!$D$41*POWER(B132,2)+'4th Order Polynomial TMP vs Res'!$E$41*POWER(B132,3)+'4th Order Polynomial TMP vs Res'!$F$41*POWER(B132,4)","v":13247.898140516898},13446.61661262465,null,null,null,{"$f":"'4th Order Polynomial TMP vs Res'!$I$41*E132^4 + '4th Order Polynomial TMP vs Res'!$J$41*E132^3 + '4th Order Polynomial TMP vs Res'!$K$41*E132^2 + '4th Order Polynomial TMP vs Res'!$L$41*E132 + '4th Order Polynomial TMP vs Res'!$M$41","v":71.947837489713834},5.2162510286166253E-2]
[114,73,13125.960045920147,{"$f":"IF(B133 <= VLOOKUP(Main!$N$22,Coefficients!$E$2:$H$28,4,FALSE),E133,NA())","v":13325.847762355479},{"$f":"'4th Order Polynomial TMP vs Res'!$B$41+'4th Order Polynomial TMP vs Res'!$C$41*POWER(B133,1)+'4th Order Polynomial TMP vs Res'!$D$41*POWER(B133,2)+'4th Order Polynomial TMP vs Res'!$E$41*POWER(B133,3)+'4th Order Polynomial TMP vs Res'!$F$41*POWER(B133,4)","v":13325.847762355479},13525.73547879081,null,null,null,{"$f":"'4th Order Polynomial TMP vs Res'!$I$41*E133^4 + '4th Order Polynomial TMP vs Res'!$J$41*E133^3 + '4th Order Polynomial TMP vs Res'!$K$41*E133^2 + '4th Order Polynomial TMP vs Res'!$L$41*E133 + '4th Order Polynomial TMP vs Res'!$M$41","v":72.947414537812733},5.2585462187266785E-2]
[115,74,13203.079131614242,{"$f":"IF(B134 <= VLOOKUP(Main!$N$22,Coefficients!$E$2:$H$28,4,FALSE),E134,NA())","v":13404.141250369788},{"$f":"'4th Order Polynomial TMP vs Res'!$B$41+'4th Order Polynomial TMP vs Res'!$C$41*POWER(B134,1)+'4th Order Polynomial TMP vs Res'!$D$41*POWER(B134,2)+'4th Order Polynomial TMP vs Res'!$E$41*POWER(B134,3)+'4th Order Polynomial TMP vs Res'!$F$41*POWER(B134,4)","v":13404.141250369788},13605.203369125335,null,null,null,{"$f":"'4th Order Polynomial TMP vs Res'!$I$41*E134^4 + '4th Order Polynomial TMP vs Res'!$J$41*E134^3 + '4th Order Polynomial TMP vs Res'!$K$41*E134^2 + '4th Order Polynomial TMP vs Res'!$L$41*E134 + '4th Order Polynomial TMP vs Res'!$M$41","v":73.947275421842448},5.2724578157551605E-2]
[116,75,13280.53771269334,{"$f":"IF(B135 <= VLOOKUP(Main!$N$22,Coefficients!$E$2:$H$28,4,FALSE),E135,NA())","v":13482.779403749584},{"$f":"'4th Order Polynomial TMP vs Res'!$B$41+'4th Order Polynomial TMP vs Res'!$C$41*POWER(B135,1)+'4th Order Polynomial TMP vs Res'!$D$41*POWER(B135,2)+'4th Order Polynomial TMP vs Res'!$E$41*POWER(B135,3)+'4th Order Polynomial TMP vs Res'!$F$41*POWER(B135,4)","v":13482.779403749584},13685.021094805827,null,null,null,{"$f":"'4th Order Polynomial TMP vs Res'!$I$41*E135^4 + '4th Order Polynomial TMP vs Res'!$J$41*E135^3 + '4th Order Polynomial TMP vs Res'!$K$41*E135^2 + '4th Order Polynomial TMP vs Res'!$L$41*E135 + '4th Order Polynomial TMP vs Res'!$M$41","v":74.947426749729345},5.2573250270654626E-2]
[117,76,13358.33658231644,{"$f":"IF(B136 <= VLOOKUP(Main!$N$22,Coefficients!$E$2:$H$28,4,FALSE),E136,NA())","v":13561.763027732428},{"$f":"'4th Order Polynomial TMP vs Res'!$B$41+'4th Order Polynomial TMP vs Res'!$C$41*POWER(B136,1)+'4th Order Polynomial TMP vs Res'!$D$41*POWER(B136,2)+'4th Order Polynomial TMP vs Res'!$E$41*POWER(B136,3)+'4th Order Polynomial TMP vs Res'!$F$41*POWER(B136,4)","v":13561.763027732428},13765.189473148414,null,null,null,{"$f":"'4th Order Polynomial TMP vs Res'!$I$41*E136^4 + '4th Order Polynomial TMP vs Res'!$J$41*E136^3 + '4th Order Polynomial TMP vs Res'!$K$41*E136^2 + '4th Order Polynomial TMP vs Res'!$L$41*E136 + '4th Order Polynomial TMP vs Res'!$M$41","v":75.947874024113332},5.2125975886667675E-2]
[118,77,13436.476539599644,{"$f":"IF(B137 <= VLOOKUP(Main!$N$22,Coefficients!$E$2:$H$28,4,FALSE),E137,NA())","v":13641.092933603699},{"$f":"'4th Order Polynomial TMP vs Res'!$B$41+'4th Order Polynomial TMP vs Res'!$C$41*POWER(B137,1)+'4th Order Polynomial TMP vs Res'!$D$41*POWER(B137,2)+'4th Order Polynomial TMP vs Res'!$E$41*POWER(B137,3)+'4th Order Polynomial TMP vs Res'!$F$41*POWER(B137,4)","v":13641.092933603699},13845.709327607752,null,null,null,{"$f":"'4th Order Polynomial TMP vs Res'!$I$41*E137^4 + '4th Order Polynomial TMP vs Res'!$J$41*E137^3 + '4th Order Polynomial TMP vs Res'!$K$41*E137^2 + '4th Order Polynomial TMP vs Res'!$L$41*E137 + '4th Order Polynomial TMP vs Res'!$M$41","v":76.948621565552287},5.1378434447713062E-2]
[119,78,13514.958389616146,{"$f":"IF(B138 <= VLOOKUP(Main!$N$22,Coefficients!$E$2:$H$28,4,FALSE),E138,NA())","v":13720.769938696594},{"$f":"'4th Order Polynomial TMP vs Res'!$B$41+'4th Order Polynomial TMP vs Res'!$C$41*POWER(B138,1)+'4th Order Polynomial TMP vs Res'!$D$41*POWER(B138,2)+'4th Order Polynomial TMP vs Res'!$E$41*POWER(B138,3)+'4th Order Polynomial TMP vs Res'!$F$41*POWER(B138,4)","v":13720.769938696594},13926.581487777043,null,null,null,{"$f":"'4th Order Polynomial TMP vs Res'!$I$41*E138^4 + '4th Order Polynomial TMP vs Res'!$J$41*E138^3 + '4th Order Polynomial TMP vs Res'!$K$41*E138^2 + '4th Order Polynomial TMP vs Res'!$L$41*E138 + '4th Order Polynomial TMP vs Res'!$M$41","v":77.949672433672617},5.0327566327382556E-2]
[120,79,13593.782943396234,{"$f":"IF(B139 <= VLOOKUP(Main!$N$22,Coefficients!$E$2:$H$28,4,FALSE),E139,NA())","v":13800.794866392116},{"$f":"'4th Order Polynomial TMP vs Res'!$B$41+'4th Order Polynomial TMP vs Res'!$C$41*POWER(B139,1)+'4th Order Polynomial TMP vs Res'!$D$41*POWER(B139,2)+'4th Order Polynomial TMP vs Res'!$E$41*POWER(B139,3)+'4th Order Polynomial TMP vs Res'!$F$41*POWER(B139,4)","v":13800.794866392116},14007.806789387996,null,null,null,{"$f":"'4th Order Polynomial TMP vs Res'!$I$41*E139^4 + '4th Order Polynomial TMP vs Res'!$J$41*E139^3 + '4th Order Polynomial TMP vs Res'!$K$41*E139^2 + '4th Order Polynomial TMP vs Res'!$L$41*E139 + '4th Order Polynomial TMP vs Res'!$M$41","v":78.951028346220539},4.8971653779460667E-2]
[121,80,13672.951017927295,{"$f":"IF(B140 <= VLOOKUP(Main!$N$22,Coefficients!$E$2:$H$28,4,FALSE),E140,NA())","v":13881.168546119081},{"$f":"'4th Order Polynomial TMP vs Res'!$B$41+'4th Order Polynomial TMP vs Res'!$C$41*POWER(B140,1)+'4th Order Polynomial TMP vs Res'!$D$41*POWER(B140,2)+'4th Order Polynomial TMP vs Res'!$E$41*POWER(B140,3)+'4th Order Polynomial TMP vs Res'!$F$41*POWER(B140,4)","v":13881.168546119081},14089.386074310865,null,null,null,{"$f":"'4th Order Polynomial TMP vs Res'!$I$41*E140^4 + '4th Order Polynomial TMP vs Res'!$J$41*E140^3 + '4th Order Polynomial TMP vs Res'!$K$41*E140^2 + '4th Order Polynomial TMP vs Res'!$L$41*E140 + '4th Order Polynomial TMP vs Res'!$M$41","v":79.952689595974448},4.7310404025552089E-2]
[122,81,13752.463436153806,{"$f":"IF(B141 <= VLOOKUP(Main!$N$22,Coefficients!$E$2:$H$28,4,FALSE),E141,NA())","v":13961.891813354119},{"$f":"'4th Order Polynomial TMP vs Res'!$B$41+'4th Order Polynomial TMP vs Res'!$C$41*POWER(B141,1)+'4th Order Polynomial TMP vs Res'!$D$41*POWER(B141,2)+'4th Order Polynomial TMP vs Res'!$E$41*POWER(B141,3)+'4th Order Polynomial TMP vs Res'!$F$41*POWER(B141,4)","v":13961.891813354119},14171.32019055443,null,null,null,{"$f":"'4th Order Polynomial TMP vs Res'!$I$41*E141^4 + '4th Order Polynomial TMP vs Res'!$J$41*E141^3 + '4th Order Polynomial TMP vs Res'!$K$41*E141^2 + '4th Order Polynomial TMP vs Res'!$L$41*E141 + '4th Order Polynomial TMP vs Res'!$M$41","v":80.954654965473367},4.5345034526633299E-2]
[123,82,13832.32102697735,{"$f":"IF(B142 <= VLOOKUP(Main!$N$22,Coefficients!$E$2:$H$28,4,FALSE),E142,NA())","v":14042.965509621676},{"$f":"'4th Order Polynomial TMP vs Res'!$B$41+'4th Order Polynomial TMP vs Res'!$C$41*POWER(B142,1)+'4th Order Polynomial TMP vs Res'!$D$41*POWER(B142,2)+'4th Order Polynomial TMP vs Res'!$E$41*POWER(B142,3)+'4th Order Polynomial TMP vs Res'!$F$41*POWER(B142,4)","v":14042.965509621676},14253.609992266,null,null,null,{"$f":"'4th Order Polynomial TMP vs Res'!$I$41*E142^4 + '4th Order Polynomial TMP vs Res'!$J$41*E142^3 + '4th Order Polynomial TMP vs Res'!$K$41*E142^2 + '4th Order Polynomial TMP vs Res'!$L$41*E142 + '4th Order Polynomial TMP vs Res'!$M$41","v":81.956921639516509},4.3078360483491451E-2]
[124,83,13912.524625256596,{"$f":"IF(B143 <= VLOOKUP(Main!$N$22,Coefficients!$E$2:$H$28,4,FALSE),E143,NA())","v":14124.390482494005},{"$f":"'4th Order Polynomial TMP vs Res'!$B$41+'4th Order Polynomial TMP vs Res'!$C$41*POWER(B143,1)+'4th Order Polynomial TMP vs Res'!$D$41*POWER(B143,2)+'4th Order Polynomial TMP vs Res'!$E$41*POWER(B143,3)+'4th Order Polynomial TMP vs Res'!$F$41*POWER(B143,4)","v":14124.390482494005},14336.256339731413,null,null,null,{"$f":"'4th Order Polynomial TMP vs Res'!$I$41*E143^4 + '4th Order Polynomial TMP vs Res'!$J$41*E143^3 + '4th Order Polynomial TMP vs Res'!$K$41*E143^2 + '4th Order Polynomial TMP vs Res'!$L$41*E143 + '4th Order Polynomial TMP vs Res'!$M$41","v":82.959485115389043},4.0514884610956869E-2]
[125,84,13993.075071807307,{"$f":"IF(B144 <= VLOOKUP(Main!$N$22,Coefficients!$E$2:$H$28,4,FALSE),E144,NA())","v":14206.167585591174},{"$f":"'4th Order Polynomial TMP vs Res'!$B$41+'4th Order Polynomial TMP vs Res'!$C$41*POWER(B144,1)+'4th Order Polynomial TMP vs Res'!$D$41*POWER(B144,2)+'4th Order Polynomial TMP vs Res'!$E$41*POWER(B144,3)+'4th Order Polynomial TMP vs Res'!$F$41*POWER(B144,4)","v":14206.167585591174},14419.26009937504,null,null,null,{"$f":"'4th Order Polynomial TMP vs Res'!$I$41*E144^4 + '4th Order Polynomial TMP vs Res'!$J$41*E144^3 + '4th Order Polynomial TMP vs Res'!$K$41*E144^2 + '4th Order Polynomial TMP vs Res'!$L$41*E144 + '4th Order Polynomial TMP vs Res'!$M$41","v":83.962339110769165},3.7660889230835437E-2]
[126,85,14073.973213402351,{"$f":"IF(B145 <= VLOOKUP(Main!$N$22,Coefficients!$E$2:$H$28,4,FALSE),E145,NA())","v":14288.297678581066},{"$f":"'4th Order Polynomial TMP vs Res'!$B$41+'4th Order Polynomial TMP vs Res'!$C$41*POWER(B145,1)+'4th Order Polynomial TMP vs Res'!$D$41*POWER(B145,2)+'4th Order Polynomial TMP vs Res'!$E$41*POWER(B145,3)+'4th Order Polynomial TMP vs Res'!$F$41*POWER(B145,4)","v":14288.297678581066},14502.622143759781,null,null,null,{"$f":"'4th Order Polynomial TMP vs Res'!$I$41*E145^4 + '4th Order Polynomial TMP vs Res'!$J$41*E145^3 + '4th Order Polynomial TMP vs Res'!$K$41*E145^2 + '4th Order Polynomial TMP vs Res'!$L$41*E145 + '4th Order Polynomial TMP vs Res'!$M$41","v":84.965475469267346},3.4524530732653602E-2]
[127,86,14155.219902771682,{"$f":"IF(B146 <= VLOOKUP(Main!$N$22,Coefficients!$E$2:$H$28,4,FALSE),E146,NA())","v":14370.781627179373},{"$f":"'4th Order Polynomial TMP vs Res'!$B$41+'4th Order Polynomial TMP vs Res'!$C$41*POWER(B146,1)+'4th Order Polynomial TMP vs Res'!$D$41*POWER(B146,2)+'4th Order Polynomial TMP vs Res'!$E$41*POWER(B146,3)+'4th Order Polynomial TMP vs Res'!$F$41*POWER(B146,4)","v":14370.781627179373},14586.343351587062,null,null,null,{"$f":"'4th Order Polynomial TMP vs Res'!$I$41*E146^4 + '4th Order Polynomial TMP vs Res'!$J$41*E146^3 + '4th Order Polynomial TMP vs Res'!$K$41*E146^2 + '4th Order Polynomial TMP vs Res'!$L$41*E146 + '4th Order Polynomial TMP vs Res'!$M$41","v":85.968884063551855},3.1115936448145476E-2]
[128,87,14236.815998602355,{"$f":"IF(B147 <= VLOOKUP(Main!$N$22,Coefficients!$E$2:$H$28,4,FALSE),E147,NA())","v":14453.620303149599},{"$f":"'4th Order Polynomial TMP vs Res'!$B$41+'4th Order Polynomial TMP vs Res'!$C$41*POWER(B147,1)+'4th Order Polynomial TMP vs Res'!$D$41*POWER(B147,2)+'4th Order Polynomial TMP vs Res'!$E$41*POWER(B147,3)+'4th Order Polynomial TMP vs Res'!$F$41*POWER(B147,4)","v":14453.620303149599},14670.424607696841,null,null,null,{"$f":"'4th Order Polynomial TMP vs Res'!$I$41*E147^4 + '4th Order Polynomial TMP vs Res'!$J$41*E147^3 + '4th Order Polynomial TMP vs Res'!$K$41*E147^2 + '4th Order Polynomial TMP vs Res'!$L$41*E147 + '4th Order Polynomial TMP vs Res'!$M$41","v":86.972552696010609},2.7447303989390548E-2]
[129,88,14318.762365538521,{"$f":"IF(B148 <= VLOOKUP(Main!$N$22,Coefficients!$E$2:$H$28,4,FALSE),E148,NA())","v":14536.814584303067},{"$f":"'4th Order Polynomial TMP vs Res'!$B$41+'4th Order Polynomial TMP vs Res'!$C$41*POWER(B148,1)+'4th Order Polynomial TMP vs Res'!$D$41*POWER(B148,2)+'4th Order Polynomial TMP vs Res'!$E$41*POWER(B148,3)+'4th Order Polynomial TMP vs Res'!$F$41*POWER(B148,4)","v":14536.814584303067},14754.866803067611,null,null,null,{"$f":"'4th Order Polynomial TMP vs Res'!$I$41*E148^4 + '4th Order Polynomial TMP vs Res'!$J$41*E148^3 + '4th Order Polynomial TMP vs Res'!$K$41*E148^2 + '4th Order Polynomial TMP vs Res'!$L$41*E148 + '4th Order Polynomial TMP vs Res'!$M$41","v":87.976466996900683},{"$f":"B148-J148","v":2.3533003099316829E-2}]
[130,89,14401.059874181425,{"$f":"IF(B149 <= VLOOKUP(Main!$N$22,Coefficients!$E$2:$H$28,4,FALSE),E149,NA())","v":14620.365354498908},{"$f":"'4th Order Polynomial TMP vs Res'!$B$41+'4th Order Polynomial TMP vs Res'!$C$41*POWER(B149,1)+'4th Order Polynomial TMP vs Res'!$D$41*POWER(B149,2)+'4th Order Polynomial TMP vs Res'!$E$41*POWER(B149,3)+'4th Order Polynomial TMP vs Res'!$F$41*POWER(B149,4)","v":14620.365354498908},14839.67083481639,null,null,null,{"$f":"'4th Order Polynomial TMP vs Res'!$I$41*E149^4 + '4th Order Polynomial TMP vs Res'!$J$41*E149^3 + '4th Order Polynomial TMP vs Res'!$K$41*E149^2 + '4th Order Polynomial TMP vs Res'!$L$41*E149 + '4th Order Polynomial TMP vs Res'!$M$41","v":88.980610319933476},1.9389680066524306E-2]
[131,{"$f":"B149+1","v":90},14483.709401089403,{"$f":"IF(B150 <= VLOOKUP(Main!$N$22,Coefficients!$E$2:$H$28,4,FALSE),E150,NA())","v":14704.273503644064},{"$f":"'4th Order Polynomial TMP vs Res'!$B$41+'4th Order Polynomial TMP vs Res'!$C$41*POWER(B150,1)+'4th Order Polynomial TMP vs Res'!$D$41*POWER(B150,2)+'4th Order Polynomial TMP vs Res'!$E$41*POWER(B150,3)+'4th Order Polynomial TMP vs Res'!$F$41*POWER(B150,4)","v":14704.273503644064},14924.837606198724,null,null,null,{"$f":"'4th Order Polynomial TMP vs Res'!$I$41*E150^4 + '4th Order Polynomial TMP vs Res'!$J$41*E150^3 + '4th Order Polynomial TMP vs Res'!$K$41*E150^2 + '4th Order Polynomial TMP vs Res'!$L$41*E150 + '4th Order Polynomial TMP vs Res'!$M$41","v":89.984963635246856},1.5036364753143516E-2]
[132,91,14566.711828777896,{"$f":"IF(B151 <= VLOOKUP(Main!$N$22,Coefficients!$E$2:$H$28,4,FALSE),E151,NA())","v":14788.539927693295},{"$f":"'4th Order Polynomial TMP vs Res'!$B$41+'4th Order Polynomial TMP vs Res'!$C$41*POWER(B151,1)+'4th Order Polynomial TMP vs Res'!$D$41*POWER(B151,2)+'4th Order Polynomial TMP vs Res'!$E$41*POWER(B151,3)+'4th Order Polynomial TMP vs Res'!$F$41*POWER(B151,4)","v":14788.539927693295},15010.368026608692,null,null,null,{"$f":"'4th Order Polynomial TMP vs Res'!$I$41*E151^4 + '4th Order Polynomial TMP vs Res'!$J$41*E151^3 + '4th Order Polynomial TMP vs Res'!$K$41*E151^2 + '4th Order Polynomial TMP vs Res'!$L$41*E151 + '4th Order Polynomial TMP vs Res'!$M$41","v":90.989505419709303},1.0494580290696831E-2]
[133,92,14650.068045719428,{"$f":"IF(B152 <= VLOOKUP(Main!$N$22,Coefficients!$E$2:$H$28,4,FALSE),E152,NA())","v":14873.165528649166},{"$f":"'4th Order Polynomial TMP vs Res'!$B$41+'4th Order Polynomial TMP vs Res'!$C$41*POWER(B152,1)+'4th Order Polynomial TMP vs Res'!$D$41*POWER(B152,2)+'4th Order Polynomial TMP vs Res'!$E$41*POWER(B152,3)+'4th Order Polynomial TMP vs Res'!$F$41*POWER(B152,4)","v":14873.165528649166},15096.263011578902,null,null,null,{"$f":"'4th Order Polynomial TMP vs Res'!$I$41*E152^4 + '4th Order Polynomial TMP vs Res'!$J$41*E152^3 + '4th Order Polynomial TMP vs Res'!$K$41*E152^2 + '4th Order Polynomial TMP vs Res'!$L$41*E152 + '4th Order Polynomial TMP vs Res'!$M$41","v":91.994211544503287},5.7884554967131407E-3]
[134,93,14733.778946343631,{"$f":"IF(B153 <= VLOOKUP(Main!$N$22,Coefficients!$E$2:$H$28,4,FALSE),E153,NA())","v":14958.151214562062},{"$f":"'4th Order Polynomial TMP vs Res'!$B$41+'4th Order Polynomial TMP vs Res'!$C$41*POWER(B153,1)+'4th Order Polynomial TMP vs Res'!$D$41*POWER(B153,2)+'4th Order Polynomial TMP vs Res'!$E$41*POWER(B153,3)+'4th Order Polynomial TMP vs Res'!$F$41*POWER(B153,4)","v":14958.151214562062},15182.523482780491,null,null,null,{"$f":"'4th Order Polynomial TMP vs Res'!$I$41*E153^4 + '4th Order Polynomial TMP vs Res'!$J$41*E153^3 + '4th Order Polynomial TMP vs Res'!$K$41*E153^2 + '4th Order Polynomial TMP vs Res'!$L$41*E153 + '4th Order Polynomial TMP vs Res'!$M$41","v":92.999055159935494},9.448400645055699E-4]
[135,94,14817.845431037224,{"$f":"IF(B154 <= VLOOKUP(Main!$N$22,Coefficients!$E$2:$H$28,4,FALSE),E154,NA())","v":15043.497899530177},{"$f":"'4th Order Polynomial TMP vs Res'!$B$41+'4th Order Polynomial TMP vs Res'!$C$41*POWER(B154,1)+'4th Order Polynomial TMP vs Res'!$D$41*POWER(B154,2)+'4th Order Polynomial TMP vs Res'!$E$41*POWER(B154,3)+'4th Order Polynomial TMP vs Res'!$F$41*POWER(B154,4)","v":15043.497899530177},15269.150368023129,null,null,null,{"$f":"'4th Order Polynomial TMP vs Res'!$I$41*E154^4 + '4th Order Polynomial TMP vs Res'!$J$41*E154^3 + '4th Order Polynomial TMP vs Res'!$K$41*E154^2 + '4th Order Polynomial TMP vs Res'!$L$41*E154 + '4th Order Polynomial TMP vs Res'!$M$41","v":94.004006577416249},-4.0065774162485468E-3]
[136,95,14902.268406144029,{"$f":"IF(B155 <= VLOOKUP(Main!$N$22,Coefficients!$E$2:$H$28,4,FALSE),E155,NA())","v":15129.206503699521},{"$f":"'4th Order Polynomial TMP vs Res'!$B$41+'4th Order Polynomial TMP vs Res'!$C$41*POWER(B155,1)+'4th Order Polynomial TMP vs Res'!$D$41*POWER(B155,2)+'4th Order Polynomial TMP vs Res'!$E$41*POWER(B155,3)+'4th Order Polynomial TMP vs Res'!$F$41*POWER(B155,4)","v":15129.206503699521},15356.144601255011,null,null,null,{"$f":"'4th Order Polynomial TMP vs Res'!$I$41*E155^4 + '4th Order Polynomial TMP vs Res'!$J$41*E155^3 + '4th Order Polynomial TMP vs Res'!$K$41*E155^2 + '4th Order Polynomial TMP vs Res'!$L$41*E155 + '4th Order Polynomial TMP vs Res'!$M$41","v":95.00903314855276},-9.0331485527599398E-3]
[137,96,14987.048783964952,{"$f":"IF(B156 <= VLOOKUP(Main!$N$22,Coefficients!$E$2:$H$28,4,FALSE),E156,NA())","v":15215.277953263911},{"$f":"'4th Order Polynomial TMP vs Res'!$B$41+'4th Order Polynomial TMP vs Res'!$C$41*POWER(B156,1)+'4th Order Polynomial TMP vs Res'!$D$41*POWER(B156,2)+'4th Order Polynomial TMP vs Res'!$E$41*POWER(B156,3)+'4th Order Polynomial TMP vs Res'!$F$41*POWER(B156,4)","v":15215.277953263911},15443.507122562867,null,null,null,{"$f":"'4th Order Polynomial TMP vs Res'!$I$41*E156^4 + '4th Order Polynomial TMP vs Res'!$J$41*E156^3 + '4th Order Polynomial TMP vs Res'!$K$41*E156^2 + '4th Order Polynomial TMP vs Res'!$L$41*E156 + '4th Order Polynomial TMP vs Res'!$M$41","v":96.014099141300733},-1.4099141300732754E-2]
[138,97,15072.187482758009,{"$f":"IF(B157 <= VLOOKUP(Main!$N$22,Coefficients!$E$2:$H$28,4,FALSE),E157,NA())","v":15301.713180464983},{"$f":"'4th Order Polynomial TMP vs Res'!$B$41+'4th Order Polynomial TMP vs Res'!$C$41*POWER(B157,1)+'4th Order Polynomial TMP vs Res'!$D$41*POWER(B157,2)+'4th Order Polynomial TMP vs Res'!$E$41*POWER(B157,3)+'4th Order Polynomial TMP vs Res'!$F$41*POWER(B157,4)","v":15301.713180464983},15531.238878171956,null,null,null,{"$f":"'4th Order Polynomial TMP vs Res'!$I$41*E157^4 + '4th Order Polynomial TMP vs Res'!$J$41*E157^3 + '4th Order Polynomial TMP vs Res'!$K$41*E157^2 + '4th Order Polynomial TMP vs Res'!$L$41*E157 + '4th Order Polynomial TMP vs Res'!$M$41","v":97.019165613112875},-1.9165613112875235E-2]
[139,98,15157.685426738291,{"$f":"IF(B158 <= VLOOKUP(Main!$N$22,Coefficients!$E$2:$H$28,4,FALSE),E158,NA())","v":15388.513123592174},{"$f":"'4th Order Polynomial TMP vs Res'!$B$41+'4th Order Polynomial TMP vs Res'!$C$41*POWER(B158,1)+'4th Order Polynomial TMP vs Res'!$D$41*POWER(B158,2)+'4th Order Polynomial TMP vs Res'!$E$41*POWER(B158,3)+'4th Order Polynomial TMP vs Res'!$F$41*POWER(B158,4)","v":15388.513123592174},15619.340820446056,null,null,null,{"$f":"'4th Order Polynomial TMP vs Res'!$I$41*E158^4 + '4th Order Polynomial TMP vs Res'!$J$41*E158^3 + '4th Order Polynomial TMP vs Res'!$K$41*E158^2 + '4th Order Polynomial TMP vs Res'!$L$41*E158 + '4th Order Polynomial TMP vs Res'!$M$41","v":98.024190281027302},-2.4190281027301808E-2]
[140,99,15243.543546078019,{"$f":"IF(B159 <= VLOOKUP(Main!$N$22,Coefficients!$E$2:$H$28,4,FALSE),E159,NA())","v":15475.67872698276},{"$f":"'4th Order Polynomial TMP vs Res'!$B$41+'4th Order Polynomial TMP vs Res'!$C$41*POWER(B159,1)+'4th Order Polynomial TMP vs Res'!$D$41*POWER(B159,2)+'4th Order Polynomial TMP vs Res'!$E$41*POWER(B159,3)+'4th Order Polynomial TMP vs Res'!$F$41*POWER(B159,4)","v":15475.67872698276},15707.813907887499,null,null,null,{"$f":"'4th Order Polynomial TMP vs Res'!$I$41*E159^4 + '4th Order Polynomial TMP vs Res'!$J$41*E159^3 + '4th Order Polynomial TMP vs Res'!$K$41*E159^2 + '4th Order Polynomial TMP vs Res'!$L$41*E159 + '4th Order Polynomial TMP vs Res'!$M$41","v":99.029127388635629},-2.9127388635629359E-2]
[141,100,15329.762776906467,{"$f":"IF(B160 <= VLOOKUP(Main!$N$22,Coefficients!$E$2:$H$28,4,FALSE),E160,NA())","v":15563.210941021794},{"$f":"'4th Order Polynomial TMP vs Res'!$B$41+'4th Order Polynomial TMP vs Res'!$C$41*POWER(B160,1)+'4th Order Polynomial TMP vs Res'!$D$41*POWER(B160,2)+'4th Order Polynomial TMP vs Res'!$E$41*POWER(B160,3)+'4th Order Polynomial TMP vs Res'!$F$41*POWER(B160,4)","v":15563.210941021794},15796.65910513712,null,null,null,{"$f":"'4th Order Polynomial TMP vs Res'!$I$41*E160^4 + '4th Order Polynomial TMP vs Res'!$J$41*E160^3 + '4th Order Polynomial TMP vs Res'!$K$41*E160^2 + '4th Order Polynomial TMP vs Res'!$L$41*E160 + '4th Order Polynomial TMP vs Res'!$M$41","v":100.03392756986676},-3.3927569866762042E-2]
[142,101,15416.344061310037,{"$f":"IF(B161 <= VLOOKUP(Main!$N$22,Coefficients!$E$2:$H$28,4,FALSE),E161,NA())","v":15651.11072214217},{"$f":"'4th Order Polynomial TMP vs Res'!$B$41+'4th Order Polynomial TMP vs Res'!$C$41*POWER(B161,1)+'4th Order Polynomial TMP vs Res'!$D$41*POWER(B161,2)+'4th Order Polynomial TMP vs Res'!$E$41*POWER(B161,3)+'4th Order Polynomial TMP vs Res'!$F$41*POWER(B161,4)","v":15651.11072214217},15885.8773829743,null,null,null,{"$f":"'4th Order Polynomial TMP vs Res'!$I$41*E161^4 + '4th Order Polynomial TMP vs Res'!$J$41*E161^3 + '4th Order Polynomial TMP vs Res'!$K$41*E161^2 + '4th Order Polynomial TMP vs Res'!$L$41*E161 + '4th Order Polynomial TMP vs Res'!$M$41","v":101.03853770952742},-3.8537709527417974E-2]
[143,102,15503.288347332211,{"$f":"IF(B162 <= VLOOKUP(Main!$N$22,Coefficients!$E$2:$H$28,4,FALSE),E162,NA())","v":15739.37903282458},{"$f":"'4th Order Polynomial TMP vs Res'!$B$41+'4th Order Polynomial TMP vs Res'!$C$41*POWER(B162,1)+'4th Order Polynomial TMP vs Res'!$D$41*POWER(B162,2)+'4th Order Polynomial TMP vs Res'!$E$41*POWER(B162,3)+'4th Order Polynomial TMP vs Res'!$F$41*POWER(B162,4)","v":15739.37903282458},15975.469718316946,null,null,null,{"$f":"'4th Order Polynomial TMP vs Res'!$I$41*E162^4 + '4th Order Polynomial TMP vs Res'!$J$41*E162^3 + '4th Order Polynomial TMP vs Res'!$K$41*E162^2 + '4th Order Polynomial TMP vs Res'!$L$41*E162 + '4th Order Polynomial TMP vs Res'!$M$41","v":102.04290080053363},-4.290080053362999E-2]
[144,103,15590.596588973569,{"$f":"IF(B163 <= VLOOKUP(Main!$N$22,Coefficients!$E$2:$H$28,4,FALSE),E163,NA())","v":15828.016841597531},{"$f":"'4th Order Polynomial TMP vs Res'!$B$41+'4th Order Polynomial TMP vs Res'!$C$41*POWER(B163,1)+'4th Order Polynomial TMP vs Res'!$D$41*POWER(B163,2)+'4th Order Polynomial TMP vs Res'!$E$41*POWER(B163,3)+'4th Order Polynomial TMP vs Res'!$F$41*POWER(B163,4)","v":15828.016841597531},16065.437094221492,null,null,null,{"$f":"'4th Order Polynomial TMP vs Res'!$I$41*E163^4 + '4th Order Polynomial TMP vs Res'!$J$41*E163^3 + '4th Order Polynomial TMP vs Res'!$K$41*E163^2 + '4th Order Polynomial TMP vs Res'!$L$41*E163 + '4th Order Polynomial TMP vs Res'!$M$41","v":103.04695579776791},-4.695579776790737E-2]
[145,104,15678.269746191791,{"$f":"IF(B164 <= VLOOKUP(Main!$N$22,Coefficients!$E$2:$H$28,4,FALSE),E164,NA())","v":15917.025123037351},{"$f":"'4th Order Polynomial TMP vs Res'!$B$41+'4th Order Polynomial TMP vs Res'!$C$41*POWER(B164,1)+'4th Order Polynomial TMP vs Res'!$D$41*POWER(B164,2)+'4th Order Polynomial TMP vs Res'!$E$41*POWER(B164,3)+'4th Order Polynomial TMP vs Res'!$F$41*POWER(B164,4)","v":15917.025123037351},16155.780499882909,null,null,null,{"$f":"'4th Order Polynomial TMP vs Res'!$I$41*E164^4 + '4th Order Polynomial TMP vs Res'!$J$41*E164^3 + '4th Order Polynomial TMP vs Res'!$K$41*E164^2 + '4th Order Polynomial TMP vs Res'!$L$41*E164 + '4th Order Polynomial TMP vs Res'!$M$41","v":104.05063746849868},-5.0637468498678118E-2]
[146,105,15766.308784901647,{"$f":"IF(B165 <= VLOOKUP(Main!$N$22,Coefficients!$E$2:$H$28,4,FALSE),E165,NA())","v":16006.40485776817},{"$f":"'4th Order Polynomial TMP vs Res'!$B$41+'4th Order Polynomial TMP vs Res'!$C$41*POWER(B165,1)+'4th Order Polynomial TMP vs Res'!$D$41*POWER(B165,2)+'4th Order Polynomial TMP vs Res'!$E$41*POWER(B165,3)+'4th Order Polynomial TMP vs Res'!$F$41*POWER(B165,4)","v":16006.40485776817},16246.500930634691,null,null,null,{"$f":"'4th Order Polynomial TMP vs Res'!$I$41*E165^4 + '4th Order Polynomial TMP vs Res'!$J$41*E165^3 + '4th Order Polynomial TMP vs Res'!$K$41*E165^2 + '4th Order Polynomial TMP vs Res'!$L$41*E165 + '4th Order Polynomial TMP vs Res'!$M$41","v":105.0538762392909},-5.3876239290900685E-2]
[147,106,15854.714676975005,{"$f":"IF(B166 <= VLOOKUP(Main!$N$22,Coefficients!$E$2:$H$28,4,FALSE),E166,NA())","v":16096.157032461935},{"$f":"'4th Order Polynomial TMP vs Res'!$B$41+'4th Order Polynomial TMP vs Res'!$C$41*POWER(B166,1)+'4th Order Polynomial TMP vs Res'!$D$41*POWER(B166,2)+'4th Order Polynomial TMP vs Res'!$E$41*POWER(B166,3)+'4th Order Polynomial TMP vs Res'!$F$41*POWER(B166,4)","v":16096.157032461935},16337.599387948863,null,null,null,{"$f":"'4th Order Polynomial TMP vs Res'!$I$41*E166^4 + '4th Order Polynomial TMP vs Res'!$J$41*E166^3 + '4th Order Polynomial TMP vs Res'!$K$41*E166^2 + '4th Order Polynomial TMP vs Res'!$L$41*E166 + '4th Order Polynomial TMP vs Res'!$M$41","v":106.05659803934594},-5.6598039345942652E-2]
[148,107,15943.488400240831,{"$f":"IF(B167 <= VLOOKUP(Main!$N$22,Coefficients!$E$2:$H$28,4,FALSE),E167,NA())","v":16186.282639838408},{"$f":"'4th Order Polynomial TMP vs Res'!$B$41+'4th Order Polynomial TMP vs Res'!$C$41*POWER(B167,1)+'4th Order Polynomial TMP vs Res'!$D$41*POWER(B167,2)+'4th Order Polynomial TMP vs Res'!$E$41*POWER(B167,3)+'4th Order Polynomial TMP vs Res'!$F$41*POWER(B167,4)","v":16186.282639838408},16429.076879435983,null,null,null,{"$f":"'4th Order Polynomial TMP vs Res'!$I$41*E167^4 + '4th Order Polynomial TMP vs Res'!$J$41*E167^3 + '4th Order Polynomial TMP vs Res'!$K$41*E167^2 + '4th Order Polynomial TMP vs Res'!$L$41*E167 + '4th Order Polynomial TMP vs Res'!$M$41","v":107.05872414019308},-5.8724140193078256E-2]
[149,108,16032.630938485177,{"$f":"IF(B168 <= VLOOKUP(Main!$N$22,Coefficients!$E$2:$H$28,4,FALSE),E168,NA())","v":16276.782678665155},{"$f":"'4th Order Polynomial TMP vs Res'!$B$41+'4th Order Polynomial TMP vs Res'!$C$41*POWER(B168,1)+'4th Order Polynomial TMP vs Res'!$D$41*POWER(B168,2)+'4th Order Polynomial TMP vs Res'!$E$41*POWER(B168,3)+'4th Order Polynomial TMP vs Res'!$F$41*POWER(B168,4)","v":16276.782678665155},16520.934418845132,null,null,null,{"$f":"'4th Order Polynomial TMP vs Res'!$I$41*E168^4 + '4th Order Polynomial TMP vs Res'!$J$41*E168^3 + '4th Order Polynomial TMP vs Res'!$K$41*E168^2 + '4th Order Polynomial TMP vs Res'!$L$41*E168 + '4th Order Polynomial TMP vs Res'!$M$41","v":108.06017099166883},-6.0170991668826446E-2]
[150,109,16122.143281451208,{"$f":"IF(B169 <= VLOOKUP(Main!$N$22,Coefficients!$E$2:$H$28,4,FALSE),E169,NA())","v":16367.658153757571},{"$f":"'4th Order Polynomial TMP vs Res'!$B$41+'4th Order Polynomial TMP vs Res'!$C$41*POWER(B169,1)+'4th Order Polynomial TMP vs Res'!$D$41*POWER(B169,2)+'4th Order Polynomial TMP vs Res'!$E$41*POWER(B169,3)+'4th Order Polynomial TMP vs Res'!$F$41*POWER(B169,4)","v":16367.658153757571},16613.173026063934,null,null,null,{"$f":"'4th Order Polynomial TMP vs Res'!$I$41*E169^4 + '4th Order Polynomial TMP vs Res'!$J$41*E169^3 + '4th Order Polynomial TMP vs Res'!$K$41*E169^2 + '4th Order Polynomial TMP vs Res'!$L$41*E169 + '4th Order Polynomial TMP vs Res'!$M$41","v":109.06085005410972},-6.0850054109721441E-2]
[151,110,16212.026424839163,{"$f":"IF(B170 <= VLOOKUP(Main!$N$22,Coefficients!$E$2:$H$28,4,FALSE),E170,NA())","v":16458.910075978845},{"$f":"'4th Order Polynomial TMP vs Res'!$B$41+'4th Order Polynomial TMP vs Res'!$C$41*POWER(B170,1)+'4th Order Polynomial TMP vs Res'!$D$41*POWER(B170,2)+'4th Order Polynomial TMP vs Res'!$E$41*POWER(B170,3)+'4th Order Polynomial TMP vs Res'!$F$41*POWER(B170,4)","v":16458.910075978845},16705.793727118526,null,null,null,{"$f":"'4th Order Polynomial TMP vs Res'!$I$41*E170^4 + '4th Order Polynomial TMP vs Res'!$J$41*E170^3 + '4th Order Polynomial TMP vs Res'!$K$41*E170^2 + '4th Order Polynomial TMP vs Res'!$L$41*E170 + '4th Order Polynomial TMP vs Res'!$M$41","v":110.06066762668377},-6.0667626683766684E-2]
[152,111,16302.281370306395,{"$f":"IF(B171 <= VLOOKUP(Main!$N$22,Coefficients!$E$2:$H$28,4,FALSE),E171,NA())","v":16550.539462239994},{"$f":"'4th Order Polynomial TMP vs Res'!$B$41+'4th Order Polynomial TMP vs Res'!$C$41*POWER(B171,1)+'4th Order Polynomial TMP vs Res'!$D$41*POWER(B171,2)+'4th Order Polynomial TMP vs Res'!$E$41*POWER(B171,3)+'4th Order Polynomial TMP vs Res'!$F$41*POWER(B171,4)","v":16550.539462239994},16798.797554173594,null,null,null,{"$f":"'4th Order Polynomial TMP vs Res'!$I$41*E171^4 + '4th Order Polynomial TMP vs Res'!$J$41*E171^3 + '4th Order Polynomial TMP vs Res'!$K$41*E171^2 + '4th Order Polynomial TMP vs Res'!$L$41*E171 + '4th Order Polynomial TMP vs Res'!$M$41","v":111.05952467178832},-5.9524671788324213E-2]
[153,112,16392.909125467329,{"$f":"IF(B172 <= VLOOKUP(Main!$N$22,Coefficients!$E$2:$H$28,4,FALSE),E172,NA())","v":16642.547335499828},{"$f":"'4th Order Polynomial TMP vs Res'!$B$41+'4th Order Polynomial TMP vs Res'!$C$41*POWER(B172,1)+'4th Order Polynomial TMP vs Res'!$D$41*POWER(B172,2)+'4th Order Polynomial TMP vs Res'!$E$41*POWER(B172,3)+'4th Order Polynomial TMP vs Res'!$F$41*POWER(B172,4)","v":16642.547335499828},16892.185545532324,null,null,null,{"$f":"'4th Order Polynomial TMP vs Res'!$I$41*E172^4 + '4th Order Polynomial TMP vs Res'!$J$41*E172^3 + '4th Order Polynomial TMP vs Res'!$K$41*E172^2 + '4th Order Polynomial TMP vs Res'!$L$41*E172 + '4th Order Polynomial TMP vs Res'!$M$41","v":112.05731663543935},-5.7316635439349284E-2]
[154,113,16483.910703893525,{"$f":"IF(B173 <= VLOOKUP(Main!$N$22,Coefficients!$E$2:$H$28,4,FALSE),E173,NA())","v":16734.934724765},{"$f":"'4th Order Polynomial TMP vs Res'!$B$41+'4th Order Polynomial TMP vs Res'!$C$41*POWER(B173,1)+'4th Order Polynomial TMP vs Res'!$D$41*POWER(B173,2)+'4th Order Polynomial TMP vs Res'!$E$41*POWER(B173,3)+'4th Order Polynomial TMP vs Res'!$F$41*POWER(B173,4)","v":16734.934724765},16985.958745636475,null,null,null,{"$f":"'4th Order Polynomial TMP vs Res'!$I$41*E173^4 + '4th Order Polynomial TMP vs Res'!$J$41*E173^3 + '4th Order Polynomial TMP vs Res'!$K$41*E173^2 + '4th Order Polynomial TMP vs Res'!$L$41*E173 + '4th Order Polynomial TMP vs Res'!$M$41","v":113.05393326357074},-5.3933263570741019E-2]
[155,114,16575.287125113598,{"$f":"IF(B174 <= VLOOKUP(Main!$N$22,Coefficients!$E$2:$H$28,4,FALSE),E174,NA())","v":16827.70266508995},{"$f":"'4th Order Polynomial TMP vs Res'!$B$41+'4th Order Polynomial TMP vs Res'!$C$41*POWER(B174,1)+'4th Order Polynomial TMP vs Res'!$D$41*POWER(B174,2)+'4th Order Polynomial TMP vs Res'!$E$41*POWER(B174,3)+'4th Order Polynomial TMP vs Res'!$F$41*POWER(B174,4)","v":16827.70266508995},17080.118205066297,null,null,null,{"$f":"'4th Order Polynomial TMP vs Res'!$I$41*E174^4 + '4th Order Polynomial TMP vs Res'!$J$41*E174^3 + '4th Order Polynomial TMP vs Res'!$K$41*E174^2 + '4th Order Polynomial TMP vs Res'!$L$41*E174 + '4th Order Polynomial TMP vs Res'!$M$41","v":114.04925841417071},-4.925841417070842E-2]
[156,115,16667.039414613282,{"$f":"IF(B175 <= VLOOKUP(Main!$N$22,Coefficients!$E$2:$H$28,4,FALSE),E175,NA())","v":16920.852197576936},{"$f":"'4th Order Polynomial TMP vs Res'!$B$41+'4th Order Polynomial TMP vs Res'!$C$41*POWER(B175,1)+'4th Order Polynomial TMP vs Res'!$D$41*POWER(B175,2)+'4th Order Polynomial TMP vs Res'!$E$41*POWER(B175,3)+'4th Order Polynomial TMP vs Res'!$F$41*POWER(B175,4)","v":16920.852197576936},17174.66498054059,null,null,null,{"$f":"'4th Order Polynomial TMP vs Res'!$I$41*E175^4 + '4th Order Polynomial TMP vs Res'!$J$41*E175^3 + '4th Order Polynomial TMP vs Res'!$K$41*E175^2 + '4th Order Polynomial TMP vs Res'!$L$41*E175 + '4th Order Polynomial TMP vs Res'!$M$41","v":115.04316986517148},-4.316986517147825E-2]
[157,116,{"$f":"IFERROR(D176*0.985,NA())","v":16759.168603835398},{"$f":"IF(B176 <= VLOOKUP(Main!$N$22,Coefficients!$E$2:$H$28,4,FALSE),E176,NA())","v":17014.384369376039},{"$f":"'4th Order Polynomial TMP vs Res'!$B$41+'4th Order Polynomial TMP vs Res'!$C$41*POWER(B176,1)+'4th Order Polynomial TMP vs Res'!$D$41*POWER(B176,2)+'4th Order Polynomial TMP vs Res'!$E$41*POWER(B176,3)+'4th Order Polynomial TMP vs Res'!$F$41*POWER(B176,4)","v":17014.384369376039},{"$f":"IFERROR(D176*1.015,NA())","v":17269.600134916676},null,null,null,{"$f":"'4th Order Polynomial TMP vs Res'!$I$41*E176^4 + '4th Order Polynomial TMP vs Res'!$J$41*E176^3 + '4th Order Polynomial TMP vs Res'!$K$41*E176^2 + '4th Order Polynomial TMP vs Res'!$L$41*E176 + '4th Order Polynomial TMP vs Res'!$M$41","v":116.03553911801265},-3.5539118012650306E-2]
[158,117,16851.675730179857,{"$f":"IF(B177 <= VLOOKUP(Main!$N$22,Coefficients!$E$2:$H$28,4,FALSE),E177,NA())","v":17108.300233685135},{"$f":"'4th Order Polynomial TMP vs Res'!$B$41+'4th Order Polynomial TMP vs Res'!$C$41*POWER(B177,1)+'4th Order Polynomial TMP vs Res'!$D$41*POWER(B177,2)+'4th Order Polynomial TMP vs Res'!$E$41*POWER(B177,3)+'4th Order Polynomial TMP vs Res'!$F$41*POWER(B177,4)","v":17108.300233685135},17364.924737190409,null,null,null,{"$f":"'4th Order Polynomial TMP vs Res'!$I$41*E177^4 + '4th Order Polynomial TMP vs Res'!$J$41*E177^3 + '4th Order Polynomial TMP vs Res'!$K$41*E177^2 + '4th Order Polynomial TMP vs Res'!$L$41*E177 + '4th Order Polynomial TMP vs Res'!$M$41","v":117.02623119679646},-2.6231196796459244E-2]
[159,118,16944.561837003686,{"$f":"IF(B178 <= VLOOKUP(Main!$N$22,Coefficients!$E$2:$H$28,4,FALSE),E178,NA())","v":17202.600849749935},{"$f":"'4th Order Polynomial TMP vs Res'!$B$41+'4th Order Polynomial TMP vs Res'!$C$41*POWER(B178,1)+'4th Order Polynomial TMP vs Res'!$D$41*POWER(B178,2)+'4th Order Polynomial TMP vs Res'!$E$41*POWER(B178,3)+'4th Order Polynomial TMP vs Res'!$F$41*POWER(B178,4)","v":17202.600849749935},17460.639862496184,null,null,null,{"$f":"'4th Order Polynomial TMP vs Res'!$I$41*E178^4 + '4th Order Polynomial TMP vs Res'!$J$41*E178^3 + '4th Order Polynomial TMP vs Res'!$K$41*E178^2 + '4th Order Polynomial TMP vs Res'!$L$41*E178 + '4th Order Polynomial TMP vs Res'!$M$41","v":118.01510444294951},-1.5104442949507302E-2]
[160,119,17037.827973620981,{"$f":"IF(B179 <= VLOOKUP(Main!$N$22,Coefficients!$E$2:$H$28,4,FALSE),E179,NA())","v":17297.287282863941},{"$f":"'4th Order Polynomial TMP vs Res'!$B$41+'4th Order Polynomial TMP vs Res'!$C$41*POWER(B179,1)+'4th Order Polynomial TMP vs Res'!$D$41*POWER(B179,2)+'4th Order Polynomial TMP vs Res'!$E$41*POWER(B179,3)+'4th Order Polynomial TMP vs Res'!$F$41*POWER(B179,4)","v":17297.287282863941},17556.746592106898,null,null,null,{"$f":"'4th Order Polynomial TMP vs Res'!$I$41*E179^4 + '4th Order Polynomial TMP vs Res'!$J$41*E179^3 + '4th Order Polynomial TMP vs Res'!$K$41*E179^2 + '4th Order Polynomial TMP vs Res'!$L$41*E179 + '4th Order Polynomial TMP vs Res'!$M$41","v":119.00201030530474},-2.0103053047364483E-3]
[161,120,17131.475195302959,{"$f":"IF(B180 <= VLOOKUP(Main!$N$22,Coefficients!$E$2:$H$28,4,FALSE),E180,NA())","v":17392.360604368485},{"$f":"'4th Order Polynomial TMP vs Res'!$B$41+'4th Order Polynomial TMP vs Res'!$C$41*POWER(B180,1)+'4th Order Polynomial TMP vs Res'!$D$41*POWER(B180,2)+'4th Order Polynomial TMP vs Res'!$E$41*POWER(B180,3)+'4th Order Polynomial TMP vs Res'!$F$41*POWER(B180,4)","v":17392.360604368485},17653.246013434011,null,null,null,{"$f":"'4th Order Polynomial TMP vs Res'!$I$41*E180^4 + '4th Order Polynomial TMP vs Res'!$J$41*E180^3 + '4th Order Polynomial TMP vs Res'!$K$41*E180^2 + '4th Order Polynomial TMP vs Res'!$L$41*E180 + '4th Order Polynomial TMP vs Res'!$M$41","v":119.98679312552116},{"$f":"B180-J180","v":1.3206874478839836E-2}]
[162,121,17225.504563277904,{"$f":"IF(B181 <= VLOOKUP(Main!$N$22,Coefficients!$E$2:$H$28,4,FALSE),E181,NA())","v":17487.821891652693},{"$f":"'4th Order Polynomial TMP vs Res'!$B$41+'4th Order Polynomial TMP vs Res'!$C$41*POWER(B181,1)+'4th Order Polynomial TMP vs Res'!$D$41*POWER(B181,2)+'4th Order Polynomial TMP vs Res'!$E$41*POWER(B181,3)+'4th Order Polynomial TMP vs Res'!$F$41*POWER(B181,4)","v":17487.821891652693},17750.139220027482,null,null,null,{"$f":"'4th Order Polynomial TMP vs Res'!$I$41*E181^4 + '4th Order Polynomial TMP vs Res'!$J$41*E181^3 + '4th Order Polynomial TMP vs Res'!$K$41*E181^2 + '4th Order Polynomial TMP vs Res'!$L$41*E181 + '4th Order Polynomial TMP vs Res'!$M$41","v":120.96928991874603},3.0710081253971566E-2]
[163,122,17319.917144731226,{"$f":"IF(B182 <= VLOOKUP(Main!$N$22,Coefficients!$E$2:$H$28,4,FALSE),E182,NA())","v":17583.672228153529},{"$f":"'4th Order Polynomial TMP vs Res'!$B$41+'4th Order Polynomial TMP vs Res'!$C$41*POWER(B182,1)+'4th Order Polynomial TMP vs Res'!$D$41*POWER(B182,2)+'4th Order Polynomial TMP vs Res'!$E$41*POWER(B182,3)+'4th Order Polynomial TMP vs Res'!$F$41*POWER(B182,4)","v":17583.672228153529},17847.42731157583,null,null,null,{"$f":"'4th Order Polynomial TMP vs Res'!$I$41*E182^4 + '4th Order Polynomial TMP vs Res'!$J$41*E182^3 + '4th Order Polynomial TMP vs Res'!$K$41*E182^2 + '4th Order Polynomial TMP vs Res'!$L$41*E182 + '4th Order Polynomial TMP vs Res'!$M$41","v":121.9493301494378},5.0669850562201191E-2]
[164,123,17414.714012805405,{"$f":"IF(B183 <= VLOOKUP(Main!$N$22,Coefficients!$E$2:$H$28,4,FALSE),E183,NA())","v":17679.912703355742},{"$f":"'4th Order Polynomial TMP vs Res'!$B$41+'4th Order Polynomial TMP vs Res'!$C$41*POWER(B183,1)+'4th Order Polynomial TMP vs Res'!$D$41*POWER(B183,2)+'4th Order Polynomial TMP vs Res'!$E$41*POWER(B183,3)+'4th Order Polynomial TMP vs Res'!$F$41*POWER(B183,4)","v":17679.912703355742},17945.111393906074,null,null,null,{"$f":"'4th Order Polynomial TMP vs Res'!$I$41*E183^4 + '4th Order Polynomial TMP vs Res'!$J$41*E183^3 + '4th Order Polynomial TMP vs Res'!$K$41*E183^2 + '4th Order Polynomial TMP vs Res'!$L$41*E183 + '4th Order Polynomial TMP vs Res'!$M$41","v":122.92673550224828},7.3264497751722502E-2]
[165,124,17509.896246600038,{"$f":"IF(B184 <= VLOOKUP(Main!$N$22,Coefficients!$E$2:$H$28,4,FALSE),E184,NA())","v":17776.544412791918},{"$f":"'4th Order Polynomial TMP vs Res'!$B$41+'4th Order Polynomial TMP vs Res'!$C$41*POWER(B184,1)+'4th Order Polynomial TMP vs Res'!$D$41*POWER(B184,2)+'4th Order Polynomial TMP vs Res'!$E$41*POWER(B184,3)+'4th Order Polynomial TMP vs Res'!$F$41*POWER(B184,4)","v":17776.544412791918},18043.192578983795,null,null,null,{"$f":"'4th Order Polynomial TMP vs Res'!$I$41*E184^4 + '4th Order Polynomial TMP vs Res'!$J$41*E184^3 + '4th Order Polynomial TMP vs Res'!$K$41*E184^2 + '4th Order Polynomial TMP vs Res'!$L$41*E184 + '4th Order Polynomial TMP vs Res'!$M$41","v":123.90131964788344},9.8680352116559789E-2]
[166,125,17605.464931171799,{"$f":"IF(B185 <= VLOOKUP(Main!$N$22,Coefficients!$E$2:$H$28,4,FALSE),E185,NA())","v":17873.568458042435},{"$f":"'4th Order Polynomial TMP vs Res'!$B$41+'4th Order Polynomial TMP vs Res'!$C$41*POWER(B185,1)+'4th Order Polynomial TMP vs Res'!$D$41*POWER(B185,2)+'4th Order Polynomial TMP vs Res'!$E$41*POWER(B185,3)+'4th Order Polynomial TMP vs Res'!$F$41*POWER(B185,4)","v":17873.568458042435},18141.671984913071,null,null,null,{"$f":"'4th Order Polynomial TMP vs Res'!$I$41*E185^4 + '4th Order Polynomial TMP vs Res'!$J$41*E185^3 + '4th Order Polynomial TMP vs Res'!$K$41*E185^2 + '4th Order Polynomial TMP vs Res'!$L$41*E185 + '4th Order Polynomial TMP vs Res'!$M$41","v":124.87288800383504},0.12711199616495605]
[167,126,{"$error":"#N/A"},{"$f":"IF(B186 <= VLOOKUP(Main!$N$22,Coefficients!$E$2:$H$28,4,FALSE),E186,NA())","v":{"$error":"#N/A"}},{"$f":"'4th Order Polynomial TMP vs Res'!$B$41+'4th Order Polynomial TMP vs Res'!$C$41*POWER(B186,1)+'4th Order Polynomial TMP vs Res'!$D$41*POWER(B186,2)+'4th Order Polynomial TMP vs Res'!$E$41*POWER(B186,3)+'4th Order Polynomial TMP vs Res'!$F$41*POWER(B186,4)","v":17970.985946735505},{"$error":"#N/A"},null,null,null,{"$f":"'4th Order Polynomial TMP vs Res'!$I$41*E186^4 + '4th Order Polynomial TMP vs Res'!$J$41*E186^3 + '4th Order Polynomial TMP vs Res'!$K$41*E186^2 + '4th Order Polynomial TMP vs Res'!$L$41*E186 + '4th Order Polynomial TMP vs Res'!$M$41","v":125.84123748989708},{"$f":"IF((VLOOKUP(Main!$N$22,Coefficients!$E$2:$H$28,4,FALSE)) = 125, NA(), B186-J186)","v":{"$error":"#N/A"}}]
[168,127,{"$error":"#N/A"},{"$f":"IF(B187 <= VLOOKUP(Main!$N$22,Coefficients!$E$2:$H$28,4,FALSE),E187,NA())","v":{"$error":"#N/A"}},{"$f":"'4th Order Polynomial TMP vs Res'!$B$41+'4th Order Polynomial TMP vs Res'!$C$41*POWER(B187,1)+'4th Order Polynomial TMP vs Res'!$D$41*POWER(B187,2)+'4th Order Polynomial TMP vs Res'!$E$41*POWER(B187,3)+'4th Order Polynomial TMP vs Res'!$F$41*POWER(B187,4)","v":18068.79799254713},{"$error":"#N/A"},null,null,null,{"$f":"'4th Order Polynomial TMP vs Res'!$I$41*E187^4 + '4th Order Polynomial TMP vs Res'!$J$41*E187^3 + '4th Order Polynomial TMP vs Res'!$K$41*E187^2 + '4th Order Polynomial TMP vs Res'!$L$41*E187 + '4th Order Polynomial TMP vs Res'!$M$41","v":126.80615627836534},{"$f":"IF((VLOOKUP(Main!$N$22,Coefficients!$E$2:$H$28,4,FALSE)) = 125, NA(), B187-J187)","v":{"$error":"#N/A"}}]
[169,128,{"$error":"#N/A"},{"$f":"IF(B188 <= VLOOKUP(Main!$N$22,Coefficients!$E$2:$H$28,4,FALSE),E188,NA())","v":{"$error":"#N/A"}},{"$f":"'4th Order Polynomial TMP vs Res'!$B$41+'4th Order Polynomial TMP vs Res'!$C$41*POWER(B188,1)+'4th Order Polynomial TMP vs Res'!$D$41*POWER(B188,2)+'4th Order Polynomial TMP vs Res'!$E$41*POWER(B188,3)+'4th Order Polynomial TMP vs Res'!$F$41*POWER(B188,4)","v":18167.00571520114},{"$error":"#N/A"},null,null,null,{"$f":"'4th Order Polynomial TMP vs Res'!$I$41*E188^4 + '4th Order Polynomial TMP vs Res'!$J$41*E188^3 + '4th Order Polynomial TMP vs Res'!$K$41*E188^2 + '4th Order Polynomial TMP vs Res'!$L$41*E188 + '4th Order Polynomial TMP vs Res'!$M$41","v":127.76742353881792},{"$f":"IF((VLOOKUP(Main!$N$22,Coefficients!$E$2:$H$28,4,FALSE)) = 125, NA(), B188-J188)","v":{"$error":"#N/A"}}]
[170,129,{"$error":"#N/A"},{"$f":"IF(B189 <= VLOOKUP(Main!$N$22,Coefficients!$E$2:$H$28,4,FALSE),E189,NA())","v":{"$error":"#N/A"}},{"$f":"'4th Order Polynomial TMP vs Res'!$B$41+'4th Order Polynomial TMP vs Res'!$C$41*POWER(B189,1)+'4th Order Polynomial TMP vs Res'!$D$41*POWER(B189,2)+'4th Order Polynomial TMP vs Res'!$E$41*POWER(B189,3)+'4th Order Polynomial TMP vs Res'!$F$41*POWER(B189,4)","v":18265.610240469174},{"$error":"#N/A"},null,null,null,{"$f":"'4th Order Polynomial TMP vs Res'!$I$41*E189^4 + '4th Order Polynomial TMP vs Res'!$J$41*E189^3 + '4th Order Polynomial TMP vs Res'!$K$41*E189^2 + '4th Order Polynomial TMP vs Res'!$L$41*E189 + '4th Order Polynomial TMP vs Res'!$M$41","v":128.72480917738091},{"$f":"IF((VLOOKUP(Main!$N$22,Coefficients!$E$2:$H$28,4,FALSE)) = 125, NA(), B189-J189)","v":{"$error":"#N/A"}}]
[171,130,{"$error":"#N/A"},{"$f":"IF(B190 <= VLOOKUP(Main!$N$22,Coefficients!$E$2:$H$28,4,FALSE),E190,NA())","v":{"$error":"#N/A"}},{"$f":"'4th Order Polynomial TMP vs Res'!$B$41+'4th Order Polynomial TMP vs Res'!$C$41*POWER(B190,1)+'4th Order Polynomial TMP vs Res'!$D$41*POWER(B190,2)+'4th Order Polynomial TMP vs Res'!$E$41*POWER(B190,3)+'4th Order Polynomial TMP vs Res'!$F$41*POWER(B190,4)","v":18364.612700170677},{"$error":"#N/A"},null,null,null,{"$f":"'4th Order Polynomial TMP vs Res'!$I$41*E190^4 + '4th Order Polynomial TMP vs Res'!$J$41*E190^3 + '4th Order Polynomial TMP vs Res'!$K$41*E190^2 + '4th Order Polynomial TMP vs Res'!$L$41*E190 + '4th Order Polynomial TMP vs Res'!$M$41","v":129.67807357037196},{"$f":"IF((VLOOKUP(Main!$N$22,Coefficients!$E$2:$H$28,4,FALSE)) = 125, NA(), B190-J190)","v":{"$error":"#N/A"}}]
[172,131,{"$error":"#N/A"},{"$f":"IF(B191 <= VLOOKUP(Main!$N$22,Coefficients!$E$2:$H$28,4,FALSE),E191,NA())","v":{"$error":"#N/A"}},{"$f":"'4th Order Polynomial TMP vs Res'!$B$41+'4th Order Polynomial TMP vs Res'!$C$41*POWER(B191,1)+'4th Order Polynomial TMP vs Res'!$D$41*POWER(B191,2)+'4th Order Polynomial TMP vs Res'!$E$41*POWER(B191,3)+'4th Order Polynomial TMP vs Res'!$F$41*POWER(B191,4)","v":18464.014232172922},{"$error":"#N/A"},null,null,null,{"$f":"'4th Order Polynomial TMP vs Res'!$I$41*E191^4 + '4th Order Polynomial TMP vs Res'!$J$41*E191^3 + '4th Order Polynomial TMP vs Res'!$K$41*E191^2 + '4th Order Polynomial TMP vs Res'!$L$41*E191 + '4th Order Polynomial TMP vs Res'!$M$41","v":130.62696729221915},{"$f":"IF((VLOOKUP(Main!$N$22,Coefficients!$E$2:$H$28,4,FALSE)) = 125, NA(), B191-J191)","v":{"$error":"#N/A"}}]
[173,132,{"$error":"#N/A"},{"$f":"IF(B192 <= VLOOKUP(Main!$N$22,Coefficients!$E$2:$H$28,4,FALSE),E192,NA())","v":{"$error":"#N/A"}},{"$f":"'4th Order Polynomial TMP vs Res'!$B$41+'4th Order Polynomial TMP vs Res'!$C$41*POWER(B192,1)+'4th Order Polynomial TMP vs Res'!$D$41*POWER(B192,2)+'4th Order Polynomial TMP vs Res'!$E$41*POWER(B192,3)+'4th Order Polynomial TMP vs Res'!$F$41*POWER(B192,4)","v":18563.81598039098},{"$error":"#N/A"},null,null,null,{"$f":"'4th Order Polynomial TMP vs Res'!$I$41*E192^4 + '4th Order Polynomial TMP vs Res'!$J$41*E192^3 + '4th Order Polynomial TMP vs Res'!$K$41*E192^2 + '4th Order Polynomial TMP vs Res'!$L$41*E192 + '4th Order Polynomial TMP vs Res'!$M$41","v":131.57123083754783},{"$f":"IF((VLOOKUP(Main!$N$22,Coefficients!$E$2:$H$28,4,FALSE)) = 125, NA(), B192-J192)","v":{"$error":"#N/A"}}]
[174,133,{"$error":"#N/A"},{"$f":"IF(B193 <= VLOOKUP(Main!$N$22,Coefficients!$E$2:$H$28,4,FALSE),E193,NA())","v":{"$error":"#N/A"}},{"$f":"'4th Order Polynomial TMP vs Res'!$B$41+'4th Order Polynomial TMP vs Res'!$C$41*POWER(B193,1)+'4th Order Polynomial TMP vs Res'!$D$41*POWER(B193,2)+'4th Order Polynomial TMP vs Res'!$E$41*POWER(B193,3)+'4th Order Polynomial TMP vs Res'!$F$41*POWER(B193,4)","v":18664.019094787742},{"$error":"#N/A"},null,null,null,{"$f":"'4th Order Polynomial TMP vs Res'!$I$41*E193^4 + '4th Order Polynomial TMP vs Res'!$J$41*E193^3 + '4th Order Polynomial TMP vs Res'!$K$41*E193^2 + '4th Order Polynomial TMP vs Res'!$L$41*E193 + '4th Order Polynomial TMP vs Res'!$M$41","v":132.51059433732831},{"$f":"IF((VLOOKUP(Main!$N$22,Coefficients!$E$2:$H$28,4,FALSE)) = 125, NA(), B193-J193)","v":{"$error":"#N/A"}}]
[175,134,{"$error":"#N/A"},{"$f":"IF(B194 <= VLOOKUP(Main!$N$22,Coefficients!$E$2:$H$28,4,FALSE),E194,NA())","v":{"$error":"#N/A"}},{"$f":"'4th Order Polynomial TMP vs Res'!$B$41+'4th Order Polynomial TMP vs Res'!$C$41*POWER(B194,1)+'4th Order Polynomial TMP vs Res'!$D$41*POWER(B194,2)+'4th Order Polynomial TMP vs Res'!$E$41*POWER(B194,3)+'4th Order Polynomial TMP vs Res'!$F$41*POWER(B194,4)","v":18764.624731373908},{"$error":"#N/A"},null,null,null,{"$f":"'4th Order Polynomial TMP vs Res'!$I$41*E194^4 + '4th Order Polynomial TMP vs Res'!$J$41*E194^3 + '4th Order Polynomial TMP vs Res'!$K$41*E194^2 + '4th Order Polynomial TMP vs Res'!$L$41*E194 + '4th Order Polynomial TMP vs Res'!$M$41","v":133.44477726897168},{"$f":"IF((VLOOKUP(Main!$N$22,Coefficients!$E$2:$H$28,4,FALSE)) = 125, NA(), B194-J194)","v":{"$error":"#N/A"}}]
[176,135,{"$error":"#N/A"},{"$f":"IF(B195 <= VLOOKUP(Main!$N$22,Coefficients!$E$2:$H$28,4,FALSE),E195,NA())","v":{"$error":"#N/A"}},{"$f":"'4th Order Polynomial TMP vs Res'!$B$41+'4th Order Polynomial TMP vs Res'!$C$41*POWER(B195,1)+'4th Order Polynomial TMP vs Res'!$D$41*POWER(B195,2)+'4th Order Polynomial TMP vs Res'!$E$41*POWER(B195,3)+'4th Order Polynomial TMP vs Res'!$F$41*POWER(B195,4)","v":18865.634052207995},{"$error":"#N/A"},null,null,null,{"$f":"'4th Order Polynomial TMP vs Res'!$I$41*E195^4 + '4th Order Polynomial TMP vs Res'!$J$41*E195^3 + '4th Order Polynomial TMP vs Res'!$K$41*E195^2 + '4th Order Polynomial TMP vs Res'!$L$41*E195 + '4th Order Polynomial TMP vs Res'!$M$41","v":134.3734881602665},{"$f":"IF((VLOOKUP(Main!$N$22,Coefficients!$E$2:$H$28,4,FALSE)) = 125, NA(), B195-J195)","v":{"$error":"#N/A"}}]
[177,136,{"$error":"#N/A"},{"$f":"IF(B196 <= VLOOKUP(Main!$N$22,Coefficients!$E$2:$H$28,4,FALSE),E196,NA())","v":{"$error":"#N/A"}},{"$f":"'4th Order Polynomial TMP vs Res'!$B$41+'4th Order Polynomial TMP vs Res'!$C$41*POWER(B196,1)+'4th Order Polynomial TMP vs Res'!$D$41*POWER(B196,2)+'4th Order Polynomial TMP vs Res'!$E$41*POWER(B196,3)+'4th Order Polynomial TMP vs Res'!$F$41*POWER(B196,4)","v":18967.048225396324},{"$error":"#N/A"},null,null,null,{"$f":"'4th Order Polynomial TMP vs Res'!$I$41*E196^4 + '4th Order Polynomial TMP vs Res'!$J$41*E196^3 + '4th Order Polynomial TMP vs Res'!$K$41*E196^2 + '4th Order Polynomial TMP vs Res'!$L$41*E196 + '4th Order Polynomial TMP vs Res'!$M$41","v":135.2964242870359},{"$f":"IF((VLOOKUP(Main!$N$22,Coefficients!$E$2:$H$28,4,FALSE)) = 125, NA(), B196-J196)","v":{"$error":"#N/A"}}]
[178,137,{"$error":"#N/A"},{"$f":"IF(B197 <= VLOOKUP(Main!$N$22,Coefficients!$E$2:$H$28,4,FALSE),E197,NA())","v":{"$error":"#N/A"}},{"$f":"'4th Order Polynomial TMP vs Res'!$B$41+'4th Order Polynomial TMP vs Res'!$C$41*POWER(B197,1)+'4th Order Polynomial TMP vs Res'!$D$41*POWER(B197,2)+'4th Order Polynomial TMP vs Res'!$E$41*POWER(B197,3)+'4th Order Polynomial TMP vs Res'!$F$41*POWER(B197,4)","v":19068.868425093042},{"$error":"#N/A"},null,null,null,{"$f":"'4th Order Polynomial TMP vs Res'!$I$41*E197^4 + '4th Order Polynomial TMP vs Res'!$J$41*E197^3 + '4th Order Polynomial TMP vs Res'!$K$41*E197^2 + '4th Order Polynomial TMP vs Res'!$L$41*E197 + '4th Order Polynomial TMP vs Res'!$M$41","v":136.21327136440783},{"$f":"IF((VLOOKUP(Main!$N$22,Coefficients!$E$2:$H$28,4,FALSE)) = 125, NA(), B197-J197)","v":{"$error":"#N/A"}}]
[179,138,{"$error":"#N/A"},{"$f":"IF(B198 <= VLOOKUP(Main!$N$22,Coefficients!$E$2:$H$28,4,FALSE),E198,NA())","v":{"$error":"#N/A"}},{"$f":"'4th Order Polynomial TMP vs Res'!$B$41+'4th Order Polynomial TMP vs Res'!$C$41*POWER(B198,1)+'4th Order Polynomial TMP vs Res'!$D$41*POWER(B198,2)+'4th Order Polynomial TMP vs Res'!$E$41*POWER(B198,3)+'4th Order Polynomial TMP vs Res'!$F$41*POWER(B198,4)","v":19171.095831500097},{"$error":"#N/A"},null,null,null,{"$f":"'4th Order Polynomial TMP vs Res'!$I$41*E198^4 + '4th Order Polynomial TMP vs Res'!$J$41*E198^3 + '4th Order Polynomial TMP vs Res'!$K$41*E198^2 + '4th Order Polynomial TMP vs Res'!$L$41*E198 + '4th Order Polynomial TMP vs Res'!$M$41","v":137.12370323157228},{"$f":"IF((VLOOKUP(Main!$N$22,Coefficients!$E$2:$H$28,4,FALSE)) = 125, NA(), B198-J198)","v":{"$error":"#N/A"}}]
[180,139,{"$error":"#N/A"},{"$f":"IF(B199 <= VLOOKUP(Main!$N$22,Coefficients!$E$2:$H$28,4,FALSE),E199,NA())","v":{"$error":"#N/A"}},{"$f":"'4th Order Polynomial TMP vs Res'!$B$41+'4th Order Polynomial TMP vs Res'!$C$41*POWER(B199,1)+'4th Order Polynomial TMP vs Res'!$D$41*POWER(B199,2)+'4th Order Polynomial TMP vs Res'!$E$41*POWER(B199,3)+'4th Order Polynomial TMP vs Res'!$F$41*POWER(B199,4)","v":19273.731630867253},{"$error":"#N/A"},null,null,null,{"$f":"'4th Order Polynomial TMP vs Res'!$I$41*E199^4 + '4th Order Polynomial TMP vs Res'!$J$41*E199^3 + '4th Order Polynomial TMP vs Res'!$K$41*E199^2 + '4th Order Polynomial TMP vs Res'!$L$41*E199 + '4th Order Polynomial TMP vs Res'!$M$41","v":138.0273815299102},{"$f":"IF((VLOOKUP(Main!$N$22,Coefficients!$E$2:$H$28,4,FALSE)) = 125, NA(), B199-J199)","v":{"$error":"#N/A"}}]
[181,140,{"$error":"#N/A"},{"$f":"IF(B200 <= VLOOKUP(Main!$N$22,Coefficients!$E$2:$H$28,4,FALSE),E200,NA())","v":{"$error":"#N/A"}},{"$f":"'4th Order Polynomial TMP vs Res'!$B$41+'4th Order Polynomial TMP vs Res'!$C$41*POWER(B200,1)+'4th Order Polynomial TMP vs Res'!$D$41*POWER(B200,2)+'4th Order Polynomial TMP vs Res'!$E$41*POWER(B200,3)+'4th Order Polynomial TMP vs Res'!$F$41*POWER(B200,4)","v":19376.777015492098},{"$error":"#N/A"},null,null,null,{"$f":"'4th Order Polynomial TMP vs Res'!$I$41*E200^4 + '4th Order Polynomial TMP vs Res'!$J$41*E200^3 + '4th Order Polynomial TMP vs Res'!$K$41*E200^2 + '4th Order Polynomial TMP vs Res'!$L$41*E200 + '4th Order Polynomial TMP vs Res'!$M$41","v":138.92395537437625},{"$f":"IF((VLOOKUP(Main!$N$22,Coefficients!$E$2:$H$28,4,FALSE)) = 125, NA(), B200-J200)","v":{"$error":"#N/A"}}]
[182,141,{"$error":"#N/A"},{"$f":"IF(B201 <= VLOOKUP(Main!$N$22,Coefficients!$E$2:$H$28,4,FALSE),E201,NA())","v":{"$error":"#N/A"}},{"$f":"'4th Order Polynomial TMP vs Res'!$B$41+'4th Order Polynomial TMP vs Res'!$C$41*POWER(B201,1)+'4th Order Polynomial TMP vs Res'!$D$41*POWER(B201,2)+'4th Order Polynomial TMP vs Res'!$E$41*POWER(B201,3)+'4th Order Polynomial TMP vs Res'!$F$41*POWER(B201,4)","v":19480.233183720007},{"$error":"#N/A"},null,null,null,{"$f":"'4th Order Polynomial TMP vs Res'!$I$41*E201^4 + '4th Order Polynomial TMP vs Res'!$J$41*E201^3 + '4th Order Polynomial TMP vs Res'!$K$41*E201^2 + '4th Order Polynomial TMP vs Res'!$L$41*E201 + '4th Order Polynomial TMP vs Res'!$M$41","v":139.81306101800061},{"$f":"IF((VLOOKUP(Main!$N$22,Coefficients!$E$2:$H$28,4,FALSE)) = 125, NA(), B201-J201)","v":{"$error":"#N/A"}}]
[183,142,{"$error":"#N/A"},{"$f":"IF(B202 <= VLOOKUP(Main!$N$22,Coefficients!$E$2:$H$28,4,FALSE),E202,NA())","v":{"$error":"#N/A"}},{"$f":"'4th Order Polynomial TMP vs Res'!$B$41+'4th Order Polynomial TMP vs Res'!$C$41*POWER(B202,1)+'4th Order Polynomial TMP vs Res'!$D$41*POWER(B202,2)+'4th Order Polynomial TMP vs Res'!$E$41*POWER(B202,3)+'4th Order Polynomial TMP vs Res'!$F$41*POWER(B202,4)","v":19584.101339944194},{"$error":"#N/A"},null,null,null,{"$f":"'4th Order Polynomial TMP vs Res'!$I$41*E202^4 + '4th Order Polynomial TMP vs Res'!$J$41*E202^3 + '4th Order Polynomial TMP vs Res'!$K$41*E202^2 + '4th Order Polynomial TMP vs Res'!$L$41*E202 + '4th Order Polynomial TMP vs Res'!$M$41","v":140.69432150939707},{"$f":"IF((VLOOKUP(Main!$N$22,Coefficients!$E$2:$H$28,4,FALSE)) = 125, NA(), B202-J202)","v":{"$error":"#N/A"}}]
[184,143,{"$error":"#N/A"},{"$f":"IF(B203 <= VLOOKUP(Main!$N$22,Coefficients!$E$2:$H$28,4,FALSE),E203,NA())","v":{"$error":"#N/A"}},{"$f":"'4th Order Polynomial TMP vs Res'!$B$41+'4th Order Polynomial TMP vs Res'!$C$41*POWER(B203,1)+'4th Order Polynomial TMP vs Res'!$D$41*POWER(B203,2)+'4th Order Polynomial TMP vs Res'!$E$41*POWER(B203,3)+'4th Order Polynomial TMP vs Res'!$F$41*POWER(B203,4)","v":19688.382694605665},{"$error":"#N/A"},null,null,null,{"$f":"'4th Order Polynomial TMP vs Res'!$I$41*E203^4 + '4th Order Polynomial TMP vs Res'!$J$41*E203^3 + '4th Order Polynomial TMP vs Res'!$K$41*E203^2 + '4th Order Polynomial TMP vs Res'!$L$41*E203 + '4th Order Polynomial TMP vs Res'!$M$41","v":141.56734634313995},{"$f":"IF((VLOOKUP(Main!$N$22,Coefficients!$E$2:$H$28,4,FALSE)) = 125, NA(), B203-J203)","v":{"$error":"#N/A"}}]
[185,144,{"$error":"#N/A"},{"$f":"IF(B204 <= VLOOKUP(Main!$N$22,Coefficients!$E$2:$H$28,4,FALSE),E204,NA())","v":{"$error":"#N/A"}},{"$f":"'4th Order Polynomial TMP vs Res'!$B$41+'4th Order Polynomial TMP vs Res'!$C$41*POWER(B204,1)+'4th Order Polynomial TMP vs Res'!$D$41*POWER(B204,2)+'4th Order Polynomial TMP vs Res'!$E$41*POWER(B204,3)+'4th Order Polynomial TMP vs Res'!$F$41*POWER(B204,4)","v":19793.078464193262},{"$error":"#N/A"},null,null,null,{"$f":"'4th Order Polynomial TMP vs Res'!$I$41*E204^4 + '4th Order Polynomial TMP vs Res'!$J$41*E204^3 + '4th Order Polynomial TMP vs Res'!$K$41*E204^2 + '4th Order Polynomial TMP vs Res'!$L$41*E204 + '4th Order Polynomial TMP vs Res'!$M$41","v":142.43173110288461},{"$f":"IF((VLOOKUP(Main!$N$22,Coefficients!$E$2:$H$28,4,FALSE)) = 125, NA(), B204-J204)","v":{"$error":"#N/A"}}]
[186,145,{"$error":"#N/A"},{"$f":"IF(B205 <= VLOOKUP(Main!$N$22,Coefficients!$E$2:$H$28,4,FALSE),E205,NA())","v":{"$error":"#N/A"}},{"$f":"'4th Order Polynomial TMP vs Res'!$B$41+'4th Order Polynomial TMP vs Res'!$C$41*POWER(B205,1)+'4th Order Polynomial TMP vs Res'!$D$41*POWER(B205,2)+'4th Order Polynomial TMP vs Res'!$E$41*POWER(B205,3)+'4th Order Polynomial TMP vs Res'!$F$41*POWER(B205,4)","v":19898.189871243616},{"$error":"#N/A"},null,null,null,{"$f":"'4th Order Polynomial TMP vs Res'!$I$41*E205^4 + '4th Order Polynomial TMP vs Res'!$J$41*E205^3 + '4th Order Polynomial TMP vs Res'!$K$41*E205^2 + '4th Order Polynomial TMP vs Res'!$L$41*E205 + '4th Order Polynomial TMP vs Res'!$M$41","v":143.2870570971009},{"$f":"IF((VLOOKUP(Main!$N$22,Coefficients!$E$2:$H$28,4,FALSE)) = 125, NA(), B205-J205)","v":{"$error":"#N/A"}}]
[187,146,{"$error":"#N/A"},{"$f":"IF(B206 <= VLOOKUP(Main!$N$22,Coefficients!$E$2:$H$28,4,FALSE),E206,NA())","v":{"$error":"#N/A"}},{"$f":"'4th Order Polynomial TMP vs Res'!$B$41+'4th Order Polynomial TMP vs Res'!$C$41*POWER(B206,1)+'4th Order Polynomial TMP vs Res'!$D$41*POWER(B206,2)+'4th Order Polynomial TMP vs Res'!$E$41*POWER(B206,3)+'4th Order Polynomial TMP vs Res'!$F$41*POWER(B206,4)","v":20003.718144341183},{"$error":"#N/A"},null,null,null,{"$f":"'4th Order Polynomial TMP vs Res'!$I$41*E206^4 + '4th Order Polynomial TMP vs Res'!$J$41*E206^3 + '4th Order Polynomial TMP vs Res'!$K$41*E206^2 + '4th Order Polynomial TMP vs Res'!$L$41*E206 + '4th Order Polynomial TMP vs Res'!$M$41","v":144.13289098727734},{"$f":"IF((VLOOKUP(Main!$N$22,Coefficients!$E$2:$H$28,4,FALSE)) = 125, NA(), B206-J206)","v":{"$error":"#N/A"}}]
[188,147,{"$error":"#N/A"},{"$f":"IF(B207 <= VLOOKUP(Main!$N$22,Coefficients!$E$2:$H$28,4,FALSE),E207,NA())","v":{"$error":"#N/A"}},{"$f":"'4th Order Polynomial TMP vs Res'!$B$41+'4th Order Polynomial TMP vs Res'!$C$41*POWER(B207,1)+'4th Order Polynomial TMP vs Res'!$D$41*POWER(B207,2)+'4th Order Polynomial TMP vs Res'!$E$41*POWER(B207,3)+'4th Order Polynomial TMP vs Res'!$F$41*POWER(B207,4)","v":20109.664518118228},{"$error":"#N/A"},null,null,null,{"$f":"'4th Order Polynomial TMP vs Res'!$I$41*E207^4 + '4th Order Polynomial TMP vs Res'!$J$41*E207^3 + '4th Order Polynomial TMP vs Res'!$K$41*E207^2 + '4th Order Polynomial TMP vs Res'!$L$41*E207 + '4th Order Polynomial TMP vs Res'!$M$41","v":144.9687844084695},{"$f":"IF((VLOOKUP(Main!$N$22,Coefficients!$E$2:$H$28,4,FALSE)) = 125, NA(), B207-J207)","v":{"$error":"#N/A"}}]
[189,148,{"$error":"#N/A"},{"$f":"IF(B208 <= VLOOKUP(Main!$N$22,Coefficients!$E$2:$H$28,4,FALSE),E208,NA())","v":{"$error":"#N/A"}},{"$f":"'4th Order Polynomial TMP vs Res'!$B$41+'4th Order Polynomial TMP vs Res'!$C$41*POWER(B208,1)+'4th Order Polynomial TMP vs Res'!$D$41*POWER(B208,2)+'4th Order Polynomial TMP vs Res'!$E$41*POWER(B208,3)+'4th Order Polynomial TMP vs Res'!$F$41*POWER(B208,4)","v":20216.030233254834},{"$error":"#N/A"},null,null,null,{"$f":"'4th Order Polynomial TMP vs Res'!$I$41*E208^4 + '4th Order Polynomial TMP vs Res'!$J$41*E208^3 + '4th Order Polynomial TMP vs Res'!$K$41*E208^2 + '4th Order Polynomial TMP vs Res'!$L$41*E208 + '4th Order Polynomial TMP vs Res'!$M$41","v":145.79427358204856},{"$f":"IF((VLOOKUP(Main!$N$22,Coefficients!$E$2:$H$28,4,FALSE)) = 125, NA(), B208-J208)","v":{"$error":"#N/A"}}]
[190,149,{"$error":"#N/A"},{"$f":"IF(B209 <= VLOOKUP(Main!$N$22,Coefficients!$E$2:$H$28,4,FALSE),E209,NA())","v":{"$error":"#N/A"}},{"$f":"'4th Order Polynomial TMP vs Res'!$B$41+'4th Order Polynomial TMP vs Res'!$C$41*POWER(B209,1)+'4th Order Polynomial TMP vs Res'!$D$41*POWER(B209,2)+'4th Order Polynomial TMP vs Res'!$E$41*POWER(B209,3)+'4th Order Polynomial TMP vs Res'!$F$41*POWER(B209,4)","v":20322.816536478891},{"$error":"#N/A"},null,null,null,{"$f":"'4th Order Polynomial TMP vs Res'!$I$41*E209^4 + '4th Order Polynomial TMP vs Res'!$J$41*E209^3 + '4th Order Polynomial TMP vs Res'!$K$41*E209^2 + '4th Order Polynomial TMP vs Res'!$L$41*E209 + '4th Order Polynomial TMP vs Res'!$M$41","v":146.60887892050863},{"$f":"IF((VLOOKUP(Main!$N$22,Coefficients!$E$2:$H$28,4,FALSE)) = 125, NA(), B209-J209)","v":{"$error":"#N/A"}}]
[191,150,{"$error":"#N/A"},{"$f":"IF(B210 <= VLOOKUP(Main!$N$22,Coefficients!$E$2:$H$28,4,FALSE),E210,NA())","v":{"$error":"#N/A"}},{"$f":"'4th Order Polynomial TMP vs Res'!$B$41+'4th Order Polynomial TMP vs Res'!$C$41*POWER(B210,1)+'4th Order Polynomial TMP vs Res'!$D$41*POWER(B210,2)+'4th Order Polynomial TMP vs Res'!$E$41*POWER(B210,3)+'4th Order Polynomial TMP vs Res'!$F$41*POWER(B210,4)","v":20430.024680566105},{"$error":"#N/A"},null,null,null,{"$f":"'4th Order Polynomial TMP vs Res'!$I$41*E210^4 + '4th Order Polynomial TMP vs Res'!$J$41*E210^3 + '4th Order Polynomial TMP vs Res'!$K$41*E210^2 + '4th Order Polynomial TMP vs Res'!$L$41*E210 + '4th Order Polynomial TMP vs Res'!$M$41","v":147.41210462419127},{"$f":"IF((VLOOKUP(Main!$N$22,Coefficients!$E$2:$H$28,4,FALSE)) = 125, NA(), B210-J210)","v":{"$error":"#N/A"}}]
[192,151,{"$f":"IFERROR(D211*0.975,NA())","v":{"$error":"#N/A"}},{"$f":"IF(B211 <= VLOOKUP(Main!$N$22,Coefficients!$E$2:$H$28,4,FALSE),E211,NA())","v":{"$error":"#N/A"}},{"$f":"'4th Order Polynomial TMP vs Res'!$B$41+'4th Order Polynomial TMP vs Res'!$C$41*POWER(B211,1)+'4th Order Polynomial TMP vs Res'!$D$41*POWER(B211,2)+'4th Order Polynomial TMP vs Res'!$E$41*POWER(B211,3)+'4th Order Polynomial TMP vs Res'!$F$41*POWER(B211,4)","v":20537.655924339986},{"$f":"IFERROR(D211*1.025,NA())","v":{"$error":"#N/A"}},null,null,null,{"$f":"'4th Order Polynomial TMP vs Res'!$I$41*E211^4 + '4th Order Polynomial TMP vs Res'!$J$41*E211^3 + '4th Order Polynomial TMP vs Res'!$K$41*E211^2 + '4th Order Polynomial TMP vs Res'!$L$41*E211 + '4th Order Polynomial TMP vs Res'!$M$41","v":148.20343826978075},{"$f":"IF((VLOOKUP(Main!$N$22,Coefficients!$E$2:$H$28,4,FALSE)) = 125, NA(), B211-J211)","v":{"$error":"#N/A"}}]
[193,152,{"$f":"IFERROR(D212*0.975,NA())","v":{"$error":"#N/A"}},{"$f":"IF(B212 <= VLOOKUP(Main!$N$22,Coefficients!$E$2:$H$28,4,FALSE),E212,NA())","v":{"$error":"#N/A"}},{"$f":"'4th Order Polynomial TMP vs Res'!$B$41+'4th Order Polynomial TMP vs Res'!$C$41*POWER(B212,1)+'4th Order Polynomial TMP vs Res'!$D$41*POWER(B212,2)+'4th Order Polynomial TMP vs Res'!$E$41*POWER(B212,3)+'4th Order Polynomial TMP vs Res'!$F$41*POWER(B212,4)","v":20645.711532671867},{"$f":"IFERROR(D212*1.025,NA())","v":{"$error":"#N/A"}},null,null,null,{"$f":"'4th Order Polynomial TMP vs Res'!$I$41*E212^4 + '4th Order Polynomial TMP vs Res'!$J$41*E212^3 + '4th Order Polynomial TMP vs Res'!$K$41*E212^2 + '4th Order Polynomial TMP vs Res'!$L$41*E212 + '4th Order Polynomial TMP vs Res'!$M$41","v":148.98235039042248},{"$f":"IF((VLOOKUP(Main!$N$22,Coefficients!$E$2:$H$28,4,FALSE)) = 125, NA(), B212-J212)","v":{"$error":"#N/A"}}]
[194,153,{"$error":"#N/A"},{"$f":"IF(B213 <= VLOOKUP(Main!$N$22,Coefficients!$E$2:$H$28,4,FALSE),E213,NA())","v":{"$error":"#N/A"}},{"$f":"'4th Order Polynomial TMP vs Res'!$B$41+'4th Order Polynomial TMP vs Res'!$C$41*POWER(B213,1)+'4th Order Polynomial TMP vs Res'!$D$41*POWER(B213,2)+'4th Order Polynomial TMP vs Res'!$E$41*POWER(B213,3)+'4th Order Polynomial TMP vs Res'!$F$41*POWER(B213,4)","v":20754.192776480901},{"$error":"#N/A"},null,null,null,{"$f":"'4th Order Polynomial TMP vs Res'!$I$41*E213^4 + '4th Order Polynomial TMP vs Res'!$J$41*E213^3 + '4th Order Polynomial TMP vs Res'!$K$41*E213^2 + '4th Order Polynomial TMP vs Res'!$L$41*E213 + '4th Order Polynomial TMP vs Res'!$M$41","v":149.74829404731412},{"$f":"IF((VLOOKUP(Main!$N$22,Coefficients!$E$2:$H$28,4,FALSE)) = 125, NA(), B213-J213)","v":{"$error":"#N/A"}}]
[195,{"$f":"B213+1","v":154},{"$error":"#N/A"},{"$f":"IF(B214 <= VLOOKUP(Main!$N$22,Coefficients!$E$2:$H$28,4,FALSE),E214,NA())","v":{"$error":"#N/A"}},{"$f":"'4th Order Polynomial TMP vs Res'!$B$41+'4th Order Polynomial TMP vs Res'!$C$41*POWER(B214,1)+'4th Order Polynomial TMP vs Res'!$D$41*POWER(B214,2)+'4th Order Polynomial TMP vs Res'!$E$41*POWER(B214,3)+'4th Order Polynomial TMP vs Res'!$F$41*POWER(B214,4)","v":20863.100932734029},{"$error":"#N/A"},null,null,null,{"$f":"'4th Order Polynomial TMP vs Res'!$I$41*E214^4 + '4th Order Polynomial TMP vs Res'!$J$41*E214^3 + '4th Order Polynomial TMP vs Res'!$K$41*E214^2 + '4th Order Polynomial TMP vs Res'!$L$41*E214 + '4th Order Polynomial TMP vs Res'!$M$41","v":150.50070439261441},{"$f":"IF((VLOOKUP(Main!$N$22,Coefficients!$E$2:$H$28,4,FALSE)) = 125, NA(), B214-J214)","v":{"$error":"#N/A"}}]
[196,155,{"$error":"#N/A"},{"$f":"IF(B215 <= VLOOKUP(Main!$N$22,Coefficients!$E$2:$H$28,4,FALSE),E215,NA())","v":{"$error":"#N/A"}},{"$f":"'4th Order Polynomial TMP vs Res'!$B$41+'4th Order Polynomial TMP vs Res'!$C$41*POWER(B215,1)+'4th Order Polynomial TMP vs Res'!$D$41*POWER(B215,2)+'4th Order Polynomial TMP vs Res'!$E$41*POWER(B215,3)+'4th Order Polynomial TMP vs Res'!$F$41*POWER(B215,4)","v":20972.437284446019},{"$error":"#N/A"},null,null,null,{"$f":"'4th Order Polynomial TMP vs Res'!$I$41*E215^4 + '4th Order Polynomial TMP vs Res'!$J$41*E215^3 + '4th Order Polynomial TMP vs Res'!$K$41*E215^2 + '4th Order Polynomial TMP vs Res'!$L$41*E215 + '4th Order Polynomial TMP vs Res'!$M$41","v":151.23899822351683},{"$f":"IF((VLOOKUP(Main!$N$22,Coefficients!$E$2:$H$28,4,FALSE)) = 125, NA(), B215-J215)","v":{"$error":"#N/A"}}]
[197,156,{"$error":"#N/A"},{"$f":"IF(B216 <= VLOOKUP(Main!$N$22,Coefficients!$E$2:$H$28,4,FALSE),E216,NA())","v":{"$error":"#N/A"}},{"$f":"'4th Order Polynomial TMP vs Res'!$B$41+'4th Order Polynomial TMP vs Res'!$C$41*POWER(B216,1)+'4th Order Polynomial TMP vs Res'!$D$41*POWER(B216,2)+'4th Order Polynomial TMP vs Res'!$E$41*POWER(B216,3)+'4th Order Polynomial TMP vs Res'!$F$41*POWER(B216,4)","v":21082.20312067946},{"$error":"#N/A"},null,null,null,{"$f":"'4th Order Polynomial TMP vs Res'!$I$41*E216^4 + '4th Order Polynomial TMP vs Res'!$J$41*E216^3 + '4th Order Polynomial TMP vs Res'!$K$41*E216^2 + '4th Order Polynomial TMP vs Res'!$L$41*E216 + '4th Order Polynomial TMP vs Res'!$M$41","v":151.96257352733056},{"$f":"IF((VLOOKUP(Main!$N$22,Coefficients!$E$2:$H$28,4,FALSE)) = 125, NA(), B216-J216)","v":{"$error":"#N/A"}}]
[198,157,{"$error":"#N/A"},{"$f":"IF(B217 <= VLOOKUP(Main!$N$22,Coefficients!$E$2:$H$28,4,FALSE),E217,NA())","v":{"$error":"#N/A"}},{"$f":"'4th Order Polynomial TMP vs Res'!$B$41+'4th Order Polynomial TMP vs Res'!$C$41*POWER(B217,1)+'4th Order Polynomial TMP vs Res'!$D$41*POWER(B217,2)+'4th Order Polynomial TMP vs Res'!$E$41*POWER(B217,3)+'4th Order Polynomial TMP vs Res'!$F$41*POWER(B217,4)","v":21192.399736544743},{"$error":"#N/A"},null,null,null,{"$f":"'4th Order Polynomial TMP vs Res'!$I$41*E217^4 + '4th Order Polynomial TMP vs Res'!$J$41*E217^3 + '4th Order Polynomial TMP vs Res'!$K$41*E217^2 + '4th Order Polynomial TMP vs Res'!$L$41*E217 + '4th Order Polynomial TMP vs Res'!$M$41","v":152.67080901740229},{"$f":"IF((VLOOKUP(Main!$N$22,Coefficients!$E$2:$H$28,4,FALSE)) = 125, NA(), B217-J217)","v":{"$error":"#N/A"}}]
[199,158,{"$error":"#N/A"},{"$f":"IF(B218 <= VLOOKUP(Main!$N$22,Coefficients!$E$2:$H$28,4,FALSE),E218,NA())","v":{"$error":"#N/A"}},{"$f":"'4th Order Polynomial TMP vs Res'!$B$41+'4th Order Polynomial TMP vs Res'!$C$41*POWER(B218,1)+'4th Order Polynomial TMP vs Res'!$D$41*POWER(B218,2)+'4th Order Polynomial TMP vs Res'!$E$41*POWER(B218,3)+'4th Order Polynomial TMP vs Res'!$F$41*POWER(B218,4)","v":21303.028433200077},{"$error":"#N/A"},null,null,null,{"$f":"'4th Order Polynomial TMP vs Res'!$I$41*E218^4 + '4th Order Polynomial TMP vs Res'!$J$41*E218^3 + '4th Order Polynomial TMP vs Res'!$K$41*E218^2 + '4th Order Polynomial TMP vs Res'!$L$41*E218 + '4th Order Polynomial TMP vs Res'!$M$41","v":153.36306365972479},{"$f":"IF((VLOOKUP(Main!$N$22,Coefficients!$E$2:$H$28,4,FALSE)) = 125, NA(), B218-J218)","v":{"$error":"#N/A"}}]
[200,159,{"$error":"#N/A"},{"$f":"IF(B219 <= VLOOKUP(Main!$N$22,Coefficients!$E$2:$H$28,4,FALSE),E219,NA())","v":{"$error":"#N/A"}},{"$f":"'4th Order Polynomial TMP vs Res'!$B$41+'4th Order Polynomial TMP vs Res'!$C$41*POWER(B219,1)+'4th Order Polynomial TMP vs Res'!$D$41*POWER(B219,2)+'4th Order Polynomial TMP vs Res'!$E$41*POWER(B219,3)+'4th Order Polynomial TMP vs Res'!$F$41*POWER(B219,4)","v":21414.090517851469},{"$error":"#N/A"},null,null,null,{"$f":"'4th Order Polynomial TMP vs Res'!$I$41*E219^4 + '4th Order Polynomial TMP vs Res'!$J$41*E219^3 + '4th Order Polynomial TMP vs Res'!$K$41*E219^2 + '4th Order Polynomial TMP vs Res'!$L$41*E219 + '4th Order Polynomial TMP vs Res'!$M$41","v":154.03867619005911},{"$f":"IF((VLOOKUP(Main!$N$22,Coefficients!$E$2:$H$28,4,FALSE)) = 125, NA(), B219-J219)","v":{"$error":"#N/A"}}]
[201,160,{"$error":"#N/A"},{"$f":"IF(B220 <= VLOOKUP(Main!$N$22,Coefficients!$E$2:$H$28,4,FALSE),E220,NA())","v":{"$error":"#N/A"}},{"$f":"'4th Order Polynomial TMP vs Res'!$B$41+'4th Order Polynomial TMP vs Res'!$C$41*POWER(B220,1)+'4th Order Polynomial TMP vs Res'!$D$41*POWER(B220,2)+'4th Order Polynomial TMP vs Res'!$E$41*POWER(B220,3)+'4th Order Polynomial TMP vs Res'!$F$41*POWER(B220,4)","v":21525.587303752756},{"$error":"#N/A"},null,null,null,{"$f":"'4th Order Polynomial TMP vs Res'!$I$41*E220^4 + '4th Order Polynomial TMP vs Res'!$J$41*E220^3 + '4th Order Polynomial TMP vs Res'!$K$41*E220^2 + '4th Order Polynomial TMP vs Res'!$L$41*E220 + '4th Order Polynomial TMP vs Res'!$M$41","v":154.69696462140411},{"$f":"IF((VLOOKUP(Main!$N$22,Coefficients!$E$2:$H$28,4,FALSE)) = 125, NA(), B220-J220)","v":{"$error":"#N/A"}}]
[202,161,{"$error":"#N/A"},{"$f":"IF(B221 <= VLOOKUP(Main!$N$22,Coefficients!$E$2:$H$28,4,FALSE),E221,NA())","v":{"$error":"#N/A"}},{"$f":"'4th Order Polynomial TMP vs Res'!$B$41+'4th Order Polynomial TMP vs Res'!$C$41*POWER(B221,1)+'4th Order Polynomial TMP vs Res'!$D$41*POWER(B221,2)+'4th Order Polynomial TMP vs Res'!$E$41*POWER(B221,3)+'4th Order Polynomial TMP vs Res'!$F$41*POWER(B221,4)","v":21637.520110205591},{"$error":"#N/A"},null,null,null,{"$f":"'4th Order Polynomial TMP vs Res'!$I$41*E221^4 + '4th Order Polynomial TMP vs Res'!$J$41*E221^3 + '4th Order Polynomial TMP vs Res'!$K$41*E221^2 + '4th Order Polynomial TMP vs Res'!$L$41*E221 + '4th Order Polynomial TMP vs Res'!$M$41","v":155.33722574164398},{"$f":"IF((VLOOKUP(Main!$N$22,Coefficients!$E$2:$H$28,4,FALSE)) = 125, NA(), B221-J221)","v":{"$error":"#N/A"}}]
[203,162,{"$error":"#N/A"},{"$f":"IF(B222 <= VLOOKUP(Main!$N$22,Coefficients!$E$2:$H$28,4,FALSE),E222,NA())","v":{"$error":"#N/A"}},{"$f":"'4th Order Polynomial TMP vs Res'!$B$41+'4th Order Polynomial TMP vs Res'!$C$41*POWER(B222,1)+'4th Order Polynomial TMP vs Res'!$D$41*POWER(B222,2)+'4th Order Polynomial TMP vs Res'!$E$41*POWER(B222,3)+'4th Order Polynomial TMP vs Res'!$F$41*POWER(B222,4)","v":21749.890262559416},{"$error":"#N/A"},null,null,null,{"$f":"'4th Order Polynomial TMP vs Res'!$I$41*E222^4 + '4th Order Polynomial TMP vs Res'!$J$41*E222^3 + '4th Order Polynomial TMP vs Res'!$K$41*E222^2 + '4th Order Polynomial TMP vs Res'!$L$41*E222 + '4th Order Polynomial TMP vs Res'!$M$41","v":155.95873460119486},{"$f":"IF((VLOOKUP(Main!$N$22,Coefficients!$E$2:$H$28,4,FALSE)) = 125, NA(), B222-J222)","v":{"$error":"#N/A"}}]
[204,163,{"$error":"#N/A"},{"$f":"IF(B223 <= VLOOKUP(Main!$N$22,Coefficients!$E$2:$H$28,4,FALSE),E223,NA())","v":{"$error":"#N/A"}},{"$f":"'4th Order Polynomial TMP vs Res'!$B$41+'4th Order Polynomial TMP vs Res'!$C$41*POWER(B223,1)+'4th Order Polynomial TMP vs Res'!$D$41*POWER(B223,2)+'4th Order Polynomial TMP vs Res'!$E$41*POWER(B223,3)+'4th Order Polynomial TMP vs Res'!$F$41*POWER(B223,4)","v":21862.699092211504},{"$error":"#N/A"},null,null,null,{"$f":"'4th Order Polynomial TMP vs Res'!$I$41*E223^4 + '4th Order Polynomial TMP vs Res'!$J$41*E223^3 + '4th Order Polynomial TMP vs Res'!$K$41*E223^2 + '4th Order Polynomial TMP vs Res'!$L$41*E223 + '4th Order Polynomial TMP vs Res'!$M$41","v":156.56074399048049},{"$f":"IF((VLOOKUP(Main!$N$22,Coefficients!$E$2:$H$28,4,FALSE)) = 125, NA(), B223-J223)","v":{"$error":"#N/A"}}]
[205,164,{"$error":"#N/A"},{"$f":"IF(B224 <= VLOOKUP(Main!$N$22,Coefficients!$E$2:$H$28,4,FALSE),E224,NA())","v":{"$error":"#N/A"}},{"$f":"'4th Order Polynomial TMP vs Res'!$B$41+'4th Order Polynomial TMP vs Res'!$C$41*POWER(B224,1)+'4th Order Polynomial TMP vs Res'!$D$41*POWER(B224,2)+'4th Order Polynomial TMP vs Res'!$E$41*POWER(B224,3)+'4th Order Polynomial TMP vs Res'!$F$41*POWER(B224,4)","v":21975.947936606939},{"$error":"#N/A"},null,null,null,{"$f":"'4th Order Polynomial TMP vs Res'!$I$41*E224^4 + '4th Order Polynomial TMP vs Res'!$J$41*E224^3 + '4th Order Polynomial TMP vs Res'!$K$41*E224^2 + '4th Order Polynomial TMP vs Res'!$L$41*E224 + '4th Order Polynomial TMP vs Res'!$M$41","v":157.14248390704876},{"$f":"IF((VLOOKUP(Main!$N$22,Coefficients!$E$2:$H$28,4,FALSE)) = 125, NA(), B224-J224)","v":{"$error":"#N/A"}}]
[206,165,{"$error":"#N/A"},{"$f":"IF(B225 <= VLOOKUP(Main!$N$22,Coefficients!$E$2:$H$28,4,FALSE),E225,NA())","v":{"$error":"#N/A"}},{"$f":"'4th Order Polynomial TMP vs Res'!$B$41+'4th Order Polynomial TMP vs Res'!$C$41*POWER(B225,1)+'4th Order Polynomial TMP vs Res'!$D$41*POWER(B225,2)+'4th Order Polynomial TMP vs Res'!$E$41*POWER(B225,3)+'4th Order Polynomial TMP vs Res'!$F$41*POWER(B225,4)","v":22089.638139238621},{"$error":"#N/A"},null,null,null,{"$f":"'4th Order Polynomial TMP vs Res'!$I$41*E225^4 + '4th Order Polynomial TMP vs Res'!$J$41*E225^3 + '4th Order Polynomial TMP vs Res'!$K$41*E225^2 + '4th Order Polynomial TMP vs Res'!$L$41*E225 + '4th Order Polynomial TMP vs Res'!$M$41","v":157.70316101215764},{"$f":"IF((VLOOKUP(Main!$N$22,Coefficients!$E$2:$H$28,4,FALSE)) = 125, NA(), B225-J225)","v":{"$error":"#N/A"}}]
[207,166,{"$error":"#N/A"},{"$f":"IF(B226 <= VLOOKUP(Main!$N$22,Coefficients!$E$2:$H$28,4,FALSE),E226,NA())","v":{"$error":"#N/A"}},{"$f":"'4th Order Polynomial TMP vs Res'!$B$41+'4th Order Polynomial TMP vs Res'!$C$41*POWER(B226,1)+'4th Order Polynomial TMP vs Res'!$D$41*POWER(B226,2)+'4th Order Polynomial TMP vs Res'!$E$41*POWER(B226,3)+'4th Order Polynomial TMP vs Res'!$F$41*POWER(B226,4)","v":22203.771049647246},{"$error":"#N/A"},null,null,null,{"$f":"'4th Order Polynomial TMP vs Res'!$I$41*E226^4 + '4th Order Polynomial TMP vs Res'!$J$41*E226^3 + '4th Order Polynomial TMP vs Res'!$K$41*E226^2 + '4th Order Polynomial TMP vs Res'!$L$41*E226 + '4th Order Polynomial TMP vs Res'!$M$41","v":158.24195807663142},{"$f":"IF((VLOOKUP(Main!$N$22,Coefficients!$E$2:$H$28,4,FALSE)) = 125, NA(), B226-J226)","v":{"$error":"#N/A"}}]
[208,167,{"$error":"#N/A"},{"$f":"IF(B227 <= VLOOKUP(Main!$N$22,Coefficients!$E$2:$H$28,4,FALSE),E227,NA())","v":{"$error":"#N/A"}},{"$f":"'4th Order Polynomial TMP vs Res'!$B$41+'4th Order Polynomial TMP vs Res'!$C$41*POWER(B227,1)+'4th Order Polynomial TMP vs Res'!$D$41*POWER(B227,2)+'4th Order Polynomial TMP vs Res'!$E$41*POWER(B227,3)+'4th Order Polynomial TMP vs Res'!$F$41*POWER(B227,4)","v":22318.348023421346},{"$error":"#N/A"},null,null,null,{"$f":"'4th Order Polynomial TMP vs Res'!$I$41*E227^4 + '4th Order Polynomial TMP vs Res'!$J$41*E227^3 + '4th Order Polynomial TMP vs Res'!$K$41*E227^2 + '4th Order Polynomial TMP vs Res'!$L$41*E227 + '4th Order Polynomial TMP vs Res'!$M$41","v":158.75803341580848},{"$f":"IF((VLOOKUP(Main!$N$22,Coefficients!$E$2:$H$28,4,FALSE)) = 125, NA(), B227-J227)","v":{"$error":"#N/A"}}]
[209,168,{"$error":"#N/A"},{"$f":"IF(B228 <= VLOOKUP(Main!$N$22,Coefficients!$E$2:$H$28,4,FALSE),E228,NA())","v":{"$error":"#N/A"}},{"$f":"'4th Order Polynomial TMP vs Res'!$B$41+'4th Order Polynomial TMP vs Res'!$C$41*POWER(B228,1)+'4th Order Polynomial TMP vs Res'!$D$41*POWER(B228,2)+'4th Order Polynomial TMP vs Res'!$E$41*POWER(B228,3)+'4th Order Polynomial TMP vs Res'!$F$41*POWER(B228,4)","v":22433.37042219724},{"$error":"#N/A"},null,null,null,{"$f":"'4th Order Polynomial TMP vs Res'!$I$41*E228^4 + '4th Order Polynomial TMP vs Res'!$J$41*E228^3 + '4th Order Polynomial TMP vs Res'!$K$41*E228^2 + '4th Order Polynomial TMP vs Res'!$L$41*E228 + '4th Order Polynomial TMP vs Res'!$M$41","v":159.25052031339015},{"$f":"IF((VLOOKUP(Main!$N$22,Coefficients!$E$2:$H$28,4,FALSE)) = 125, NA(), B228-J228)","v":{"$error":"#N/A"}}]
[210,169,{"$error":"#N/A"},{"$f":"IF(B229 <= VLOOKUP(Main!$N$22,Coefficients!$E$2:$H$28,4,FALSE),E229,NA())","v":{"$error":"#N/A"}},{"$f":"'4th Order Polynomial TMP vs Res'!$B$41+'4th Order Polynomial TMP vs Res'!$C$41*POWER(B229,1)+'4th Order Polynomial TMP vs Res'!$D$41*POWER(B229,2)+'4th Order Polynomial TMP vs Res'!$E$41*POWER(B229,3)+'4th Order Polynomial TMP vs Res'!$F$41*POWER(B229,4)","v":22548.839613659082},{"$error":"#N/A"},null,null,null,{"$f":"'4th Order Polynomial TMP vs Res'!$I$41*E229^4 + '4th Order Polynomial TMP vs Res'!$J$41*E229^3 + '4th Order Polynomial TMP vs Res'!$K$41*E229^2 + '4th Order Polynomial TMP vs Res'!$L$41*E229 + '4th Order Polynomial TMP vs Res'!$M$41","v":159.71852643398319},{"$f":"IF((VLOOKUP(Main!$N$22,Coefficients!$E$2:$H$28,4,FALSE)) = 125, NA(), B229-J229)","v":{"$error":"#N/A"}}]
[211,170,{"$error":"#N/A"},{"$f":"IF(B230 <= VLOOKUP(Main!$N$22,Coefficients!$E$2:$H$28,4,FALSE),E230,NA())","v":{"$error":"#N/A"}},{"$f":"'4th Order Polynomial TMP vs Res'!$B$41+'4th Order Polynomial TMP vs Res'!$C$41*POWER(B230,1)+'4th Order Polynomial TMP vs Res'!$D$41*POWER(B230,2)+'4th Order Polynomial TMP vs Res'!$E$41*POWER(B230,3)+'4th Order Polynomial TMP vs Res'!$F$41*POWER(B230,4)","v":22664.756971538831},{"$error":"#N/A"},null,null,null,{"$f":"'4th Order Polynomial TMP vs Res'!$I$41*E230^4 + '4th Order Polynomial TMP vs Res'!$J$41*E230^3 + '4th Order Polynomial TMP vs Res'!$K$41*E230^2 + '4th Order Polynomial TMP vs Res'!$L$41*E230 + '4th Order Polynomial TMP vs Res'!$M$41","v":160.16113322415646},{"$f":"IF((VLOOKUP(Main!$N$22,Coefficients!$E$2:$H$28,4,FALSE)) = 125, NA(), B230-J230)","v":{"$error":"#N/A"}}]
[null,null,null,null,null,null,null,null,null,{"$f":"'4th Order Polynomial TMP vs Res'!$I$41*E231^4 + '4th Order Polynomial TMP vs Res'!$J$41*E231^3 + '4th Order Polynomial TMP vs Res'!$K$41*E231^2 + '4th Order Polynomial TMP vs Res'!$L$41*E231 + '4th Order Polynomial TMP vs Res'!$M$41","v":-272.43502154685206},{"$f":"IF((VLOOKUP(Main!$N$22,Coefficients!$E$2:$H$28,4,FALSE)) = 125, NA(), B231-J231)","v":{"$error":"#N/A"}}]
[null,null,null,null,null,null,null,null,null,{"$f":"'4th Order Polynomial TMP vs Res'!$I$41*E232^4 + '4th Order Polynomial TMP vs Res'!$J$41*E232^3 + '4th Order Polynomial TMP vs Res'!$K$41*E232^2 + '4th Order Polynomial TMP vs Res'!$L$41*E232 + '4th Order Polynomial TMP vs Res'!$M$41","v":-272.43502154685206},{"$f":"IF((VLOOKUP(Main!$N$22,Coefficients!$E$2:$H$28,4,FALSE)) = 125, NA(), B232-J232)","v":{"$error":"#N/A"}}]
[null,null,null,null,null,null,null,null,null,{"$f":"'4th Order Polynomial TMP vs Res'!$I$41*E233^4 + '4th Order Polynomial TMP vs Res'!$J$41*E233^3 + '4th Order Polynomial TMP vs Res'!$K$41*E233^2 + '4th Order Polynomial TMP vs Res'!$L$41*E233 + '4th Order Polynomial TMP vs Res'!$M$41","v":-272.43502154685206},{"$f":"IF((VLOOKUP(Main!$N$22,Coefficients!$E$2:$H$28,4,FALSE)) = 125, NA(), B233-J233)","v":{"$error":"#N/A"}}]
[null,null,null,null,null,null,null,null,null,{"$f":"'4th Order Polynomial TMP vs Res'!$I$41*E234^4 + '4th Order Polynomial TMP vs Res'!$J$41*E234^3 + '4th Order Polynomial TMP vs Res'!$K$41*E234^2 + '4th Order Polynomial TMP vs Res'!$L$41*E234 + '4th Order Polynomial TMP vs Res'!$M$41","v":-272.43502154685206},{"$f":"IF((VLOOKUP(Main!$N$22,Coefficients!$E$2:$H$28,4,FALSE)) = 125, NA(), B234-J234)","v":{"$error":"#N/A"}}]
[null,null,null,null,null,null,null,null,null,{"$f":"'4th Order Polynomial TMP vs Res'!$I$41*E235^4 + '4th Order Polynomial TMP vs Res'!$J$41*E235^3 + '4th Order Polynomial TMP vs Res'!$K$41*E235^2 + '4th Order Polynomial TMP vs Res'!$L$41*E235 + '4th Order Polynomial TMP vs Res'!$M$41","v":-272.43502154685206},{"$f":"IF((VLOOKUP(Main!$N$22,Coefficients!$E$2:$H$28,4,FALSE)) = 125, NA(), B235-J235)","v":{"$error":"#N/A"}}]
[]
[]
[]
[]
[]
[]
[]
[]
[]
[]
["Example of 1°C step C code",null,"Copy the content of the box below, then paste into your C code",null,null,null,null,null,null,null,null,null,"Example of 5°C step C code",null,"Copy the content of the box below, then paste into your C code"]
["int THRM_Res_L_Table[211][2] = {",null,null,null,null,null,"// THRM long table",null,null,null,null,null,"int THRM_Res_S_Table[43][2] = {",null,null,null,null,"// THRM short table"]
[null,null,"{",{"$f":"B20","v":-40},null,",",{"$f":"D20","v":6543.1598748044544},"}",",",null,null,null,null,null,"{",{"$f":"N20","v":-40},",",{"$f":"P20","v":6543.1598748044544},"}",","]
[null,null,"{",-39,null,",",6586.1994764999499,"}",",",null,null,null,null,null,"{",-35,",",6761.2854066867121,"}",","]
[null,null,"{",-38,null,",",6629.5317056772819,"}",",",null,null,null,null,null,"{",-30,",",6986.7400186509285,"}",","]
[null,null,"{",-37,null,",",6673.1566841711856,"}",",",null,null,null,null,null,"{",-25,",",7219.543475898502,"}",","]
[null,null,"{",-36,null,",",6717.0745398642093,"}",",",null,null,null,null,null,"{",-20,",",7459.7193235137465,"}",","]
[null,null,"{",-35,null,",",6761.2854066867121,"}",",",null,null,null,null,null,"{",-15,",",7707.2948864638975,"}",","]
[null,null,"{",-34,null,",",6805.7894246168671,"}",",",null,null,null,null,null,"{",-10,",",7962.3012695991047,"}",","]
[null,null,"{",-33,null,",",6850.5867396806625,"}",",",null,null,null,null,null,"{",-5,",",8224.7733576524406,"}",","]
[null,null,"{",-32,null,",",6895.6775039518952,"}",",",null,null,null,null,null,"{",0,",",8494.749815239893,"}",","]
[null,null,"{",-31,null,",",6941.0618755521764,"}",",",null,null,null,null,null,"{",5,",",8772.2730868603721,"}",","]
[null,null,"{",-30,null,",",6986.7400186509285,"}",",",null,null,null,null,null,"{",10,",",9057.3893968957,"}",","]
[null,null,"{",-29,null,",",7032.712103465391,"}",",",null,null,null,null,null,"{",15,",",9350.1487496106292,"}",","]
[null,null,"{",-28,null,",",7078.9783062606102,"}",",",null,null,null,null,null,"{",20,",",9650.6049291528179,"}",","]
[null,null,"{",-27,null,",",7125.5388093494503,"}",",",null,null,null,null,null,"{",25,",",9958.8154995528494,"}",","]
[null,null,"{",-26,null,",",7172.3938010925849,"}",",",null,null,null,null,null,"{",30,",",10274.841804724227,"}",","]
[null,null,"{",-25,null,",",7219.543475898502,"}",",",null,null,null,null,null,"{",35,",",10598.748968463369,"}",","]
[null,null,"{",-24,null,",",7266.9880342235001,"}",",",null,null,null,null,null,"{",40,",",10930.605894449618,"}",","]
[null,null,"{",-23,null,",",7314.7276825716917,"}",",",null,null,null,null,null,"{",45,",",11270.485266245223,"}",","]
[null,null,"{",-22,null,",",7362.7626334950037,"}",",",null,null,null,null,null,"{",50,",",11618.463547295365,"}",","]
[null,null,"{",-21,null,",",7411.0931055931715,"}",",",null,null,null,null,null,"{",55,",",11974.620980928139,"}",","]
[null,null,"{",-20,null,",",7459.7193235137465,"}",",",null,null,null,null,null,"{",60,",",12339.041590354558,"}",","]
[null,null,"{",-19,null,",",7508.6415179520945,"}",",",null,null,null,null,null,"{",65,",",12711.81317866855,"}",","]
[null,null,"{",-18,null,",",7557.8599256513871,"}",",",null,null,null,null,null,"{",70,",",13093.027328846969,"}",","]
[null,null,"{",-17,null,",",7607.3747894026164,"}",",",null,null,null,null,null,"{",75,",",13482.779403749584,"}",","]
[null,null,"{",-16,null,",",7657.1863580445815,"}",",",null,null,null,null,null,"{",80,",",13881.168546119081,"}",","]
[null,null,"{",-15,null,",",7707.2948864638975,"}",",",null,null,null,null,null,"{",85,",",14288.297678581066,"}",","]
[null,null,"{",-14,null,",",7757.7006355949907,"}",",",null,null,null,null,null,"{",90,",",14704.273503644064,"}",","]
[null,null,"{",-13,null,",",7808.4038724201,"}",",",null,null,null,null,null,"{",95,",",15129.206503699521,"}",","]
[null,null,"{",-12,null,",",7859.4048699692758,"}",",",null,null,null,null,null,"{",100,",",15563.210941021794,"}",","]
[null,null,"{",-11,null,",",7910.703907320385,"}",",",null,null,null,null,null,"{",105,",",16006.40485776817,"}",","]
[null,null,"{",-10,null,",",7962.3012695991047,"}",",",null,null,null,null,null,"{",110,",",16458.910075978845,"}",","]
[null,null,"{",-9,null,",",8014.1972479789247,"}",",",null,null,null,null,null,"{",115,",",16920.852197576936,"}",","]
[null,null,"{",{"$f":"B52","v":-8},null,",",{"$f":"D52","v":8066.3921396811456},"}",",",null,null,null,null,null,"{",120,",",17392.360604368485,"}",","]
[null,null,"{",-7,null,",",8118.886247974885,"}",",",null,null,null,null,null,"{",125,",",17873.568458042435,"}",","]
[null,null,"{",-6,null,",",8171.679882177069,"}",",",null,null,null,null,null,"{",130,",",{"$error":"#N/A"},"}",","]
[null,null,"{",-5,null,",",8224.7733576524406,"}",",",null,null,null,null,null,"{",135,",",{"$error":"#N/A"},"}",","]
[null,null,"{",-4,null,",",8278.1669958135499,"}",",",null,null,null,null,null,"{",140,",",{"$error":"#N/A"},"}",","]
[null,null,"{",-3,null,",",8331.8611241207655,"}",",",null,null,null,null,null,"{",145,",",{"$error":"#N/A"},"}",","]
[null,null,"{",-2,null,",",8385.8560760822656,"}",",",null,null,null,null,null,"{",150,",",{"$error":"#N/A"},"}",","]
[null,null,"{",-1,null,",",8440.1521912540393,"}",",",null,null,null,null,null,"{",155,",",{"$f":"P59","v":{"$error":"#N/A"}},"}",","]
[null,null,"{",0,null,",",8494.749815239893,"}",",",null,null,null,null,null,"{",160,",",{"$error":"#N/A"},"}",","]
[null,null,"{",1,null,",",8549.6492996914403,"}",",",null,null,null,null,null,"{",165,",",{"$error":"#N/A"},"}",","]
[null,null,"{",2,null,",",8604.851002308118,"}",",",null,null,null,null,null,"{",170,",",{"$error":"#N/A"},"}",","]
[null,null,"{",3,null,",",8660.3552868371589,"}",",",null,null,null,null,"}","// Remove all lines associated with unused temperatures and update the table length"]
[null,null,"{",4,null,",",8716.1625230736208,"}",","]
[null,null,"{",5,null,",",8772.2730868603721,"}",","]
[null,null,"{",6,null,",",8828.6873600880917,"}",","]
[null,null,"{",7,null,",",8885.4057306952727,"}",","]
[null,null,"{",8,null,",",8942.4285926682205,"}",","]
[null,null,"{",9,null,",",8999.7563460410547,"}",","]
[null,null,"{",10,null,",",9057.3893968957,"}",","]
[null,null,"{",11,null,",",9115.3281573619097,"}",","]
[null,null,"{",12,null,",",9173.5730456172296,"}",","]
[null,null,"{",13,null,",",9232.1244858870341,"}",","]
[null,null,"{",14,null,",",9290.9829084445009,"}",","]
[null,null,"{",15,null,",",9350.1487496106292,"}",","]
[null,null,"{",16,null,",",9409.6224517542214,"}",","]
[null,null,"{",17,null,",",9469.4044632918994,"}",","]
[null,null,"{",18,null,",",9529.4952386880923,"}",","]
[null,null,"{",19,null,",",9589.8952384550448,"}",","]
[null,null,"{",20,null,",",9650.6049291528179,"}",","]
[null,null,"{",21,null,",",9711.6247833892794,"}",","]
[null,null,"{",22,null,",",9772.9552798201094,"}",","]
[null,null,"{",23,null,",",9834.5969031488112,"}",","]
[null,null,"{",{"$f":"B84","v":24},null,",",{"$f":"D84","v":9896.5501441266806},"}",","]
[null,null,"{",25,null,",",9958.8154995528494,"}",","]
[null,null,"{",26,null,",",10021.393472274245,"}",","]
[null,null,"{",27,null,",",10084.284571185617,"}",","]
[null,null,"{",28,null,",",10147.489311229521,"}",","]
[null,null,"{",29,null,",",10211.00821339633,"}",","]
[null,null,"{",30,null,",",10274.841804724227,"}",","]
[null,null,"{",31,null,",",10338.990618299209,"}",","]
[null,null,"{",32,null,",",10403.455193255088,"}",","]
[null,null,"{",33,null,",",10468.23607477348,"}",","]
[null,null,"{",34,null,",",10533.333814083828,"}",","]
[null,null,"{",35,null,",",10598.748968463369,"}",","]
[null,null,"{",36,null,",",10664.482101237174,"}",","]
[null,null,"{",37,null,",",10730.533781778107,"}",","]
[null,null,"{",38,null,",",10796.904585506858,"}",","]
[null,null,"{",39,null,",",10863.595093891925,"}",","]
[null,null,"{",40,null,",",10930.605894449618,"}",","]
[null,null,"{",41,null,",",10997.937580744057,"}",","]
[null,null,"{",42,null,",",11065.590752387183,"}",","]
[null,null,"{",43,null,",",11133.566015038743,"}",","]
[null,null,"{",44,null,",",11201.863980406299,"}",","]
[null,null,"{",45,null,",",11270.485266245223,"}",","]
[null,null,"{",46,null,",",11339.430496358704,"}",","]
[null,null,"{",47,null,",",11408.70030059774,"}",","]
[null,null,"{",48,null,",",11478.295314861145,"}",","]
[null,null,"{",49,null,",",11548.21618109554,"}",","]
[null,null,"{",50,null,",",11618.463547295365,"}",","]
[null,null,"{",51,null,",",11689.038067502872,"}",","]
[null,null,"{",52,null,",",11759.940401808122,"}",","]
[null,null,"{",53,null,",",11831.171216348986,"}",","]
[null,null,"{",54,null,",",11902.73118331116,"}",","]
[null,null,"{",55,null,",",11974.620980928139,"}",","]
[null,null,"{",{"$f":"B116","v":56},null,",",{"$f":"D116","v":12046.84129348124},"}",","]
[null,null,"{",57,null,",",12119.392811299587,"}",","]
[null,null,"{",58,null,",",12192.276230760121,"}",","]
[null,null,"{",59,null,",",12265.492254287587,"}",","]
[null,null,"{",60,null,",",12339.041590354558,"}",","]
[null,null,"{",61,null,",",12412.924953481406,"}",","]
[null,null,"{",62,null,",",12487.143064236321,"}",","]
[null,null,"{",63,null,",",12561.696649235302,"}",","]
[null,null,"{",64,null,",",12636.586441142172,"}",","]
[null,null,"{",65,null,",",12711.81317866855,"}",","]
[null,null,"{",66,null,",",12787.377606573884,"}",","]
[null,null,"{",67,null,",",12863.280475665417,"}",","]
[null,null,"{",68,null,",",12939.522542798226,"}",","]
[null,null,"{",69,null,",",13016.104570875179,"}",","]
[null,null,"{",70,null,",",13093.027328846969,"}",","]
[null,null,"{",71,null,",",13170.291591712106,"}",","]
[null,null,"{",72,null,",",13247.898140516898,"}",","]
[null,null,"{",73,null,",",13325.847762355479,"}",","]
[null,null,"{",74,null,",",13404.141250369788,"}",","]
[null,null,"{",75,null,",",13482.779403749584,"}",","]
[null,null,"{",76,null,",",13561.763027732428,"}",","]
[null,null,"{",77,null,",",13641.092933603699,"}",","]
[null,null,"{",78,null,",",13720.769938696594,"}",","]
[null,null,"{",79,null,",",13800.794866392116,"}",","]
[null,null,"{",80,null,",",13881.168546119081,"}",","]
[null,null,"{",81,null,",",13961.891813354119,"}",","]
[null,null,"{",82,null,",",14042.965509621676,"}",","]
[null,null,"{",83,null,",",14124.390482494005,"}",","]
[null,null,"{",84,null,",",14206.167585591174,"}",","]
[null,null,"{",85,null,",",14288.297678581066,"}",","]
[null,null,"{",86,null,",",14370.781627179373,"}",","]
[null,null,"{",87,null,",",14453.620303149599,"}",","]
[null,null,"{",{"$f":"B148","v":88},null,",",{"$f":"D148","v":14536.814584303067},"}",","]
[null,null,"{",89,null,",",14620.365354498908,"}",","]
[null,null,"{",90,null,",",14704.273503644064,"}",","]
[null,null,"{",91,null,",",14788.539927693295,"}",","]
[null,null,"{",92,null,",",14873.165528649166,"}",","]
[null,null,"{",93,null,",",14958.151214562062,"}",","]
[null,null,"{",94,null,",",15043.497899530177,"}",","]
[null,null,"{",95,null,",",15129.206503699521,"}",","]
[null,null,"{",96,null,",",15215.277953263911,"}",","]
[null,null,"{",97,null,",",15301.713180464983,"}",","]
[null,null,"{",98,null,",",15388.513123592174,"}",","]
[null,null,"{",99,null,",",15475.67872698276,"}",","]
[null,null,"{",100,null,",",15563.210941021794,"}",","]
[null,null,"{",101,null,",",15651.11072214217,"}",","]
[null,null,"{",102,null,",",15739.37903282458,"}",","]
[null,null,"{",103,null,",",15828.016841597531,"}",","]
[null,null,"{",104,null,",",15917.025123037351,"}",","]
[null,null,"{",105,null,",",16006.40485776817,"}",","]
[null,null,"{",106,null,",",16096.157032461935,"}",","]
[null,null,"{",107,null,",",16186.282639838408,"}",","]
[null,null,"{",108,null,",",16276.782678665155,"}",","]
[null,null,"{",109,null,",",16367.658153757571,"}",","]
[null,null,"{",110,null,",",16458.910075978845,"}",","]
[null,null,"{",111,null,",",16550.539462239994,"}",","]
[null,null,"{",112,null,",",16642.547335499828,"}",","]
[null,null,"{",113,null,",",16734.934724765,"}",","]
[null,null,"{",114,null,",",16827.70266508995,"}",","]
[null,null,"{",115,null,",",16920.852197576936,"}",","]
[null,null,"{",116,null,",",17014.384369376039,"}",","]
[null,null,"{",117,null,",",17108.300233685135,"}",","]
[null,null,"{",118,null,",",17202.600849749935,"}",","]
[null,null,"{",119,null,",",17297.287282863941,"}",","]
[null,null,"{",{"$f":"B180","v":120},null,",",{"$f":"D180","v":17392.360604368485},"}",","]
[null,null,"{",121,null,",",17487.821891652693,"}",","]
[null,null,"{",122,null,",",17583.672228153529,"}",","]
[null,null,"{",123,null,",",17679.912703355742,"}",","]
[null,null,"{",124,null,",",17776.544412791918,"}",","]
[null,null,"{",125,null,",",17873.568458042435,"}",","]
[null,null,"{",126,null,",",{"$error":"#N/A"},"}",","]
[null,null,"{",127,null,",",{"$error":"#N/A"},"}",","]
[null,null,"{",128,null,",",{"$error":"#N/A"},"}",","]
[null,null,"{",129,null,",",{"$error":"#N/A"},"}",","]
[null,null,"{",130,null,",",{"$error":"#N/A"},"}",","]
[null,null,"{",131,null,",",{"$error":"#N/A"},"}",","]
[null,null,"{",132,null,",",{"$error":"#N/A"},"}",","]
[null,null,"{",133,null,",",{"$error":"#N/A"},"}",","]
[null,null,"{",134,null,",",{"$error":"#N/A"},"}",","]
[null,null,"{",135,null,",",{"$error":"#N/A"},"}",","]
[null,null,"{",136,null,",",{"$error":"#N/A"},"}",","]
[null,null,"{",137,null,",",{"$error":"#N/A"},"}",","]
[null,null,"{",138,null,",",{"$error":"#N/A"},"}",","]
[null,null,"{",139,null,",",{"$error":"#N/A"},"}",","]
[null,null,"{",140,null,",",{"$error":"#N/A"},"}",","]
[null,null,"{",141,null,",",{"$error":"#N/A"},"}",","]
[null,null,"{",142,null,",",{"$error":"#N/A"},"}",","]
[null,null,"{",143,null,",",{"$error":"#N/A"},"}",","]
[null,null,"{",144,null,",",{"$error":"#N/A"},"}",","]
[null,null,"{",145,null,",",{"$error":"#N/A"},"}",","]
[null,null,"{",146,null,",",{"$error":"#N/A"},"}",","]
[null,null,"{",147,null,",",{"$error":"#N/A"},"}",","]
[null,null,"{",148,null,",",{"$error":"#N/A"},"}",","]
[null,null,"{",149,null,",",{"$error":"#N/A"},"}",","]
[null,null,"{",150,null,",",{"$error":"#N/A"},"}",","]
[null,null,"{",151,null,",",{"$error":"#N/A"},"}",","]
[null,null,"{",152,null,",",{"$error":"#N/A"},"}",","]
[null,null,"{",153,null,",",{"$error":"#N/A"},"}",","]
[null,null,"{",154,null,",",{"$error":"#N/A"},"}",","]
[null,null,"{",155,null,",",{"$error":"#N/A"},"}",","]
[null,null,"{",156,null,",",{"$error":"#N/A"},"}",","]
[null,null,"{",157,null,",",{"$error":"#N/A"},"}",","]
[null,null,"{",158,null,",",{"$error":"#N/A"},"}",","]
[null,null,"{",159,null,",",{"$error":"#N/A"},"}",","]
[null,null,"{",160,null,",",{"$error":"#N/A"},"}",","]
[null,null,"{",161,null,",",{"$error":"#N/A"},"}",","]
[null,null,"{",162,null,",",{"$error":"#N/A"},"}",","]
[null,null,"{",163,null,",",{"$error":"#N/A"},"}",","]
[null,null,"{",164,null,",",{"$error":"#N/A"},"}",","]
[null,null,"{",165,null,",",{"$error":"#N/A"},"}",","]
[null,null,"{",166,null,",",{"$error":"#N/A"},"}",","]
[null,null,"{",167,null,",",{"$error":"#N/A"},"}",","]
[null,null,"{",168,null,",",{"$error":"#N/A"},"}",","]
[null,null,"{",169,null,",",{"$error":"#N/A"},"}",","]
[null,null,"{",170,null,",",{"$error":"#N/A"},"}",","]
[null,"}","// Remove all lines associated with unused temperatures and update the table length"]

{"sheet":"NTC Thermistor Comparison","index":3,"n_rows":243,"n_cols":24,"rows_kept":243,"cut":false,"hidden":false,"merged":[[0,0,2,28],[3,0,3,32]]}
[]
[]
[]
[]
["Return to Menu  "]
[]
[]
[]
[]
[]
[]
[]
[]
[]
["VBias",{"$f":"Main!N25","v":3.3},"Vdc"]
["RBias",{"$f":"Main!$N$31","v":10000},"Ohms"]
[null,"4th order polynomials"]
[null,{"$f":"'4th Order Polynomial TMP vs Res'!B41","v":8494.749815239893},"A0"]
[null,{"$f":"'4th Order Polynomial TMP vs Res'!C41","v":54.748495106114163},"A1"]
[null,{"$f":"'4th Order Polynomial TMP vs Res'!D41","v":0.15092998085564277},"A2"]
[null,{"$f":"'4th Order Polynomial TMP vs Res'!E41","v":5.9112587156471121E-5},"A3"]
[null,{"$f":"'4th Order Polynomial TMP vs Res'!F41","v":2.5199219457586725E-7},"A4"]
[]
[]
["MFG:","Texas Instruments",null,null,null,null,null,null,null,null,null,null,null,"MFG:"]
["TI Device",{"$f":"Main!N22","v":"TMP6131DECR"},null,null,null,null,null,null,null,null,null,null,null,"Device:","Typical NTC"]
[]
[]
["1 °C Steps",null,null,null,null,null,null,null,null,null,null,null,null,null,"1 °C Steps"]
[]
[null,"Temp","MIN","TYP","MAX","R/div/Bot","R/div/Top","Sensitivity","Current","Power",null,null,null,null,"Temp","R-Low","R-Center","R-High","R/div","Sensitivity","Power"]
["Line #"," (°C) ","(Ω)","(Ω)","(Ω)","Vdc","Vdc","Ω/°C","A","(milli-Watts)"," (-) tolerance","(+) tolerance","Delta Vdc",null," (°C) ","(Ω)","(Ω)","(Ω)","Vdc","Ω/°C","(milli-Watts)"," (-) tolerance","(+) tolerance","Delta Vdc"]
[1,-40,{"$f":"IFERROR('Device Resistance Tables'!C20,NA())","v":6445.0124766823874},{"$f":"IFERROR('Device Resistance Tables'!D20,NA())","v":6543.1598748044544},{"$f":"IFERROR('Device Resistance Tables'!F20,NA())","v":6641.3072729265205},{"$f":"IFERROR(D33*($B$15/(Main!$N$31+D33)),NA())","v":1.3052178513816077},{"$f":"IFERROR($B$16*($B$15/(Main!$N$31+D33)),NA())","v":1.9947821486183919},null,{"$f":"$F33/$D33","v":1.9947821486183918E-4},{"$f":"IFERROR(($B$15/(Main!$N$31+D33))^2*(Main!$N$31+D33)*1000,NA())","v":0.65827810904406936},{"$f":"IFERROR(((D33-C33)/D33)*-100,NA())","v":-1.5000000000000027},{"$f":"IFERROR(((E33-D33)/D33)*100,NA())","v":1.4999999999999887},null,null,-40,188020.2,195652,203573.1,{"$f":"IFERROR(Q33*($B$15/(Main!$N$31+Q33)),NA())","v":3.1395347480209281},null,{"$f":"IFERROR(($B$15/(Main!$N$31+Q33))^2*(Main!$N$31+Q33)*1000,NA())","v":5.2953533153093563E-2},{"$f":"IFERROR(((Q33-P33)/Q33)*-100,NA())","v":-3.9007012450677676},{"$f":"IFERROR(((R33-Q33)/Q33)*100,NA())","v":4.0485658209473998}]
[2,-39,{"$f":"IFERROR('Device Resistance Tables'!C21,NA())","v":6487.4064843524502},{"$f":"IFERROR('Device Resistance Tables'!D21,NA())","v":6586.1994764999499},{"$f":"IFERROR('Device Resistance Tables'!F21,NA())","v":6684.9924686474487},{"$f":"IFERROR(D34*($B$15/(Main!$N$31+D34)),NA())","v":1.3103941203193752},{"$f":"IFERROR($B$16*($B$15/(Main!$N$31+D34)),NA())","v":1.9896058796806246},{"$f":"IFERROR(D34-D33,NA())","v":43.039601695495548},{"$f":"$F34/$D34","v":1.9896058796806245E-4},{"$f":"IFERROR(($B$15/(Main!$N$31+D34))^2*(Main!$N$31+D34)*1000,NA())","v":0.65656994029460614},{"$f":"IFERROR(((D34-C34)/D34)*-100,NA())","v":-1.5000000000000071},1.4999999999999933,{"$f":"IFERROR(F34-F33,NA())","v":5.1762689377674587E-3},null,-39,177804.4,184917.1,192295.1,{"$f":"IFERROR(Q34*($B$15/(Main!$N$31+Q34)),NA())","v":3.130697255397294},{"$f":"IFERROR(Q33-Q34,NA())","v":10734.899999999994},{"$f":"IFERROR(($B$15/(Main!$N$31+Q34))^2*(Main!$N$31+Q34)*1000,NA())","v":5.5869905718892783E-2},{"$f":"IFERROR(((Q34-P34)/Q34)*-100,NA())","v":-3.8464263175228308},{"$f":"IFERROR(((R34-Q34)/Q34)*100,NA())","v":3.9898960128619798},{"$f":"IFERROR(S33-S34,NA())","v":8.8374926236340912E-3}]
[3,-38,{"$f":"IFERROR('Device Resistance Tables'!C22,NA())","v":6530.0887300921222},{"$f":"IFERROR('Device Resistance Tables'!D22,NA())","v":6629.5317056772819},{"$f":"IFERROR('Device Resistance Tables'!F22,NA())","v":6728.9746812624408},{"$f":"IFERROR(D35*($B$15/(Main!$N$31+D35)),NA())","v":1.3155785151343808},{"$f":"IFERROR($B$16*($B$15/(Main!$N$31+D35)),NA())","v":1.9844214848656188},43.33222917733201,1.9844214848656184E-4,{"$f":"IFERROR(($B$15/(Main!$N$31+D35))^2*(Main!$N$31+D35)*1000,NA())","v":0.65485909000565412},-1.5000000000000075,1.4999999999999938,{"$f":"IFERROR(F35-F34,NA())","v":5.1843948150056551E-3},null,-38,168214.1,174845.2,181719.5,{"$f":"IFERROR(Q35*($B$15/(Main!$N$31+Q35)),NA())","v":3.1214722373099217},{"$f":"IFERROR(Q34-Q35,NA())","v":10071.899999999994},{"$f":"IFERROR(($B$15/(Main!$N$31+Q35))^2*(Main!$N$31+Q35)*1000,NA())","v":5.8914161687725716E-2},-3.7925547856046404,3.9316492531679383,{"$f":"IFERROR(S34-S35,NA())","v":9.2250180873723053E-3}]
[4,-37,{"$f":"IFERROR('Device Resistance Tables'!C23,NA())","v":6573.0593339086181},{"$f":"IFERROR('Device Resistance Tables'!D23,NA())","v":6673.1566841711856},{"$f":"IFERROR('Device Resistance Tables'!F23,NA())","v":6773.2540344337531},{"$f":"IFERROR(D36*($B$15/(Main!$N$31+D36)),NA())","v":1.3207707139627101},{"$f":"IFERROR($B$16*($B$15/(Main!$N$31+D36)),NA())","v":1.9792292860372893},43.624978493903654,1.9792292860372894E-4,{"$f":"IFERROR(($B$15/(Main!$N$31+D36))^2*(Main!$N$31+D36)*1000,NA())","v":0.65314566439230548},-1.4999999999999956,1.4999999999999956,5.1921988283292198E-3,null,-37,159206.9,165391,171798.1,{"$f":"IFERROR(Q36*($B$15/(Main!$N$31+Q36)),NA())","v":3.1118489546213883},9454.2000000000116,{"$f":"IFERROR(($B$15/(Main!$N$31+Q36))^2*(Main!$N$31+Q36)*1000,NA())","v":6.2089844974941695E-2},-3.7390789099769672,3.8739109141368062,9.6232826885334077E-3]
[5,-36,{"$f":"IFERROR('Device Resistance Tables'!C24,NA())","v":6616.3184217662465},{"$f":"IFERROR('Device Resistance Tables'!D24,NA())","v":6717.0745398642093},{"$f":"IFERROR('Device Resistance Tables'!F24,NA())","v":6817.8306579621722},{"$f":"IFERROR(D37*($B$15/(Main!$N$31+D37)),NA())","v":1.3259703980318522},{"$f":"IFERROR($B$16*($B$15/(Main!$N$31+D37)),NA())","v":1.9740296019681476},43.917855693023739,1.9740296019681475E-4,{"$f":"IFERROR(($B$15/(Main!$N$31+D37))^2*(Main!$N$31+D37)*1000,NA())","v":0.65142976864948865},-1.4999999999999953,1.4999999999999953,5.1996840691421742E-3,null,-36,150743.5,156512.5,162486,{"$f":"IFERROR(Q37*($B$15/(Main!$N$31+Q37)),NA())","v":3.1018166804293967},8878.5,{"$f":"IFERROR(($B$15/(Main!$N$31+Q37))^2*(Main!$N$31+Q37)*1000,NA())","v":6.5400495458298916E-2},-3.6859675744748821,3.81662806485105,1.0032274191991597E-2]
[6,-35,{"$f":"IFERROR('Device Resistance Tables'!C25,NA())","v":6659.8661255864117},{"$f":"IFERROR('Device Resistance Tables'!D25,NA())","v":6761.2854066867121},{"$f":"IFERROR('Device Resistance Tables'!F25,NA())","v":6862.7046877870125},{"$f":"IFERROR(D38*($B$15/(Main!$N$31+D38)),NA())","v":1.3311772516662088},{"$f":"IFERROR($B$16*($B$15/(Main!$N$31+D38)),NA())","v":1.9688227483337912},44.210866822502794,1.9688227483337912E-4,{"$f":"IFERROR(($B$15/(Main!$N$31+D38))^2*(Main!$N$31+D38)*1000,NA())","v":0.64971150695015112},-1.4999999999999958,1.4999999999999958,5.2068536343565786E-3,null,-35,142787.70000000001,148171,153741.79999999999,{"$f":"IFERROR(Q38*($B$15/(Main!$N$31+Q38)),NA())","v":3.0913650416321574},8341.5,{"$f":"IFERROR(($B$15/(Main!$N$31+Q38))^2*(Main!$N$31+Q38)*1000,NA())","v":6.8849536261387984E-2},-3.6331670839772885,3.7597100647225088,1.0451638797239315E-2]
[7,-34,{"$f":"IFERROR('Device Resistance Tables'!C26,NA())","v":6703.7025832476138},{"$f":"IFERROR('Device Resistance Tables'!D26,NA())","v":6805.7894246168671},{"$f":"IFERROR('Device Resistance Tables'!F26,NA())","v":6907.8762659861195},{"$f":"IFERROR(D39*($B$15/(Main!$N$31+D39)),NA())","v":1.3363909622917149},{"$f":"IFERROR($B$16*($B$15/(Main!$N$31+D39)),NA())","v":1.9636090377082851},44.504017930154987,1.9636090377082852E-4,{"$f":"IFERROR(($B$15/(Main!$N$31+D39))^2*(Main!$N$31+D39)*1000,NA())","v":0.6479909824437341},-1.5000000000000044,1.4999999999999911,5.2137106255061294E-3,null,-34,135305.5,140330.4,145527.4,{"$f":"IFERROR(Q39*($B$15/(Main!$N$31+Q39)),NA())","v":3.0804835216296902},7840.6000000000058,{"$f":"IFERROR(($B$15/(Main!$N$31+Q39))^2*(Main!$N$31+Q39)*1000,NA())","v":7.2440437862202181E-2},-3.5807636834214072,3.7034028264723822,1.0881520002467227E-2]
[8,-33,{"$f":"IFERROR('Device Resistance Tables'!C27,NA())","v":6747.8279385854521},{"$f":"IFERROR('Device Resistance Tables'!D27,NA())","v":6850.5867396806625},{"$f":"IFERROR('Device Resistance Tables'!F27,NA())","v":6953.345540775872},{"$f":"IFERROR(D40*($B$15/(Main!$N$31+D40)),NA())","v":1.3416112204395922},{"$f":"IFERROR($B$16*($B$15/(Main!$N$31+D40)),NA())","v":1.9583887795604074},44.797315063795395,1.9583887795604073E-4,{"$f":"IFERROR(($B$15/(Main!$N$31+D40))^2*(Main!$N$31+D40)*1000,NA())","v":0.6462682972549344},-1.5000000000000067,1.4999999999999936,5.2202581478772991E-3,null,-33,128265.9,132957.6,137807.1,{"$f":"IFERROR(Q40*($B$15/(Main!$N$31+Q40)),NA())","v":3.0691623250530222},7372.7999999999884,{"$f":"IFERROR(($B$15/(Main!$N$31+Q40))^2*(Main!$N$31+Q40)*1000,NA())","v":7.6176432732502478E-2},-3.5287189299445925,3.6474033827325401,1.1321196576667969E-2]
[9,-32,{"$f":"IFERROR('Device Resistance Tables'!C28,NA())","v":6792.2423413926172},{"$f":"IFERROR('Device Resistance Tables'!D28,NA())","v":6895.6775039518952},{"$f":"IFERROR('Device Resistance Tables'!F28,NA())","v":6999.1126665111733},{"$f":"IFERROR(D41*($B$15/(Main!$N$31+D41)),NA())","v":1.3468377197492492},{"$f":"IFERROR($B$16*($B$15/(Main!$N$31+D41)),NA())","v":1.9531622802507509},45.090764271232729,1.9531622802507512E-4,{"$f":"IFERROR(($B$15/(Main!$N$31+D41))^2*(Main!$N$31+D41)*1000,NA())","v":0.64454355248274775},-1.4999999999999947,1.4999999999999947,5.2264993096569068E-3,null,-32,121639.7,126021.5,130548.1,{"$f":"IFERROR(Q41*($B$15/(Main!$N$31+Q41)),NA())","v":3.0573912947585491},6936.1000000000058,{"$f":"IFERROR(($B$15/(Main!$N$31+Q41))^2*(Main!$N$31+Q41)*1000,NA())","v":8.0060872729678767E-2},-3.4770257456069027,3.5919267743996111,1.1771030294473128E-2]
[10,-31,{"$f":"IFERROR('Device Resistance Tables'!C29,NA())","v":6836.9459474188934},{"$f":"IFERROR('Device Resistance Tables'!D29,NA())","v":6941.0618755521764},{"$f":"IFERROR('Device Resistance Tables'!F29,NA())","v":7045.1778036854585},{"$f":"IFERROR(D42*($B$15/(Main!$N$31+D42)),NA())","v":1.3520701569703464},{"$f":"IFERROR($B$16*($B$15/(Main!$N$31+D42)),NA())","v":1.9479298430296537},45.384371600281156,1.9479298430296536E-4,{"$f":"IFERROR(($B$15/(Main!$N$31+D42))^2*(Main!$N$31+D42)*1000,NA())","v":0.64281684819978557},-1.5000000000000049,1.4999999999999916,5.2324372210972303E-3,null,-31,115400.1,119493.6,123719.8,{"$f":"IFERROR(Q42*($B$15/(Main!$N$31+Q42)),NA())","v":3.045161150821353},6527.8999999999942,{"$f":"IFERROR(($B$15/(Main!$N$31+Q42))^2*(Main!$N$31+Q42)*1000,NA())","v":8.4096820228953373E-2},-3.4257064813513023,3.53675845400925,1.2230143937196125E-2]
[11,-30,{"$f":"IFERROR('Device Resistance Tables'!C30,NA())","v":6881.9389183711646},{"$f":"IFERROR('Device Resistance Tables'!D30,NA())","v":6986.7400186509285},{"$f":"IFERROR('Device Resistance Tables'!F30,NA())","v":7091.5411189306915},{"$f":"IFERROR(D43*($B$15/(Main!$N$31+D43)),NA())","v":1.3573082319640497},{"$f":"IFERROR($B$16*($B$15/(Main!$N$31+D43)),NA())","v":1.9426917680359499},45.678143098752116,1.9426917680359499E-4,{"$f":"IFERROR(($B$15/(Main!$N$31+D43))^2*(Main!$N$31+D43)*1000,NA())","v":0.64108828345186342},-1.4999999999999993,1.4999999999999865,5.2380749937033233E-3,null,-30,109522.1,113347.1,117294,{"$f":"IFERROR(Q43*($B$15/(Main!$N$31+Q43)),NA())","v":3.0324622954248617},6146.5,{"$f":"IFERROR(($B$15/(Main!$N$31+Q43))^2*(Main!$N$31+Q43)*1000,NA())","v":8.8287442509795505E-2},-3.3745900865571326,3.482135846439824,1.2698855396491293E-2]
[12,-29,{"$f":"IFERROR('Device Resistance Tables'!C31,NA())","v":6927.2214219134103},{"$f":"IFERROR('Device Resistance Tables'!D31,NA())","v":7032.712103465391},{"$f":"IFERROR('Device Resistance Tables'!F31,NA())","v":7138.2027850173708},{"$f":"IFERROR(D44*($B$15/(Main!$N$31+D44)),NA())","v":1.3625516477034809},{"$f":"IFERROR($B$16*($B$15/(Main!$N$31+D44)),NA())","v":1.9374483522965191},45.972084814462505,1.9374483522965191E-4,{"$f":"IFERROR(($B$15/(Main!$N$31+D44))^2*(Main!$N$31+D44)*1000,NA())","v":0.63935795625785119},-1.4999999999999982,1.4999999999999853,5.243415739431212E-3,null,-29,103989.4,107564.9,111252.2,{"$f":"IFERROR(Q44*($B$15/(Main!$N$31+Q44)),NA())","v":3.0193039759315914},5782.2000000000116,{"$f":"IFERROR(($B$15/(Main!$N$31+Q44))^2*(Main!$N$31+Q44)*1000,NA())","v":9.2629687942574687E-2},-3.3240397192764561,3.4279769701826557,1.3158319493270287E-2]
[13,-28,{"$f":"IFERROR('Device Resistance Tables'!C32,NA())","v":6972.793631666701},{"$f":"IFERROR('Device Resistance Tables'!D32,NA())","v":7078.9783062606102},{"$f":"IFERROR('Device Resistance Tables'!F32,NA())","v":7185.1629808545185},{"$f":"IFERROR(D45*($B$15/(Main!$N$31+D45)),NA())","v":1.367800110273385},{"$f":"IFERROR($B$16*($B$15/(Main!$N$31+D45)),NA())","v":1.9321998897266148},46.266202795219215,1.9321998897266148E-4,{"$f":"IFERROR(($B$15/(Main!$N$31+D45))^2*(Main!$N$31+D45)*1000,NA())","v":0.63762596360978285},-1.5000000000000009,1.4999999999999882,5.2484625699040777E-3,null,-28,98772.5,102115.5,105561.1,{"$f":"IFERROR(Q45*($B$15/(Main!$N$31+Q45)),NA())","v":3.0056606802806032},5449.3999999999942,{"$f":"IFERROR(($B$15/(Main!$N$31+Q45))^2*(Main!$N$31+Q45)*1000,NA())","v":9.7131975507400825E-2},-3.2737439468053333,3.3742184095460592,1.3643295650988208E-2]
[14,-27,{"$f":"IFERROR('Device Resistance Tables'!C33,NA())","v":7018.6557272092086},{"$f":"IFERROR('Device Resistance Tables'!D33,NA())","v":7125.5388093494503},{"$f":"IFERROR('Device Resistance Tables'!F33,NA())","v":7232.421891489691},{"$f":"IFERROR(D46*($B$15/(Main!$N$31+D46)),NA())","v":1.3730533288690392},{"$f":"IFERROR($B$16*($B$15/(Main!$N$31+D46)),NA())","v":1.9269466711309606},46.560503088840051,1.9269466711309606E-4,{"$f":"IFERROR(($B$15/(Main!$N$31+D46))^2*(Main!$N$31+D46)*1000,NA())","v":0.63589240147321702},-1.4999999999999984,1.4999999999999858,5.2532185956541966E-3,null,-27,93851.199999999997,96977.600000000006,100198.1,{"$f":"IFERROR(Q46*($B$15/(Main!$N$31+Q46)),NA())","v":2.9915242069367789},5137.8999999999942,{"$f":"IFERROR(($B$15/(Main!$N$31+Q46))^2*(Main!$N$31+Q46)*1000,NA())","v":0.10179701171086282},-3.2238372572635421,3.320869974097111,1.4136473343824285E-2]
[15,-26,{"$f":"IFERROR('Device Resistance Tables'!C34,NA())","v":7064.8078940761961},{"$f":"IFERROR('Device Resistance Tables'!D34,NA())","v":7172.3938010925849},{"$f":"IFERROR('Device Resistance Tables'!F34,NA())","v":7279.9797081089728},{"$f":"IFERROR(D47*($B$15/(Main!$N$31+D47)),NA())","v":1.3783110157944087},{"$f":"IFERROR($B$16*($B$15/(Main!$N$31+D47)),NA())","v":1.9216889842055911},46.854991743134633,1.9216889842055911E-4,{"$f":"IFERROR(($B$15/(Main!$N$31+D47))^2*(Main!$N$31+D47)*1000,NA())","v":0.63415736478784501},-1.5,1.4999999999999873,5.2576869253695424E-3,null,-26,89207.1,92131.5,95142.3,{"$f":"IFERROR(Q47*($B$15/(Main!$N$31+Q47)),NA())","v":2.9768871503894485},4846.1000000000058,{"$f":"IFERROR(($B$15/(Main!$N$31+Q47))^2*(Main!$N$31+Q47)*1000,NA())","v":0.10662724037148184},-3.1741586753716091,3.2679376760391428,1.4637056547330385E-2]
[16,-25,{"$f":"IFERROR('Device Resistance Tables'!C35,NA())","v":7111.250323760024},{"$f":"IFERROR('Device Resistance Tables'!D35,NA())","v":7219.543475898502},{"$f":"IFERROR('Device Resistance Tables'!F35,NA())","v":7327.8366280369792},{"$f":"IFERROR(D48*($B$15/(Main!$N$31+D48)),NA())","v":1.3835728864595762},{"$f":"IFERROR($B$16*($B$15/(Main!$N$31+D48)),NA())","v":1.9164271135404236},47.14967480591713,1.9164271135404235E-4,{"$f":"IFERROR(($B$15/(Main!$N$31+D48))^2*(Main!$N$31+D48)*1000,NA())","v":0.63242094746833977},-1.5000000000000071,1.4999999999999944,5.2618706651674785E-3,null,-25,84822.7,87558.8,90374.1,{"$f":"IFERROR(Q48*($B$15/(Main!$N$31+Q48)),NA())","v":2.9617424568567876},4572.6999999999971,{"$f":"IFERROR(($B$15/(Main!$N$31+Q48))^2*(Main!$N$31+Q48)*1000,NA())","v":0.11162498923725997},-3.124871514913413,3.2153250158750493,1.5144693532660902E-2]
[17,-24,{"$f":"IFERROR('Device Resistance Tables'!C36,NA())","v":7157.9832137101475},{"$f":"IFERROR('Device Resistance Tables'!D36,NA())","v":7266.9880342235001},{"$f":"IFERROR('Device Resistance Tables'!F36,NA())","v":7375.9928547368518},{"$f":"IFERROR(D49*($B$15/(Main!$N$31+D49)),NA())","v":1.3888386593774564},{"$f":"IFERROR($B$16*($B$15/(Main!$N$31+D49)),NA())","v":1.9111613406225432},47.44455832499807,1.9111613406225432E-4,{"$f":"IFERROR(($B$15/(Main!$N$31+D49))^2*(Main!$N$31+D49)*1000,NA())","v":0.63068324240543916},-1.5000000000000009,1.4999999999999885,5.2657729178802182E-3,null,-24,80681.899999999994,83242.399999999994,85875.5,{"$f":"IFERROR(Q49*($B$15/(Main!$N$31+Q49)),NA())","v":2.9460837558878792},4316.4000000000087,{"$f":"IFERROR(($B$15/(Main!$N$31+Q49))^2*(Main!$N$31+Q49)*1000,NA())","v":0.11679236055699982},-3.0759564837150299,3.1631716529076601,1.5658700968908423E-2]
[18,-23,{"$f":"IFERROR('Device Resistance Tables'!C37,NA())","v":7205.0067673331159},{"$f":"IFERROR('Device Resistance Tables'!D37,NA())","v":7314.7276825716917},{"$f":"IFERROR('Device Resistance Tables'!F37,NA())","v":7424.4485978102666},{"$f":"IFERROR(D50*($B$15/(Main!$N$31+D50)),NA())","v":1.3941080561598163},{"$f":"IFERROR($B$16*($B$15/(Main!$N$31+D50)),NA())","v":1.9058919438401836},47.739648348191622,1.9058919438401836E-4,{"$f":"IFERROR(($B$15/(Main!$N$31+D50))^2*(Main!$N$31+D50)*1000,NA())","v":0.62894434146726064},-1.5000000000000058,1.4999999999999933,5.2693967823598253E-3,null,-23,76769.8,79166.3,81629.5,{"$f":"IFERROR(Q50*($B$15/(Main!$N$31+Q50)),NA())","v":2.9299050201701764},4076.0999999999913,{"$f":"IFERROR(($B$15/(Main!$N$31+Q50))^2*(Main!$N$31+Q50)*1000,NA())","v":0.12213134334384176},-3.0271719153225551,3.1114249371260208,1.6178735717702786E-2]
[19,-22,{"$f":"IFERROR('Device Resistance Tables'!C38,NA())","v":7252.3211939925786},{"$f":"IFERROR('Device Resistance Tables'!D38,NA())","v":7362.7626334950037},{"$f":"IFERROR('Device Resistance Tables'!F38,NA())","v":7473.2040729974278},{"$f":"IFERROR(D51*($B$15/(Main!$N$31+D51)),NA())","v":1.3993808015126146},{"$f":"IFERROR($B$16*($B$15/(Main!$N$31+D51)),NA())","v":1.9006191984873855},48.034950923311953,1.9006191984873854E-4,{"$f":"IFERROR(($B$15/(Main!$N$31+D51))^2*(Main!$N$31+D51)*1000,NA())","v":0.62720433550083721},-1.5,1.4999999999999876,5.2727453527983137E-3,null,-22,73072.2,75315.7,77620.399999999994,{"$f":"IFERROR(Q51*($B$15/(Main!$N$31+Q51)),NA())","v":2.9132013216793622},3850.6000000000058,{"$f":"IFERROR(($B$15/(Main!$N$31+Q51))^2*(Main!$N$31+Q51)*1000,NA())","v":0.1276435638458103},-2.978794593955842,3.0600525521239224,1.6703698490814212E-2]
[20,-21,{"$f":"IFERROR('Device Resistance Tables'!C39,NA())","v":7299.9267090092735},{"$f":"IFERROR('Device Resistance Tables'!D39,NA())","v":7411.0931055931715},{"$f":"IFERROR('Device Resistance Tables'!F39,NA())","v":7522.2595021770685},{"$f":"IFERROR(D52*($B$15/(Main!$N$31+D52)),NA())","v":1.4046566232306792},{"$f":"IFERROR($B$16*($B$15/(Main!$N$31+D52)),NA())","v":1.8953433767693204},48.330472098167775,1.8953433767693206E-4,{"$f":"IFERROR(($B$15/(Main!$N$31+D52))^2*(Main!$N$31+D52)*1000,NA())","v":0.62546331433387559},-1.5000000000000051,1.4999999999999929,5.2758217180646216E-3,null,-21,69576.100000000006,71676.800000000003,73833.600000000006,{"$f":"IFERROR(Q52*($B$15/(Main!$N$31+Q52)),NA())","v":2.8959685002350728},3638.8999999999942,{"$f":"IFERROR(($B$15/(Main!$N$31+Q52))^2*(Main!$N$31+Q52)*1000,NA())","v":0.13333039492242596},-2.9307949015581012,3.009062904593959,1.7232821444289392E-2]
[21,-20,{"$f":"IFERROR('Device Resistance Tables'!C40,NA())","v":7347.8235336610405},{"$f":"IFERROR('Device Resistance Tables'!D40,NA())","v":7459.7193235137465},{"$f":"IFERROR('Device Resistance Tables'!F40,NA())","v":7571.6151133664516},{"$f":"IFERROR(D53*($B$15/(Main!$N$31+D53)),NA())","v":1.4099352521917408},{"$f":"IFERROR($B$16*($B$15/(Main!$N$31+D53)),NA())","v":1.8900647478082593},48.626217920575073,1.8900647478082593E-4,{"$f":"IFERROR(($B$15/(Main!$N$31+D53))^2*(Main!$N$31+D53)*1000,NA())","v":0.62372136677672552},-1.4999999999999973,1.4999999999999851,5.2786289610615711E-3,null,-20,66269.399999999994,68236.7,70255.399999999994,{"$f":"IFERROR(Q53*($B$15/(Main!$N$31+Q53)),NA())","v":2.8782030683809512},3440.1000000000058,{"$f":"IFERROR(($B$15/(Main!$N$31+Q53))^2*(Main!$N$31+Q53)*1000,NA())","v":0.13919298743428593},-2.8830526681389972,2.9583787023698349,1.7765431854121605E-2]
[22,-19,{"$f":"IFERROR('Device Resistance Tables'!C41,NA())","v":7396.0118951828126},{"$f":"IFERROR('Device Resistance Tables'!D41,NA())","v":7508.6415179520945},{"$f":"IFERROR('Device Resistance Tables'!F41,NA())","v":7621.2711407213756},{"$f":"IFERROR(D54*($B$15/(Main!$N$31+D54)),NA())","v":1.4152164223498327},{"$f":"IFERROR($B$16*($B$15/(Main!$N$31+D54)),NA())","v":1.8847835776501667},48.922194438348015,1.8847835776501668E-4,{"$f":"IFERROR(($B$15/(Main!$N$31+D54))^2*(Main!$N$31+D54)*1000,NA())","v":0.62197858062455502},-1.5000000000000067,1.4999999999999947,5.2811701580919301E-3,null,-19,63147.7,64990.7,66880.7,{"$f":"IFERROR(Q54*($B$15/(Main!$N$31+Q54)),NA())","v":2.8599454332337206},3246,{"$f":"IFERROR(($B$15/(Main!$N$31+Q54))^2*(Main!$N$31+Q54)*1000,NA())","v":0.14521800703287205},-2.8357903515426051,2.9081083908928509,1.8257635147230555E-2]
[23,-18,{"$f":"IFERROR('Device Resistance Tables'!C42,NA())","v":7444.4920267666166},{"$f":"IFERROR('Device Resistance Tables'!D42,NA())","v":7557.8599256513871},{"$f":"IFERROR('Device Resistance Tables'!F42,NA())","v":7671.2278245361576},{"$f":"IFERROR(D55*($B$15/(Main!$N$31+D55)),NA())","v":1.4204998707280825},{"$f":"IFERROR($B$16*($B$15/(Main!$N$31+D55)),NA())","v":1.8795001292719171},49.218407699292584,1.8795001292719172E-4,{"$f":"IFERROR(($B$15/(Main!$N$31+D55))^2*(Main!$N$31+D55)*1000,NA())","v":0.62023504265973262},-1.4999999999999962,1.4999999999999962,5.2834483782497887E-3,null,-18,60192.3,61919,63688.9,{"$f":"IFERROR(Q55*($B$15/(Main!$N$31+Q55)),NA())","v":2.8411504609352183},3071.6999999999971,{"$f":"IFERROR(($B$15/(Main!$N$31+Q55))^2*(Main!$N$31+Q55)*1000,NA())","v":0.15142034789137773},-2.7886432274422992,2.8584117960561399,1.8794972298502355E-2]
[24,-17,{"$f":"IFERROR('Device Resistance Tables'!C43,NA())","v":7493.2641675615769},{"$f":"IFERROR('Device Resistance Tables'!D43,NA())","v":7607.3747894026164},{"$f":"IFERROR('Device Resistance Tables'!F43,NA())","v":7721.4854112436551},{"$f":"IFERROR(D56*($B$15/(Main!$N$31+D56)),NA())","v":1.4257853374109029},{"$f":"IFERROR($B$16*($B$15/(Main!$N$31+D56)),NA())","v":1.8742146625890972},49.514863751229313,1.8742146625890972E-4,{"$f":"IFERROR(($B$15/(Main!$N$31+D56))^2*(Main!$N$31+D56)*1000,NA())","v":0.61849083865440213},-1.5000000000000042,1.4999999999999922,5.2854666828203722E-3,null,-17,57393.3,59011.3,60668.9,{"$f":"IFERROR(Q56*($B$15/(Main!$N$31+Q56)),NA())","v":2.8218174414914654},2907.6999999999971,{"$f":"IFERROR(($B$15/(Main!$N$31+Q56))^2*(Main!$N$31+Q56)*1000,NA())","v":0.15780024430781622},-2.741847747804234,2.8089535394068568,1.9333019443752875E-2]
[25,-16,{"$f":"IFERROR('Device Resistance Tables'!C44,NA())","v":7542.3285626739125},{"$f":"IFERROR('Device Resistance Tables'!D44,NA())","v":7657.1863580445815},{"$f":"IFERROR('Device Resistance Tables'!F44,NA())","v":7772.0441534152496},{"$f":"IFERROR(D57*($B$15/(Main!$N$31+D57)),NA())","v":1.4310725655356034},{"$f":"IFERROR($B$16*($B$15/(Main!$N$31+D57)),NA())","v":1.8689274344643965},49.811568641965096,1.8689274344643964E-4,{"$f":"IFERROR(($B$15/(Main!$N$31+D57))^2*(Main!$N$31+D57)*1000,NA())","v":0.61674605337325084},-1.5000000000000038,1.4999999999999918,5.2872281247005048E-3,null,-16,54741.5,56257.9,57810.5,{"$f":"IFERROR(Q57*($B$15/(Main!$N$31+Q57)),NA())","v":2.8019461830211947},2753.4000000000015,{"$f":"IFERROR(($B$15/(Main!$N$31+Q57))^2*(Main!$N$31+Q57)*1000,NA())","v":0.16435775960300586},-2.695443662134565,2.7597901805790803,1.9871258470270714E-2]
[26,-15,{"$f":"IFERROR('Device Resistance Tables'!C45,NA())","v":7591.6854631669385},{"$f":"IFERROR('Device Resistance Tables'!D45,NA())","v":7707.2948864638975},{"$f":"IFERROR('Device Resistance Tables'!F45,NA())","v":7822.9043097608555},{"$f":"IFERROR(D58*($B$15/(Main!$N$31+D58)),NA())","v":1.4363613012834386},{"$f":"IFERROR($B$16*($B$15/(Main!$N$31+D58)),NA())","v":1.8636386987165614},50.108528419315917,1.8636386987165614E-4,{"$f":"IFERROR(($B$15/(Main!$N$31+D58))^2*(Main!$N$31+D58)*1000,NA())","v":0.61500077057646529},-1.5000000000000069,1.4999999999999951,5.2887357478352826E-3,null,-15,52228.3,53649.599999999999,55104,{"$f":"IFERROR(Q58*($B$15/(Main!$N$31+Q58)),NA())","v":2.7815364118549057},2608.3000000000029,{"$f":"IFERROR(($B$15/(Main!$N$31+Q58))^2*(Main!$N$31+Q58)*1000,NA())","v":0.17109298408788115},-2.6492275804479357,2.7109242193790846,2.0409771166288948E-2]
[27,-14,{"$f":"IFERROR('Device Resistance Tables'!C46,NA())","v":7641.3351260610661},{"$f":"IFERROR('Device Resistance Tables'!D46,NA())","v":7757.7006355949907},{"$f":"IFERROR('Device Resistance Tables'!F46,NA())","v":7874.0661451289152},{"$f":"IFERROR(D59*($B$15/(Main!$N$31+D59)),NA())","v":1.4416512938701027},{"$f":"IFERROR($B$16*($B$15/(Main!$N$31+D59)),NA())","v":1.8583487061298967},50.405749131093216,1.8583487061298967E-4,{"$f":"IFERROR(($B$15/(Main!$N$31+D59))^2*(Main!$N$31+D59)*1000,NA())","v":0.61325507302286586},-1.4999999999999956,1.4999999999999956,5.2899925866640718E-3,null,-14,49845.599999999999,51177.9,52540.6,{"$f":"IFERROR(Q59*($B$15/(Main!$N$31+Q59)),NA())","v":2.7605895266100995},2471.6999999999971,{"$f":"IFERROR(($B$15/(Main!$N$31+Q59))^2*(Main!$N$31+Q59)*1000,NA())","v":0.1780054562186672},-2.6032721155029863,2.6626727552322333,2.0946885244806257E-2]
[28,-13,{"$f":"IFERROR('Device Resistance Tables'!C47,NA())","v":7691.2778143337982},{"$f":"IFERROR('Device Resistance Tables'!D47,NA())","v":7808.4038724201},{"$f":"IFERROR('Device Resistance Tables'!F47,NA())","v":7925.5299305064009},{"$f":"IFERROR(D60*($B$15/(Main!$N$31+D60)),NA())","v":1.4469422955356963},{"$f":"IFERROR($B$16*($B$15/(Main!$N$31+D60)),NA())","v":1.8530577044643028},50.703236825109343,1.8530577044643029E-4,{"$f":"IFERROR(($B$15/(Main!$N$31+D60))^2*(Main!$N$31+D60)*1000,NA())","v":0.6115090424732198},-1.5000000000000036,1.499999999999992,5.2910016655935976E-3,null,-13,47585.9,48834.9,50111.7,{"$f":"IFERROR(Q60*($B$15/(Main!$N$31+Q60)),NA())","v":2.7391084203423479},2343,{"$f":"IFERROR(($B$15/(Main!$N$31+Q60))^2*(Main!$N$31+Q60)*1000,NA())","v":0.18509422128702521},-2.5575971282832564,2.614523629617334,2.1481106267751571E-2]
[29,-12,{"$f":"IFERROR('Device Resistance Tables'!C48,NA())","v":7741.5137969197367},{"$f":"IFERROR('Device Resistance Tables'!D48,NA())","v":7859.4048699692758},{"$f":"IFERROR('Device Resistance Tables'!F48,NA())","v":7977.2959430188139},{"$f":"IFERROR(D61*($B$15/(Main!$N$31+D61)),NA())","v":1.4522340615341696},{"$f":"IFERROR($B$16*($B$15/(Main!$N$31+D61)),NA())","v":1.8477659384658305},51.000997549175736,1.8477659384658304E-4,{"$f":"IFERROR(($B$15/(Main!$N$31+D61))^2*(Main!$N$31+D61)*1000,NA())","v":0.60976275969372407},-1.4999999999999989,1.4999999999999873,5.2917659984732524E-3,null,-12,45442.2,46613.2,47809.7,{"$f":"IFERROR(Q61*($B$15/(Main!$N$31+Q61)),NA())","v":2.7170970727674817},2221.7000000000044,{"$f":"IFERROR(($B$15/(Main!$N$31+Q61))^2*(Main!$N$31+Q61)*1000,NA())","v":0.19235796598673099},-2.5121639363956989,2.5668694704504302,2.2011347574866225E-2]
[30,-11,{"$f":"IFERROR('Device Resistance Tables'!C49,NA())","v":7792.0433487105793},{"$f":"IFERROR('Device Resistance Tables'!D49,NA())","v":7910.703907320385},{"$f":"IFERROR('Device Resistance Tables'!F49,NA())","v":8029.3644659301899},{"$f":"IFERROR(D62*($B$15/(Main!$N$31+D62)),NA())","v":1.4575263501222648},{"$f":"IFERROR($B$16*($B$15/(Main!$N$31+D62)),NA())","v":1.842473649877735},51.299037351109291,1.842473649877735E-4,{"$f":"IFERROR(($B$15/(Main!$N$31+D62))^2*(Main!$N$31+D62)*1000,NA())","v":0.60801630445965249},-1.5,1.4999999999999885,5.292288588095273E-3,null,-11,43407.8,44505.8,45627.1,{"$f":"IFERROR(Q62*($B$15/(Main!$N$31+Q62)),NA())","v":2.69455984500732},2107.3999999999942,{"$f":"IFERROR(($B$15/(Main!$N$31+Q62))^2*(Main!$N$31+Q62)*1000,NA())","v":0.19979525114758426},-2.4670941764893564,2.5194469035496398,2.2537227760161649E-2]
[31,-10,{"$f":"IFERROR('Device Resistance Tables'!C50,NA())","v":7842.8667505551184},{"$f":"IFERROR('Device Resistance Tables'!D50,NA())","v":7962.3012695991047},{"$f":"IFERROR('Device Resistance Tables'!F50,NA())","v":8081.73578864309},{"$f":"IFERROR(D63*($B$15/(Main!$N$31+D63)),NA())","v":1.4628189225479726},{"$f":"IFERROR($B$16*($B$15/(Main!$N$31+D63)),NA())","v":1.8371810774520272},51.597362278719629,1.8371810774520271E-4,{"$f":"IFERROR(($B$15/(Main!$N$31+D63))^2*(Main!$N$31+D63)*1000,NA())","v":0.60626975555916895},-1.4999999999999962,1.4999999999999847,5.2925724257077977E-3,null,-10,41476.5,42506.2,43557,{"$f":"IFERROR(Q63*($B$15/(Main!$N$31+Q63)),NA())","v":2.6715027939557614},1999.6000000000058,{"$f":"IFERROR(($B$15/(Main!$N$31+Q63))^2*(Main!$N$31+Q63)*1000,NA())","v":0.20740407799459876},-2.422470133768714,2.4721099510189171,2.3057051051558641E-2]
[32,-9,{"$f":"IFERROR('Device Resistance Tables'!C51,NA())","v":7893.9842892592405},{"$f":"IFERROR('Device Resistance Tables'!D51,NA())","v":8014.1972479789247},{"$f":"IFERROR('Device Resistance Tables'!F51,NA())","v":8134.4102066986079},{"$f":"IFERROR(D64*($B$15/(Main!$N$31+D64)),NA())","v":1.4681115430385117},{"$f":"IFERROR($B$16*($B$15/(Main!$N$31+D64)),NA())","v":1.8318884569614882},51.895978379820008,1.8318884569614881E-4,{"$f":"IFERROR(($B$15/(Main!$N$31+D64))^2*(Main!$N$31+D64)*1000,NA())","v":0.604523190797291},-1.5000000000000033,1.499999999999992,5.2926204905390239E-3,null,-9,39634.5,40599.699999999997,41584.300000000003,{"$f":"IFERROR(Q64*($B$15/(Main!$N$31+Q64)),NA())","v":2.6478222202898434},1906.5,{"$f":"IFERROR(($B$15/(Main!$N$31+Q64))^2*(Main!$N$31+Q64)*1000,NA())","v":0.21521866730435157},-2.3773574681586247,2.4251410724709932,2.3680573665918025E-2]
[33,-8,{"$f":"IFERROR('Device Resistance Tables'!C52,NA())","v":7945.3962575859287},{"$f":"IFERROR('Device Resistance Tables'!D52,NA())","v":8066.3921396811456},{"$f":"IFERROR('Device Resistance Tables'!F52,NA())","v":8187.3880217763617},{"$f":"IFERROR(D65*($B$15/(Main!$N$31+D65)),NA())","v":1.4734039787878523},{"$f":"IFERROR($B$16*($B$15/(Main!$N$31+D65)),NA())","v":1.8265960212121475},52.194891702220957,1.8265960212121476E-4,{"$f":"IFERROR(($B$15/(Main!$N$31+D65))^2*(Main!$N$31+D65)*1000,NA())","v":0.60277668700000864},-1.4999999999999976,{"$f":"IFERROR(((E65-D65)/D65)*100,NA())","v":1.4999999999999862},5.2924357493406848E-3,null,-8,37885.5,38790.5,39713.1,{"$f":"IFERROR(Q65*($B$15/(Main!$N$31+Q65)),NA())","v":2.6236388231315519},1809.1999999999971,{"$f":"IFERROR(($B$15/(Main!$N$31+Q65))^2*(Main!$N$31+Q65)*1000,NA())","v":0.2231991883665877},-2.333045462162127,2.3784173960119062,2.4183397158291431E-2]
[34,-7,{"$f":"IFERROR('Device Resistance Tables'!C53,NA())","v":7997.1029542552615},{"$f":"IFERROR('Device Resistance Tables'!D53,NA())","v":8118.886247974885},{"$f":"IFERROR('Device Resistance Tables'!F53,NA())","v":8240.6695416945076},{"$f":"IFERROR(D66*($B$15/(Main!$N$31+D66)),NA())","v":1.4786959999437961},{"$f":"IFERROR($B$16*($B$15/(Main!$N$31+D66)),NA())","v":1.8213040000562035},{"$f":"IFERROR(D66-D65,NA())","v":52.494108293739373},1.8213040000562036E-4,{"$f":"IFERROR(($B$15/(Main!$N$31+D66))^2*(Main!$N$31+D66)*1000,NA())","v":0.60103032001854728},-1.5000000000000033,1.4999999999999922,5.292021155943738E-3,null,-7,36224.400000000001,37072.9,37937.4,{"$f":"IFERROR(Q66*($B$15/(Main!$N$31+Q66)),NA())","v":2.5989596986801322},1717.5999999999985,{"$f":"IFERROR(($B$15/(Main!$N$31+Q66))^2*(Main!$N$31+Q66)*1000,NA())","v":0.23134329943555637},-2.2887338190430206,2.3318920289483689,2.4679124451419732E-2]
[35,-6,{"$f":"IFERROR('Device Resistance Tables'!C54,NA())","v":8049.1046839444125},{"$f":"IFERROR('Device Resistance Tables'!D54,NA())","v":8171.679882177069},{"$f":"IFERROR('Device Resistance Tables'!F54,NA())","v":8294.2550804097245},{"$f":"IFERROR(D67*($B$15/(Main!$N$31+D67)),NA())","v":1.4839873795946259},{"$f":"IFERROR($B$16*($B$15/(Main!$N$31+D67)),NA())","v":1.8160126204053741},52.793634202183966,1.8160126204053742E-4,{"$f":"IFERROR(($B$15/(Main!$N$31+D67))^2*(Main!$N$31+D67)*1000,NA())","v":0.59928416473377355},-1.5000000000000053,1.4999999999999942,5.2913796508298194E-3,null,-6,34646.1,35441.699999999997,36251.9,{"$f":"IFERROR(Q67*($B$15/(Main!$N$31+Q67)),NA())","v":2.5737947744032459},1631.2000000000044,{"$f":"IFERROR(($B$15/(Main!$N$31+Q67))^2*(Main!$N$31+Q67)*1000,NA())","v":0.23964772444692867},-2.2448133131311381,2.2860077253630733,2.5164924276886325E-2]
[36,-5,{"$f":"IFERROR('Device Resistance Tables'!C55,NA())","v":8101.4017572876537},{"$f":"IFERROR('Device Resistance Tables'!D55,NA())","v":8224.7733576524406},{"$f":"IFERROR('Device Resistance Tables'!F55,NA())","v":8348.1449580172266},{"$f":"IFERROR(D68*($B$15/(Main!$N$31+D68)),NA())","v":1.4892778937553395},{"$f":"IFERROR($B$16*($B$15/(Main!$N$31+D68)),NA())","v":1.8107221062446603},53.093475475371633,1.8107221062446603E-4,{"$f":"IFERROR(($B$15/(Main!$N$31+D68))^2*(Main!$N$31+D68)*1000,NA())","v":0.59753829506073775},-1.5000000000000036,1.4999999999999925,5.2905141607135775E-3,null,-5,33146.199999999997,33892.199999999997,34651.5,{"$f":"IFERROR(Q68*($B$15/(Main!$N$31+Q68)),NA())","v":2.5481579870683175},1549.5,{"$f":"IFERROR(($B$15/(Main!$N$31+Q68))^2*(Main!$N$31+Q68)*1000,NA())","v":0.24810786426745532},-2.2010964174647856,2.2403384849611503,2.5636787334928357E-2]
[37,-4,{"$f":"IFERROR('Device Resistance Tables'!C56,NA())","v":8153.9944908763464},{"$f":"IFERROR('Device Resistance Tables'!D56,NA())","v":8278.1669958135499},{"$f":"IFERROR('Device Resistance Tables'!F56,NA())","v":8402.3395007507515},{"$f":"IFERROR(D69*($B$15/(Main!$N$31+D69)),NA())","v":1.494567321353484},{"$f":"IFERROR($B$16*($B$15/(Main!$N$31+D69)),NA())","v":1.805432678646516},53.393638161109266,1.805432678646516E-4,{"$f":"IFERROR(($B$15/(Main!$N$31+D69))^2*(Main!$N$31+D69)*1000,NA())","v":0.59579278395335022},-1.5000000000000029,1.4999999999999809,5.2894275981445471E-3,null,-4,31720.2,32419.7,33131.300000000003,{"$f":"IFERROR(Q69*($B$15/(Main!$N$31+Q69)),NA())","v":2.522059561948812},1472.4999999999964,{"$f":"IFERROR(($B$15/(Main!$N$31+Q69))^2*(Main!$N$31+Q69)*1000,NA())","v":0.25672034455689224},-2.157638719667363,2.1949617053828452,2.6098425119505553E-2]
[38,-3,{"$f":"IFERROR('Device Resistance Tables'!C57,NA())","v":8206.8832072589539},{"$f":"IFERROR('Device Resistance Tables'!D57,NA())","v":8331.8611241207655},{"$f":"IFERROR('Device Resistance Tables'!F57,NA())","v":8456.839040982577},{"$f":"IFERROR(D70*($B$15/(Main!$N$31+D70)),NA())","v":1.499855444214601},{"$f":"IFERROR($B$16*($B$15/(Main!$N$31+D70)),NA())","v":1.8001445557853988},53.694128307215578,1.8001445557853989E-4,{"$f":"IFERROR(($B$15/(Main!$N$31+D70))^2*(Main!$N$31+D70)*1000,NA())","v":0.59404770340918156},-1.5000000000000007,1.5000000000000007,5.2881228611170172E-3,null,-3,30364.1,31020,31686.9,{"$f":"IFERROR(Q70*($B$15/(Main!$N$31+Q70)),NA())","v":2.4955143832276936},1399.7000000000007,{"$f":"IFERROR(($B$15/(Main!$N$31+Q70))^2*(Main!$N$31+Q70)*1000,NA())","v":0.26548025353486104},-2.1144422952933639,2.1499032882011653,2.654517872111839E-2]
[39,-2,{"$f":"IFERROR('Device Resistance Tables'!C58,NA())","v":8260.0682349410308},{"$f":"IFERROR('Device Resistance Tables'!D58,NA())","v":8385.8560760822656},{"$f":"IFERROR('Device Resistance Tables'!F58,NA())","v":8511.6439172234986},{"$f":"IFERROR(D71*($B$15/(Main!$N$31+D71)),NA())","v":1.5051420470472987},{"$f":"IFERROR($B$16*($B$15/(Main!$N$31+D71)),NA())","v":1.7948579529527013},53.994951961500192,1.7948579529527013E-4,{"$f":"IFERROR(($B$15/(Main!$N$31+D71))^2*(Main!$N$31+D71)*1000,NA())","v":0.59230312447439148},-1.50000000000001,1.4999999999999882,5.2866028326976622E-3,null,-2,29074,29689,30314,{"$f":"IFERROR(Q71*($B$15/(Main!$N$31+Q71)),NA())","v":2.468535362442994},1331,{"$f":"IFERROR(($B$15/(Main!$N$31+Q71))^2*(Main!$N$31+Q71)*1000,NA())","v":0.27438333039381185},-2.071474283404628,2.105156792077874,2.6979020784699603E-2]
[40,-1,{"$f":"IFERROR('Device Resistance Tables'!C59,NA())","v":8313.5499083852283},{"$f":"IFERROR('Device Resistance Tables'!D59,NA())","v":8440.1521912540393},{"$f":"IFERROR('Device Resistance Tables'!F59,NA())","v":8566.7544741228485},{"$f":"IFERROR(D72*($B$15/(Main!$N$31+D72)),NA())","v":1.5104269174279625},{"$f":"IFERROR($B$16*($B$15/(Main!$N$31+D72)),NA())","v":1.7895730825720371},54.296115171773636,1.7895730825720371E-4,{"$f":"IFERROR(($B$15/(Main!$N$31+D72))^2*(Main!$N$31+D72)*1000,NA())","v":0.5905591172487723},-1.5000000000000051,1.4999999999999836,5.2848703806638309E-3,null,-1,27846.5,28423.1,29008.799999999999,{"$f":"IFERROR(Q72*($B$15/(Main!$N$31+Q72)),NA())","v":2.4411416569719773},1265.9000000000015,{"$f":"IFERROR(($B$15/(Main!$N$31+Q72))^2*(Main!$N$31+Q72)*1000,NA())","v":0.28342325319924727},-2.0286316411651035,2.0606478533305683,2.7393705471016716E-2]
[41,0,{"$f":"IFERROR('Device Resistance Tables'!C60,NA())","v":8409.8023170874949},{"$f":"IFERROR('Device Resistance Tables'!D60,NA())","v":8494.749815239893},{"$f":"IFERROR('Device Resistance Tables'!F60,NA())","v":8579.6973133922911},{"$f":"IFERROR(D73*($B$15/(Main!$N$31+D73)),NA())","v":1.5157098457851208},{"$f":"IFERROR($B$16*($B$15/(Main!$N$31+D73)),NA())","v":1.7842901542148795},54.597623985853716,1.7842901542148795E-4,{"$f":"IFERROR(($B$15/(Main!$N$31+D73))^2*(Main!$N$31+D73)*1000,NA())","v":0.58881575089091021},-0.99999999999999034,0.99999999999999034,5.2829283571582675E-3,null,0,26678,27218.6,27767.5,{"$f":"IFERROR(Q73*($B$15/(Main!$N$31+Q73)),NA())","v":2.4133465525301863},1204.5,{"$f":"IFERROR(($B$15/(Main!$N$31+Q73))^2*(Main!$N$31+Q73)*1000,NA())","v":0.29259563766503843},-1.9861418294842443,2.0166356829521046,2.7795104441791008E-2]
[42,1,{"$f":"IFERROR('Device Resistance Tables'!C61,NA())","v":8464.1528066945266},{"$f":"IFERROR('Device Resistance Tables'!D61,NA())","v":8549.6492996914403},{"$f":"IFERROR('Device Resistance Tables'!F61,NA())","v":8635.145792688354},{"$f":"IFERROR(D74*($B$15/(Main!$N$31+D74)),NA())","v":1.5209906253834713},{"$f":"IFERROR($B$16*($B$15/(Main!$N$31+D74)),NA())","v":1.779009374616529},54.899484451547323,1.7790093746165289E-4,{"$f":"IFERROR(($B$15/(Main!$N$31+D74))^2*(Main!$N$31+D74)*1000,NA())","v":0.5870730936234545},-0.99999999999999223,0.99999999999999223,5.2807795983504935E-3,null,1,25569,26076,26590.400000000001,{"$f":"IFERROR(Q74*($B$15/(Main!$N$31+Q74)),NA())","v":2.3852644417341167},1142.5999999999985,{"$f":"IFERROR(($B$15/(Main!$N$31+Q74))^2*(Main!$N$31+Q74)*1000,NA())","v":0.30186273422774146},-1.9443166129774505,1.9726951986501053,2.8082110796069593E-2]
[43,2,{"$f":"IFERROR('Device Resistance Tables'!C62,NA())","v":8518.8024922850364},{"$f":"IFERROR('Device Resistance Tables'!D62,NA())","v":8604.851002308118},{"$f":"IFERROR('Device Resistance Tables'!F62,NA())","v":8690.8995123311997},{"$f":"IFERROR(D75*($B$15/(Main!$N$31+D75)),NA())","v":1.5262690523075932},{"$f":"IFERROR($B$16*($B$15/(Main!$N$31+D75)),NA())","v":1.7737309476924064},55.201702616677721,1.7737309476924064E-4,{"$f":"IFERROR(($B$15/(Main!$N$31+D75))^2*(Main!$N$31+D75)*1000,NA())","v":0.58533121273849409},-1.000000000000006,1.000000000000006,5.2784269241219484E-3,null,2,24512.3,24987.7,25469.8,{"$f":"IFERROR(Q75*($B$15/(Main!$N$31+Q75)),NA())","v":2.3568113937183641},1088.2999999999993,{"$f":"IFERROR(($B$15/(Main!$N$31+Q75))^2*(Main!$N$31+Q75)*1000,NA())","v":0.31125224007293983},-1.9025360477354918,1.9293492398259886,2.8453048015752547E-2]
[44,3,{"$f":"IFERROR('Device Resistance Tables'!C63,NA())","v":8573.7517339687874},{"$f":"IFERROR('Device Resistance Tables'!D63,NA())","v":8660.3552868371589},{"$f":"IFERROR('Device Resistance Tables'!F63,NA())","v":8746.9588397055304},{"$f":"IFERROR(D76*($B$15/(Main!$N$31+D76)),NA())","v":1.5315449254453426},{"$f":"IFERROR($B$16*($B$15/(Main!$N$31+D76)),NA())","v":1.7684550745546572},55.504284529040888,1.7684550745546571E-4,{"$f":"IFERROR(($B$15/(Main!$N$31+D76))^2*(Main!$N$31+D76)*1000,NA())","v":0.58359017460303686},-0.99999999999999878,0.99999999999999878,5.275873137749354E-3,null,3,23505.200000000001,23950.9,24402.6,{"$f":"IFERROR(Q76*($B$15/(Main!$N$31+Q76)),NA())","v":2.3280080940416896},1036.7999999999993,{"$f":"IFERROR(($B$15/(Main!$N$31+Q76))^2*(Main!$N$31+Q76)*1000,NA())","v":0.32075732896624237},-1.8608904049534702,1.8859416556371453,2.8803299676674499E-2]
[45,4,{"$f":"IFERROR('Device Resistance Tables'!C64,NA())","v":8629.000897842885},{"$f":"IFERROR('Device Resistance Tables'!D64,NA())","v":8716.1625230736208},{"$f":"IFERROR('Device Resistance Tables'!F64,NA())","v":8803.3241483043566},{"$f":"IFERROR(D77*($B$15/(Main!$N$31+D77)),NA())","v":1.5368180464709575},{"$f":"IFERROR($B$16*($B$15/(Main!$N$31+D77)),NA())","v":1.7631819535290425},55.807236236461904,1.7631819535290425E-4,{"$f":"IFERROR(($B$15/(Main!$N$31+D77))^2*(Main!$N$31+D77)*1000,NA())","v":0.58185004466458401},-0.99999999999999534,0.99999999999999534,5.2731210256149463E-3,null,4,22545,22962.9,23386.1,{"$f":"IFERROR(Q77*($B$15/(Main!$N$31+Q77)),NA())","v":2.298874492232176},988,{"$f":"IFERROR(($B$15/(Main!$N$31+Q77))^2*(Main!$N$31+Q77)*1000,NA())","v":0.33037141756338179},-1.8198920868008894,1.8429727952479742,2.9133601809513632E-2]
[46,5,{"$f":"IFERROR('Device Resistance Tables'!C65,NA())","v":8684.5503559917688},{"$f":"IFERROR('Device Resistance Tables'!D65,NA())","v":8772.2730868603721},{"$f":"IFERROR('Device Resistance Tables'!F65,NA())","v":8859.9958177289755},{"$f":"IFERROR(D78*($B$15/(Main!$N$31+D78)),NA())","v":1.5420882198278745},{"$f":"IFERROR($B$16*($B$15/(Main!$N$31+D78)),NA())","v":1.7579117801721256},56.1105637867513,1.7579117801721255E-4,{"$f":"IFERROR(($B$15/(Main!$N$31+D78))^2*(Main!$N$31+D78)*1000,NA())","v":0.58011088745680139},-0.99999999999999556,0.99999999999999556,5.2701733569169296E-3,null,5,21629.4,22021.1,22417.5,{"$f":"IFERROR(Q78*($B$15/(Main!$N$31+Q78)),NA())","v":2.2694295324020723},941.80000000000291,{"$f":"IFERROR(($B$15/(Main!$N$31+Q78))^2*(Main!$N$31+Q78)*1000,NA())","v":0.3400882543073161},-1.7787485638773592,1.8000917302042199,2.9444959830103645E-2]
[47,6,{"$f":"IFERROR('Device Resistance Tables'!C66,NA())","v":8740.4004864872113},{"$f":"IFERROR('Device Resistance Tables'!D66,NA())","v":8828.6873600880917},{"$f":"IFERROR('Device Resistance Tables'!F66,NA())","v":8916.9742336889722},{"$f":"IFERROR(D79*($B$15/(Main!$N$31+D79)),NA())","v":1.5473552527112751},{"$f":"IFERROR($B$16*($B$15/(Main!$N$31+D79)),NA())","v":1.7526447472887245},56.414273227719605,1.7526447472887246E-4,{"$f":"IFERROR(($B$15/(Main!$N$31+D79))^2*(Main!$N$31+D79)*1000,NA())","v":0.57837276660527914},-0.99999999999999445,0.99999999999999445,5.2670328834005797E-3,null,6,20756,21123,21494.400000000001,{"$f":"IFERROR(Q79*($B$15/(Main!$N$31+Q79)),NA())","v":2.239690903833178},898.09999999999854,{"$f":"IFERROR(($B$15/(Main!$N$31+Q79))^2*(Main!$N$31+Q79)*1000,NA())","v":0.3499020017350512},-1.7374425981157979,1.7582729725891275,2.973862856889431E-2]
[48,7,{"$f":"IFERROR('Device Resistance Tables'!C67,NA())","v":8796.5516733883196},{"$f":"IFERROR('Device Resistance Tables'!D67,NA())","v":8885.4057306952727},{"$f":"IFERROR('Device Resistance Tables'!F67,NA())","v":8974.2597880022258},{"$f":"IFERROR(D80*($B$15/(Main!$N$31+D80)),NA())","v":1.5526189550503717},{"$f":"IFERROR($B$16*($B$15/(Main!$N$31+D80)),NA())","v":1.7473810449496279},56.718370607180987,1.7473810449496278E-4,{"$f":"IFERROR(($B$15/(Main!$N$31+D80))^2*(Main!$N$31+D80)*1000,NA())","v":0.5766357448333771},-1.0000000000000044,1.0000000000000044,5.2637023390966764E-3,null,7,19922.7,20266.599999999999,20614.3,{"$f":"IFERROR(Q80*($B$15/(Main!$N$31+Q80)),NA())","v":2.2096892283903711},856.40000000000146,{"$f":"IFERROR(($B$15/(Main!$N$31+Q80))^2*(Main!$N$31+Q80)*1000,NA())","v":0.35980255463117761},-1.6968805818440087,1.7156306435218573,3.0001675442806963E-2]
[49,8,{"$f":"IFERROR('Device Resistance Tables'!C68,NA())","v":8853.004306741539},{"$f":"IFERROR('Device Resistance Tables'!D68,NA())","v":8942.4285926682205},{"$f":"IFERROR('Device Resistance Tables'!F68,NA())","v":9031.852878594902},{"$f":"IFERROR(D81*($B$15/(Main!$N$31+D81)),NA())","v":1.5578791394904428},{"$f":"IFERROR($B$16*($B$15/(Main!$N$31+D81)),NA())","v":1.7421208605095571},57.022861972947794,1.742120860509557E-4,{"$f":"IFERROR(($B$15/(Main!$N$31+D81))^2*(Main!$N$31+D81)*1000,NA())","v":0.57489988396815384},-0.9999999999999919,0.9999999999999919,5.2601844400710362E-3,null,8,19127.3,19449.5,19775.099999999999,{"$f":"IFERROR(Q81*($B$15/(Main!$N$31+Q81)),NA())","v":2.1794376814546936},817.09999999999854,{"$f":"IFERROR(($B$15/(Main!$N$31+Q81))^2*(Main!$N$31+Q81)*1000,NA())","v":0.36978556511995109},-1.6565978559860188,1.6740790251677347,3.0251546935677442E-2]
[50,9,{"$f":"IFERROR('Device Resistance Tables'!C69,NA())","v":8909.758782580644},{"$f":"IFERROR('Device Resistance Tables'!D69,NA())","v":8999.7563460410547},{"$f":"IFERROR('Device Resistance Tables'!F69,NA())","v":9089.7539095014654},{"$f":"IFERROR(D82*($B$15/(Main!$N$31+D82)),NA())","v":1.5631356213746315},{"$f":"IFERROR($B$16*($B$15/(Main!$N$31+D82)),NA())","v":1.7368643786253686},57.327753372834195,1.7368643786253685E-4,{"$f":"IFERROR(($B$15/(Main!$N$31+D82))^2*(Main!$N$31+D82)*1000,NA())","v":0.57316524494637155},-1.0000000000000013,1.0000000000000013,5.2564818841887018E-3,null,9,18368,18669.8,18974.5,{"$f":"IFERROR(Q82*($B$15/(Main!$N$31+Q82)),NA())","v":2.1489630203210344},779.70000000000073,{"$f":"IFERROR(($B$15/(Main!$N$31+Q82))^2*(Main!$N$31+Q82)*1000,NA())","v":0.37984220329405854},-1.6165143708020402,1.6320474777448111,3.0474661133659264E-2]
[51,10,{"$f":"IFERROR('Device Resistance Tables'!C70,NA())","v":8966.8155029267436},{"$f":"IFERROR('Device Resistance Tables'!D70,NA())","v":9057.3893968957},{"$f":"IFERROR('Device Resistance Tables'!F70,NA())","v":9147.9632908646563},{"$f":"IFERROR(D83*($B$15/(Main!$N$31+D83)),NA())","v":1.5683882187255176},{"$f":"IFERROR($B$16*($B$15/(Main!$N$31+D83)),NA())","v":1.7316117812744827},57.633050854645262,1.7316117812744828E-4,{"$f":"IFERROR(($B$15/(Main!$N$31+D83))^2*(Main!$N$31+D83)*1000,NA())","v":0.5714318878205793},-0.99999999999999256,0.99999999999999256,5.2525973508861235E-3,null,10,17643,17925.5,18210.7,{"$f":"IFERROR(Q83*($B$15/(Main!$N$31+Q83)),NA())","v":2.1182843637535584},744.29999999999927,{"$f":"IFERROR(($B$15/(Main!$N$31+Q83))^2*(Main!$N$31+Q83)*1000,NA())","v":0.38996615996132566},-1.5759671975677108,1.5910295389249991,3.0678656567475926E-2]
[52,11,{"$f":"IFERROR('Device Resistance Tables'!C71,NA())","v":9024.1748757882906},{"$f":"IFERROR('Device Resistance Tables'!D71,NA())","v":9115.3281573619097},{"$f":"IFERROR('Device Resistance Tables'!F71,NA())","v":9206.4814389355288},{"$f":"IFERROR(D84*($B$15/(Main!$N$31+D84)),NA())","v":1.573636752226476},{"$f":"IFERROR($B$16*($B$15/(Main!$N$31+D84)),NA())","v":1.726363247773524},57.938760466209715,1.7263632477735241E-4,{"$f":"IFERROR(($B$15/(Main!$N$31+D84))^2*(Main!$N$31+D84)*1000,NA())","v":0.56969987176526293},-1,1,5.2485335009584411E-3,null,11,16949.400000000001,17213.900000000001,17480.7,{"$f":"IFERROR(Q84*($B$15/(Main!$N$31+Q84)),NA())","v":2.0873843881251859},711.59999999999854,{"$f":"IFERROR(($B$15/(Main!$N$31+Q84))^2*(Main!$N$31+Q84)*1000,NA())","v":0.40016315191868862},-1.5365489517192501,1.5499102469515871,3.0899975628372545E-2]
[53,12,{"$f":"IFERROR('Device Resistance Tables'!C72,NA())","v":9081.8373151610576},{"$f":"IFERROR('Device Resistance Tables'!D72,NA())","v":9173.5730456172296},{"$f":"IFERROR('Device Resistance Tables'!F72,NA())","v":9265.3087760734015},{"$f":"IFERROR(D85*($B$15/(Main!$N$31+D85)),NA())","v":1.5788810452028257},{"$f":"IFERROR($B$16*($B$15/(Main!$N$31+D85)),NA())","v":1.7211189547971741},58.244888255319893,1.7211189547971742E-4,{"$f":"IFERROR(($B$15/(Main!$N$31+D85))^2*(Main!$N$31+D85)*1000,NA())","v":0.5679692550830675},-0.99999999999999623,0.99999999999999623,5.2442929763496515E-3,null,12,16287,16534.400000000001,16784,{"$f":"IFERROR(Q85*($B$15/(Main!$N$31+Q85)),NA())","v":2.056331403762663},679.5,{"$f":"IFERROR(($B$15/(Main!$N$31+Q85))^2*(Main!$N$31+Q85)*1000,NA())","v":0.41041063675832118},-1.4962744339074985,1.509580027095017,3.1052984362522906E-2]
[54,13,{"$f":"IFERROR('Device Resistance Tables'!C73,NA())","v":9139.803241028163},{"$f":"IFERROR('Device Resistance Tables'!D73,NA())","v":9232.1244858870341},{"$f":"IFERROR('Device Resistance Tables'!F73,NA())","v":9324.4457307459052},{"$f":"IFERROR(D86*($B$15/(Main!$N$31+D86)),NA())","v":1.5841209236027904},{"$f":"IFERROR($B$16*($B$15/(Main!$N$31+D86)),NA())","v":1.7158790763972094},58.551440269804516,1.7158790763972093E-4,{"$f":"IFERROR(($B$15/(Main!$N$31+D86))^2*(Main!$N$31+D86)*1000,NA())","v":0.5662400952110791},-1.0000000000000078,1.0000000000000078,5.2398783999647591E-3,null,13,15654.1,15885.6,16118.9,{"$f":"IFERROR(Q86*($B$15/(Main!$N$31+Q86)),NA())","v":2.0251599344809472},648.80000000000109,{"$f":"IFERROR(($B$15/(Main!$N$31+Q86))^2*(Main!$N$31+Q86)*1000,NA())","v":0.42069722162128748},-1.457294656796092,1.4686256735659922,3.1171469281715769E-2]
[55,14,{"$f":"IFERROR('Device Resistance Tables'!C74,NA())","v":9198.073079360056},{"$f":"IFERROR('Device Resistance Tables'!D74,NA())","v":9290.9829084445009},{"$f":"IFERROR('Device Resistance Tables'!F74,NA())","v":9383.8927375289459},{"$f":"IFERROR(D87*($B$15/(Main!$N$31+D87)),NA())","v":1.589356215978271},{"$f":"IFERROR($B$16*($B$15/(Main!$N$31+D87)),NA())","v":1.710643784021729},58.858422557466838,1.7106437840217289E-4,{"$f":"IFERROR(($B$15/(Main!$N$31+D87))^2*(Main!$N$31+D87)*1000,NA())","v":0.56451244872717055},-0.99999999999999911,0.99999999999999911,5.2352923754805936E-3,null,14,15049.3,15265.8,15483.8,{"$f":"IFERROR(Q87*($B$15/(Main!$N$31+Q87)),NA())","v":1.9938865976933244},619.80000000000109,{"$f":"IFERROR(($B$15/(Main!$N$31+Q87))^2*(Main!$N$31+Q87)*1000,NA())","v":0.43101742276120292},-1.4182027800704844,1.4280286653827512,3.1273336787622785E-2]
[56,15,{"$f":"IFERROR('Device Resistance Tables'!C75,NA())","v":9256.6472621145222},{"$f":"IFERROR('Device Resistance Tables'!D75,NA())","v":9350.1487496106292},{"$f":"IFERROR('Device Resistance Tables'!F75,NA())","v":9443.6502371067363},{"$f":"IFERROR(D88*($B$15/(Main!$N$31+D88)),NA())","v":1.5945867534654463},{"$f":"IFERROR($B$16*($B$15/(Main!$N$31+D88)),NA())","v":1.705413246534554},59.165841166128303,1.705413246534554E-4,{"$f":"IFERROR(($B$15/(Main!$N$31+D88))^2*(Main!$N$31+D88)*1000,NA())","v":0.56278637135640275},-1.0000000000000084,1.0000000000000084,5.2305374871752797E-3,null,15,14471.2,14673.5,14877.2,{"$f":"IFERROR(Q88*($B$15/(Main!$N$31+Q88)),NA())","v":1.9625326767584654},592.29999999999927,{"$f":"IFERROR(($B$15/(Main!$N$31+Q88))^2*(Main!$N$31+Q88)*1000,NA())","v":0.44136421666970627},-1.3786758442089431,1.3882168535114372,3.1353920934859003E-2]
[57,16,{"$f":"IFERROR('Device Resistance Tables'!C76,NA())","v":9315.5262272366799},{"$f":"IFERROR('Device Resistance Tables'!D76,NA())","v":9409.6224517542214},{"$f":"IFERROR('Device Resistance Tables'!F76,NA())","v":9503.7186762717629},{"$f":"IFERROR(D89*($B$15/(Main!$N$31+D89)),NA())","v":1.5998123697652089},{"$f":"IFERROR($B$16*($B$15/(Main!$N$31+D89)),NA())","v":1.7001876302347907},59.473702143592163,1.7001876302347906E-4,{"$f":"IFERROR(($B$15/(Main!$N$31+D89))^2*(Main!$N$31+D89)*1000,NA())","v":0.56106191797748084},-0.99999999999999223,0.99999999999999223,5.2256162997625921E-3,null,16,13918.4,14107.5,14297.7,{"$f":"IFERROR(Q89*($B$15/(Main!$N$31+Q89)),NA())","v":1.9311313906460645},566,{"$f":"IFERROR(($B$15/(Main!$N$31+Q89))^2*(Main!$N$31+Q89)*1000,NA())","v":0.45172664108679872},-1.3404217614743956,1.348219032429564,3.1401286112400895E-2]
[58,17,{"$f":"IFERROR('Device Resistance Tables'!C77,NA())","v":9374.7104186589804},{"$f":"IFERROR('Device Resistance Tables'!D77,NA())","v":9469.4044632918994},{"$f":"IFERROR('Device Resistance Tables'!F77,NA())","v":9564.0985079248185},{"$f":"IFERROR(D90*($B$15/(Main!$N$31+D90)),NA())","v":1.6050329011234512},{"$f":"IFERROR($B$16*($B$15/(Main!$N$31+D90)),NA())","v":1.6949670988765486},59.782011537678045,1.6949670988765486E-4,{"$f":"IFERROR(($B$15/(Main!$N$31+D90))^2*(Main!$N$31+D90)*1000,NA())","v":0.55933914262926099},-1.0000000000000004,1.0000000000000004,5.2205313582422974E-3,null,17,13389.8,13566.4,13743.9,{"$f":"IFERROR(Q90*($B$15/(Main!$N$31+Q90)),NA())","v":1.8997012696041822},541.10000000000036,{"$f":"IFERROR(($B$15/(Main!$N$31+Q90))^2*(Main!$N$31+Q90)*1000,NA())","v":0.46209858103061979},-1.3017454888548206,1.3083795258874868,3.1430121041882364E-2]
[59,18,{"$f":"IFERROR('Device Resistance Tables'!C78,NA())","v":9434.2002863012112},{"$f":"IFERROR('Device Resistance Tables'!D78,NA())","v":9529.4952386880923},{"$f":"IFERROR('Device Resistance Tables'!F78,NA())","v":9624.7901910749733},{"$f":"IFERROR(D91*($B$15/(Main!$N$31+D91)),NA())","v":1.6102481863111995},{"$f":"IFERROR($B$16*($B$15/(Main!$N$31+D91)),NA())","v":1.6897518136888006},60.090775396192839,1.6897518136888007E-4,{"$f":"IFERROR(($B$15/(Main!$N$31+D91))^2*(Main!$N$31+D91)*1000,NA())","v":0.55761809851730415},-1.0000000000000013,1.0000000000000013,5.2152851877482753E-3,null,18,12884.1,13048.9,13214.5,{"$f":"IFERROR(Q91*($B$15/(Main!$N$31+Q91)),NA())","v":1.8682613920837867},517.5,{"$f":"IFERROR(($B$15/(Main!$N$31+Q91))^2*(Main!$N$31+Q91)*1000,NA())","v":0.47247374061235015},-1.2629417038984074,1.2690724888687963,3.1439877520395454E-2]
[60,19,{"$f":"IFERROR('Device Resistance Tables'!C79,NA())","v":9493.9962860704945},{"$f":"IFERROR('Device Resistance Tables'!D79,NA())","v":9589.8952384550448},{"$f":"IFERROR('Device Resistance Tables'!F79,NA())","v":9685.7941908395951},{"$f":"IFERROR(D92*($B$15/(Main!$N$31+D92)),NA())","v":1.6154580666046208},{"$f":"IFERROR($B$16*($B$15/(Main!$N$31+D92)),NA())","v":1.6845419333953797},60.399999766952533,1.6845419333953797E-4,{"$f":"IFERROR(($B$15/(Main!$N$31+D92))^2*(Main!$N$31+D92)*1000,NA())","v":0.55589883802047524},-0.99999999999999833,0.99999999999999833,5.2098802934212873E-3,null,19,12400.2,12554,12708.4,{"$f":"IFERROR(Q92*($B$15/(Main!$N$31+Q92)),NA())","v":1.8368449055599894},494.89999999999964,{"$f":"IFERROR(($B$15/(Main!$N$31+Q92))^2*(Main!$N$31+Q92)*1000,NA())","v":0.48284118116520353},-1.2251075354468637,1.2298868886410677,3.141648652379736E-2]
[61,20,{"$f":"IFERROR('Device Resistance Tables'!C80,NA())","v":9554.0988798612889},{"$f":"IFERROR('Device Resistance Tables'!D80,NA())","v":9650.6049291528179},{"$f":"IFERROR('Device Resistance Tables'!F80,NA())","v":9747.110978444347},{"$f":"IFERROR(D93*($B$15/(Main!$N$31+D93)),NA())","v":1.6206623857648994},{"$f":"IFERROR($B$16*($B$15/(Main!$N$31+D93)),NA())","v":1.6793376142351004},60.709690697773112,1.6793376142351004E-4,{"$f":"IFERROR(($B$15/(Main!$N$31+D93))^2*(Main!$N$31+D93)*1000,NA())","v":0.55418141269758303},-1.0000000000000091,1.0000000000000091,5.2043191602786365E-3,null,20,11937.1,12080.5,12224.4,{"$f":"IFERROR(Q93*($B$15/(Main!$N$31+Q93)),NA())","v":1.8054686261633566},473.5,{"$f":"IFERROR(($B$15/(Main!$N$31+Q93))^2*(Main!$N$31+Q93)*1000,NA())","v":0.4931953533660921},-1.1870369603907094,1.1911758619262418,3.1376279396632789E-2]
[62,21,{"$f":"IFERROR('Device Resistance Tables'!C81,NA())","v":9614.5085355553874},{"$f":"IFERROR('Device Resistance Tables'!D81,NA())","v":9711.6247833892794},{"$f":"IFERROR('Device Resistance Tables'!F81,NA())","v":9808.7410312231714},{"$f":"IFERROR(D94*($B$15/(Main!$N$31+D94)),NA())","v":1.6258609900179992},{"$f":"IFERROR($B$16*($B$15/(Main!$N$31+D94)),NA())","v":1.6741390099820008},61.01985423646147,1.6741390099820008E-4,{"$f":"IFERROR(($B$15/(Main!$N$31+D94))^2*(Main!$N$31+D94)*1000,NA())","v":0.55246587329406027},-0.99999999999999156,0.99999999999999156,5.1986042530998144E-3,null,21,11494.5,11628.1,11762.1,{"$f":"IFERROR(Q94*($B$15/(Main!$N$31+Q94)),NA())","v":1.7742071656779839},452.39999999999964,{"$f":"IFERROR(($B$15/(Main!$N$31+Q94))^2*(Main!$N$31+Q94)*1000,NA())","v":0.50351163532626531},-1.1489409275806053,1.15238087047755,3.1261460485372705E-2]
[63,22,{"$f":"IFERROR('Device Resistance Tables'!C82,NA())","v":9675.2257270219088},{"$f":"IFERROR('Device Resistance Tables'!D82,NA())","v":9772.9552798201094},{"$f":"IFERROR('Device Resistance Tables'!F82,NA())","v":9870.6848326183099},{"$f":"IFERROR(D95*($B$15/(Main!$N$31+D95)),NA())","v":1.6310537280343138},{"$f":"IFERROR($B$16*($B$15/(Main!$N$31+D95)),NA())","v":1.6689462719656858},61.330496430829953,1.6689462719656858E-4,{"$f":"IFERROR(($B$15/(Main!$N$31+D95))^2*(Main!$N$31+D95)*1000,NA())","v":0.5507522697486763},-0.99999999999999434,0.99999999999999434,5.1927380163145909E-3,null,22,11070.3,11194.7,11319.5,{"$f":"IFERROR(Q95*($B$15/(Main!$N$31+Q95)),NA())","v":1.7430069781596342},433.39999999999964,{"$f":"IFERROR(($B$15/(Main!$N$31+Q95))^2*(Main!$N$31+Q95)*1000,NA())","v":0.51380769720732056},-1.1112401404236063,1.1148132598461706,3.1200187518349631E-2]
[64,23,{"$f":"IFERROR('Device Resistance Tables'!C83,NA())","v":9736.2509341173227},{"$f":"IFERROR('Device Resistance Tables'!D83,NA())","v":9834.5969031488112},{"$f":"IFERROR('Device Resistance Tables'!F83,NA())","v":9932.9428721802997},{"$f":"IFERROR(D96*($B$15/(Main!$N$31+D96)),NA())","v":1.636240450908224},{"$f":"IFERROR($B$16*($B$15/(Main!$N$31+D96)),NA())","v":1.6637595490917758},61.641623328701826,1.6637595490917757E-4,{"$f":"IFERROR(($B$15/(Main!$N$31+D96))^2*(Main!$N$31+D96)*1000,NA())","v":0.549040651200286},-1.0000000000000038,1.0000000000000038,5.1867228739101989E-3,null,23,10663.7,10779.5,10895.5,{"$f":"IFERROR(Q96*($B$15/(Main!$N$31+Q96)),NA())","v":1.7118963401429292},415.20000000000073,{"$f":"IFERROR(($B$15/(Main!$N$31+Q96))^2*(Main!$N$31+Q96)*1000,NA())","v":0.5240742077528332},-1.0742613293751961,1.0761167030010668,3.1110638016704995E-2]
[65,24,{"$f":"IFERROR('Device Resistance Tables'!C84,NA())","v":9797.5846426854132},{"$f":"IFERROR('Device Resistance Tables'!D84,NA())","v":9896.5501441266806},{"$f":"IFERROR('Device Resistance Tables'!F84,NA())","v":9995.515645567948},{"$f":"IFERROR(D97*($B$15/(Main!$N$31+D97)),NA())","v":1.6414210121375554},{"$f":"IFERROR($B$16*($B$15/(Main!$N$31+D97)),NA())","v":1.658578987862444},61.953240977869427,1.658578987862444E-4,{"$f":"IFERROR(($B$15/(Main!$N$31+D97))^2*(Main!$N$31+D97)*1000,NA())","v":0.54733106599460646},-1.000000000000006,{"$f":"IFERROR(((E97-D97)/D97)*100,NA())","v":1.000000000000006},5.1805612293314152E-3,null,24,10273.799999999999,10381.5,10489.2,{"$f":"IFERROR(Q97*($B$15/(Main!$N$31+Q97)),NA())","v":1.6808846257635601},398,{"$f":"IFERROR(($B$15/(Main!$N$31+Q97))^2*(Main!$N$31+Q97)*1000,NA())","v":0.53430807349802523},-1.0374223378124618,1.0374223378124618,3.1011714379369115E-2]
[66,25,{"$f":"IFERROR('Device Resistance Tables'!C85,NA())","v":9859.227344557321},{"$f":"IFERROR('Device Resistance Tables'!D85,NA())","v":9958.8154995528494},{"$f":"IFERROR('Device Resistance Tables'!F85,NA())","v":10058.403654548378},{"$f":"IFERROR(D98*($B$15/(Main!$N$31+D98)),NA())","v":1.6465952676029636},{"$f":"IFERROR($B$16*($B$15/(Main!$N$31+D98)),NA())","v":1.6534047323970362},{"$f":"IFERROR(D98-D97,NA())","v":62.265355426168753},{"$f":"$F98/$D98","v":1.6534047323970362E-4},{"$f":"IFERROR(($B$15/(Main!$N$31+D98))^2*(Main!$N$31+D98)*1000,NA())","v":0.54562356169102189},{"$f":"IFERROR(((D98-C98)/D98)*-100,NA())","v":-0.999999999999999},0.999999999999999,5.1742554654081729E-3,null,25,9900,10000,10100,{"$f":"IFERROR(Q98*($B$15/(Main!$N$31+Q98)),NA())","v":1.65},381.5,{"$f":"IFERROR(($B$15/(Main!$N$31+Q98))^2*(Main!$N$31+Q98)*1000,NA())","v":0.5445000000000001},{"$f":"IFERROR(((Q98-P98)/Q98)*-100,NA())","v":-1},{"$f":"IFERROR(((R98-Q98)/Q98)*100,NA())","v":1},3.0884625763560214E-2]
[67,26,{"$f":"IFERROR('Device Resistance Tables'!C86,NA())","v":9921.179537551503},{"$f":"IFERROR('Device Resistance Tables'!D86,NA())","v":10021.393472274245},{"$f":"IFERROR('Device Resistance Tables'!F86,NA())","v":10121.607406996987},{"$f":"IFERROR(D99*($B$15/(Main!$N$31+D99)),NA())","v":1.6517630755472332},{"$f":"IFERROR($B$16*($B$15/(Main!$N$31+D99)),NA())","v":1.6482369244527666},62.577972721395781,1.6482369244527666E-4,{"$f":"IFERROR(($B$15/(Main!$N$31+D99))^2*(Main!$N$31+D99)*1000,NA())","v":0.54391818506941303},-0.99999999999999667,0.99999999999999667,{"$f":"IFERROR(F99-F98,NA())","v":5.1678079442696312E-3},null,26,9534.2999999999993,9634.2000000000007,9734.2000000000007,{"$f":"IFERROR(Q99*($B$15/(Main!$N$31+Q99)),NA())","v":1.6192592517138462},{"$f":"IFERROR(Q98-Q99,NA())","v":365.79999999999927},{"$f":"IFERROR(($B$15/(Main!$N$31+Q99))^2*(Main!$N$31+Q99)*1000,NA())","v":0.5546444469344306},-1.0369309335492458,1.0379689024516825,{"$f":"IFERROR(S98-S99,NA())","v":3.0740748286153696E-2}]
[68,27,{"$f":"IFERROR('Device Resistance Tables'!C87,NA())","v":9983.44172547376},{"$f":"IFERROR('Device Resistance Tables'!D87,NA())","v":10084.284571185617},{"$f":"IFERROR('Device Resistance Tables'!F87,NA())","v":10185.127416897474},{"$f":"IFERROR(D100*($B$15/(Main!$N$31+D100)),NA())","v":1.6569242965545203},{"$f":"IFERROR($B$16*($B$15/(Main!$N$31+D100)),NA())","v":1.6430757034454795},62.891098911371955,1.6430757034454794E-4,{"$f":"IFERROR(($B$15/(Main!$N$31+D100))^2*(Main!$N$31+D100)*1000,NA())","v":0.54221498213700814},-1.0000000000000091,1.0000000000000091,5.161221007287109E-3,null,27,9183.7999999999993,9283.5,9383.2999999999993,{"$f":"IFERROR(Q100*($B$15/(Main!$N$31+Q100)),NA())","v":1.5886924054243263},350.70000000000073,{"$f":"IFERROR(($B$15/(Main!$N$31+Q100))^2*(Main!$N$31+Q100)*1000,NA())","v":0.56473150620997214},-1.0739484030807425,1.0750255830236362,3.0566846289519889E-2]
[69,28,{"$f":"IFERROR('Device Resistance Tables'!C88,NA())","v":10046.014418117225},{"$f":"IFERROR('Device Resistance Tables'!D88,NA())","v":10147.489311229521},{"$f":"IFERROR('Device Resistance Tables'!F88,NA())","v":10248.964204341817},{"$f":"IFERROR(D101*($B$15/(Main!$N$31+D101)),NA())","v":1.6620787935295278},{"$f":"IFERROR($B$16*($B$15/(Main!$N$31+D101)),NA())","v":1.637921206470472},63.204740043904167,1.6379212064704721E-4,{"$f":"IFERROR(($B$15/(Main!$N$31+D101))^2*(Main!$N$31+D101)*1000,NA())","v":0.5405139981352558},-1.000000000000006,1.000000000000006,5.1544969750074721E-3,null,28,8847.7000000000007,8947,9046.5,{"$f":"IFERROR(Q101*($B$15/(Main!$N$31+Q101)),NA())","v":1.5582994669340793},336.5,{"$f":"IFERROR(($B$15/(Main!$N$31+Q101))^2*(Main!$N$31+Q101)*1000,NA())","v":0.5747611759117538},-1.1098692299094588,1.1121046160724264,3.0392938490247046E-2]
[70,29,{"$f":"IFERROR('Device Resistance Tables'!C89,NA())","v":10108.898131262365},{"$f":"IFERROR('Device Resistance Tables'!D89,NA())","v":10211.00821339633},{"$f":"IFERROR('Device Resistance Tables'!F89,NA())","v":10313.118295530294},{"$f":"IFERROR(D102*($B$15/(Main!$N$31+D102)),NA())","v":1.6672264316766332},{"$f":"IFERROR($B$16*($B$15/(Main!$N$31+D102)),NA())","v":1.6327735683233668},63.518902166808402,1.6327735683233668E-4,{"$f":"IFERROR(($B$15/(Main!$N$31+D102))^2*(Main!$N$31+D102)*1000,NA())","v":0.5388152775467111},-1.0000000000000084,1.0000000000000084,5.1476381471053934E-3,null,29,8525.4,8624.2000000000007,8723.4,{"$f":"IFERROR(Q102*($B$15/(Main!$N$31+Q102)),NA())","v":1.5281118115140517},322.79999999999927,{"$f":"IFERROR(($B$15/(Main!$N$31+Q102))^2*(Main!$N$31+Q102)*1000,NA())","v":0.58472310220036283},-1.1456135061802959,1.1502516175413244,3.0187655420027548E-2]
[71,30,{"$f":"IFERROR('Device Resistance Tables'!C90,NA())","v":10172.093386676985},{"$f":"IFERROR('Device Resistance Tables'!D90,NA())","v":10274.841804724227},{"$f":"IFERROR('Device Resistance Tables'!F90,NA())","v":10377.590222771469},{"$f":"IFERROR(D103*($B$15/(Main!$N$31+D103)),NA())","v":1.6723670784789701},{"$f":"IFERROR($B$16*($B$15/(Main!$N$31+D103)),NA())","v":1.6276329215210295},63.833591327897011,1.6276329215210295E-4,{"$f":"IFERROR(($B$15/(Main!$N$31+D103))^2*(Main!$N$31+D103)*1000,NA())","v":0.53711886410193965},-0.99999999999999756,0.99999999999999756,5.1406468023369456E-3,null,30,8216.2000000000007,8314.5,8413.2000000000007,{"$f":"IFERROR(Q103*($B$15/(Main!$N$31+Q103)),NA())","v":1.4981490076169155},309.70000000000073,{"$f":"IFERROR(($B$15/(Main!$N$31+Q103))^2*(Main!$N$31+Q103)*1000,NA())","v":0.5946108274864178},-1.1822719345721242,1.1870828071441546,2.9962803897136236E-2]
[72,31,{"$f":"IFERROR('Device Resistance Tables'!C91,NA())","v":10235.600712116217},{"$f":"IFERROR('Device Resistance Tables'!D91,NA())","v":10338.990618299209},{"$f":"IFERROR('Device Resistance Tables'!F91,NA())","v":10442.380524482202},{"$f":"IFERROR(D104*($B$15/(Main!$N$31+D104)),NA())","v":1.6775006036774731},{"$f":"IFERROR($B$16*($B$15/(Main!$N$31+D104)),NA())","v":1.6224993963225265},64.148813574982341,1.6224993963225265E-4,{"$f":"IFERROR(($B$15/(Main!$N$31+D104))^2*(Main!$N$31+D104)*1000,NA())","v":0.53542480078643362},-1.0000000000000038,1.0000000000000038,5.133525198502964E-3,null,31,7920.4,8018.1,8116.2,{"$f":"IFERROR(Q104*($B$15/(Main!$N$31+Q104)),NA())","v":1.4685083332870836},296.39999999999964,{"$f":"IFERROR(($B$15/(Main!$N$31+Q104))^2*(Main!$N$31+Q104)*1000,NA())","v":0.60439225001526242},-1.2184931592272574,1.2234818722639957,2.9640674329831862E-2]
[73,32,{"$f":"IFERROR('Device Resistance Tables'!C92,NA())","v":10299.420641322537},{"$f":"IFERROR('Device Resistance Tables'!D92,NA())","v":10403.455193255088},{"$f":"IFERROR('Device Resistance Tables'!F92,NA())","v":10507.489745187639},{"$f":"IFERROR(D105*($B$15/(Main!$N$31+D105)),NA())","v":1.6826268792498908},{"$f":"IFERROR($B$16*($B$15/(Main!$N$31+D105)),NA())","v":1.617373120750109},64.464574955878561,1.6173731207501089E-4,{"$f":"IFERROR(($B$15/(Main!$N$31+D105))^2*(Main!$N$31+D105)*1000,NA())","v":0.53373312984753596},-1.0000000000000016,1.0000000000000016,5.1262755724177378E-3,null,32,7636.7,7733.7,7831.2,{"$f":"IFERROR(Q105*($B$15/(Main!$N$31+Q105)),NA())","v":1.4391362208676135},284.40000000000055,{"$f":"IFERROR(($B$15/(Main!$N$31+Q105))^2*(Main!$N$31+Q105)*1000,NA())","v":0.61408504711368739},-1.25425087603605,1.2607160867372669,2.9372112419470131E-2]
[74,33,{"$f":"IFERROR('Device Resistance Tables'!C93,NA())","v":10363.553714025746},{"$f":"IFERROR('Device Resistance Tables'!D93,NA())","v":10468.23607477348},{"$f":"IFERROR('Device Resistance Tables'!F93,NA())","v":10572.918435521215},{"$f":"IFERROR(D106*($B$15/(Main!$N$31+D106)),NA())","v":1.6877457793897754},{"$f":"IFERROR($B$16*($B$15/(Main!$N$31+D106)),NA())","v":1.6122542206102248},64.780881518392562,1.6122542206102247E-4,{"$f":"IFERROR(($B$15/(Main!$N$31+D106))^2*(Main!$N$31+D106)*1000,NA())","v":0.5320438928013741},-0.99999999999999711,0.99999999999999711,5.1189001398845857E-3,null,33,7364.7,7460.9,7557.6,{"$f":"IFERROR(Q106*($B$15/(Main!$N$31+Q106)),NA())","v":1.4100630551689772},272.80000000000018,{"$f":"IFERROR(($B$15/(Main!$N$31+Q106))^2*(Main!$N$31+Q106)*1000,NA())","v":0.62367919179423736},-1.2893886796499059,1.2960902840140027,2.9073165698636272E-2]
[75,34,{"$f":"IFERROR('Device Resistance Tables'!C94,NA())","v":10428.000475942988},{"$f":"IFERROR('Device Resistance Tables'!D94,NA())","v":10533.333814083828},{"$f":"IFERROR('Device Resistance Tables'!F94,NA())","v":10638.667152224667},{"$f":"IFERROR(D107*($B$15/(Main!$N$31+D107)),NA())","v":1.6928571804854564},{"$f":"IFERROR($B$16*($B$15/(Main!$N$31+D107)),NA())","v":1.6071428195145434},65.097739310347606,1.6071428195145435E-4,{"$f":"IFERROR(($B$15/(Main!$N$31+D107))^2*(Main!$N$31+D107)*1000,NA())","v":0.53035713043979937},-1.0000000000000093,1.0000000000000093,5.1114010956809786E-3,null,34,7103.8,7199.1,7295.1,{"$f":"IFERROR(Q107*($B$15/(Main!$N$31+Q107)),NA())","v":1.3812949514800195},261.79999999999927,{"$f":"IFERROR(($B$15/(Main!$N$31+Q107))^2*(Main!$N$31+Q107)*1000,NA())","v":0.63317266601159372},-1.3237765831840116,1.3335000208359378,2.8768103688957769E-2]
[76,35,{"$f":"IFERROR('Device Resistance Tables'!C95,NA())","v":10492.761478778735},{"$f":"IFERROR('Device Resistance Tables'!D95,NA())","v":10598.748968463369},{"$f":"IFERROR('Device Resistance Tables'!F95,NA())","v":10704.736458148003},{"$f":"IFERROR(D108*($B$15/(Main!$N$31+D108)),NA())","v":1.6979609610990007},{"$f":"IFERROR($B$16*($B$15/(Main!$N$31+D108)),NA())","v":1.6020390389009989},65.415154379541491,1.6020390389009988E-4,{"$f":"IFERROR(($B$15/(Main!$N$31+D108))^2*(Main!$N$31+D108)*1000,NA())","v":0.52867288283732949},-1.0000000000000036,1.0000000000000036,5.1037806135443287E-3,null,35,6853.4,6947.9,7043,{"$f":"IFERROR(Q108*($B$15/(Main!$N$31+Q108)),NA())","v":1.3528561060662381},251.20000000000073,{"$f":"IFERROR(($B$15/(Main!$N$31+Q108))^2*(Main!$N$31+Q108)*1000,NA())","v":0.64255748499814125},-1.3601232026943393,1.3687589055685945,2.8438845413781388E-2]
[77,36,{"$f":"IFERROR('Device Resistance Tables'!C96,NA())","v":10557.837280224801},{"$f":"IFERROR('Device Resistance Tables'!D96,NA())","v":10664.482101237174},{"$f":"IFERROR('Device Resistance Tables'!F96,NA())","v":10771.126922249547},{"$f":"IFERROR(D109*($B$15/(Main!$N$31+D109)),NA())","v":1.703057001945173},{"$f":"IFERROR($B$16*($B$15/(Main!$N$31+D109)),NA())","v":1.5969429980548264},65.733132773804755,1.5969429980548265E-4,{"$f":"IFERROR(($B$15/(Main!$N$31+D109))^2*(Main!$N$31+D109)*1000,NA())","v":0.52699118935809275},-1.0000000000000084,1.0000000000000084,5.0960408461722118E-3,null,36,6613.1,6706.7,6800.9,{"$f":"IFERROR(Q109*($B$15/(Main!$N$31+Q109)),NA())","v":1.3247445635583328},241.19999999999982,{"$f":"IFERROR(($B$15/(Main!$N$31+Q109))^2*(Main!$N$31+Q109)*1000,NA())","v":0.65183429402575011},-1.3956193060670592,1.4045655836700586,2.8111542507905263E-2]
[78,37,{"$f":"IFERROR('Device Resistance Tables'!C97,NA())","v":10623.228443960326},{"$f":"IFERROR('Device Resistance Tables'!D97,NA())","v":10730.533781778107},{"$f":"IFERROR('Device Resistance Tables'!F97,NA())","v":10837.839119595888},{"$f":"IFERROR(D110*($B$15/(Main!$N$31+D110)),NA())","v":1.7081451858703893},{"$f":"IFERROR($B$16*($B$15/(Main!$N$31+D110)),NA())","v":1.5918548141296103},66.051680540933376,1.5918548141296104E-4,{"$f":"IFERROR(($B$15/(Main!$N$31+D110))^2*(Main!$N$31+D110)*1000,NA())","v":0.52531208866277135},-0.99999999999999967,0.99999999999999967,5.0881839252163719E-3,null,37,6382.5,6475.1,6568.3,{"$f":"IFERROR(Q110*($B$15/(Main!$N$31+Q110)),NA())","v":1.2969772565872135},231.59999999999945,{"$f":"IFERROR(($B$15/(Main!$N$31+Q110))^2*(Main!$N$31+Q110)*1000,NA())","v":0.66099750532621948},-1.4300937437259711,1.4393600098840145,2.7767306971119288E-2]
[79,38,{"$f":"IFERROR('Device Resistance Tables'!C98,NA())","v":10688.935539651789},{"$f":"IFERROR('Device Resistance Tables'!D98,NA())","v":10796.904585506858},{"$f":"IFERROR('Device Resistance Tables'!F98,NA())","v":10904.873631361927},{"$f":"IFERROR(D111*($B$15/(Main!$N$31+D111)),NA())","v":1.7132253978316874},{"$f":"IFERROR($B$16*($B$15/(Main!$N$31+D111)),NA())","v":1.5867746021683125},66.370803728750616,1.5867746021683125E-4,{"$f":"IFERROR(($B$15/(Main!$N$31+D111))^2*(Main!$N$31+D111)*1000,NA())","v":0.52363561871554321},-0.99999999999999967,0.99999999999999967,5.0802119612980423E-3,null,38,6161.1,6252.6,6344.9,{"$f":"IFERROR(Q111*($B$15/(Main!$N$31+Q111)),NA())","v":1.2695556403283166},222.5,{"$f":"IFERROR(($B$15/(Main!$N$31+Q111))^2*(Main!$N$31+Q111)*1000,NA())","v":0.67004663869165548},-1.4633912292486324,1.4761859066628165,2.7421616258896941E-2]
[80,39,{"$f":"IFERROR('Device Resistance Tables'!C99,NA())","v":10754.959142953006},{"$f":"IFERROR('Device Resistance Tables'!D99,NA())","v":10863.595093891925},{"$f":"IFERROR('Device Resistance Tables'!F99,NA())","v":10972.231044830844},{"$f":"IFERROR(D112*($B$15/(Main!$N$31+D112)),NA())","v":1.7182975248757026},{"$f":"IFERROR($B$16*($B$15/(Main!$N$31+D112)),NA())","v":1.581702475124297},66.690508385067005,1.581702475124297E-4,{"$f":"IFERROR(($B$15/(Main!$N$31+D112))^2*(Main!$N$31+D112)*1000,NA())","v":0.52196181679101805},-0.99999999999999345,0.99999999999999345,5.0721270440152733E-3,null,39,5948.5,6039,6130.2,{"$f":"IFERROR(Q112*($B$15/(Main!$N$31+Q112)),NA())","v":1.242515119396471},213.60000000000036,{"$f":"IFERROR(($B$15/(Main!$N$31+Q112))^2*(Main!$N$31+Q112)*1000,NA())","v":0.67897001059916451},-1.4985924821990395,1.5101838052657695,2.7040520931845613E-2]
[81,40,{"$f":"IFERROR('Device Resistance Tables'!C100,NA())","v":10821.299835505122},{"$f":"IFERROR('Device Resistance Tables'!D100,NA())","v":10930.605894449618},{"$f":"IFERROR('Device Resistance Tables'!F100,NA())","v":11039.911953394114},{"$f":"IFERROR(D113*($B$15/(Main!$N$31+D113)),NA())","v":1.7233614561176678},{"$f":"IFERROR($B$16*($B$15/(Main!$N$31+D113)),NA())","v":1.5766385438823318},67.010800557693074,1.5766385438823317E-4,{"$f":"IFERROR(($B$15/(Main!$N$31+D113))^2*(Main!$N$31+D113)*1000,NA())","v":0.52029071948116945},-0.99999999999999667,0.99999999999999667,5.0639312419651361E-3,null,40,5744.3,5833.6,5923.8,{"$f":"IFERROR(Q113*($B$15/(Main!$N$31+Q113)),NA())","v":1.2158245755860952},205.39999999999964,{"$f":"IFERROR(($B$15/(Main!$N$31+Q113))^2*(Main!$N$31+Q113)*1000,NA())","v":0.6877778900565884},-1.5307871640153623,1.5462150301700461,2.6690543810375722E-2]
[82,41,{"$f":"IFERROR('Device Resistance Tables'!C101,NA())","v":10887.958204936616},{"$f":"IFERROR('Device Resistance Tables'!D101,NA())","v":10997.937580744057},{"$f":"IFERROR('Device Resistance Tables'!F101,NA())","v":11107.916956551499},{"$f":"IFERROR(D114*($B$15/(Main!$N$31+D114)),NA())","v":1.7284170827204328},{"$f":"IFERROR($B$16*($B$15/(Main!$N$31+D114)),NA())","v":1.571582917279567},67.331686294439351,1.5715829172795669E-4,{"$f":"IFERROR(($B$15/(Main!$N$31+D114))^2*(Main!$N$31+D114)*1000,NA())","v":0.51862236270225703},-1.0000000000000049,1.0000000000000049,5.0556266027650398E-3,null,41,5547.4,5635.7,5724.8,{"$f":"IFERROR(Q114*($B$15/(Main!$N$31+Q114)),NA())","v":1.1894453078531819},197.90000000000055,{"$f":"IFERROR(($B$15/(Main!$N$31+Q114))^2*(Main!$N$31+Q114)*1000,NA())","v":0.69648304840844977},-1.5667973809819578,1.5809926007417068,2.6379267732913325E-2]
[83,42,{"$f":"IFERROR('Device Resistance Tables'!C102,NA())","v":10954.934844863312},{"$f":"IFERROR('Device Resistance Tables'!D102,NA())","v":11065.590752387183},{"$f":"IFERROR('Device Resistance Tables'!F102,NA())","v":11176.246659911054},{"$f":"IFERROR(D115*($B$15/(Main!$N$31+D115)),NA())","v":1.7334642978735171},{"$f":"IFERROR($B$16*($B$15/(Main!$N$31+D115)),NA())","v":1.566535702126483},67.653171643125461,1.5665357021264829E-4,{"$f":"IFERROR(($B$15/(Main!$N$31+D115))^2*(Main!$N$31+D115)*1000,NA())","v":0.51695678170173931},-0.99999999999999312,0.99999999999999312,5.0472151530842613E-3,null,42,5358.2,5445.4,5533.3,{"$f":"IFERROR(Q115*($B$15/(Main!$N$31+Q115)),NA())","v":1.1634415424657178},190.30000000000018,{"$f":"IFERROR(($B$15/(Main!$N$31+Q115))^2*(Main!$N$31+Q115)*1000,NA())","v":0.70506429098631285},-1.6013515995151839,1.6142064862085532,2.6003765387464073E-2]
[84,43,{"$f":"IFERROR('Device Resistance Tables'!C103,NA())","v":11022.230354888356},{"$f":"IFERROR('Device Resistance Tables'!D103,NA())","v":11133.566015038743},{"$f":"IFERROR('Device Resistance Tables'!F103,NA())","v":11244.90167518913},{"$f":"IFERROR(D116*($B$15/(Main!$N$31+D116)),NA())","v":1.7385029967721943},{"$f":"IFERROR($B$16*($B$15/(Main!$N$31+D116)),NA())","v":1.5614970032278059},67.975262651560115,1.561497003227806E-4,{"$f":"IFERROR(($B$15/(Main!$N$31+D116))^2*(Main!$N$31+D116)*1000,NA())","v":0.51529401106517603},-0.99999999999999989,0.99999999999999989,5.0386988986772518E-3,null,43,5176.3999999999996,5262.3,5349.2,{"$f":"IFERROR(Q116*($B$15/(Main!$N$31+Q116)),NA())","v":1.137809504465251},183.09999999999945,{"$f":"IFERROR(($B$15/(Main!$N$31+Q116))^2*(Main!$N$31+Q116)*1000,NA())","v":0.71352286352646721},-1.6323660756703446,1.6513691731752205,2.5632038000466872E-2]
[85,44,{"$f":"IFERROR('Device Resistance Tables'!C104,NA())","v":11089.845340602236},{"$f":"IFERROR('Device Resistance Tables'!D104,NA())","v":11201.863980406299},{"$f":"IFERROR('Device Resistance Tables'!F104,NA())","v":11313.882620210361},{"$f":"IFERROR(D117*($B$15/(Main!$N$31+D117)),NA())","v":1.7435330765966166},{"$f":"IFERROR($B$16*($B$15/(Main!$N$31+D117)),NA())","v":1.556466923403383},68.297965367555662,1.5564669234033831E-4,{"$f":"IFERROR(($B$15/(Main!$N$31+D117))^2*(Main!$N$31+D117)*1000,NA())","v":0.51363408472311634},-0.99999999999999412,0.99999999999999412,5.0300798244222733E-3,null,44,5001.5,5086.3,5172,{"$f":"IFERROR(Q117*($B$15/(Main!$N$31+Q117)),NA())","v":1.1125849280473012},176,{"$f":"IFERROR(($B$15/(Main!$N$31+Q117))^2*(Main!$N$31+Q117)*1000,NA())","v":0.72184697374439066},-1.6672237186166796,1.6849183099699157,2.5224576417949729E-2]
[86,45,{"$f":"IFERROR('Device Resistance Tables'!C105,NA())","v":11157.78041358277},{"$f":"IFERROR('Device Resistance Tables'!D105,NA())","v":11270.485266245223},{"$f":"IFERROR('Device Resistance Tables'!F105,NA())","v":11383.190118907676},{"$f":"IFERROR(D118*($B$15/(Main!$N$31+D118)),NA())","v":1.7485544364909857},{"$f":"IFERROR($B$16*($B$15/(Main!$N$31+D118)),NA())","v":1.5514455635090136},68.62128583892445,1.5514455635090137E-4,{"$f":"IFERROR(($B$15/(Main!$N$31+D118))^2*(Main!$N$31+D118)*1000,NA())","v":0.5119770359579745},-1.0000000000000073,1.0000000000000073,5.0213598943691373E-3,null,45,4833.3,4916.8999999999996,5001.5,{"$f":"IFERROR(Q118*($B$15/(Main!$N$31+Q118)),NA())","v":1.0877441023268908},169.40000000000055,{"$f":"IFERROR(($B$15/(Main!$N$31+Q118))^2*(Main!$N$31+Q118)*1000,NA())","v":0.73004444623212583},-1.7002582928267702,1.7205963106835684,2.4840825720410464E-2]
[87,46,{"$f":"IFERROR('Device Resistance Tables'!C106,NA())","v":11226.036191395116},{"$f":"IFERROR('Device Resistance Tables'!D106,NA())","v":11339.430496358704},{"$f":"IFERROR('Device Resistance Tables'!F106,NA())","v":11452.824801322291},{"$f":"IFERROR(D119*($B$15/(Main!$N$31+D119)),NA())","v":1.7535669775427685},{"$f":"IFERROR($B$16*($B$15/(Main!$N$31+D119)),NA())","v":1.5464330224572307},68.945230113480648,1.5464330224572307E-4,{"$f":"IFERROR(($B$15/(Main!$N$31+D119))^2*(Main!$N$31+D119)*1000,NA())","v":0.5103228974108861},-1.000000000000002,1.000000000000002,5.0125410517827262E-3,null,46,4671.5,4753.8999999999996,4837.3,{"$f":"IFERROR(Q119*($B$15/(Main!$N$31+Q119)),NA())","v":1.0633032621883025},163,{"$f":"IFERROR(($B$15/(Main!$N$31+Q119))^2*(Main!$N$31+Q119)*1000,NA())","v":0.73810992347785997},-1.7333137003302475,1.7543490607711678,2.4440840138588271E-2]
[88,47,{"$f":"IFERROR('Device Resistance Tables'!C107,NA())","v":11294.613297591763},{"$f":"IFERROR('Device Resistance Tables'!D107,NA())","v":11408.70030059774},{"$f":"IFERROR('Device Resistance Tables'!F107,NA())","v":11522.787303603718},{"$f":"IFERROR(D120*($B$15/(Main!$N$31+D120)),NA())","v":1.7585706027619703},{"$f":"IFERROR($B$16*($B$15/(Main!$N$31+D120)),NA())","v":1.5414293972380297},69.269804239036603,1.5414293972380297E-4,{"$f":"IFERROR(($B$15/(Main!$N$31+D120))^2*(Main!$N$31+D120)*1000,NA())","v":0.50867170108854964},-1.0000000000000029,1.0000000000000029,5.0036252192018349E-3,null,47,4515.8999999999996,4597.1000000000004,4679.3,{"$f":"IFERROR(Q120*($B$15/(Main!$N$31+Q120)),NA())","v":1.0392769796740449},156.79999999999927,{"$f":"IFERROR(($B$15/(Main!$N$31+Q120))^2*(Main!$N$31+Q120)*1000,NA())","v":0.74603859670756512},-1.7663309477714366,1.7880837919557941,2.4026282514257646E-2]
[89,48,{"$f":"IFERROR('Device Resistance Tables'!C108,NA())","v":11363.512361712534},{"$f":"IFERROR('Device Resistance Tables'!D108,NA())","v":11478.295314861145},{"$f":"IFERROR('Device Resistance Tables'!F108,NA())","v":11593.078268009756},{"$f":"IFERROR(D121*($B$15/(Main!$N$31+D121)),NA())","v":1.763565217060461},{"$f":"IFERROR($B$16*($B$15/(Main!$N$31+D121)),NA())","v":1.5364347829395388},69.595014263404664,1.5364347829395389E-4,{"$f":"IFERROR(($B$15/(Main!$N$31+D121))^2*(Main!$N$31+D121)*1000,NA())","v":0.5070234783700478},-0.999999999999999,0.999999999999999,4.9946142984906849E-3,null,48,4366.1000000000004,4446.1000000000004,4527.1000000000004,{"$f":"IFERROR(Q121*($B$15/(Main!$N$31+Q121)),NA())","v":1.0156464374467851},151,{"$f":"IFERROR(($B$15/(Main!$N$31+Q121))^2*(Main!$N$31+Q121)*1000,NA())","v":0.75383667564256096},-1.7993297496682485,1.8218213715391014,2.3630542227259799E-2]
[90,49,{"$f":"IFERROR('Device Resistance Tables'!C109,NA())","v":11432.734019284584},{"$f":"IFERROR('Device Resistance Tables'!D109,NA())","v":11548.21618109554},{"$f":"IFERROR('Device Resistance Tables'!F109,NA())","v":11663.698342906497},{"$f":"IFERROR(D122*($B$15/(Main!$N$31+D122)),NA())","v":1.7685507272313694},{"$f":"IFERROR($B$16*($B$15/(Main!$N$31+D122)),NA())","v":1.5314492727686304},69.920866234395362,1.5314492727686304E-4,{"$f":"IFERROR(($B$15/(Main!$N$31+D122))^2*(Main!$N$31+D122)*1000,NA())","v":0.50537826001364794},-1.0000000000000078,1.0000000000000078,4.9855101709084249E-3,null,49,4222,4300.8,4380.6000000000004,{"$f":"IFERROR(Q122*($B$15/(Main!$N$31+Q122)),NA())","v":0.99243678675318869},145.30000000000018,{"$f":"IFERROR(($B$15/(Main!$N$31+Q122))^2*(Main!$N$31+Q122)*1000,NA())","v":0.76149586037144779},-1.8322172619047661,1.8554687500000042,2.3209650693596373E-2]
[91,50,{"$f":"IFERROR('Device Resistance Tables'!C110,NA())","v":11502.278911822412},{"$f":"IFERROR('Device Resistance Tables'!D110,NA())","v":11618.463547295365},{"$f":"IFERROR('Device Resistance Tables'!F110,NA())","v":11734.648182768318},{"$f":"IFERROR(D123*($B$15/(Main!$N$31+D123)),NA())","v":1.7735270419285392},{"$f":"IFERROR($B$16*($B$15/(Main!$N$31+D123)),NA())","v":1.5264729580714607},70.247366199824683,1.5264729580714606E-4,{"$f":"IFERROR(($B$15/(Main!$N$31+D123))^2*(Main!$N$31+D123)*1000,NA())","v":0.50373607616358207},-0.99999999999999634,0.99999999999999634,4.9763146971697481E-3,null,50,4083.3,4160.8999999999996,4239.5,{"$f":"IFERROR(Q123*($B$15/(Main!$N$31+Q123)),NA())","v":0.96963964154820659},139.90000000000055,{"$f":"IFERROR(($B$15/(Main!$N$31+Q123))^2*(Main!$N$31+Q123)*1000,NA())","v":0.76901891828909175},-1.8649811338892899,1.8890143959239676,2.2797145204982106E-2]
[92,51,{"$f":"IFERROR('Device Resistance Tables'!C111,NA())","v":11572.147686827842},{"$f":"IFERROR('Device Resistance Tables'!D111,NA())","v":11689.038067502872},{"$f":"IFERROR('Device Resistance Tables'!F111,NA())","v":11805.928448177901},{"$f":"IFERROR(D124*($B$15/(Main!$N$31+D124)),NA())","v":1.7784940716460553},{"$f":"IFERROR($B$16*($B$15/(Main!$N$31+D124)),NA())","v":1.5215059283539445},70.574520207506794,1.5215059283539445E-4,{"$f":"IFERROR(($B$15/(Main!$N$31+D124))^2*(Main!$N$31+D124)*1000,NA())","v":0.50209695635680163},-1.0000000000000069,1.0000000000000069,4.9670297175161693E-3,null,51,3949.8,4026.2,4103.6000000000004,{"$f":"IFERROR(Q124*($B$15/(Main!$N$31+Q124)),NA())","v":0.94726012747572386},134.69999999999982,{"$f":"IFERROR(($B$15/(Main!$N$31+Q124))^2*(Main!$N$31+Q124)*1000,NA())","v":0.77640415793301087},-1.8975709105359804,1.9224082261189348,2.2379514072482731E-2]
[93,52,{"$f":"IFERROR('Device Resistance Tables'!C112,NA())","v":11642.340997790041},{"$f":"IFERROR('Device Resistance Tables'!D112,NA())","v":11759.940401808122},{"$f":"IFERROR('Device Resistance Tables'!F112,NA())","v":11877.539805826204},{"$f":"IFERROR(D125*($B$15/(Main!$N$31+D125)),NA())","v":1.7834517286978464},{"$f":"IFERROR($B$16*($B$15/(Main!$N$31+D125)),NA())","v":1.5165482713021539},70.902334305250406,1.5165482713021538E-4,{"$f":"IFERROR(($B$15/(Main!$N$31+D125))^2*(Main!$N$31+D125)*1000,NA())","v":0.50046092952971077},-1.0000000000000004,1.0000000000000004,4.9576570517910756E-3,null,52,3821.3,3896.4,3972.7,{"$f":"IFERROR(Q125*($B$15/(Main!$N$31+Q125)),NA())","v":0.92528424627961192},129.79999999999973,{"$f":"IFERROR(($B$15/(Main!$N$31+Q125))^2*(Main!$N$31+Q125)*1000,NA())","v":0.78365619872772785},-1.9274201827327766,1.9582178421106593,2.1975881196111935E-2]
[94,53,{"$f":"IFERROR('Device Resistance Tables'!C113,NA())","v":11712.859504185497},{"$f":"IFERROR('Device Resistance Tables'!D113,NA())","v":11831.171216348986},{"$f":"IFERROR('Device Resistance Tables'!F113,NA())","v":11949.482928512476},{"$f":"IFERROR(D126*($B$15/(Main!$N$31+D126)),NA())","v":1.788399927197361},{"$f":"IFERROR($B$16*($B$15/(Main!$N$31+D126)),NA())","v":1.5116000728026386},71.23081454086423,1.5116000728026386E-4,{"$f":"IFERROR(($B$15/(Main!$N$31+D126))^2*(Main!$N$31+D126)*1000,NA())","v":0.49882802402487064},-0.99999999999999756,0.99999999999999756,4.9481984995145556E-3,null,53,3697.5,3771.4,3846.5,{"$f":"IFERROR(Q126*($B$15/(Main!$N$31+Q126)),NA())","v":0.90372946831839907},125,{"$f":"IFERROR(($B$15/(Main!$N$31+Q126))^2*(Main!$N$31+Q126)*1000,NA())","v":0.79076927545492837},-1.9594845415495596,1.9913029644163946,2.1554777961212856E-2]
[95,54,{"$f":"IFERROR('Device Resistance Tables'!C114,NA())","v":11783.703871478048},{"$f":"IFERROR('Device Resistance Tables'!D114,NA())","v":11902.73118331116},{"$f":"IFERROR('Device Resistance Tables'!F114,NA())","v":12021.758495144271},{"$f":"IFERROR(D127*($B$15/(Main!$N$31+D127)),NA())","v":1.7933385830373323},{"$f":"IFERROR($B$16*($B$15/(Main!$N$31+D127)),NA())","v":1.5066614169626675},71.559966962173348,1.5066614169626676E-4,{"$f":"IFERROR(($B$15/(Main!$N$31+D127))^2*(Main!$N$31+D127)*1000,NA())","v":0.49719826759768038},-0.99999999999999933,0.99999999999999933,4.9386558399713287E-3,null,54,3578.3,3651,3724.9,{"$f":"IFERROR(Q127*($B$15/(Main!$N$31+Q127)),NA())","v":0.88259468170829969},120.40000000000009,{"$f":"IFERROR(($B$15/(Main!$N$31+Q127))^2*(Main!$N$31+Q127)*1000,NA())","v":0.79774375503626105},-1.991235278006021,2.0241029854834318,2.1134786610099376E-2]
[96,55,{"$f":"IFERROR('Device Resistance Tables'!C115,NA())","v":11854.874771118857},{"$f":"IFERROR('Device Resistance Tables'!D115,NA())","v":11974.620980928139},{"$f":"IFERROR('Device Resistance Tables'!F115,NA())","v":12094.367190737421},{"$f":"IFERROR(D128*($B$15/(Main!$N$31+D128)),NA())","v":1.7982676138696163},{"$f":"IFERROR($B$16*($B$15/(Main!$N$31+D128)),NA())","v":1.5017323861303833},71.889797616979195,1.5017323861303832E-4,{"$f":"IFERROR(($B$15/(Main!$N$31+D128))^2*(Main!$N$31+D128)*1000,NA())","v":0.49557168742302637},-1.0000000000000044,1.0000000000000044,4.9290308322840204E-3,null,55,3463.4,3535,3607.6,{"$f":"IFERROR(Q128*($B$15/(Main!$N$31+Q128)),NA())","v":0.86187661618027334},116,{"$f":"IFERROR(($B$15/(Main!$N$31+Q128))^2*(Main!$N$31+Q128)*1000,NA())","v":0.80458071666050979},-2.025459688826023,2.0537482319660514,2.0718065528026353E-2]
[97,56,{"$f":"IFERROR('Device Resistance Tables'!C116,NA())","v":11926.372880546427},{"$f":"IFERROR('Device Resistance Tables'!D116,NA())","v":12046.84129348124},{"$f":"IFERROR('Device Resistance Tables'!F116,NA())","v":12167.309706416054},{"$f":"IFERROR(D129*($B$15/(Main!$N$31+D129)),NA())","v":1.8031869390851303},{"$f":"IFERROR($B$16*($B$15/(Main!$N$31+D129)),NA())","v":1.4968130609148695},72.220312553101394,1.4968130609148696E-4,{"$f":"IFERROR(($B$15/(Main!$N$31+D129))^2*(Main!$N$31+D129)*1000,NA())","v":0.49394831010190698},-1.0000000000000082,{"$f":"IFERROR(((E129-D129)/D129)*100,NA())","v":1.0000000000000082},4.91932521551397E-3,null,56,3352.7,3423.1,3494.6,{"$f":"IFERROR(Q129*($B$15/(Main!$N$31+Q129)),NA())","v":0.84155150449598082},111.90000000000009,{"$f":"IFERROR(($B$15/(Main!$N$31+Q129))^2*(Main!$N$31+Q129)*1000,NA())","v":0.81128800351632635},-2.0566153486605736,2.0887499634833921,2.0325111684292518E-2]
[98,57,{"$f":"IFERROR('Device Resistance Tables'!C117,NA())","v":11998.198883186591},{"$f":"IFERROR('Device Resistance Tables'!D117,NA())","v":12119.392811299587},{"$f":"IFERROR('Device Resistance Tables'!F117,NA())","v":12240.586739412583},{"$f":"IFERROR(D130*($B$15/(Main!$N$31+D130)),NA())","v":1.808096479793871},{"$f":"IFERROR($B$16*($B$15/(Main!$N$31+D130)),NA())","v":1.491903520206129},{"$f":"IFERROR(D130-D129,NA())","v":72.551517818346838},1.4919035202061291E-4,{"$f":"IFERROR(($B$15/(Main!$N$31+D130))^2*(Main!$N$31+D130)*1000,NA())","v":0.49232816166802262},-1.0000000000000029,1.0000000000000029,4.9095407087407228E-3,null,57,3246.1,3315.2,3385.6,{"$f":"IFERROR(Q130*($B$15/(Main!$N$31+Q130)),NA())","v":0.82162941600576778},107.90000000000009,{"$f":"IFERROR(($B$15/(Main!$N$31+Q130))^2*(Main!$N$31+Q130)*1000,NA())","v":0.81786229271809663},-2.0843388030888006,2.1235521235521264,1.9922088490213041E-2]
[99,58,{"$f":"IFERROR('Device Resistance Tables'!C118,NA())","v":12070.353468452518},{"$f":"IFERROR('Device Resistance Tables'!D118,NA())","v":12192.276230760121},{"$f":"IFERROR('Device Resistance Tables'!F118,NA())","v":12314.198993067723},{"$f":"IFERROR(D131*($B$15/(Main!$N$31+D131)),NA())","v":1.8129961588050356},{"$f":"IFERROR($B$16*($B$15/(Main!$N$31+D131)),NA())","v":1.487003841194964},72.883419460533332,1.4870038411949639E-4,{"$f":"IFERROR(($B$15/(Main!$N$31+D131))^2*(Main!$N$31+D131)*1000,NA())","v":0.49071126759433809},-1.0000000000000078,1.0000000000000078,4.8996790111646149E-3,null,58,3143.2,3211.3,3280.4,{"$f":"IFERROR(Q131*($B$15/(Main!$N$31+Q131)),NA())","v":0.80213832098279514},103.89999999999964,{"$f":"IFERROR(($B$15/(Main!$N$31+Q131))^2*(Main!$N$31+Q131)*1000,NA())","v":0.82429435407567764},-2.120636502351084,2.1517765390963133,1.9491095022972638E-2]
[100,59,{"$f":"IFERROR('Device Resistance Tables'!C119,NA())","v":12142.837331744711},{"$f":"IFERROR('Device Resistance Tables'!D119,NA())","v":12265.492254287587},{"$f":"IFERROR('Device Resistance Tables'!F119,NA())","v":12388.147176830462},{"$f":"IFERROR(D132*($B$15/(Main!$N$31+D132)),NA())","v":1.8178859006072363},{"$f":"IFERROR($B$16*($B$15/(Main!$N$31+D132)),NA())","v":1.4821140993927635},73.21602352746595,1.4821140993927635E-4,{"$f":"IFERROR(($B$15/(Main!$N$31+D132))^2*(Main!$N$31+D132)*1000,NA())","v":0.48909765279961198},-0.99999999999999534,0.99999999999999534,4.8897418022006978E-3,null,59,3044.1,3111,3179,{"$f":"IFERROR(Q132*($B$15/(Main!$N$31+Q132)),NA())","v":0.78302951719929825},100.30000000000018,{"$f":"IFERROR(($B$15/(Main!$N$31+Q132))^2*(Main!$N$31+Q132)*1000,NA())","v":0.83060025932423154},-2.1504339440694338,2.1857923497267762,1.9108803783496886E-2]
[101,60,{"$f":"IFERROR('Device Resistance Tables'!C120,NA())","v":12215.651174451012},{"$f":"IFERROR('Device Resistance Tables'!D120,NA())","v":12339.041590354558},{"$f":"IFERROR('Device Resistance Tables'!F120,NA())","v":12462.432006258105},{"$f":"IFERROR(D133*($B$15/(Main!$N$31+D133)),NA())","v":1.8227656313488141},{"$f":"IFERROR($B$16*($B$15/(Main!$N$31+D133)),NA())","v":1.477234368651186},73.549336066971591,1.4772343686511859E-4,{"$f":"IFERROR(($B$15/(Main!$N$31+D133))^2*(Main!$N$31+D133)*1000,NA())","v":0.48748734165489138},-1.0000000000000071,1.0000000000000071,4.8797307415777702E-3,null,60,2948.6,3014.3,3081.2,{"$f":"IFERROR(Q133*($B$15/(Main!$N$31+Q133)),NA())","v":0.76432770106728765},96.699999999999818,{"$f":"IFERROR(($B$15/(Main!$N$31+Q133))^2*(Main!$N$31+Q133)*1000,NA())","v":0.83677185864779502},-2.1796105231728848,2.2194207610390349,1.8701816132010607E-2]
[102,61,{"$f":"IFERROR('Device Resistance Tables'!C121,NA())","v":12288.795703946593},{"$f":"IFERROR('Device Resistance Tables'!D121,NA())","v":12412.924953481406},{"$f":"IFERROR('Device Resistance Tables'!F121,NA())","v":12537.05420301622},{"$f":"IFERROR(D134*($B$15/(Main!$N$31+D134)),NA())","v":1.8276352788182557},{"$f":"IFERROR($B$16*($B$15/(Main!$N$31+D134)),NA())","v":1.4723647211817437},73.883363126848053,1.4723647211817436E-4,{"$f":"IFERROR(($B$15/(Main!$N$31+D134))^2*(Main!$N$31+D134)*1000,NA())","v":0.48588035798997536},-0.99999999999999478,0.99999999999999478,4.8696474694416292E-3,null,61,2857.8,2922.4,2988.1,{"$f":"IFERROR(Q134*($B$15/(Main!$N$31+Q134)),NA())","v":0.74629480591840525},91.900000000000091,{"$f":"IFERROR(($B$15/(Main!$N$31+Q134))^2*(Main!$N$31+Q134)*1000,NA())","v":0.84272271404692622},-2.2105119080208016,2.2481522036682118,1.80328951488824E-2]
[103,62,{"$f":"IFERROR('Device Resistance Tables'!C122,NA())","v":12362.271633593959},{"$f":"IFERROR('Device Resistance Tables'!D122,NA())","v":12487.143064236321},{"$f":"IFERROR('Device Resistance Tables'!F122,NA())","v":12612.014494878684},{"$f":"IFERROR(D135*($B$15/(Main!$N$31+D135)),NA())","v":1.8324947724247203},{"$f":"IFERROR($B$16*($B$15/(Main!$N$31+D135)),NA())","v":1.46750522757528},74.21811075491496,1.4675052275752801E-4,{"$f":"IFERROR(($B$15/(Main!$N$31+D135))^2*(Main!$N$31+D135)*1000,NA())","v":0.48427672509984249},-0.99999999999999512,0.99999999999999512,4.8594936064645378E-3,null,62,2770.3,2833.7,2898.4,{"$f":"IFERROR(Q135*($B$15/(Main!$N$31+Q135)),NA())","v":0.72864489586011805},88.700000000000273,{"$f":"IFERROR(($B$15/(Main!$N$31+Q135))^2*(Main!$N$31+Q135)*1000,NA())","v":0.84854718436616072},-2.2373575184387775,2.2832339344320247,1.7649910058287199E-2]
[104,63,{"$f":"IFERROR('Device Resistance Tables'!C123,NA())","v":12436.079682742949},{"$f":"IFERROR('Device Resistance Tables'!D123,NA())","v":12561.696649235302},{"$f":"IFERROR('Device Resistance Tables'!F123,NA())","v":12687.313615727655},{"$f":"IFERROR(D136*($B$15/(Main!$N$31+D136)),NA())","v":1.8373440431786636},{"$f":"IFERROR($B$16*($B$15/(Main!$N$31+D136)),NA())","v":1.4626559568213364},74.553584998981023,1.4626559568213363E-4,{"$f":"IFERROR(($B$15/(Main!$N$31+D136))^2*(Main!$N$31+D136)*1000,NA())","v":0.48267646575104101},-0.99999999999999778,0.99999999999999778,4.8492707539433688E-3,null,63,2685.8,2748.2,2811.8,{"$f":"IFERROR(Q136*($B$15/(Main!$N$31+Q136)),NA())","v":0.71139925636560453},85.5,{"$f":"IFERROR(($B$15/(Main!$N$31+Q136))^2*(Main!$N$31+Q136)*1000,NA())","v":0.85423824539935045},-2.2705771050141781,2.3142420493414004,1.7245639494513521E-2]
[105,64,{"$f":"IFERROR('Device Resistance Tables'!C124,NA())","v":12510.22057673075},{"$f":"IFERROR('Device Resistance Tables'!D124,NA())","v":12636.586441142172},{"$f":"IFERROR('Device Resistance Tables'!F124,NA())","v":12762.952305553594},{"$f":"IFERROR(D137*($B$15/(Main!$N$31+D137)),NA())","v":1.8421830236725867},{"$f":"IFERROR($B$16*($B$15/(Main!$N$31+D137)),NA())","v":1.4578169763274131},74.889791906869505,1.4578169763274131E-4,{"$f":"IFERROR(($B$15/(Main!$N$31+D137))^2*(Main!$N$31+D137)*1000,NA())","v":0.48107960218804624},-1.0000000000000029,1.0000000000000029,4.8389804939230618E-3,null,64,2604.4,2665.7,2728.2,{"$f":"IFERROR(Q137*($B$15/(Main!$N$31+Q137)),NA())","v":0.69453800421611112},82.5,{"$f":"IFERROR(($B$15/(Main!$N$31+Q137))^2*(Main!$N$31+Q137)*1000,NA())","v":0.85980245860868321},-2.2995835990546474,2.3445999174700831,1.6861252149493411E-2]
[106,65,{"$f":"IFERROR('Device Resistance Tables'!C125,NA())","v":12584.695046881865},{"$f":"IFERROR('Device Resistance Tables'!D125,NA())","v":12711.81317866855},{"$f":"IFERROR('Device Resistance Tables'!F125,NA())","v":12838.931310455235},{"$f":"IFERROR(D138*($B$15/(Main!$N$31+D138)),NA())","v":1.8470116480618841},{"$f":"IFERROR($B$16*($B$15/(Main!$N$31+D138)),NA())","v":1.4529883519381159},75.226737526378201,1.452988351938116E-4,{"$f":"IFERROR(($B$15/(Main!$N$31+D138))^2*(Main!$N$31+D138)*1000,NA())","v":0.47948615613957823},-0.99999999999999534,0.99999999999999534,4.8286243892974312E-3,null,65,2525.9,2586.1,2647.6,{"$f":"IFERROR(Q138*($B$15/(Main!$N$31+Q138)),NA())","v":0.67805992324866304},79.599999999999909,{"$f":"IFERROR(($B$15/(Main!$N$31+Q138))^2*(Main!$N$31+Q138)*1000,NA())","v":0.86524022532794087},-2.3278295502880719,2.3780982947295155,1.6478080967448072E-2]
[107,66,{"$f":"IFERROR('Device Resistance Tables'!C126,NA())","v":12659.503830508145},{"$f":"IFERROR('Device Resistance Tables'!D126,NA())","v":12787.377606573884},{"$f":"IFERROR('Device Resistance Tables'!F126,NA())","v":12915.251382639623},{"$f":"IFERROR(D139*($B$15/(Main!$N$31+D139)),NA())","v":1.8518298520458139},{"$f":"IFERROR($B$16*($B$15/(Main!$N$31+D139)),NA())","v":1.4481701479541855},75.564427905334014,1.4481701479541855E-4,{"$f":"IFERROR(($B$15/(Main!$N$31+D139))^2*(Main!$N$31+D139)*1000,NA())","v":0.47789614882488113},-0.99999999999999845,0.99999999999999845,4.8182039839297364E-3,null,66,2450.1,2509.3000000000002,2569.6999999999998,{"$f":"IFERROR(Q139*($B$15/(Main!$N$31+Q139)),NA())","v":0.661962699751385},76.799999999999727,{"$f":"IFERROR(($B$15/(Main!$N$31+Q139))^2*(Main!$N$31+Q139)*1000,NA())","v":0.87055230908204273},-2.359223687881093,2.4070457896624409,1.6097223497278046E-2]
[108,67,{"$f":"IFERROR('Device Resistance Tables'!C127,NA())","v":12734.647670908762},{"$f":"IFERROR('Device Resistance Tables'!D127,NA())","v":12863.280475665417},{"$f":"IFERROR('Device Resistance Tables'!F127,NA())","v":12991.913280422072},{"$f":"IFERROR(D140*($B$15/(Main!$N$31+D140)),NA())","v":1.8566375728485849},{"$f":"IFERROR($B$16*($B$15/(Main!$N$31+D140)),NA())","v":1.4433624271514154},75.902869091532921,1.4433624271514153E-4,{"$f":"IFERROR(($B$15/(Main!$N$31+D140))^2*(Main!$N$31+D140)*1000,NA())","v":0.47630960095996705},-1.0000000000000056,1.0000000000000056,4.8077208027710316E-3,null,67,2377,2435.1,2494.5,{"$f":"IFERROR(Q140*($B$15/(Main!$N$31+Q140)),NA())","v":0.64622158245611205},74.200000000000273,{"$f":"IFERROR(($B$15/(Main!$N$31+Q140))^2*(Main!$N$31+Q140)*1000,NA())","v":0.8757468777894829},-2.3859389758120781,2.4393248737218225,1.5741117295272944E-2]
[109,68,{"$f":"IFERROR('Device Resistance Tables'!C128,NA())","v":12810.127317370243},{"$f":"IFERROR('Device Resistance Tables'!D128,NA())","v":12939.522542798226},{"$f":"IFERROR('Device Resistance Tables'!F128,NA())","v":13068.917768226209},{"$f":"IFERROR(D141*($B$15/(Main!$N$31+D141)),NA())","v":1.8614347492005572},{"$f":"IFERROR($B$16*($B$15/(Main!$N$31+D141)),NA())","v":1.4385652507994426},76.242067132809098,1.4385652507994427E-4,{"$f":"IFERROR(($B$15/(Main!$N$31+D141))^2*(Main!$N$31+D141)*1000,NA())","v":0.4747265327638161},-1.0000000000000053,1.0000000000000053,4.7971763519722987E-3,null,68,2306.4,2363.5,2421.8000000000002,{"$f":"IFERROR(Q141*($B$15/(Main!$N$31+Q141)),NA())","v":0.63085291381890241},71.599999999999909,{"$f":"IFERROR(($B$15/(Main!$N$31+Q141))^2*(Main!$N$31+Q141)*1000,NA())","v":0.88081853843976232},-2.4159086101121181,2.4666807700444333,1.5368668637209648E-2]
[110,69,{"$f":"IFERROR('Device Resistance Tables'!C129,NA())","v":12885.943525166427},{"$f":"IFERROR('Device Resistance Tables'!D129,NA())","v":13016.104570875179},{"$f":"IFERROR('Device Resistance Tables'!F129,NA())","v":13146.265616583931},{"$f":"IFERROR(D142*($B$15/(Main!$N$31+D142)),NA())","v":1.8662213213195711},{"$f":"IFERROR($B$16*($B$15/(Main!$N$31+D142)),NA())","v":1.4337786786804292},76.582028076953065,1.4337786786804293E-4,{"$f":"IFERROR(($B$15/(Main!$N$31+D142))^2*(Main!$N$31+D142)*1000,NA())","v":0.4731469639645417},-0.99999999999999989,0.99999999999999989,4.7865721190138988E-3,null,69,2238.1999999999998,2294.3000000000002,2351.6999999999998,{"$f":"IFERROR(Q142*($B$15/(Main!$N$31+Q142)),NA())","v":0.61582928674263682},69.199999999999818,{"$f":"IFERROR(($B$15/(Main!$N$31+Q142))^2*(Main!$N$31+Q142)*1000,NA())","v":0.8857763353749295},-2.4451902541080224,2.5018524168591569,1.5023627076265589E-2]
[111,70,{"$f":"IFERROR('Device Resistance Tables'!C130,NA())","v":12962.097055558499},{"$f":"IFERROR('Device Resistance Tables'!D130,NA())","v":13093.027328846969},{"$f":"IFERROR('Device Resistance Tables'!F130,NA())","v":13223.957602135439},{"$f":"IFERROR(D143*($B$15/(Main!$N$31+D143)),NA())","v":1.8709972308923912},{"$f":"IFERROR($B$16*($B$15/(Main!$N$31+D143)),NA())","v":1.4290027691076084},76.922757971789906,1.4290027691076085E-4,{"$f":"IFERROR(($B$15/(Main!$N$31+D143))^2*(Main!$N$31+D143)*1000,NA())","v":0.47157091380551075},-1.0000000000000011,1.0000000000000011,4.7759095728201473E-3,null,70,2172.4,2227.5,2283.9,{"$f":"IFERROR(Q143*($B$15/(Main!$N$31+Q143)),NA())","v":0.60116540584747491},66.800000000000182,{"$f":"IFERROR(($B$15/(Main!$N$31+Q143))^2*(Main!$N$31+Q143)*1000,NA())","v":0.89061541607033312},-2.4736251402918028,2.531986531986536,1.4663880895161907E-2]
[112,71,{"$f":"IFERROR('Device Resistance Tables'!C131,NA())","v":12972.737217836424},{"$f":"IFERROR('Device Resistance Tables'!D131,NA())","v":13170.291591712106},{"$f":"IFERROR('Device Resistance Tables'!F131,NA())","v":13367.845965587787},{"$f":"IFERROR(D144*($B$15/(Main!$N$31+D144)),NA())","v":1.8757624210562835},{"$f":"IFERROR($B$16*($B$15/(Main!$N$31+D144)),NA())","v":1.4242375789437165},77.264262865137425,1.4242375789437164E-4,{"$f":"IFERROR(($B$15/(Main!$N$31+D144))^2*(Main!$N$31+D144)*1000,NA())","v":0.46999840105142632},-1.5000000000000058,1.499999999999992,4.7651901638923189E-3,null,71,2108.6,2162.6999999999998,2218.1,{"$f":"IFERROR(Q144*($B$15/(Main!$N$31+Q144)),NA())","v":0.58678665099032279},64.800000000000182,{"$f":"IFERROR(($B$15/(Main!$N$31+Q144))^2*(Main!$N$31+Q144)*1000,NA())","v":0.89536040517319315},-2.5015027511906371,2.5616127988162987,1.4378754857152121E-2]
[113,72,{"$f":"IFERROR('Device Resistance Tables'!C132,NA())","v":13049.179668409144},{"$f":"IFERROR('Device Resistance Tables'!D132,NA())","v":13247.898140516898},{"$f":"IFERROR('Device Resistance Tables'!F132,NA())","v":13446.61661262465},{"$f":"IFERROR(D145*($B$15/(Main!$N$31+D145)),NA())","v":1.8805168363807072},{"$f":"IFERROR($B$16*($B$15/(Main!$N$31+D145)),NA())","v":1.4194831636192928},77.606548804791601,1.4194831636192928E-4,{"$f":"IFERROR(($B$15/(Main!$N$31+D145))^2*(Main!$N$31+D145)*1000,NA())","v":0.46842944399436665},-1.5000000000000022,1.4999999999999885,4.7544153244236664E-3,null,72,2046.9,2100.1,2154.5,{"$f":"IFERROR(Q145*($B$15/(Main!$N$31+Q145)),NA())","v":0.57274981198502484},62.599999999999909,{"$f":"IFERROR(($B$15/(Main!$N$31+Q145))^2*(Main!$N$31+Q145)*1000,NA())","v":0.89999256204494171},-2.5332127041569361,2.5903528403409406,1.4036839005297952E-2]
[114,73,{"$f":"IFERROR('Device Resistance Tables'!C133,NA())","v":13125.960045920147},{"$f":"IFERROR('Device Resistance Tables'!D133,NA())","v":13325.847762355479},{"$f":"IFERROR('Device Resistance Tables'!F133,NA())","v":13525.73547879081},{"$f":"IFERROR(D146*($B$15/(Main!$N$31+D146)),NA())","v":1.8852604228491454},{"$f":"IFERROR($B$16*($B$15/(Main!$N$31+D146)),NA())","v":1.4147395771508546},77.949621838581152,1.4147395771508547E-4,{"$f":"IFERROR(($B$15/(Main!$N$31+D146))^2*(Main!$N$31+D146)*1000,NA())","v":0.46686406045978202},-1.5000000000000027,1.4999999999999891,4.743586468438199E-3,null,73,1987.3,2039.6,2093,{"$f":"IFERROR(Q146*($B$15/(Main!$N$31+Q146)),NA())","v":0.55904515100169438},60.5,{"$f":"IFERROR(($B$15/(Main!$N$31+Q146))^2*(Main!$N$31+Q146)*1000,NA())","v":0.90451510016944081},-2.5642282800549103,2.6181604236124776,1.3704660983330452E-2]
[115,74,{"$f":"IFERROR('Device Resistance Tables'!C134,NA())","v":13203.079131614242},{"$f":"IFERROR('Device Resistance Tables'!D134,NA())","v":13404.141250369788},{"$f":"IFERROR('Device Resistance Tables'!F134,NA())","v":13605.203369125335},{"$f":"IFERROR(D147*($B$15/(Main!$N$31+D147)),NA())","v":1.8899931278410569},{"$f":"IFERROR($B$16*($B$15/(Main!$N$31+D147)),NA())","v":1.4100068721589432},78.293488014309332,1.4100068721589431E-4,{"$f":"IFERROR(($B$15/(Main!$N$31+D147))^2*(Main!$N$31+D147)*1000,NA())","v":0.46530226781245121},-1.4999999999999953,1.4999999999999953,4.7327049919114739E-3,null,74,1929.8,1981.1,2033.5,{"$f":"IFERROR(Q147*($B$15/(Main!$N$31+Q147)),NA())","v":0.54566191752009408},58.5,{"$f":"IFERROR(($B$15/(Main!$N$31+Q147))^2*(Main!$N$31+Q147)*1000,NA())","v":0.90893156721836887},-2.5894704961889836,2.6449952046842711,1.338323348160031E-2]
[116,75,{"$f":"IFERROR('Device Resistance Tables'!C135,NA())","v":13280.53771269334},{"$f":"IFERROR('Device Resistance Tables'!D135,NA())","v":13482.779403749584},{"$f":"IFERROR('Device Resistance Tables'!F135,NA())","v":13685.021094805827},{"$f":"IFERROR(D148*($B$15/(Main!$N$31+D148)),NA())","v":1.8947149001139632},{"$f":"IFERROR($B$16*($B$15/(Main!$N$31+D148)),NA())","v":1.4052850998860364},78.638153379795767,1.4052850998860365E-4,{"$f":"IFERROR(($B$15/(Main!$N$31+D148))^2*(Main!$N$31+D148)*1000,NA())","v":0.463744082962392},-1.5000000000000036,1.49999999999999,4.7217722729062661E-3,null,75,1874.1,1924.5,1976.1,{"$f":"IFERROR(Q148*($B$15/(Main!$N$31+Q148)),NA())","v":0.53258836848505176},56.599999999999909,{"$f":"IFERROR(($B$15/(Main!$N$31+Q148))^2*(Main!$N$31+Q148)*1000,NA())","v":0.91324583839993279},-2.6188620420888591,2.6812159002338221,1.307354903504232E-2]
[117,76,{"$f":"IFERROR('Device Resistance Tables'!C136,NA())","v":13358.33658231644},{"$f":"IFERROR('Device Resistance Tables'!D136,NA())","v":13561.763027732428},{"$f":"IFERROR('Device Resistance Tables'!F136,NA())","v":13765.189473148414},{"$f":"IFERROR(D149*($B$15/(Main!$N$31+D149)),NA())","v":1.8994256897856634},{"$f":"IFERROR($B$16*($B$15/(Main!$N$31+D149)),NA())","v":1.4005743102143362},78.98362398284371,1.4005743102143362E-4,{"$f":"IFERROR(($B$15/(Main!$N$31+D149))^2*(Main!$N$31+D149)*1000,NA())","v":0.46218952237073085},-1.5000000000000078,1.4999999999999944,4.710789671700244E-3,null,76,1820.4,1869.8,1920.5,{"$f":"IFERROR(Q149*($B$15/(Main!$N$31+Q149)),NA())","v":0.51983521205075067},54.700000000000045,{"$f":"IFERROR(($B$15/(Main!$N$31+Q149))^2*(Main!$N$31+Q149)*1000,NA())","v":0.9174543800232523},-2.6419937961279212,2.7115199486576129,1.2753156434301083E-2]
[118,77,{"$f":"IFERROR('Device Resistance Tables'!C137,NA())","v":13436.476539599644},{"$f":"IFERROR('Device Resistance Tables'!D137,NA())","v":13641.092933603699},{"$f":"IFERROR('Device Resistance Tables'!F137,NA())","v":13845.709327607752},{"$f":"IFERROR(D150*($B$15/(Main!$N$31+D150)),NA())","v":1.9041254483165855},{"$f":"IFERROR($B$16*($B$15/(Main!$N$31+D150)),NA())","v":1.3958745516834143},79.329905871270967,1.3958745516834143E-4,{"$f":"IFERROR(($B$15/(Main!$N$31+D150))^2*(Main!$N$31+D150)*1000,NA())","v":0.4606386020555267},-1.4999999999999973,1.499999999999984,4.6997585309220824E-3,null,77,1768.4,1817,1866.7,{"$f":"IFERROR(Q150*($B$15/(Main!$N$31+Q150)),NA())","v":0.50741304899720741},52.799999999999955,{"$f":"IFERROR(($B$15/(Main!$N$31+Q150))^2*(Main!$N$31+Q150)*1000,NA())","v":0.92155369383092156},-2.6747385800770451,2.7352779306549282,1.2422163053543267E-2]
[119,78,{"$f":"IFERROR('Device Resistance Tables'!C138,NA())","v":13514.958389616146},{"$f":"IFERROR('Device Resistance Tables'!D138,NA())","v":13720.769938696594},{"$f":"IFERROR('Device Resistance Tables'!F138,NA())","v":13926.581487777043},{"$f":"IFERROR(D151*($B$15/(Main!$N$31+D151)),NA())","v":1.9088141284922691},{"$f":"IFERROR($B$16*($B$15/(Main!$N$31+D151)),NA())","v":1.3911858715077305},79.677005092895342,1.3911858715077305E-4,{"$f":"IFERROR(($B$15/(Main!$N$31+D151))^2*(Main!$N$31+D151)*1000,NA())","v":0.459091337597551},-1.4999999999999967,1.4999999999999967,4.6886801756835794E-3,null,78,1718.1,1765.8,1814.7,{"$f":"IFERROR(Q151*($B$15/(Main!$N$31+Q151)),NA())","v":0.49526084074181104},51.200000000000045,{"$f":"IFERROR(($B$15/(Main!$N$31+Q151))^2*(Main!$N$31+Q151)*1000,NA())","v":0.92556392255520237},-2.7013251783894012,2.7692830445124073,1.2152208255396368E-2]
[120,79,{"$f":"IFERROR('Device Resistance Tables'!C139,NA())","v":13593.782943396234},{"$f":"IFERROR('Device Resistance Tables'!D139,NA())","v":13800.794866392116},{"$f":"IFERROR('Device Resistance Tables'!F139,NA())","v":14007.806789387996},{"$f":"IFERROR(D152*($B$15/(Main!$N$31+D152)),NA())","v":1.9134916844059855},{"$f":"IFERROR($B$16*($B$15/(Main!$N$31+D152)),NA())","v":1.3865083155940146},80.02492769552191,1.3865083155940145E-4,{"$f":"IFERROR(($B$15/(Main!$N$31+D152))^2*(Main!$N$31+D152)*1000,NA())","v":0.45754774414602478},-1.5000000000000007,1.4999999999999876,4.6775559137164358E-3,null,79,1669.5,1716.4,1764.4,{"$f":"IFERROR(Q152*($B$15/(Main!$N$31+Q152)),NA())","v":0.48343518486907244},49.399999999999864,{"$f":"IFERROR(($B$15/(Main!$N$31+Q152))^2*(Main!$N$31+Q152)*1000,NA())","v":0.92946638899320611},-2.7324632952691732,2.7965509205313448,1.1825655872738594E-2]
[121,80,{"$f":"IFERROR('Device Resistance Tables'!C140,NA())","v":13672.951017927295},{"$f":"IFERROR('Device Resistance Tables'!D140,NA())","v":13881.168546119081},{"$f":"IFERROR('Device Resistance Tables'!F140,NA())","v":14089.386074310865},{"$f":"IFERROR(D153*($B$15/(Main!$N$31+D153)),NA())","v":1.918158071441491},{"$f":"IFERROR($B$16*($B$15/(Main!$N$31+D153)),NA())","v":1.3818419285585093},80.373679726964838,1.3818419285585094E-4,{"$f":"IFERROR(($B$15/(Main!$N$31+D153))^2*(Main!$N$31+D153)*1000,NA())","v":0.45600783642430809},-1.4999999999999998,1.4999999999999867,4.6663870355054815E-3,null,80,1622.5,1668.5,1715.7,{"$f":"IFERROR(Q153*($B$15/(Main!$N$31+Q153)),NA())","v":0.47187299138706773},47.900000000000091,{"$f":"IFERROR(($B$15/(Main!$N$31+Q153))^2*(Main!$N$31+Q153)*1000,NA())","v":0.93328191284226758},-2.7569673359304767,2.8288882229547525,1.1562193482004712E-2]
[122,81,{"$f":"IFERROR('Device Resistance Tables'!C141,NA())","v":13752.463436153806},{"$f":"IFERROR('Device Resistance Tables'!D141,NA())","v":13961.891813354119},{"$f":"IFERROR('Device Resistance Tables'!F141,NA())","v":14171.32019055443},{"$f":"IFERROR(D154*($B$15/(Main!$N$31+D154)),NA())","v":1.92281324625592},{"$f":"IFERROR($B$16*($B$15/(Main!$N$31+D154)),NA())","v":1.3771867537440796},80.723267235038293,1.3771867537440795E-4,{"$f":"IFERROR(($B$15/(Main!$N$31+D154))^2*(Main!$N$31+D154)*1000,NA())","v":0.4544716287355462},-1.5000000000000069,1.4999999999999938,4.6551748144290084E-3,null,81,1577.2,1622.4,1668.7,{"$f":"IFERROR(Q154*($B$15/(Main!$N$31+Q154)),NA())","v":0.46065528634361236},46.099999999999909,{"$f":"IFERROR(($B$15/(Main!$N$31+Q154))^2*(Main!$N$31+Q154)*1000,NA())","v":0.93698375550660773},-2.785996055226827,2.8537968441814563,1.1217705043455373E-2]
[123,82,{"$f":"IFERROR('Device Resistance Tables'!C142,NA())","v":13832.32102697735},{"$f":"IFERROR('Device Resistance Tables'!D142,NA())","v":14042.965509621676},{"$f":"IFERROR('Device Resistance Tables'!F142,NA())","v":14253.609992266},{"$f":"IFERROR(D155*($B$15/(Main!$N$31+D155)),NA())","v":1.9274571667628173},{"$f":"IFERROR($B$16*($B$15/(Main!$N$31+D155)),NA())","v":1.3725428332371827},81.073696267556443,1.3725428332371828E-4,{"$f":"IFERROR(($B$15/(Main!$N$31+D155))^2*(Main!$N$31+D155)*1000,NA())","v":0.45293913496827032},-1.5000000000000044,1.4999999999999913,4.6439205068973255E-3,null,82,1533.4,1577.7,1623.2,{"$f":"IFERROR(Q155*($B$15/(Main!$N$31+Q155)),NA())","v":0.44969294419444278},44.700000000000045,{"$f":"IFERROR(($B$15/(Main!$N$31+Q155))^2*(Main!$N$31+Q155)*1000,NA())","v":0.94060132841583377},-2.8078848957342939,2.8839449832033974,1.0962342149169579E-2]
[124,83,{"$f":"IFERROR('Device Resistance Tables'!C143,NA())","v":13912.524625256596},{"$f":"IFERROR('Device Resistance Tables'!D143,NA())","v":14124.390482494005},{"$f":"IFERROR('Device Resistance Tables'!F143,NA())","v":14336.256339731413},{"$f":"IFERROR(D156*($B$15/(Main!$N$31+D156)),NA())","v":1.9320897921153022},{"$f":"IFERROR($B$16*($B$15/(Main!$N$31+D156)),NA())","v":1.3679102078846979},81.424972872329818,1.3679102078846978E-4,{"$f":"IFERROR(($B$15/(Main!$N$31+D156))^2*(Main!$N$31+D156)*1000,NA())","v":0.45141036860195033},-1.4999999999999976,1.4999999999999847,4.6326253524848759E-3,null,83,1490.9,1534.5,1579.2,{"$f":"IFERROR(Q156*($B$15/(Main!$N$31+Q156)),NA())","v":0.43901772942043438},43.200000000000045,{"$f":"IFERROR(($B$15/(Main!$N$31+Q156))^2*(Main!$N$31+Q156)*1000,NA())","v":0.94412414929125665},-2.8413163897034805,2.9130009775171097,1.0675214774008401E-2]
[125,84,{"$f":"IFERROR('Device Resistance Tables'!C144,NA())","v":13993.075071807307},{"$f":"IFERROR('Device Resistance Tables'!D144,NA())","v":14206.167585591174},{"$f":"IFERROR('Device Resistance Tables'!F144,NA())","v":14419.26009937504},{"$f":"IFERROR(D157*($B$15/(Main!$N$31+D157)),NA())","v":1.9367110826893805},{"$f":"IFERROR($B$16*($B$15/(Main!$N$31+D157)),NA())","v":1.3632889173106191},81.777103097168947,1.3632889173106192E-4,{"$f":"IFERROR(($B$15/(Main!$N$31+D157))^2*(Main!$N$31+D157)*1000,NA())","v":0.4498853427125043},-1.5,1.4999999999999873,4.6212905740783405E-3,null,84,1449.9,1492.7,1536.5,{"$f":"IFERROR(Q157*($B$15/(Main!$N$31+Q157)),NA())","v":0.42861207549139885},41.799999999999955,{"$f":"IFERROR(($B$15/(Main!$N$31+Q157))^2*(Main!$N$31+Q157)*1000,NA())","v":0.94755801508783821},-2.867287465666239,2.9342801634621796,1.040565392903553E-2]
[126,85,{"$f":"IFERROR('Device Resistance Tables'!C145,NA())","v":14073.973213402351},{"$f":"IFERROR('Device Resistance Tables'!D145,NA())","v":14288.297678581066},{"$f":"IFERROR('Device Resistance Tables'!F145,NA())","v":14502.622143759781},{"$f":"IFERROR(D158*($B$15/(Main!$N$31+D158)),NA())","v":1.9413210000673922},{"$f":"IFERROR($B$16*($B$15/(Main!$N$31+D158)),NA())","v":1.3586789999326077},82.130092989891637,1.3586789999326076E-4,{"$f":"IFERROR(($B$15/(Main!$N$31+D158))^2*(Main!$N$31+D158)*1000,NA())","v":0.44836406997776057},-1.4999999999999958,1.4999999999999958,4.6099173780116409E-3,null,85,1410.1,1452.1,1495.2,{"$f":"IFERROR(Q158*($B$15/(Main!$N$31+Q158)),NA())","v":0.41843242724041874},40.600000000000136,{"$f":"IFERROR(($B$15/(Main!$N$31+Q158))^2*(Main!$N$31+Q158)*1000,NA())","v":0.95091729901066169},-2.8923627849321671,2.968115143585162,1.0179648250980111E-2]
[127,86,{"$f":"IFERROR('Device Resistance Tables'!C146,NA())","v":14155.219902771682},{"$f":"IFERROR('Device Resistance Tables'!D146,NA())","v":14370.781627179373},{"$f":"IFERROR('Device Resistance Tables'!F146,NA())","v":14586.343351587062},{"$f":"IFERROR(D159*($B$15/(Main!$N$31+D159)),NA())","v":1.9459195070215991},{"$f":"IFERROR($B$16*($B$15/(Main!$N$31+D159)),NA())","v":1.3540804929784009},82.483948598306597,1.3540804929784009E-4,{"$f":"IFERROR(($B$15/(Main!$N$31+D159))^2*(Main!$N$31+D159)*1000,NA())","v":0.44684656268287226},-1.500000000000004,1.4999999999999913,4.5985069542069379E-3,null,86,1371.7,1412.9,1455.2,{"$f":"IFERROR(Q159*($B$15/(Main!$N$31+Q159)),NA())","v":0.40853507872670403},39.199999999999818,{"$f":"IFERROR(($B$15/(Main!$N$31+Q159))^2*(Main!$N$31+Q159)*1000,NA())","v":0.95418342402018774},-2.915988392667566,2.9938424516950919,9.8973485137147099E-3]
[128,87,{"$f":"IFERROR('Device Resistance Tables'!C147,NA())","v":14236.815998602355},{"$f":"IFERROR('Device Resistance Tables'!D147,NA())","v":14453.620303149599},{"$f":"IFERROR('Device Resistance Tables'!F147,NA())","v":14670.424607696841},{"$f":"IFERROR(D160*($B$15/(Main!$N$31+D160)),NA())","v":1.9505065674979161},{"$f":"IFERROR($B$16*($B$15/(Main!$N$31+D160)),NA())","v":1.3494934325020838},82.838675970226177,1.3494934325020838E-4,{"$f":"IFERROR(($B$15/(Main!$N$31+D160))^2*(Main!$N$31+D160)*1000,NA())","v":0.44533283272568763},-1.5000000000000009,1.4999999999999882,4.587060476316962E-3,null,87,1334.4,1374.9,1416.5,{"$f":"IFERROR(Q160*($B$15/(Main!$N$31+Q160)),NA())","v":0.39887559451072097},38,{"$f":"IFERROR(($B$15/(Main!$N$31+Q160))^2*(Main!$N$31+Q160)*1000,NA())","v":0.95737105381146193},-2.9456687759109754,3.0256745945159582,9.6594842159830607E-3]
[129,88,{"$f":"IFERROR('Device Resistance Tables'!C148,NA())","v":14318.762365538521},{"$f":"IFERROR('Device Resistance Tables'!D148,NA())","v":14536.814584303067},{"$f":"IFERROR('Device Resistance Tables'!F148,NA())","v":14754.866803067611},{"$f":"IFERROR(D161*($B$15/(Main!$N$31+D161)),NA())","v":1.9550821465997836},{"$f":"IFERROR($B$16*($B$15/(Main!$N$31+D161)),NA())","v":1.3449178534002162},83.194281153468182,1.3449178534002162E-4,{"$f":"IFERROR(($B$15/(Main!$N$31+D161))^2*(Main!$N$31+D161)*1000,NA())","v":0.44382289162207134},-1.4999999999999973,{"$f":"IFERROR(((E161-D161)/D161)*100,NA())","v":1.4999999999999849},4.5755791018675662E-3,null,88,1298.4000000000001,1338.1,1379,{"$f":"IFERROR(Q161*($B$15/(Main!$N$31+Q161)),NA())","v":0.38945943323837318},36.800000000000182,{"$f":"IFERROR(($B$15/(Main!$N$31+Q161))^2*(Main!$N$31+Q161)*1000,NA())","v":0.96047838703133659},-2.9668933562513877,3.0565727524101409,9.4161612723477894E-3]
[130,89,{"$f":"IFERROR('Device Resistance Tables'!C149,NA())","v":14401.059874181425},{"$f":"IFERROR('Device Resistance Tables'!D149,NA())","v":14620.365354498908},{"$f":"IFERROR('Device Resistance Tables'!F149,NA())","v":14839.67083481639},{"$f":"IFERROR(D162*($B$15/(Main!$N$31+D162)),NA())","v":1.959646210572181},{"$f":"IFERROR($B$16*($B$15/(Main!$N$31+D162)),NA())","v":1.340353789427819},{"$f":"IFERROR(D162-D161,NA())","v":83.550770195841324},{"$f":"$F162/$D162","v":1.340353789427819E-4},{"$f":"IFERROR(($B$15/(Main!$N$31+D162))^2*(Main!$N$31+D162)*1000,NA())","v":0.4423167505111803},{"$f":"IFERROR(((D162-C162)/D162)*-100,NA())","v":-1.5000000000000002},1.4999999999999878,4.5640639723973919E-3,null,89,1263.5,1302.5,1342.6,{"$f":"IFERROR(Q162*($B$15/(Main!$N$31+Q162)),NA())","v":0.38029197080291965},35.599999999999909,{"$f":"IFERROR(($B$15/(Main!$N$31+Q162))^2*(Main!$N$31+Q162)*1000,NA())","v":0.96350364963503632},{"$f":"IFERROR(((Q162-P162)/Q162)*-100,NA())","v":-2.9942418426103647},{"$f":"IFERROR(((R162-Q162)/Q162)*100,NA())","v":3.0786948176583424},9.1674624354535217E-3]
[131,90,{"$f":"IFERROR('Device Resistance Tables'!C150,NA())","v":14483.709401089403},{"$f":"IFERROR('Device Resistance Tables'!D150,NA())","v":14704.273503644064},{"$f":"IFERROR('Device Resistance Tables'!F150,NA())","v":14924.837606198724},{"$f":"IFERROR(D163*($B$15/(Main!$N$31+D163)),NA())","v":1.9641987267857823},{"$f":"IFERROR($B$16*($B$15/(Main!$N$31+D163)),NA())","v":1.3358012732142175},83.908149145156131,1.3358012732142175E-4,{"$f":"IFERROR(($B$15/(Main!$N$31+D163))^2*(Main!$N$31+D163)*1000,NA())","v":0.44081442016069178},-1.5000000000000009,1.4999999999999882,{"$f":"IFERROR(F163-F162,NA())","v":4.5525162136013098E-3},null,90,1229.5999999999999,1268,1307.4000000000001,{"$f":"IFERROR(Q163*($B$15/(Main!$N$31+Q163)),NA())","v":0.37135250266240677},{"$f":"IFERROR(Q162-Q163,NA())","v":34.5},{"$f":"IFERROR(($B$15/(Main!$N$31+Q163))^2*(Main!$N$31+Q163)*1000,NA())","v":0.96645367412140559},-3.0283911671924364,3.1072555205047392,{"$f":"IFERROR(S162-S163,NA())","v":8.9394681405128851E-3}]
[132,91,{"$f":"IFERROR('Device Resistance Tables'!C151,NA())","v":14566.711828777896},{"$f":"IFERROR('Device Resistance Tables'!D151,NA())","v":14788.539927693295},{"$f":"IFERROR('Device Resistance Tables'!F151,NA())","v":15010.368026608692},{"$f":"IFERROR(D164*($B$15/(Main!$N$31+D164)),NA())","v":1.968739663721258},{"$f":"IFERROR($B$16*($B$15/(Main!$N$31+D164)),NA())","v":1.3312603362787421},84.266424049230409,1.3312603362787421E-4,{"$f":"IFERROR(($B$15/(Main!$N$31+D164))^2*(Main!$N$31+D164)*1000,NA())","v":0.43931591097198486},-1.4999999999999978,1.4999999999999856,4.5409369354756368E-3,null,91,1196.5999999999999,1234.3,1273,{"$f":"IFERROR(Q164*($B$15/(Main!$N$31+Q164)),NA())","v":0.36256731616567123},33.700000000000045,{"$f":"IFERROR(($B$15/(Main!$N$31+Q164))^2*(Main!$N$31+Q164)*1000,NA())","v":0.96935278566532856},-3.0543627967268936,3.1353803775419307,8.785186496735542E-3]
[133,92,{"$f":"IFERROR('Device Resistance Tables'!C152,NA())","v":14650.068045719428},{"$f":"IFERROR('Device Resistance Tables'!D152,NA())","v":14873.165528649166},{"$f":"IFERROR('Device Resistance Tables'!F152,NA())","v":15096.263011578902},{"$f":"IFERROR(D165*($B$15/(Main!$N$31+D165)),NA())","v":1.9732689909537142},{"$f":"IFERROR($B$16*($B$15/(Main!$N$31+D165)),NA())","v":1.3267310090462858},84.62560095587105,1.3267310090462857E-4,{"$f":"IFERROR(($B$15/(Main!$N$31+D165))^2*(Main!$N$31+D165)*1000,NA())","v":0.43782123298527426},-1.4999999999999998,1.4999999999999876,4.5293272324562484E-3,null,92,1164.7,1201.5999999999999,1239.5999999999999,{"$f":"IFERROR(Q165*($B$15/(Main!$N$31+Q165)),NA())","v":0.35399228681616907},32.700000000000045,{"$f":"IFERROR(($B$15/(Main!$N$31+Q165))^2*(Main!$N$31+Q165)*1000,NA())","v":0.97218254535066417},-3.0709054593874723,3.1624500665778967,8.5750293495021612E-3]
[134,93,{"$f":"IFERROR('Device Resistance Tables'!C153,NA())","v":14733.778946343631},{"$f":"IFERROR('Device Resistance Tables'!D153,NA())","v":14958.151214562062},{"$f":"IFERROR('Device Resistance Tables'!F153,NA())","v":15182.523482780491},{"$f":"IFERROR(D166*($B$15/(Main!$N$31+D166)),NA())","v":1.9777866791372811},{"$f":"IFERROR($B$16*($B$15/(Main!$N$31+D166)),NA())","v":1.3222133208627187},84.98568591289586,1.3222133208627186E-4,{"$f":"IFERROR(($B$15/(Main!$N$31+D166))^2*(Main!$N$31+D166)*1000,NA())","v":0.43633039588469708},-1.4999999999999984,1.4999999999999862,4.5176881835669036E-3,null,93,1133.7,1170,1207.3,{"$f":"IFERROR(Q166*($B$15/(Main!$N$31+Q166)),NA())","v":0.34565801253357203},31.599999999999909,{"$f":"IFERROR(($B$15/(Main!$N$31+Q166))^2*(Main!$N$31+Q166)*1000,NA())","v":0.97493285586392098},-3.1025641025640986,3.1880341880341843,8.3342742825970317E-3]
[135,94,{"$f":"IFERROR('Device Resistance Tables'!C154,NA())","v":14817.845431037224},{"$f":"IFERROR('Device Resistance Tables'!D154,NA())","v":15043.497899530177},{"$f":"IFERROR('Device Resistance Tables'!F154,NA())","v":15269.150368023129},{"$f":"IFERROR(D167*($B$15/(Main!$N$31+D167)),NA())","v":1.9822926999898409},{"$f":"IFERROR($B$16*($B$15/(Main!$N$31+D167)),NA())","v":1.3177073000101591},85.346684968115369,1.317707300010159E-4,{"$f":"IFERROR(($B$15/(Main!$N$31+D167))^2*(Main!$N$31+D167)*1000,NA())","v":0.43484340900335255},-1.5000000000000064,1.4999999999999944,4.5060208525598E-3,null,94,1103.7,1139.3,1176,{"$f":"IFERROR(Q167*($B$15/(Main!$N$31+Q167)),NA())","v":0.33751582235867605},30.700000000000045,{"$f":"IFERROR(($B$15/(Main!$N$31+Q167))^2*(Main!$N$31+Q167)*1000,NA())","v":0.97761977862163707},-3.1247257087685343,3.2212762222417313,8.1421901748959802E-3]
[136,95,{"$f":"IFERROR('Device Resistance Tables'!C155,NA())","v":14902.268406144029},{"$f":"IFERROR('Device Resistance Tables'!D155,NA())","v":15129.206503699521},{"$f":"IFERROR('Device Resistance Tables'!F155,NA())","v":15356.144601255011},{"$f":"IFERROR(D168*($B$15/(Main!$N$31+D168)),NA())","v":1.9867870262778995},{"$f":"IFERROR($B$16*($B$15/(Main!$N$31+D168)),NA())","v":1.3132129737221008},85.708604169343744,1.3132129737221008E-4,{"$f":"IFERROR(($B$15/(Main!$N$31+D168))^2*(Main!$N$31+D168)*1000,NA())","v":0.4333602813282933},-1.4999999999999964,1.4999999999999845,4.4943262880585699E-3,null,95,1074.5999999999999,1109.5999999999999,1145.5999999999999,{"$f":"IFERROR(Q168*($B$15/(Main!$N$31+Q168)),NA())","v":0.32959602505940799},29.700000000000045,{"$f":"IFERROR(($B$15/(Main!$N$31+Q168))^2*(Main!$N$31+Q168)*1000,NA())","v":0.98023331173039507},-3.1542898341744778,3.2444124008651771,{"$f":"IFERROR(S167-S168,NA())","v":7.919797299268061E-3}]
[137,96,{"$f":"IFERROR('Device Resistance Tables'!C156,NA())","v":14987.048783964952},{"$f":"IFERROR('Device Resistance Tables'!D156,NA())","v":15215.277953263911},{"$f":"IFERROR('Device Resistance Tables'!F156,NA())","v":15443.507122562867},{"$f":"IFERROR(D169*($B$15/(Main!$N$31+D169)),NA())","v":1.991269631801603},{"$f":"IFERROR($B$16*($B$15/(Main!$N$31+D169)),NA())","v":1.3087303681983971},86.071449564389695,1.308730368198397E-4,{"$f":"IFERROR(($B$15/(Main!$N$31+D169))^2*(Main!$N$31+D169)*1000,NA())","v":0.43188102150547103},-1.499999999999998,1.499999999999986,4.4826055237034979E-3,null,96,1046.4000000000001,1080.7,1116.0999999999999,{"$f":"IFERROR(Q169*($B$15/(Main!$N$31+Q169)),NA())","v":0.32184880016605449},28.899999999999864,{"$f":"IFERROR(($B$15/(Main!$N$31+Q169))^2*(Main!$N$31+Q169)*1000,NA())","v":0.98278989594520194},-3.1738687887480292,3.275654668270553,7.7472248933534993E-3]
[138,97,{"$f":"IFERROR('Device Resistance Tables'!C157,NA())","v":15072.187482758009},{"$f":"IFERROR('Device Resistance Tables'!D157,NA())","v":15301.713180464983},{"$f":"IFERROR('Device Resistance Tables'!F157,NA())","v":15531.238878171956},{"$f":"IFERROR(D170*($B$15/(Main!$N$31+D170)),NA())","v":1.9957404913798986},{"$f":"IFERROR($B$16*($B$15/(Main!$N$31+D170)),NA())","v":1.3042595086201012},86.435227201072848,1.3042595086201013E-4,{"$f":"IFERROR(($B$15/(Main!$N$31+D170))^2*(Main!$N$31+D170)*1000,NA())","v":0.43040563784463343},-1.5000000000000004,1.4999999999999887,4.4708595782956273E-3,null,97,1019,1052.8,1087.5,{"$f":"IFERROR(Q170*($B$15/(Main!$N$31+Q170)),NA())","v":0.31433121019108279},27.900000000000091,{"$f":"IFERROR(($B$15/(Main!$N$31+Q170))^2*(Main!$N$31+Q170)*1000,NA())","v":0.98527070063694244},-3.2104863221884461,3.2959726443769046,7.5175899749717057E-3]
[139,98,{"$f":"IFERROR('Device Resistance Tables'!C158,NA())","v":15157.685426738291},{"$f":"IFERROR('Device Resistance Tables'!D158,NA())","v":15388.513123592174},{"$f":"IFERROR('Device Resistance Tables'!F158,NA())","v":15619.340820446056},{"$f":"IFERROR(D171*($B$15/(Main!$N$31+D171)),NA())","v":2.0001995808358357},{"$f":"IFERROR($B$16*($B$15/(Main!$N$31+D171)),NA())","v":1.2998004191641646},86.799943127191,1.2998004191641646E-4,{"$f":"IFERROR(($B$15/(Main!$N$31+D171))^2*(Main!$N$31+D171)*1000,NA())","v":0.42893413832417432},-1.5000000000000027,1.4999999999999909,4.459089455937093E-3,null,98,992.5,1025.5999999999999,1059.8,{"$f":"IFERROR(Q171*($B$15/(Main!$N$31+Q171)),NA())","v":0.30696560731388761},27.200000000000045,{"$f":"IFERROR(($B$15/(Main!$N$31+Q171))^2*(Main!$N$31+Q171)*1000,NA())","v":0.98770134958641675},-3.2273790951637982,3.3346333853354184,7.3656028771951765E-3]
[140,99,{"$f":"IFERROR('Device Resistance Tables'!C159,NA())","v":15243.543546078019},{"$f":"IFERROR('Device Resistance Tables'!D159,NA())","v":15475.67872698276},{"$f":"IFERROR('Device Resistance Tables'!F159,NA())","v":15707.813907887499},{"$f":"IFERROR(D172*($B$15/(Main!$N$31+D172)),NA())","v":2.0046468769820134},{"$f":"IFERROR($B$16*($B$15/(Main!$N$31+D172)),NA())","v":1.2953531230179864},87.165603390585602,1.2953531230179864E-4,{"$f":"IFERROR(($B$15/(Main!$N$31+D172))^2*(Main!$N$31+D172)*1000,NA())","v":0.42746653059593542},-1.4999999999999973,1.4999999999999856,4.4472961461776706E-3,null,99,966.8,999.3,1032.8,{"$f":"IFERROR(Q172*($B$15/(Main!$N$31+Q172)),NA())","v":0.29980907875955737},26.299999999999955,{"$f":"IFERROR(($B$15/(Main!$N$31+Q172))^2*(Main!$N$31+Q172)*1000,NA())","v":0.99006300400934577},-3.2522765936155307,3.3523466426498554,7.1565285543302437E-3]
[141,100,{"$f":"IFERROR('Device Resistance Tables'!C160,NA())","v":15329.762776906467},{"$f":"IFERROR('Device Resistance Tables'!D160,NA())","v":15563.210941021794},{"$f":"IFERROR('Device Resistance Tables'!F160,NA())","v":15796.65910513712},{"$f":"IFERROR(D173*($B$15/(Main!$N$31+D173)),NA())","v":2.0090823576061703},{"$f":"IFERROR($B$16*($B$15/(Main!$N$31+D173)),NA())","v":1.2909176423938291},87.532214039034443,1.2909176423938292E-4,{"$f":"IFERROR(($B$15/(Main!$N$31+D173))^2*(Main!$N$31+D173)*1000,NA())","v":0.42600282198996359},-1.5000000000000007,1.4999999999999891,4.4354806241568845E-3,null,100,941.9,973.8,1006.7,{"$f":"IFERROR(Q173*($B$15/(Main!$N$31+Q173)),NA())","v":0.29283748564763346},25.5,{"$f":"IFERROR(($B$15/(Main!$N$31+Q173))^2*(Main!$N$31+Q173)*1000,NA())","v":0.99236362973628089},-3.2758266584514253,3.3785171493119832,6.9715931119239127E-3]
[142,101,{"$f":"IFERROR('Device Resistance Tables'!C161,NA())","v":15416.344061310037},{"$f":"IFERROR('Device Resistance Tables'!D161,NA())","v":15651.11072214217},{"$f":"IFERROR('Device Resistance Tables'!F161,NA())","v":15885.8773829743},{"$f":"IFERROR(D174*($B$15/(Main!$N$31+D174)),NA())","v":2.0135060014569182},{"$f":"IFERROR($B$16*($B$15/(Main!$N$31+D174)),NA())","v":1.2864939985430819},87.899781120375337,1.2864939985430819E-4,{"$f":"IFERROR(($B$15/(Main!$N$31+D174))^2*(Main!$N$31+D174)*1000,NA())","v":0.42454301951921702},-1.4999999999999991,1.4999999999999876,4.4236438507478937E-3,null,101,917.9,949.2,981.6,{"$f":"IFERROR(Q174*($B$15/(Main!$N$31+Q174)),NA())","v":0.28608117488035656},24.599999999999909,{"$f":"IFERROR(($B$15/(Main!$N$31+Q174))^2*(Main!$N$31+Q174)*1000,NA())","v":0.99459321228948194},-3.2975136957437914,3.4134007585334998,6.7563107672768963E-3]
[143,102,{"$f":"IFERROR('Device Resistance Tables'!C162,NA())","v":15503.288347332211},{"$f":"IFERROR('Device Resistance Tables'!D162,NA())","v":15739.37903282458},{"$f":"IFERROR('Device Resistance Tables'!F162,NA())","v":15975.469718316946},{"$f":"IFERROR(D175*($B$15/(Main!$N$31+D175)),NA())","v":2.0179177882296151},{"$f":"IFERROR($B$16*($B$15/(Main!$N$31+D175)),NA())","v":1.2820822117703845},88.268310682409719,1.2820822117703845E-4,{"$f":"IFERROR(($B$15/(Main!$N$31+D175))^2*(Main!$N$31+D175)*1000,NA())","v":0.42308712988422692},-1.5000000000000002,1.4999999999999887,4.4117867726969351E-3,null,102,894.6,925.4,957.1,{"$f":"IFERROR(Q175*($B$15/(Main!$N$31+Q175)),NA())","v":0.27951562414190784},23.800000000000068,{"$f":"IFERROR(($B$15/(Main!$N$31+Q175))^2*(Main!$N$31+Q175)*1000,NA())","v":0.99675984403317019},-3.3282904689863795,3.4255457099632638,6.5655507384487222E-3]
[144,103,{"$f":"IFERROR('Device Resistance Tables'!C163,NA())","v":15590.596588973569},{"$f":"IFERROR('Device Resistance Tables'!D163,NA())","v":15828.016841597531},{"$f":"IFERROR('Device Resistance Tables'!F163,NA())","v":16065.437094221492},{"$f":"IFERROR(D176*($B$15/(Main!$N$31+D176)),NA())","v":2.0223176985523885},{"$f":"IFERROR($B$16*($B$15/(Main!$N$31+D176)),NA())","v":1.2776823014476113},88.637808772951757,1.2776823014476113E-4,{"$f":"IFERROR(($B$15/(Main!$N$31+D176))^2*(Main!$N$31+D176)*1000,NA())","v":0.42163515947771169},-1.4999999999999962,1.4999999999999847,4.399910322773426E-3,null,103,872,902.2,933.4,{"$f":"IFERROR(Q176*($B$15/(Main!$N$31+Q176)),NA())","v":0.27308800058703747},23.199999999999932,{"$f":"IFERROR(($B$15/(Main!$N$31+Q176))^2*(Main!$N$31+Q176)*1000,NA())","v":0.99888095980627756},-3.3473730880070987,3.4582132564841417,6.4276235548703653E-3]
[145,104,{"$f":"IFERROR('Device Resistance Tables'!C164,NA())","v":15678.269746191791},{"$f":"IFERROR('Device Resistance Tables'!D164,NA())","v":15917.025123037351},{"$f":"IFERROR('Device Resistance Tables'!F164,NA())","v":16155.780499882909},{"$f":"IFERROR(D177*($B$15/(Main!$N$31+D177)),NA())","v":2.0267057139722926},{"$f":"IFERROR($B$16*($B$15/(Main!$N$31+D177)),NA())","v":1.2732942860277074},89.008281439819257,1.2732942860277076E-4,{"$f":"IFERROR(($B$15/(Main!$N$31+D177))^2*(Main!$N$31+D177)*1000,NA())","v":0.42018711438914341},-1.4999999999999987,1.4999999999999871,4.3880154199040788E-3,null,104,850.1,879.8,910.4,{"$f":"IFERROR(Q177*($B$15/(Main!$N$31+Q177)),NA())","v":0.266856008382507},22.400000000000091,{"$f":"IFERROR(($B$15/(Main!$N$31+Q177))^2*(Main!$N$31+Q177)*1000,NA())","v":1.0009375172337724},-3.3757672198226794,3.4780631961809529,6.2319922045304676E-3]
[146,105,{"$f":"IFERROR('Device Resistance Tables'!C165,NA())","v":15766.308784901647},{"$f":"IFERROR('Device Resistance Tables'!D165,NA())","v":16006.40485776817},{"$f":"IFERROR('Device Resistance Tables'!F165,NA())","v":16246.500930634691},{"$f":"IFERROR(D178*($B$15/(Main!$N$31+D178)),NA())","v":2.0310818169416129},{"$f":"IFERROR($B$16*($B$15/(Main!$N$31+D178)),NA())","v":1.2689181830583871},89.379734730819109,1.2689181830583871E-4,{"$f":"IFERROR(($B$15/(Main!$N$31+D178))^2*(Main!$N$31+D178)*1000,NA())","v":0.41874300040926776},-1.500000000000004,1.4999999999999925,4.376102969320339E-3,null,105,828.8,858,888.1,{"$f":"IFERROR(Q178*($B$15/(Main!$N$31+Q178)),NA())","v":0.26076625529563457},21.799999999999955,{"$f":"IFERROR(($B$15/(Main!$N$31+Q178))^2*(Main!$N$31+Q178)*1000,NA())","v":1.0029471357524404},-3.4032634032634088,3.5081585081585107,6.0897530868724292E-3]
[147,106,{"$f":"IFERROR('Device Resistance Tables'!C166,NA())","v":15854.714676975005},{"$f":"IFERROR('Device Resistance Tables'!D166,NA())","v":16096.157032461935},{"$f":"IFERROR('Device Resistance Tables'!F166,NA())","v":16337.599387948863},{"$f":"IFERROR(D179*($B$15/(Main!$N$31+D179)),NA())","v":2.0354459908043117},{"$f":"IFERROR($B$16*($B$15/(Main!$N$31+D179)),NA())","v":1.2645540091956884},89.752174693765483,1.2645540091956885E-4,{"$f":"IFERROR(($B$15/(Main!$N$31+D179))^2*(Main!$N$31+D179)*1000,NA())","v":0.41730282303457722},-1.5000000000000058,1.4999999999999944,4.364173862698717E-3,null,106,808.1,836.8,866.4,{"$f":"IFERROR(Q179*($B$15/(Main!$N$31+Q179)),NA())","v":0.25482061125055366},21.200000000000045,{"$f":"IFERROR(($B$15/(Main!$N$31+Q179))^2*(Main!$N$31+Q179)*1000,NA())","v":1.0049091982873171},-3.4297323135755176,3.5372848948374789,5.9456440450809112E-3]
[148,107,{"$f":"IFERROR('Device Resistance Tables'!C167,NA())","v":15943.488400240831},{"$f":"IFERROR('Device Resistance Tables'!D167,NA())","v":16186.282639838408},{"$f":"IFERROR('Device Resistance Tables'!F167,NA())","v":16429.076879435983},{"$f":"IFERROR(D180*($B$15/(Main!$N$31+D180)),NA())","v":2.0397982197826137},{"$f":"IFERROR($B$16*($B$15/(Main!$N$31+D180)),NA())","v":1.2602017802173864},90.125607376472544,1.2602017802173864E-4,{"$f":"IFERROR(($B$15/(Main!$N$31+D180))^2*(Main!$N$31+D180)*1000,NA())","v":0.41586658747173755},-1.5000000000000051,1.499999999999994,4.3522289783020085E-3,null,107,788.1,816.2,845.3,{"$f":"IFERROR(Q180*($B$15/(Main!$N$31+Q180)),NA())","v":0.24902091307483218},20.599999999999909,{"$f":"IFERROR(($B$15/(Main!$N$31+Q180))^2*(Main!$N$31+Q180)*1000,NA())","v":1.0068230986853051},-3.4427836314628792,3.5653026219063841,5.7996981757214849E-3]
[149,108,{"$f":"IFERROR('Device Resistance Tables'!C168,NA())","v":16032.630938485177},{"$f":"IFERROR('Device Resistance Tables'!D168,NA())","v":16276.782678665155},{"$f":"IFERROR('Device Resistance Tables'!F168,NA())","v":16520.934418845132},{"$f":"IFERROR(D181*($B$15/(Main!$N$31+D181)),NA())","v":2.0441384889637342},{"$f":"IFERROR($B$16*($B$15/(Main!$N$31+D181)),NA())","v":1.2558615110362659},90.500038826747186,1.2558615110362659E-4,{"$f":"IFERROR(($B$15/(Main!$N$31+D181))^2*(Main!$N$31+D181)*1000,NA())","v":0.41443429864196774},-1.5000000000000007,1.5000000000000007,4.3402691811205152E-3,null,108,768.6,796.3,824.8,{"$f":"IFERROR(Q181*($B$15/(Main!$N$31+Q181)),NA())","v":0.2433972749923585},19.900000000000091,{"$f":"IFERROR(($B$15/(Main!$N$31+Q181))^2*(Main!$N$31+Q181)*1000,NA())","v":1.0086788992525217},-3.4785884716815185,3.5790531206831599,5.6236380824736809E-3]
[150,109,{"$f":"IFERROR('Device Resistance Tables'!C169,NA())","v":16122.143281451208},{"$f":"IFERROR('Device Resistance Tables'!D169,NA())","v":16367.658153757571},{"$f":"IFERROR('Device Resistance Tables'!F169,NA())","v":16613.173026063934},{"$f":"IFERROR(D182*($B$15/(Main!$N$31+D182)),NA())","v":2.0484667842867466},{"$f":"IFERROR($B$16*($B$15/(Main!$N$31+D182)),NA())","v":1.2515332157132535},90.875475092416309,1.2515332157132534E-4,{"$f":"IFERROR(($B$15/(Main!$N$31+D182))^2*(Main!$N$31+D182)*1000,NA())","v":0.41300596118537358},-1.4999999999999967,1.4999999999999967,4.3282953230123766E-3,null,109,749.7,776.9,804.9,{"$f":"IFERROR(Q182*($B$15/(Main!$N$31+Q182)),NA())","v":0.23789494195919045},19.399999999999977,{"$f":"IFERROR(($B$15/(Main!$N$31+Q182))^2*(Main!$N$31+Q182)*1000,NA())","v":1.0104946691534671},-3.5010940919037115,3.6040674475479468,5.5023330331680498E-3]
[151,110,{"$f":"IFERROR('Device Resistance Tables'!C170,NA())","v":16212.026424839163},{"$f":"IFERROR('Device Resistance Tables'!D170,NA())","v":16458.910075978845},{"$f":"IFERROR('Device Resistance Tables'!F170,NA())","v":16705.793727118526},{"$f":"IFERROR(D183*($B$15/(Main!$N$31+D183)),NA())","v":2.05278309252959},{"$f":"IFERROR($B$16*($B$15/(Main!$N$31+D183)),NA())","v":1.2472169074704098},91.251922221274071,1.2472169074704097E-4,{"$f":"IFERROR(($B$15/(Main!$N$31+D183))^2*(Main!$N$31+D183)*1000,NA())","v":0.41158157946523521},-1.4999999999999967,1.4999999999999856,4.3163082428434585E-3,null,110,731.3,758,785.6,{"$f":"IFERROR(Q183*($B$15/(Main!$N$31+Q183)),NA())","v":0.23251533742331285},18.899999999999977,{"$f":"IFERROR(($B$15/(Main!$N$31+Q183))^2*(Main!$N$31+Q183)*1000,NA())","v":1.0122699386503065},-3.5224274406332516,3.6411609498680768,5.3796045358776023E-3]
[152,111,{"$f":"IFERROR('Device Resistance Tables'!C171,NA())","v":16302.281370306395},{"$f":"IFERROR('Device Resistance Tables'!D171,NA())","v":16550.539462239994},{"$f":"IFERROR('Device Resistance Tables'!F171,NA())","v":16798.797554173594},{"$f":"IFERROR(D184*($B$15/(Main!$N$31+D184)),NA())","v":2.057087401296219},{"$f":"IFERROR($B$16*($B$15/(Main!$N$31+D184)),NA())","v":1.242912598703781},91.629386261149193,1.242912598703781E-4,{"$f":"IFERROR(($B$15/(Main!$N$31+D184))^2*(Main!$N$31+D184)*1000,NA())","v":0.41016115757224769},-1.4999999999999984,1.4999999999999984,4.304308766629017E-3,null,111,713.5,739.7,766.8,{"$f":"IFERROR(Q184*($B$15/(Main!$N$31+Q184)),NA())","v":0.22728847174502079},18.299999999999955,{"$f":"IFERROR(($B$15/(Main!$N$31+Q184))^2*(Main!$N$31+Q184)*1000,NA())","v":1.0139948043241429},-3.5419764769501203,3.6636474246315949,5.2268656782920586E-3]
[153,112,{"$f":"IFERROR('Device Resistance Tables'!C172,NA())","v":16392.909125467329},{"$f":"IFERROR('Device Resistance Tables'!D172,NA())","v":16642.547335499828},{"$f":"IFERROR('Device Resistance Tables'!F172,NA())","v":16892.185545532324},{"$f":"IFERROR(D185*($B$15/(Main!$N$31+D185)),NA())","v":2.0613796990038864},{"$f":"IFERROR($B$16*($B$15/(Main!$N$31+D185)),NA())","v":1.2386203009961134},92.007873259834014,1.2386203009961134E-4,{"$f":"IFERROR(($B$15/(Main!$N$31+D185))^2*(Main!$N$31+D185)*1000,NA())","v":0.40874469932871732},-1.5000000000000098,1.4999999999999878,4.2922977076673696E-3,null,112,696.2,721.9,748.5,{"$f":"IFERROR(Q185*($B$15/(Main!$N$31+Q185)),NA())","v":0.22218729889292008},17.800000000000068,{"$f":"IFERROR(($B$15/(Main!$N$31+Q185))^2*(Main!$N$31+Q185)*1000,NA())","v":1.0156781913653363},-3.560049868402817,3.6847208754675198,5.1011728521007105E-3]
[154,113,{"$f":"IFERROR('Device Resistance Tables'!C173,NA())","v":16483.910703893525},{"$f":"IFERROR('Device Resistance Tables'!D173,NA())","v":16734.934724765},{"$f":"IFERROR('Device Resistance Tables'!F173,NA())","v":16985.958745636475},{"$f":"IFERROR(D186*($B$15/(Main!$N$31+D186)),NA())","v":2.0656599748705737},{"$f":"IFERROR($B$16*($B$15/(Main!$N$31+D186)),NA())","v":1.2343400251294261},92.387389265171805,1.2343400251294261E-4,{"$f":"IFERROR(($B$15/(Main!$N$31+D186))^2*(Main!$N$31+D186)*1000,NA())","v":0.40733220829271061},-1.4999999999999996,1.4999999999999996,4.2802758666873331E-3,null,113,679.3,704.6,730.8,{"$f":"IFERROR(Q186*($B$15/(Main!$N$31+Q186)),NA())","v":0.21721316069727031},17.299999999999955,{"$f":"IFERROR(($B$15/(Main!$N$31+Q186))^2*(Main!$N$31+Q186)*1000,NA())","v":1.0173196569699006},-3.5906897530513864,3.7184217996026017,4.9741381956497632E-3]
[155,114,{"$f":"IFERROR('Device Resistance Tables'!C174,NA())","v":16575.287125113598},{"$f":"IFERROR('Device Resistance Tables'!D174,NA())","v":16827.70266508995},{"$f":"IFERROR('Device Resistance Tables'!F174,NA())","v":17080.118205066297},{"$f":"IFERROR(D187*($B$15/(Main!$N$31+D187)),NA())","v":2.0699282189025499},{"$f":"IFERROR($B$16*($B$15/(Main!$N$31+D187)),NA())","v":1.2300717810974497},92.76794032494945,1.2300717810974498E-4,{"$f":"IFERROR(($B$15/(Main!$N$31+D187))^2*(Main!$N$31+D187)*1000,NA())","v":0.40592368776215837},-1.500000000000012,1.4999999999999905,4.2682440319761206E-3,null,114,663,687.8,713.5,{"$f":"IFERROR(Q187*($B$15/(Main!$N$31+Q187)),NA())","v":0.2123673721439398},16.800000000000068,{"$f":"IFERROR(($B$15/(Main!$N$31+Q187))^2*(Main!$N$31+Q187)*1000,NA())","v":1.0189187671924997},-3.605699331200924,3.7365513230590355,4.8457885533305101E-3]
[156,115,{"$f":"IFERROR('Device Resistance Tables'!C175,NA())","v":16667.039414613282},{"$f":"IFERROR('Device Resistance Tables'!D175,NA())","v":16920.852197576936},{"$f":"IFERROR('Device Resistance Tables'!F175,NA())","v":17174.66498054059},{"$f":"IFERROR(D188*($B$15/(Main!$N$31+D188)),NA())","v":2.0741844218820744},{"$f":"IFERROR($B$16*($B$15/(Main!$N$31+D188)),NA())","v":1.2258155781179254},93.149532486986573,1.2258155781179255E-4,{"$f":"IFERROR(($B$15/(Main!$N$31+D188))^2*(Main!$N$31+D188)*1000,NA())","v":0.40451914077891538},-1.5000000000000009,1.5000000000000009,4.2562029795245593E-3,null,115,647.1,671.5,696.8,{"$f":"IFERROR(Q188*($B$15/(Main!$N$31+Q188)),NA())","v":0.20765122054069249},16.299999999999955,{"$f":"IFERROR(($B$15/(Main!$N$31+Q188))^2*(Main!$N$31+Q188)*1000,NA())","v":1.020475097221571},-3.6336559940431834,3.7676842889054289,4.716151603247315E-3]
[157,116,{"$f":"IFERROR('Device Resistance Tables'!C176,NA())","v":16759.168603835398},{"$f":"IFERROR('Device Resistance Tables'!D176,NA())","v":17014.384369376039},{"$f":"IFERROR('Device Resistance Tables'!F176,NA())","v":17269.600134916676},{"$f":"IFERROR(D189*($B$15/(Main!$N$31+D189)),NA())","v":2.0784285753552334},{"$f":"IFERROR($B$16*($B$15/(Main!$N$31+D189)),NA())","v":1.2215714246447664},93.532171799102798,1.2215714246447665E-4,{"$f":"IFERROR(($B$15/(Main!$N$31+D189))^2*(Main!$N$31+D189)*1000,NA())","v":0.40311857013277297},-1.5000000000000018,1.4999999999999802,4.2441534731589847E-3,null,116,631.6,655.6,680.5,{"$f":"IFERROR(Q189*($B$15/(Main!$N$31+Q189)),NA())","v":0.20303690078456399},15.899999999999977,{"$f":"IFERROR(($B$15/(Main!$N$31+Q189))^2*(Main!$N$31+Q189)*1000,NA())","v":1.021997822741094},-3.6607687614399023,3.798047589993895,4.6143197561284988E-3]
[158,117,{"$f":"IFERROR('Device Resistance Tables'!C177,NA())","v":16851.675730179857},{"$f":"IFERROR('Device Resistance Tables'!D177,NA())","v":17108.300233685135},{"$f":"IFERROR('Device Resistance Tables'!F177,NA())","v":17364.924737190409},{"$f":"IFERROR(D190*($B$15/(Main!$N$31+D190)),NA())","v":2.0826606716199136},{"$f":"IFERROR($B$16*($B$15/(Main!$N$31+D190)),NA())","v":1.2173393283800862},93.915864309095923,1.2173393283800863E-4,{"$f":"IFERROR(($B$15/(Main!$N$31+D190))^2*(Main!$N$31+D190)*1000,NA())","v":0.40172197836542844},-1.5000000000000056,1.4999999999999842,4.2320962646802407E-3,null,117,616.6,640.20000000000005,664.6,{"$f":"IFERROR(Q190*($B$15/(Main!$N$31+Q190)),NA())","v":0.19855453844852539},15.399999999999977,{"$f":"IFERROR(($B$15/(Main!$N$31+Q190))^2*(Main!$N$31+Q190)*1000,NA())","v":1.0234770023119864},-3.6863480162449265,3.8113089659481374,4.4823623360386033E-3]
[159,118,{"$f":"IFERROR('Device Resistance Tables'!C178,NA())","v":16944.561837003686},{"$f":"IFERROR('Device Resistance Tables'!D178,NA())","v":17202.600849749935},{"$f":"IFERROR('Device Resistance Tables'!F178,NA())","v":17460.639862496184},{"$f":"IFERROR(D191*($B$15/(Main!$N$31+D191)),NA())","v":2.086880703713911},{"$f":"IFERROR($B$16*($B$15/(Main!$N$31+D191)),NA())","v":1.2131192962860886},94.300616064800124,1.2131192962860885E-4,{"$f":"IFERROR(($B$15/(Main!$N$31+D191))^2*(Main!$N$31+D191)*1000,NA())","v":0.40032936777440925},-1.4999999999999987,1.4999999999999987,4.2200320939973501E-3,null,118,602,625.20000000000005,649.20000000000005,{"$f":"IFERROR(Q191*($B$15/(Main!$N$31+Q191)),NA())","v":0.19417610962617171},15,{"$f":"IFERROR(($B$15/(Main!$N$31+Q191))^2*(Main!$N$31+Q191)*1000,NA())","v":1.0249218838233631},-3.7108125399872112,3.8387715930902107,4.3784288223536749E-3]
[160,119,{"$f":"IFERROR('Device Resistance Tables'!C179,NA())","v":17037.827973620981},{"$f":"IFERROR('Device Resistance Tables'!D179,NA())","v":17297.287282863941},{"$f":"IFERROR('Device Resistance Tables'!F179,NA())","v":17556.746592106898},{"$f":"IFERROR(D192*($B$15/(Main!$N$31+D192)),NA())","v":2.0910886654031744},{"$f":"IFERROR($B$16*($B$15/(Main!$N$31+D192)),NA())","v":1.2089113345968254},94.686433114005922,1.2089113345968255E-4,{"$f":"IFERROR(($B$15/(Main!$N$31+D192))^2*(Main!$N$31+D192)*1000,NA())","v":0.39894074041695238},-1.5000000000000078,1.4999999999999867,4.2079616892634064E-3,null,119,587.79999999999995,610.6,634.20000000000005,{"$f":"IFERROR(Q192*($B$15/(Main!$N$31+Q192)),NA())","v":0.18990255027990877},14.600000000000023,{"$f":"IFERROR(($B$15/(Main!$N$31+Q192))^2*(Main!$N$31+Q192)*1000,NA())","v":1.0263321584076299},-3.7340320995742005,3.8650507697346912,4.2735593462629451E-3]
[161,120,{"$f":"IFERROR('Device Resistance Tables'!C180,NA())","v":17131.475195302959},{"$f":"IFERROR('Device Resistance Tables'!D180,NA())","v":17392.360604368485},{"$f":"IFERROR('Device Resistance Tables'!F180,NA())","v":17653.246013434011},{"$f":"IFERROR(D193*($B$15/(Main!$N$31+D193)),NA())","v":2.0952845511701823},{"$f":"IFERROR($B$16*($B$15/(Main!$N$31+D193)),NA())","v":1.204715448829818},95.073321504543856,1.204715448829818E-4,{"$f":"IFERROR(($B$15/(Main!$N$31+D193))^2*(Main!$N$31+D193)*1000,NA())","v":0.39755609811383991},-1.499999999999992,{"$f":"IFERROR(((E193-D193)/D193)*100,NA())","v":1.499999999999992},4.1958857670079119E-3,null,120,574,596.4,619.6,{"$f":"IFERROR(Q193*($B$15/(Main!$N$31+Q193)),NA())","v":0.18573477784908082},14.200000000000045,{"$f":"IFERROR(($B$15/(Main!$N$31+Q193))^2*(Main!$N$31+Q193)*1000,NA())","v":1.0277075233098034},-3.7558685446009354,3.8900067069081232,4.1677724308279429E-3]
[162,121,{"$f":"IFERROR('Device Resistance Tables'!C181,NA())","v":17225.504563277904},{"$f":"IFERROR('Device Resistance Tables'!D181,NA())","v":17487.821891652693},{"$f":"IFERROR('Device Resistance Tables'!F181,NA())","v":17750.139220027482},{"$f":"IFERROR(D194*($B$15/(Main!$N$31+D194)),NA())","v":2.0994683562024532},{"$f":"IFERROR($B$16*($B$15/(Main!$N$31+D194)),NA())","v":1.2005316437975468},{"$f":"IFERROR(D194-D193,NA())","v":95.461287284208083},1.2005316437975468E-4,{"$f":"IFERROR(($B$15/(Main!$N$31+D194))^2*(Main!$N$31+D194)*1000,NA())","v":0.39617544245319042},-1.4999999999999931,1.4999999999999931,4.1838050322708931E-3,null,121,560.6,582.6,605.4,{"$f":"IFERROR(Q194*($B$15/(Main!$N$31+Q194)),NA())","v":0.18167369077542378},13.799999999999955,{"$f":"IFERROR(($B$15/(Main!$N$31+Q194))^2*(Main!$N$31+Q194)*1000,NA())","v":1.0290476820441099},-3.7761757638173701,3.913491246137994,4.0610870736570437E-3]
[163,122,{"$f":"IFERROR('Device Resistance Tables'!C182,NA())","v":17319.917144731226},{"$f":"IFERROR('Device Resistance Tables'!D182,NA())","v":17583.672228153529},{"$f":"IFERROR('Device Resistance Tables'!F182,NA())","v":17847.42731157583},{"$f":"IFERROR(D195*($B$15/(Main!$N$31+D195)),NA())","v":2.1036400763811915},{"$f":"IFERROR($B$16*($B$15/(Main!$N$31+D195)),NA())","v":1.1963599236188083},95.85033650083642,1.1963599236188082E-4,{"$f":"IFERROR(($B$15/(Main!$N$31+D195))^2*(Main!$N$31+D195)*1000,NA())","v":0.39479877479420666},-1.5000000000000053,1.4999999999999845,4.1717201787383473E-3,null,122,547.6,569.20000000000005,591.6,{"$f":"IFERROR(Q195*($B$15/(Main!$N$31+Q195)),NA())","v":0.17772016803542368},13.399999999999977,{"$f":"IFERROR(($B$15/(Main!$N$31+Q195))^2*(Main!$N$31+Q195)*1000,NA())","v":1.0303523445483103},-3.7947997189037284,3.9353478566408953,3.9535227400001038E-3]
[164,123,{"$f":"IFERROR('Device Resistance Tables'!C183,NA())","v":17414.714012805405},{"$f":"IFERROR('Device Resistance Tables'!D183,NA())","v":17679.912703355742},{"$f":"IFERROR('Device Resistance Tables'!F183,NA())","v":17945.111393906074},{"$f":"IFERROR(D196*($B$15/(Main!$N$31+D196)),NA())","v":2.1077997082700595},{"$f":"IFERROR($B$16*($B$15/(Main!$N$31+D196)),NA())","v":1.1922002917299404},96.24047520221211,1.1922002917299404E-4,{"$f":"IFERROR(($B$15/(Main!$N$31+D196))^2*(Main!$N$31+D196)*1000,NA())","v":0.39342609627088032},-1.5000000000000011,1.4999999999999805,4.1596318888679207E-3,null,123,534.9,556.20000000000005,578.20000000000005,{"$f":"IFERROR(Q196*($B$15/(Main!$N$31+Q196)),NA())","v":0.17387506868001742},13,{"$f":"IFERROR(($B$15/(Main!$N$31+Q196))^2*(Main!$N$31+Q196)*1000,NA())","v":1.031621227335594},-3.8295577130528704,3.9554117224020136,3.8450993554062507E-3]
[165,124,{"$f":"IFERROR('Device Resistance Tables'!C184,NA())","v":17509.896246600038},{"$f":"IFERROR('Device Resistance Tables'!D184,NA())","v":17776.544412791918},{"$f":"IFERROR('Device Resistance Tables'!F184,NA())","v":18043.192578983795},{"$f":"IFERROR(D197*($B$15/(Main!$N$31+D197)),NA())","v":2.1119472491040847},{"$f":"IFERROR($B$16*($B$15/(Main!$N$31+D197)),NA())","v":1.1880527508959151},96.631709436176607,1.188052750895915E-4,{"$f":"IFERROR(($B$15/(Main!$N$31+D197))^2*(Main!$N$31+D197)*1000,NA())","v":0.39205740779565196},-1.5000000000000102,1.4999999999999898,4.1475408340252429E-3,null,124,522.6,543.5,565.1,{"$f":"IFERROR(Q197*($B$15/(Main!$N$31+Q197)),NA())","v":0.17010954616588417},12.700000000000045,{"$f":"IFERROR(($B$15/(Main!$N$31+Q197))^2*(Main!$N$31+Q197)*1000,NA())","v":1.032863849765258},-3.8454461821527097,3.9742410303587898,3.7655225141332571E-3]
[166,125,{"$f":"IFERROR('Device Resistance Tables'!C185,NA())","v":17605.464931171799},{"$f":"IFERROR('Device Resistance Tables'!D185,NA())","v":17873.568458042435},{"$f":"IFERROR('Device Resistance Tables'!F185,NA())","v":18141.671984913071},{"$f":"IFERROR(D198*($B$15/(Main!$N$31+D198)),NA())","v":2.1160826967786961},{"$f":"IFERROR($B$16*($B$15/(Main!$N$31+D198)),NA())","v":1.183917303221304},97.024045250516792,1.1839173032213041E-4,{"$f":"IFERROR(($B$15/(Main!$N$31+D198))^2*(Main!$N$31+D198)*1000,NA())","v":0.39069271006303025},-1.4999999999999993,1.4999999999999993,4.1354476746113811E-3,null,125,510.6,531.1,552.4,{"$f":"IFERROR(Q198*($B$15/(Main!$N$31+Q198)),NA())","v":0.16642421019646569},12.399999999999977,{"$f":"IFERROR(($B$15/(Main!$N$31+Q198))^2*(Main!$N$31+Q198)*1000,NA())","v":1.034080010635166},-3.8599133873093576,4.010544153643373,3.685335969418474E-3]
[167,126,{"$f":"IFERROR('Device Resistance Tables'!C186,NA())","v":{"$error":"#N/A"}},{"$f":"IFERROR('Device Resistance Tables'!D186,NA())","v":{"$error":"#N/A"}},{"$f":"IFERROR('Device Resistance Tables'!F186,NA())","v":{"$error":"#N/A"}},{"$f":"IFERROR(D199*($B$15/(Main!$N$31+D199)),NA())","v":{"$error":"#N/A"}},{"$f":"IFERROR($B$16*($B$15/(Main!$N$31+D199)),NA())","v":{"$error":"#N/A"}},{"$error":"#N/A"},{"$f":"IFERROR($F199/$D199,NA())","v":{"$error":"#N/A"}},{"$f":"IFERROR(($B$15/(Main!$N$31+D199))^2*(Main!$N$31+D199)*1000,NA())","v":{"$error":"#N/A"}},{"$error":"#N/A"},{"$error":"#N/A"},{"$error":"#N/A"},null,126,{"$error":"#N/A"},{"$error":"#N/A"},{"$error":"#N/A"},{"$f":"IFERROR(Q199*($B$15/(Main!$N$31+Q199)),NA())","v":{"$error":"#N/A"}},{"$error":"#N/A"},{"$f":"IFERROR(($B$15/(Main!$N$31+Q199))^2*(Main!$N$31+Q199)*1000,NA())","v":{"$error":"#N/A"}},{"$error":"#N/A"},{"$error":"#N/A"},{"$error":"#N/A"}]
[168,127,{"$f":"IFERROR('Device Resistance Tables'!C187,NA())","v":{"$error":"#N/A"}},{"$f":"IFERROR('Device Resistance Tables'!D187,NA())","v":{"$error":"#N/A"}},{"$f":"IFERROR('Device Resistance Tables'!F187,NA())","v":{"$error":"#N/A"}},{"$f":"IFERROR(D200*($B$15/(Main!$N$31+D200)),NA())","v":{"$error":"#N/A"}},{"$f":"IFERROR($B$16*($B$15/(Main!$N$31+D200)),NA())","v":{"$error":"#N/A"}},{"$error":"#N/A"},{"$f":"IFERROR($F200/$D200,NA())","v":{"$error":"#N/A"}},{"$f":"IFERROR(($B$15/(Main!$N$31+D200))^2*(Main!$N$31+D200)*1000,NA())","v":{"$error":"#N/A"}},{"$error":"#N/A"},{"$error":"#N/A"},{"$error":"#N/A"},null,127,{"$error":"#N/A"},{"$error":"#N/A"},{"$error":"#N/A"},{"$f":"IFERROR(Q200*($B$15/(Main!$N$31+Q200)),NA())","v":{"$error":"#N/A"}},{"$error":"#N/A"},{"$f":"IFERROR(($B$15/(Main!$N$31+Q200))^2*(Main!$N$31+Q200)*1000,NA())","v":{"$error":"#N/A"}},{"$error":"#N/A"},{"$error":"#N/A"},{"$error":"#N/A"}]
[169,128,{"$f":"IFERROR('Device Resistance Tables'!C188,NA())","v":{"$error":"#N/A"}},{"$f":"IFERROR('Device Resistance Tables'!D188,NA())","v":{"$error":"#N/A"}},{"$f":"IFERROR('Device Resistance Tables'!F188,NA())","v":{"$error":"#N/A"}},{"$f":"IFERROR(D201*($B$15/(Main!$N$31+D201)),NA())","v":{"$error":"#N/A"}},{"$f":"IFERROR($B$16*($B$15/(Main!$N$31+D201)),NA())","v":{"$error":"#N/A"}},{"$error":"#N/A"},{"$error":"#N/A"},{"$f":"IFERROR(($B$15/(Main!$N$31+D201))^2*(Main!$N$31+D201)*1000,NA())","v":{"$error":"#N/A"}},{"$error":"#N/A"},{"$error":"#N/A"},{"$error":"#N/A"},null,128,{"$error":"#N/A"},{"$error":"#N/A"},{"$error":"#N/A"},{"$f":"IFERROR(Q201*($B$15/(Main!$N$31+Q201)),NA())","v":{"$error":"#N/A"}},{"$error":"#N/A"},{"$f":"IFERROR(($B$15/(Main!$N$31+Q201))^2*(Main!$N$31+Q201)*1000,NA())","v":{"$error":"#N/A"}},{"$error":"#N/A"},{"$error":"#N/A"},{"$error":"#N/A"}]
[170,129,{"$f":"IFERROR('Device Resistance Tables'!C189,NA())","v":{"$error":"#N/A"}},{"$f":"IFERROR('Device Resistance Tables'!D189,NA())","v":{"$error":"#N/A"}},{"$f":"IFERROR('Device Resistance Tables'!F189,NA())","v":{"$error":"#N/A"}},{"$f":"IFERROR(D202*($B$15/(Main!$N$31+D202)),NA())","v":{"$error":"#N/A"}},{"$f":"IFERROR($B$16*($B$15/(Main!$N$31+D202)),NA())","v":{"$error":"#N/A"}},{"$error":"#N/A"},{"$error":"#N/A"},{"$f":"IFERROR(($B$15/(Main!$N$31+D202))^2*(Main!$N$31+D202)*1000,NA())","v":{"$error":"#N/A"}},{"$error":"#N/A"},{"$error":"#N/A"},{"$error":"#N/A"},null,129,{"$error":"#N/A"},{"$error":"#N/A"},{"$error":"#N/A"},{"$f":"IFERROR(Q202*($B$15/(Main!$N$31+Q202)),NA())","v":{"$error":"#N/A"}},{"$error":"#N/A"},{"$f":"IFERROR(($B$15/(Main!$N$31+Q202))^2*(Main!$N$31+Q202)*1000,NA())","v":{"$error":"#N/A"}},{"$error":"#N/A"},{"$error":"#N/A"},{"$error":"#N/A"}]
[171,130,{"$f":"IFERROR('Device Resistance Tables'!C190,NA())","v":{"$error":"#N/A"}},{"$f":"IFERROR('Device Resistance Tables'!D190,NA())","v":{"$error":"#N/A"}},{"$f":"IFERROR('Device Resistance Tables'!F190,NA())","v":{"$error":"#N/A"}},{"$f":"IFERROR(D203*($B$15/(Main!$N$31+D203)),NA())","v":{"$error":"#N/A"}},{"$f":"IFERROR($B$16*($B$15/(Main!$N$31+D203)),NA())","v":{"$error":"#N/A"}},{"$error":"#N/A"},{"$error":"#N/A"},{"$f":"IFERROR(($B$15/(Main!$N$31+D203))^2*(Main!$N$31+D203)*1000,NA())","v":{"$error":"#N/A"}},{"$error":"#N/A"},{"$error":"#N/A"},{"$error":"#N/A"},null,130,{"$error":"#N/A"},{"$error":"#N/A"},{"$error":"#N/A"},{"$f":"IFERROR(Q203*($B$15/(Main!$N$31+Q203)),NA())","v":{"$error":"#N/A"}},{"$error":"#N/A"},{"$f":"IFERROR(($B$15/(Main!$N$31+Q203))^2*(Main!$N$31+Q203)*1000,NA())","v":{"$error":"#N/A"}},{"$error":"#N/A"},{"$error":"#N/A"},{"$error":"#N/A"}]
[172,131,{"$f":"IFERROR('Device Resistance Tables'!C191,NA())","v":{"$error":"#N/A"}},{"$f":"IFERROR('Device Resistance Tables'!D191,NA())","v":{"$error":"#N/A"}},{"$f":"IFERROR('Device Resistance Tables'!F191,NA())","v":{"$error":"#N/A"}},{"$f":"IFERROR(D204*($B$15/(Main!$N$31+D204)),NA())","v":{"$error":"#N/A"}},{"$f":"IFERROR($B$16*($B$15/(Main!$N$31+D204)),NA())","v":{"$error":"#N/A"}},{"$error":"#N/A"},{"$error":"#N/A"},{"$f":"IFERROR(($B$15/(Main!$N$31+D204))^2*(Main!$N$31+D204)*1000,NA())","v":{"$error":"#N/A"}},{"$error":"#N/A"},{"$error":"#N/A"},{"$error":"#N/A"},null,131,{"$error":"#N/A"},{"$error":"#N/A"},{"$error":"#N/A"},{"$f":"IFERROR(Q204*($B$15/(Main!$N$31+Q204)),NA())","v":{"$error":"#N/A"}},{"$error":"#N/A"},{"$f":"IFERROR(($B$15/(Main!$N$31+Q204))^2*(Main!$N$31+Q204)*1000,NA())","v":{"$error":"#N/A"}},{"$error":"#N/A"},{"$error":"#N/A"},{"$error":"#N/A"}]
[173,132,{"$f":"IFERROR('Device Resistance Tables'!C192,NA())","v":{"$error":"#N/A"}},{"$f":"IFERROR('Device Resistance Tables'!D192,NA())","v":{"$error":"#N/A"}},{"$f":"IFERROR('Device Resistance Tables'!F192,NA())","v":{"$error":"#N/A"}},{"$f":"IFERROR(D205*($B$15/(Main!$N$31+D205)),NA())","v":{"$error":"#N/A"}},{"$f":"IFERROR($B$16*($B$15/(Main!$N$31+D205)),NA())","v":{"$error":"#N/A"}},{"$error":"#N/A"},{"$error":"#N/A"},{"$f":"IFERROR(($B$15/(Main!$N$31+D205))^2*(Main!$N$31+D205)*1000,NA())","v":{"$error":"#N/A"}},{"$error":"#N/A"},{"$error":"#N/A"},{"$error":"#N/A"},null,132,{"$error":"#N/A"},{"$error":"#N/A"},{"$error":"#N/A"},{"$f":"IFERROR(Q205*($B$15/(Main!$N$31+Q205)),NA())","v":{"$error":"#N/A"}},{"$error":"#N/A"},{"$f":"IFERROR(($B$15/(Main!$N$31+Q205))^2*(Main!$N$31+Q205)*1000,NA())","v":{"$error":"#N/A"}},{"$error":"#N/A"},{"$error":"#N/A"},{"$error":"#N/A"}]
[174,133,{"$f":"IFERROR('Device Resistance Tables'!C193,NA())","v":{"$error":"#N/A"}},{"$f":"IFERROR('Device Resistance Tables'!D193,NA())","v":{"$error":"#N/A"}},{"$f":"IFERROR('Device Resistance Tables'!F193,NA())","v":{"$error":"#N/A"}},{"$f":"IFERROR(D206*($B$15/(Main!$N$31+D206)),NA())","v":{"$error":"#N/A"}},{"$f":"IFERROR($B$16*($B$15/(Main!$N$31+D206)),NA())","v":{"$error":"#N/A"}},{"$error":"#N/A"},{"$error":"#N/A"},{"$f":"IFERROR(($B$15/(Main!$N$31+D206))^2*(Main!$N$31+D206)*1000,NA())","v":{"$error":"#N/A"}},{"$error":"#N/A"},{"$error":"#N/A"},{"$error":"#N/A"},null,133,{"$error":"#N/A"},{"$error":"#N/A"},{"$error":"#N/A"},{"$f":"IFERROR(Q206*($B$15/(Main!$N$31+Q206)),NA())","v":{"$error":"#N/A"}},{"$error":"#N/A"},{"$f":"IFERROR(($B$15/(Main!$N$31+Q206))^2*(Main!$N$31+Q206)*1000,NA())","v":{"$error":"#N/A"}},{"$error":"#N/A"},{"$error":"#N/A"},{"$error":"#N/A"}]
[175,134,{"$f":"IFERROR('Device Resistance Tables'!C194,NA())","v":{"$error":"#N/A"}},{"$f":"IFERROR('Device Resistance Tables'!D194,NA())","v":{"$error":"#N/A"}},{"$f":"IFERROR('Device Resistance Tables'!F194,NA())","v":{"$error":"#N/A"}},{"$f":"IFERROR(D207*($B$15/(Main!$N$31+D207)),NA())","v":{"$error":"#N/A"}},{"$f":"IFERROR($B$16*($B$15/(Main!$N$31+D207)),NA())","v":{"$error":"#N/A"}},{"$error":"#N/A"},{"$error":"#N/A"},{"$f":"IFERROR(($B$15/(Main!$N$31+D207))^2*(Main!$N$31+D207)*1000,NA())","v":{"$error":"#N/A"}},{"$error":"#N/A"},{"$error":"#N/A"},{"$error":"#N/A"},null,134,{"$error":"#N/A"},{"$error":"#N/A"},{"$error":"#N/A"},{"$f":"IFERROR(Q207*($B$15/(Main!$N$31+Q207)),NA())","v":{"$error":"#N/A"}},{"$error":"#N/A"},{"$f":"IFERROR(($B$15/(Main!$N$31+Q207))^2*(Main!$N$31+Q207)*1000,NA())","v":{"$error":"#N/A"}},{"$error":"#N/A"},{"$error":"#N/A"},{"$error":"#N/A"}]
[176,135,{"$f":"IFERROR('Device Resistance Tables'!C195,NA())","v":{"$error":"#N/A"}},{"$f":"IFERROR('Device Resistance Tables'!D195,NA())","v":{"$error":"#N/A"}},{"$f":"IFERROR('Device Resistance Tables'!F195,NA())","v":{"$error":"#N/A"}},{"$f":"IFERROR(D208*($B$15/(Main!$N$31+D208)),NA())","v":{"$error":"#N/A"}},{"$f":"IFERROR($B$16*($B$15/(Main!$N$31+D208)),NA())","v":{"$error":"#N/A"}},{"$error":"#N/A"},{"$error":"#N/A"},{"$f":"IFERROR(($B$15/(Main!$N$31+D208))^2*(Main!$N$31+D208)*1000,NA())","v":{"$error":"#N/A"}},{"$error":"#N/A"},{"$error":"#N/A"},{"$error":"#N/A"},null,135,{"$error":"#N/A"},{"$error":"#N/A"},{"$error":"#N/A"},{"$f":"IFERROR(Q208*($B$15/(Main!$N$31+Q208)),NA())","v":{"$error":"#N/A"}},{"$error":"#N/A"},{"$f":"IFERROR(($B$15/(Main!$N$31+Q208))^2*(Main!$N$31+Q208)*1000,NA())","v":{"$error":"#N/A"}},{"$error":"#N/A"},{"$error":"#N/A"},{"$error":"#N/A"}]
[177,136,{"$f":"IFERROR('Device Resistance Tables'!C196,NA())","v":{"$error":"#N/A"}},{"$f":"IFERROR('Device Resistance Tables'!D196,NA())","v":{"$error":"#N/A"}},{"$f":"IFERROR('Device Resistance Tables'!F196,NA())","v":{"$error":"#N/A"}},{"$f":"IFERROR(D209*($B$15/(Main!$N$31+D209)),NA())","v":{"$error":"#N/A"}},{"$f":"IFERROR($B$16*($B$15/(Main!$N$31+D209)),NA())","v":{"$error":"#N/A"}},{"$error":"#N/A"},{"$error":"#N/A"},{"$f":"IFERROR(($B$15/(Main!$N$31+D209))^2*(Main!$N$31+D209)*1000,NA())","v":{"$error":"#N/A"}},{"$error":"#N/A"},{"$error":"#N/A"},{"$error":"#N/A"},null,136,{"$error":"#N/A"},{"$error":"#N/A"},{"$error":"#N/A"},{"$f":"IFERROR(Q209*($B$15/(Main!$N$31+Q209)),NA())","v":{"$error":"#N/A"}},{"$error":"#N/A"},{"$f":"IFERROR(($B$15/(Main!$N$31+Q209))^2*(Main!$N$31+Q209)*1000,NA())","v":{"$error":"#N/A"}},{"$error":"#N/A"},{"$error":"#N/A"},{"$error":"#N/A"}]
[178,137,{"$f":"IFERROR('Device Resistance Tables'!C197,NA())","v":{"$error":"#N/A"}},{"$f":"IFERROR('Device Resistance Tables'!D197,NA())","v":{"$error":"#N/A"}},{"$f":"IFERROR('Device Resistance Tables'!F197,NA())","v":{"$error":"#N/A"}},{"$f":"IFERROR(D210*($B$15/(Main!$N$31+D210)),NA())","v":{"$error":"#N/A"}},{"$f":"IFERROR($B$16*($B$15/(Main!$N$31+D210)),NA())","v":{"$error":"#N/A"}},{"$error":"#N/A"},{"$error":"#N/A"},{"$f":"IFERROR(($B$15/(Main!$N$31+D210))^2*(Main!$N$31+D210)*1000,NA())","v":{"$error":"#N/A"}},{"$error":"#N/A"},{"$error":"#N/A"},{"$error":"#N/A"},null,137,{"$error":"#N/A"},{"$error":"#N/A"},{"$error":"#N/A"},{"$f":"IFERROR(Q210*($B$15/(Main!$N$31+Q210)),NA())","v":{"$error":"#N/A"}},{"$error":"#N/A"},{"$f":"IFERROR(($B$15/(Main!$N$31+Q210))^2*(Main!$N$31+Q210)*1000,NA())","v":{"$error":"#N/A"}},{"$error":"#N/A"},{"$error":"#N/A"},{"$error":"#N/A"}]
[179,138,{"$f":"IFERROR('Device Resistance Tables'!C198,NA())","v":{"$error":"#N/A"}},{"$f":"IFERROR('Device Resistance Tables'!D198,NA())","v":{"$error":"#N/A"}},{"$f":"IFERROR('Device Resistance Tables'!F198,NA())","v":{"$error":"#N/A"}},{"$f":"IFERROR(D211*($B$15/(Main!$N$31+D211)),NA())","v":{"$error":"#N/A"}},{"$f":"IFERROR($B$16*($B$15/(Main!$N$31+D211)),NA())","v":{"$error":"#N/A"}},{"$error":"#N/A"},{"$error":"#N/A"},{"$f":"IFERROR(($B$15/(Main!$N$31+D211))^2*(Main!$N$31+D211)*1000,NA())","v":{"$error":"#N/A"}},{"$error":"#N/A"},{"$error":"#N/A"},{"$error":"#N/A"},null,138,{"$error":"#N/A"},{"$error":"#N/A"},{"$error":"#N/A"},{"$f":"IFERROR(Q211*($B$15/(Main!$N$31+Q211)),NA())","v":{"$error":"#N/A"}},{"$error":"#N/A"},{"$f":"IFERROR(($B$15/(Main!$N$31+Q211))^2*(Main!$N$31+Q211)*1000,NA())","v":{"$error":"#N/A"}},{"$error":"#N/A"},{"$error":"#N/A"},{"$error":"#N/A"}]
[180,139,{"$f":"IFERROR('Device Resistance Tables'!C199,NA())","v":{"$error":"#N/A"}},{"$f":"IFERROR('Device Resistance Tables'!D199,NA())","v":{"$error":"#N/A"}},{"$f":"IFERROR('Device Resistance Tables'!F199,NA())","v":{"$error":"#N/A"}},{"$f":"IFERROR(D212*($B$15/(Main!$N$31+D212)),NA())","v":{"$error":"#N/A"}},{"$f":"IFERROR($B$16*($B$15/(Main!$N$31+D212)),NA())","v":{"$error":"#N/A"}},{"$error":"#N/A"},{"$error":"#N/A"},{"$f":"IFERROR(($B$15/(Main!$N$31+D212))^2*(Main!$N$31+D212)*1000,NA())","v":{"$error":"#N/A"}},{"$error":"#N/A"},{"$error":"#N/A"},{"$error":"#N/A"},null,139,{"$error":"#N/A"},{"$error":"#N/A"},{"$error":"#N/A"},{"$f":"IFERROR(Q212*($B$15/(Main!$N$31+Q212)),NA())","v":{"$error":"#N/A"}},{"$error":"#N/A"},{"$f":"IFERROR(($B$15/(Main!$N$31+Q212))^2*(Main!$N$31+Q212)*1000,NA())","v":{"$error":"#N/A"}},{"$error":"#N/A"},{"$error":"#N/A"},{"$error":"#N/A"}]
[181,140,{"$f":"IFERROR('Device Resistance Tables'!C200,NA())","v":{"$error":"#N/A"}},{"$f":"IFERROR('Device Resistance Tables'!D200,NA())","v":{"$error":"#N/A"}},{"$f":"IFERROR('Device Resistance Tables'!F200,NA())","v":{"$error":"#N/A"}},{"$f":"IFERROR(D213*($B$15/(Main!$N$31+D213)),NA())","v":{"$error":"#N/A"}},{"$f":"IFERROR($B$16*($B$15/(Main!$N$31+D213)),NA())","v":{"$error":"#N/A"}},{"$error":"#N/A"},{"$error":"#N/A"},{"$f":"IFERROR(($B$15/(Main!$N$31+D213))^2*(Main!$N$31+D213)*1000,NA())","v":{"$error":"#N/A"}},{"$error":"#N/A"},{"$error":"#N/A"},{"$error":"#N/A"},null,140,{"$error":"#N/A"},{"$error":"#N/A"},{"$error":"#N/A"},{"$f":"IFERROR(Q213*($B$15/(Main!$N$31+Q213)),NA())","v":{"$error":"#N/A"}},{"$error":"#N/A"},{"$f":"IFERROR(($B$15/(Main!$N$31+Q213))^2*(Main!$N$31+Q213)*1000,NA())","v":{"$error":"#N/A"}},{"$error":"#N/A"},{"$error":"#N/A"},{"$error":"#N/A"}]
[182,141,{"$f":"IFERROR('Device Resistance Tables'!C201,NA())","v":{"$error":"#N/A"}},{"$f":"IFERROR('Device Resistance Tables'!D201,NA())","v":{"$error":"#N/A"}},{"$f":"IFERROR('Device Resistance Tables'!F201,NA())","v":{"$error":"#N/A"}},{"$f":"IFERROR(D214*($B$15/(Main!$N$31+D214)),NA())","v":{"$error":"#N/A"}},{"$f":"IFERROR($B$16*($B$15/(Main!$N$31+D214)),NA())","v":{"$error":"#N/A"}},{"$error":"#N/A"},{"$error":"#N/A"},{"$f":"IFERROR(($B$15/(Main!$N$31+D214))^2*(Main!$N$31+D214)*1000,NA())","v":{"$error":"#N/A"}},{"$error":"#N/A"},{"$error":"#N/A"},{"$error":"#N/A"},null,141,{"$error":"#N/A"},{"$error":"#N/A"},{"$error":"#N/A"},{"$f":"IFERROR(Q214*($B$15/(Main!$N$31+Q214)),NA())","v":{"$error":"#N/A"}},{"$error":"#N/A"},{"$f":"IFERROR(($B$15/(Main!$N$31+Q214))^2*(Main!$N$31+Q214)*1000,NA())","v":{"$error":"#N/A"}},{"$error":"#N/A"},{"$error":"#N/A"},{"$error":"#N/A"}]
[183,142,{"$f":"IFERROR('Device Resistance Tables'!C202,NA())","v":{"$error":"#N/A"}},{"$f":"IFERROR('Device Resistance Tables'!D202,NA())","v":{"$error":"#N/A"}},{"$f":"IFERROR('Device Resistance Tables'!F202,NA())","v":{"$error":"#N/A"}},{"$f":"IFERROR(D215*($B$15/(Main!$N$31+D215)),NA())","v":{"$error":"#N/A"}},{"$f":"IFERROR($B$16*($B$15/(Main!$N$31+D215)),NA())","v":{"$error":"#N/A"}},{"$error":"#N/A"},{"$error":"#N/A"},{"$f":"IFERROR(($B$15/(Main!$N$31+D215))^2*(Main!$N$31+D215)*1000,NA())","v":{"$error":"#N/A"}},{"$error":"#N/A"},{"$error":"#N/A"},{"$error":"#N/A"},null,142,{"$error":"#N/A"},{"$error":"#N/A"},{"$error":"#N/A"},{"$f":"IFERROR(Q215*($B$15/(Main!$N$31+Q215)),NA())","v":{"$error":"#N/A"}},{"$error":"#N/A"},{"$f":"IFERROR(($B$15/(Main!$N$31+Q215))^2*(Main!$N$31+Q215)*1000,NA())","v":{"$error":"#N/A"}},{"$error":"#N/A"},{"$error":"#N/A"},{"$error":"#N/A"}]
[184,143,{"$f":"IFERROR('Device Resistance Tables'!C203,NA())","v":{"$error":"#N/A"}},{"$f":"IFERROR('Device Resistance Tables'!D203,NA())","v":{"$error":"#N/A"}},{"$f":"IFERROR('Device Resistance Tables'!F203,NA())","v":{"$error":"#N/A"}},{"$f":"IFERROR(D216*($B$15/(Main!$N$31+D216)),NA())","v":{"$error":"#N/A"}},{"$f":"IFERROR($B$16*($B$15/(Main!$N$31+D216)),NA())","v":{"$error":"#N/A"}},{"$error":"#N/A"},{"$error":"#N/A"},{"$f":"IFERROR(($B$15/(Main!$N$31+D216))^2*(Main!$N$31+D216)*1000,NA())","v":{"$error":"#N/A"}},{"$error":"#N/A"},{"$error":"#N/A"},{"$error":"#N/A"},null,143,{"$error":"#N/A"},{"$error":"#N/A"},{"$error":"#N/A"},{"$f":"IFERROR(Q216*($B$15/(Main!$N$31+Q216)),NA())","v":{"$error":"#N/A"}},{"$error":"#N/A"},{"$f":"IFERROR(($B$15/(Main!$N$31+Q216))^2*(Main!$N$31+Q216)*1000,NA())","v":{"$error":"#N/A"}},{"$error":"#N/A"},{"$error":"#N/A"},{"$error":"#N/A"}]
[185,144,{"$f":"IFERROR('Device Resistance Tables'!C204,NA())","v":{"$error":"#N/A"}},{"$f":"IFERROR('Device Resistance Tables'!D204,NA())","v":{"$error":"#N/A"}},{"$f":"IFERROR('Device Resistance Tables'!F204,NA())","v":{"$error":"#N/A"}},{"$f":"IFERROR(D217*($B$15/(Main!$N$31+D217)),NA())","v":{"$error":"#N/A"}},{"$f":"IFERROR($B$16*($B$15/(Main!$N$31+D217)),NA())","v":{"$error":"#N/A"}},{"$error":"#N/A"},{"$error":"#N/A"},{"$f":"IFERROR(($B$15/(Main!$N$31+D217))^2*(Main!$N$31+D217)*1000,NA())","v":{"$error":"#N/A"}},{"$error":"#N/A"},{"$error":"#N/A"},{"$error":"#N/A"},null,144,{"$error":"#N/A"},{"$error":"#N/A"},{"$error":"#N/A"},{"$f":"IFERROR(Q217*($B$15/(Main!$N$31+Q217)),NA())","v":{"$error":"#N/A"}},{"$error":"#N/A"},{"$f":"IFERROR(($B$15/(Main!$N$31+Q217))^2*(Main!$N$31+Q217)*1000,NA())","v":{"$error":"#N/A"}},{"$error":"#N/A"},{"$error":"#N/A"},{"$error":"#N/A"}]
[186,145,{"$f":"IFERROR('Device Resistance Tables'!C205,NA())","v":{"$error":"#N/A"}},{"$f":"IFERROR('Device Resistance Tables'!D205,NA())","v":{"$error":"#N/A"}},{"$f":"IFERROR('Device Resistance Tables'!F205,NA())","v":{"$error":"#N/A"}},{"$f":"IFERROR(D218*($B$15/(Main!$N$31+D218)),NA())","v":{"$error":"#N/A"}},{"$f":"IFERROR($B$16*($B$15/(Main!$N$31+D218)),NA())","v":{"$error":"#N/A"}},{"$error":"#N/A"},{"$error":"#N/A"},{"$f":"IFERROR(($B$15/(Main!$N$31+D218))^2*(Main!$N$31+D218)*1000,NA())","v":{"$error":"#N/A"}},{"$error":"#N/A"},{"$error":"#N/A"},{"$error":"#N/A"},null,145,{"$error":"#N/A"},{"$error":"#N/A"},{"$error":"#N/A"},{"$f":"IFERROR(Q218*($B$15/(Main!$N$31+Q218)),NA())","v":{"$error":"#N/A"}},{"$error":"#N/A"},{"$f":"IFERROR(($B$15/(Main!$N$31+Q218))^2*(Main!$N$31+Q218)*1000,NA())","v":{"$error":"#N/A"}},{"$error":"#N/A"},{"$error":"#N/A"},{"$error":"#N/A"}]
[187,146,{"$f":"IFERROR('Device Resistance Tables'!C206,NA())","v":{"$error":"#N/A"}},{"$f":"IFERROR('Device Resistance Tables'!D206,NA())","v":{"$error":"#N/A"}},{"$f":"IFERROR('Device Resistance Tables'!F206,NA())","v":{"$error":"#N/A"}},{"$f":"IFERROR(D219*($B$15/(Main!$N$31+D219)),NA())","v":{"$error":"#N/A"}},{"$f":"IFERROR($B$16*($B$15/(Main!$N$31+D219)),NA())","v":{"$error":"#N/A"}},{"$error":"#N/A"},{"$error":"#N/A"},{"$f":"IFERROR(($B$15/(Main!$N$31+D219))^2*(Main!$N$31+D219)*1000,NA())","v":{"$error":"#N/A"}},{"$error":"#N/A"},{"$error":"#N/A"},{"$error":"#N/A"},null,146,{"$error":"#N/A"},{"$error":"#N/A"},{"$error":"#N/A"},{"$f":"IFERROR(Q219*($B$15/(Main!$N$31+Q219)),NA())","v":{"$error":"#N/A"}},{"$error":"#N/A"},{"$f":"IFERROR(($B$15/(Main!$N$31+Q219))^2*(Main!$N$31+Q219)*1000,NA())","v":{"$error":"#N/A"}},{"$error":"#N/A"},{"$error":"#N/A"},{"$error":"#N/A"}]
[188,147,{"$f":"IFERROR('Device Resistance Tables'!C207,NA())","v":{"$error":"#N/A"}},{"$f":"IFERROR('Device Resistance Tables'!D207,NA())","v":{"$error":"#N/A"}},{"$f":"IFERROR('Device Resistance Tables'!F207,NA())","v":{"$error":"#N/A"}},{"$f":"IFERROR(D220*($B$15/(Main!$N$31+D220)),NA())","v":{"$error":"#N/A"}},{"$f":"IFERROR($B$16*($B$15/(Main!$N$31+D220)),NA())","v":{"$error":"#N/A"}},{"$error":"#N/A"},{"$error":"#N/A"},{"$f":"IFERROR(($B$15/(Main!$N$31+D220))^2*(Main!$N$31+D220)*1000,NA())","v":{"$error":"#N/A"}},{"$error":"#N/A"},{"$error":"#N/A"},{"$error":"#N/A"},null,147,{"$error":"#N/A"},{"$error":"#N/A"},{"$error":"#N/A"},{"$f":"IFERROR(Q220*($B$15/(Main!$N$31+Q220)),NA())","v":{"$error":"#N/A"}},{"$error":"#N/A"},{"$f":"IFERROR(($B$15/(Main!$N$31+Q220))^2*(Main!$N$31+Q220)*1000,NA())","v":{"$error":"#N/A"}},{"$error":"#N/A"},{"$error":"#N/A"},{"$error":"#N/A"}]
[189,148,{"$f":"IFERROR('Device Resistance Tables'!C208,NA())","v":{"$error":"#N/A"}},{"$f":"IFERROR('Device Resistance Tables'!D208,NA())","v":{"$error":"#N/A"}},{"$f":"IFERROR('Device Resistance Tables'!F208,NA())","v":{"$error":"#N/A"}},{"$f":"IFERROR(D221*($B$15/(Main!$N$31+D221)),NA())","v":{"$error":"#N/A"}},{"$f":"IFERROR($B$16*($B$15/(Main!$N$31+D221)),NA())","v":{"$error":"#N/A"}},{"$error":"#N/A"},{"$error":"#N/A"},{"$f":"IFERROR(($B$15/(Main!$N$31+D221))^2*(Main!$N$31+D221)*1000,NA())","v":{"$error":"#N/A"}},{"$error":"#N/A"},{"$error":"#N/A"},{"$error":"#N/A"},null,148,{"$error":"#N/A"},{"$error":"#N/A"},{"$error":"#N/A"},{"$f":"IFERROR(Q221*($B$15/(Main!$N$31+Q221)),NA())","v":{"$error":"#N/A"}},{"$error":"#N/A"},{"$f":"IFERROR(($B$15/(Main!$N$31+Q221))^2*(Main!$N$31+Q221)*1000,NA())","v":{"$error":"#N/A"}},{"$error":"#N/A"},{"$error":"#N/A"},{"$error":"#N/A"}]
[190,149,{"$f":"IFERROR('Device Resistance Tables'!C209,NA())","v":{"$error":"#N/A"}},{"$f":"IFERROR('Device Resistance Tables'!D209,NA())","v":{"$error":"#N/A"}},{"$f":"IFERROR('Device Resistance Tables'!F209,NA())","v":{"$error":"#N/A"}},{"$f":"IFERROR(D222*($B$15/(Main!$N$31+D222)),NA())","v":{"$error":"#N/A"}},{"$f":"IFERROR($B$16*($B$15/(Main!$N$31+D222)),NA())","v":{"$error":"#N/A"}},{"$error":"#N/A"},{"$error":"#N/A"},{"$f":"IFERROR(($B$15/(Main!$N$31+D222))^2*(Main!$N$31+D222)*1000,NA())","v":{"$error":"#N/A"}},{"$error":"#N/A"},{"$error":"#N/A"},{"$error":"#N/A"},null,149,{"$error":"#N/A"},{"$error":"#N/A"},{"$error":"#N/A"},{"$f":"IFERROR(Q222*($B$15/(Main!$N$31+Q222)),NA())","v":{"$error":"#N/A"}},{"$error":"#N/A"},{"$f":"IFERROR(($B$15/(Main!$N$31+Q222))^2*(Main!$N$31+Q222)*1000,NA())","v":{"$error":"#N/A"}},{"$error":"#N/A"},{"$error":"#N/A"},{"$error":"#N/A"}]
[191,150,{"$f":"IFERROR('Device Resistance Tables'!C210,NA())","v":{"$error":"#N/A"}},{"$f":"IFERROR('Device Resistance Tables'!D210,NA())","v":{"$error":"#N/A"}},{"$f":"IFERROR('Device Resistance Tables'!F210,NA())","v":{"$error":"#N/A"}},{"$f":"IFERROR(D223*($B$15/(Main!$N$31+D223)),NA())","v":{"$error":"#N/A"}},{"$f":"IFERROR($B$16*($B$15/(Main!$N$31+D223)),NA())","v":{"$error":"#N/A"}},{"$error":"#N/A"},{"$error":"#N/A"},{"$f":"IFERROR(($B$15/(Main!$N$31+D223))^2*(Main!$N$31+D223)*1000,NA())","v":{"$error":"#N/A"}},{"$error":"#N/A"},{"$error":"#N/A"},{"$error":"#N/A"},null,150,{"$error":"#N/A"},{"$error":"#N/A"},{"$error":"#N/A"},{"$f":"IFERROR(Q223*($B$15/(Main!$N$31+Q223)),NA())","v":{"$error":"#N/A"}},{"$error":"#N/A"},{"$f":"IFERROR(($B$15/(Main!$N$31+Q223))^2*(Main!$N$31+Q223)*1000,NA())","v":{"$error":"#N/A"}},{"$error":"#N/A"},{"$error":"#N/A"},{"$error":"#N/A"}]
[192,151,{"$f":"IFERROR('Device Resistance Tables'!C211,NA())","v":{"$error":"#N/A"}},{"$f":"IFERROR('Device Resistance Tables'!D211,NA())","v":{"$error":"#N/A"}},{"$f":"IFERROR('Device Resistance Tables'!F211,NA())","v":{"$error":"#N/A"}},{"$f":"IFERROR(D224*($B$15/(Main!$N$31+D224)),NA())","v":{"$error":"#N/A"}},{"$f":"IFERROR($B$16*($B$15/(Main!$N$31+D224)),NA())","v":{"$error":"#N/A"}},{"$f":"IFERROR(D224-D223,NA())","v":{"$error":"#N/A"}},{"$error":"#N/A"},{"$f":"IFERROR(($B$15/(Main!$N$31+D224))^2*(Main!$N$31+D224)*1000,NA())","v":{"$error":"#N/A"}},{"$f":"IFERROR(((D224-C224)/D224)*-100,NA())","v":{"$error":"#N/A"}},{"$f":"IFERROR(((E224-D224)/D224)*100,NA())","v":{"$error":"#N/A"}},{"$f":"IFERROR(F224-F223,NA())","v":{"$error":"#N/A"}},null,151,{"$error":"#N/A"},{"$error":"#N/A"},{"$error":"#N/A"},{"$f":"IFERROR(Q224*($B$15/(Main!$N$31+Q224)),NA())","v":{"$error":"#N/A"}},{"$f":"IFERROR(Q223-Q224,NA())","v":{"$error":"#N/A"}},{"$f":"IFERROR(($B$15/(Main!$N$31+Q224))^2*(Main!$N$31+Q224)*1000,NA())","v":{"$error":"#N/A"}},{"$f":"IFERROR(((Q224-P224)/Q224)*-100,NA())","v":{"$error":"#N/A"}},{"$f":"IFERROR(((R224-Q224)/Q224)*100,NA())","v":{"$error":"#N/A"}}]
[193,152,{"$f":"IFERROR('Device Resistance Tables'!C212,NA())","v":{"$error":"#N/A"}},{"$f":"IFERROR('Device Resistance Tables'!D212,NA())","v":{"$error":"#N/A"}},{"$f":"IFERROR('Device Resistance Tables'!F212,NA())","v":{"$error":"#N/A"}},{"$f":"IFERROR(D225*($B$15/(Main!$N$31+D225)),NA())","v":{"$error":"#N/A"}},{"$f":"IFERROR($B$16*($B$15/(Main!$N$31+D225)),NA())","v":{"$error":"#N/A"}},{"$error":"#N/A"},{"$error":"#N/A"},{"$f":"IFERROR(($B$15/(Main!$N$31+D225))^2*(Main!$N$31+D225)*1000,NA())","v":{"$error":"#N/A"}},{"$error":"#N/A"},{"$error":"#N/A"},{"$error":"#N/A"},null,152,{"$error":"#N/A"},{"$error":"#N/A"},{"$error":"#N/A"},{"$f":"IFERROR(Q225*($B$15/(Main!$N$31+Q225)),NA())","v":{"$error":"#N/A"}},{"$error":"#N/A"},{"$f":"IFERROR(($B$15/(Main!$N$31+Q225))^2*(Main!$N$31+Q225)*1000,NA())","v":{"$error":"#N/A"}},{"$error":"#N/A"},{"$error":"#N/A"}]
[194,153,{"$f":"IFERROR('Device Resistance Tables'!C213,NA())","v":{"$error":"#N/A"}},{"$f":"IFERROR('Device Resistance Tables'!D213,NA())","v":{"$error":"#N/A"}},{"$f":"IFERROR('Device Resistance Tables'!F213,NA())","v":{"$error":"#N/A"}},{"$f":"IFERROR(D226*($B$15/(Main!$N$31+D226)),NA())","v":{"$error":"#N/A"}},{"$f":"IFERROR($B$16*($B$15/(Main!$N$31+D226)),NA())","v":{"$error":"#N/A"}},{"$error":"#N/A"},{"$error":"#N/A"},{"$f":"IFERROR(($B$15/(Main!$N$31+D226))^2*(Main!$N$31+D226)*1000,NA())","v":{"$error":"#N/A"}},{"$error":"#N/A"},{"$error":"#N/A"},{"$error":"#N/A"},null,153,{"$error":"#N/A"},{"$error":"#N/A"},{"$error":"#N/A"},{"$f":"IFERROR(Q226*($B$15/(Main!$N$31+Q226)),NA())","v":{"$error":"#N/A"}},{"$error":"#N/A"},{"$f":"IFERROR(($B$15/(Main!$N$31+Q226))^2*(Main!$N$31+Q226)*1000,NA())","v":{"$error":"#N/A"}},{"$error":"#N/A"},{"$error":"#N/A"}]
[195,154,{"$f":"IFERROR('Device Resistance Tables'!C214,NA())","v":{"$error":"#N/A"}},{"$f":"IFERROR('Device Resistance Tables'!D214,NA())","v":{"$error":"#N/A"}},{"$f":"IFERROR('Device Resistance Tables'!F214,NA())","v":{"$error":"#N/A"}},{"$f":"IFERROR(D227*($B$15/(Main!$N$31+D227)),NA())","v":{"$error":"#N/A"}},{"$f":"IFERROR($B$16*($B$15/(Main!$N$31+D227)),NA())","v":{"$error":"#N/A"}},{"$error":"#N/A"},{"$error":"#N/A"},{"$f":"IFERROR(($B$15/(Main!$N$31+D227))^2*(Main!$N$31+D227)*1000,NA())","v":{"$error":"#N/A"}},{"$error":"#N/A"},{"$error":"#N/A"},{"$error":"#N/A"},null,154,{"$error":"#N/A"},{"$error":"#N/A"},{"$error":"#N/A"},{"$f":"IFERROR(Q227*($B$15/(Main!$N$31+Q227)),NA())","v":{"$error":"#N/A"}},{"$error":"#N/A"},{"$f":"IFERROR(($B$15/(Main!$N$31+Q227))^2*(Main!$N$31+Q227)*1000,NA())","v":{"$error":"#N/A"}},{"$error":"#N/A"},{"$error":"#N/A"}]
[196,155,{"$f":"IFERROR('Device Resistance Tables'!C215,NA())","v":{"$error":"#N/A"}},{"$f":"IFERROR('Device Resistance Tables'!D215,NA())","v":{"$error":"#N/A"}},{"$f":"IFERROR('Device Resistance Tables'!F215,NA())","v":{"$error":"#N/A"}},{"$f":"IFERROR(D228*($B$15/(Main!$N$31+D228)),NA())","v":{"$error":"#N/A"}},{"$f":"IFERROR($B$16*($B$15/(Main!$N$31+D228)),NA())","v":{"$error":"#N/A"}},{"$error":"#N/A"},{"$error":"#N/A"},{"$f":"IFERROR(($B$15/(Main!$N$31+D228))^2*(Main!$N$31+D228)*1000,NA())","v":{"$error":"#N/A"}},{"$error":"#N/A"},{"$error":"#N/A"},{"$error":"#N/A"},null,155,{"$error":"#N/A"},{"$error":"#N/A"},{"$error":"#N/A"},{"$f":"IFERROR(Q228*($B$15/(Main!$N$31+Q228)),NA())","v":{"$error":"#N/A"}},{"$error":"#N/A"},{"$f":"IFERROR(($B$15/(Main!$N$31+Q228))^2*(Main!$N$31+Q228)*1000,NA())","v":{"$error":"#N/A"}},{"$error":"#N/A"},{"$error":"#N/A"}]
[197,156,{"$f":"IFERROR('Device Resistance Tables'!C216,NA())","v":{"$error":"#N/A"}},{"$f":"IFERROR('Device Resistance Tables'!D216,NA())","v":{"$error":"#N/A"}},{"$f":"IFERROR('Device Resistance Tables'!F216,NA())","v":{"$error":"#N/A"}},{"$f":"IFERROR(D229*($B$15/(Main!$N$31+D229)),NA())","v":{"$error":"#N/A"}},{"$f":"IFERROR($B$16*($B$15/(Main!$N$31+D229)),NA())","v":{"$error":"#N/A"}},{"$error":"#N/A"},{"$error":"#N/A"},{"$f":"IFERROR(($B$15/(Main!$N$31+D229))^2*(Main!$N$31+D229)*1000,NA())","v":{"$error":"#N/A"}},{"$error":"#N/A"},{"$error":"#N/A"},{"$error":"#N/A"},null,156,{"$error":"#N/A"},{"$error":"#N/A"},{"$error":"#N/A"},{"$f":"IFERROR(Q229*($B$15/(Main!$N$31+Q229)),NA())","v":{"$error":"#N/A"}},{"$error":"#N/A"},{"$f":"IFERROR(($B$15/(Main!$N$31+Q229))^2*(Main!$N$31+Q229)*1000,NA())","v":{"$error":"#N/A"}},{"$error":"#N/A"},{"$error":"#N/A"}]
[198,157,{"$f":"IFERROR('Device Resistance Tables'!C217,NA())","v":{"$error":"#N/A"}},{"$f":"IFERROR('Device Resistance Tables'!D217,NA())","v":{"$error":"#N/A"}},{"$f":"IFERROR('Device Resistance Tables'!F217,NA())","v":{"$error":"#N/A"}},{"$f":"IFERROR(D230*($B$15/(Main!$N$31+D230)),NA())","v":{"$error":"#N/A"}},{"$f":"IFERROR($B$16*($B$15/(Main!$N$31+D230)),NA())","v":{"$error":"#N/A"}},{"$error":"#N/A"},{"$error":"#N/A"},{"$f":"IFERROR(($B$15/(Main!$N$31+D230))^2*(Main!$N$31+D230)*1000,NA())","v":{"$error":"#N/A"}},{"$error":"#N/A"},{"$error":"#N/A"},{"$error":"#N/A"},null,157,{"$error":"#N/A"},{"$error":"#N/A"},{"$error":"#N/A"},{"$f":"IFERROR(Q230*($B$15/(Main!$N$31+Q230)),NA())","v":{"$error":"#N/A"}},{"$error":"#N/A"},{"$f":"IFERROR(($B$15/(Main!$N$31+Q230))^2*(Main!$N$31+Q230)*1000,NA())","v":{"$error":"#N/A"}},{"$error":"#N/A"},{"$error":"#N/A"}]
[199,158,{"$f":"IFERROR('Device Resistance Tables'!C218,NA())","v":{"$error":"#N/A"}},{"$f":"IFERROR('Device Resistance Tables'!D218,NA())","v":{"$error":"#N/A"}},{"$f":"IFERROR('Device Resistance Tables'!F218,NA())","v":{"$error":"#N/A"}},{"$f":"IFERROR(D231*($B$15/(Main!$N$31+D231)),NA())","v":{"$error":"#N/A"}},{"$f":"IFERROR($B$16*($B$15/(Main!$N$31+D231)),NA())","v":{"$error":"#N/A"}},{"$error":"#N/A"},{"$error":"#N/A"},{"$f":"IFERROR(($B$15/(Main!$N$31+D231))^2*(Main!$N$31+D231)*1000,NA())","v":{"$error":"#N/A"}},{"$error":"#N/A"},{"$error":"#N/A"},{"$error":"#N/A"},null,158,{"$error":"#N/A"},{"$error":"#N/A"},{"$error":"#N/A"},{"$f":"IFERROR(Q231*($B$15/(Main!$N$31+Q231)),NA())","v":{"$error":"#N/A"}},{"$error":"#N/A"},{"$f":"IFERROR(($B$15/(Main!$N$31+Q231))^2*(Main!$N$31+Q231)*1000,NA())","v":{"$error":"#N/A"}},{"$error":"#N/A"},{"$error":"#N/A"}]
[200,159,{"$f":"IFERROR('Device Resistance Tables'!C219,NA())","v":{"$error":"#N/A"}},{"$f":"IFERROR('Device Resistance Tables'!D219,NA())","v":{"$error":"#N/A"}},{"$f":"IFERROR('Device Resistance Tables'!F219,NA())","v":{"$error":"#N/A"}},{"$f":"IFERROR(D232*($B$15/(Main!$N$31+D232)),NA())","v":{"$error":"#N/A"}},{"$f":"IFERROR($B$16*($B$15/(Main!$N$31+D232)),NA())","v":{"$error":"#N/A"}},{"$error":"#N/A"},{"$error":"#N/A"},{"$f":"IFERROR(($B$15/(Main!$N$31+D232))^2*(Main!$N$31+D232)*1000,NA())","v":{"$error":"#N/A"}},{"$error":"#N/A"},{"$error":"#N/A"},{"$error":"#N/A"},null,159,{"$error":"#N/A"},{"$error":"#N/A"},{"$error":"#N/A"},{"$f":"IFERROR(Q232*($B$15/(Main!$N$31+Q232)),NA())","v":{"$error":"#N/A"}},{"$error":"#N/A"},{"$f":"IFERROR(($B$15/(Main!$N$31+Q232))^2*(Main!$N$31+Q232)*1000,NA())","v":{"$error":"#N/A"}},{"$error":"#N/A"},{"$error":"#N/A"}]
[201,160,{"$f":"IFERROR('Device Resistance Tables'!C220,NA())","v":{"$error":"#N/A"}},{"$f":"IFERROR('Device Resistance Tables'!D220,NA())","v":{"$error":"#N/A"}},{"$f":"IFERROR('Device Resistance Tables'!F220,NA())","v":{"$error":"#N/A"}},{"$f":"IFERROR(D233*($B$15/(Main!$N$31+D233)),NA())","v":{"$error":"#N/A"}},{"$f":"IFERROR($B$16*($B$15/(Main!$N$31+D233)),NA())","v":{"$error":"#N/A"}},{"$error":"#N/A"},{"$error":"#N/A"},{"$f":"IFERROR(($B$15/(Main!$N$31+D233))^2*(Main!$N$31+D233)*1000,NA())","v":{"$error":"#N/A"}},{"$error":"#N/A"},{"$error":"#N/A"},{"$error":"#N/A"},null,160,{"$error":"#N/A"},{"$error":"#N/A"},{"$error":"#N/A"},{"$f":"IFERROR(Q233*($B$15/(Main!$N$31+Q233)),NA())","v":{"$error":"#N/A"}},{"$error":"#N/A"},{"$f":"IFERROR(($B$15/(Main!$N$31+Q233))^2*(Main!$N$31+Q233)*1000,NA())","v":{"$error":"#N/A"}},{"$error":"#N/A"},{"$error":"#N/A"}]
[202,161,{"$f":"IFERROR('Device Resistance Tables'!C221,NA())","v":{"$error":"#N/A"}},{"$f":"IFERROR('Device Resistance Tables'!D221,NA())","v":{"$error":"#N/A"}},{"$f":"IFERROR('Device Resistance Tables'!F221,NA())","v":{"$error":"#N/A"}},{"$f":"IFERROR(D234*($B$15/(Main!$N$31+D234)),NA())","v":{"$error":"#N/A"}},{"$f":"IFERROR($B$16*($B$15/(Main!$N$31+D234)),NA())","v":{"$error":"#N/A"}},{"$error":"#N/A"},{"$error":"#N/A"},{"$f":"IFERROR(($B$15/(Main!$N$31+D234))^2*(Main!$N$31+D234)*1000,NA())","v":{"$error":"#N/A"}},{"$error":"#N/A"},{"$error":"#N/A"},{"$error":"#N/A"},null,161,{"$error":"#N/A"},{"$error":"#N/A"},{"$error":"#N/A"},{"$f":"IFERROR(Q234*($B$15/(Main!$N$31+Q234)),NA())","v":{"$error":"#N/A"}},{"$error":"#N/A"},{"$f":"IFERROR(($B$15/(Main!$N$31+Q234))^2*(Main!$N$31+Q234)*1000,NA())","v":{"$error":"#N/A"}},{"$error":"#N/A"},{"$error":"#N/A"}]
[203,162,{"$f":"IFERROR('Device Resistance Tables'!C222,NA())","v":{"$error":"#N/A"}},{"$f":"IFERROR('Device Resistance Tables'!D222,NA())","v":{"$error":"#N/A"}},{"$f":"IFERROR('Device Resistance Tables'!F222,NA())","v":{"$error":"#N/A"}},{"$f":"IFERROR(D235*($B$15/(Main!$N$31+D235)),NA())","v":{"$error":"#N/A"}},{"$f":"IFERROR($B$16*($B$15/(Main!$N$31+D235)),NA())","v":{"$error":"#N/A"}},{"$error":"#N/A"},{"$error":"#N/A"},{"$f":"IFERROR(($B$15/(Main!$N$31+D235))^2*(Main!$N$31+D235)*1000,NA())","v":{"$error":"#N/A"}},{"$error":"#N/A"},{"$error":"#N/A"},{"$error":"#N/A"},null,162,{"$error":"#N/A"},{"$error":"#N/A"},{"$error":"#N/A"},{"$f":"IFERROR(Q235*($B$15/(Main!$N$31+Q235)),NA())","v":{"$error":"#N/A"}},{"$error":"#N/A"},{"$f":"IFERROR(($B$15/(Main!$N$31+Q235))^2*(Main!$N$31+Q235)*1000,NA())","v":{"$error":"#N/A"}},{"$error":"#N/A"},{"$error":"#N/A"}]
[204,163,{"$f":"IFERROR('Device Resistance Tables'!C223,NA())","v":{"$error":"#N/A"}},{"$f":"IFERROR('Device Resistance Tables'!D223,NA())","v":{"$error":"#N/A"}},{"$f":"IFERROR('Device Resistance Tables'!F223,NA())","v":{"$error":"#N/A"}},{"$f":"IFERROR(D236*($B$15/(Main!$N$31+D236)),NA())","v":{"$error":"#N/A"}},{"$f":"IFERROR($B$16*($B$15/(Main!$N$31+D236)),NA())","v":{"$error":"#N/A"}},{"$error":"#N/A"},{"$error":"#N/A"},{"$f":"IFERROR(($B$15/(Main!$N$31+D236))^2*(Main!$N$31+D236)*1000,NA())","v":{"$error":"#N/A"}},{"$error":"#N/A"},{"$error":"#N/A"},{"$error":"#N/A"},null,163,{"$error":"#N/A"},{"$error":"#N/A"},{"$error":"#N/A"},{"$f":"IFERROR(Q236*($B$15/(Main!$N$31+Q236)),NA())","v":{"$error":"#N/A"}},{"$error":"#N/A"},{"$f":"IFERROR(($B$15/(Main!$N$31+Q236))^2*(Main!$N$31+Q236)*1000,NA())","v":{"$error":"#N/A"}},{"$error":"#N/A"},{"$error":"#N/A"}]
[205,164,{"$f":"IFERROR('Device Resistance Tables'!C224,NA())","v":{"$error":"#N/A"}},{"$f":"IFERROR('Device Resistance Tables'!D224,NA())","v":{"$error":"#N/A"}},{"$f":"IFERROR('Device Resistance Tables'!F224,NA())","v":{"$error":"#N/A"}},{"$f":"IFERROR(D237*($B$15/(Main!$N$31+D237)),NA())","v":{"$error":"#N/A"}},{"$f":"IFERROR($B$16*($B$15/(Main!$N$31+D237)),NA())","v":{"$error":"#N/A"}},{"$error":"#N/A"},{"$error":"#N/A"},{"$f":"IFERROR(($B$15/(Main!$N$31+D237))^2*(Main!$N$31+D237)*1000,NA())","v":{"$error":"#N/A"}},{"$error":"#N/A"},{"$error":"#N/A"},{"$error":"#N/A"},null,164,{"$error":"#N/A"},{"$error":"#N/A"},{"$error":"#N/A"},{"$f":"IFERROR(Q237*($B$15/(Main!$N$31+Q237)),NA())","v":{"$error":"#N/A"}},{"$error":"#N/A"},{"$f":"IFERROR(($B$15/(Main!$N$31+Q237))^2*(Main!$N$31+Q237)*1000,NA())","v":{"$error":"#N/A"}},{"$error":"#N/A"},{"$error":"#N/A"}]
[206,165,{"$f":"IFERROR('Device Resistance Tables'!C225,NA())","v":{"$error":"#N/A"}},{"$f":"IFERROR('Device Resistance Tables'!D225,NA())","v":{"$error":"#N/A"}},{"$f":"IFERROR('Device Resistance Tables'!F225,NA())","v":{"$error":"#N/A"}},{"$f":"IFERROR(D238*($B$15/(Main!$N$31+D238)),NA())","v":{"$error":"#N/A"}},{"$f":"IFERROR($B$16*($B$15/(Main!$N$31+D238)),NA())","v":{"$error":"#N/A"}},{"$error":"#N/A"},{"$error":"#N/A"},{"$f":"IFERROR(($B$15/(Main!$N$31+D238))^2*(Main!$N$31+D238)*1000,NA())","v":{"$error":"#N/A"}},{"$error":"#N/A"},{"$error":"#N/A"},{"$error":"#N/A"},null,165,{"$error":"#N/A"},{"$error":"#N/A"},{"$error":"#N/A"},{"$f":"IFERROR(Q238*($B$15/(Main!$N$31+Q238)),NA())","v":{"$error":"#N/A"}},{"$error":"#N/A"},{"$f":"IFERROR(($B$15/(Main!$N$31+Q238))^2*(Main!$N$31+Q238)*1000,NA())","v":{"$error":"#N/A"}},{"$error":"#N/A"},{"$error":"#N/A"}]
[207,166,{"$f":"IFERROR('Device Resistance Tables'!C226,NA())","v":{"$error":"#N/A"}},{"$f":"IFERROR('Device Resistance Tables'!D226,NA())","v":{"$error":"#N/A"}},{"$f":"IFERROR('Device Resistance Tables'!F226,NA())","v":{"$error":"#N/A"}},{"$f":"IFERROR(D239*($B$15/(Main!$N$31+D239)),NA())","v":{"$error":"#N/A"}},{"$f":"IFERROR($B$16*($B$15/(Main!$N$31+D239)),NA())","v":{"$error":"#N/A"}},{"$error":"#N/A"},{"$error":"#N/A"},{"$f":"IFERROR(($B$15/(Main!$N$31+D239))^2*(Main!$N$31+D239)*1000,NA())","v":{"$error":"#N/A"}},{"$error":"#N/A"},{"$error":"#N/A"},{"$error":"#N/A"},null,166,{"$error":"#N/A"},{"$error":"#N/A"},{"$error":"#N/A"},{"$f":"IFERROR(Q239*($B$15/(Main!$N$31+Q239)),NA())","v":{"$error":"#N/A"}},{"$error":"#N/A"},{"$f":"IFERROR(($B$15/(Main!$N$31+Q239))^2*(Main!$N$31+Q239)*1000,NA())","v":{"$error":"#N/A"}},{"$error":"#N/A"},{"$error":"#N/A"}]
[208,167,{"$f":"IFERROR('Device Resistance Tables'!C227,NA())","v":{"$error":"#N/A"}},{"$f":"IFERROR('Device Resistance Tables'!D227,NA())","v":{"$error":"#N/A"}},{"$f":"IFERROR('Device Resistance Tables'!F227,NA())","v":{"$error":"#N/A"}},{"$f":"IFERROR(D240*($B$15/(Main!$N$31+D240)),NA())","v":{"$error":"#N/A"}},{"$f":"IFERROR($B$16*($B$15/(Main!$N$31+D240)),NA())","v":{"$error":"#N/A"}},{"$error":"#N/A"},{"$error":"#N/A"},{"$f":"IFERROR(($B$15/(Main!$N$31+D240))^2*(Main!$N$31+D240)*1000,NA())","v":{"$error":"#N/A"}},{"$error":"#N/A"},{"$error":"#N/A"},{"$error":"#N/A"},null,167,{"$error":"#N/A"},{"$error":"#N/A"},{"$error":"#N/A"},{"$f":"IFERROR(Q240*($B$15/(Main!$N$31+Q240)),NA())","v":{"$error":"#N/A"}},{"$error":"#N/A"},{"$f":"IFERROR(($B$15/(Main!$N$31+Q240))^2*(Main!$N$31+Q240)*1000,NA())","v":{"$error":"#N/A"}},{"$error":"#N/A"},{"$error":"#N/A"}]
[209,168,{"$f":"IFERROR('Device Resistance Tables'!C228,NA())","v":{"$error":"#N/A"}},{"$f":"IFERROR('Device Resistance Tables'!D228,NA())","v":{"$error":"#N/A"}},{"$f":"IFERROR('Device Resistance Tables'!F228,NA())","v":{"$error":"#N/A"}},{"$f":"IFERROR(D241*($B$15/(Main!$N$31+D241)),NA())","v":{"$error":"#N/A"}},{"$f":"IFERROR($B$16*($B$15/(Main!$N$31+D241)),NA())","v":{"$error":"#N/A"}},{"$error":"#N/A"},{"$error":"#N/A"},{"$f":"IFERROR(($B$15/(Main!$N$31+D241))^2*(Main!$N$31+D241)*1000,NA())","v":{"$error":"#N/A"}},{"$error":"#N/A"},{"$error":"#N/A"},{"$error":"#N/A"},null,168,{"$error":"#N/A"},{"$error":"#N/A"},{"$error":"#N/A"},{"$f":"IFERROR(Q241*($B$15/(Main!$N$31+Q241)),NA())","v":{"$error":"#N/A"}},{"$error":"#N/A"},{"$f":"IFERROR(($B$15/(Main!$N$31+Q241))^2*(Main!$N$31+Q241)*1000,NA())","v":{"$error":"#N/A"}},{"$error":"#N/A"},{"$error":"#N/A"}]
[210,169,{"$f":"IFERROR('Device Resistance Tables'!C229,NA())","v":{"$error":"#N/A"}},{"$f":"IFERROR('Device Resistance Tables'!D229,NA())","v":{"$error":"#N/A"}},{"$f":"IFERROR('Device Resistance Tables'!F229,NA())","v":{"$error":"#N/A"}},{"$f":"IFERROR(D242*($B$15/(Main!$N$31+D242)),NA())","v":{"$error":"#N/A"}},{"$f":"IFERROR($B$16*($B$15/(Main!$N$31+D242)),NA())","v":{"$error":"#N/A"}},{"$error":"#N/A"},{"$error":"#N/A"},{"$f":"IFERROR(($B$15/(Main!$N$31+D242))^2*(Main!$N$31+D242)*1000,NA())","v":{"$error":"#N/A"}},{"$error":"#N/A"},{"$error":"#N/A"},{"$error":"#N/A"},null,169,{"$error":"#N/A"},{"$error":"#N/A"},{"$error":"#N/A"},{"$f":"IFERROR(Q242*($B$15/(Main!$N$31+Q242)),NA())","v":{"$error":"#N/A"}},{"$error":"#N/A"},{"$f":"IFERROR(($B$15/(Main!$N$31+Q242))^2*(Main!$N$31+Q242)*1000,NA())","v":{"$error":"#N/A"}},{"$error":"#N/A"},{"$error":"#N/A"}]
[211,170,{"$f":"IFERROR('Device Resistance Tables'!C230,NA())","v":{"$error":"#N/A"}},{"$f":"IFERROR('Device Resistance Tables'!D230,NA())","v":{"$error":"#N/A"}},{"$f":"IFERROR('Device Resistance Tables'!F230,NA())","v":{"$error":"#N/A"}},{"$f":"IFERROR(D243*($B$15/(Main!$N$31+D243)),NA())","v":{"$error":"#N/A"}},{"$f":"IFERROR($B$16*($B$15/(Main!$N$31+D243)),NA())","v":{"$error":"#N/A"}},{"$error":"#N/A"},{"$error":"#N/A"},{"$f":"IFERROR(($B$15/(Main!$N$31+D243))^2*(Main!$N$31+D243)*1000,NA())","v":{"$error":"#N/A"}},{"$error":"#N/A"},{"$error":"#N/A"},{"$error":"#N/A"},null,170,{"$error":"#N/A"},{"$error":"#N/A"},{"$error":"#N/A"},{"$f":"IFERROR(Q243*($B$15/(Main!$N$31+Q243)),NA())","v":{"$error":"#N/A"}},{"$error":"#N/A"},{"$f":"IFERROR(($B$15/(Main!$N$31+Q243))^2*(Main!$N$31+Q243)*1000,NA())","v":{"$error":"#N/A"}},{"$error":"#N/A"},{"$error":"#N/A"}]

{"sheet":"4th Order Polynomial TMP vs Res","index":4,"n_rows":146,"n_cols":14,"rows_kept":146,"cut":false,"hidden":false,"merged":[[0,0,2,20],[3,0,3,24]]}
[]
[]
[]
[]
["Return to Menu"]
[]
[]
[]
[]
[]
[]
[]
[]
[]
[]
[]
[]
[]
[]
[]
[]
[]
["TI Device",{"$f":"Main!N22","v":"TMP6131DECR"}]
["VBias",{"$f":"Main!$N$25","v":3.3},"Vdc"]
["Rbias",{"$f":"Main!N31","v":10000},"Ohms"]
["ADC",{"$f":"Main!N28","v":12},"bits"]
[]
[]
[null,"Example Code"]
[]
[]
["Hide","COEFFICENT","X0","X1","X2","X3","X4"]
[null,"A0",{"$f":"VLOOKUP(Main!$N$22&\"A0\",Coefficients!$E$52:$K$212,3,FALSE)","v":8339.9251945161704},{"$f":"VLOOKUP(Main!$N$22&\"A0\",Coefficients!$E$52:$K$212,4,FALSE)","v":54.154715686148002},{"$f":"VLOOKUP(Main!$N$22&\"A0\",Coefficients!$E$52:$K$212,5,FALSE)","v":-5.78616061394467},{"$f":"VLOOKUP(Main!$N$22&\"A0\",Coefficients!$E$52:$K$212,6,FALSE)","v":1.47111238439537},{"$f":"VLOOKUP(Main!$N$22&\"A0\",Coefficients!$E$52:$K$212,7,FALSE)","v":-0.115876333353779}]
[null,"A1",{"$f":"VLOOKUP(Main!$N$22&\"A1\",Coefficients!$E$52:$K$212,3,FALSE)","v":53.519439171642901},{"$f":"VLOOKUP(Main!$N$22&\"A1\",Coefficients!$E$52:$K$212,4,FALSE)","v":0.111930161345648},{"$f":"VLOOKUP(Main!$N$22&\"A1\",Coefficients!$E$52:$K$212,5,FALSE)","v":0.18987442220474199},{"$f":"VLOOKUP(Main!$N$22&\"A1\",Coefficients!$E$52:$K$212,6,FALSE)","v":-4.60507145157859E-2},{"$f":"VLOOKUP(Main!$N$22&\"A1\",Coefficients!$E$52:$K$212,7,FALSE)","v":3.7681976436438999E-3}]
[null,"A2",{"$f":"VLOOKUP(Main!$N$22&\"A2\",Coefficients!$E$52:$K$212,3,FALSE)","v":0.14962693895820001},{"$f":"VLOOKUP(Main!$N$22&\"A2\",Coefficients!$E$52:$K$212,4,FALSE)","v":-5.4830524870576897E-3},{"$f":"VLOOKUP(Main!$N$22&\"A2\",Coefficients!$E$52:$K$212,5,FALSE)","v":3.8003927509140199E-3},{"$f":"VLOOKUP(Main!$N$22&\"A2\",Coefficients!$E$52:$K$212,6,FALSE)","v":-8.04689323736446E-4},{"$f":"VLOOKUP(Main!$N$22&\"A2\",Coefficients!$E$52:$K$212,7,FALSE)","v":5.84268115194529E-5}]
[null,"A3",{"$f":"VLOOKUP(Main!$N$22&\"A3\",Coefficients!$E$52:$K$212,3,FALSE)","v":7.7764366717815907E-6},{"$f":"VLOOKUP(Main!$N$22&\"A3\",Coefficients!$E$52:$K$212,4,FALSE)","v":1.0146010335395299E-4},{"$f":"VLOOKUP(Main!$N$22&\"A3\",Coefficients!$E$52:$K$212,5,FALSE)","v":-5.8340665406269602E-5},{"$f":"VLOOKUP(Main!$N$22&\"A3\",Coefficients!$E$52:$K$212,6,FALSE)","v":1.3401513694378001E-5},{"$f":"VLOOKUP(Main!$N$22&\"A3\",Coefficients!$E$52:$K$212,7,FALSE)","v":-1.0941921253097099E-6}]
[null,"A4",{"$f":"VLOOKUP(Main!$N$22&\"A4\",Coefficients!$E$52:$K$212,3,FALSE)","v":3.5239682993970999E-7},{"$f":"VLOOKUP(Main!$N$22&\"A4\",Coefficients!$E$52:$K$212,4,FALSE)","v":-4.1515958229399602E-7},{"$f":"VLOOKUP(Main!$N$22&\"A4\",Coefficients!$E$52:$K$212,5,FALSE)","v":2.7552937506444702E-7},{"$f":"VLOOKUP(Main!$N$22&\"A4\",Coefficients!$E$52:$K$212,6,FALSE)","v":-6.7111197681992294E-8},{"$f":"VLOOKUP(Main!$N$22&\"A4\",Coefficients!$E$52:$K$212,7,FALSE)","v":5.7413790872433604E-9}]
[]
[null,"Resistance as a function of temperature",null,null,null,null,null,null,null,"Temperature as a function of resistance"]
[null,"A0","A1","A2","A3","A4",null,null,"A4","A3","A2","A1","A0"]
[null,{"$f":"$C$33+$D$33*Main!$N$25+$E$33*Main!$N$25*Main!$N$25+$F$33*Main!$N$25*Main!$N$25*Main!$N$25+$G$33*Main!$N$25*Main!$N$25*Main!$N$25*Main!$N$25","v":8494.749815239893},{"$f":"$C$34+$D$34*Main!$N$25+$E$34*Main!$N$25*Main!$N$25+$F$34*Main!$N$25*Main!$N$25*Main!$N$25+$G$34*Main!$N$25*Main!$N$25*Main!$N$25*Main!$N$25","v":54.748495106114163},{"$f":"$C$35+$D$35*Main!$N$25+$E$35*Main!$N$25*Main!$N$25+$F$35*Main!$N$25*Main!$N$25*Main!$N$25+$G$35*Main!$N$25*Main!$N$25*Main!$N$25*Main!$N$25","v":0.15092998085564277},{"$f":"$C$36+$D$36*Main!$N$25+$E$36*Main!$N$25*Main!$N$25+$F$36*Main!$N$25*Main!$N$25*Main!$N$25+$G$36*Main!$N$25*Main!$N$25*Main!$N$25*Main!$N$25","v":5.9112587156471121E-5},{"$f":"$C$37+$D$37*Main!$N$25+$E$37*Main!$N$25*Main!$N$25+$F$37*Main!$N$25*Main!$N$25*Main!$N$25+$G$37*Main!$N$25*Main!$N$25*Main!$N$25*Main!$N$25","v":2.5199219457586725E-7},"4th Order Polynomial",null,{"$f":"IF((VLOOKUP(Main!$N$22,Coefficients!$E$2:$H$28,4,FALSE)) = 125,LINEST('Device Resistance Tables'!$B$20:$B$185,'Device Resistance Tables'!$E$20:$E$185^{1,2,3,4},TRUE,FALSE),LINEST('Device Resistance Tables'!$B$20:$B$210,'Device Resistance Tables'!$E$20:$E$210^{1,2,3,4},TRUE,FALSE))","v":-2.2996162688185005E-15},1.4051462730900837E-10,-3.5045150872958147E-6,5.3108297647808785E-2,-272.43502154685206,"Regression"]
[]
[]
[]
[]
[]
[]
[]
[]
[]
[]
[]
[]
[]
[]
[]
[]
[]
[]
[]
[]
[]
[]
[]
[]
[]
[]
[]
[]
[]
[]
[]
[null,"4th order polynomial"]
[]
[null,"Quartic Function"]
[null,"R(Ω) = A4*(T^4) + A3*(T^3) + A2*(T^2) + A1*T + A0",null,null,null,"Resistance as a function of temperature"]
[null,null,"Coefficients"]
[null,null,{"$f":"'4th Order Polynomial TMP vs Res'!B41","v":8494.749815239893},"A0"]
[null,null,{"$f":"'4th Order Polynomial TMP vs Res'!C41","v":54.748495106114163},"A1"]
[null,null,{"$f":"'4th Order Polynomial TMP vs Res'!D41","v":0.15092998085564277},"A2"]
[null,null,{"$f":"'4th Order Polynomial TMP vs Res'!E41","v":5.9112587156471121E-5},"A3"]
[null,null,{"$f":"'4th Order Polynomial TMP vs Res'!F41","v":2.5199219457586725E-7},"A4"]
[]
[null,"Temperature",25,"°C","Enter temperature here to get the resistance"]
[null,null,{"$f":"(C84*1.8)+32","v":77},"°F"]
[null,null,{"$f":"C84+273.15","v":298.14999999999998},"°K"]
[null,"Resistance",{"$f":"$C$78 + $C$79*$C$84 + $C$80*$C$84^2+ $C$81*$C$84^3 + $C$82*$C$84^4","v":9958.8154995528494},"Ohms","Calculated resistance from the 4th order polynomial above"]
[]
[]
[null,"Regression"]
[null,"TºC = A4*(R^4) + A3*(R^3) + A2*(R^2) + A1*R + A0",null,null,null,"Temperature as a function of resistance"]
[null,null,"Coefficients"]
[null,null,{"$f":"'4th Order Polynomial TMP vs Res'!M41","v":-272.43502154685206},"A0"]
[null,null,{"$f":"'4th Order Polynomial TMP vs Res'!L41","v":5.3108297647808785E-2},"A1"]
[null,null,{"$f":"'4th Order Polynomial TMP vs Res'!K41","v":-3.5045150872958147E-6},"A2"]
[null,null,{"$f":"'4th Order Polynomial TMP vs Res'!J41","v":1.4051462730900837E-10},"A3"]
[null,null,{"$f":"'4th Order Polynomial TMP vs Res'!I41","v":-2.2996162688185005E-15},"A4"]
[]
[null,"Resistance",47000,"Ohms","Enter resistance to get the temperature"]
[null,"Temperature",{"$f":"$C$97*C99^4 + $C$96*C99^3 + $C$95*C99^2 + $C$94*C99 + $C$93","v":-2150.5625230776486},"°C","Calculated temperature from the 4th order polynomial regression above"]
[null,null,{"$f":"(C100*1.8)+32","v":-3839.0125415397674},"°F"]
[null,null,{"$f":"C100+273.15","v":-1877.4125230776485},"°K"]
[]
[]
[]
[]
[]
[]
[]
[]
[]
[]
[]
["EXAMPLE OF C CODE",null,null,"Copy the content of the box below, then paste into your C code"]
[]
["// 4th order polynomial equations to calculate the temperature of the thermistor--------------------------------------------------------------"]
["// C code examples only  (NOTE: this code example is based on floating point math)"]
[]
[]
[null,"unsigned int RBias = ",null,{"$f":"B25","v":10000},";",null,null,null,"// set the value of the top resistor"]
[null,"float VBias = ",null,{"$f":"B24","v":3.3},";",null,null,null,"// set the VBIAS voltage"]
[null,"unsigned int ADC_BITS = ",null,{"$f":"2^B26","v":4096},";",null,null,null,"// set the number of bits based on you ADC (2^# of ADC Bit Value)"]
[null,"float VTEMP = 0;",null,null,null,null,null,null,"// set up the variable for the measured voltage"]
[null,"float THRM_RES = 0;",null,null,null,null,null,null,"// setup the variable for the calculated resistance"]
[null,"float THRM_TEMP = 0;",null,null,null,null,null,null,"// setup the variable for the calculated temperature"]
[]
[]
[null,"float Thermistor(int raw_ADC)",null,null,null,null,null,null,"// send the ADC bit value to the calculation function"]
[null,"{"]
[null,"    // THRM calculations - 4th order polynomial regression"]
[null,"    VTEMP = 0;                  ",null,null,null,null,null,null,"  // reset these variables to zero in order to recalculate the new factors"]
[null,"    THRM_RES = 0;",null,null,null,null,null,null,"  // reset these variables to zero in order to recalculate the new factors"]
[null,"    THRM_ADC = raw_ADC"]
[]
[null,"    float THRM_A0 =",{"$f":"C93","v":-272.43502154685206},";"]
[null,"    float THRM_A1 =",{"$f":"C94","v":5.3108297647808785E-2},";"]
[null,"    float THRM_A2 = ",{"$f":"C95","v":-3.5045150872958147E-6},";"]
[null,"    float THRM_A3 = ",{"$f":"C96","v":1.4051462730900837E-10},";"]
[null,"    float THRM_A4 = ",{"$f":"C97","v":-2.2996162688185005E-15},";"]
[]
[null,"    VTEMP = (VBias/ADC_BITS) * THRM_ADC;   ",null,null,null,null,null,null,null,"// calculate volts per bit then multiply that times the ADV value"]
[null,"    THRM_RES = VTEMP/((VBias - VTEMP)/RBias);  ",null,null,null,null,null,null,null,"// calculate the resistance of the thermistor"]
[null,"    THRM_TEMP = (THRM_A4 * powf(THRM_RES,4)) + (THRM_A3 * powf(THRM_RES,3)) + (THRM_A2 * powf(THRM_RES,2)) + (THRM_A1 * THRM_RES) + THRM_A0;",null,null,null,null,null,null,null,"// 4th order regression to get temperature"]
[null,"    return THRM_TEMP;"]
[]
[null,"}"]

{"sheet":"4th Order Polynomial TMP vs Vdc","index":5,"n_rows":122,"n_cols":9,"rows_kept":122,"cut":false,"hidden":false,"merged":[[0,0,2,20],[3,0,3,24]]}
[]
[]
[]
[]
["Return to Menu"]
[]
[]
[]
[]
[]
[]
[]
[]
[]
[]
[]
[]
[]
[]
[]
[]
[]
[]
["TI Device",{"$f":"Main!N22","v":"TMP6131DECR"}]
["VBias",{"$f":"Main!$N$25","v":3.3},"Vdc"]
["Rbias",{"$f":"Main!N31","v":10000},"Ohms"]
["ADC",{"$f":"Main!N28","v":12},"bits"]
[]
[]
[null,"Example Code"]
[]
[]
[]
["Hide","Temperature as a function of VTEMP"]
[null,"A4","A3","A2","A1","A0"]
[null,{"$f":"IF((VLOOKUP(Main!$N$22,Coefficients!$E$2:$H$28,4,FALSE)) = 125,LINEST('NTC Thermistor Comparison'!B33:B198,'NTC Thermistor Comparison'!F33:F198^{1,2,3,4},TRUE,FALSE),LINEST('NTC Thermistor Comparison'!B33:B223,'NTC Thermistor Comparison'!F33:F223^{1,2,3,4},TRUE,FALSE))","v":-1.1587543852311286},48.695205055521718,-198.88407223595914,472.87967991041319,-423.28109750893503,"Regression"]
[]
[]
[]
[]
[]
[]
[]
[]
[]
[]
[]
[]
[]
[]
[]
[]
[]
[]
[]
[]
[]
[]
[]
[]
[]
[]
[]
[]
[]
[]
[]
[]
[]
[null,"Regression"]
[null,"TºC = A4*(V^4) + A3*(V^3) + A2*(V^2) + A1*V + A0",null,null,null,"Temperature as a function of VTEMP"]
[null,null,"Coefficients"]
[null,null,{"$f":"F36","v":-423.28109750893503},"A0"]
[null,null,{"$f":"E36","v":472.87967991041319},"A1"]
[null,null,{"$f":"D36","v":-198.88407223595914},"A2"]
[null,null,{"$f":"C36","v":48.695205055521718},"A3"]
[null,null,{"$f":"B36","v":-1.1587543852311286},"A4"]
[]
[null,"VTEMP",2,"Vdc","Enter VTEMP as a voltage from the ADC to get the temperature"]
[null,"Temperature",{"$f":"$C$77*C79^4 + $C$76*C79^3 + $C$75*C79^2 + $C$74*C79 + $C$73","v":97.96354364853056},"°C","Calculated temperature from the 4th order polynomial regression above"]
[null,null,{"$f":"(C80*1.8)+32","v":208.334378567355},"°F"]
[null,null,{"$f":"C80+273.15","v":371.11354364853054},"°K"]
[]
[]
[]
[]
[]
[]
[]
[]
[]
[]
[]
["EXAMPLE OF C CODE",null,null,"Copy the content of the box below, then paste into your C code"]
[]
["// 4th order polynomial equations to calculate the temperature of the thermistor--------------------------------------------------------------"]
["// C code examples only  (NOTE: this code example is based on floating point math)"]
[]
[]
[null,"float VBias = ",null,{"$f":"B25","v":3.3},";",null,null,null,"// set the VBIAS voltage"]
[null,"unsigned int ADC_BITS = ",null,{"$f":"2^B27","v":4096},";",null,null,null,"// set the number of bits based on you ADC (2^# of ADC Bit Value)"]
[null,"float VTEMP = 0;",null,null,null,null,null,null,"// set up the variable for the measured voltage"]
[null,"float THRM_TEMP = 0;",null,null,null,null,null,null,"// setup the variable for the calculated temperature"]
[]
[]
[null,"float Thermistor(int raw_ADC)",null,null,null,null,null,null,"// send the ADC bit value to the calculation function"]
[null,"{"]
[null,"    // THRM calculations - 4th order polynomial regression"]
[null,"    VTEMP = 0;                  ",null,null,null,null,null,null,"  // reset these variables to zero in order to recalculate the new factors"]
[null,"    THRM_ADC = raw_ADC"]
[]
[null,"    float THRM_A0 =",{"$f":"C73","v":-423.28109750893503},";"]
[null,"    float THRM_A1 =",{"$f":"C74","v":472.87967991041319},";"]
[null,"    float THRM_A2 = ",{"$f":"C75","v":-198.88407223595914},";"]
[null,"    float THRM_A3 = ",{"$f":"C76","v":48.695205055521718},";"]
[null,"    float THRM_A4 = ",{"$f":"C77","v":-1.1587543852311286},";"]
[]
[null,"    VTEMP = (VBias/ADC_BITS) * THRM_ADC;   ",null,null,null,null,null,null,"// calculate volts per bit then multiply that times the ADV value"]
[null,"    THRM_TEMP = (THRM_A4 * powf( VTEMP,4)) + (THRM_A3 * powf( VTEMP,3)) + (THRM_A2 * powf( VTEMP,2)) + (THRM_A1 *  VTEMP) + THRM_A0;",null,null,null,null,null,null,"// 4th order regression to get temperature"]
[null,"    return THRM_TEMP;"]
[]
[null,"}"]

{"sheet":"Steinhart-Hart","index":6,"n_rows":100,"n_cols":7,"rows_kept":100,"cut":false,"hidden":false,"merged":[[0,0,2,20],[3,0,3,24]]}
[]
[]
[]
[]
["Return to Menu"]
[]
[]
[]
[]
[]
[]
[]
[]
[]
[]
[]
[]
[]
[]
[]
["Example Code"]
[]
[]
["TI Device",{"$f":"Main!N22","v":"TMP6131DECR"}]
["VBias",{"$f":"Main!N25","v":3.3},"Vdc"]
["RBias",{"$f":"Main!N31","v":10000},"Ohms"]
["ADC",{"$f":"Main!N28","v":12},"bits"]
[]
["Hide","Temp °C","Resistance","Temp K","pre-calcs"]
["Low",-40,{"$f":"'Device Resistance Tables'!E20","v":6543.1598748044544},{"$f":"B30+273.15","v":233.14999999999998},{"$f":"LN(C30)","v":8.7861754890514998}]
["Mid",25,{"$f":"'Device Resistance Tables'!E85","v":9958.8154995528494},{"$f":"B31+273.15","v":298.14999999999998},{"$f":"LN(C31)","v":9.2062134177587112}]
["High",{"$f":"VLOOKUP(Main!$N$22,Coefficients!$E$2:$H$28,4,FALSE)","v":125},{"$f":"B53","v":17873.568458042435},{"$f":"B32+273.15","v":398.15},{"$f":"LN(C32)","v":9.7910782780917724}]
[null,null,null,null,{"$f":"1/D30","v":4.2890842805061126E-3}]
[null,null,null,null,{"$f":"1/D31","v":3.3540164346805303E-3}]
[null,null,null,null,{"$f":"1/D32","v":2.511616225040814E-3}]
[null,null,null,null,{"$f":"(E34-E33)/(E31-E30)","v":-2.2261509780879193E-3}]
[null,null,null,null,{"$f":"(E35-E33)/(E32-E30)","v":-1.7687960217155536E-3}]
[]
["Steinhart-Hart Calculated Coefficients"]
["A=",{"$f":"E33-(B41+E30^2*B42)*E30","v":6.4810438150941188E-2}]
["B=",{"$f":"E36-B42*(E30^2+E30*E31+E31^2)","v":-9.0610048274038686E-3}]
["C=",{"$f":"((E37-E36)/(E32-E31))*(E30+E31+E32)^-1","v":2.8145658839549993E-5}]
[]
["To try out how this would work in your code, enter a measured voltage into the red outlined cell below. The green outlined cells show what the corresponding resistance the TI device has at that moment which is used to calculate the Steinhart-Hart Coefficients, and the calculated temperature."]
["ADC measured voltage"]
["Resistor Divider Voltage",2.5,"Volts",{"$f":"B46/((B25-B46)/B26)","v":31250.000000000007},"Ohms","Resistance of the measured voltage"]
[null,null,null,{"$f":"B46/E52","v":3103.030303030303},"ADC bits"]
[null,null,null,{"$f":"1/(B40+(B41*LN(D46))+(B42*(LN(D46)^3)))-273.15","v":174.34999933751396},"Temp °C","The coefficients are used in this cell to calculate temperature. 1/T = A + B(Ln R) + C(Ln R)^3)"]
[]
[]
["Resolution of temperature measurements "]
["ADC bits",{"$f":"B27","v":12},{"$f":"2^B52","v":4096},"bits",{"$f":"B25/C52","v":8.0566406249999996E-4},"Volts per bit"]
["Resistance at max temperature",{"$f":"VLOOKUP(B32,'Device Resistance Tables'!B160:D235,3,FALSE)","v":17873.568458042435},"Ohms"]
["Resistance at max temperature -1",{"$f":"VLOOKUP(B32-1,'Device Resistance Tables'!B160:D235,3,FALSE)","v":17776.544412791918},"Ohms"]
["current at max temperature",{"$f":"B25/(B26+B53)","v":1.1839173032213039E-4},"Amps"]
["current at max temperature -1",{"$f":"B25/(B26+B54)","v":1.1880527508959151E-4},"Amps"]
["Voltage at max temperature",{"$f":"B53*B55","v":2.1160826967786961},"VDC"]
["Voltage at max temperature -1",{"$f":"B54*B56","v":2.1119472491040847},"VDC"]
["Delta V at  max temperature",{"$f":"B57-B58","v":4.1354476746113811E-3},"Delta VDC",null,{"$f":"B59/E52","v":5.1329677803661262},"bits per degree °C"]
["resistance at -40",{"$f":"'Device Resistance Tables'!E20","v":6543.1598748044544},"Ohms"]
["resistance at -39",{"$f":"'Device Resistance Tables'!E21","v":6586.1994764999499},"Ohms"]
["current at -40",{"$f":"B25/(B26+B60)","v":1.9947821486183918E-4},"Amps"]
["current at -39",{"$f":"B25/(B26+B61)","v":1.9896058796806245E-4},"Amps"]
["Voltage at -40",{"$f":"B60*B62","v":1.3052178513816077},"VDC"]
["Voltage at -39",{"$f":"B61*B63","v":1.3103941203193752},"VDC"]
["Delta V at -40",{"$f":"B65-B64","v":5.1762689377674587E-3},"Delta VDC",null,{"$f":"B66/E52","v":6.4248477482107615},"bits per degree °C"]
[]
[]
[]
[]
[]
[]
[]
[]
["EXAMPLE OF C CODE",null,null,"Copy the content of the box below, then paste into your C code"]
[]
["// Steinhart/Hart thermal equations to calculate temperature of the thermistor--------------------------------------------------------------"]
["// C code example only (NOTE: this code example can't be converted to fixed point because you can't do a Natural Log in fixed point) "]
[]
[null,"int RBias =",{"$f":"B26","v":10000},";",null,null,"// set the value of the Rbias (top resistor)  "]
[null,"float VBias = ",{"$f":"B25","v":3.3},";",null,null,"// set the VBias voltage "]
[null,"float bit_volt =  ",{"$f":"E52","v":8.0566406249999996E-4},";",null,null,"// set the voltage per bit based on the ADC bits / VREF (Set the ADC bit value in the Main tab to get the correct bit voltage)"]
[null,"float t_volt = 0;",null,null,null,null,"// set up the variable for the divider voltage"]
[null,"float t_res = 0;",null,null,null,null,"// setup the variable for the calculated resistance"]
[null,"float NLog = 0;",null,null,null,null,"// setup the variable for the natural log of the resistance"]
[null,"float Temp = 0;",null,null,null,null,"// setup the variable for the calculated temperature"]
[]
[null,"int Thermistor(int raw_ADC)"]
[null,"{"]
[null,null,"float A = ",{"$f":"B40","v":6.4810438150941188E-2},";",null,"//temperature Coefficients for the thermistor"]
[null,null,"float B =",{"$f":"B41","v":-9.0610048274038686E-3},";",null,"//temperature Coefficients for the thermistor"]
[null,null,"float C = ",{"$f":"B42","v":2.8145658839549993E-5},";",null,"//temperature Coefficients for the thermistor"]
[]
[null,null,"t_volt = raw_ADC * bit_volt;",null,null,null,"// convert the raw ADC value to a measured voltage "]
[null,null,"t_res = t_volt/((VBias - t_volt)/RBias);",null,null,null,"// convert the measured voltage to a resistance"]
[null,null,"NLog = log(t_res);",null,null,null,"// calculate the natural log of the resistance"]
[null,null,"Temp = 1 / (A + B * NLog) + (C * NLog * NLog * NLog);",null,null,null,"// run the Steinhart/Hart equation"]
[]
[null,null,"return Temp - 273.15;",null,null,null,"// Convert Kelvin to Celsius and return the temperature"]
[null,"}"]

{"sheet":"Lookup Table","index":7,"n_rows":321,"n_cols":9,"rows_kept":321,"cut":false,"hidden":false,"merged":[[0,0,2,20],[3,0,3,24]]}
[]
[]
[]
[]
["Return to Menu"]
[]
[]
[]
[]
[]
[]
[]
[]
[]
[]
[]
[]
[]
[]
[]
[]
[]
[]
[]
[]
["Example Code"]
[]
["TI Device",{"$f":"Main!$N$22","v":"TMP6131DECR"}]
["VBias",{"$f":"Main!N25","v":3.3},"Vdc"]
["RBias",{"$f":"Main!N31","v":10000},"Ohms"]
["ADC",{"$f":"Main!N28","v":12},"bits"]
[]
["To try out how this would work in your code, enter a measured resistance into the red outlined cell below. The green outlined cell shows what the nearest resistance value in the lookup table had stored as its corresponding temperature value.\""]
["Determine the closest temperature from resistance"]
["Resistance",10000,"Ohms","Calculated Resistance"]
["First Resistance",{"$f":"VLOOKUP(B37,B46:C261,2,FALSE)","v":9958.8154995528494},"Ohms","Lowest resistance"]
["First Temperature",{"$f":"MAX(IF(C46:C261<B35+0.001,B46:B261,\"\"))","v":25},"°C from chart","Lowest temp"]
[]
["Second Resistance",{"$f":"VLOOKUP(B40,B46:C261,2,FALSE)","v":10021.393472274245},"Ohms","Highest resistance"]
["Second Temperature",{"$f":"MIN(IF(C46:C261>B35,B46:B261,\"\"))","v":26},"°C from chart","Highest temp"]
[]
["Calculated temperature",{"$f":"IF(ABS(B35-B36)<=ABS(B35-B39),B37,B40)","v":26},"°C","Temperature corresponding to the nearest resistance value in the lookup table."]
[]
["1° C Steps"]
["Line #",{"$f":"'Device Resistance Tables'!B19","v":"Temperature (°C)"},"Typical resistance (Ω)"]
[1,-40,{"$f":"IFERROR('Device Resistance Tables'!D20,NA())","v":6543.1598748044544}]
[2,-39,{"$f":"IFERROR('Device Resistance Tables'!D21,NA())","v":6586.1994764999499}]
[3,-38,{"$f":"IFERROR('Device Resistance Tables'!D22,NA())","v":6629.5317056772819}]
[4,-37,{"$f":"IFERROR('Device Resistance Tables'!D23,NA())","v":6673.1566841711856}]
[5,-36,{"$f":"IFERROR('Device Resistance Tables'!D24,NA())","v":6717.0745398642093}]
[6,-35,{"$f":"IFERROR('Device Resistance Tables'!D25,NA())","v":6761.2854066867121}]
[7,-34,{"$f":"IFERROR('Device Resistance Tables'!D26,NA())","v":6805.7894246168671}]
[8,-33,{"$f":"IFERROR('Device Resistance Tables'!D27,NA())","v":6850.5867396806625}]
[9,-32,{"$f":"IFERROR('Device Resistance Tables'!D28,NA())","v":6895.6775039518952}]
[10,-31,{"$f":"IFERROR('Device Resistance Tables'!D29,NA())","v":6941.0618755521764}]
[11,-30,{"$f":"IFERROR('Device Resistance Tables'!D30,NA())","v":6986.7400186509285}]
[12,-29,{"$f":"IFERROR('Device Resistance Tables'!D31,NA())","v":7032.712103465391}]
[13,-28,{"$f":"IFERROR('Device Resistance Tables'!D32,NA())","v":7078.9783062606102}]
[14,-27,{"$f":"IFERROR('Device Resistance Tables'!D33,NA())","v":7125.5388093494503}]
[15,-26,{"$f":"IFERROR('Device Resistance Tables'!D34,NA())","v":7172.3938010925849}]
[16,-25,{"$f":"IFERROR('Device Resistance Tables'!D35,NA())","v":7219.543475898502}]
[17,-24,{"$f":"IFERROR('Device Resistance Tables'!D36,NA())","v":7266.9880342235001}]
[18,-23,{"$f":"IFERROR('Device Resistance Tables'!D37,NA())","v":7314.7276825716917}]
[19,-22,{"$f":"IFERROR('Device Resistance Tables'!D38,NA())","v":7362.7626334950037}]
[20,-21,{"$f":"IFERROR('Device Resistance Tables'!D39,NA())","v":7411.0931055931715}]
[21,-20,{"$f":"IFERROR('Device Resistance Tables'!D40,NA())","v":7459.7193235137465}]
[22,-19,{"$f":"IFERROR('Device Resistance Tables'!D41,NA())","v":7508.6415179520945}]
[23,-18,{"$f":"IFERROR('Device Resistance Tables'!D42,NA())","v":7557.8599256513871}]
[24,-17,{"$f":"IFERROR('Device Resistance Tables'!D43,NA())","v":7607.3747894026164}]
[25,-16,{"$f":"IFERROR('Device Resistance Tables'!D44,NA())","v":7657.1863580445815}]
[26,-15,{"$f":"IFERROR('Device Resistance Tables'!D45,NA())","v":7707.2948864638975}]
[27,-14,{"$f":"IFERROR('Device Resistance Tables'!D46,NA())","v":7757.7006355949907}]
[28,-13,{"$f":"IFERROR('Device Resistance Tables'!D47,NA())","v":7808.4038724201}]
[29,-12,{"$f":"IFERROR('Device Resistance Tables'!D48,NA())","v":7859.4048699692758}]
[30,-11,{"$f":"IFERROR('Device Resistance Tables'!D49,NA())","v":7910.703907320385}]
[31,-10,{"$f":"IFERROR('Device Resistance Tables'!D50,NA())","v":7962.3012695991047}]
[32,-9,{"$f":"IFERROR('Device Resistance Tables'!D51,NA())","v":8014.1972479789247}]
[33,-8,{"$f":"IFERROR('Device Resistance Tables'!D52,NA())","v":8066.3921396811456}]
[34,-7,{"$f":"IFERROR('Device Resistance Tables'!D53,NA())","v":8118.886247974885}]
[35,-6,{"$f":"IFERROR('Device Resistance Tables'!D54,NA())","v":8171.679882177069}]
[36,-5,{"$f":"IFERROR('Device Resistance Tables'!D55,NA())","v":8224.7733576524406}]
[37,-4,{"$f":"IFERROR('Device Resistance Tables'!D56,NA())","v":8278.1669958135499}]
[38,-3,{"$f":"IFERROR('Device Resistance Tables'!D57,NA())","v":8331.8611241207655}]
[39,-2,{"$f":"IFERROR('Device Resistance Tables'!D58,NA())","v":8385.8560760822656}]
[40,-1,{"$f":"IFERROR('Device Resistance Tables'!D59,NA())","v":8440.1521912540393}]
[41,0,{"$f":"IFERROR('Device Resistance Tables'!D60,NA())","v":8494.749815239893}]
[42,1,{"$f":"IFERROR('Device Resistance Tables'!D61,NA())","v":8549.6492996914403}]
[43,2,{"$f":"IFERROR('Device Resistance Tables'!D62,NA())","v":8604.851002308118}]
[44,3,{"$f":"IFERROR('Device Resistance Tables'!D63,NA())","v":8660.3552868371589}]
[45,4,{"$f":"IFERROR('Device Resistance Tables'!D64,NA())","v":8716.1625230736208}]
[46,5,{"$f":"IFERROR('Device Resistance Tables'!D65,NA())","v":8772.2730868603721}]
[47,6,{"$f":"IFERROR('Device Resistance Tables'!D66,NA())","v":8828.6873600880917}]
[48,7,{"$f":"IFERROR('Device Resistance Tables'!D67,NA())","v":8885.4057306952727}]
[49,8,{"$f":"IFERROR('Device Resistance Tables'!D68,NA())","v":8942.4285926682205}]
[50,9,{"$f":"IFERROR('Device Resistance Tables'!D69,NA())","v":8999.7563460410547}]
[51,10,{"$f":"IFERROR('Device Resistance Tables'!D70,NA())","v":9057.3893968957}]
[52,11,{"$f":"IFERROR('Device Resistance Tables'!D71,NA())","v":9115.3281573619097}]
[53,12,{"$f":"IFERROR('Device Resistance Tables'!D72,NA())","v":9173.5730456172296}]
[54,13,{"$f":"IFERROR('Device Resistance Tables'!D73,NA())","v":9232.1244858870341}]
[55,14,{"$f":"IFERROR('Device Resistance Tables'!D74,NA())","v":9290.9829084445009}]
[56,15,{"$f":"IFERROR('Device Resistance Tables'!D75,NA())","v":9350.1487496106292}]
[57,16,{"$f":"IFERROR('Device Resistance Tables'!D76,NA())","v":9409.6224517542214}]
[58,17,{"$f":"IFERROR('Device Resistance Tables'!D77,NA())","v":9469.4044632918994}]
[59,18,{"$f":"IFERROR('Device Resistance Tables'!D78,NA())","v":9529.4952386880923}]
[60,19,{"$f":"IFERROR('Device Resistance Tables'!D79,NA())","v":9589.8952384550448}]
[61,20,{"$f":"IFERROR('Device Resistance Tables'!D80,NA())","v":9650.6049291528179}]
[62,21,{"$f":"IFERROR('Device Resistance Tables'!D81,NA())","v":9711.6247833892794}]
[63,22,{"$f":"IFERROR('Device Resistance Tables'!D82,NA())","v":9772.9552798201094}]
[64,23,{"$f":"IFERROR('Device Resistance Tables'!D83,NA())","v":9834.5969031488112}]
[65,24,{"$f":"IFERROR('Device Resistance Tables'!D84,NA())","v":9896.5501441266806}]
[66,25,{"$f":"IFERROR('Device Resistance Tables'!D85,NA())","v":9958.8154995528494}]
[67,26,{"$f":"IFERROR('Device Resistance Tables'!D86,NA())","v":10021.393472274245}]
[68,27,{"$f":"IFERROR('Device Resistance Tables'!D87,NA())","v":10084.284571185617}]
[69,28,{"$f":"IFERROR('Device Resistance Tables'!D88,NA())","v":10147.489311229521}]
[70,29,{"$f":"IFERROR('Device Resistance Tables'!D89,NA())","v":10211.00821339633}]
[71,30,{"$f":"IFERROR('Device Resistance Tables'!D90,NA())","v":10274.841804724227}]
[72,31,{"$f":"IFERROR('Device Resistance Tables'!D91,NA())","v":10338.990618299209}]
[73,32,{"$f":"IFERROR('Device Resistance Tables'!D92,NA())","v":10403.455193255088}]
[74,33,{"$f":"IFERROR('Device Resistance Tables'!D93,NA())","v":10468.23607477348}]
[75,34,{"$f":"IFERROR('Device Resistance Tables'!D94,NA())","v":10533.333814083828}]
[76,35,{"$f":"IFERROR('Device Resistance Tables'!D95,NA())","v":10598.748968463369}]
[77,36,{"$f":"IFERROR('Device Resistance Tables'!D96,NA())","v":10664.482101237174}]
[78,37,{"$f":"IFERROR('Device Resistance Tables'!D97,NA())","v":10730.533781778107}]
[79,38,{"$f":"IFERROR('Device Resistance Tables'!D98,NA())","v":10796.904585506858}]
[80,39,{"$f":"IFERROR('Device Resistance Tables'!D99,NA())","v":10863.595093891925}]
[81,40,{"$f":"IFERROR('Device Resistance Tables'!D100,NA())","v":10930.605894449618}]
[82,41,{"$f":"IFERROR('Device Resistance Tables'!D101,NA())","v":10997.937580744057}]
[83,42,{"$f":"IFERROR('Device Resistance Tables'!D102,NA())","v":11065.590752387183}]
[84,43,{"$f":"IFERROR('Device Resistance Tables'!D103,NA())","v":11133.566015038743}]
[85,44,{"$f":"IFERROR('Device Resistance Tables'!D104,NA())","v":11201.863980406299}]
[86,45,{"$f":"IFERROR('Device Resistance Tables'!D105,NA())","v":11270.485266245223}]
[87,46,{"$f":"IFERROR('Device Resistance Tables'!D106,NA())","v":11339.430496358704}]
[88,47,{"$f":"IFERROR('Device Resistance Tables'!D107,NA())","v":11408.70030059774}]
[89,48,{"$f":"IFERROR('Device Resistance Tables'!D108,NA())","v":11478.295314861145}]
[90,49,{"$f":"IFERROR('Device Resistance Tables'!D109,NA())","v":11548.21618109554}]
[91,50,{"$f":"IFERROR('Device Resistance Tables'!D110,NA())","v":11618.463547295365}]
[92,51,{"$f":"IFERROR('Device Resistance Tables'!D111,NA())","v":11689.038067502872}]
[93,52,{"$f":"IFERROR('Device Resistance Tables'!D112,NA())","v":11759.940401808122}]
[94,53,{"$f":"IFERROR('Device Resistance Tables'!D113,NA())","v":11831.171216348986}]
[95,54,{"$f":"IFERROR('Device Resistance Tables'!D114,NA())","v":11902.73118331116}]
[96,55,{"$f":"IFERROR('Device Resistance Tables'!D115,NA())","v":11974.620980928139}]
[97,56,{"$f":"IFERROR('Device Resistance Tables'!D116,NA())","v":12046.84129348124}]
[98,57,{"$f":"IFERROR('Device Resistance Tables'!D117,NA())","v":12119.392811299587}]
[99,58,{"$f":"IFERROR('Device Resistance Tables'!D118,NA())","v":12192.276230760121}]
[100,59,{"$f":"IFERROR('Device Resistance Tables'!D119,NA())","v":12265.492254287587}]
[101,60,{"$f":"IFERROR('Device Resistance Tables'!D120,NA())","v":12339.041590354558}]
[102,61,{"$f":"IFERROR('Device Resistance Tables'!D121,NA())","v":12412.924953481406}]
[103,62,{"$f":"IFERROR('Device Resistance Tables'!D122,NA())","v":12487.143064236321}]
[104,63,{"$f":"IFERROR('Device Resistance Tables'!D123,NA())","v":12561.696649235302}]
[105,64,{"$f":"IFERROR('Device Resistance Tables'!D124,NA())","v":12636.586441142172}]
[106,65,{"$f":"IFERROR('Device Resistance Tables'!D125,NA())","v":12711.81317866855}]
[107,66,{"$f":"IFERROR('Device Resistance Tables'!D126,NA())","v":12787.377606573884}]
[108,67,{"$f":"IFERROR('Device Resistance Tables'!D127,NA())","v":12863.280475665417}]
[109,68,{"$f":"IFERROR('Device Resistance Tables'!D128,NA())","v":12939.522542798226}]
[110,69,{"$f":"IFERROR('Device Resistance Tables'!D129,NA())","v":13016.104570875179}]
[111,70,{"$f":"IFERROR('Device Resistance Tables'!D130,NA())","v":13093.027328846969}]
[112,71,{"$f":"IFERROR('Device Resistance Tables'!D131,NA())","v":13170.291591712106}]
[113,72,{"$f":"IFERROR('Device Resistance Tables'!D132,NA())","v":13247.898140516898}]
[114,73,{"$f":"IFERROR('Device Resistance Tables'!D133,NA())","v":13325.847762355479}]
[115,74,{"$f":"IFERROR('Device Resistance Tables'!D134,NA())","v":13404.141250369788}]
[116,75,{"$f":"IFERROR('Device Resistance Tables'!D135,NA())","v":13482.779403749584}]
[117,76,{"$f":"IFERROR('Device Resistance Tables'!D136,NA())","v":13561.763027732428}]
[118,77,{"$f":"IFERROR('Device Resistance Tables'!D137,NA())","v":13641.092933603699}]
[119,78,{"$f":"IFERROR('Device Resistance Tables'!D138,NA())","v":13720.769938696594}]
[120,79,{"$f":"IFERROR('Device Resistance Tables'!D139,NA())","v":13800.794866392116}]
[121,80,{"$f":"IFERROR('Device Resistance Tables'!D140,NA())","v":13881.168546119081}]
[122,81,{"$f":"IFERROR('Device Resistance Tables'!D141,NA())","v":13961.891813354119}]
[123,82,{"$f":"IFERROR('Device Resistance Tables'!D142,NA())","v":14042.965509621676}]
[124,83,{"$f":"IFERROR('Device Resistance Tables'!D143,NA())","v":14124.390482494005}]
[125,84,{"$f":"IFERROR('Device Resistance Tables'!D144,NA())","v":14206.167585591174}]
[126,85,{"$f":"IFERROR('Device Resistance Tables'!D145,NA())","v":14288.297678581066}]
[127,86,{"$f":"IFERROR('Device Resistance Tables'!D146,NA())","v":14370.781627179373}]
[128,87,{"$f":"IFERROR('Device Resistance Tables'!D147,NA())","v":14453.620303149599}]
[129,88,{"$f":"IFERROR('Device Resistance Tables'!D148,NA())","v":14536.814584303067}]
[130,89,{"$f":"IFERROR('Device Resistance Tables'!D149,NA())","v":14620.365354498908}]
[131,90,{"$f":"IFERROR('Device Resistance Tables'!D150,NA())","v":14704.273503644064}]
[132,91,{"$f":"IFERROR('Device Resistance Tables'!D151,NA())","v":14788.539927693295}]
[133,92,{"$f":"IFERROR('Device Resistance Tables'!D152,NA())","v":14873.165528649166}]
[134,93,{"$f":"IFERROR('Device Resistance Tables'!D153,NA())","v":14958.151214562062}]
[135,94,{"$f":"IFERROR('Device Resistance Tables'!D154,NA())","v":15043.497899530177}]
[136,95,{"$f":"IFERROR('Device Resistance Tables'!D155,NA())","v":15129.206503699521}]
[137,96,{"$f":"IFERROR('Device Resistance Tables'!D156,NA())","v":15215.277953263911}]
[138,97,{"$f":"IFERROR('Device Resistance Tables'!D157,NA())","v":15301.713180464983}]
[139,98,{"$f":"IFERROR('Device Resistance Tables'!D158,NA())","v":15388.513123592174}]
[140,99,{"$f":"IFERROR('Device Resistance Tables'!D159,NA())","v":15475.67872698276}]
[141,100,{"$f":"IFERROR('Device Resistance Tables'!D160,NA())","v":15563.210941021794}]
[142,101,{"$f":"IFERROR('Device Resistance Tables'!D161,NA())","v":15651.11072214217}]
[143,102,{"$f":"IFERROR('Device Resistance Tables'!D162,NA())","v":15739.37903282458}]
[144,103,{"$f":"IFERROR('Device Resistance Tables'!D163,NA())","v":15828.016841597531}]
[145,104,{"$f":"IFERROR('Device Resistance Tables'!D164,NA())","v":15917.025123037351}]
[146,105,{"$f":"IFERROR('Device Resistance Tables'!D165,NA())","v":16006.40485776817}]
[147,106,{"$f":"IFERROR('Device Resistance Tables'!D166,NA())","v":16096.157032461935}]
[148,107,{"$f":"IFERROR('Device Resistance Tables'!D167,NA())","v":16186.282639838408}]
[149,108,{"$f":"IFERROR('Device Resistance Tables'!D168,NA())","v":16276.782678665155}]
[150,109,{"$f":"IFERROR('Device Resistance Tables'!D169,NA())","v":16367.658153757571}]
[151,110,{"$f":"IFERROR('Device Resistance Tables'!D170,NA())","v":16458.910075978845}]
[152,111,{"$f":"IFERROR('Device Resistance Tables'!D171,NA())","v":16550.539462239994}]
[153,112,{"$f":"IFERROR('Device Resistance Tables'!D172,NA())","v":16642.547335499828}]
[154,113,{"$f":"IFERROR('Device Resistance Tables'!D173,NA())","v":16734.934724765}]
[155,114,{"$f":"IFERROR('Device Resistance Tables'!D174,NA())","v":16827.70266508995}]
[156,115,{"$f":"IFERROR('Device Resistance Tables'!D175,NA())","v":16920.852197576936}]
[157,116,{"$f":"IFERROR('Device Resistance Tables'!D176,NA())","v":17014.384369376039}]
[158,117,{"$f":"IFERROR('Device Resistance Tables'!D177,NA())","v":17108.300233685135}]
[159,118,{"$f":"IFERROR('Device Resistance Tables'!D178,NA())","v":17202.600849749935}]
[160,119,{"$f":"IFERROR('Device Resistance Tables'!D179,NA())","v":17297.287282863941}]
[161,120,{"$f":"IFERROR('Device Resistance Tables'!D180,NA())","v":17392.360604368485}]
[162,121,{"$f":"IFERROR('Device Resistance Tables'!D181,NA())","v":17487.821891652693}]
[163,122,{"$f":"IFERROR('Device Resistance Tables'!D182,NA())","v":17583.672228153529}]
[164,123,{"$f":"IFERROR('Device Resistance Tables'!D183,NA())","v":17679.912703355742}]
[165,124,{"$f":"IFERROR('Device Resistance Tables'!D184,NA())","v":17776.544412791918}]
[166,125,{"$f":"IFERROR('Device Resistance Tables'!D185,NA())","v":17873.568458042435}]
[167,126,{"$f":"IFERROR('Device Resistance Tables'!D186,\" \")","v":" "}]
[168,127,{"$f":"IFERROR('Device Resistance Tables'!D187,\" \")","v":" "}]
[169,128,{"$f":"IFERROR('Device Resistance Tables'!D188,\" \")","v":" "}]
[170,129,{"$f":"IFERROR('Device Resistance Tables'!D189,\" \")","v":" "}]
[171,130,{"$f":"IFERROR('Device Resistance Tables'!D190,\" \")","v":" "}]
[172,131,{"$f":"IFERROR('Device Resistance Tables'!D191,\" \")","v":" "}]
[173,132,{"$f":"IFERROR('Device Resistance Tables'!D192,\" \")","v":" "}]
[174,133,{"$f":"IFERROR('Device Resistance Tables'!D193,\" \")","v":" "}]
[175,134,{"$f":"IFERROR('Device Resistance Tables'!D194,\" \")","v":" "}]
[176,135,{"$f":"IFERROR('Device Resistance Tables'!D195,\" \")","v":" "}]
[177,136,{"$f":"IFERROR('Device Resistance Tables'!D196,\" \")","v":" "}]
[178,137,{"$f":"IFERROR('Device Resistance Tables'!D197,\" \")","v":" "}]
[179,138,{"$f":"IFERROR('Device Resistance Tables'!D198,\" \")","v":" "}]
[180,139,{"$f":"IFERROR('Device Resistance Tables'!D199,\" \")","v":" "}]
[181,140,{"$f":"IFERROR('Device Resistance Tables'!D200,\" \")","v":" "}]
[182,141,{"$f":"IFERROR('Device Resistance Tables'!D201,\" \")","v":" "}]
[183,142,{"$f":"IFERROR('Device Resistance Tables'!D202,\" \")","v":" "}]
[184,143,{"$f":"IFERROR('Device Resistance Tables'!D203,\" \")","v":" "}]
[185,144,{"$f":"IFERROR('Device Resistance Tables'!D204,\" \")","v":" "}]
[186,145,{"$f":"IFERROR('Device Resistance Tables'!D205,\" \")","v":" "}]
[187,146,{"$f":"IFERROR('Device Resistance Tables'!D206,\" \")","v":" "}]
[188,147,{"$f":"IFERROR('Device Resistance Tables'!D207,\" \")","v":" "}]
[189,148,{"$f":"IFERROR('Device Resistance Tables'!D208,\" \")","v":" "}]
[190,149,{"$f":"IFERROR('Device Resistance Tables'!D209,\" \")","v":" "}]
[191,150,{"$f":"IFERROR('Device Resistance Tables'!D210,\" \")","v":" "}]
[192,151,{"$f":"IFERROR('Device Resistance Tables'!D211,\" \")","v":" "}]
[193,152,{"$f":"IFERROR('Device Resistance Tables'!D212,\" \")","v":" "}]
[194,153,{"$f":"IFERROR('Device Resistance Tables'!D213,\" \")","v":" "}]
[195,154,{"$f":"IFERROR('Device Resistance Tables'!D214,\" \")","v":" "}]
[196,155,{"$f":"IFERROR('Device Resistance Tables'!D215,\" \")","v":" "}]
[197,156,{"$f":"IFERROR('Device Resistance Tables'!D216,\" \")","v":" "}]
[198,157,{"$f":"IFERROR('Device Resistance Tables'!D217,\" \")","v":" "}]
[199,158,{"$f":"IFERROR('Device Resistance Tables'!D218,\" \")","v":" "}]
[200,159,{"$f":"IFERROR('Device Resistance Tables'!D219,\" \")","v":" "}]
[201,160,{"$f":"IFERROR('Device Resistance Tables'!D220,\" \")","v":" "}]
[202,161,{"$f":"IFERROR('Device Resistance Tables'!D221,\" \")","v":" "}]
[203,162,{"$f":"IFERROR('Device Resistance Tables'!D222,\" \")","v":" "}]
[204,163,{"$f":"IFERROR('Device Resistance Tables'!D223,\" \")","v":" "}]
[205,164,{"$f":"IFERROR('Device Resistance Tables'!D224,\" \")","v":" "}]
[206,165,{"$f":"IFERROR('Device Resistance Tables'!D225,\" \")","v":" "}]
[207,166,{"$f":"IFERROR('Device Resistance Tables'!D226,\" \")","v":" "}]
[208,167,{"$f":"IFERROR('Device Resistance Tables'!D227,\" \")","v":" "}]
[209,168,{"$f":"IFERROR('Device Resistance Tables'!D228,\" \")","v":" "}]
[210,169,{"$f":"IFERROR('Device Resistance Tables'!D229,\" \")","v":" "}]
[211,170,{"$f":"IFERROR('Device Resistance Tables'!D230,\" \")","v":" "}]
[]
[]
[]
[]
[]
[]
[]
[]
[]
[]
[]
[]
[]
[]
["EXAMPLE OF C CODE",null,null,"Copy the content of the box below, then paste into your C code"]
[]
["// Lookup table process with little math to determine which resistance the actual resistance is closest to then select the closest temperature value to display -------------------------------------------------"]
["// C code examples only "]
[]
[]
[null,"unsigned int RBias = ",null,{"$f":"B30","v":10000},null,null,null,null,"// set the value of the top resistor"]
[null,"float VBias = ",null,{"$f":"B29","v":3.3},null,null,null,null,"// set the VBIAS voltage"]
[null,"unsigned int ADC_BITS = ",null,{"$f":"2^B31","v":4096},null,null,null,null,"// set the number of bits based on you ADC (2^# of ADC Bit Value)"]
[null,"float VTEMP = 0;",null,null,null,null,null,null,"// set up the variable for the divider voltage"]
[null,"float THRM_RES = 0;",null,null,null,null,null,null,"// setup the variable for the calculated resistance"]
[null,"float THRM_TEMP = 0;",null,null,null,null,null,null,"// setup the variable for the calculated temperature"]
[]
[null,"int Lookup_THRM_L(int raw_ADC)                     // Lookup table (long) 1 degrees C, no math just find the first value"]
[null,"{"]
[null,"    // THRM calculations - 4th order polynomial regression"]
[null,"    VTEMP = 0;                    // reset these variables to zero in order to recalculate the new factors"]
[null,"    THRM_RES = 0;"]
[null,"    THRM_ADC = raw_ADC;",null,null,null,"// get the ADC bit value"]
[]
[null,"    VTEMP = (VBias/ADC_BITS) * THRM_ADC;                                      // divider voltage - calculate volts per bit then multiply that times the ADV value"]
[null,"    THRM_RES = VTEMP/((VBias - VTEMP)/RBias);                   // THRM Resistance - calculate the resistance of the thermistor"]
[]
[null,"    int i=0;                    // counter for stepping through the table"]
[null,"    int res_l=0;                // the lower resistance value in the table"]
[null,"    int res_h=0;                // the higher resistance value in the table"]
[null,"    int diff_l=0;               // the difference between the lower resistance value from the table from the actual resistance value"]
[null,"    int diff_h=0;               // the difference between the higher resistance value from the table from the actual resistance value"]
[]
[null,"    for (i=0; i<166; ++i)"]
[null,"    {"]
[null,"        if(THRM_Res_L_Table[i][1] >= THRM_RES)"]
[null,"               {"]
[null,"                    res_l = THRM_Res_L_Table[i -1][1];          // find the lower resistance value in the table"]
[null,"                    res_h = THRM_Res_L_Table[i][1];        // find the higher resistance value in the table"]
[null,"                    diff_l = THRM_RES - res_l;               // find the difference by subtracting the lower resistance value from the table from the actual resistance value"]
[null,"                    diff_h = THRM_RES - res_h;               // find the difference by subtracting the higher resistance value from the table from the actual resistance value"]
[]
[null,"                    if (diff_h <= diff_l)                       // if the high resistance is closer to the actual resistance"]
[null,"                    {"]
[null,"                        THRM_TEMP = THRM_Res_L_Table[i][0];     // Use the high value resistance and temperature"]
[null,"                    }"]
[null,"                    else                                        // else the low resistance is closer to the actual resistance"]
[null,"                    {"]
[null,"                        THRM_TEMP = THRM_Res_L_Table[i -1][0];       // Use the low value resistance and temperature"]
[null,"                    };"]
[null,"                    return THRM_TEMP;"]
[null,"                    break;"]
[null,"               }"]
[null,"    }"]
[null,"}"]

{"sheet":"Interpolation from Lookup Table","index":8,"n_rows":150,"n_cols":9,"rows_kept":150,"cut":false,"hidden":false,"merged":[[0,0,2,20],[3,0,3,24]]}
[]
[]
[]
[]
["Return to Menu"]
[]
[]
[]
[]
[]
[]
[]
[]
[]
[]
[]
[]
[]
[]
[]
[]
[]
[]
[]
[]
[]
[]
["Example Code"]
[]
["TI Device",{"$f":"Main!N22","v":"TMP6131DECR"}]
["VBias",{"$f":"Main!N25","v":3.3},"Vdc"]
["RBias",{"$f":"Main!N31","v":10000},"Ohms"]
["ADC",{"$f":"Main!N28","v":12},"bits"]
[]
[]
["Calculate Temperature from Resistance"]
[null,"X = Resistance"]
[null,"Y = Temperature"]
["Resistance (X)",10000,"Ohms","Calculated Resistance ",null,"X = actual Resistance"]
["First Resistance (X1)",{"$f":"INDEX(C50:C93,MATCH(B39,C50:C93,1))","v":9959},"Ohms","lowest resistance",null,"X1"]
["First Temperature (Y1)",{"$f":"INDEX(B50:B93,MATCH(B39,C50:C93,1))","v":25},"°C from chart","Lowest temp",null,"Y1"]
[]
["Second Resistance (X2)",{"$f":"INDEX(C50:C93,1+MATCH(B39,C50:C93,1))","v":10275},"Ohms","Highest resistance",null,"X2"]
["Second Temperature (Y2)",{"$f":"INDEX(B50:B93,1+MATCH(B39,C50:C93,1))","v":30},"°C from chart","Highest temp",null,"Y2"]
[]
["Calculated temperature (Y)",{"$f":"B41+((B39-B40)/(B43-B40)*(B44-B41))","v":25.648734177215189},"°C","Thermistor Temperature from Resistance (Interpolation)"]
[]
["5° C Steps"]
["Line #","Temp (ºC)","Resistance (Ω)"]
[1,-40,{"$f":"ROUND('Device Resistance Tables'!P20,0)-0.0001","v":6542.9998999999998}]
[2,-35,{"$f":"ROUND('Device Resistance Tables'!P21,0)","v":6761},null," "]
[3,-30,{"$f":"ROUND('Device Resistance Tables'!P22,0)","v":6987}]
[4,-25,{"$f":"ROUND('Device Resistance Tables'!P23,0)","v":7220}]
[5,-20,{"$f":"ROUND('Device Resistance Tables'!P24,0)","v":7460}]
[6,-15,{"$f":"ROUND('Device Resistance Tables'!P25,0)","v":7707}]
[7,-10,{"$f":"ROUND('Device Resistance Tables'!P26,0)","v":7962}]
[8,-5,{"$f":"ROUND('Device Resistance Tables'!P27,0)","v":8225}]
[9,0.01,{"$f":"ROUND('Device Resistance Tables'!P28,0)","v":8495}]
[10,5,{"$f":"ROUND('Device Resistance Tables'!P29,0)","v":8772}]
[11,10,{"$f":"ROUND('Device Resistance Tables'!P30,0)","v":9057}]
[12,15,{"$f":"ROUND('Device Resistance Tables'!P31,0)","v":9350}]
[13,20,{"$f":"ROUND('Device Resistance Tables'!P32,0)","v":9651}]
[14,25,{"$f":"ROUND('Device Resistance Tables'!P33,0)","v":9959}]
[15,30,{"$f":"ROUND('Device Resistance Tables'!P34,0)","v":10275}]
[16,35,{"$f":"ROUND('Device Resistance Tables'!P35,0)","v":10599}]
[17,40,{"$f":"ROUND('Device Resistance Tables'!P36,0)","v":10931}]
[18,45,{"$f":"ROUND('Device Resistance Tables'!P37,0)","v":11270}]
[19,50,{"$f":"ROUND('Device Resistance Tables'!P38,0)","v":11618}]
[20,55,{"$f":"ROUND('Device Resistance Tables'!P39,0)","v":11975}]
[21,60,{"$f":"ROUND('Device Resistance Tables'!P40,0)","v":12339}]
[22,65,{"$f":"ROUND('Device Resistance Tables'!P41,0)","v":12712}]
[23,70,{"$f":"ROUND('Device Resistance Tables'!P42,0)","v":13093}]
[24,75,{"$f":"ROUND('Device Resistance Tables'!P43,0)","v":13483}]
[25,80,{"$f":"ROUND('Device Resistance Tables'!P44,0)","v":13881}]
[26,85,{"$f":"ROUND('Device Resistance Tables'!P45,0)","v":14288}]
[27,90,{"$f":"ROUND('Device Resistance Tables'!P46,0)","v":14704}]
[28,95,{"$f":"ROUND('Device Resistance Tables'!P47,0)","v":15129}]
[29,100,{"$f":"ROUND('Device Resistance Tables'!P48,0)","v":15563}]
[30,105,{"$f":"ROUND('Device Resistance Tables'!P49,0)","v":16006}]
[31,110,{"$f":"ROUND('Device Resistance Tables'!P50,0)","v":16459}]
[32,115,{"$f":"ROUND('Device Resistance Tables'!P51,0)","v":16921}]
[33,120,{"$f":"ROUND('Device Resistance Tables'!P52,0)","v":17392}]
[34,125,{"$f":"ROUND('Device Resistance Tables'!P53,0)+0.00001","v":17874.00001}]
[35,130,{"$f":"IFERROR(ROUND('Device Resistance Tables'!P54,0),\" \")","v":" "}]
[36,135,{"$f":"IFERROR(ROUND('Device Resistance Tables'!P55,0),\" \")","v":" "}]
[37,140,{"$f":"IFERROR(ROUND('Device Resistance Tables'!P56,0),\" \")","v":" "}]
[38,145,{"$f":"IFERROR(ROUND('Device Resistance Tables'!P57,0),\" \")","v":" "}]
[39,150,{"$f":"IFERROR(ROUND('Device Resistance Tables'!P58,0),\" \")","v":" "}]
[40,155,{"$f":"IFERROR(ROUND('Device Resistance Tables'!P59,0),\" \")","v":" "}]
[41,160,{"$f":"IFERROR(ROUND('Device Resistance Tables'!P60,0),\" \")","v":" "}]
[42,165,{"$f":"IFERROR(ROUND('Device Resistance Tables'!P61,0),\" \")","v":" "}]
[43,170,{"$f":"IFERROR(ROUND('Device Resistance Tables'!P62,0),\" \")","v":" "}]
[]
[]
[]
[]
[]
[]
[]
[]
[]
["EXAMPLE OF C CODE",null,null,"Copy the content of the box below, then paste into your C code"]
[]
["// Lookup table process with interpolation to determine the resistance between the lower and upper resistance in a 5 degree C table-------------------------------------------------"]
["// C code examples only "]
[]
[]
[null,"unsigned int RBias = ",null,{"$f":"B32","v":10000},";",null,null,null,"// set the value of the top resistor"]
[null,"float VBias = ",null,{"$f":"B31","v":3.3},";",null,null,null,"// set the VBIAS voltage"]
[null,"unsigned int ADC_BITS = ",null,{"$f":"2^B33","v":4096},";",null,null,null,"// set the number of bits based on you ADC (2^# of ADC Bit Value)"]
[null,"float VTEMP = 0;",null,null,null,null,null,null,"// set up the variable for the divider voltage"]
[null,"float THRM_RES = 0;",null,null,null,null,null,null,"// setup the variable for the calculated resistance"]
[null,"float THRM_TEMP = 0;",null,null,null,null,null,null,"// setup the variable for the calculated temperature"]
[null,"int X1=0;                // the lower resistance value in the table"]
[null,"int X2=0;                // the higher resistance value in the table"]
[null,"int Y1=0;               // the difference between the lower resistance value from the table from the actual resistance value"]
[null,"int Y2=0;               // the difference between the higher resistance value from the table from the actual resistance value"]
[]
[null,"float Lookup_THRM_S(int raw_ADC)                                    // linear interpolation of a 5 degree lookup table."]
[null,"{"]
[]
[null,"    // THRM calculations - 4th order polynomial regression"]
[null,"    VTEMP = 0;                                                     // reset these variables to zero in order to recalculate the new factors"]
[null,"    THRM_RES = 0;"]
[]
[null,"    // Capture the ADC bits"]
[null,"    THRM_ADC = raw_ADC"]
[]
[null,"    VTEMP = (VBias_BITS) * THRM_ADC;                                        // calculate volts per bit then multiply that times the ADV value"]
[null,"    THRM_RES = VTEMP/((VBias - VTEMP)/RBias);       // calculate the resistance of the thermistor"]
[]
[null,"    int i=0;                                                                         // counter for stepping through the table"]
[]
[null,"    for (i=0; i<166; ++i)"]
[null,"    {"]
[null,"        if(THRM_Res_S_Table[i][1] >= THRM_RES)"]
[null,"           {"]
[null,"                // the linear interpolation process is y = y1 + ((x - x1) / (x2 - x1)) * (y2 - y1)",null,""]
[null,"                X1 = THRM_Res_S_Table[i -1][1];                 // find the lower resistance value in the table"]
[null,"                X2 = THRM_Res_S_Table[i][1];                        // find the higher resistance value in the table"]
[null,"                Y1 = THRM_Res_S_Table[i -1][0];                   // find the difference by subtracting the lower resistance value from the table from the actual resistance value"]
[null,"                Y2 = THRM_Res_S_Table[i][0];                       // find the difference by subtracting the higher resistance value from the table from the actual resistance value"]
[]
[null,"                THRM_TEMP = Y1 + ((THRM_RES - X1) / (X2 - X1)) * (Y2 - Y1);              // Use the low value resistance and temperature"]
[null,"                return THRM_TEMP;"]
[null,"                break;"]
[null,"           }"]
[null,"    }"]
[]
[null,"}"]

{"sheet":"Threshold Detection","index":9,"n_rows":55,"n_cols":9,"rows_kept":55,"cut":false,"hidden":false,"merged":[[0,0,2,20],[3,0,3,24]]}
[]
[]
[]
[]
["Return to Menu"]
[]
[]
[]
[]
[]
[]
[]
[]
[]
[]
[]
[]
[]
[]
[]
[]
[]
[]
[]
["TI Device",{"$f":"Main!N22","v":"TMP6131DECR"}]
["VBias",{"$f":"Main!$N$25","v":3.3},"Vdc"]
["RBias",{"$f":"Main!N31","v":10000},"Ohms"]
["ADC",{"$f":"Main!N28","v":12},"bits"]
[]
[]
[]
[null,{"$f":"'4th Order Polynomial TMP vs Res'!C77","v":"Coefficients"}]
[null,{"$f":"'4th Order Polynomial TMP vs Res'!C78","v":8494.749815239893},"A0"]
[null,{"$f":"'4th Order Polynomial TMP vs Res'!C79","v":54.748495106114163},"A1"]
[null,{"$f":"'4th Order Polynomial TMP vs Res'!C80","v":0.15092998085564277},"A2"]
[null,{"$f":"'4th Order Polynomial TMP vs Res'!C81","v":5.9112587156471121E-5},"A3"]
[null,{"$f":"'4th Order Polynomial TMP vs Res'!C82","v":2.5199219457586725E-7},"A4"]
["Set High Temperature",null,null,null,null,null,"Threshold values"]
["T_high",80,"°C","Enter the high temperature limit required in degrees C",null,"ADC_V",{"$f":"B43*(B42/(B42+B44))","v":1.9181580714414908},"Vdc","Resistor divider voltage at temperature"]
[null,{"$f":"(B39*1.8)+32","v":176},"°F",null,null,"ADC",{"$f":"(G39/B43)*2^B45","v":2380.8410486740445},"bits ","ADC bits at temperature"]
[null,{"$f":"B39+273.15","v":353.15},"°K"]
["Resistance",{"$f":"$B$33 + $B$34*$B$39 + $B$35*$B$39^2 + $B$36*$B$39^3 + $B$37*$B$39^4","v":13881.168546119081},"Ohms","Calculated resistance from the 4th order polynomials"]
["VBias",{"$f":"B26","v":3.3},"V","Input bias voltage for the resistor divider"]
["RBias",{"$f":"B27","v":10000},"Ohms","Top resistor "]
["ADC (bits)",{"$f":"B28","v":12},"bits","Bits of resolution"]
[]
[]
["Set low temperature",null,null,null,null,null,"Threshold values"]
["T_low",-40,"°C","Enter the low temperature limit required in degrees C",null,"ADC_V",{"$f":"B53*(B52/(B52+B54))","v":1.3052178513816075},"Vdc","Resistor divider voltage at temperature"]
[null,{"$f":"(B49*1.8)+32","v":-40},"°F",null,null,"ADC",{"$f":"(G49/B53)*2^B55","v":1620.0522179572922},"bits ","ADC bits at temperature"]
[null,{"$f":"B49+273.15","v":233.14999999999998},"°CK"]
["Resistance",{"$f":"$B$33 + $B$34*$B$49 + $B$35*$B$49^2 + $B$36*$B$49^3 + $B$37*$B$49^4","v":6543.1598748044544},"Ohms","Calculated resistance from the 4th order polynomials above"]
["VBias",{"$f":"B26","v":3.3},"V","Input bias voltage for the resistor divider"]
["RBias",{"$f":"B27","v":10000},"Ohms","Top resistor "]
["ADC (bits)",{"$f":"B28","v":12},"bits","Bits of resolution"]

{"sheet":"Averaging","index":10,"n_rows":187,"n_cols":4,"rows_kept":187,"cut":false,"hidden":false,"merged":[[0,0,2,20],[3,0,3,24],[4,0,4,1]]}
[]
[]
[]
[]
["Return to Menu"]
[]
[]
["Example Code"]
[]
[]
[]
[]
[]
[]
[]
[]
[]
[]
[]
[]
[]
[]
[]
[]
[]
[]
[]
[]
[]
[]
[]
[]
[]
[]
[]
[]
[]
[]
[]
[]
[]
[]
[]
[]
[]
[]
[]
[]
[]
[]
[]
[]
[]
[]
[]
[]
[]
[]
[]
[]
[]
[]
[]
[]
[]
[]
[]
[]
[]
[]
[]
[]
[]
[]
[]
[]
[]
[]
[]
[]
[]
[]
[]
[]
[]
[]
[]
[]
[]
[]
[]
[]
[]
[]
[]
[]
[]
[]
[]
[]
[]
[]
[]
["EXAMPLE OF C CODE",null,null,"Copy the content of the box below, then paste into your C code"]
[]
["// FIFO averaging of the data sample at predetermined intervals and averaged across the last (x) samples-------------------------------------------------"]
["// C code examples only "]
[]
[]
[null,"// (1) Method one will read the ADC and average the last \"N\" values as set in the \"#define Tmp_1_length\""]
[null,"//  FIFO setup of the temporary arrays and define the filter depth (samples to average)"]
[null,"#define Tmp_1_length 16                                  // Sample length for the averaging filter for oversampling"]
[null,"float Tmp_1_array[Tmp_1_length];                  // The FIFO arrays for averaging the ADC value"]
[]
[null,"float ADC_AVG = 0;                                                //  This is the averaged ADC value over (x) samples"]
[null,"float ADC_Value = 0;                                             // this is the most recent ADC value captured"]
[null,"int i = 0;                                                                  //  set to 0"]
[null,"float sum_array_1 = 0;                                           //  set to 0"]
[]
[null,"void FIFO_AVG(void)"]
[null,"{"]
[null,"        // FIFO to average thermistor temperature //"]
[null,"        i = 0;                                                                              // reset to 0"]
[null,"        sum_array_1 = 0;                                                         // reset to 0"]
[null,"        for(i = 0; i < Tmp_1_length - 1; i++)                                 // shift the array as a FIFO and drop the last data value"]
[null,"        {"]
[null,"            Tmp_1_array[i] = Tmp_1_array[i + 1];                          // Makes all the array indexes equal to the number after them"]
[null,"        }"]
[null,"        Tmp_1_array[Tmp_1_length - 1] = ADC_Value;                          // add the new value to the beginning of the array"]
[null,"        for(i = 0; i < Tmp_1_length; i++)                                 // sum the array"]
[null,"        {"]
[null,"            sum_array_1 += Tmp_1_array[i];                                // add all of the array elements"]
[null,"        }"]
[null,"        ADC_AVG = sum_array_1 / Tmp_1_length;                             // divide the sum of the array to get an average"]
[null,"}"]
[]
[null,"//  Read the ADC and place the bit value into ADC_Value"]
[null,"// Call the ADC_AVG function to get the last ADC value added and averaged into the array"]
[null,"FIFO_AVG();"]
[null,"//  The ADC average value will be placed into ADC_AVG register"]
[]
[]
[]
[]
["EXAMPLE OF C CODE",null,null,"Copy the content of the box below, then paste into your C code"]
[]
["// FIFO averaging of (x) samples simultaneously providing an average of the (x) samples.-------------------------------------------------"]
["// C code examples only "]
[]
[]
[null,"// (2) Method two will read the ADC and average inset that value into the FIFO \"N\" times as set in the \"#define Tmp_1_length\" then average the values"]
[null,"//  FIFO setup of the temporary arrays and define the filter depth (samples to average)"]
[null,"#define Tmp_1_length 16                                  // Sample length for the averaging filter for oversampling"]
[null,"float Tmp_1_array[Tmp_1_length];                  // The FIFO arrays for averaging the ADC value"]
[]
[null,"float ADC_AVG = 0;                                                //  This is the averaged ADC value over (x) samples"]
[null,"float ADC_Value = 0;                                             // this is the most recent ADC value captured"]
[null,"int i = 0;                                                                  //  set to 0 for the array position counter"]
[null,"float sum_array_1 = 0;                                           //  set to 0"]
[null,"int j = 0;                                                                  //  set to 0 for the sample counter"]
[]
[]
[null,"void FIFO_AVG(void)"]
[null,"{"]
[null,"        // FIFO to average thermistor temperature //"]
[null,"        i = 0;                                                                              // reset to 0"]
[null,"        j = 0;                                                                              // reset to 0"]
[null,"        sum_array_1 = 0;                                                          // reset to 0"]
[null,"        for(j = 0; j < Tmp_1_length; j++)                                 // shift the array as a FIFO and drop the last data value, add the new value to the array for (x) samples"]
[null,"       {"]
[null,null,"        // read the ADC, and put the new value into the ADC_Value register"]
[null,null,"        for(i = 0; i < Tmp_1_length - 1; i++)                                        // shift the array as a FIFO and drop the last data value"]
[null,null,"        {"]
[null,null,"            Tmp_1_array[i] = Tmp_1_array[i + 1];                               // Makes all the array indexes equal to the number after them"]
[null,null,"        }"]
[null,null,"        Tmp_1_array[Tmp_1_length - 1] = ADC_Value;                // add the new value to the beginning of the array"]
[null,"       }  // do this for (N) samples"]
[null,null,"        for(i = 0; i < Tmp_1_length; i++)                                       // sum the array"]
[null,null,"        {"]
[null,null,"            sum_array_1 += Tmp_1_array[i];                                      // add all of the array elements"]
[null,null,"        }"]
[null,null,"        ADC_AVG = sum_array_1 / Tmp_1_length;                     // divide the sum of the array to get an average"]
[null,"}"]
[]
[null,"//  Call the FIFO_AVG routine to get \"N\" ADC values averaged"]
[null,"FIFO_AVG();"]
[null,"//  The ADC average value will be placed into ADC_AVG register"]

{"sheet":"Low Pass Filter","index":11,"n_rows":264,"n_cols":8,"rows_kept":264,"cut":false,"hidden":false,"merged":[[0,0,2,20],[3,0,3,24]]}
[]
[]
[]
[]
["Return to Menu"]
[]
[]
[]
[]
[]
[]
[]
[]
[]
[]
[]
[]
[]
[]
[]
[]
[]
[]
[]
[]
[]
[]
[]
[]
[]
[]
[]
[]
[]
[]
[]
[]
[]
[]
[]
[]
[]
[]
[]
[]
[]
["Example Code"]
[]
[]
["TI Device",{"$f":"Main!$N$22","v":"TMP6131DECR"}]
[]
[null,"Adjust the Alpha to change the filter"]
["Alpha (α)",0.3,"0.001<α<1","Enter the Alpha value (The smaller the Alpha value the more the filter reduces variations)"]
["Meas_Temp",{"$f":"B62","v":22.713934338773338},"C","preset value","To increase accuracy and reduce start up time of the filter set the Meas_Temp variable to the first temperature value measured."]
["Filtered_Temp",{"$f":"B62","v":22.713934338773338},"C","preset value","To increase accuracy and reduce start up time of the filter set the Filtered_Temp variable to the first temperature value measured."]
["SPS (Samples Per Second)",1,null,"Enter the sample rate per second"]
["LPF (Low Pass Filter)",{"$f":"1/((1/B56)*(1/B53))","v":0.3},"Hz"]
[]
[]
[null,"Example:","Results:"]
["Seconds","Meas_Temp  (°C) ","Filtered_Temp  (°C) "]
[1,22.713934338773338,{"$f":"$B$55-($B$53*($B$55-B62))","v":22.713934338773338}]
[2,21.796071620559228,{"$f":"$C62-($B$53*($C62-B63))","v":22.438575523309105}]
[3,22.369754046985104,{"$f":"$C63-($B$53*($C63-B64))","v":22.417929080411906}]
[4,22.637435324550875,{"$f":"$C64-($B$53*($C64-B65))","v":22.483780953653596}]
[5,22.369754046985104,22.449572881653047]
[6,22.675683791491206,22.517406154604494]
[7,22.637435324550875,22.553414905588408]
[8,22.637435324550875,22.578621031277148]
[9,22.560944619391517,22.573318107711458]
[10,22.560944619391517,22.569606061215474]
[11,22.637435324550875,22.589954840216095]
[12,22.599188934876434,22.592725068614197]
[13,22.752396005966471,22.640626349819879]
[14,22.637435324550875,22.639669042239177]
[15,22.675683791491206,22.650473467014784]
[16,21.98710906814436,22.451464147353658]
[17,22.407988037742921,22.438421314470435]
[18,22.752396005966471,22.532613721919247]
[19,22.637435324550875,22.564060202708735]
[20,22.675683791491206,22.597547279343477]
[21,22.752396005966471,22.644001897330376]
[22,22.560944619391517,22.61908471394872]
[23,22.713934338773338,22.647539601396105]
[24,22.675683791491206,22.655982858424636]
[25,22.752396005966471,22.684906802687188]
[26,22.752396005966471,22.705153563670972]
[27,22.675683791491206,22.696312632017044]
[28,22.637435324550875,22.678649439777192]
[29,22.599188934876434,22.654811288306966]
[30,22.560944619391517,22.626651287632331]
[31,22.637435324550875,22.629886498707894]
[32,22.637435324550875,22.632151146460789]
[33,22.599188934876434,22.622262482985484]
[34,22.560944619391517,22.603867123907293,null,"EXAMPLE OF C CODE",null,null,"Copy the content of the box below, then paste into your C code"]
[35,22.675683791491206,22.625412124182468]
[36,22.637435324550875,22.629019084292992,null,"// Low Pass Filter using an Alpha and preset values to create a filtered or smoothed temperature response -------------------------------------------------"]
[37,22.675683791491206,22.643018496452456,null,"// C code examples only "]
[38,22.981955782375604,22.744699682229399]
[39,23.02022309435311,22.827356705866514,null,"//Floating Point"]
[40,22.828907552718515,22.827821959922115]
[41,22.675683791491206,22.782180509392841,null,"float Meas_Temp = 25;     "," // It's assumed that you have read the ADC and calculated your temperature"]
[42,22.331313199878746,22.646920316538612,null,"float Filtered_Temp = 25;     "," // Set a default filtered temperature value equal to the first measured value to reduce the ramp time"]
[43,22.867166463515883,22.712994160631794,null,"float Alpha = 0.1;     "," // .001<α<1, adjust as required"]
[44,22.675683791491206,22.701801049889617]
[45,22.599188934876434,22.671017415385663,null,"// Insert this line of code after the temperature calculation (remember to add the offset to your temperature values) "]
[46,22.637435324550875,22.660942788135227,null,"Filtered_Temp = Filtered_Temp - (Alpha * (Filtered_Temp - Meas_Temp)); "]
[47,23.173522615221241,22.81471673626103]
[48,23.173522615221241,22.922358499949095]
[49,22.713934338773338,22.859831251596368]
[50,22.675683791491206,22.80458701356482]
[51,22.599188934876434,22.742967589958305]
[52,22.599188934876434,22.699833993433742]
[53,22.484462198673423,22.635222455005646]
[54,22.599188934876434,22.624412398966882]
[55,22.675683791491206,22.639793816724179]
[56,22.446224087277283,22.58172289789011]
[57,22.560944619391517,22.575489414340531]
[58,23.364933346891444,22.812322594105805]
[59,22.790650734557044,22.805821036241177]
[60,22.752396005966471,22.789793527158764]
[61,22.599188934876434,22.732612149474065]
[62,22.560944619391517,22.681111890449301]
[63,22.637435324550875,22.668008920679775]
[64,22.637435324550875,22.658836841841104]
[65,22.867166463515883,22.721335728343536]
[66,22.407988037742921,22.627331421163351]
[67,22.675683791491206,{"$f":"$C127-($B$53*($C127-B128))","v":22.641837132261706}]
[68,22.752396005966471,22.675004794373137]
[69,22.675683791491206,22.675208493508556]
[70,22.637435324550875,22.663876542821253]
[71,22.675683791491206,22.66741871742224]
[72,22.560944619391517,22.635476488013023]
[73,22.637435324550875,22.63606413897438]
[74,22.867166463515883,22.705394836336829]
[75,22.637435324550875,22.685006982801042]
[76,22.713934338773338,22.693685189592731]
[77,22.713934338773338,22.699759934346915]
[78,22.446224087277283,22.623699180226026]
[79,22.599188934876434,22.616346106621148]
[80,22.713934338773338,22.645622576266806]
[81,22.637435324550875,22.643166400752026]
[82,22.675683791491206,22.652921617973782]
[83,23.173522615221241,22.80910191714802]
[84,23.288362669357735,22.952880142810933]
[85,22.522702375017484,22.823826812472898]
[86,22.637435324550875,22.767909366096291]
[87,22.293083328613516,22.625461554851459]
[88,22.599188934876434,22.617579768858953]
[89,22.637435324550875,22.623536435566528]
[90,22.637435324550875,22.627706102261833]
[91,22.713934338773338,22.653574573215284]
[92,22.675683791491206,22.660207338698061]
[93,22.637435324550875,22.653375734453906]
[94,22.637435324550875,22.648593611482998]
[95,22.599188934876434,22.633772208501028]
[96,22.867166463515883,22.703790485005484]
[97,22.713934338773338,22.706833641135841]
[98,22.675683791491206,22.697488686242451]
[99,22.713934338773338,22.702422382001718]
[100,22.675683791491206,22.694400804848563]
[101,22.752396005966471,22.711799365183936]
[102,22.637435324550875,22.689490152994019]
[103,22.675683791491206,22.685348244543174]
[104,22.637435324550875,22.670974368545483]
[105,22.637435324550875,22.660912655347101]
[106,22.675683791491206,22.665343996190334]
[107,22.752396005966471,22.691459599123174]
[108,22.637435324550875,22.675252316751486]
[109,22.828907552718515,22.721348887541595]
[110,23.403221887214254,22.925910787443392]
[111,22.599188934876434,22.827894231673305]
[112,22.599188934876434,22.759282642634243]
[113,22.101964652680959,22.562087245648257]
[114,22.560944619391517,22.561744457771233]
[115,22.675683791491206,22.595926257887225]
[116,22.369754046985104,22.528074594616587]
[117,22.790650734557044,22.606847436598724]
[118,22.675683791491206,22.627498343066467]
[119,22.560944619391517,22.607532225963983]
[120,22.637435324550875,22.616503155540052]
[121,22.675683791491206,22.634257346325398]
[122,22.522702375017484,22.600790854933024]
[123,22.675683791491206,22.623258735900478]
[124,22.599188934876434,22.616037795593265]
[125,22.599188934876434,22.610983137378216]
[126,22.905427470017326,22.699316437169948]
[127,22.637435324550875,22.680752103384226]
[128,22.599188934876434,22.65628315283189]
[129,22.446224087277283,22.593265433165506]
[130,22.675683791491206,22.617990940663216]
[131,22.599188934876434,{"$f":"$C191-($B$53*($C191-B192))","v":22.612350338927182}]
[132,22.752396005966471,22.65436403903897]
[133,22.599188934876434,22.637811507790211]
[134,22.446224087277283,22.580335281636334]
[135,22.599188934876434,22.585991377608362]
[136,22.790650734557044,22.647389184692965]
[137,22.599188934876434,22.632929109748005]
[138,22.752396005966471,22.668769178613545]
[139,22.675683791491206,22.670843562476843]
[140,22.599188934876434,22.64934717419672]
[141,22.522702375017484,22.61135373444295]
[142,22.369754046985104,22.538873828205595]
[143,22.713934338773338,22.591391981375917]
[144,22.675683791491206,22.616679524410504]
[145,22.522702375017484,22.588486379592599]
[146,22.599188934876434,22.591697146177751]
[147,22.713934338773338,22.628368303956428]
[148,22.675683791491206,22.642562950216863]
[149,22.407988037742921,22.572190476474681]
[150,22.637435324550875,22.591763930897539]
[151,22.675683791491206,22.616939889075638]
[152,22.369754046985104,22.542784136448478]
[153,22.560944619391517,22.548232281331391]
[154,22.560944619391517,22.55204598274943]
[155,22.101964652680959,22.417021583728889]
[156,22.140184307473515,22.333970400852277]
[157,22.407988037742921,22.356175691919471]
[158,22.943690575283522,22.532430156928687]
[159,22.369754046985104,22.483627323945612]
[160,22.637435324550875,22.529769724127192]
[161,23.326646941952145,22.768832889474677]
[162,22.560944619391517,22.706466408449728]
[163,22.560944619391517,22.662809871732264]
[164,22.369754046985104,22.574893124308115]
[165,22.599188934876434,22.58218186747861]
[166,22.675683791491206,22.610232444682389]
[167,22.446224087277283,22.561029937460859]
[168,22.446224087277283,22.526588182405785]
[169,22.560944619391517,22.536895113501505]
[170,22.790650734557044,22.613021799818167]
[171,22.560944619391517,22.597398645690173]
[172,22.560944619391517,22.586462437800577]
[173,22.560944619391517,22.578807092277859]
[174,22.446224087277283,22.539032190777686]
[175,22.675683791491206,22.580027670991743]
[176,22.599188934876434,22.585776050157151]
[177,22.522702375017484,22.56685394761525]
[178,22.407988037742921,22.519194174653553]
[179,22.407988037742921,22.485832333580362]
[180,22.713934338773338,22.554262935138254]
[]
[]
[]
[]
[null,22.560944619391517]
[null,22.560944619391517]
[null,22.369754046985104]
[null,22.599188934876434]
[null,22.675683791491206]
[null,22.446224087277283]
[null,22.446224087277283]
[null,22.560944619391517]
[null,22.790650734557044]
[null,22.560944619391517]
[null,22.560944619391517]
[null,22.560944619391517]
[null,22.446224087277283]
[null,22.675683791491206]
[null,22.599188934876434]
[null,22.522702375017484]
[null,22.407988037742921]
[null,22.407988037742921]
[null,22.713934338773338]

{"sheet":"Basic Formulas","index":12,"n_rows":63,"n_cols":9,"rows_kept":63,"cut":false,"hidden":false,"merged":[[0,0,2,20],[3,0,3,24]]}
[]
[]
[]
[]
["Return to Menu"]
[]
[]
[]
[]
[]
[]
[]
[]
[]
[]
[]
[]
["TI Device",{"$f":"Main!$N$22","v":"TMP6131DECR"}]
[]
["Calculate the resistor divider voltage and bits from resistance"]
[]
["TI device resistance",13343,"Ohms ","Thermistor resistance at temperature",null,"VTEMP (Divider Voltage)",{"$f":"B23*(B22/(B22+B24))","v":1.8862999614445444},"Vdc"]
["VBias",{"$f":"Main!$N$25","v":3.3},"Vdc","Input bias voltage to resistors",null,"ADC",{"$f":"(G22/B26)*2^B25","v":3090.5138568307416},"bits "]
["RBias",{"$f":"Main!$N$31","v":10000},"Ohms","Top resistor"]
["ADC",{"$f":"Main!$N$28","v":12},"bits","Bits of resolution"]
["VREF",2.5,"Vdc","VREF of ADC"]
[]
[]
["Calculate the resistor divider voltage and TI device resistance from the ADC bits"]
[]
["ADC bits",1774,"bits","Thermistor resistance at temperature",null,"VTEMP (Divider Voltage)",{"$f":"(B35/(2^B34))*B31","v":1.082763671875},"Vdc"]
["VBias",{"$f":"B23","v":3.3},"Vdc","Input bias voltage to resistors",null,"TI device resistance",{"$f":"G31/((B32-G31)/B33)","v":4883.3931599462667},"Ohms"]
["RBias",{"$f":"B24","v":10000},"Ohms","Top resistor"]
["ADC",{"$f":"B25","v":12},"bits","Bits of resolution"]
["VREF",2.5,"Vdc","VREF of ADC"]
[]
[]
["Calculate the ADC bits and TI device resistance from the resistor divider voltage"]
[]
["Divider Voltage",1.43,"Vdc","VTEMP (Divider Voltage)",null,"ADC_raw",{"$f":"(B40/B44)*2^B43","v":2342.9119999999998},"bits"]
["VBias",{"$f":"B23","v":3.3},"Vdc","Input bias voltage to resistors",null,"TI device resistance",{"$f":"B40/((B41-B40)/B42)","v":7647.0588235294117},"Ohms"]
["RBias",{"$f":"B24","v":10000},"Ohms","Top resistor"]
["ADC",{"$f":"B25","v":12},"bits","Bits of resolution"]
["VREF",2.5,"Vdc","VREF of ADC"]
[]
[]
["Resolution of measurements at low and high temperatures for the selected TI device"]
[]
["RBias",{"$f":"B24","v":10000},"Ohms"]
["VBias",{"$f":"B23","v":3.3},"Vdc"]
["ADC",{"$f":"B25","v":12},{"$f":"2^B51","v":4096},"bits",{"$f":"B50/C51","v":8.0566406249999996E-4},"Vdc","Volts per bit"]
[]
["Maximum temperature",125,null,null,null,"Minimum temperature",-40]
["resistance at max",{"$f":"VLOOKUP(B53,'Device Resistance Tables'!B60:D210,2,FALSE)","v":17605.464931171799},"Ohms","i.e. 125°C",null,"resistance at min",{"$f":"VLOOKUP(G53,'Device Resistance Tables'!B20:D60,3,FALSE)","v":6543.1598748044544},"Ohms","i.e. -40°C"]
["resistance at max -1",{"$f":"VLOOKUP(B53-1,'Device Resistance Tables'!B60:D210,2,FALSE)","v":17509.896246600038},"Ohms","i.e. 124°C",null,"resistance at min +1",{"$f":"VLOOKUP(G53+1,'Device Resistance Tables'!B20:D60,3,FALSE)","v":6586.1994764999499},"Ohms","i.e. -39°C"]
["current at max",{"$f":"B50/(B49+B54)","v":1.1954154759674686E-4},"Amps",null,null,"current at min",{"$f":"B50/(B49+G54)","v":1.9947821486183918E-4},"Amps"]
["current at max -1",{"$f":"B50/(B49+B55)","v":1.1995683191309195E-4},"Amps",null,null,"current at min +1",{"$f":"B50/(B49+G55)","v":1.9896058796806245E-4},"Amps"]
["Voltage at max",{"$f":"B54*B56","v":2.1045845240325312},"VDC",null,null,"Voltage at min",{"$f":"G54*G56","v":1.3052178513816077},"VDC"]
["Voltage at max -1",{"$f":"B55*B57","v":2.1004316808690802},"VDC",null,null,"Voltage at min +1",{"$f":"G55*G57","v":1.3103941203193752},"VDC"]
["Delta V at max",{"$f":"B58-B59","v":4.1528431634509921E-3},"Delta VDC",null,null,"Delta V at min",{"$f":"G59-G58","v":5.1762689377674587E-3},"Delta VDC"]
[]
["bits per degree °C",{"$f":"B60/E51","v":5.154559271968262},"LSB",null,null,"bits per degree °C",{"$f":"G60/E51","v":6.4248477482107615},"LSB"]
["Resolution per bit",{"$f":"1/B62","v":0.19400300728681916},"ºC",null,null,"Resolution per bit",{"$f":"1/G62","v":0.15564571164795107},"°C"]

{"sheet":"RBias TCR_PPM","index":13,"n_rows":50,"n_cols":11,"rows_kept":50,"cut":false,"hidden":false,"merged":[[0,0,2,20],[3,0,3,24]]}
[]
[]
[]
[]
["Return to Menu"]
[]
[]
[]
[]
[]
[]
[]
[]
[]
[]
[]
[]
[]
[]
[]
[]
[]
[]
["TI Device",{"$f":"Main!$N$22","v":"TMP6131DECR"}]
["VBias",{"$f":"Main!$N$25","v":3.3},"Vdc"]
[]
[]
[null,"Value"]
["RBias",10000,"Ohms","Specified resistance for the RBias resistor"]
["Tolerance",1E-3,null,"Resistance tolerance at 25C",null,null,"(Prefered resistor tolerance should be 1% or better)"]
["TCR",10,"PPM","Part Per Million tolerance across temperature (the change in resistance across the entire temperature range)"]
["Temp_max",150,"°C","Maximum operating temperature"]
["Wattage",6.3E-2,"W","Maximum wattage for the resistor"]
["delta Tshift",130,"°C","Temperature shift in degrees per watt (Specification should be in the datasheet)"]
[]
[]
[null,null,"at temp",null,"Resistance at 25°C",null,"at temp"]
[null,"+/- delta","ABS_Min","Min","Specified","Max","ABS_max"]
[null,{"$f":"B29*B30","v":10},{"$f":"D39-((25--40)*B43)","v":9983.5},{"$f":"E39-B39","v":9990},{"$f":"B29","v":10000},{"$f":"E39+B39","v":10010},{"$f":"F39+((B32-25)*B43)","v":10022.5}]
["New Tolerance after PPM -->",null,{"$f":"1-(C39/E39)","v":1.6500000000000403E-3},null,null,null,{"$f":"1-(E39/G39)","v":2.2449488650536642E-3}]
[]
[null,"PPM",null,null,null,null,null,null,"Min additional error","Max additional error"]
[null,{"$f":"B29/1000000*B31","v":0.1},"Ohms/C","Variation of resistance per degrees C",null,null,null,null,{"$f":"C39/1000000*B31/-1","v":-9.9834999999999993E-2},{"$f":"G39/1000000*B31","v":0.10022500000000001},"Ohms"]
[null,{"$f":"(B32--40)*B43","v":19},"Ohms/ppm","Maximum resistance change across temperature",null,null,null,null,{"$f":"((25--40)*I43)","v":-6.4892749999999992},{"$f":"(B32-25)*J43","v":12.528125000000001},"Ohms"]
[]
[]
[]
["Self Heating",{"$f":"B25*(B25/B29)","v":1.0889999999999999E-3},"W","Amount of self heating in the resistor"]
["TC_SH",{"$f":"(B34*B33)*B48","v":8.9189099999999986E-3},"°C","Self heating temperature increase"]
["Rtc_SH",{"$f":"B43*B49","v":8.9189099999999991E-4},"Ohms","Resistance change due to self heating"]

{"sheet":"Worst-Case Analysis","index":14,"n_rows":622,"n_cols":18,"rows_kept":622,"cut":false,"hidden":true,"merged":[[85,0,88,3],[73,0,76,3],[62,0,66,3],[146,0,146,3],[147,0,147,11],[119,0,123,3],[108,0,111,3],[90,0,90,3],[91,0,91,3],[93,0,93,3],[96,0,100,3],[149,0,150,3],[38,8,38,11],[46,8,46,11],[130,0,130,3],[131,0,134,11],[136,0,137,3],[46,0,46,3],[47,8,47,11],[60,0,60,3],[83,0,83,3],[106,0,106,3],[117,0,117,3],[94,0,94,3],[71,0,71,3],[46,4,46,7],[47,0,47,3],[38,0,38,3],[38,4,39,7],[47,4,48,7],[0,0,2,20],[3,0,3,24],[28,8,28,11],[29,8,29,11],[36,0,36,3],[37,0,37,3],[36,8,36,11],[37,8,37,11],[28,0,28,3],[29,0,29,3],[28,4,28,7],[36,4,36,7],[37,4,37,7],[29,4,30,7],[3,25,3,49],[25,0,26,3],[25,4,26,7],[25,8,26,11],[27,8,27,11],[27,0,27,3],[27,4,27,7]]}
[]
[]
[]
[]
["Return to Menu",null,"TI Information – NDA Restrictions"]
[]
[]
[]
[]
[]
[]
[]
[]
[]
[]
[]
[]
[]
[]
[]
[]
[]
[null,"Device"]
["TI Device",{"$f":"Main!$N$22","v":"TMP6131DECR"},"This part number comes from the \"Main\" tab"]
[]
["Edit variables outlined in red below",null,null,null,"Without offset calibration",null,null,null,"With offset calibration"]
[]
[]
["Regulator parameters (VBias)",null,null,null,"Impact of VBias ppm and tolerance",null,null,null,"Impact of VBias ppm"]
["You can edit the VBias Vdc value in the \"Main\" tab",null,null,null,"Worst case error of Vbias across the temperature range with Vbias tolerance and PPM contributing to the error.",null,null,null,"An offset calibration eliminates the error of VBias tolerance, leaving only PPM as a contributor of error."]
[]
["VBias ",{"$f":"Main!$N$25","v":3.3},"Vdc ",null,"Min ",null,"Max",null,"Min ",null,"Max"]
["Error_ppm_temp (ppm across temperature)",10,"ppm / ℃",null,{"$f":"B32-(B32*B34)","v":3.2834999999999996},"Vdc tol",{"$f":"B32+(B32*B34)","v":3.3165},"Vdc tol",{"$f":"B32+((B143-B141)*((B32*(1-B33))/1000000))","v":3.2950994999999996},"Vdc ppm",{"$f":"B32-((B143-B141)*((B32*(1-B33))/1000000))","v":3.3049005},"Vdc ppm"]
["Error_Tolerance (at 25C)",5.0000000000000001E-3,null,null,{"$f":"E33+((B143-B141)*((B32*(1-B33))/1000000))","v":3.2785994999999994},"Vdc tol + ppm",{"$f":"G33-((B143-B141)*((B32*(1-B33))/1000000))","v":3.3214005000000002},"Vdc tol + ppm"]
[]
[]
[]
["Top Resistor parameters (RBias)",null,null,null,"Impact of RBias ppm and tolerance",null,null,null,"Impact of RBias ppm"]
["You can edit the RBias tolerance and TCR in the \"Rbias TCR_PPM\" tab",null,null,null,"Worst case error of Rbias across the temperature range with Rbias tolerance and PPM contributing to the error.",null,null,null,"An offset calibration eliminates the error of RBias tolerance, leaving only PPM as a contributor of error."]
[]
["RBias",{"$f":"'RBias TCR_PPM'!B29","v":10000},"Ohms",null,"Min ",null,"Max",null,"Min ",null,"Max"]
["Tolerance (at 25C)",{"$f":"'RBias TCR_PPM'!B30","v":1E-3},null,null,{"$f":"'RBias TCR_PPM'!D39","v":9990},"Ohms tol",{"$f":"'RBias TCR_PPM'!F39","v":10010},"Ohms tol",{"$f":"B41+'RBias TCR_PPM'!I44","v":9993.5107250000001},"Ohms ppm",{"$f":"B41+'RBias TCR_PPM'!J44","v":10012.528125000001},"Ohms ppm"]
["TCR",{"$f":"'RBias TCR_PPM'!B31","v":10},"PPM",null,{"$f":"'RBias TCR_PPM'!C39","v":9983.5},"Ohms tol + ppm",{"$f":"'RBias TCR_PPM'!G39","v":10022.5},"Ohms tol +ppm"]
[]
[]
[]
["ADC parameters",null,null,null,"Impact of ADC resolution and LSB error",null,null,null,"Impact of ADC resolution and LSB error"]
["You can edit the ADC resolution in the \"Main\" tab",null,null,null,"Worst case error of ADC across the temperature range with Vbias tolerance and PPM contributing to the error.",null,null,null,"An offset calibration eliminates the LSB error of the ADC."]
[]
["ADC resolution ",{"$f":"Main!N28","v":12},"Bits"]
["LSB Error ",2,"+/- LSB",null,"Min ",null,"Max",null,"Min ",null,"Max"]
["Total LSB of resolution ",{"$f":"(2^B50)","v":4096},"LSB",null,{"$f":"E34/B52","v":8.0043933105468736E-4},"Vdc tol + ppm",{"$f":"G34/B52","v":8.1088879394531255E-4},"Vdc tol + ppm",{"$f":"I33/B52","v":8.0446765136718741E-4},"Vdc ppm",{"$f":"K33/B52","v":8.068604736328125E-4},"Vdc ppm"]
["Volts per LSB",{"$f":"B32/B52","v":8.0566406249999996E-4},"Vdc/LSB"]
["LSB per ℃ at Tmin",{"$f":"ROUND(LOOKUP(B141,B191:L401)/$B$53,0)","v":6},"LSB",null,{"$f":"ROUND((LOOKUP(B141,B191:L401)/$E$52),0)","v":6},"LSB's per ℃ / Tmin",{"$f":"ROUND((LOOKUP(B141,B191:L401)/$G$52),0)","v":6},"LSB's per ℃ / Tmin",{"$f":"ROUND((LOOKUP(B141,B191:L401)/$I$52),0)","v":6},"LSB's per ℃ / Tmin",{"$f":"ROUND((LOOKUP(B141,B191:L401)/$K$52),0)","v":6},"LSB's per ℃ / Tmin"]
["LSB per ℃ at 25C",{"$f":"ROUND(LOOKUP(B142,B191:L401)/$B$53,0)","v":6},"LSB",null,{"$f":"ROUND(LOOKUP(B142,B191:L401)/$E$52,0)","v":6},"LSB's per ℃ @ 25C",{"$f":"ROUND(LOOKUP(B142,B191:L401)/$G$52,0)","v":6},"LSB's per ℃ @ 25C",{"$f":"ROUND(LOOKUP(B142,B191:L401)/$I$52,0)","v":6},"LSB's per ℃ @ 25C",{"$f":"ROUND(LOOKUP(B142,B191:L401)/$K$52,0)","v":6},"LSB's per ℃ @ 25C"]
["LSB per ℃ at Tmax",{"$f":"ROUND(LOOKUP(B143-1,B191:L401)/$B$53,0)","v":5},"LSB",null,{"$f":"ROUND(LOOKUP(B143-1,B191:L401)/$E$52,0)","v":5},"LSB's per ℃ / Tmax",{"$f":"ROUND(LOOKUP(B143-1,B191:L401)/$G$52,0)","v":5},"LSB's per ℃ / Tmax",{"$f":"ROUND(LOOKUP(B143-1,B191:L401)/$I$52,0)","v":5},"LSB's per ℃ / Tmax",{"$f":"ROUND(LOOKUP(B143-1,B191:L401)/$K$52,0)","v":5},"LSB's per ℃ / Tmax"]
["℃ step size per LSB  ",{"$f":"1/B55","v":0.16666666666666666},"℃/LSB ",null,{"$f":"1/E55","v":0.16666666666666666},"℃ step size per LSB",{"$f":"1/G55","v":0.16666666666666666},"℃ step size per LSB",{"$f":"1/I55","v":0.16666666666666666},"℃ step size per LSB",{"$f":"1/K55","v":0.16666666666666666},"℃ step size per LSB"]
["℃ error (from LSB Error)",{"$f":"B57*B51","v":0.33333333333333331},"℃",null,{"$f":"E57*B51","v":0.33333333333333331},"℃ potential LSB error",{"$f":"G57*B51","v":0.33333333333333331},"℃ potential LSB error",{"$f":"I57*B51","v":0.33333333333333331},"℃ potential LSB error",{"$f":"K57*B51","v":0.33333333333333331},"℃ potential LSB error"]
[]
[]
["Without offset calibration"]
[]
["This plot shows the worst case min/max resistance values when taking into account the errors associated with TMP6 tolerance and Vbias tolerance + PPM. Cells E34 and G34 (Min/Max Vdc Tol+PPM), are used to calculate the new worst case min/max resistance values for TMP6. The datapoints plotted on this graph come from cells I191:I401 (Min) and K191:K401 (Max)."]
[]
[]
[]
[]
[]
[]
[]
[]
["With offset calibration"]
[]
["This plot shows the worst case min and max resistance of TMP6 after conducting an offset calibration. Thanks to the calibration, which eliminates tolerance errors from Vbias and TMP6, the TMP6 would only have its expected resistance values, no min/max."]
[]
[]
[]
[]
[]
[]
[]
[]
[]
["Without offset calibration"]
[]
["This plot translates the graph above (worst case min/max resistance...) to degrees Celsius. This includes TMP6 tolerance and Vbias tolerance + PPM. This excludes the impact of Rbias tolerance and PPM. The datapoints plotted on this graph come from cells H192:H401 (Min) and M192:M401 (Max)."]
[]
[]
[]
[]
[]
[]
[]
["Note: Sensitivity is in ΔΩ/°C and it comes from column H of the NTC Thermistor Comparison tab"]
["With offset calibration"]
[]
["In theory, there would be no worst case error for this graph since the expected resistance is all there is... meaning the error would be 0. However, in practice nothing is perfect. So we decided to show what we got by testing a bunch of units across multiple Lots. This plot shows the measured accuracy of TMP6 validation units after calibration. After performing an offset calibration, the error of the TMP6 is greatly reduced due to the linearity of the device."]
[]
[]
[]
[]
[]
[]
[]
[]
[]
["Without offset calibration"]
[]
["This plot adds onto the graph above (worst case min/max temperature...) by including the impact of Rbias tolerance and PPM. The datapoints plotted on this graph come from cells C191:C401 (Min) and R191:R401 (Max)."]
[]
[]
[]
[]
[]
[]
[null,null,null,null,null,null,null,null,null,"Missing these calculations/graph"]
[]
["With offset calibration"]
[]
["This plot shows the worst case system error after performing an offset calibration. By performing an offset calibration you eliminate the TMP6, Vbias and Rbias tolerance errors and their impact on the temperature reading. What's left over that does impact the accuracy of your reading is the PPM errors from Vbias and Rbias. The datapoints plotted on this graph come from cells C412:C622 (Min) and N412:N622 (Max)."]
[]
[]
[]
[]
[]
[]
[]
[]
[]
[]
["TCR Standard MIL-202 Method 304"]
["Temperature coefficient of resistance (TCR) is the calculation of a relative change of resistance per degree of temperature change. TCR is calculated for the range between -40°C and 25°C and between 25°C and 125°C. The highest measured value is defined as TCR. The resistance-temperature characteristic, in ppm (parts per Million, ppm/°C (1 ppm = 0.0001%)) change in resistance per degree centigrade, at each test temperature shall be computed as follows.\n  NOTE: TCR is a linear slope calculation between two points. It defines the rate of change between the selected temperatures.\n  NOTE:  Changing the Tmin and Tmax values in this section will affect the \"Without offset calculation\" and \"With offset calculation\" sections."]
[]
[]
[]
[]
["Temperature Characteristic Resistance = ((R2-R1)/R1*(T2-T1))*10^6",null,null,null,"R1 = resistance at reference temperature (in same series as test temperature) in ohms.",null,null,null,"T1 = reference temperature in degrees Celsius. (Always the lowest value)"]
[null,null,null,null,"R2 = resistance at test temperature in ohms. ",null,null,null,"T2 = test temperature in degrees Celsius. "]
[]
[null,"TCR",null,null,"TCR_ppm/C = (R2– R1) / R1* (T2– T1) * 10^6"]
["Tmin",-40,"℃",null,{"$f":"LOOKUP(B141,B191:J401)","v":6543.1598748044544},"Ohms",{"$f":"(E142-E141)/(E141*(B142-B141))*10^6","v":8031.0658884248442},"ppm",{"$f":"\"TCR \"&CELL(\"contents\",$B$141)&\"C/\"&CELL(\"contents\",$B$142)&\"C\"","v":"TCR -40C/25C"}]
["Tnom",25,"℃",null,{"$f":"LOOKUP(B142,B191:J401)","v":9958.8154995528494},"Ohms",{"$f":"(J257-E142)/(E142*(B257-B142))*10^6","v":6283.6762789917666},"ppm",{"$f":"\"TCR \"&CELL(\"contents\",$B$142)&\"C/26C\"","v":"TCR 25C/26C"}]
["Tmax",125,"℃",null,{"$f":"LOOKUP(B143,B191:J401)","v":17873.568458042435},"Ohms",{"$f":"(E143-E142)/(E142*(B143-B142))*10^6","v":7947.4842754592228},"ppm",{"$f":"\"TCR \"&CELL(\"contents\",$B$142)&\"C/\"&CELL(\"contents\",$B$143)&\"C\"","v":"TCR 25C/125C"}]
[]
[]
[]
["Calculate the beta value of a thermistor"]
["NOTE: Beta is a only valid at the two temperatures calculated. It defines the rate of rise on the slope. The Beta value for the TMP6 is much lower than an NTC. This is due to the lower dynamic range and linearization of the slope. Temperatures are in Kelvin: 25C = (273.15 + 25) = 298.15K"]
[]
["B = ln(RT1/RT2)/(1/T1-T2)",null,null,null,"RT1 = Resistance at Temperature 1 ",null,"T1 = Temperature 1 (K)  (Always the lowest value)"]
[null,null,null,null,"RT2 = Resistance at Temperature 2",null,"T2 = Temperature 2 (K)"]
[]
[null,"Beta",null,null,"               B = ln(RT1/RT2)/(1/T1-T2)",null,"0.5% Beta accuracy"]
["Tnom",25,"℃",null,{"$f":"LOOKUP(B154,B191:J401)","v":9958.8154995528494},"Ohms"]
["Tmin",50,"℃",null,{"$f":"LOOKUP(B155,B191:J401)","v":11618.463547295365},"Ohms",{"$f":"1-(LN(E154/E155))/((1/(273.15+B154))-(1/(273.15+B155)))","v":595.02802595667117},"B",{"$f":"\"Beta \"&CELL(\"contents\",$B$154)&\"C/\"&CELL(\"contents\",$B$155)&\"C\"","v":"Beta 25C/50C"}]
["Tmax",85,"℃",null,{"$f":"LOOKUP(B156,B191:J401)","v":14288.297678581066},"Ohms",{"$f":"1-(LN(E154/E156))/((1/(273.15+B154))-(1/(273.15+B156)))","v":643.4434874719833},"B",{"$f":"\"Beta \"&CELL(\"contents\",$B$154)&\"C/\"&CELL(\"contents\",$B$156)&\"C\"","v":"Beta 25C/85C"}]
["Tmax",100,"℃",null,{"$f":"LOOKUP(B157,B191:J401)","v":15563.210941021794},"Ohms",{"$f":"1-(LN(E154/E157))/((1/(273.15+B154))-(1/(273.15+B157)))","v":663.26452802916867},"B",{"$f":"\"Beta \"&CELL(\"contents\",$B$154)&\"C/\"&CELL(\"contents\",$B$157)&\"C\"","v":"Beta 25C/100C"}]
[]
[]
[]
["Hide","Min Resistances"]
[null,"COEFFICENT","X0","X1","X2","X3","X4",null,null,"Temperature as a function of resistance"]
[null,"A0",{"$f":"VLOOKUP(Main!$N$22&\"A0\",Coefficients!$E$52:$K$212,3,FALSE)","v":8339.9251945161704},{"$f":"VLOOKUP(Main!$N$22&\"A0\",Coefficients!$E$52:$K$212,4,FALSE)","v":54.154715686148002},{"$f":"VLOOKUP(Main!$N$22&\"A0\",Coefficients!$E$52:$K$212,5,FALSE)","v":-5.78616061394467},{"$f":"VLOOKUP(Main!$N$22&\"A0\",Coefficients!$E$52:$K$212,6,FALSE)","v":1.47111238439537},{"$f":"VLOOKUP(Main!$N$22&\"A0\",Coefficients!$E$52:$K$212,7,FALSE)","v":-0.115876333353779},null,"A4","A3","A2","A1","A0"]
[null,"A1",{"$f":"VLOOKUP(Main!$N$22&\"A1\",Coefficients!$E$52:$K$212,3,FALSE)","v":53.519439171642901},{"$f":"VLOOKUP(Main!$N$22&\"A1\",Coefficients!$E$52:$K$212,4,FALSE)","v":0.111930161345648},{"$f":"VLOOKUP(Main!$N$22&\"A1\",Coefficients!$E$52:$K$212,5,FALSE)","v":0.18987442220474199},{"$f":"VLOOKUP(Main!$N$22&\"A1\",Coefficients!$E$52:$K$212,6,FALSE)","v":-4.60507145157859E-2},{"$f":"VLOOKUP(Main!$N$22&\"A1\",Coefficients!$E$52:$K$212,7,FALSE)","v":3.7681976436438999E-3},null,{"$f":"IF((VLOOKUP(Main!$N$22,Coefficients!$E$2:$H$28,4,FALSE)) = 125,LINEST('Device Resistance Tables'!$B$20:$B$185,'Device Resistance Tables'!$E$20:$E$185^{1,2,3,4},TRUE,FALSE),LINEST('Device Resistance Tables'!$B$20:$B$210,'Device Resistance Tables'!$E$20:$E$210^{1,2,3,4},TRUE,FALSE))","v":-2.2996162688185005E-15},1.4051462730900837E-10,-3.5045150872958147E-6,5.3108297647808785E-2,-272.43502154685206,"Regression"]
[null,"A2",{"$f":"VLOOKUP(Main!$N$22&\"A2\",Coefficients!$E$52:$K$212,3,FALSE)","v":0.14962693895820001},{"$f":"VLOOKUP(Main!$N$22&\"A2\",Coefficients!$E$52:$K$212,4,FALSE)","v":-5.4830524870576897E-3},{"$f":"VLOOKUP(Main!$N$22&\"A2\",Coefficients!$E$52:$K$212,5,FALSE)","v":3.8003927509140199E-3},{"$f":"VLOOKUP(Main!$N$22&\"A2\",Coefficients!$E$52:$K$212,6,FALSE)","v":-8.04689323736446E-4},{"$f":"VLOOKUP(Main!$N$22&\"A2\",Coefficients!$E$52:$K$212,7,FALSE)","v":5.84268115194529E-5}]
[null,"A3",{"$f":"VLOOKUP(Main!$N$22&\"A3\",Coefficients!$E$52:$K$212,3,FALSE)","v":7.7764366717815907E-6},{"$f":"VLOOKUP(Main!$N$22&\"A3\",Coefficients!$E$52:$K$212,4,FALSE)","v":1.0146010335395299E-4},{"$f":"VLOOKUP(Main!$N$22&\"A3\",Coefficients!$E$52:$K$212,5,FALSE)","v":-5.8340665406269602E-5},{"$f":"VLOOKUP(Main!$N$22&\"A3\",Coefficients!$E$52:$K$212,6,FALSE)","v":1.3401513694378001E-5},{"$f":"VLOOKUP(Main!$N$22&\"A3\",Coefficients!$E$52:$K$212,7,FALSE)","v":-1.0941921253097099E-6}]
[null,"A4",{"$f":"VLOOKUP(Main!$N$22&\"A4\",Coefficients!$E$52:$K$212,3,FALSE)","v":3.5239682993970999E-7},{"$f":"VLOOKUP(Main!$N$22&\"A4\",Coefficients!$E$52:$K$212,4,FALSE)","v":-4.1515958229399602E-7},{"$f":"VLOOKUP(Main!$N$22&\"A4\",Coefficients!$E$52:$K$212,5,FALSE)","v":2.7552937506444702E-7},{"$f":"VLOOKUP(Main!$N$22&\"A4\",Coefficients!$E$52:$K$212,6,FALSE)","v":-6.7111197681992294E-8},{"$f":"VLOOKUP(Main!$N$22&\"A4\",Coefficients!$E$52:$K$212,7,FALSE)","v":5.7413790872433604E-9}]
[null,null,null,null,null,null,null,null,null,"The first two rows here have never been correct on any other version, don't know what it could be.",{"$f":"($B$32/1000000)*$B$39","v":0}]
[null,"Resistance as a function of temperature",null,null,null,null,null,null,null,null,{"$f":"(B32-(($B$226-#REF!))*($B$32/1000000)*$B$39)","v":{"$error":"#REF!"}},"Ohms ppm"]
[null,"A0","A1","A2","A3","A4",null,null,null,null,{"$f":"(B41-(($B$256-$B$191))*($B$41/1000000)*$B$43)-(B41*B42)","v":9983.5},"Ohms tol +ppm"]
[null,{"$f":"$C$163+$D$163*$E$34+$E$163*$E$34*$E$34+$F$163*$E$34*$E$34*$E$34+$G$163*$E$34*$E$34*$E$34*$E$34","v":8493.7366201046225},{"$f":"$C$164+$D$164*$E$34+$E$164*$E$34*$E$34+$F$164*$E$34*$E$34*$E$34+$G$164*$E$34*$E$34*$E$34*$E$34","v":54.739876674205462},{"$f":"$C$165+$D$165*$E$34+$E$165*$E$34*$E$34+$F$165*$E$34*$E$34*$E$34+$G$165*$E$34*$E$34*$E$34*$E$34","v":0.15089324652692082},{"$f":"$C$166+$D$166*$E$34+$E$166*$E$34*$E$34+$F$166*$E$34*$E$34*$E$34+$G$166*$E$34*$E$34*$E$34*$E$34","v":5.9179142823940416E-5},{"$f":"$C$167+$D$167*$E$34+$E$167*$E$34*$E$34+$F$167*$E$34*$E$34*$E$34+$G$167*$E$34*$E$34*$E$34*$E$34","v":2.512127676799599E-7},"4th Order Polynomial"]
[null,null,null,null,null,null,"Done"]
[]
[null,"Max Resistances"]
[null,"COEFFICENT","X0","X1","X2","X3","X4",null,null,"Temperature as a function of resistance"]
[null,"A0",{"$f":"VLOOKUP(Main!$N$22&\"A0\",Coefficients!$E$52:$K$212,3,FALSE)","v":8339.9251945161704},{"$f":"VLOOKUP(Main!$N$22&\"A0\",Coefficients!$E$52:$K$212,4,FALSE)","v":54.154715686148002},{"$f":"VLOOKUP(Main!$N$22&\"A0\",Coefficients!$E$52:$K$212,5,FALSE)","v":-5.78616061394467},{"$f":"VLOOKUP(Main!$N$22&\"A0\",Coefficients!$E$52:$K$212,6,FALSE)","v":1.47111238439537},{"$f":"VLOOKUP(Main!$N$22&\"A0\",Coefficients!$E$52:$K$212,7,FALSE)","v":-0.115876333353779},null,"A4","A3","A2","A1","A0"]
[null,"A1",{"$f":"VLOOKUP(Main!$N$22&\"A1\",Coefficients!$E$52:$K$212,3,FALSE)","v":53.519439171642901},{"$f":"VLOOKUP(Main!$N$22&\"A1\",Coefficients!$E$52:$K$212,4,FALSE)","v":0.111930161345648},{"$f":"VLOOKUP(Main!$N$22&\"A1\",Coefficients!$E$52:$K$212,5,FALSE)","v":0.18987442220474199},{"$f":"VLOOKUP(Main!$N$22&\"A1\",Coefficients!$E$52:$K$212,6,FALSE)","v":-4.60507145157859E-2},{"$f":"VLOOKUP(Main!$N$22&\"A1\",Coefficients!$E$52:$K$212,7,FALSE)","v":3.7681976436438999E-3},null,{"$f":"IF((VLOOKUP(Main!$N$22,Coefficients!$E$2:$H$28,4,FALSE)) = 125,LINEST('Device Resistance Tables'!$B$20:$B$185,'Device Resistance Tables'!$E$20:$E$185^{1,2,3,4},TRUE,FALSE),LINEST('Device Resistance Tables'!$B$20:$B$210,'Device Resistance Tables'!$E$20:$E$210^{1,2,3,4},TRUE,FALSE))","v":-2.2996162688185005E-15},1.4051462730900837E-10,-3.5045150872958147E-6,5.3108297647808785E-2,-272.43502154685206,"Regression"]
[null,"A2",{"$f":"VLOOKUP(Main!$N$22&\"A2\",Coefficients!$E$52:$K$212,3,FALSE)","v":0.14962693895820001},{"$f":"VLOOKUP(Main!$N$22&\"A2\",Coefficients!$E$52:$K$212,4,FALSE)","v":-5.4830524870576897E-3},{"$f":"VLOOKUP(Main!$N$22&\"A2\",Coefficients!$E$52:$K$212,5,FALSE)","v":3.8003927509140199E-3},{"$f":"VLOOKUP(Main!$N$22&\"A2\",Coefficients!$E$52:$K$212,6,FALSE)","v":-8.04689323736446E-4},{"$f":"VLOOKUP(Main!$N$22&\"A2\",Coefficients!$E$52:$K$212,7,FALSE)","v":5.84268115194529E-5}]
[null,"A3",{"$f":"VLOOKUP(Main!$N$22&\"A3\",Coefficients!$E$52:$K$212,3,FALSE)","v":7.7764366717815907E-6},{"$f":"VLOOKUP(Main!$N$22&\"A3\",Coefficients!$E$52:$K$212,4,FALSE)","v":1.0146010335395299E-4},{"$f":"VLOOKUP(Main!$N$22&\"A3\",Coefficients!$E$52:$K$212,5,FALSE)","v":-5.8340665406269602E-5},{"$f":"VLOOKUP(Main!$N$22&\"A3\",Coefficients!$E$52:$K$212,6,FALSE)","v":1.3401513694378001E-5},{"$f":"VLOOKUP(Main!$N$22&\"A3\",Coefficients!$E$52:$K$212,7,FALSE)","v":-1.0941921253097099E-6}]
[null,"A4",{"$f":"VLOOKUP(Main!$N$22&\"A4\",Coefficients!$E$52:$K$212,3,FALSE)","v":3.5239682993970999E-7},{"$f":"VLOOKUP(Main!$N$22&\"A4\",Coefficients!$E$52:$K$212,4,FALSE)","v":-4.1515958229399602E-7},{"$f":"VLOOKUP(Main!$N$22&\"A4\",Coefficients!$E$52:$K$212,5,FALSE)","v":2.7552937506444702E-7},{"$f":"VLOOKUP(Main!$N$22&\"A4\",Coefficients!$E$52:$K$212,6,FALSE)","v":-6.7111197681992294E-8},{"$f":"VLOOKUP(Main!$N$22&\"A4\",Coefficients!$E$52:$K$212,7,FALSE)","v":5.7413790872433604E-9}]
[]
[null,"Resistance as a function of temperature"]
[null,"A0","A1","A2","A3","A4"]
[null,{"$f":"$C$163+$D$163*$G$34+$E$163*$G$34*$G$34+$F$163*$G$34*$G$34*$G$34+$G$163*$G$34*$G$34*$G$34*$G$34","v":8495.7641154286848},{"$f":"$C$164+$D$164*$G$34+$E$164*$G$34*$G$34+$F$164*$G$34*$G$34*$G$34+$G$164*$G$34*$G$34*$G$34*$G$34","v":54.757095391067054},{"$f":"$C$165+$D$165*$G$34+$E$165*$G$34*$G$34+$F$165*$G$34*$G$34*$G$34+$G$165*$G$34*$G$34*$G$34*$G$34","v":0.15096639606573611},{"$f":"$C$166+$D$166*$G$34+$E$166*$G$34*$G$34+$F$166*$G$34*$G$34*$G$34+$G$166*$G$34*$G$34*$G$34*$G$34","v":5.904863218729269E-5},{"$f":"$C$167+$D$167*$G$34+$E$167*$G$34*$G$34+$F$167*$G$34*$G$34*$G$34+$G$167*$G$34*$G$34*$G$34*$G$34","v":2.5275904791944688E-7},"4th Order Polynomial"]
[null,null,null,null,null,null,"Done"]
[]
[]
[]
["NO OFFSET CORRRECTION",null,null,null,null,null,null,"System","TMP6 Only","TMP6 Only","TMP6 Only",null,"TMP6 Only","TMP6 Only",null,"System"]
["Line #","Temperature (°C)","WC temp Error Min No Offset ","Delta from Nominal Min","Calculated sense Min","Min Vdc tol + ppm","RBias Ohms tol + ppm","TMP6 ℃ Error Min","Recalculated Resistance (Ω) from VBias Min","Expected  Resistance (Ω)","Recalculated Resistance (Ω) from VBias Max","Expected mV/℃","TMP6 ℃ Error Max","RBias Ohms tol +ppm","Max Vdc tol + ppm","Calculated Sense Max","Delta from Nominal  sense Max","WC temp Error Max No Offset"]
[1,-40,null,{"$f":"IFERROR(E191-($B$32/(J191+$B$41)*J191),NA())","v":-2.0505179886705083E-2},{"$f":"IFERROR((F191/(I191+N191))*I191,NA())","v":1.2847126714949026},{"$f":"IFERROR($E$33+(($B$256-B191)*(($B$32*(1-$B$33))/1000000)),NA())","v":3.2815694999999998},{"$f":"IFERROR(($B$41-(($B$256-B191))*($B$41/1000000)*$B$43)-($B$41*$B$42),NA())","v":9983.5},null,{"$f":"IFERROR(($F$171*B191^4 + $E$171*B191^3 + $D$171*B191^2 + $C$171*B191 + $B$171)*0.985,NA())","v":6444.289991317145},{"$f":"'Device Resistance Tables'!D20","v":6543.1598748044544},{"$f":"IFERROR(($F$184*B191^4 + $E$184*B191^3 + $D$184*B191^2 + $C$184*B191 + $B$184)*1.015,NA())","v":6642.0529014567746},{"$f":"IFERROR('NTC Thermistor Comparison'!F34-'NTC Thermistor Comparison'!F33,NA())","v":5.1762689377674587E-3},null,{"$f":"IFERROR(($B$41+(($B$256-B191))*($B$41/1000000)*$B$43)+($B$41*$B$42),NA())","v":10016.5},{"$f":"IFERROR($G$33-(($B$256-B191)*(($B$32*(1-$B$33))/1000000)),NA())","v":3.3184304999999998},{"$f":"IFERROR(O191/(K191+G191)*K191,NA())","v":1.3257418301484789},{"$f":"IFERROR(P191-($B$32/(J191+$B$41)*J191),NA())","v":2.0523978766871176E-2}]
[2,{"$f":"B191+1","v":-39},{"$f":"IFERROR(D192/L192,NA())","v":-3.9605349782180741},-2.0532977005722319E-2,{"$f":"IFERROR((F192/(I192+N192))*I192,NA())","v":1.2898611433136529},3.2815991999999996,9983.6,{"$f":"IFERROR((I192-J192)/'NTC Thermistor Comparison'!H34,NA())","v":-2.3123032765154194},6486.678864479537,{"$f":"'Device Resistance Tables'!D21","v":6586.1994764999499},6685.7434107387871,{"$f":"IFERROR('NTC Thermistor Comparison'!F35-'NTC Thermistor Comparison'!F34,NA())","v":5.1843948150056551E-3},{"$f":"IFERROR((K192-J192)/'NTC Thermistor Comparison'!H34,NA())","v":2.3128451546347675},10016.4,3.3184008,{"$f":"IFERROR(O192/(K192+G192)*K192,NA())","v":1.3309448210478156},{"$f":"IFERROR(P192-($B$32/(J192+$B$41)*J192),NA())","v":2.0550700728440452E-2},{"$f":"IFERROR(Q192/L192,NA())","v":3.9639536458447822}]
[3,{"$f":"B192+1","v":-38},-3.9598771409970315,-2.0560469451812446E-2,1.2950180456825684,3.2816288999999998,9983.7000000000007,{"$f":"IFERROR((I193-J193)/'NTC Thermistor Comparison'!H35,NA())","v":-2.3118088681077325},6529.3558739902492,{"$f":"'Device Resistance Tables'!D22","v":6629.5317056772819},6729.731040235798,{"$f":"IFERROR('NTC Thermistor Comparison'!F36-'NTC Thermistor Comparison'!F35,NA())","v":5.1921988283292198E-3},{"$f":"IFERROR((K193-J193)/'NTC Thermistor Comparison'!H35,NA())","v":2.3123512558853632},10016.299999999999,3.3183710999999998,1.3361556308175215,2.057711568314069E-2,{"$f":"IFERROR(Q193/L193,NA())","v":3.963083149063868}]
[4,-37,-3.9594045923819969,-2.0587652982297033E-2,1.300183060980413,3.2816585999999996,9983.7999999999993,{"$f":"IFERROR((I194-J194)/'NTC Thermistor Comparison'!H36,NA())","v":-2.3114176027856899},6572.3211409592295,{"$f":"'Device Resistance Tables'!D23","v":6673.1566841711856},6774.0159125013752,{"$f":"IFERROR('NTC Thermistor Comparison'!F37-'NTC Thermistor Comparison'!F36,NA())","v":5.1996840691421742E-3},{"$f":"IFERROR((K194-J194)/'NTC Thermistor Comparison'!H36,NA())","v":2.3119605283996667},10016.200000000001,3.3183414,1.3413739334577051,2.0603219494994995E-2,3.9623983344038138]
[5,-36,-3.9591132990321274,-2.0614523469894896E-2,1.3053558745619573,3.2816882999999994,9983.9,{"$f":"IFERROR((I195-J195)/'NTC Thermistor Comparison'!H37,NA())","v":-2.3111271219291072},6615.5747924350935,{"$f":"'Device Resistance Tables'!D24","v":6717.0745398642093},6818.5981562463021,{"$f":"IFERROR('NTC Thermistor Comparison'!F38-'NTC Thermistor Comparison'!F37,NA())","v":5.2068536343565786E-3},{"$f":"IFERROR((K195-J195)/'NTC Thermistor Comparison'!H37,NA())","v":2.3116706127849405},10016.1,3.3183117000000002,1.3465994061757578,2.0629008143905558E-2,3.9618951467712473]
[6,-35,-3.9589993354925159,-2.0641076901829036E-2,1.3105361747643798,3.2817179999999997,9984,{"$f":"IFERROR((I196-J196)/'NTC Thermistor Comparison'!H38,NA())","v":-2.310935130310193},6659.116961405125,{"$f":"'Device Resistance Tables'!D25","v":6761.2854066867121},6863.4779063385649,{"$f":"IFERROR('NTC Thermistor Comparison'!F39-'NTC Thermistor Comparison'!F38,NA())","v":5.2137106255061294E-3},{"$f":"IFERROR((K196-J196)/'NTC Thermistor Comparison'!H38,NA())","v":2.3114792130661885},10016,3.318282,1.3518317293909181,2.0654477724709297E-2,3.9615696398002966]
[7,-34,-3.959058880509736,-2.0667309378906928E-2,1.315723652912808,3.2817476999999995,9984.1,{"$f":"IFERROR((I197-J197)/'NTC Thermistor Comparison'!H39,NA())","v":-2.3108393939393883},6702.9477867952801,{"$f":"'Device Resistance Tables'!D26","v":6805.7894246168671},6908.6553038033653,{"$f":"IFERROR('NTC Thermistor Comparison'!F40-'NTC Thermistor Comparison'!F39,NA())","v":5.2202581478772991E-3},{"$f":"IFERROR((K197-J197)/'NTC Thermistor Comparison'!H39,NA())","v":2.3113840945313489},10015.9,3.3182523000000002,1.3570705867379302,2.0679624446215294E-2,3.9614179721407456]
[8,-33,-3.9592882134984517,-2.0693217114582385E-2,1.3209180033250099,3.2817773999999997,9984.2000000000007,{"$f":"IFERROR((I198-J198)/'NTC Thermistor Comparison'!H40,NA())","v":-2.3108377379996283},6747.0674134701849,{"$f":"'Device Resistance Tables'!D27","v":6850.5867396806625},6954.1304958231158,{"$f":"IFERROR('NTC Thermistor Comparison'!F41-'NTC Thermistor Comparison'!F40,NA())","v":5.2264993096569068E-3},{"$f":"IFERROR((K198-J198)/'NTC Thermistor Comparison'!H40,NA())","v":2.3113830816645526},10015.799999999999,3.3182225999999999,1.3623156650698072,2.0704444630214924E-2,3.9614364038965246]
[9,-32,-3.9596837111497001,-2.0718796433992104E-2,1.326118923315257,3.2818070999999995,9984.2999999999993,{"$f":"IFERROR((I199-J199)/'NTC Thermistor Comparison'!H41,NA())","v":-2.3109280448644145},6791.4759922331332,{"$f":"'Device Resistance Tables'!D28","v":6895.6775039518952},6999.9036357374371,{"$f":"IFERROR('NTC Thermistor Comparison'!F42-'NTC Thermistor Comparison'!F41,NA())","v":5.2324372210972303E-3},{"$f":"IFERROR((K199-J199)/'NTC Thermistor Comparison'!H41,NA())","v":2.3114740561635734},10015.700000000001,3.3181929000000001,1.3675666544597251,2.0728934710475988E-2,3.9616212932085935]
[10,-31,-3.9602418441715357,-2.0744043772972454E-2,1.3313261131973739,3.2818367999999998,9984.4,{"$f":"IFERROR((I200-J200)/'NTC Thermistor Comparison'!H42,NA())","v":-2.3111082521948498},6836.173679826089,{"$f":"'Device Resistance Tables'!D29","v":6941.0618755521764},7045.974883043159,{"$f":"IFERROR('NTC Thermistor Comparison'!F43-'NTC Thermistor Comparison'!F42,NA())","v":5.2380749937033233E-3},{"$f":"IFERROR((K200-J200)/'NTC Thermistor Comparison'!H42,NA())","v":2.3116549550359466},10015.6,3.3181631999999999,1.3728232482020615,2.0753091231715093E-2,3.9619690929706679]
[11,-30,-3.9609591741649051,-2.0768955677060719E-2,1.336539276286989,3.2818664999999996,9984.5,{"$f":"IFERROR((I201-J201)/'NTC Thermistor Comparison'!H43,NA())","v":-2.311376351113652},6881.1606389296876,{"$f":"'Device Resistance Tables'!D30","v":6986.7400186509285},7092.344403394326,{"$f":"IFERROR('NTC Thermistor Comparison'!F44-'NTC Thermistor Comparison'!F43,NA())","v":5.243415739431212E-3},{"$f":"IFERROR((K201-J201)/'NTC Thermistor Comparison'!H43,NA())","v":2.3119237687725214},10015.5,3.3181335000000001,1.3780851428126004,2.0776910848550711E-2,3.9624763476802851]
[12,-29,-3.9618323506220707,-2.0793528800475025E-2,1.3417581189030059,3.2818961999999998,9984.6,{"$f":"IFERROR((I202-J202)/'NTC Thermistor Comparison'!H44,NA())","v":-2.3117303844511152},6926.4370381632343,{"$f":"'Device Resistance Tables'!D31","v":7032.712103465391},7139.0123686021916,{"$f":"IFERROR('NTC Thermistor Comparison'!F45-'NTC Thermistor Comparison'!F44,NA())","v":5.2484625699040777E-3},{"$f":"IFERROR((K202-J202)/'NTC Thermistor Comparison'!H44,NA())","v":2.3122785395923406},10015.4,3.3181037999999998,1.3833520380279194,2.0800390324438478E-2,3.9631396904138789]
[13,-28,-3.9628581080361491,-2.0817759905074507E-2,1.3469823503683105,3.2819258999999996,9984.7000000000007,{"$f":"IFERROR((I203-J203)/'NTC Thermistor Comparison'!H45,NA())","v":-2.3121684450612174},6972.0030520847013,{"$f":"'Device Resistance Tables'!D32","v":7078.9783062606102},7185.9789566352156,{"$f":"IFERROR('NTC Thermistor Comparison'!F46-'NTC Thermistor Comparison'!F45,NA())","v":5.2532185956541966E-3},{"$f":"IFERROR((K203-J203)/'NTC Thermistor Comparison'!H45,NA())","v":2.3127173597583841},10015.299999999999,3.3180741,1.3886236368039782,2.0823526530593162E-2,3.9639558399149304]
[14,-27,-3.9640332631335551,-2.0841645859307256E-2,1.3522116830097319,3.2819555999999999,9984.7999999999993,{"$f":"IFERROR((I204-J204)/'NTC Thermistor Comparison'!H46,NA())","v":-2.3126886742021973},7017.8588611907335,{"$f":"'Device Resistance Tables'!D33","v":7125.5388093494503},7233.2443516190733,{"$f":"IFERROR('NTC Thermistor Comparison'!F47-'NTC Thermistor Comparison'!F46,NA())","v":5.2576869253695424E-3},{"$f":"IFERROR((K204-J204)/'NTC Thermistor Comparison'!H46,NA())","v":2.3132383699573613},10015.200000000001,3.3180443999999998,1.3938996453139274,2.0846316444888213E-2,3.9649215978037731]
[15,-26,-3.9653547122062367,-2.0865183637141627E-2,1.3574458321572671,3.2819852999999997,9984.9,{"$f":"IFERROR((I205-J205)/'NTC Thermistor Comparison'!H47,NA())","v":-2.3132892599820392},7064.0046519166444,{"$f":"'Device Resistance Tables'!D34","v":7172.3938010925849},7280.8087438366474,{"$f":"IFERROR('NTC Thermistor Comparison'!F48-'NTC Thermistor Comparison'!F47,NA())","v":5.2618706651674785E-3},{"$f":"IFERROR((K205-J205)/'NTC Thermistor Comparison'!H47,NA())","v":2.3138397577446561},10015.1,3.3180147,1.3991797729451547,2.0868757150745987E-2,3.9660338458892475]
[16,-25,-3.9668194285499752,-2.0888370316979543E-2,1.3626845161425967,3.2820149999999995,9985,{"$f":"IFERROR((I206-J206)/'NTC Thermistor Comparison'!H48,NA())","v":-2.3139684358627051},7110.4406166364188,{"$f":"'Device Resistance Tables'!D35","v":7219.543475898502},7328.6723297280341,{"$f":"IFERROR('NTC Thermistor Comparison'!F49-'NTC Thermistor Comparison'!F48,NA())","v":5.2657729178802182E-3},{"$f":"IFERROR((K206-J206)/'NTC Thermistor Comparison'!H48,NA())","v":2.3145197560479627},10015,3.3179850000000002,1.4044637322955875,2.0890845836011307E-2,3.9672895435872868]
[17,-24,-3.9684244599994978,-2.0911203080559382E-2,1.367927456296897,3.2820446999999997,9985.1,{"$f":"IFERROR((I207-J207)/'NTC Thermistor Comparison'!H49,NA())","v":-2.3147244792228947},7157.1669536627087,{"$f":"'Device Resistance Tables'!D36","v":7266.9880342235001},7376.8353118905361,{"$f":"IFERROR('NTC Thermistor Comparison'!F50-'NTC Thermistor Comparison'!F49,NA())","v":5.2693967823598253E-3},{"$f":"IFERROR((K207-J207)/'NTC Thermistor Comparison'!H49,NA())","v":2.3152766417293962},10014.9,3.3179552999999999,1.4097512391692681,2.0912579791811714E-2,3.9686857254363579]
[18,-23,-3.9701669265585773,-2.0933679211845302E-2,1.373174376947971,3.2820743999999995,9985.2000000000007,{"$f":"IFERROR((I208-J208)/'NTC Thermistor Comparison'!H50,NA())","v":-2.3155557099749919},7204.1838672468384,{"$f":"'Device Resistance Tables'!D37","v":7314.7276825716917},7425.2978990786696,{"$f":"IFERROR('NTC Thermistor Comparison'!F51-'NTC Thermistor Comparison'!F50,NA())","v":5.2727453527983137E-3},{"$f":"IFERROR((K208-J208)/'NTC Thermistor Comparison'!H50,NA())","v":2.316108734201983},10014.799999999999,3.3179256000000001,1.4150420125712233,2.0933956411407051E-2,3.9702194987089849]
[19,-22,-3.9720440181191967,-2.0955796095901924E-2,1.3784250054167126,3.2821040999999997,9985.2999999999993,{"$f":"IFERROR((I209-J209)/'NTC Thermistor Comparison'!H51,NA())","v":-2.3164604892351606},7251.4915675788016,{"$f":"'Device Resistance Tables'!D38","v":7362.7626334950037},7474.06030620416,{"$f":"IFERROR('NTC Thermistor Comparison'!F52-'NTC Thermistor Comparison'!F51,NA())","v":5.2758217180646216E-3},{"$f":"IFERROR((K209-J209)/'NTC Thermistor Comparison'!H51,NA())","v":2.3170143940990733},10014.700000000001,3.3178958999999999,1.420335774701639,2.0954973189024395E-2,3.9718880411128641]
[20,-21,-3.9740529922644172,-2.0977551217760348E-2,1.3836790720129188,3.2821337999999995,9985.4,{"$f":"IFERROR((I210-J210)/'NTC Thermistor Comparison'!H52,NA())","v":-2.3174372180436098},7299.0902707872592,{"$f":"'Device Resistance Tables'!D39","v":7411.0931055931715},7523.1227543359428,{"$f":"IFERROR('NTC Thermistor Comparison'!F53-'NTC Thermistor Comparison'!F52,NA())","v":5.2786289610615711E-3},{"$f":"IFERROR((K210-J210)/'NTC Thermistor Comparison'!H52,NA())","v":2.3179920219943062},10014.6,3.3178662000000001,1.4256322509493651,2.0975627718685885E-2,3.9736885985764632]
[21,-20,-3.9761911721587788,-2.0998942161273515E-2,1.3889363100304672,3.2821634999999998,9985.5,{"$f":"IFERROR((I211-J211)/'NTC Thermistor Comparison'!H53,NA())","v":-2.3184843361321161},7346.9801989395464,{"$f":"'Device Resistance Tables'!D40","v":7459.7193235137465},7572.4854707001632,{"$f":"IFERROR('NTC Thermistor Comparison'!F54-'NTC Thermistor Comparison'!F53,NA())","v":5.2811701580919301E-3},{"$f":"IFERROR((K211-J211)/'NTC Thermistor Comparison'!H53,NA())","v":2.3190400571684653},10014.5,3.3178364999999999,1.4309311698847644,2.0995917693023669E-2,3.9756184831221999]
[22,-19,-3.9784559445096601,-2.1019966607957796E-2,1.3941964557418749,3.2821931999999996,9985.6,{"$f":"IFERROR((I212-J212)/'NTC Thermistor Comparison'!H54,NA())","v":-2.3196003207386497},7395.1615800416639,{"$f":"'Device Resistance Tables'!D41","v":7508.6415179520945},7622.1486886801795,{"$f":"IFERROR('NTC Thermistor Comparison'!F55-'NTC Thermistor Comparison'!F54,NA())","v":5.2834483782497887E-3},{"$f":"IFERROR((K212-J212)/'NTC Thermistor Comparison'!H54,NA())","v":2.3201569764235987},10014.4,3.3178068000000001,1.4362322632519213,2.1015840902088634E-2,3.9776750708124466]
[23,-18,-3.9808447576106554,-2.1040622335831261E-2,1.3994592483922512,3.2822228999999998,9985.7000000000007,{"$f":"IFERROR((I213-J213)/'NTC Thermistor Comparison'!H55,NA())","v":-2.320783685465396},7443.6346480382845,{"$f":"'Device Resistance Tables'!D42","v":7557.8599256513871},7672.1126478165588,{"$f":"IFERROR('NTC Thermistor Comparison'!F56-'NTC Thermistor Comparison'!F55,NA())","v":5.2854666828203722E-3},{"$f":"IFERROR((K213-J213)/'NTC Thermistor Comparison'!H55,NA())","v":2.3213412929409709},10014.299999999999,3.3177770999999998,1.4415352659602294,2.1035395232146925E-2,3.9798557997762747]
[24,-17,-3.9833551194526371,-2.1060907218239722E-2,1.4047244301926631,3.2822525999999996,9985.7999999999993,{"$f":"IFERROR((I214-J214)/'NTC Thermistor Comparison'!H56,NA())","v":-2.3220329791781116},7492.3996428127512,{"$f":"'Device Resistance Tables'!D43","v":7607.3747894026164},7722.3775938070776,{"$f":"IFERROR('NTC Thermistor Comparison'!F57-'NTC Thermistor Comparison'!F56,NA())","v":5.2872281247005048E-3},{"$f":"IFERROR((K214-J214)/'NTC Thermistor Comparison'!H56,NA())","v":2.3225915551793461},10014.200000000001,3.3177474,1.446839916075376,2.1054578664473134E-2,3.982158168305963]
[25,-16,-3.9859845959033873,-2.1080819222675018E-2,1.4099917463129283,3.2822822999999994,9985.9,{"$f":"IFERROR((I215-J215)/'NTC Thermistor Comparison'!H57,NA())","v":-2.3233467849475957},7541.4568101870755,{"$f":"'Device Resistance Tables'!D44","v":7657.1863580445815},7772.9437785067239,{"$f":"IFERROR('NTC Thermistor Comparison'!F58-'NTC Thermistor Comparison'!F57,NA())","v":5.2887357478352826E-3},{"$f":"IFERROR((K215-J215)/'NTC Thermistor Comparison'!H57,NA())","v":2.3239063458166105},10014.1,3.3177177000000002,1.4521459548097391,2.1073389274135712E-2,3.984579733022434]
[26,-15,-3.9887308089588815,-2.110035640959107E-2,1.4152609448738476,3.2823119999999997,9986,{"$f":"IFERROR((I216-J216)/'NTC Thermistor Comparison'!H58,NA())","v":-2.3247237190277201},7590.8064019219391,{"$f":"'Device Resistance Tables'!D45","v":7707.2948864638975},7823.8114599276978,{"$f":"IFERROR('NTC Thermistor Comparison'!F59-'NTC Thermistor Comparison'!F58,NA())","v":5.2899925866640718E-3},{"$f":"IFERROR((K216-J216)/'NTC Thermistor Comparison'!H58,NA())","v":2.3252842807270575},10014,3.317688,1.4574531265122097,2.1091825228771066E-2,3.9871181071109603]
[27,-14,-3.9915914350477184,-2.1119516931206617E-2,1.4205317769388961,3.2823416999999995,9986.1,{"$f":"IFERROR((I217-J217)/'NTC Thermistor Comparison'!H59,NA())","v":-2.3261624298718675},7640.4486757166951,{"$f":"'Device Resistance Tables'!D46","v":7757.7006355949907},7874.9809022394047,{"$f":"IFERROR('NTC Thermistor Comparison'!F60-'NTC Thermistor Comparison'!F59,NA())","v":5.2910016655935976E-3},{"$f":"IFERROR((K217-J217)/'NTC Thermistor Comparison'!H59,NA())","v":2.3267240079975067},10013.9,3.3176583000000002,1.4627611786574648,2.1109884787362088E-2,3.9897709586137067]
[28,-13,-3.9945642034074522,-2.1138299030309948E-2,1.4258039965053864,3.2823713999999997,9986.2000000000007,{"$f":"IFERROR((I218-J218)/'NTC Thermistor Comparison'!H60,NA())","v":-2.3276615971840711},7690.3838952093638,{"$f":"'Device Resistance Tables'!D47","v":7808.4038724201},7926.4523757684665,{"$f":"IFERROR('NTC Thermistor Comparison'!F61-'NTC Thermistor Comparison'!F60,NA())","v":5.2917659984732524E-3},{"$f":"IFERROR((K218-J218)/'NTC Thermistor Comparison'!H60,NA())","v":2.3282242069781685},10013.799999999999,3.3176285999999999,1.4680698618346995,2.1127566299003142E-2,3.9925360087915331]
[29,-12,-3.997646894510563,-2.1156701039052761E-2,1.4310773604951168,3.2824010999999995,9986.2999999999993,{"$f":"IFERROR((I219-J219)/'NTC Thermistor Comparison'!H61,NA())","v":-2.3292199310042481},7740.6123299766368,{"$f":"'Device Resistance Tables'!D48","v":7859.4048699692758},7978.2261569987113,{"$f":"IFERROR('NTC Thermistor Comparison'!F62-'NTC Thermistor Comparison'!F61,NA())","v":5.292288588095273E-3},{"$f":"IFERROR((K219-J219)/'NTC Thermistor Comparison'!H61,NA())","v":2.3297835873674182},10013.700000000001,3.3175989000000001,1.4733789297358337,2.1144868201664169E-2,3.99541103053761]
[30,-11,-4.0008373385483411,-2.1174721377743122E-2,1.4363516287445217,3.2824307999999998,9986.4,{"$f":"IFERROR((I220-J220)/'NTC Thermistor Comparison'!H62,NA())","v":-2.3308361708257945},7791.1342555338761,{"$f":"'Device Resistance Tables'!D49","v":7910.703907320385},8030.3025285711792,{"$f":"IFERROR('NTC Thermistor Comparison'!F63-'NTC Thermistor Comparison'!F62,NA())","v":5.2925724257077977E-3},{"$f":"IFERROR((K220-J220)/'NTC Thermistor Comparison'!H62,NA())","v":2.3314008883289108},10013.6,3.3175691999999999,1.4786881391432201,2.1161789020955224E-2,3.9983938468494684]
[31,-10,-4.0041334139711662,-2.1192358553635771E-2,1.4416265639943369,3.2824604999999996,9986.5,{"$f":"IFERROR((I221-J221)/'NTC Thermistor Comparison'!H63,NA())","v":-2.3325090847450247},7841.9499533351109,{"$f":"'Device Resistance Tables'!D50","v":7962.3012695991047},8082.6817792841221,{"$f":"IFERROR('NTC Thermistor Comparison'!F64-'NTC Thermistor Comparison'!F63,NA())","v":5.2926204905390239E-3},{"$f":"IFERROR((K221-J221)/'NTC Thermistor Comparison'!H63,NA())","v":2.3330748776409078},10013.5,3.3175395000000001,1.4839972499168537,2.1178327368881034E-2,4.0014823293563104]
[32,-9,-4.0075330460756788,-2.1209611159715092E-2,1.4469019318787966,3.2824901999999998,9986.6,{"$f":"IFERROR((I222-J222)/'NTC Thermistor Comparison'!H64,NA())","v":-2.3342374686394773},7893.0597107730446,{"$f":"'Device Resistance Tables'!D51","v":8014.1972479789247},8135.364204092999,{"$f":"IFERROR('NTC Thermistor Comparison'!F65-'NTC Thermistor Comparison'!F64,NA())","v":5.2924357493406848E-3},{"$f":"IFERROR((K222-J222)/'NTC Thermistor Comparison'!H64,NA())","v":2.334804350874145},10013.4,3.3175097999999998,1.489306024981111,2.1194481942599319E-2,4.0046743968955436]
[33,-8,-4.0110342056442612,-2.1226477873483418E-2,1.4521775009143689,{"$f":"IFERROR($E$33+(($B$256-B223)*(($B$32*(1-$B$33))/1000000)),NA())","v":3.2825198999999996},{"$f":"IFERROR(($B$41-(($B$256-B223))*($B$41/1000000)*$B$43)-($B$41*$B$42),NA())","v":9986.7000000000007},{"$f":"IFERROR((I223-J223)/'NTC Thermistor Comparison'!H65,NA())","v":-2.3360201453758607},7944.4638211790461,{"$f":"'Device Resistance Tables'!D52","v":8066.3921396811456},8188.3501041104819,{"$f":"IFERROR('NTC Thermistor Comparison'!F66-'NTC Thermistor Comparison'!F65,NA())","v":5.292021155943738E-3},{"$f":"IFERROR((K223-J223)/'NTC Thermistor Comparison'!H65,NA())","v":2.336588130599508},{"$f":"IFERROR(($B$41+(($B$256-B223))*($B$41/1000000)*$B$43)+($B$41*$B$42),NA())","v":10013.299999999999},{"$f":"IFERROR($G$33-(($B$256-B223)*(($B$32*(1-$B$33))/1000000)),NA())","v":3.3174801},1.4946142303110277,2.121025152317535E-2,4.0079680141401246]
[34,-7,-4.0146349076286603,-2.1242957455737344E-2,1.4574530424880587,3.2825495999999998,9986.7999999999993,{"$f":"IFERROR((I224-J224)/'NTC Thermistor Comparison'!H66,NA())","v":-2.3378559640447274},7996.1625838231566,{"$f":"'Device Resistance Tables'!D53","v":8118.886247974885},8241.6397866064508,{"$f":"IFERROR('NTC Thermistor Comparison'!F67-'NTC Thermistor Comparison'!F66,NA())","v":5.2913796508298194E-3},{"$f":"IFERROR((K224-J224)/'NTC Thermistor Comparison'!H66,NA())","v":2.338425065622189},10013.200000000001,3.3174503999999998,1.4999216349181326,2.1225634974336494E-2,4.0113611902725195]
[35,-6,-4.018333209883532,-2.125904874935447E-2,1.4627283308452714,3.2825792999999996,9986.9,{"$f":"IFERROR((I225-J225)/'NTC Thermistor Comparison'!H67,NA())","v":-2.3397437992225139},8048.1563039140874,{"$f":"'Device Resistance Tables'!D54","v":8171.679882177069},8295.2335650079985,{"$f":"IFERROR('NTC Thermistor Comparison'!F68-'NTC Thermistor Comparison'!F67,NA())","v":5.2905141607135775E-3},{"$f":"IFERROR((K225-J225)/'NTC Thermistor Comparison'!H67,NA())","v":2.3403140302437904},10013.1,3.3174207,1.5052280108358504,2.124063124122455E-2,4.0148519777063862]
[36,-5,-4.0221272119374145,-2.1274750678069942E-2,1.4680031430772695,3.2826089999999994,9987,{"$f":"IFERROR((I226-J226)/'NTC Thermistor Comparison'!H68,NA())","v":-2.3416825502578966},8100.4452925992173,{"$f":"'Device Resistance Tables'!D55","v":8224.7733576524406},8349.131758899428,{"$f":"IFERROR('NTC Thermistor Comparison'!F69-'NTC Thermistor Comparison'!F68,NA())","v":5.2894275981445471E-3},{"$f":"IFERROR((K226-J226)/'NTC Thermistor Comparison'!H68,NA())","v":2.342253923547974},10013,3.3173910000000002,1.510533133104492,2.1255239349152522E-2,4.0184384708486309]
[37,-4,-4.0260150538110828,-2.1290062245259644E-2,1.4732772591082244,3.2826386999999997,9987.1,{"$f":"IFERROR((I227-J227)/'NTC Thermistor Comparison'!H69,NA())","v":-2.3436711405836079},8153.0298669645945,{"$f":"'Device Resistance Tables'!D56","v":8278.1669958135499},8403.3346940222527,{"$f":"IFERROR('NTC Thermistor Comparison'!F70-'NTC Thermistor Comparison'!F69,NA())","v":5.2881228611170172E-3},{"$f":"IFERROR((K227-J227)/'NTC Thermistor Comparison'!H69,NA())","v":2.3442436687124313},10012.9,3.3173613,1.5158367797558396,2.1269458402355612E-2,4.0221188049066692]
[38,-3,-4.0299949148719403,-2.1304982532719174E-2,1.4785504616818819,3.2826683999999995,9987.2000000000007,{"$f":"IFERROR((I228-J228)/'NTC Thermistor Comparison'!H70,NA())","v":-2.3457085170502139},8205.9103500349429,{"$f":"'Device Resistance Tables'!D57","v":8331.8611241207655},8457.8427022751948,{"$f":"IFERROR('NTC Thermistor Comparison'!F71-'NTC Thermistor Comparison'!F70,NA())","v":5.2866028326976622E-3},{"$f":"IFERROR((K228-J228)/'NTC Thermistor Comparison'!H70,NA())","v":2.3462822123420075},10012.799999999999,3.3173316000000002,1.5211387317973522,2.1283287582751109E-2,4.0258911547343565]
[39,-2,-4.0340650127297062,-2.1319510699447486E-2,1.4838225363478512,3.2826980999999997,9987.2999999999993,{"$f":"IFERROR((I229-J229)/'NTC Thermistor Comparison'!H71,NA())","v":-2.3477936492841609},8259.0870707736522,{"$f":"'Device Resistance Tables'!D58","v":8385.8560760822656},8512.656121714188,{"$f":"IFERROR('NTC Thermistor Comparison'!F72-'NTC Thermistor Comparison'!F71,NA())","v":5.2848703806638309E-3},{"$f":"IFERROR((K229-J229)/'NTC Thermistor Comparison'!H71,NA())","v":2.3483685238267102},10012.700000000001,3.3173018999999999,1.526438773195993,2.1296726148694267E-2,4.0297537337177216]
[40,-1,-4.0382236021665809,-2.1333645980431637E-2,1.4890932714475309,3.2827277999999995,9987.4,{"$f":"IFERROR((I230-J230)/'NTC Thermistor Comparison'!H72,NA())","v":-2.3499255290660228},8312.5603640827794,{"$f":"'Device Resistance Tables'!D59","v":8440.1521912540393},8567.7752965523778,{"$f":"IFERROR('NTC Thermistor Comparison'!F73-'NTC Thermistor Comparison'!F72,NA())","v":5.2829283571582675E-3},{"$f":"IFERROR((K230-J230)/'NTC Thermistor Comparison'!H72,NA())","v":2.350501594719701},10012.6,3.3172722000000001,1.5317366908617032,2.1309773433740631E-2,4.0337047926963256]
[41,0,-3.2617154524519583,-1.722440041693285E-2,1.498485445368188,3.2827574999999998,9987.5,{"$f":"IFERROR((I231-J231)/'NTC Thermistor Comparison'!H73,NA())","v":-1.5742546114934617},{"$f":"IFERROR(($F$171*B231^4 + $E$171*B231^3 + $D$171*B231^2 + $C$171*B231 + $B$171)*0.99,NA())","v":8408.7992539035768},{"$f":"'Device Resistance Tables'!D60","v":8494.749815239893},{"$f":"IFERROR(($F$184*B231^4 + $E$184*B231^3 + $D$184*B231^2 + $C$184*B231 + $B$184)*1.01,NA())","v":8580.7217565829724},{"$f":"IFERROR('NTC Thermistor Comparison'!F74-'NTC Thermistor Comparison'!F73,NA())","v":5.2807795983504935E-3},{"$f":"IFERROR((K231-J231)/'NTC Thermistor Comparison'!H73,NA())","v":1.5746462037497231},10012.5,3.3172424999999999,1.5329596589678955,1.7249813182774743E-2,3.2665277657418046]
[42,1,-3.2652537660079171,-1.7235403392586779E-2,1.5037552219908845,3.2827871999999996,9987.6,{"$f":"IFERROR((I232-J232)/'NTC Thermistor Comparison'!H74,NA())","v":-1.5757547742845479},8463.1411749611543,{"$f":"'Device Resistance Tables'!D61","v":8549.6492996914403},8636.1789588823794,{"$f":"IFERROR('NTC Thermistor Comparison'!F75-'NTC Thermistor Comparison'!F74,NA())","v":5.2784269241219484E-3},{"$f":"IFERROR((K232-J232)/'NTC Thermistor Comparison'!H74,NA())","v":1.5761470267959925},10012.4,3.3172128000000001,1.5382508270069419,1.7260201623470639E-2,3.2699518003352535]
[43,2,-3.268861323457982,-1.7246097647459768E-2,1.5090229546601335,3.2828168999999998,9987.7000000000007,{"$f":"IFERROR((I233-J233)/'NTC Thermistor Comparison'!H75,NA())","v":-1.5772843685629743},8517.7822196527704,{"$f":"'Device Resistance Tables'!D62","v":8604.851002308118},8691.9414747105675,{"$f":"IFERROR('NTC Thermistor Comparison'!F76-'NTC Thermistor Comparison'!F75,NA())","v":5.275873137749354E-3},{"$f":"IFERROR((K233-J233)/'NTC Thermistor Comparison'!H75,NA())","v":1.5776772866447308},10012.299999999999,3.3171830999999998,1.5435393342604677,1.72702819528745E-2,3.2734452671547496]
[44,3,-3.272536815469318,-1.7256482688750241E-2,1.5142884427565924,3.2828465999999996,9987.7999999999993,{"$f":"IFERROR((I234-J234)/'NTC Thermistor Comparison'!H76,NA())","v":-1.5788427708773953},8572.7227484557607,{"$f":"'Device Resistance Tables'!D63","v":8660.3552868371589},8748.0096710925609,{"$f":"IFERROR('NTC Thermistor Comparison'!F77-'NTC Thermistor Comparison'!F76,NA())","v":5.2731210256149463E-3},{"$f":"IFERROR((K234-J234)/'NTC Thermistor Comparison'!H76,NA())","v":1.5792363598442485},10012.200000000001,3.3171534,1.5488249791771813,1.7280053731838718E-2,3.2770068519001105]
[45,4,-3.2762789590114427,-1.726655807960964E-2,1.5195514883913479,3.2828762999999999,9987.9,{"$f":"IFERROR((I235-J235)/'NTC Thermistor Comparison'!H77,NA())","v":-1.5804293709088324},8627.9631278162688,{"$f":"'Device Resistance Tables'!D64","v":8716.1625230736208},8804.3839211802679,{"$f":"IFERROR('NTC Thermistor Comparison'!F78-'NTC Thermistor Comparison'!F77,NA())","v":5.2701733569169296E-3},{"$f":"IFERROR((K235-J235)/'NTC Thermistor Comparison'!H77,NA())","v":1.5808236360754806},10012.1,3.3171236999999998,1.554107563047703,1.7289516576745489E-2,3.2806352667798993]
[46,5,-3.2800864966372356,-1.7276323438186525E-2,1.5248118963896879,3.2829059999999997,9988,{"$f":"IFERROR((I236-J236)/'NTC Thermistor Comparison'!H78,NA())","v":-1.5820435711265233},8683.5037301492575,{"$f":"'Device Resistance Tables'!D65","v":8772.2730868603721},8861.0646042524822,{"$f":"IFERROR('NTC Thermistor Comparison'!F79-'NTC Thermistor Comparison'!F78,NA())","v":5.2670328834005797E-3},{"$f":"IFERROR((K236-J236)/'NTC Thermistor Comparison'!H78,NA())","v":1.5824385178085729},10012,3.317094,1.5593868899864143,1.7298670158539808E-2,3.2843292497864915]
[47,6,-3.2839581957896269,-1.728577843667356E-2,1.5300694742746015,3.2829356999999995,9988.1,{"$f":"IFERROR((I237-J237)/'NTC Thermistor Comparison'!H79,NA())","v":-1.5836847864537495},8739.3449338385071,{"$f":"'Device Resistance Tables'!D66","v":8828.6873600880917},8918.052105714869,{"$f":"IFERROR('NTC Thermistor Comparison'!F80-'NTC Thermistor Comparison'!F79,NA())","v":5.2637023390966764E-3},{"$f":"IFERROR((K237-J237)/'NTC Thermistor Comparison'!H79,NA())","v":1.5840804199683838},10011.9,3.3170643000000002,1.5646627669130395,1.7307514201764462E-2,3.2880875639967644]
[48,7,-3.2878928481314782,-1.7294922800362045E-2,1.5353240322500097,3.2829653999999997,9988.2000000000007,{"$f":"IFERROR((I238-J238)/'NTC Thermistor Comparison'!H80,NA())","v":-1.5853524439448665},8795.4871232366077,{"$f":"'Device Resistance Tables'!D67","v":8885.4057306952727},8975.3468170999749,{"$f":"IFERROR('NTC Thermistor Comparison'!F81-'NTC Thermistor Comparison'!F80,NA())","v":5.2601844400710362E-3},{"$f":"IFERROR((K238-J238)/'NTC Thermistor Comparison'!H80,NA())","v":1.5857487696114279},10011.799999999999,3.3170345999999999,1.5699350035339719,1.7316048483600133E-2,3.2919089968956086]
[49,8,-3.2918892688940748,-1.7303756306696894E-2,1.5405753831837459,3.2829950999999995,9988.2999999999993,{"$f":"IFERROR((I239-J239)/'NTC Thermistor Comparison'!H81,NA())","v":-1.58704598247259},8851.9306886649647,{"$f":"'Device Resistance Tables'!D68","v":8942.4285926682205},9032.9491360672309,{"$f":"IFERROR('NTC Thermistor Comparison'!F82-'NTC Thermistor Comparison'!F81,NA())","v":5.2564818841887018E-3},{"$f":"IFERROR((K239-J239)/'NTC Thermistor Comparison'!H81,NA())","v":1.587443005613332},10011.700000000001,3.3170049000000001,1.5752034123233554,1.7324272832912602E-2,3.2957923597194081]
[50,9,-3.2959462962485904,-1.7312278784338275E-2,1.5458233425902932,3.2830247999999997,9988.4,{"$f":"IFERROR((I240-J240)/'NTC Thermistor Comparison'!H82,NA())","v":-1.588764852425008},8908.6760264138065,{"$f":"'Device Resistance Tables'!D69","v":8999.7563460410547},9090.859466402937,{"$f":"IFERROR('NTC Thermistor Comparison'!F83-'NTC Thermistor Comparison'!F82,NA())","v":5.2525973508861235E-3},{"$f":"IFERROR((K240-J240)/'NTC Thermistor Comparison'!H82,NA())","v":1.589162578365632},10011.6,3.3169751999999999,1.5804678085039332,1.7332187129301735E-2,3.2997364868216601]
[51,10,-3.3000627906954914,-1.732049011223169E-2,1.5510677286132859,3.2830544999999995,9988.5,{"$f":"IFERROR((I241-J241)/'NTC Thermistor Comparison'!H83,NA())","v":-1.5905085154127345},8965.7235387421715,{"$f":"'Device Resistance Tables'!D70","v":9057.3893968957},9149.0782180202805,{"$f":"IFERROR('NTC Thermistor Comparison'!F84-'NTC Thermistor Comparison'!F83,NA())","v":5.2485335009584411E-3},{"$f":"IFERROR((K241-J241)/'NTC Thermistor Comparison'!H83,NA())","v":1.5909069494833157},10011.5,3.3169455000000001,1.5857280100276807,1.7339791302163121E-2,3.3037402350574081]
[52,11,-3.3042376344769822,-1.7328390218677825E-2,1.5563083620077982,3.2830841999999998,9988.6,{"$f":"IFERROR((I242-J242)/'NTC Thermistor Comparison'!H84,NA())","v":-1.5922764439843617},9023.0736338779116,{"$f":"'Device Resistance Tables'!D71","v":9115.3281573619097},9207.6058069593273,{"$f":"IFERROR('NTC Thermistor Comparison'!F85-'NTC Thermistor Comparison'!F84,NA())","v":5.2442929763496515E-3},{"$f":"IFERROR((K242-J242)/'NTC Thermistor Comparison'!H84,NA())","v":1.5926755915193351},10011.4,3.3169157999999999,1.59098383755622,1.7347085329743939E-2,3.3078024831897492]
[53,12,-3.3084697310015807,-1.73359790804124E-2,1.5615450661224133,3.2831138999999996,9988.7000000000007,{"$f":"IFERROR((I243-J243)/'NTC Thermistor Comparison'!H85,NA())","v":-1.5940681213522903},9080.7267260176977,{"$f":"'Device Resistance Tables'!D72","v":9173.5730456172296},9266.4426553870235,{"$f":"IFERROR('NTC Thermistor Comparison'!F86-'NTC Thermistor Comparison'!F85,NA())","v":5.2398783999647591E-3},{"$f":"IFERROR((K243-J243)/'NTC Thermistor Comparison'!H85,NA())","v":1.594467987691804},10011.299999999999,3.3168861000000001,1.5962351144410425,1.7354069238216807E-2,3.3119221313100553]
[54,13,-3.3127580042932778,-1.7343256721688904E-2,1.5667776668811015,3.2831435999999998,9988.7999999999993,{"$f":"IFERROR((I244-J244)/'NTC Thermistor Comparison'!H86,NA())","v":-1.5958830411249143},9138.6832353270147,{"$f":"'Device Resistance Tables'!D73","v":9232.1244858870341},9325.5891915971861,{"$f":"IFERROR('NTC Thermistor Comparison'!F87-'NTC Thermistor Comparison'!F86,NA())","v":5.2352923754805936E-3},{"$f":"IFERROR((K244-J244)/'NTC Thermistor Comparison'!H86,NA())","v":1.5962836316146527},10011.200000000001,3.3168563999999998,1.6014816667035427,1.7360743100752307E-2,3.3160981002820518]
[55,14,-3.3171013984532598,-1.7350223213371319E-2,1.5720059927648997,3.2831732999999996,9988.9,{"$f":"IFERROR((I245-J245)/'NTC Thermistor Comparison'!H87,NA())","v":-1.5977207070495707},9196.9435879401626,{"$f":"'Device Resistance Tables'!D74","v":9290.9829084445009},9385.0458500105233,{"$f":"IFERROR('NTC Thermistor Comparison'!F88-'NTC Thermistor Comparison'!F87,NA())","v":5.2305374871752797E-3},{"$f":"IFERROR((K245-J245)/'NTC Thermistor Comparison'!H87,NA())","v":1.5981220270418108},10011.1,3.3168267,1.6067233230148721,1.7367107036601048E-2,3.3203293311984368]
[56,15,-3.3214988771403871,-1.7356878672027953E-2,1.5772298747934184,3.2832029999999994,9989,{"$f":"IFERROR((I246-J246)/'NTC Thermistor Comparison'!H88,NA())","v":-1.5995806327613045},9255.5082159602589,{"$f":"'Device Resistance Tables'!D75","v":9350.1487496106292},9444.8130711746126,{"$f":"IFERROR('NTC Thermistor Comparison'!F89-'NTC Thermistor Comparison'!F88,NA())","v":5.2256162997625921E-3},{"$f":"IFERROR((K246-J246)/'NTC Thermistor Comparison'!H88,NA())","v":1.5999826876149856},10011,3.3167970000000002,1.6119599146756285,1.7373161210182175E-2,3.3246147848573315]
[57,16,-3.3259494230642574,-1.7363223259034832E-2,1.5824491465061741,3.2832326999999997,9989.1,{"$f":"IFERROR((I247-J247)/'NTC Thermistor Comparison'!H89,NA())","v":-1.6014623415409615},9314.3775574592346,{"$f":"'Device Resistance Tables'!D76","v":9409.6224517542214},9504.8913017639188,{"$f":"IFERROR('NTC Thermistor Comparison'!F90-'NTC Thermistor Comparison'!F89,NA())","v":5.2205313582422974E-3},{"$f":"IFERROR((K247-J247)/'NTC Thermistor Comparison'!H89,NA())","v":1.6018651366226058},10010.9,3.3167673,1.6171912755953883,1.7378905830179425E-2,3.3289534412509947]
[58,17,-3.3304520375019022,-1.7369257179689734E-2,1.5876636439437615,3.2832623999999995,9989.2000000000007,{"$f":"IFERROR((I248-J248)/'NTC Thermistor Comparison'!H90,NA())","v":-1.6033653660793128},9373.5520564778326,{"$f":"'Device Resistance Tables'!D77","v":9469.4044632918994},9565.2809945797817,{"$f":"IFERROR('NTC Thermistor Comparison'!F91-'NTC Thermistor Comparison'!F90,NA())","v":5.2152851877482753E-3},{"$f":"IFERROR((K248-J248)/'NTC Thermistor Comparison'!H90,NA())","v":1.6037689067631216},10010.799999999999,3.3167376000000002,1.6224172422720915,1.7384341148640292E-2,3.333344299076781]
[59,18,-3.3350057398175741,-1.7374980682322461E-2,1.592873205628877,3.2832920999999997,9989.2999999999993,{"$f":"IFERROR((I249-J249)/'NTC Thermistor Comparison'!H91,NA())","v":-1.605289248249361},9433.0321630256167,{"$f":"'Device Resistance Tables'!D78","v":9529.4952386880923},9625.982608550421,{"$f":"IFERROR('NTC Thermistor Comparison'!F92-'NTC Thermistor Comparison'!F91,NA())","v":5.2098802934212873E-3},{"$f":"IFERROR((K249-J249)/'NTC Thermistor Comparison'!H91,NA())","v":1.6056935399179728},10010.700000000001,3.3167078999999999,1.6276376537712895,1.7389467460090069E-2,3.3377863752548032]
[60,19,-3.3396095670066255,-1.7380394057422421E-2,1.5980776725471983,3.2833217999999995,9989.4,{"$f":"IFERROR((I250-J250)/'NTC Thermistor Comparison'!H92,NA())","v":-1.6072335388847749},9492.8183330809661,{"$f":"'Device Resistance Tables'!D79","v":9589.8952384550448},9686.9966087309349,{"$f":"IFERROR('NTC Thermistor Comparison'!F93-'NTC Thermistor Comparison'!F92,NA())","v":5.2043191602786365E-3},{"$f":"IFERROR((K250-J250)/'NTC Thermistor Comparison'!H92,NA())","v":1.6076385869295724},10010.6,3.3166782000000001,1.632852351705266,1.7394285100645224E-2,3.3422787044662998]
[61,20,-3.3442625732479945,-1.7385497636769554E-2,1.6032768881281299,3.2833514999999998,9989.5,{"$f":"IFERROR((I251-J251)/'NTC Thermistor Comparison'!H93,NA())","v":-1.6091977975656413},9552.9110285910701,{"$f":"'Device Resistance Tables'!D80","v":9650.6049291528179},9748.3234663032999,{"$f":"IFERROR('NTC Thermistor Comparison'!F94-'NTC Thermistor Comparison'!F93,NA())","v":5.1986042530998144E-3},{"$f":"IFERROR((K251-J251)/'NTC Thermistor Comparison'!H93,NA())","v":1.6096036073869573},10010.5,3.3166484999999999,1.6380611802120379,1.7398794447138544E-2,3.3468203387022624]
[62,21,-3.3489638294741257,-1.7390291792572787E-2,1.6084706982254264,3.2833811999999996,9989.6,{"$f":"IFERROR((I252-J252)/'NTC Thermistor Comparison'!H94,NA())","v":-1.6111815924101736},9613.3107174719407,{"$f":"'Device Resistance Tables'!D81","v":9711.6247833892794},9809.9636585763801,{"$f":"IFERROR('NTC Thermistor Comparison'!F95-'NTC Thermistor Comparison'!F94,NA())","v":5.1927380163145909E-3},{"$f":"IFERROR((K252-J252)/'NTC Thermistor Comparison'!H94,NA())","v":1.6115881694181406},10010.4,3.3166188000000001,1.6432639859342533,1.7402995916254049E-2,3.3514103468299692]
[63,22,-3.3537124229465838,-1.7394776936613843E-2,1.6136589510977,3.2834108999999998,9989.7000000000007,{"$f":"IFERROR((I253-J253)/'NTC Thermistor Comparison'!H95,NA())","v":-1.6131844998727043},9674.0178736083963,{"$f":"'Device Resistance Tables'!D82","v":9772.9552798201094},9871.917668985905,{"$f":"IFERROR('NTC Thermistor Comparison'!F96-'NTC Thermistor Comparison'!F95,NA())","v":5.1867228739101989E-3},{"$f":"IFERROR((K253-J253)/'NTC Thermistor Comparison'!H95,NA())","v":1.6135918494872761},10010.299999999999,3.3165890999999998,1.6484606179979777,1.7406889963663907E-2,3.3560478141646102]
[64,23,-3.3585074568553419,-1.7398953519405236E-2,1.6188414973888188,3.2834405999999996,9989.7999999999993,{"$f":"IFERROR((I254-J254)/'NTC Thermistor Comparison'!H96,NA())","v":-1.6152061045474155},9735.0329768540796,{"$f":"'Device Resistance Tables'!D83","v":9834.5969031488112},9934.1859870944991,{"$f":"IFERROR('NTC Thermistor Comparison'!F97-'NTC Thermistor Comparison'!F96,NA())","v":5.1805612293314152E-3},{"$f":"IFERROR((K254-J254)/'NTC Thermistor Comparison'!H96,NA())","v":1.6156142321987943},10010.200000000001,3.3165594,1.6536509279914036,1.7410477083179554E-2,3.3607318420646268]
[65,24,-3.3633480499154533,{"$f":"IFERROR(E255-($B$32/(J255+$B$41)*J255),NA())","v":-1.7402822029344955E-2},1.6240181901082105,3.2834702999999998,9989.9,{"$f":"IFERROR((I255-J255)/'NTC Thermistor Comparison'!H97,NA())","v":-1.6172459989789609},9796.3565130314419,{"$f":"'Device Resistance Tables'!D84","v":9896.5501441266806},9996.7691085916522,{"$f":"IFERROR('NTC Thermistor Comparison'!F98-'NTC Thermistor Comparison'!F97,NA())","v":5.1742554654081729E-3},{"$f":"IFERROR((K255-J255)/'NTC Thermistor Comparison'!H97,NA())","v":1.6176549101082736},10010.1,3.3165296999999998,1.658834769943462,{"$f":"IFERROR(P255-($B$32/(J255+$B$41)*J255),NA())","v":1.7413757805906593E-2},3.3654615475258338]
[66,25,{"$f":"IFERROR(D256/L256,NA())","v":-3.3682333359920591},-1.7406382991893565E-2,{"$f":"IFERROR((F256/(I256+N256))*I256,NA())","v":1.62918888461107},3.2834999999999996,9990,{"$f":"IFERROR((I256-J256)/'NTC Thermistor Comparison'!H98,NA())","v":-1.6193037834763726},9857.9889739317532,{"$f":"'Device Resistance Tables'!D85","v":9958.8154995528494},10059.667535293742,{"$f":"IFERROR('NTC Thermistor Comparison'!F99-'NTC Thermistor Comparison'!F98,NA())","v":5.1678079442696312E-3},{"$f":"IFERROR((K256-J256)/'NTC Thermistor Comparison'!H98,NA())","v":1.6197134835354459},10010,3.3165,{"$f":"IFERROR(O256/(K256+G256)*K256,NA())","v":1.6640120003023733},1.7416732699409687E-2,3.3702360628015176]
[67,{"$f":"B256+1","v":26},-3.3820686006480085,-1.7455603509750617E-2,1.6343074720374826,{"$f":"IFERROR($E$33-(($B$256-B257)*(($B$32*(1-$B$33))/1000000)),NA())","v":3.2834702999999998},{"$f":"IFERROR(($B$41-((B257-$B$256))*($B$41/1000000)*$B$43)-($B$41*$B$42),NA())","v":9989.9},{"$f":"IFERROR((I257-J257)/'NTC Thermistor Comparison'!H99,NA())","v":-1.6213790659354008},9919.9308573150975,{"$f":"'Device Resistance Tables'!D86","v":10021.393472274245},10122.88177514402,{"$f":"IFERROR('NTC Thermistor Comparison'!F100-'NTC Thermistor Comparison'!F99,NA())","v":5.161221007287109E-3},{"$f":"IFERROR((K257-J257)/'NTC Thermistor Comparison'!H99,NA())","v":1.621789560387525},{"$f":"IFERROR(($B$41+((B257-$B$256))*($B$41/1000000)*$B$43)+($B$41*$B$42),NA())","v":10010.1},{"$f":"IFERROR($G$33+(($B$256-B257)*(($B$32*(1-$B$33))/1000000)),NA())","v":3.3165296999999998},1.6692289725106144,1.7465896963381189E-2,{"$f":"IFERROR(Q257/L257,NA())","v":3.3840629840731782}]
[68,27,-3.3844985008837609,-1.7445387284722669E-2,1.6394789092697977,{"$f":"IFERROR($E$33+(($B$256-B258)*(($B$32*(1-$B$33))/1000000)),NA())","v":3.2835593999999997},9989.7999999999993,{"$f":"IFERROR((I258-J258)/'NTC Thermistor Comparison'!H100,NA())","v":-1.6234714616630357},9982.1826669103775,{"$f":"'Device Resistance Tables'!D87","v":10084.284571185617},10186.412342212625,{"$f":"IFERROR('NTC Thermistor Comparison'!F101-'NTC Thermistor Comparison'!F100,NA())","v":5.1544969750074721E-3},{"$f":"IFERROR((K258-J258)/'NTC Thermistor Comparison'!H100,NA())","v":1.6238827559831541},10010.200000000001,3.3165594,1.6744392372972217,1.7514940742701324E-2,3.3979922439814669]
[69,28,-3.3927075628754015,-1.7464430872630388E-2,1.6446143626568974,3.2835890999999995,9989.7000000000007,{"$f":"IFERROR((I259-J259)/'NTC Thermistor Comparison'!H101,NA())","v":-1.6255805932093887},10044.744912415306,{"$f":"'Device Resistance Tables'!D88","v":10147.489311229521},10250.259756696567,{"$f":"IFERROR('NTC Thermistor Comparison'!F102-'NTC Thermistor Comparison'!F101,NA())","v":5.1476381471053934E-3},{"$f":"IFERROR((K259-J259)/'NTC Thermistor Comparison'!H101,NA())","v":1.6259926928843911},10010.299999999999,3.3165890999999998,1.6796426568971139,1.7563863367586086E-2,3.412023702066656]
[70,29,-3.4009666536778047,-1.7483168353083389E-2,1.6497432633235498,3.2836187999999997,9989.6,{"$f":"IFERROR((I260-J260)/'NTC Thermistor Comparison'!H102,NA())","v":-1.6277060902028622},10107.618109496416,{"$f":"'Device Resistance Tables'!D89","v":10211.00821339633},10314.424544919735,{"$f":"IFERROR('NTC Thermistor Comparison'!F103-'NTC Thermistor Comparison'!F102,NA())","v":5.1406468023369456E-3},{"$f":"IFERROR((K260-J260)/'NTC Thermistor Comparison'!H102,NA())","v":1.6281190007318063},10010.4,3.3166188000000001,1.6848390958738111,1.7612664197177885E-2,3.4261572277580212]
[71,30,-3.4092750684476343,-1.7501599472503848E-2,1.6548654790064663,3.2836484999999995,9989.5,{"$f":"IFERROR((I261-J261)/'NTC Thermistor Comparison'!H103,NA())","v":-1.6298475891909754},10170.802779789052,{"$f":"'Device Resistance Tables'!D90","v":10274.841804724227},10378.907239332908,{"$f":"IFERROR('NTC Thermistor Comparison'!F104-'NTC Thermistor Comparison'!F103,NA())","v":5.133525198502964E-3},{"$f":"IFERROR((K261-J261)/'NTC Thermistor Comparison'!H103,NA())","v":1.6302613160854984},10010.5,3.3166484999999999,1.6900284210980865,1.7661342619116338E-2,3.4403927001793484]
[72,31,-3.4176321126847391,-1.7519724014766203E-2,1.6599808796627069,3.2836781999999998,9989.4,{"$f":"IFERROR((I262-J262)/'NTC Thermistor Comparison'!H104,NA())","v":-1.6320047334852463},10234.299450897375,{"$f":"'Device Resistance Tables'!D91","v":10338.990618299209},10443.708378513733,{"$f":"IFERROR('NTC Thermistor Comparison'!F105-'NTC Thermistor Comparison'!F104,NA())","v":5.1262755724177378E-3},{"$f":"IFERROR((K262-J262)/'NTC Thermistor Comparison'!H104,NA())","v":1.6324192822696753},10010.6,3.3166782000000001,1.6952105017265799,1.7709898049106831E-2,3.4547300079605749]
[73,32,-3.4260371019806515,-1.7537541800578538E-2,1.6650893374493123,3.2837078999999996,9989.2999999999993,{"$f":"IFERROR((I263-J263)/'NTC Thermistor Comparison'!H105,NA())","v":-1.6341771730105585},{"$f":"IFERROR(($F$171*B263^4 + $E$171*B263^3 + $D$171*B263^2 + $C$171*B263 + $B$171)*0.99,NA())","v":10298.108656394363},{"$f":"'Device Resistance Tables'!D92","v":10403.455193255088},{"$f":"IFERROR(($F$184*B263^4 + $E$184*B263^3 + $D$184*B263^2 + $C$184*B263 + $B$184)*1.01,NA())","v":10508.82850716674},{"$f":"IFERROR('NTC Thermistor Comparison'!F106-'NTC Thermistor Comparison'!F105,NA())","v":5.1189001398845857E-3},{"$f":"IFERROR((K263-J263)/'NTC Thermistor Comparison'!H105,NA())","v":1.6345925492221527},10010.700000000001,3.3167078999999999,1.7003852091803853,1.7758329930494421E-2,3.4691690490556848]
[74,33,-3.4344893617703303,-1.7555052686857531E-2,1.6701907267029179,3.2837375999999998,9989.2000000000007,{"$f":"IFERROR((I264-J264)/'NTC Thermistor Comparison'!H106,NA())","v":-1.6363645641588733},10362.230935821808,{"$f":"'Device Resistance Tables'!D93","v":10468.23607477348},10574.268176123338,{"$f":"IFERROR('NTC Thermistor Comparison'!F107-'NTC Thermistor Comparison'!F106,NA())","v":5.1114010956809786E-3},{"$f":"IFERROR((K264-J264)/'NTC Thermistor Comparison'!H106,NA())","v":1.6367807733482795},10010.799999999999,3.3167376000000002,1.7055524171236152,1.7806637733839725E-2,3.4837097305640801]
[75,34,-3.4429882270967216,-1.7572256566117606E-2,1.6752849239193388,3.2837672999999996,9989.1,{"$f":"IFERROR((I265-J265)/'NTC Thermistor Comparison'!H107,NA())","v":-1.6385665696466611},10426.666834690319,{"$f":"'Device Resistance Tables'!D94","v":10533.333814083828},10640.027942341821,{"$f":"IFERROR('NTC Thermistor Comparison'!F108-'NTC Thermistor Comparison'!F107,NA())","v":5.1037806135443287E-3},{"$f":"IFERROR((K265-J265)/'NTC Thermistor Comparison'!H107,NA())","v":1.6389836173778491},10010.9,3.3167673,1.7107120014419501,1.7854820956493711E-2,3.4983519685604985]
[76,35,-3.4515330423753143,-1.7589153365857646E-2,1.6803718077331431,3.2837969999999999,9989,{"$f":"IFERROR((I266-J266)/'NTC Thermistor Comparison'!H108,NA())","v":-1.6407828583772766},10491.416904479314,{"$f":"'Device Resistance Tables'!D95","v":10598.748968463369},10706.108368907353,{"$f":"IFERROR('NTC Thermistor Comparison'!F109-'NTC Thermistor Comparison'!F108,NA())","v":5.0960408461722118E-3},{"$f":"IFERROR((K266-J266)/'NTC Thermistor Comparison'!H108,NA())","v":1.6412007502279973},10011,3.3167970000000002,1.7158638402211777,1.7902879122176918E-2,3.513095687924932]
[77,36,-3.4601231611742986,-1.7605743047955924E-2,1.685451258897217,3.2838266999999997,9988.9,{"$f":"IFERROR((I267-J267)/'NTC Thermistor Comparison'!H109,NA())","v":-1.6430131053053449},10556.481702637037,{"$f":"'Device Resistance Tables'!D96","v":10664.482101237174},10772.510025031981,{"$f":"IFERROR('NTC Thermistor Comparison'!F110-'NTC Thermistor Comparison'!F109,NA())","v":5.0881839252163719E-3},{"$f":"IFERROR((K267-J267)/'NTC Thermistor Comparison'!H109,NA())","v":1.6434318468669908},10011.1,3.3168267,1.7210078137257299,1.7950811780556908E-2,3.5279408221851103]
[78,37,-3.468757945989847,-1.762202560806525E-2,1.6905231602623241,3.2838563999999995,9988.7999999999993,{"$f":"IFERROR((I268-J268)/'NTC Thermistor Comparison'!H110,NA())","v":-1.6452569913073172},10621.861792580539,{"$f":"'Device Resistance Tables'!D97","v":10730.533781778107},10839.233486054634,{"$f":"IFERROR('NTC Thermistor Comparison'!F111-'NTC Thermistor Comparison'!F110,NA())","v":5.0802119612980423E-3},{"$f":"IFERROR((K268-J268)/'NTC Thermistor Comparison'!H110,NA())","v":1.6456765881855779},10011.200000000001,3.3168563999999998,1.726143804377227,1.7998618506837705E-2,3.542887313355108]
[79,38,-3.477436768037597,-1.7638001075016563E-2,1.6955873967566708,3.2838860999999997,9988.7000000000007,{"$f":"IFERROR((I269-J269)/'NTC Thermistor Comparison'!H111,NA())","v":-1.6475142030531518},10687.557743695688,{"$f":"'Device Resistance Tables'!D98","v":10796.904585506858},10906.279333441116,{"$f":"IFERROR('NTC Thermistor Comparison'!F112-'NTC Thermistor Comparison'!F111,NA())","v":5.0721270440152733E-3},{"$f":"IFERROR((K269-J269)/'NTC Thermistor Comparison'!H111,NA())","v":1.6479346608677443},10011.299999999999,3.3168861000000001,1.7312716967330255,1.8046298901338131E-2,3.5579351117853801]
[80,39,-3.486159007043609,-1.7653669510226289E-2,1.7006438553654764,3.2839157999999995,9988.6,{"$f":"IFERROR((I270-J270)/'NTC Thermistor Comparison'!H112,NA())","v":-1.6497844328832179},10753.570131337174,{"$f":"'Device Resistance Tables'!D99","v":10863.595093891925},10973.648154784116,{"$f":"IFERROR('NTC Thermistor Comparison'!F113-'NTC Thermistor Comparison'!F112,NA())","v":5.0639312419651361E-3},{"$f":"IFERROR((K270-J270)/'NTC Thermistor Comparison'!H112,NA())","v":1.6502057572683515},10011.4,3.3169157999999999,1.7363913774647868,1.8093852589084136E-2,3.5730841760131282]
[81,40,-3.4949240510451136,-1.7669031007107039E-2,1.7056924251105607,3.2839454999999997,9988.5,{"$f":"IFERROR((I271-J271)/'NTC Thermistor Comparison'!H113,NA())","v":-1.6520673786879563},10819.899536828489,{"$f":"'Device Resistance Tables'!D100","v":10930.605894449618},11041.340543803197,{"$f":"IFERROR('NTC Thermistor Comparison'!F114-'NTC Thermistor Comparison'!F113,NA())","v":5.0556266027650398E-3},{"$f":"IFERROR((K271-J271)/'NTC Thermistor Comparison'!H113,NA())","v":1.6524895752922932},10011.5,3.3169455000000001,1.7415027353370645,1.8141279219396678E-2,3.588334472620029]
[82,41,-3.5037312961935911,-1.7684085690483853E-2,1.710732997029949,3.2839751999999995,9988.4,{"$f":"IFERROR((I272-J272)/'NTC Thermistor Comparison'!H114,NA())","v":-1.6543627437904294},10886.546547461952,{"$f":"'Device Resistance Tables'!D101","v":10997.937580744057},11109.357100344805,{"$f":"IFERROR('NTC Thermistor Comparison'!F115-'NTC Thermistor Comparison'!F114,NA())","v":5.0472151530842613E-3},{"$f":"IFERROR((K272-J272)/'NTC Thermistor Comparison'!H114,NA())","v":1.6547858182774986},10011.6,3.3169751999999999,1.746605661185918,1.8188578465485161E-2,3.6036859760912812]
[83,42,-3.5125801465653561,-1.7698833716014439E-2,1.7157654641575026,3.2840048999999998,9988.2999999999993,{"$f":"IFERROR((I273-J273)/'NTC Thermistor Comparison'!H115,NA())","v":-1.6566702368325359},10953.511756498694,{"$f":"'Device Resistance Tables'!D102","v":11065.590752387183},11177.698430382261,{"$f":"IFERROR('NTC Thermistor Comparison'!F116-'NTC Thermistor Comparison'!F115,NA())","v":5.0386988986772518E-3},{"$f":"IFERROR((K273-J273)/'NTC Thermistor Comparison'!H115,NA())","v":1.6570941948805127},10011.700000000001,3.3170049000000001,1.7517000478975593,1.8235750024042208E-2,3.6191386686808009]
[84,43,-3.5214700139777322,-1.7713275269617412E-2,1.7207897215025769,3.2840345999999996,9988.2000000000007,{"$f":"IFERROR((I274-J274)/'NTC Thermistor Comparison'!H116,NA())","v":-1.6589895716643646},11020.795763168659,{"$f":"'Device Resistance Tables'!D103","v":11133.566015038743},11246.365146015767,{"$f":"IFERROR('NTC Thermistor Comparison'!F117-'NTC Thermistor Comparison'!F116,NA())","v":5.0300798244222733E-3},{"$f":"IFERROR((K274-J274)/'NTC Thermistor Comparison'!H116,NA())","v":1.6594144189663567},10011.799999999999,3.3170345999999999,1.7567857903870374,1.8282793614843085E-2,3.6346925402805002]
[85,44,-3.5304003178061945,-1.7727410566900081E-2,1.7258056660297165,3.2840642999999998,9988.1,{"$f":"IFERROR((I275-J275)/'NTC Thermistor Comparison'!H117,NA())","v":-1.6613204672359243},11088.399172670608,{"$f":"'Device Resistance Tables'!D104","v":11201.863980406299},11315.35786547241,{"$f":"IFERROR('NTC Thermistor Comparison'!F118-'NTC Thermistor Comparison'!F117,NA())","v":5.0213598943691373E-3},{"$f":"IFERROR((K275-J275)/'NTC Thermistor Comparison'!H117,NA())","v":1.6617462095001925},10011.9,3.3170643000000002,1.7618627855769655,1.8329708980348913E-2,3.6503475882904786]
[86,45,-3.5393704848139413,-1.7741239852598012E-2,1.7308131966383877,3.2840939999999996,9988,{"$f":"IFERROR((I276-J276)/'NTC Thermistor Comparison'!H118,NA())","v":-1.6636626474921856},11156.32259617212,{"$f":"'Device Resistance Tables'!D105","v":11270.485266245223},11384.677213106148,{"$f":"IFERROR('NTC Thermistor Comparison'!F119-'NTC Thermistor Comparison'!F118,NA())","v":5.0125410517827262E-3},{"$f":"IFERROR((K276-J276)/'NTC Thermistor Comparison'!H118,NA())","v":1.6640892904421665},10012,3.317094,1.7669309323762894,1.8376495885303656E-2,3.6661038174975138]
[87,46,-3.5483799489774959,-1.7754763400013918E-2,1.7358122141427546,3.2841236999999994,9987.9,{"$f":"IFERROR((I277-J277)/'NTC Thermistor Comparison'!H119,NA())","v":-1.6660158412707569},11224.566650809587,{"$f":"'Device Resistance Tables'!D106","v":11339.430496358704},11454.323819397823,{"$f":"IFERROR('NTC Thermistor Comparison'!F120-'NTC Thermistor Comparison'!F119,NA())","v":5.0036252192018349E-3},{"$f":"IFERROR((K277-J277)/'NTC Thermistor Comparison'!H119,NA())","v":1.6664433906451592},10012.1,3.3171236999999998,1.7719901316591187,1.8423154116350204E-2,3.6819612399525434]
[88,47,-3.5574281513259067,-1.7767981510465658E-2,1.7408026212515046,3.2841533999999997,9987.7999999999993,{"$f":"IFERROR((I278-J278)/'NTC Thermistor Comparison'!H120,NA())","v":-1.6683797822024331},11293.131959688211,{"$f":"'Device Resistance Tables'!D107","v":11408.70030059774},11524.298320955153,{"$f":"IFERROR('NTC Thermistor Comparison'!F121-'NTC Thermistor Comparison'!F120,NA())","v":4.9946142984906849E-3},{"$f":"IFERROR((K278-J278)/'NTC Thermistor Comparison'!H120,NA())","v":1.6688082437551928},10012.200000000001,3.3171534,1.7770402862436032,1.8469683481632915E-2,3.6979198748568516]
[89,48,-3.5665145397735456,-1.7780894512733791E-2,1.7457843225477272,3.2841830999999995,9987.7000000000007,{"$f":"IFERROR((I279-J279)/'NTC Thermistor Comparison'!H121,NA())","v":-1.6707542086138449},11362.019151882021,{"$f":"'Device Resistance Tables'!D108","v":11478.295314861145},11594.601360512741,{"$f":"IFERROR('NTC Thermistor Comparison'!F122-'NTC Thermistor Comparison'!F121,NA())","v":4.9855101709084249E-3},{"$f":"IFERROR((K279-J279)/'NTC Thermistor Comparison'!H121,NA())","v":1.671183588114493},10012.299999999999,3.3171830999999998,1.7820813008708782,1.851608381041725E-2,3.713979748444356]
[90,49,-3.5756385689685328,-1.7793502762525115E-2,1.7507572244688443,3.2842127999999997,9987.6,{"$f":"IFERROR((I280-J280)/'NTC Thermistor Comparison'!H122,NA())","v":-1.6731388634332967},11431.228862433853,{"$f":"'Device Resistance Tables'!D109","v":11548.21618109554},11665.233586932061,{"$f":"IFERROR('NTC Thermistor Comparison'!F123-'NTC Thermistor Comparison'!F122,NA())","v":4.9763146971697481E-3},{"$f":"IFERROR((K280-J280)/'NTC Thermistor Comparison'!H122,NA())","v":1.6735691666668451},10012.4,3.3172128000000001,1.7871130821840719,1.8562354952702531E-2,3.7301408938746921]
[91,50,-3.5847997001383001,-1.7805806641929989E-2,1.7557212352866092,3.2842424999999995,9987.5,{"$f":"IFERROR((I281-J281)/'NTC Thermistor Comparison'!H123,NA())","v":-1.6755334940984878},11500.761732355357,{"$f":"'Device Resistance Tables'!D110","v":11618.463547295365},11736.195655201478,{"$f":"IFERROR('NTC Thermistor Comparison'!F124-'NTC Thermistor Comparison'!F123,NA())","v":4.9670297175161693E-3},{"$f":"IFERROR((K281-J281)/'NTC Thermistor Comparison'!H123,NA())","v":1.675964726865544},10012.5,3.3172424999999999,1.7921355387073807,1.8608496778841577E-2,3.7464033511253096]
[92,51,-3.5939974009405811,-1.7817806558891869E-2,1.7606762650871635,3.2842721999999998,9987.4,{"$f":"IFERROR((I282-J282)/'NTC Thermistor Comparison'!H124,NA())","v":-1.6779378524669022},11570.618408627006,{"$f":"'Device Resistance Tables'!D111","v":11689.038067502872},11807.488226436226,{"$f":"IFERROR('NTC Thermistor Comparison'!F125-'NTC Thermistor Comparison'!F124,NA())","v":4.9576570517910756E-3},{"$f":"IFERROR((K282-J282)/'NTC Thermistor Comparison'!H124,NA())","v":1.6783700205836447},10012.6,3.3172722000000001,1.7971485808252219,1.8654509179166556E-2,3.7627671668872611]
[93,52,-3.6032311453206902,-1.7829502946679954E-2,1.7656222257511665,3.2843018999999996,9987.2999999999993,{"$f":"IFERROR((I283-J283)/'NTC Thermistor Comparison'!H125,NA())","v":-1.6803516947285857},11640.799544198082,{"$f":"'Device Resistance Tables'!D112","v":11759.940401808122},11879.11196787842,{"$f":"IFERROR('NTC Thermistor Comparison'!F126-'NTC Thermistor Comparison'!F125,NA())","v":4.9481984995145556E-3},{"$f":"IFERROR((K283-J283)/'NTC Thermistor Comparison'!H125,NA())","v":1.6807848040268649},10012.700000000001,3.3173018999999999,1.8021521207614579,1.8700392063611515E-2,3.7792323944656063]
[94,53,-3.6125004133654355,-1.7840896263366046E-2,1.7705590309339949,3.2843315999999998,9987.2000000000007,{"$f":"IFERROR((I284-J284)/'NTC Thermistor Comparison'!H126,NA())","v":-1.6827747813207297},11711.305797986686,{"$f":"'Device Resistance Tables'!D113","v":11831.171216348986},11951.067552897057,{"$f":"IFERROR('NTC Thermistor Comparison'!F127-'NTC Thermistor Comparison'!F126,NA())","v":4.9386558399713287E-3},{"$f":"IFERROR((K284-J284)/'NTC Thermistor Comparison'!H126,NA())","v":1.6832088376483096},10012.799999999999,3.3173316000000002,1.807146072558709,1.8746145361347999E-2,3.7957990936774468]
[95,54,-3.6218046911755035,-1.7851986991314961E-2,1.7754865960460173,3.2843612999999996,9987.1,{"$f":"IFERROR((I285-J285)/'NTC Thermistor Comparison'!H127,NA())","v":-1.6852068768446187},11782.137834879732,{"$f":"'Device Resistance Tables'!D114","v":11902.73118331116},12023.355660988014,{"$f":"IFERROR('NTC Thermistor Comparison'!F128-'NTC Thermistor Comparison'!F127,NA())","v":4.9290308322840204E-3},{"$f":"IFERROR((K285-J285)/'NTC Thermistor Comparison'!H127,NA())","v":1.6856418860648248},10012.9,3.3173613,1.8121303520577432,1.8791769020410909E-2,3.8124673307639174]
[96,55,-3.631143470720501,-1.7862775636664274E-2,1.780404838232952,3.2843909999999998,9987,{"$f":"IFERROR((I286-J286)/'NTC Thermistor Comparison'!H128,NA())","v":-1.68764774998526},11853.296325732948,{"$f":"'Device Resistance Tables'!D115","v":11974.620980928139},12095.976977774046,{"$f":"IFERROR('NTC Thermistor Comparison'!F129-'NTC Thermistor Comparison'!F128,NA())","v":4.91932521551397E-3},{"$f":"IFERROR((K286-J286)/'NTC Thermistor Comparison'!H128,NA())","v":1.6880837179773114},10013,3.3173910000000002,1.8171048768769591,1.8837263007342786E-2,3.8292371782894361]
[97,56,-3.6405162497194219,-1.7873262728829609E-2,1.7853136763563007,3.2844206999999996,9986.9,{"$f":"IFERROR((I287-J287)/'NTC Thermistor Comparison'!H129,NA())","v":-1.690097173431804},11924.781947370882,{"$f":"'Device Resistance Tables'!D116","v":12046.84129348124},12168.932195004783,{"$f":"IFERROR('NTC Thermistor Comparison'!F130-'NTC Thermistor Comparison'!F129,NA())","v":4.9095407087407228E-3},{"$f":"IFERROR((K287-J287)/'NTC Thermistor Comparison'!H129,NA())","v":1.6905341060906267},10013.1,3.3174207,1.8220695663919562,1.8882627306825883E-2,3.8461087150592546]
[98,57,-3.6499225315059651,-1.7883448819996595E-2,1.7902130309738744,3.2844503999999994,9986.7999999999993,{"$f":"IFERROR((I288-J288)/'NTC Thermistor Comparison'!H130,NA())","v":-1.692554923801189},11996.595382586895,{"$f":"'Device Resistance Tables'!D117","v":12119.392811299587},12242.222010556745,{"$f":"IFERROR('NTC Thermistor Comparison'!F131-'NTC Thermistor Comparison'!F130,NA())","v":4.8996790111646149E-3},{"$f":"IFERROR((K288-J288)/'NTC Thermistor Comparison'!H130,NA())","v":1.6929928270376795},10013.200000000001,3.3174503999999998,1.8270243417152068,1.8927861921335776E-2,3.863082026027818]
[99,58,-3.6593618249084239,-1.7893334484632151E-2,1.7951028243204035,3.2844800999999997,{"$f":"IFERROR(($B$41-((B289-$B$256))*($B$41/1000000)*$B$43)-($B$41*$B$42),NA())","v":9986.7000000000007},{"$f":"IFERROR((I289-J289)/'NTC Thermistor Comparison'!H131,NA())","v":-1.6950207815627463},12068.737320143162,{"$f":"'Device Resistance Tables'!D118","v":12192.276230760121},12315.847128433319,{"$f":"IFERROR('NTC Thermistor Comparison'!F132-'NTC Thermistor Comparison'!F131,NA())","v":4.8897418022006978E-3},{"$f":"IFERROR((K289-J289)/'NTC Thermistor Comparison'!H131,NA())","v":1.6954596613035235},{"$f":"IFERROR(($B$41+((B289-$B$256))*($B$41/1000000)*$B$43)+($B$41*$B$42),NA())","v":10013.299999999999},{"$f":"IFERROR($G$33+(($B$256-B289)*(($B$32*(1-$B$33))/1000000)),NA())","v":3.3174801},1.8319691256758168,1.8972966870781205E-2,3.8801572022150848]
[100,59,-3.668833644130324,-1.7902920318997539E-2,1.7999829802882388,{"$f":"IFERROR($E$33+(($B$256-B290)*(($B$32*(1-$B$33))/1000000)),NA())","v":3.2845097999999995},9986.6,{"$f":"IFERROR((I290-J290)/'NTC Thermistor Comparison'!H132,NA())","v":-1.6974945309654867},12141.208454770673,{"$f":"'Device Resistance Tables'!D119","v":12265.492254287587},12389.80825876478,{"$f":"IFERROR('NTC Thermistor Comparison'!F133-'NTC Thermistor Comparison'!F132,NA())","v":4.8797307415777702E-3},{"$f":"IFERROR((K290-J290)/'NTC Thermistor Comparison'!H132,NA())","v":1.6979343931531401},10013.4,3.3175097999999998,1.8369038427993929,1.9017942192156578E-2,3.8973343406254175]
[101,60,-3.6783375086318721,-1.7912206940661424E-2,1.8048534244081527,3.2845394999999997,9986.5,{"$f":"IFERROR((I291-J291)/'NTC Thermistor Comparison'!H133,NA())","v":-1.6999759599661093},12214.009487169238,{"$f":"'Device Resistance Tables'!D120","v":12339.041590354558},12464.106117808278,{"$f":"IFERROR('NTC Thermistor Comparison'!F134-'NTC Thermistor Comparison'!F133,NA())","v":4.8696474694416292E-3},{"$f":"IFERROR((K291-J291)/'NTC Thermistor Comparison'!H133,NA())","v":1.7004168105588398},10013.5,3.3175395000000001,1.841828419288013,1.9062787939198911E-2,3.9146135441678527]
[102,61,-3.6878729430130259,-1.7921194988025357E-2,1.8097140838302304,3.2845691999999995,9986.4,{"$f":"IFERROR((I292-J292)/'NTC Thermistor Comparison'!H134,NA())","v":-1.7024648601603638},12287.141124007479,{"$f":"'Device Resistance Tables'!D121","v":12412.924953481406},12538.741427947843,{"$f":"IFERROR('NTC Thermistor Comparison'!F135-'NTC Thermistor Comparison'!F134,NA())","v":4.8594936064645378E-3},{"$f":"IFERROR((K292-J292)/'NTC Thermistor Comparison'!H134,NA())","v":1.7029067051323432},10013.6,3.3175691999999999,1.8467427830003016,1.9107504182045876E-2,3.931994921575233]
[103,62,-3.6974394769098047,-1.7929885119854383E-2,1.8145648873048659,3.2845988999999998,9986.2999999999993,{"$f":"IFERROR((I293-J293)/'NTC Thermistor Comparison'!H135,NA())","v":-1.7049610267142221},12360.604077922831,{"$f":"'Device Resistance Tables'!D122","v":12487.143064236321},12613.714917694389,{"$f":"IFERROR('NTC Thermistor Comparison'!F136-'NTC Thermistor Comparison'!F135,NA())","v":4.8492707539433688E-3},{"$f":"IFERROR((K293-J293)/'NTC Thermistor Comparison'!H135,NA())","v":1.7054038720553972},10013.700000000001,3.3175989000000001,1.8516468634316139,1.9152091006893635E-2,3.9494785873359173]
[104,63,-3.7070366448748073,-1.7938278014807185E-2,1.8194057651638564,3.2846285999999996,9986.2000000000007,{"$f":"IFERROR((I294-J294)/'NTC Thermistor Comparison'!H136,NA())","v":-1.7074642582981114},12434.399067521552,{"$f":"'Device Resistance Tables'!D123","v":12561.696649235302},12689.0273216857,{"$f":"IFERROR('NTC Thermistor Comparison'!F137-'NTC Thermistor Comparison'!F136,NA())","v":4.8389804939230618E-3},{"$f":"IFERROR((K294-J294)/'NTC Thermistor Comparison'!H136,NA())","v":1.7079081100142739},10013.799999999999,3.3176285999999999,1.8565405916943334,1.9196548515669765E-2,3.9670646616115461]
[105,64,-3.7166639862814015,-1.7946374370981788E-2,1.8242366493016049,3.2846582999999998,9986.1,{"$f":"IFERROR((I295-J295)/'NTC Thermistor Comparison'!H137,NA())","v":-1.7099743570220893},{"$f":"IFERROR(($F$171*B295^4 + $E$171*B295^3 + $D$171*B295^2 + $C$171*B295 + $B$171)*0.99,NA())","v":12508.526817378704},{"$f":"'Device Resistance Tables'!D124","v":12636.586441142172},{"$f":"IFERROR(($F$184*B295^4 + $E$184*B295^3 + $D$184*B295^2 + $C$184*B295 + $B$184)*1.01,NA())","v":12764.679380686448},{"$f":"IFERROR('NTC Thermistor Comparison'!F138-'NTC Thermistor Comparison'!F137,NA())","v":4.8286243892974312E-3},{"$f":"IFERROR((K295-J295)/'NTC Thermistor Comparison'!H137,NA())","v":1.7104192211345506},10013.9,3.3176583000000002,1.8614239004982818,1.9240876825695086E-2,3.984753270174044]
[106,65,-3.7263210452149562,-1.7954174905455922E-2,1.8290574731564282,3.2846879999999996,9986,{"$f":"IFERROR((I296-J296)/'NTC Thermistor Comparison'!H138,NA())","v":-1.7124911283730933},12582.988058038176,{"$f":"'Device Resistance Tables'!D125","v":12711.81317866855},12840.671841588181,{"$f":"IFERROR('NTC Thermistor Comparison'!F139-'NTC Thermistor Comparison'!F138,NA())","v":4.8182039839297364E-3},{"$f":"IFERROR((K296-J296)/'NTC Thermistor Comparison'!H138,NA())","v":1.7129370109191093},10014,3.317688,1.8662967241312474,1.9285076069363249E-2,4.0025445443333645]
[107,66,-3.7360073703714951,-1.7961680353840936E-2,1.8338681716919729,3.2847176999999999,9985.9,{"$f":"IFERROR((I297-J297)/'NTC Thermistor Comparison'!H139,NA())","v":-1.7150143811526311},12657.783526012665,{"$f":"'Device Resistance Tables'!D126","v":12787.377606573884},12917.005457409325,{"$f":"IFERROR('NTC Thermistor Comparison'!F140-'NTC Thermistor Comparison'!F139,NA())","v":4.8077208027710316E-3},{"$f":"IFERROR((K297-J297)/'NTC Thermistor Comparison'!H139,NA())","v":1.7154612881849196},10014.1,3.3177177000000002,1.8711589984396277,1.932914639381389E-2,4.0204386208685676]
[108,67,-3.7457225149652467,-1.7968891469841486E-2,1.8386686813787434,3.2847473999999997,9985.7999999999993,{"$f":"IFERROR((I298-J298)/'NTC Thermistor Comparison'!H140,NA())","v":-1.7175439274175743},12732.913963783683,{"$f":"'Device Resistance Tables'!D127","v":12863.280475665417},12993.680987295185,{"$f":"IFERROR('NTC Thermistor Comparison'!F141-'NTC Thermistor Comparison'!F140,NA())","v":4.7971763519722987E-3},{"$f":"IFERROR((K298-J298)/'NTC Thermistor Comparison'!H140,NA())","v":1.7179918650046773},10014.200000000001,3.3177474,1.8760106608091978,1.9373087960612878E-2,4.0384356419684]
[109,68,-3.7554660366249366,-1.797580902481255E-2,1.8434589401757446,3.2847770999999995,9985.7000000000007,{"$f":"IFERROR((I299-J299)/'NTC Thermistor Comparison'!H141,NA())","v":-1.7200795824202595},12808.380119801566,{"$f":"'Device Resistance Tables'!D128","v":12939.522542798226},13070.699196517951,{"$f":"IFERROR('NTC Thermistor Comparison'!F142-'NTC Thermistor Comparison'!F141,NA())","v":4.7865721190138988E-3},{"$f":"IFERROR((K299-J299)/'NTC Thermistor Comparison'!H141,NA())","v":1.7205285566460782},10014.299999999999,3.3177770999999998,1.8808516501459982,1.9416900945441018E-2,4.0565357551619163]
[110,69,-3.7652374973073983,-1.7982433807331777E-2,1.8482388875122393,3.2848067999999997,9985.6,{"$f":"IFERROR((I300-J300)/'NTC Thermistor Comparison'!H142,NA())","v":-1.7226211645526441},12884.182748485455,{"$f":"'Device Resistance Tables'!D129","v":13016.104570875179},13148.060856476686,{"$f":"IFERROR('NTC Thermistor Comparison'!F143-'NTC Thermistor Comparison'!F142,NA())","v":4.7759095728201473E-3},{"$f":"IFERROR((K300-J300)/'NTC Thermistor Comparison'!H142,NA())","v":1.7230711815167867},10014.4,3.3178068000000001,1.8856819068573492,1.9460585537778075E-2,4.0747391132631332]
[111,70,-3.7750364631995574,-1.7988766622773378E-2,1.8530084642696178,3.2848364999999995,9985.5,{"$f":"IFERROR((I301-J301)/'NTC Thermistor Comparison'!H143,NA())","v":-1.7251684952888291},12960.322610223309,{"$f":"'Device Resistance Tables'!D130","v":13093.027328846969},13225.766744697336,{"$f":"IFERROR('NTC Thermistor Comparison'!F144-'NTC Thermistor Comparison'!F143,NA())","v":4.7651901638923189E-3},{"$f":"IFERROR((K301-J301)/'NTC Thermistor Comparison'!H143,NA())","v":1.7256195611063052},10014.5,3.3178364999999999,1.8905013728329882,1.950414194059702E-2,4.0930458743047478]
[112,71,-4.6446826880418,-2.2082750549111241E-2,1.8536796705071723,3.2848661999999997,9985.4,{"$f":"IFERROR((I302-J302)/'NTC Thermistor Comparison'!H144,NA())","v":-2.5798932076945094},{"$f":"IFERROR(($F$171*B302^4 + $E$171*B302^3 + $D$171*B302^2 + $C$171*B302 + $B$171)*0.985,NA())","v":12970.958044748815},{"$f":"'Device Resistance Tables'!D131","v":13170.291591712106},{"$f":"IFERROR(($F$184*B302^4 + $E$184*B302^3 + $D$184*B302^2 + $C$184*B302 + $B$184)*1.015,NA())","v":13369.67812822298},{"$f":"IFERROR('NTC Thermistor Comparison'!F145-'NTC Thermistor Comparison'!F144,NA())","v":4.7544153244236664E-3},{"$f":"IFERROR((K302-J302)/'NTC Thermistor Comparison'!H144,NA())","v":2.5805790299054245},10014.6,3.3178662000000001,1.8993215489570885,2.3559127900804944E-2,4.9552103241339767]
[113,72,-4.6558425963542263,-2.2085391939244081E-2,1.8584314444414631,3.2848958999999995,9985.2999999999993,{"$f":"IFERROR((I303-J303)/'NTC Thermistor Comparison'!H145,NA())","v":-2.5836920822217628},13047.386714841401,{"$f":"'Device Resistance Tables'!D132","v":13247.898140516898},13448.462932537115,{"$f":"IFERROR('NTC Thermistor Comparison'!F146-'NTC Thermistor Comparison'!F145,NA())","v":4.743586468438199E-3},{"$f":"IFERROR((K303-J303)/'NTC Thermistor Comparison'!H145,NA())","v":2.5843797348173529},10014.700000000001,3.3178958999999999,1.9041158756117837,2.3599039231076535E-2,4.9749360295410394]
[114,73,-4.6670312345886513,-2.2087682021344479E-2,1.8631727408278009,3.2849255999999998,9985.2000000000007,{"$f":"IFERROR((I304-J304)/'NTC Thermistor Comparison'!H146,NA())","v":-2.5874986630156047},13124.153220065578,{"$f":"'Device Resistance Tables'!D133","v":13325.847762355479},13527.59605028198,{"$f":"IFERROR('NTC Thermistor Comparison'!F147-'NTC Thermistor Comparison'!F146,NA())","v":4.7327049919114739E-3},{"$f":"IFERROR((K304-J304)/'NTC Thermistor Comparison'!H146,NA())","v":2.5881881549635115},10014.799999999999,3.3179256000000001,1.9088991860307145,2.36387631815691E-2,4.9947679439072186]
[115,74,-4.6782480995778206,-2.2089622162362987E-2,1.8679035056786939,3.2849552999999996,9985.1,{"$f":"IFERROR((I305-J305)/'NTC Thermistor Comparison'!H147,NA())","v":-2.5913126977949421},13201.258340723653,{"$f":"'Device Resistance Tables'!D134","v":13404.141250369788},13607.078287461503,{"$f":"IFERROR('NTC Thermistor Comparison'!F148-'NTC Thermistor Comparison'!F147,NA())","v":4.7217722729062661E-3},{"$f":"IFERROR((K305-J305)/'NTC Thermistor Comparison'!H147,NA())","v":2.5920040381216012},10014.9,3.3179552999999999,1.9136714283560827,2.3678300515025841E-2,5.0147061625341305]
[116,75,-4.6894926932978942,-2.2091213745101479E-2,1.8726236863688617,3.2849849999999998,9985,{"$f":"IFERROR((I306-J306)/'NTC Thermistor Comparison'!H148,NA())","v":-2.5951339384507333},13278.702863056582,{"$f":"'Device Resistance Tables'!D135","v":13482.779403749584},13686.910456236816,{"$f":"IFERROR('NTC Thermistor Comparison'!F149-'NTC Thermistor Comparison'!F148,NA())","v":4.710789671700244E-3},{"$f":"IFERROR((K306-J306)/'NTC Thermistor Comparison'!H148,NA())","v":2.5958271362419629},10015,3.3179850000000002,1.9184325521209467,2.3717652006983503E-2,5.0347507869998358]
[117,76,-4.7007645227644748,-2.209245816771821E-2,1.8773332316179452,3.2850146999999996,9984.9,{"$f":"IFERROR((I307-J307)/'NTC Thermistor Comparison'!H149,NA())","v":-2.5989621409750399},13356.487579244009,{"$f":"'Device Resistance Tables'!D136","v":13561.763027732428},13767.093374926264,{"$f":"IFERROR('NTC Thermistor Comparison'!F150-'NTC Thermistor Comparison'!F149,NA())","v":4.6997585309220824E-3},{"$f":"IFERROR((K307-J307)/'NTC Thermistor Comparison'!H149,NA())","v":2.5996572053776186},10015.1,3.3180147,1.9231825082310492,2.3756818445385797E-2,5.0549019250835343]
[118,77,-4.7120630999357527,-2.2093356843238876E-2,1.8820320914733466,3.2850443999999994,9984.7999999999993,{"$f":"IFERROR((I308-J308)/'NTC Thermistor Comparison'!H150,NA())","v":-2.6027970653906789},13434.613287404236,{"$f":"'Device Resistance Tables'!D137","v":13641.092933603699},13847.627868005404,{"$f":"IFERROR('NTC Thermistor Comparison'!F151-'NTC Thermistor Comparison'!F150,NA())","v":4.6886801756835794E-3},{"$f":"IFERROR((K308-J308)/'NTC Thermistor Comparison'!H150,NA())","v":2.603494005613094},10015.200000000001,3.3180443999999998,1.9279212489467901,2.3795800630204589E-2,5.0751596906980998]
[119,78,-4.7233879416139954,-2.2093911199073446E-2,1.8867202172931956,3.2850740999999997,9984.7000000000007,{"$f":"IFERROR((I309-J309)/'NTC Thermistor Comparison'!H151,NA())","v":-2.6066384756833032},13513.080791594239,{"$f":"'Device Resistance Tables'!D138","v":13720.769938696594},13928.514766107006,{"$f":"IFERROR('NTC Thermistor Comparison'!F152-'NTC Thermistor Comparison'!F151,NA())","v":4.6775559137164358E-3},{"$f":"IFERROR((K309-J309)/'NTC Thermistor Comparison'!H151,NA())","v":2.6073373009967211},10015.299999999999,3.3180741,1.9326487278653335,2.3834599373064425E-2,5.0955242038202035]
[120,79,-4.7347385693552697,-2.2094122676547201E-2,1.8913975617294383,3.2851037999999995,9984.6,{"$f":"IFERROR((I310-J310)/'NTC Thermistor Comparison'!H152,NA())","v":-2.6104861397349377},13591.890901809666,{"$f":"'Device Resistance Tables'!D139","v":13800.794866392116},14009.75490602104,{"$f":"IFERROR('NTC Thermistor Comparison'!F153-'NTC Thermistor Comparison'!F152,NA())","v":4.6663870355054815E-3},{"$f":"IFERROR((K310-J310)/'NTC Thermistor Comparison'!H152,NA())","v":2.6111868594742562},10015.4,3.3181037999999998,1.9373648999028557,2.3873215496870159E-2,5.1159955904266559]
[121,80,-4.7461145093727257,-2.2093992730428003E-2,1.896064078711063,3.2851334999999997,9984.5,{"$f":"IFERROR((I311-J311)/'NTC Thermistor Comparison'!H153,NA())","v":-2.6143398292582662},13671.044433984829,{"$f":"'Device Resistance Tables'!D140","v":13881.168546119081},14091.349130694694,{"$f":"IFERROR('NTC Thermistor Comparison'!F154-'NTC Thermistor Comparison'!F153,NA())","v":4.6551748144290084E-3},{"$f":"IFERROR((K311-J311)/'NTC Thermistor Comparison'!H153,NA())","v":2.6150424528230136},10015.5,3.3181335000000001,1.9420697212769416,2.3911649835450577E-2,5.1365739824280947]
[122,81,-4.7575152924471356,-2.2093522828472878E-2,1.9007197234274471,3.2851631999999995,9984.4,{"$f":"IFERROR((I312-J312)/'NTC Thermistor Comparison'!H154,NA())","v":-2.6181993197329825},13750.542209992718,{"$f":"'Device Resistance Tables'!D141","v":13961.891813354119},14173.298289232371,{"$f":"IFERROR('NTC Thermistor Comparison'!F155-'NTC Thermistor Comparison'!F154,NA())","v":4.6439205068973255E-3},{"$f":"IFERROR((K312-J312)/'NTC Thermistor Comparison'!H154,NA())","v":2.618903856588322},10015.6,3.3181631999999999,1.9467631494891147,2.394990323319468E-2,5.1572595176044427]
[123,82,-4.7689404538449462,-2.2092714450972828E-2,1.9053644523118445,3.2851928999999997,9984.2999999999993,{"$f":"IFERROR((I313-J313)/'NTC Thermistor Comparison'!H155,NA())","v":-2.6220643903435432},13830.385057644988,{"$f":"'Device Resistance Tables'!D142","v":14042.965509621676},14255.603236895673,{"$f":"IFERROR('NTC Thermistor Comparison'!F156-'NTC Thermistor Comparison'!F155,NA())","v":4.6326253524848759E-3},{"$f":"IFERROR((K313-J313)/'NTC Thermistor Comparison'!H155,NA())","v":2.6227708500209257},10015.700000000001,3.3181929000000001,1.9514451433075177,2.3987976544700418E-2,5.1780523395516109]
[124,83,-4.7803895332238842,-2.2091569090310292E-2,1.9099982230249919,3.2852225999999995,9984.2000000000007,{"$f":"IFERROR((I314-J314)/'NTC Thermistor Comparison'!H156,NA())","v":-2.6259348239182008},13910.57381069196,{"$f":"'Device Resistance Tables'!D143","v":14124.390482494005},14338.264835103422,{"$f":"IFERROR('NTC Thermistor Comparison'!F157-'NTC Thermistor Comparison'!F156,NA())","v":4.6212905740783405E-3},{"$f":"IFERROR((K314-J314)/'NTC Thermistor Comparison'!H156,NA())","v":2.6266432160163045},10015.799999999999,3.3182225999999999,1.9561156627497345,2.4025870634432289E-2,5.1989525976136983]
[125,84,-4.791862074553781,-2.209008825052039E-2,1.9146209944388601,3.2852522999999998,9984.1,{"$f":"IFERROR((I315-J315)/'NTC Thermistor Comparison'!H157,NA())","v":-2.6298104068691295},13991.10930882263,{"$f":"'Device Resistance Tables'!D144","v":14206.167585591174},14421.283951431644,{"$f":"IFERROR('NTC Thermistor Comparison'!F158-'NTC Thermistor Comparison'!F157,NA())","v":4.6099173780116409E-3},{"$f":"IFERROR((K315-J315)/'NTC Thermistor Comparison'!H157,NA())","v":2.6305207410546743},10015.9,3.3182523000000002,1.9607746690657581,2.4063586376377621E-2,5.2199604468305631]
[126,85,-4.8033576260343587,-2.2088273446861928E-2,1.9192327266205302,3.2852819999999996,9984,{"$f":"IFERROR((I316-J316)/'NTC Thermistor Comparison'!H158,NA())","v":-2.6336909291339072},14071.992397664664,{"$f":"'Device Resistance Tables'!D145","v":14288.297678581066},14504.661459613579,{"$f":"IFERROR('NTC Thermistor Comparison'!F159-'NTC Thermistor Comparison'!F158,NA())","v":4.5985069542069379E-3},{"$f":"IFERROR((K316-J316)/'NTC Thermistor Comparison'!H158,NA())","v":2.6344032151423735},10016,3.318282,1.9654221247211012,2.4101124653709061E-2,5.2410760478811884]
[127,86,-4.8148757400131581,-2.2086126205391743E-2,1.9238333808162074,3.2853116999999998,9983.9,{"$f":"IFERROR((I317-J317)/'NTC Thermistor Comparison'!H159,NA())","v":-2.6375761841188159},14153.223928784399,{"$f":"'Device Resistance Tables'!D146","v":14370.781627179373},14588.39823953968,{"$f":"IFERROR('NTC Thermistor Comparison'!F160-'NTC Thermistor Comparison'!F159,NA())","v":4.587060476316962E-3},{"$f":"IFERROR((K317-J317)/'NTC Thermistor Comparison'!H159,NA())","v":2.6382904317552849},10016.1,3.3183117000000002,1.9700579933800599,2.4138486358460831E-2,5.2622995670294888]
[128,87,-4.8264159729066964,-2.2083648062551697E-2,1.9284229194353644,3.2853413999999996,9983.7999999999993,{"$f":"IFERROR((I318-J318)/'NTC Thermistor Comparison'!H160,NA())","v":-2.6414659686426254},14234.804759686833,{"$f":"'Device Resistance Tables'!D147","v":14453.620303149599},14672.495177257597,{"$f":"IFERROR('NTC Thermistor Comparison'!F161-'NTC Thermistor Comparison'!F160,NA())","v":4.5755791018675662E-3},{"$f":"IFERROR((K318-J318)/'NTC Thermistor Comparison'!H160,NA())","v":2.6421821877822613},10016.200000000001,3.3183414,1.9746822398891151,2.4175672391198999E-2,5.2836311760693784]
[129,88,-4.8379778851257305,{"$f":"IFERROR(E319-($B$32/(J319+$B$41)*J319),NA())","v":-2.2080840564757676E-2},1.933001306035026,3.2853710999999994,9983.7000000000007,{"$f":"IFERROR((I319-J319)/'NTC Thermistor Comparison'!H161,NA())","v":-2.6453600828817025},14316.735753815645,{"$f":"'Device Resistance Tables'!D148","v":14536.814584303067},14756.95316497221,{"$f":"IFERROR('NTC Thermistor Comparison'!F162-'NTC Thermistor Comparison'!F161,NA())","v":4.5640639723973919E-3},{"$f":"IFERROR((K319-J319)/'NTC Thermistor Comparison'!H161,NA())","v":2.6460782834706444},10016.299999999999,3.3183710999999998,1.9792948302604898,{"$f":"IFERROR(P319-($B$32/(J319+$B$41)*J319),NA())","v":2.4212683660706169E-2},5.3050710522770856]
[130,89,{"$f":"IFERROR(D320/L320,NA())","v":-4.8495610409988146},-2.207770526799635E-2,{"$f":"IFERROR((F320/(I320+N320))*I320,NA())","v":1.9375685053041847},3.2854007999999997,9983.6,{"$f":"IFERROR((I320-J320)/'NTC Thermistor Comparison'!H162,NA())","v":-2.6492583303169295},14399.01778055318,{"$f":"'Device Resistance Tables'!D149","v":14620.365354498908},14841.773101045595,{"$f":"IFERROR('NTC Thermistor Comparison'!F163-'NTC Thermistor Comparison'!F162,NA())","v":4.5525162136013098E-3},{"$f":"IFERROR((K320-J320)/'NTC Thermistor Comparison'!H162,NA())","v":2.6499785223728258},10016.4,3.3184008,{"$f":"IFERROR(O320/(K320+G320)*K320,NA())","v":1.9838957316558448},2.4249521083663739E-2,5.3266193783593208]
[131,{"$f":"B320+1","v":90},-4.8611650086966058,-2.2074243737432164E-2,1.9421244830483502,3.2854304999999995,{"$f":"IFERROR(($B$41-((B321-$B$256))*($B$41/1000000)*$B$43)-($B$41*$B$42),NA())","v":9983.5},{"$f":"IFERROR((I321-J321)/'NTC Thermistor Comparison'!H163,NA())","v":-2.6531605176810067},14481.651715220447,{"$f":"'Device Resistance Tables'!D150","v":14704.273503644064},14926.955889997049,{"$f":"IFERROR('NTC Thermistor Comparison'!F164-'NTC Thermistor Comparison'!F163,NA())","v":4.5409369354756368E-3},{"$f":"IFERROR((K321-J321)/'NTC Thermistor Comparison'!H163,NA())","v":2.6538827112937153},{"$f":"IFERROR(($B$41+((B321-$B$256))*($B$41/1000000)*$B$43)+($B$41*$B$42),NA())","v":10016.5},{"$f":"IFERROR($G$33+(($B$256-B321)*(($B$32*(1-$B$33))/1000000)),NA())","v":3.3184304999999998},1.9884849123701329,2.4286185584350584E-2,{"$f":"IFERROR(Q321/L321,NA())","v":5.3482763424034969}]
[132,91,-4.8727893601644423,-2.2070457547015865E-2,1.9466692061742421,{"$f":"IFERROR($E$33+(($B$256-B322)*(($B$32*(1-$B$33))/1000000)),NA())","v":3.2854601999999997},9983.4,{"$f":"IFERROR((I322-J322)/'NTC Thermistor Comparison'!H164,NA())","v":-2.6570664549067833},14564.638439077135,{"$f":"'Device Resistance Tables'!D151","v":14788.539927693295},15012.502442503066,{"$f":"IFERROR('NTC Thermistor Comparison'!F165-'NTC Thermistor Comparison'!F164,NA())","v":4.5293272324562484E-3},{"$f":"IFERROR((K322-J322)/'NTC Thermistor Comparison'!H164,NA())","v":2.6577906602388519},10016.6,3.3184602000000001,1.9930623418155911,2.4322678094333083E-2,5.3700421378348784]
[133,92,-4.8844336710468816,-2.2066348279104808E-2,1.9512026426746094,3.2854898999999995,9983.2999999999993,{"$f":"IFERROR((I323-J323)/'NTC Thermistor Comparison'!H165,NA())","v":-2.6609759550776944},14647.978839321593,{"$f":"'Device Resistance Tables'!D152","v":14873.165528649166},15098.413675397358,{"$f":"IFERROR('NTC Thermistor Comparison'!F166-'NTC Thermistor Comparison'!F165,NA())","v":4.5176881835669036E-3},{"$f":"IFERROR((K323-J323)/'NTC Thermistor Comparison'!H165,NA())","v":2.6617021823650058},10016.700000000001,3.3184898999999999,1.9976279905058856,2.4358999552171356E-2,5.3919169633657429]
[134,93,-4.8960975206210078,-2.2061917524084595E-2,1.9557247616131965,3.2855195999999998,9983.2000000000007,{"$f":"IFERROR((I324-J324)/'NTC Thermistor Comparison'!H166,NA())","v":-2.6648888343777934},14731.673809090847,{"$f":"'Device Resistance Tables'!D153","v":14958.151214562062},15184.690511670851,{"$f":"IFERROR('NTC Thermistor Comparison'!F167-'NTC Thermistor Comparison'!F166,NA())","v":4.5060208525598E-3},{"$f":"IFERROR((K324-J324)/'NTC Thermistor Comparison'!H166,NA())","v":2.6656170939300972},10016.799999999999,3.3185196000000001,2.0021818300404073,2.4395150903126162E-2,5.4139010229541347]
[135,94,-4.9077804917303434,-2.2057166880004697E-2,1.9602355331098362,3.2855492999999996,9983.1,{"$f":"IFERROR((I325-J325)/'NTC Thermistor Comparison'!H167,NA())","v":-2.6688049120441266},14815.724247460588,{"$f":"'Device Resistance Tables'!D154","v":15043.497899530177},15271.333880471679,{"$f":"IFERROR('NTC Thermistor Comparison'!F168-'NTC Thermistor Comparison'!F167,NA())","v":4.4943262880585699E-3},{"$f":"IFERROR((K325-J325)/'NTC Thermistor Comparison'!H167,NA())","v":2.6695352142455051},10016.9,3.3185492999999999,2.0067238330887123,2.4431133098871349E-2,5.4359945257612692]
[136,95,-4.9194821707154794,-2.2052097952210081E-2,1.9647349283256894,3.2855789999999998,9983,{"$f":"IFERROR((I326-J326)/'NTC Thermistor Comparison'!H168,NA())","v":-2.6727240103190733},14900.131059445182,{"$f":"'Device Resistance Tables'!D155","v":15129.206503699521},15358.344717105181,{"$f":"IFERROR('NTC Thermistor Comparison'!F169-'NTC Thermistor Comparison'!F168,NA())","v":4.4826055237034979E-3},{"$f":"IFERROR((K326-J326)/'NTC Thermistor Comparison'!H168,NA())","v":2.6734563656284398},10017,3.3185790000000002,2.011253973375112,2.4466947097212532E-2,5.4581976861078125]
[137,96,-4.931202147349901,-2.2046712352991271E-2,1.9692229194486117,3.2856086999999996,9982.9,{"$f":"IFERROR((I327-J327)/'NTC Thermistor Comparison'!H169,NA())","v":-2.6766459544044383},14984.895155997661,{"$f":"'Device Resistance Tables'!D156","v":15215.277953263911},15445.723963033914,{"$f":"IFERROR('NTC Thermistor Comparison'!F170-'NTC Thermistor Comparison'!F169,NA())","v":4.4708595782956273E-3},{"$f":"IFERROR((K327-J327)/'NTC Thermistor Comparison'!H169,NA())","v":2.6773803733560602},10017.1,3.3186087,2.0157722256634116,2.4502593861808641E-2,5.4805107234321762]
[138,97,-4.9429400147790608,-2.204101170123085E-2,1.9736994796786678,3.2856383999999998,9982.7999999999993,{"$f":"IFERROR((I328-J328)/'NTC Thermistor Comparison'!H170,NA())","v":-2.6805705724156499},15070.017454009727,{"$f":"'Device Resistance Tables'!D157","v":15301.713180464983},15533.472565877639,{"$f":"IFERROR('NTC Thermistor Comparison'!F171-'NTC Thermistor Comparison'!F170,NA())","v":4.459089455937093E-3},{"$f":"IFERROR((K328-J328)/'NTC Thermistor Comparison'!H170,NA())","v":2.6813070656194062},10017.200000000001,3.3186384000000002,2.0202785657417981,2.4538074361899476E-2,5.502933862254781]
[139,98,-4.9546953694553366,-2.2034997622063068E-2,1.9781645832137726,3.2856680999999996,9982.7000000000007,{"$f":"IFERROR((I329-J329)/'NTC Thermistor Comparison'!H171,NA())","v":-2.6844976953381146},15155.498876311751,{"$f":"'Device Resistance Tables'!D158","v":15388.513123592174},15621.59147941333,{"$f":"IFERROR('NTC Thermistor Comparison'!F172-'NTC Thermistor Comparison'!F171,NA())","v":4.4472961461776706E-3},{"$f":"IFERROR((K329-J329)/'NTC Thermistor Comparison'!H171,NA())","v":2.68523627348024},10017.299999999999,3.3186681,2.0247729704078772,2.4573389572041471E-2,5.5254673321365448]
[140,99,-4.9664678110776768,-2.202867174653389E-2,1.9826182052354795,3.2856977999999994,9982.6,{"$f":"IFERROR((I330-J330)/'NTC Thermistor Comparison'!H172,NA())","v":-2.6884271569821125},15241.340351672778,{"$f":"'Device Resistance Tables'!D159","v":15475.67872698276},15710.081663575174,{"$f":"IFERROR('NTC Thermistor Comparison'!F173-'NTC Thermistor Comparison'!F172,NA())","v":4.4354806241568845E-3},{"$f":"IFERROR((K330-J330)/'NTC Thermistor Comparison'!H172,NA())","v":2.6891678308250113},10017.4,3.3186977999999998,2.029255417453856,2.4608540471842577E-2,5.5481113676424361]
[141,100,-4.9782569425316758,-2.2022035711273258E-2,1.987060321894897,3.2857274999999997,9982.5,{"$f":"IFERROR((I331-J331)/'NTC Thermistor Comparison'!H173,NA())","v":-2.6923587939427689},15327.542814800519,{"$f":"'Device Resistance Tables'!D160","v":15563.210941021794},15798.944084454568,{"$f":"IFERROR('NTC Thermistor Comparison'!F174-'NTC Thermistor Comparison'!F173,NA())","v":4.4236438507478937E-3},{"$f":"IFERROR((K331-J331)/'NTC Thermistor Comparison'!H173,NA())","v":2.6931015743261071},10017.5,3.3187275000000001,2.0337258856518763,2.464352804570602E-2,5.5708662083046319]
[142,101,-4.9900623698348285,-2.2015091158170019E-2,1.9914909102987481,3.2857571999999995,9982.4,{"$f":"IFERROR((I332-J332)/'NTC Thermistor Comparison'!H174,NA())","v":-2.696292445555112},15414.107206341354,{"$f":"'Device Resistance Tables'!D161","v":15651.11072214217},15888.179714300113,{"$f":"IFERROR('NTC Thermistor Comparison'!F175-'NTC Thermistor Comparison'!F174,NA())","v":4.4117867726969351E-3},{"$f":"IFERROR((K332-J332)/'NTC Thermistor Comparison'!H174,NA())","v":2.6970373433955031},10017.6,3.3187571999999999,2.0381843547394949,2.4678353282576726E-2,5.5937320985916088]
[143,102,-5.0018837020698506,-2.2007839734049295E-2,1.9959099484955658,3.2857868999999997,9982.2999999999993,{"$f":"IFERROR((I333-J333)/'NTC Thermistor Comparison'!H175,NA())","v":-2.7002279538554692},15501.034472880337,{"$f":"'Device Resistance Tables'!D162","v":15739.37903282458},15977.789531517627,{"$f":"IFERROR('NTC Thermistor Comparison'!F176-'NTC Thermistor Comparison'!F175,NA())","v":4.399910322773426E-3},{"$f":"IFERROR((K333-J333)/'NTC Thermistor Comparison'!H175,NA())","v":2.700974980147183},10017.700000000001,3.3187869000000001,2.0426308054053113,2.4713017175696184E-2,5.6167092878653619]
[144,103,-5.0137205513394276,-2.200028309036739E-2,2.0003174154620211,3.2858165999999995,9982.2000000000007,{"$f":"IFERROR((I334-J334)/'NTC Thermistor Comparison'!H176,NA())","v":-2.7041651635400137},{"$f":"IFERROR(($F$171*B334^4 + $E$171*B334^3 + $D$171*B334^2 + $C$171*B334 + $B$171)*0.985,NA())","v":15588.325566941194},{"$f":"'Device Resistance Tables'!D163","v":15828.016841597531},{"$f":"IFERROR(($F$184*B334^4 + $E$184*B334^3 + $D$184*B334^2 + $C$184*B334 + $B$184)*1.015,NA())","v":16067.774520670135},{"$f":"IFERROR('NTC Thermistor Comparison'!F177-'NTC Thermistor Comparison'!F176,NA())","v":4.3880154199040788E-3},{"$f":"IFERROR((K334-J334)/'NTC Thermistor Comparison'!H176,NA())","v":2.7049143293552018},10017.799999999999,3.3188165999999999,2.0470652192747436,2.4747520722355087E-2,{"$f":"IFERROR(Q334/L334,NA())","v":5.639798030357893}]
[145,104,-5.0255725327038983,-2.1992422882900264E-2,2.0047132910893923,3.2858462999999998,9982.1,{"$f":"IFERROR((I335-J335)/'NTC Thermistor Comparison'!H177,NA())","v":-2.7081039219257312},15675.981446986307,{"$f":"'Device Resistance Tables'!D164","v":15917.025123037351},16158.135672477876,{"$f":"IFERROR('NTC Thermistor Comparison'!F178-'NTC Thermistor Comparison'!F177,NA())","v":4.376102969320339E-3},{"$f":"IFERROR((K335-J335)/'NTC Thermistor Comparison'!H177,NA())","v":2.7088552384144897},10017.9,3.3188463000000001,2.051487578895951,2.4781864923658414E-2,5.6629985851332316]
[146,105,-5.0374392641285324,-2.1984260771441999E-2,2.0090975561701709,3.2858759999999996,9982,{"$f":"IFERROR((I336-J336)/'NTC Thermistor Comparison'!H178,NA())","v":-2.7120440789118194},15764.003077416743,{"$f":"'Device Resistance Tables'!D165","v":16006.40485776817},16248.873983818299,{"$f":"IFERROR('NTC Thermistor Comparison'!F179-'NTC Thermistor Comparison'!F178,NA())","v":4.364173862698717E-3},{"$f":"IFERROR((K336-J336)/'NTC Thermistor Comparison'!H178,NA())","v":2.7127975573027014},10018,3.3188759999999999,2.0558978677259043,2.4816050784291388E-2,5.6863112160581162]
[147,106,-5.049320366431143,-2.1975798419512138E-2,2.0134701923847995,3.2859056999999998,9981.9,{"$f":"IFERROR((I337-J337)/'NTC Thermistor Comparison'!H179,NA())","v":-2.7159854869414652},15852.391428572233,{"$f":"'Device Resistance Tables'!D166","v":16096.157032461935},16339.990457726055,{"$f":"IFERROR('NTC Thermistor Comparison'!F180-'NTC Thermistor Comparison'!F179,NA())","v":4.3522289783020085E-3},{"$f":"IFERROR((K337-J337)/'NTC Thermistor Comparison'!H179,NA())","v":2.7167411385415416},10018.1,3.3189057000000002,2.0602960701165998,2.4850079312288109E-2,5.7097361917715999]
[148,107,-5.0612154632301394,-2.1967037494068364E-2,2.0178311822885453,3.2859353999999996,9981.7999999999993,{"$f":"IFERROR((I338-J338)/'NTC Thermistor Comparison'!H180,NA())","v":-2.7199280009648517},15941.147476731176,{"$f":"'Device Resistance Tables'!D167","v":16186.282639838408},16431.486103393017,{"$f":"IFERROR('NTC Thermistor Comparison'!F181-'NTC Thermistor Comparison'!F180,NA())","v":4.3402691811205152E-3},{"$f":"IFERROR((K338-J338)/'NTC Thermistor Comparison'!H180,NA())","v":2.7206858371599782},10018.200000000001,3.3189354,2.064682171301421,2.488395151880729E-2,5.7332737856556326]
[149,108,-5.0731241808922576,-2.1957979665216953E-2,2.0221805092985172,3.2859650999999999,9981.7000000000007,{"$f":"IFERROR((I339-J339)/'NTC Thermistor Comparison'!H181,NA())","v":-2.723871478402665},16030.272204110644,{"$f":"'Device Resistance Tables'!D168","v":16276.782678665155},16523.361936168261,{"$f":"IFERROR('NTC Thermistor Comparison'!F182-'NTC Thermistor Comparison'!F181,NA())","v":4.3282953230123766E-3},{"$f":"IFERROR((K339-J339)/'NTC Thermistor Comparison'!H181,NA())","v":2.7246315106577632},10018.299999999999,3.3189651000000002,2.0690561573816484,2.4917668417914207E-2,5.7569242758075445]
[150,109,-5.0850461484845422,-2.1948626605943211E-2,2.0265181576808033,3.2859947999999997,9981.6,{"$f":"IFERROR((I340-J340)/'NTC Thermistor Comparison'!H182,NA())","v":-2.7278157791098092},16119.766598866378,{"$f":"'Device Resistance Tables'!D169","v":16367.658153757571},16615.618977558079,{"$f":"IFERROR('NTC Thermistor Comparison'!F183-'NTC Thermistor Comparison'!F182,NA())","v":4.3163082428434585E-3},{"$f":"IFERROR((K340-J340)/'NTC Thermistor Comparison'!H182,NA())","v":2.7285780189687312},10018.4,3.3189948,2.0734180153131074,2.4951231026360876E-2,5.7806879450119464]
[151,110,-5.0969809977204106,-2.1938979991829477E-2,2.0308441125377605,3.2860244999999995,9981.5,{"$f":"IFERROR((I341-J341)/'NTC Thermistor Comparison'!H183,NA())","v":-2.7317607653413365},16209.63165509279,{"$f":"'Device Resistance Tables'!D170","v":16458.910075978845},16708.25825522597,{"$f":"IFERROR('NTC Thermistor Comparison'!F184-'NTC Thermistor Comparison'!F183,NA())","v":4.304308766629017E-3},{"$f":"IFERROR((K341-J341)/'NTC Thermistor Comparison'!H183,NA())","v":2.732525224427468},10018.5,3.3190244999999998,2.0777677328929682,2.4984640363378219E-2,5.8045650807122069]
[152,111,-5.1089283629198201,-2.1929041500797553E-2,2.0351583597954215,3.2860541999999997,9981.4,{"$f":"IFERROR((I342-J342)/'NTC Thermistor Comparison'!H184,NA())","v":-2.7357063017164589},16299.868372822957,{"$f":"'Device Resistance Tables'!D171","v":16550.539462239994},16801.280802992638,{"$f":"IFERROR('NTC Thermistor Comparison'!F185-'NTC Thermistor Comparison'!F184,NA())","v":4.2922977076673696E-3},{"$f":"IFERROR((K342-J342)/'NTC Thermistor Comparison'!H184,NA())","v":2.7364729917323252},10018.6,3.3190542000000001,2.0821052987466846,2.5017897450465565E-2,5.8285559749911737]
[153,112,-5.1208878809493497,-2.1918812812839139E-2,2.0394608861910473,3.2860838999999995,9981.2999999999993,{"$f":"IFERROR((I343-J343)/'NTC Thermistor Comparison'!H185,NA())","v":-2.7396522551863085},16390.477758028628,{"$f":"'Device Resistance Tables'!D172","v":16642.547335499828},16894.687660836007,{"$f":"IFERROR('NTC Thermistor Comparison'!F186-'NTC Thermistor Comparison'!F185,NA())","v":4.2802758666873331E-3},{"$f":"IFERROR((K343-J343)/'NTC Thermistor Comparison'!H185,NA())","v":2.7404211879142562},10018.700000000001,3.3190838999999999,2.0864307023150785,2.5051003311192144E-2,5.8526609245352352]
[154,113,-5.1328591911886958,-2.1908295609764927E-2,2.0437516792608088,3.2861135999999997,9981.2000000000007,{"$f":"IFERROR((I344-J344)/'NTC Thermistor Comparison'!H186,NA())","v":-2.7435984949985972},16481.460822620225,{"$f":"'Device Resistance Tables'!D173","v":16734.934724765},16988.479874891207,{"$f":"IFERROR('NTC Thermistor Comparison'!F187-'NTC Thermistor Comparison'!F186,NA())","v":4.2682440319761206E-3},{"$f":"IFERROR((K344-J344)/'NTC Thermistor Comparison'!H186,NA())","v":2.7443696823002259},10018.799999999999,3.3191136000000001,2.0907439338415643,2.5083958970990583E-2,5.8768802306219499]
[155,114,-5.1448419354751787,-2.1897491574952355E-2,2.0480307273275975,3.2861432999999995,9981.1,{"$f":"IFERROR((I345-J345)/'NTC Thermistor Comparison'!H187,NA())","v":-2.747544892667674},16572.818584446835,{"$f":"'Device Resistance Tables'!D174","v":16827.70266508995},17082.658497450582,{"$f":"IFERROR('NTC Thermistor Comparison'!F188-'NTC Thermistor Comparison'!F187,NA())","v":4.2562029795245593E-3},{"$f":"IFERROR((K345-J345)/'NTC Thermistor Comparison'!H187,NA())","v":2.7483183464844423},10018.9,3.3191432999999999,2.0950449843595198,2.5116765456969947E-2,5.9012141990877574]
[156,115,-5.1568357580640072,-2.1886402393097804E-2,2.0522980194889766,3.2861729999999998,9981,{"$f":"IFERROR((I346-J346)/'NTC Thermistor Comparison'!H188,NA())","v":-2.7514913219399793},16664.552067296227,{"$f":"'Device Resistance Tables'!D175","v":16920.852197576936},17177.224586963683,{"$f":"IFERROR('NTC Thermistor Comparison'!F189-'NTC Thermistor Comparison'!F188,NA())","v":4.2441534731589847E-3},{"$f":"IFERROR((K346-J346)/'NTC Thermistor Comparison'!H188,NA())","v":2.7522670542931902},10019,3.3191730000000002,2.0993338456797943,2.5149423797719894E-2,5.9256631403107143]
[157,116,-5.1688403055810239,-2.1875029749978125E-2,2.0565535456052553,3.2862026999999996,9980.9,{"$f":"IFERROR((I347-J347)/'NTC Thermistor Comparison'!H189,NA())","v":-2.755437658763833},16756.662300894823,{"$f":"'Device Resistance Tables'!D176","v":17014.384369376039},17272.179208037265,{"$f":"IFERROR('NTC Thermistor Comparison'!F190-'NTC Thermistor Comparison'!F189,NA())","v":4.2320962646802407E-3},{"$f":"IFERROR((K347-J347)/'NTC Thermistor Comparison'!H189,NA())","v":2.756215681754318},10019.1,3.3192027,2.1036105103783607,2.5181935023127267E-2,5.9502273691853054]
[158,117,-5.1808552269813619,-2.1863375332215274E-2,2.0607972962876984,3.2862323999999998,9980.7999999999993,{"$f":"IFERROR((I348-J348)/'NTC Thermistor Comparison'!H190,NA())","v":-2.7593837812587312},16849.15032090772,{"$f":"'Device Resistance Tables'!D177","v":17108.300233685135},17367.523431435304,{"$f":"IFERROR('NTC Thermistor Comparison'!F191-'NTC Thermistor Comparison'!F190,NA())","v":4.2200320939973501E-3},{"$f":"IFERROR((K348-J348)/'NTC Thermistor Comparison'!H190,NA())","v":2.7601641070672924},10019.200000000001,3.3192324000000002,2.1078749717841041,2.5214300164190462E-2,5.9749072051029515]
[159,118,-5.1928801735047738,-2.18514408270436E-2,2.0650292628868674,3.2862620999999996,9980.7000000000007,{"$f":"IFERROR((I349-J349)/'NTC Thermistor Comparison'!H191,NA())","v":-2.7633295696836111},16942.017168938692,{"$f":"'Device Resistance Tables'!D178","v":17202.600849749935},17463.258334078982,{"$f":"IFERROR('NTC Thermistor Comparison'!F192-'NTC Thermistor Comparison'!F191,NA())","v":4.2079616892634064E-3},{"$f":"IFERROR((K349-J349)/'NTC Thermistor Comparison'!H191,NA())","v":2.7641122105706337},10019.299999999999,3.3192621,2.1121272239667541,2.524652025284313E-2,5.9997029719304482]
[160,119,-5.2049147986359872,-2.1839227922085591E-2,2.0692494374810888,3.2862917999999994,9980.6,{"$f":"IFERROR((I350-J350)/'NTC Thermistor Comparison'!H192,NA())","v":-2.7672749064090216},17035.263892530176,{"$f":"'Device Resistance Tables'!D179","v":17297.287282863941},17559.384999046695,{"$f":"IFERROR('NTC Thermistor Comparison'!F193-'NTC Thermistor Comparison'!F192,NA())","v":4.1958857670079119E-3},{"$f":"IFERROR((K350-J350)/'NTC Thermistor Comparison'!H192,NA())","v":2.7680598747148797},10019.4,3.3192917999999998,2.1163672617249514,2.527859632177698E-2,6.0246149979919874]
[161,120,-5.2169587580623942,-2.1826738305131155E-2,2.0734578128650512,3.2863214999999997,9980.5,{"$f":"IFERROR((I351-J351)/'NTC Thermistor Comparison'!H193,NA())","v":-2.7712196758857801},17128.891545163278,{"$f":"'Device Resistance Tables'!D180","v":17392.360604368485},17655.904515574042,{"$f":"IFERROR('NTC Thermistor Comparison'!F194-'NTC Thermistor Comparison'!F193,NA())","v":4.1838050322708931E-3},{"$f":"IFERROR((K351-J351)/'NTC Thermistor Comparison'!H193,NA())","v":2.7720069840303387},10019.5,3.3193215,2.1205950805744562,2.5310529404273918E-2,6.0496436160496287]
[162,121,-5.2290117096292805,-2.1813973663919572E-2,2.0776543825385336,3.2863511999999995,9980.4,{"$f":"IFERROR((I352-J352)/'NTC Thermistor Comparison'!H194,NA())","v":-2.7751637646178637},17222.901186257783,{"$f":"'Device Resistance Tables'!D181","v":17487.821891652693},17752.817979053838,{"$f":"IFERROR('NTC Thermistor Comparison'!F195-'NTC Thermistor Comparison'!F194,NA())","v":4.1717201787383473E-3},{"$f":"IFERROR((K352-J352)/'NTC Thermistor Comparison'!H194,NA())","v":2.7759534251009681},10019.6,3.3193511999999998,2.1248106767364887,2.5342320534035512E-2,6.0747891632798305]
[163,122,-5.2410733133082541,-2.1800935685931666E-2,2.0818391406952599,3.2863808999999997,9980.2999999999993,{"$f":"IFERROR((I353-J353)/'NTC Thermistor Comparison'!H195,NA())","v":-2.7791070611324238},17317.293881172136,{"$f":"'Device Resistance Tables'!D182","v":17583.672228153529},17850.12649103611,{"$f":"IFERROR('NTC Thermistor Comparison'!F196-'NTC Thermistor Comparison'!F195,NA())","v":4.1596318888679207E-3},{"$f":"IFERROR((K353-J353)/'NTC Thermistor Comparison'!H195,NA())","v":2.7798990865332547},10019.700000000001,3.3193809000000001,2.1290140471262102,2.5373970745018681E-2,6.100051981264242]
[164,123,-5.2531432311506512,-2.1787626058180631E-2,2.0860120822118788,3.2864105999999995,9980.2000000000007,{"$f":"IFERROR((I354-J354)/'NTC Thermistor Comparison'!H196,NA())","v":-2.7830494559542061},17412.070701203451,{"$f":"'Device Resistance Tables'!D183","v":17679.912703355742},17947.831159228088,{"$f":"IFERROR('NTC Thermistor Comparison'!F197-'NTC Thermistor Comparison'!F196,NA())","v":4.1475408340252429E-3},{"$f":"IFERROR((K354-J354)/'NTC Thermistor Comparison'!H196,NA())","v":2.7838438589316965},10019.799999999999,3.3194105999999999,2.1332051893413402,2.5405481071280711E-2,6.1254324159659586]
[165,124,-5.2652211272518077,-2.1774046467008201E-2,2.0901732026370765,3.2864402999999998,9980.1,{"$f":"IFERROR((I355-J355)/'NTC Thermistor Comparison'!H197,NA())","v":-2.7869908415753497},17507.232723587524,{"$f":"'Device Resistance Tables'!D184","v":17776.544412791918},18045.93309749422,{"$f":"IFERROR('NTC Thermistor Comparison'!F198-'NTC Thermistor Comparison'!F197,NA())","v":4.1354476746113811E-3},{"$f":"IFERROR((K355-J355)/'NTC Thermistor Comparison'!H197,NA())","v":2.7877876348677071},10019.9,3.3194403000000001,2.1373841016509028,2.5436852546818045E-2,6.150930817715742]
[166,125,{"$error":"#N/A"},-2.1760198597893243E-2,{"$f":"IF(B577<=VLOOKUP(Main!$N$22,Coefficients!$E$2:$H$28,4,FALSE),(F356/(I356+N356))*I356,NA())","v":2.0943224981808028},{"$f":"IF(B577<=VLOOKUP(Main!$N$22,Coefficients!$E$2:$H$28,4,FALSE),$E$33+(($B$256-B356)*(($B$32*(1-$B$33))/1000000)),NA())","v":3.2864699999999996},{"$f":"IF(B577<=VLOOKUP(Main!$N$22,Coefficients!$E$2:$H$28,4,FALSE),($B$41-((B356-$B$256))*($B$41/1000000)*$B$43)-($B$41*$B$42),NA())","v":9980},{"$f":"IFERROR((I356-J356)/'NTC Thermistor Comparison'!H198,NA())","v":-2.7909311124315042},{"$f":"IF(B577<=VLOOKUP(Main!$N$22,Coefficients!$E$2:$H$28,4,FALSE),($F$171*B356^4 + $E$171*B356^3 + $D$171*B356^2 + $C$171*B356 + $B$171)*0.985,NA())","v":17602.781031498806},{"$f":"'Device Resistance Tables'!D185","v":17873.568458042435},{"$f":"IF(B577<=VLOOKUP(Main!$N$22,Coefficients!$E$2:$H$28,4,FALSE),($F$184*B356^4 + $E$184*B356^3 + $D$184*B356^2 + $C$184*B356 + $B$184)*1.015,NA())","v":18144.433425856154},{"$f":"IFERROR('NTC Thermistor Comparison'!F199-'NTC Thermistor Comparison'!F198,NA())","v":{"$error":"#N/A"}},{"$f":"IFERROR((K356-J356)/'NTC Thermistor Comparison'!H198,NA())","v":2.791730308856363},{"$f":"IF(B577<=VLOOKUP(Main!$N$22,Coefficients!$E$2:$H$28,4,FALSE),($B$41+((B356-$B$256))*($B$41/1000000)*$B$43)+($B$41*$B$42),NA())","v":10020},{"$f":"IF(B577<=VLOOKUP(Main!$N$22,Coefficients!$E$2:$H$28,4,FALSE),$G$33+(($B$256-B356)*(($B$32*(1-$B$33))/1000000)),NA())","v":3.3194699999999999},2.1415507829841101,2.5468086205413965E-2,{"$error":"#N/A"}]
[167,126,{"$error":"#N/A"},{"$error":"#N/A"},{"$f":"IF(B578<=VLOOKUP(Main!$N$22,Coefficients!$E$2:$H$28,4,FALSE),(F357/(I357+N357))*I357,NA())","v":{"$error":"#N/A"}},{"$f":"IF(B578<=VLOOKUP(Main!$N$22,Coefficients!$E$2:$H$28,4,FALSE),$E$33+(($B$256-B357)*(($B$32*(1-$B$33))/1000000)),NA())","v":{"$error":"#N/A"}},{"$f":"IF(B578<=VLOOKUP(Main!$N$22,Coefficients!$E$2:$H$28,4,FALSE),($B$41-((B357-$B$256))*($B$41/1000000)*$B$43)-($B$41*$B$42),NA())","v":{"$error":"#N/A"}},{"$f":"IFERROR((I357-J357)/'NTC Thermistor Comparison'!H199,NA())","v":{"$error":"#N/A"}},{"$f":"IF(B578<=VLOOKUP(Main!$N$22,Coefficients!$E$2:$H$28,4,FALSE),($F$171*B357^4 + $E$171*B357^3 + $D$171*B357^2 + $C$171*B357 + $B$171)*0.985,NA())","v":{"$error":"#N/A"}},{"$f":"'Device Resistance Tables'!D186","v":{"$error":"#N/A"}},{"$f":"IF(B578<=VLOOKUP(Main!$N$22,Coefficients!$E$2:$H$28,4,FALSE),($F$184*B357^4 + $E$184*B357^3 + $D$184*B357^2 + $C$184*B357 + $B$184)*1.015,NA())","v":{"$error":"#N/A"}},{"$f":"IFERROR('NTC Thermistor Comparison'!F200-'NTC Thermistor Comparison'!F199,NA())","v":{"$error":"#N/A"}},{"$f":"IFERROR((K357-J357)/'NTC Thermistor Comparison'!H199,NA())","v":{"$error":"#N/A"}},{"$f":"IF(B578<=VLOOKUP(Main!$N$22,Coefficients!$E$2:$H$28,4,FALSE),($B$41+((B357-$B$256))*($B$41/1000000)*$B$43)+($B$41*$B$42),NA())","v":{"$error":"#N/A"}},{"$f":"IF(B578<=VLOOKUP(Main!$N$22,Coefficients!$E$2:$H$28,4,FALSE),$G$33+(($B$256-B357)*(($B$32*(1-$B$33))/1000000)),NA())","v":{"$error":"#N/A"}},{"$error":"#N/A"},{"$error":"#N/A"},{"$error":"#N/A"}]
[168,127,{"$error":"#N/A"},{"$error":"#N/A"},{"$f":"IF(B579<=VLOOKUP(Main!$N$22,Coefficients!$E$2:$H$28,4,FALSE),(F358/(I358+N358))*I358,NA())","v":{"$error":"#N/A"}},{"$f":"IF(B579<=VLOOKUP(Main!$N$22,Coefficients!$E$2:$H$28,4,FALSE),$E$33+(($B$256-B358)*(($B$32*(1-$B$33))/1000000)),NA())","v":{"$error":"#N/A"}},{"$f":"IF(B579<=VLOOKUP(Main!$N$22,Coefficients!$E$2:$H$28,4,FALSE),($B$41-((B358-$B$256))*($B$41/1000000)*$B$43)-($B$41*$B$42),NA())","v":{"$error":"#N/A"}},{"$f":"IFERROR((I358-J358)/'NTC Thermistor Comparison'!H200,NA())","v":{"$error":"#N/A"}},{"$f":"IF(B579<=VLOOKUP(Main!$N$22,Coefficients!$E$2:$H$28,4,FALSE),($F$171*B358^4 + $E$171*B358^3 + $D$171*B358^2 + $C$171*B358 + $B$171)*0.985,NA())","v":{"$error":"#N/A"}},{"$f":"'Device Resistance Tables'!D187","v":{"$error":"#N/A"}},{"$f":"IF(B579<=VLOOKUP(Main!$N$22,Coefficients!$E$2:$H$28,4,FALSE),($F$184*B358^4 + $E$184*B358^3 + $D$184*B358^2 + $C$184*B358 + $B$184)*1.015,NA())","v":{"$error":"#N/A"}},{"$f":"IFERROR('NTC Thermistor Comparison'!F201-'NTC Thermistor Comparison'!F200,NA())","v":{"$error":"#N/A"}},{"$f":"IFERROR((K358-J358)/'NTC Thermistor Comparison'!H200,NA())","v":{"$error":"#N/A"}},{"$f":"IF(B579<=VLOOKUP(Main!$N$22,Coefficients!$E$2:$H$28,4,FALSE),($B$41+((B358-$B$256))*($B$41/1000000)*$B$43)+($B$41*$B$42),NA())","v":{"$error":"#N/A"}},{"$f":"IF(B579<=VLOOKUP(Main!$N$22,Coefficients!$E$2:$H$28,4,FALSE),$G$33+(($B$256-B358)*(($B$32*(1-$B$33))/1000000)),NA())","v":{"$error":"#N/A"}},{"$error":"#N/A"},{"$error":"#N/A"},{"$error":"#N/A"}]
[169,128,{"$error":"#N/A"},{"$error":"#N/A"},{"$f":"IF(B580<=VLOOKUP(Main!$N$22,Coefficients!$E$2:$H$28,4,FALSE),(F359/(I359+N359))*I359,NA())","v":{"$error":"#N/A"}},{"$f":"IF(B580<=VLOOKUP(Main!$N$22,Coefficients!$E$2:$H$28,4,FALSE),$E$33+(($B$256-B359)*(($B$32*(1-$B$33))/1000000)),NA())","v":{"$error":"#N/A"}},{"$f":"IF(B580<=VLOOKUP(Main!$N$22,Coefficients!$E$2:$H$28,4,FALSE),($B$41-((B359-$B$256))*($B$41/1000000)*$B$43)-($B$41*$B$42),NA())","v":{"$error":"#N/A"}},{"$f":"IFERROR((I359-J359)/'NTC Thermistor Comparison'!H201,NA())","v":{"$error":"#N/A"}},{"$f":"IF(B580<=VLOOKUP(Main!$N$22,Coefficients!$E$2:$H$28,4,FALSE),($F$171*B359^4 + $E$171*B359^3 + $D$171*B359^2 + $C$171*B359 + $B$171)*0.985,NA())","v":{"$error":"#N/A"}},{"$f":"'Device Resistance Tables'!D188","v":{"$error":"#N/A"}},{"$f":"IF(B580<=VLOOKUP(Main!$N$22,Coefficients!$E$2:$H$28,4,FALSE),($F$184*B359^4 + $E$184*B359^3 + $D$184*B359^2 + $C$184*B359 + $B$184)*1.015,NA())","v":{"$error":"#N/A"}},{"$f":"IFERROR('NTC Thermistor Comparison'!F202-'NTC Thermistor Comparison'!F201,NA())","v":{"$error":"#N/A"}},{"$f":"IFERROR((K359-J359)/'NTC Thermistor Comparison'!H201,NA())","v":{"$error":"#N/A"}},{"$f":"IF(B580<=VLOOKUP(Main!$N$22,Coefficients!$E$2:$H$28,4,FALSE),($B$41+((B359-$B$256))*($B$41/1000000)*$B$43)+($B$41*$B$42),NA())","v":{"$error":"#N/A"}},{"$f":"IF(B580<=VLOOKUP(Main!$N$22,Coefficients!$E$2:$H$28,4,FALSE),$G$33+(($B$256-B359)*(($B$32*(1-$B$33))/1000000)),NA())","v":{"$error":"#N/A"}},{"$error":"#N/A"},{"$error":"#N/A"},{"$error":"#N/A"}]
[170,129,{"$error":"#N/A"},{"$error":"#N/A"},{"$f":"IF(B581<=VLOOKUP(Main!$N$22,Coefficients!$E$2:$H$28,4,FALSE),(F360/(I360+N360))*I360,NA())","v":{"$error":"#N/A"}},{"$f":"IF(B581<=VLOOKUP(Main!$N$22,Coefficients!$E$2:$H$28,4,FALSE),$E$33+(($B$256-B360)*(($B$32*(1-$B$33))/1000000)),NA())","v":{"$error":"#N/A"}},{"$f":"IF(B581<=VLOOKUP(Main!$N$22,Coefficients!$E$2:$H$28,4,FALSE),($B$41-((B360-$B$256))*($B$41/1000000)*$B$43)-($B$41*$B$42),NA())","v":{"$error":"#N/A"}},{"$f":"IFERROR((I360-J360)/'NTC Thermistor Comparison'!H202,NA())","v":{"$error":"#N/A"}},{"$f":"IF(B581<=VLOOKUP(Main!$N$22,Coefficients!$E$2:$H$28,4,FALSE),($F$171*B360^4 + $E$171*B360^3 + $D$171*B360^2 + $C$171*B360 + $B$171)*0.985,NA())","v":{"$error":"#N/A"}},{"$f":"'Device Resistance Tables'!D189","v":{"$error":"#N/A"}},{"$f":"IF(B581<=VLOOKUP(Main!$N$22,Coefficients!$E$2:$H$28,4,FALSE),($F$184*B360^4 + $E$184*B360^3 + $D$184*B360^2 + $C$184*B360 + $B$184)*1.015,NA())","v":{"$error":"#N/A"}},{"$f":"IFERROR('NTC Thermistor Comparison'!F203-'NTC Thermistor Comparison'!F202,NA())","v":{"$error":"#N/A"}},{"$f":"IFERROR((K360-J360)/'NTC Thermistor Comparison'!H202,NA())","v":{"$error":"#N/A"}},{"$f":"IF(B581<=VLOOKUP(Main!$N$22,Coefficients!$E$2:$H$28,4,FALSE),($B$41+((B360-$B$256))*($B$41/1000000)*$B$43)+($B$41*$B$42),NA())","v":{"$error":"#N/A"}},{"$f":"IF(B581<=VLOOKUP(Main!$N$22,Coefficients!$E$2:$H$28,4,FALSE),$G$33+(($B$256-B360)*(($B$32*(1-$B$33))/1000000)),NA())","v":{"$error":"#N/A"}},{"$error":"#N/A"},{"$error":"#N/A"},{"$error":"#N/A"}]
[171,130,{"$error":"#N/A"},{"$error":"#N/A"},{"$f":"IF(B582<=VLOOKUP(Main!$N$22,Coefficients!$E$2:$H$28,4,FALSE),(F361/(I361+N361))*I361,NA())","v":{"$error":"#N/A"}},{"$f":"IF(B582<=VLOOKUP(Main!$N$22,Coefficients!$E$2:$H$28,4,FALSE),$E$33+(($B$256-B361)*(($B$32*(1-$B$33))/1000000)),NA())","v":{"$error":"#N/A"}},{"$f":"IF(B582<=VLOOKUP(Main!$N$22,Coefficients!$E$2:$H$28,4,FALSE),($B$41-((B361-$B$256))*($B$41/1000000)*$B$43)-($B$41*$B$42),NA())","v":{"$error":"#N/A"}},{"$f":"IFERROR((I361-J361)/'NTC Thermistor Comparison'!H203,NA())","v":{"$error":"#N/A"}},{"$f":"IF(B582<=VLOOKUP(Main!$N$22,Coefficients!$E$2:$H$28,4,FALSE),($F$171*B361^4 + $E$171*B361^3 + $D$171*B361^2 + $C$171*B361 + $B$171)*0.985,NA())","v":{"$error":"#N/A"}},{"$f":"'Device Resistance Tables'!D190","v":{"$error":"#N/A"}},{"$f":"IF(B582<=VLOOKUP(Main!$N$22,Coefficients!$E$2:$H$28,4,FALSE),($F$184*B361^4 + $E$184*B361^3 + $D$184*B361^2 + $C$184*B361 + $B$184)*1.015,NA())","v":{"$error":"#N/A"}},{"$f":"IFERROR('NTC Thermistor Comparison'!F204-'NTC Thermistor Comparison'!F203,NA())","v":{"$error":"#N/A"}},{"$f":"IFERROR((K361-J361)/'NTC Thermistor Comparison'!H203,NA())","v":{"$error":"#N/A"}},{"$f":"IF(B582<=VLOOKUP(Main!$N$22,Coefficients!$E$2:$H$28,4,FALSE),($B$41+((B361-$B$256))*($B$41/1000000)*$B$43)+($B$41*$B$42),NA())","v":{"$error":"#N/A"}},{"$f":"IF(B582<=VLOOKUP(Main!$N$22,Coefficients!$E$2:$H$28,4,FALSE),$G$33+(($B$256-B361)*(($B$32*(1-$B$33))/1000000)),NA())","v":{"$error":"#N/A"}},{"$error":"#N/A"},{"$error":"#N/A"},{"$error":"#N/A"}]
[172,131,{"$error":"#N/A"},{"$error":"#N/A"},{"$f":"IF(B583<=VLOOKUP(Main!$N$22,Coefficients!$E$2:$H$28,4,FALSE),(F362/(I362+N362))*I362,NA())","v":{"$error":"#N/A"}},{"$f":"IF(B583<=VLOOKUP(Main!$N$22,Coefficients!$E$2:$H$28,4,FALSE),$E$33+(($B$256-B362)*(($B$32*(1-$B$33))/1000000)),NA())","v":{"$error":"#N/A"}},{"$f":"IF(B583<=VLOOKUP(Main!$N$22,Coefficients!$E$2:$H$28,4,FALSE),($B$41-((B362-$B$256))*($B$41/1000000)*$B$43)-($B$41*$B$42),NA())","v":{"$error":"#N/A"}},{"$f":"IFERROR((I362-J362)/'NTC Thermistor Comparison'!H204,NA())","v":{"$error":"#N/A"}},{"$f":"IF(B583<=VLOOKUP(Main!$N$22,Coefficients!$E$2:$H$28,4,FALSE),($F$171*B362^4 + $E$171*B362^3 + $D$171*B362^2 + $C$171*B362 + $B$171)*0.985,NA())","v":{"$error":"#N/A"}},{"$f":"'Device Resistance Tables'!D191","v":{"$error":"#N/A"}},{"$f":"IF(B583<=VLOOKUP(Main!$N$22,Coefficients!$E$2:$H$28,4,FALSE),($F$184*B362^4 + $E$184*B362^3 + $D$184*B362^2 + $C$184*B362 + $B$184)*1.015,NA())","v":{"$error":"#N/A"}},{"$f":"IFERROR('NTC Thermistor Comparison'!F205-'NTC Thermistor Comparison'!F204,NA())","v":{"$error":"#N/A"}},{"$f":"IFERROR((K362-J362)/'NTC Thermistor Comparison'!H204,NA())","v":{"$error":"#N/A"}},{"$f":"IF(B583<=VLOOKUP(Main!$N$22,Coefficients!$E$2:$H$28,4,FALSE),($B$41+((B362-$B$256))*($B$41/1000000)*$B$43)+($B$41*$B$42),NA())","v":{"$error":"#N/A"}},{"$f":"IF(B583<=VLOOKUP(Main!$N$22,Coefficients!$E$2:$H$28,4,FALSE),$G$33+(($B$256-B362)*(($B$32*(1-$B$33))/1000000)),NA())","v":{"$error":"#N/A"}},{"$error":"#N/A"},{"$error":"#N/A"},{"$error":"#N/A"}]
[173,132,{"$error":"#N/A"},{"$error":"#N/A"},{"$f":"IF(B584<=VLOOKUP(Main!$N$22,Coefficients!$E$2:$H$28,4,FALSE),(F363/(I363+N363))*I363,NA())","v":{"$error":"#N/A"}},{"$f":"IF(B584<=VLOOKUP(Main!$N$22,Coefficients!$E$2:$H$28,4,FALSE),$E$33+(($B$256-B363)*(($B$32*(1-$B$33))/1000000)),NA())","v":{"$error":"#N/A"}},{"$f":"IF(B584<=VLOOKUP(Main!$N$22,Coefficients!$E$2:$H$28,4,FALSE),($B$41-((B363-$B$256))*($B$41/1000000)*$B$43)-($B$41*$B$42),NA())","v":{"$error":"#N/A"}},{"$f":"IFERROR((I363-J363)/'NTC Thermistor Comparison'!H205,NA())","v":{"$error":"#N/A"}},{"$f":"IF(B584<=VLOOKUP(Main!$N$22,Coefficients!$E$2:$H$28,4,FALSE),($F$171*B363^4 + $E$171*B363^3 + $D$171*B363^2 + $C$171*B363 + $B$171)*0.985,NA())","v":{"$error":"#N/A"}},{"$f":"'Device Resistance Tables'!D192","v":{"$error":"#N/A"}},{"$f":"IF(B584<=VLOOKUP(Main!$N$22,Coefficients!$E$2:$H$28,4,FALSE),($F$184*B363^4 + $E$184*B363^3 + $D$184*B363^2 + $C$184*B363 + $B$184)*1.015,NA())","v":{"$error":"#N/A"}},{"$f":"IFERROR('NTC Thermistor Comparison'!F206-'NTC Thermistor Comparison'!F205,NA())","v":{"$error":"#N/A"}},{"$f":"IFERROR((K363-J363)/'NTC Thermistor Comparison'!H205,NA())","v":{"$error":"#N/A"}},{"$f":"IF(B584<=VLOOKUP(Main!$N$22,Coefficients!$E$2:$H$28,4,FALSE),($B$41+((B363-$B$256))*($B$41/1000000)*$B$43)+($B$41*$B$42),NA())","v":{"$error":"#N/A"}},{"$f":"IF(B584<=VLOOKUP(Main!$N$22,Coefficients!$E$2:$H$28,4,FALSE),$G$33+(($B$256-B363)*(($B$32*(1-$B$33))/1000000)),NA())","v":{"$error":"#N/A"}},{"$error":"#N/A"},{"$error":"#N/A"},{"$error":"#N/A"}]
[174,133,{"$error":"#N/A"},{"$error":"#N/A"},{"$f":"IF(B585<=VLOOKUP(Main!$N$22,Coefficients!$E$2:$H$28,4,FALSE),(F364/(I364+N364))*I364,NA())","v":{"$error":"#N/A"}},{"$f":"IF(B585<=VLOOKUP(Main!$N$22,Coefficients!$E$2:$H$28,4,FALSE),$E$33+(($B$256-B364)*(($B$32*(1-$B$33))/1000000)),NA())","v":{"$error":"#N/A"}},{"$f":"IF(B585<=VLOOKUP(Main!$N$22,Coefficients!$E$2:$H$28,4,FALSE),($B$41-((B364-$B$256))*($B$41/1000000)*$B$43)-($B$41*$B$42),NA())","v":{"$error":"#N/A"}},{"$f":"IFERROR((I364-J364)/'NTC Thermistor Comparison'!H206,NA())","v":{"$error":"#N/A"}},{"$f":"IF(B585<=VLOOKUP(Main!$N$22,Coefficients!$E$2:$H$28,4,FALSE),($F$171*B364^4 + $E$171*B364^3 + $D$171*B364^2 + $C$171*B364 + $B$171)*0.985,NA())","v":{"$error":"#N/A"}},{"$f":"'Device Resistance Tables'!D193","v":{"$error":"#N/A"}},{"$f":"IF(B585<=VLOOKUP(Main!$N$22,Coefficients!$E$2:$H$28,4,FALSE),($F$184*B364^4 + $E$184*B364^3 + $D$184*B364^2 + $C$184*B364 + $B$184)*1.015,NA())","v":{"$error":"#N/A"}},{"$f":"IFERROR('NTC Thermistor Comparison'!F207-'NTC Thermistor Comparison'!F206,NA())","v":{"$error":"#N/A"}},{"$f":"IFERROR((K364-J364)/'NTC Thermistor Comparison'!H206,NA())","v":{"$error":"#N/A"}},{"$f":"IF(B585<=VLOOKUP(Main!$N$22,Coefficients!$E$2:$H$28,4,FALSE),($B$41+((B364-$B$256))*($B$41/1000000)*$B$43)+($B$41*$B$42),NA())","v":{"$error":"#N/A"}},{"$f":"IF(B585<=VLOOKUP(Main!$N$22,Coefficients!$E$2:$H$28,4,FALSE),$G$33+(($B$256-B364)*(($B$32*(1-$B$33))/1000000)),NA())","v":{"$error":"#N/A"}},{"$error":"#N/A"},{"$error":"#N/A"},{"$error":"#N/A"}]
[175,134,{"$error":"#N/A"},{"$error":"#N/A"},{"$f":"IF(B586<=VLOOKUP(Main!$N$22,Coefficients!$E$2:$H$28,4,FALSE),(F365/(I365+N365))*I365,NA())","v":{"$error":"#N/A"}},{"$f":"IF(B586<=VLOOKUP(Main!$N$22,Coefficients!$E$2:$H$28,4,FALSE),$E$33+(($B$256-B365)*(($B$32*(1-$B$33))/1000000)),NA())","v":{"$error":"#N/A"}},{"$f":"IF(B586<=VLOOKUP(Main!$N$22,Coefficients!$E$2:$H$28,4,FALSE),($B$41-((B365-$B$256))*($B$41/1000000)*$B$43)-($B$41*$B$42),NA())","v":{"$error":"#N/A"}},{"$f":"IFERROR((I365-J365)/'NTC Thermistor Comparison'!H207,NA())","v":{"$error":"#N/A"}},{"$f":"IF(B586<=VLOOKUP(Main!$N$22,Coefficients!$E$2:$H$28,4,FALSE),($F$171*B365^4 + $E$171*B365^3 + $D$171*B365^2 + $C$171*B365 + $B$171)*0.985,NA())","v":{"$error":"#N/A"}},{"$f":"'Device Resistance Tables'!D194","v":{"$error":"#N/A"}},{"$f":"IF(B586<=VLOOKUP(Main!$N$22,Coefficients!$E$2:$H$28,4,FALSE),($F$184*B365^4 + $E$184*B365^3 + $D$184*B365^2 + $C$184*B365 + $B$184)*1.015,NA())","v":{"$error":"#N/A"}},{"$f":"IFERROR('NTC Thermistor Comparison'!F208-'NTC Thermistor Comparison'!F207,NA())","v":{"$error":"#N/A"}},{"$f":"IFERROR((K365-J365)/'NTC Thermistor Comparison'!H207,NA())","v":{"$error":"#N/A"}},{"$f":"IF(B586<=VLOOKUP(Main!$N$22,Coefficients!$E$2:$H$28,4,FALSE),($B$41+((B365-$B$256))*($B$41/1000000)*$B$43)+($B$41*$B$42),NA())","v":{"$error":"#N/A"}},{"$f":"IF(B586<=VLOOKUP(Main!$N$22,Coefficients!$E$2:$H$28,4,FALSE),$G$33+(($B$256-B365)*(($B$32*(1-$B$33))/1000000)),NA())","v":{"$error":"#N/A"}},{"$error":"#N/A"},{"$error":"#N/A"},{"$error":"#N/A"}]
[176,135,{"$error":"#N/A"},{"$error":"#N/A"},{"$f":"IF(B587<=VLOOKUP(Main!$N$22,Coefficients!$E$2:$H$28,4,FALSE),(F366/(I366+N366))*I366,NA())","v":{"$error":"#N/A"}},{"$f":"IF(B587<=VLOOKUP(Main!$N$22,Coefficients!$E$2:$H$28,4,FALSE),$E$33+(($B$256-B366)*(($B$32*(1-$B$33))/1000000)),NA())","v":{"$error":"#N/A"}},{"$f":"IF(B587<=VLOOKUP(Main!$N$22,Coefficients!$E$2:$H$28,4,FALSE),($B$41-((B366-$B$256))*($B$41/1000000)*$B$43)-($B$41*$B$42),NA())","v":{"$error":"#N/A"}},{"$f":"IFERROR((I366-J366)/'NTC Thermistor Comparison'!H208,NA())","v":{"$error":"#N/A"}},{"$f":"IF(B587<=VLOOKUP(Main!$N$22,Coefficients!$E$2:$H$28,4,FALSE),($F$171*B366^4 + $E$171*B366^3 + $D$171*B366^2 + $C$171*B366 + $B$171)*0.985,NA())","v":{"$error":"#N/A"}},{"$f":"'Device Resistance Tables'!D195","v":{"$error":"#N/A"}},{"$f":"IF(B587<=VLOOKUP(Main!$N$22,Coefficients!$E$2:$H$28,4,FALSE),($F$184*B366^4 + $E$184*B366^3 + $D$184*B366^2 + $C$184*B366 + $B$184)*1.015,NA())","v":{"$error":"#N/A"}},{"$f":"IFERROR('NTC Thermistor Comparison'!F209-'NTC Thermistor Comparison'!F208,NA())","v":{"$error":"#N/A"}},{"$f":"IFERROR((K366-J366)/'NTC Thermistor Comparison'!H208,NA())","v":{"$error":"#N/A"}},{"$f":"IF(B587<=VLOOKUP(Main!$N$22,Coefficients!$E$2:$H$28,4,FALSE),($B$41+((B366-$B$256))*($B$41/1000000)*$B$43)+($B$41*$B$42),NA())","v":{"$error":"#N/A"}},{"$f":"IF(B587<=VLOOKUP(Main!$N$22,Coefficients!$E$2:$H$28,4,FALSE),$G$33+(($B$256-B366)*(($B$32*(1-$B$33))/1000000)),NA())","v":{"$error":"#N/A"}},{"$error":"#N/A"},{"$error":"#N/A"},{"$error":"#N/A"}]
[177,136,{"$error":"#N/A"},{"$error":"#N/A"},{"$f":"IF(B588<=VLOOKUP(Main!$N$22,Coefficients!$E$2:$H$28,4,FALSE),(F367/(I367+N367))*I367,NA())","v":{"$error":"#N/A"}},{"$f":"IF(B588<=VLOOKUP(Main!$N$22,Coefficients!$E$2:$H$28,4,FALSE),$E$33+(($B$256-B367)*(($B$32*(1-$B$33))/1000000)),NA())","v":{"$error":"#N/A"}},{"$f":"IF(B588<=VLOOKUP(Main!$N$22,Coefficients!$E$2:$H$28,4,FALSE),($B$41-((B367-$B$256))*($B$41/1000000)*$B$43)-($B$41*$B$42),NA())","v":{"$error":"#N/A"}},{"$f":"IFERROR((I367-J367)/'NTC Thermistor Comparison'!H209,NA())","v":{"$error":"#N/A"}},{"$f":"IF(B588<=VLOOKUP(Main!$N$22,Coefficients!$E$2:$H$28,4,FALSE),($F$171*B367^4 + $E$171*B367^3 + $D$171*B367^2 + $C$171*B367 + $B$171)*0.985,NA())","v":{"$error":"#N/A"}},{"$f":"'Device Resistance Tables'!D196","v":{"$error":"#N/A"}},{"$f":"IF(B588<=VLOOKUP(Main!$N$22,Coefficients!$E$2:$H$28,4,FALSE),($F$184*B367^4 + $E$184*B367^3 + $D$184*B367^2 + $C$184*B367 + $B$184)*1.015,NA())","v":{"$error":"#N/A"}},{"$f":"IFERROR('NTC Thermistor Comparison'!F210-'NTC Thermistor Comparison'!F209,NA())","v":{"$error":"#N/A"}},{"$f":"IFERROR((K367-J367)/'NTC Thermistor Comparison'!H209,NA())","v":{"$error":"#N/A"}},{"$f":"IF(B588<=VLOOKUP(Main!$N$22,Coefficients!$E$2:$H$28,4,FALSE),($B$41+((B367-$B$256))*($B$41/1000000)*$B$43)+($B$41*$B$42),NA())","v":{"$error":"#N/A"}},{"$f":"IF(B588<=VLOOKUP(Main!$N$22,Coefficients!$E$2:$H$28,4,FALSE),$G$33+(($B$256-B367)*(($B$32*(1-$B$33))/1000000)),NA())","v":{"$error":"#N/A"}},{"$error":"#N/A"},{"$error":"#N/A"},{"$error":"#N/A"}]
[178,137,{"$error":"#N/A"},{"$error":"#N/A"},{"$f":"IF(B589<=VLOOKUP(Main!$N$22,Coefficients!$E$2:$H$28,4,FALSE),(F368/(I368+N368))*I368,NA())","v":{"$error":"#N/A"}},{"$f":"IF(B589<=VLOOKUP(Main!$N$22,Coefficients!$E$2:$H$28,4,FALSE),$E$33+(($B$256-B368)*(($B$32*(1-$B$33))/1000000)),NA())","v":{"$error":"#N/A"}},{"$f":"IF(B589<=VLOOKUP(Main!$N$22,Coefficients!$E$2:$H$28,4,FALSE),($B$41-((B368-$B$256))*($B$41/1000000)*$B$43)-($B$41*$B$42),NA())","v":{"$error":"#N/A"}},{"$f":"IFERROR((I368-J368)/'NTC Thermistor Comparison'!H210,NA())","v":{"$error":"#N/A"}},{"$f":"IF(B589<=VLOOKUP(Main!$N$22,Coefficients!$E$2:$H$28,4,FALSE),($F$171*B368^4 + $E$171*B368^3 + $D$171*B368^2 + $C$171*B368 + $B$171)*0.985,NA())","v":{"$error":"#N/A"}},{"$f":"'Device Resistance Tables'!D197","v":{"$error":"#N/A"}},{"$f":"IF(B589<=VLOOKUP(Main!$N$22,Coefficients!$E$2:$H$28,4,FALSE),($F$184*B368^4 + $E$184*B368^3 + $D$184*B368^2 + $C$184*B368 + $B$184)*1.015,NA())","v":{"$error":"#N/A"}},{"$f":"IFERROR('NTC Thermistor Comparison'!F211-'NTC Thermistor Comparison'!F210,NA())","v":{"$error":"#N/A"}},{"$f":"IFERROR((K368-J368)/'NTC Thermistor Comparison'!H210,NA())","v":{"$error":"#N/A"}},{"$f":"IF(B589<=VLOOKUP(Main!$N$22,Coefficients!$E$2:$H$28,4,FALSE),($B$41+((B368-$B$256))*($B$41/1000000)*$B$43)+($B$41*$B$42),NA())","v":{"$error":"#N/A"}},{"$f":"IF(B589<=VLOOKUP(Main!$N$22,Coefficients!$E$2:$H$28,4,FALSE),$G$33+(($B$256-B368)*(($B$32*(1-$B$33))/1000000)),NA())","v":{"$error":"#N/A"}},{"$error":"#N/A"},{"$error":"#N/A"},{"$error":"#N/A"}]
[179,138,{"$error":"#N/A"},{"$error":"#N/A"},{"$f":"IF(B590<=VLOOKUP(Main!$N$22,Coefficients!$E$2:$H$28,4,FALSE),(F369/(I369+N369))*I369,NA())","v":{"$error":"#N/A"}},{"$f":"IF(B590<=VLOOKUP(Main!$N$22,Coefficients!$E$2:$H$28,4,FALSE),$E$33+(($B$256-B369)*(($B$32*(1-$B$33))/1000000)),NA())","v":{"$error":"#N/A"}},{"$f":"IF(B590<=VLOOKUP(Main!$N$22,Coefficients!$E$2:$H$28,4,FALSE),($B$41-((B369-$B$256))*($B$41/1000000)*$B$43)-($B$41*$B$42),NA())","v":{"$error":"#N/A"}},{"$f":"IFERROR((I369-J369)/'NTC Thermistor Comparison'!H211,NA())","v":{"$error":"#N/A"}},{"$f":"IF(B590<=VLOOKUP(Main!$N$22,Coefficients!$E$2:$H$28,4,FALSE),($F$171*B369^4 + $E$171*B369^3 + $D$171*B369^2 + $C$171*B369 + $B$171)*0.985,NA())","v":{"$error":"#N/A"}},{"$f":"'Device Resistance Tables'!D198","v":{"$error":"#N/A"}},{"$f":"IF(B590<=VLOOKUP(Main!$N$22,Coefficients!$E$2:$H$28,4,FALSE),($F$184*B369^4 + $E$184*B369^3 + $D$184*B369^2 + $C$184*B369 + $B$184)*1.015,NA())","v":{"$error":"#N/A"}},{"$f":"IFERROR('NTC Thermistor Comparison'!F212-'NTC Thermistor Comparison'!F211,NA())","v":{"$error":"#N/A"}},{"$f":"IFERROR((K369-J369)/'NTC Thermistor Comparison'!H211,NA())","v":{"$error":"#N/A"}},{"$f":"IF(B590<=VLOOKUP(Main!$N$22,Coefficients!$E$2:$H$28,4,FALSE),($B$41+((B369-$B$256))*($B$41/1000000)*$B$43)+($B$41*$B$42),NA())","v":{"$error":"#N/A"}},{"$f":"IF(B590<=VLOOKUP(Main!$N$22,Coefficients!$E$2:$H$28,4,FALSE),$G$33+(($B$256-B369)*(($B$32*(1-$B$33))/1000000)),NA())","v":{"$error":"#N/A"}},{"$error":"#N/A"},{"$error":"#N/A"},{"$error":"#N/A"}]
[180,139,{"$error":"#N/A"},{"$error":"#N/A"},{"$f":"IF(B591<=VLOOKUP(Main!$N$22,Coefficients!$E$2:$H$28,4,FALSE),(F370/(I370+N370))*I370,NA())","v":{"$error":"#N/A"}},{"$f":"IF(B591<=VLOOKUP(Main!$N$22,Coefficients!$E$2:$H$28,4,FALSE),$E$33+(($B$256-B370)*(($B$32*(1-$B$33))/1000000)),NA())","v":{"$error":"#N/A"}},{"$f":"IF(B591<=VLOOKUP(Main!$N$22,Coefficients!$E$2:$H$28,4,FALSE),($B$41-((B370-$B$256))*($B$41/1000000)*$B$43)-($B$41*$B$42),NA())","v":{"$error":"#N/A"}},{"$f":"IFERROR((I370-J370)/'NTC Thermistor Comparison'!H212,NA())","v":{"$error":"#N/A"}},{"$f":"IF(B591<=VLOOKUP(Main!$N$22,Coefficients!$E$2:$H$28,4,FALSE),($F$171*B370^4 + $E$171*B370^3 + $D$171*B370^2 + $C$171*B370 + $B$171)*0.985,NA())","v":{"$error":"#N/A"}},{"$f":"'Device Resistance Tables'!D199","v":{"$error":"#N/A"}},{"$f":"IF(B591<=VLOOKUP(Main!$N$22,Coefficients!$E$2:$H$28,4,FALSE),($F$184*B370^4 + $E$184*B370^3 + $D$184*B370^2 + $C$184*B370 + $B$184)*1.015,NA())","v":{"$error":"#N/A"}},{"$f":"IFERROR('NTC Thermistor Comparison'!F213-'NTC Thermistor Comparison'!F212,NA())","v":{"$error":"#N/A"}},{"$f":"IFERROR((K370-J370)/'NTC Thermistor Comparison'!H212,NA())","v":{"$error":"#N/A"}},{"$f":"IF(B591<=VLOOKUP(Main!$N$22,Coefficients!$E$2:$H$28,4,FALSE),($B$41+((B370-$B$256))*($B$41/1000000)*$B$43)+($B$41*$B$42),NA())","v":{"$error":"#N/A"}},{"$f":"IF(B591<=VLOOKUP(Main!$N$22,Coefficients!$E$2:$H$28,4,FALSE),$G$33+(($B$256-B370)*(($B$32*(1-$B$33))/1000000)),NA())","v":{"$error":"#N/A"}},{"$error":"#N/A"},{"$error":"#N/A"},{"$error":"#N/A"}]
[181,140,{"$error":"#N/A"},{"$error":"#N/A"},{"$f":"IF(B592<=VLOOKUP(Main!$N$22,Coefficients!$E$2:$H$28,4,FALSE),(F371/(I371+N371))*I371,NA())","v":{"$error":"#N/A"}},{"$f":"IF(B592<=VLOOKUP(Main!$N$22,Coefficients!$E$2:$H$28,4,FALSE),$E$33+(($B$256-B371)*(($B$32*(1-$B$33))/1000000)),NA())","v":{"$error":"#N/A"}},{"$f":"IF(B592<=VLOOKUP(Main!$N$22,Coefficients!$E$2:$H$28,4,FALSE),($B$41-((B371-$B$256))*($B$41/1000000)*$B$43)-($B$41*$B$42),NA())","v":{"$error":"#N/A"}},{"$f":"IFERROR((I371-J371)/'NTC Thermistor Comparison'!H213,NA())","v":{"$error":"#N/A"}},{"$f":"IF(B592<=VLOOKUP(Main!$N$22,Coefficients!$E$2:$H$28,4,FALSE),($F$171*B371^4 + $E$171*B371^3 + $D$171*B371^2 + $C$171*B371 + $B$171)*0.985,NA())","v":{"$error":"#N/A"}},{"$f":"'Device Resistance Tables'!D200","v":{"$error":"#N/A"}},{"$f":"IF(B592<=VLOOKUP(Main!$N$22,Coefficients!$E$2:$H$28,4,FALSE),($F$184*B371^4 + $E$184*B371^3 + $D$184*B371^2 + $C$184*B371 + $B$184)*1.015,NA())","v":{"$error":"#N/A"}},{"$f":"IFERROR('NTC Thermistor Comparison'!F214-'NTC Thermistor Comparison'!F213,NA())","v":{"$error":"#N/A"}},{"$f":"IFERROR((K371-J371)/'NTC Thermistor Comparison'!H213,NA())","v":{"$error":"#N/A"}},{"$f":"IF(B592<=VLOOKUP(Main!$N$22,Coefficients!$E$2:$H$28,4,FALSE),($B$41+((B371-$B$256))*($B$41/1000000)*$B$43)+($B$41*$B$42),NA())","v":{"$error":"#N/A"}},{"$f":"IF(B592<=VLOOKUP(Main!$N$22,Coefficients!$E$2:$H$28,4,FALSE),$G$33+(($B$256-B371)*(($B$32*(1-$B$33))/1000000)),NA())","v":{"$error":"#N/A"}},{"$error":"#N/A"},{"$error":"#N/A"},{"$error":"#N/A"}]
[182,141,{"$error":"#N/A"},{"$error":"#N/A"},{"$f":"IF(B593<=VLOOKUP(Main!$N$22,Coefficients!$E$2:$H$28,4,FALSE),(F372/(I372+N372))*I372,NA())","v":{"$error":"#N/A"}},{"$f":"IF(B593<=VLOOKUP(Main!$N$22,Coefficients!$E$2:$H$28,4,FALSE),$E$33+(($B$256-B372)*(($B$32*(1-$B$33))/1000000)),NA())","v":{"$error":"#N/A"}},{"$f":"IF(B593<=VLOOKUP(Main!$N$22,Coefficients!$E$2:$H$28,4,FALSE),($B$41-((B372-$B$256))*($B$41/1000000)*$B$43)-($B$41*$B$42),NA())","v":{"$error":"#N/A"}},{"$f":"IFERROR((I372-J372)/'NTC Thermistor Comparison'!H214,NA())","v":{"$error":"#N/A"}},{"$f":"IF(B593<=VLOOKUP(Main!$N$22,Coefficients!$E$2:$H$28,4,FALSE),($F$171*B372^4 + $E$171*B372^3 + $D$171*B372^2 + $C$171*B372 + $B$171)*0.985,NA())","v":{"$error":"#N/A"}},{"$f":"'Device Resistance Tables'!D201","v":{"$error":"#N/A"}},{"$f":"IF(B593<=VLOOKUP(Main!$N$22,Coefficients!$E$2:$H$28,4,FALSE),($F$184*B372^4 + $E$184*B372^3 + $D$184*B372^2 + $C$184*B372 + $B$184)*1.015,NA())","v":{"$error":"#N/A"}},{"$f":"IFERROR('NTC Thermistor Comparison'!F215-'NTC Thermistor Comparison'!F214,NA())","v":{"$error":"#N/A"}},{"$f":"IFERROR((K372-J372)/'NTC Thermistor Comparison'!H214,NA())","v":{"$error":"#N/A"}},{"$f":"IF(B593<=VLOOKUP(Main!$N$22,Coefficients!$E$2:$H$28,4,FALSE),($B$41+((B372-$B$256))*($B$41/1000000)*$B$43)+($B$41*$B$42),NA())","v":{"$error":"#N/A"}},{"$f":"IF(B593<=VLOOKUP(Main!$N$22,Coefficients!$E$2:$H$28,4,FALSE),$G$33+(($B$256-B372)*(($B$32*(1-$B$33))/1000000)),NA())","v":{"$error":"#N/A"}},{"$error":"#N/A"},{"$error":"#N/A"},{"$error":"#N/A"}]
[183,142,{"$error":"#N/A"},{"$error":"#N/A"},{"$f":"IF(B594<=VLOOKUP(Main!$N$22,Coefficients!$E$2:$H$28,4,FALSE),(F373/(I373+N373))*I373,NA())","v":{"$error":"#N/A"}},{"$f":"IF(B594<=VLOOKUP(Main!$N$22,Coefficients!$E$2:$H$28,4,FALSE),$E$33+(($B$256-B373)*(($B$32*(1-$B$33))/1000000)),NA())","v":{"$error":"#N/A"}},{"$f":"IF(B594<=VLOOKUP(Main!$N$22,Coefficients!$E$2:$H$28,4,FALSE),($B$41-((B373-$B$256))*($B$41/1000000)*$B$43)-($B$41*$B$42),NA())","v":{"$error":"#N/A"}},{"$f":"IFERROR((I373-J373)/'NTC Thermistor Comparison'!H215,NA())","v":{"$error":"#N/A"}},{"$f":"IF(B594<=VLOOKUP(Main!$N$22,Coefficients!$E$2:$H$28,4,FALSE),($F$171*B373^4 + $E$171*B373^3 + $D$171*B373^2 + $C$171*B373 + $B$171)*0.985,NA())","v":{"$error":"#N/A"}},{"$f":"'Device Resistance Tables'!D202","v":{"$error":"#N/A"}},{"$f":"IF(B594<=VLOOKUP(Main!$N$22,Coefficients!$E$2:$H$28,4,FALSE),($F$184*B373^4 + $E$184*B373^3 + $D$184*B373^2 + $C$184*B373 + $B$184)*1.015,NA())","v":{"$error":"#N/A"}},{"$f":"IFERROR('NTC Thermistor Comparison'!F216-'NTC Thermistor Comparison'!F215,NA())","v":{"$error":"#N/A"}},{"$f":"IFERROR((K373-J373)/'NTC Thermistor Comparison'!H215,NA())","v":{"$error":"#N/A"}},{"$f":"IF(B594<=VLOOKUP(Main!$N$22,Coefficients!$E$2:$H$28,4,FALSE),($B$41+((B373-$B$256))*($B$41/1000000)*$B$43)+($B$41*$B$42),NA())","v":{"$error":"#N/A"}},{"$f":"IF(B594<=VLOOKUP(Main!$N$22,Coefficients!$E$2:$H$28,4,FALSE),$G$33+(($B$256-B373)*(($B$32*(1-$B$33))/1000000)),NA())","v":{"$error":"#N/A"}},{"$error":"#N/A"},{"$error":"#N/A"},{"$error":"#N/A"}]
[184,143,{"$error":"#N/A"},{"$error":"#N/A"},{"$f":"IF(B595<=VLOOKUP(Main!$N$22,Coefficients!$E$2:$H$28,4,FALSE),(F374/(I374+N374))*I374,NA())","v":{"$error":"#N/A"}},{"$f":"IF(B595<=VLOOKUP(Main!$N$22,Coefficients!$E$2:$H$28,4,FALSE),$E$33+(($B$256-B374)*(($B$32*(1-$B$33))/1000000)),NA())","v":{"$error":"#N/A"}},{"$f":"IF(B595<=VLOOKUP(Main!$N$22,Coefficients!$E$2:$H$28,4,FALSE),($B$41-((B374-$B$256))*($B$41/1000000)*$B$43)-($B$41*$B$42),NA())","v":{"$error":"#N/A"}},{"$f":"IFERROR((I374-J374)/'NTC Thermistor Comparison'!H216,NA())","v":{"$error":"#N/A"}},{"$f":"IF(B595<=VLOOKUP(Main!$N$22,Coefficients!$E$2:$H$28,4,FALSE),($F$171*B374^4 + $E$171*B374^3 + $D$171*B374^2 + $C$171*B374 + $B$171)*0.985,NA())","v":{"$error":"#N/A"}},{"$f":"'Device Resistance Tables'!D203","v":{"$error":"#N/A"}},{"$f":"IF(B595<=VLOOKUP(Main!$N$22,Coefficients!$E$2:$H$28,4,FALSE),($F$184*B374^4 + $E$184*B374^3 + $D$184*B374^2 + $C$184*B374 + $B$184)*1.015,NA())","v":{"$error":"#N/A"}},{"$f":"IFERROR('NTC Thermistor Comparison'!F217-'NTC Thermistor Comparison'!F216,NA())","v":{"$error":"#N/A"}},{"$f":"IFERROR((K374-J374)/'NTC Thermistor Comparison'!H216,NA())","v":{"$error":"#N/A"}},{"$f":"IF(B595<=VLOOKUP(Main!$N$22,Coefficients!$E$2:$H$28,4,FALSE),($B$41+((B374-$B$256))*($B$41/1000000)*$B$43)+($B$41*$B$42),NA())","v":{"$error":"#N/A"}},{"$f":"IF(B595<=VLOOKUP(Main!$N$22,Coefficients!$E$2:$H$28,4,FALSE),$G$33+(($B$256-B374)*(($B$32*(1-$B$33))/1000000)),NA())","v":{"$error":"#N/A"}},{"$error":"#N/A"},{"$error":"#N/A"},{"$error":"#N/A"}]
[185,144,{"$error":"#N/A"},{"$error":"#N/A"},{"$f":"IF(B596<=VLOOKUP(Main!$N$22,Coefficients!$E$2:$H$28,4,FALSE),(F375/(I375+N375))*I375,NA())","v":{"$error":"#N/A"}},{"$f":"IF(B596<=VLOOKUP(Main!$N$22,Coefficients!$E$2:$H$28,4,FALSE),$E$33+(($B$256-B375)*(($B$32*(1-$B$33))/1000000)),NA())","v":{"$error":"#N/A"}},{"$f":"IF(B596<=VLOOKUP(Main!$N$22,Coefficients!$E$2:$H$28,4,FALSE),($B$41-((B375-$B$256))*($B$41/1000000)*$B$43)-($B$41*$B$42),NA())","v":{"$error":"#N/A"}},{"$f":"IFERROR((I375-J375)/'NTC Thermistor Comparison'!H217,NA())","v":{"$error":"#N/A"}},{"$f":"IF(B596<=VLOOKUP(Main!$N$22,Coefficients!$E$2:$H$28,4,FALSE),($F$171*B375^4 + $E$171*B375^3 + $D$171*B375^2 + $C$171*B375 + $B$171)*0.985,NA())","v":{"$error":"#N/A"}},{"$f":"'Device Resistance Tables'!D204","v":{"$error":"#N/A"}},{"$f":"IF(B596<=VLOOKUP(Main!$N$22,Coefficients!$E$2:$H$28,4,FALSE),($F$184*B375^4 + $E$184*B375^3 + $D$184*B375^2 + $C$184*B375 + $B$184)*1.015,NA())","v":{"$error":"#N/A"}},{"$f":"IFERROR('NTC Thermistor Comparison'!F218-'NTC Thermistor Comparison'!F217,NA())","v":{"$error":"#N/A"}},{"$f":"IFERROR((K375-J375)/'NTC Thermistor Comparison'!H217,NA())","v":{"$error":"#N/A"}},{"$f":"IF(B596<=VLOOKUP(Main!$N$22,Coefficients!$E$2:$H$28,4,FALSE),($B$41+((B375-$B$256))*($B$41/1000000)*$B$43)+($B$41*$B$42),NA())","v":{"$error":"#N/A"}},{"$f":"IF(B596<=VLOOKUP(Main!$N$22,Coefficients!$E$2:$H$28,4,FALSE),$G$33+(($B$256-B375)*(($B$32*(1-$B$33))/1000000)),NA())","v":{"$error":"#N/A"}},{"$error":"#N/A"},{"$error":"#N/A"},{"$error":"#N/A"}]
[186,145,{"$error":"#N/A"},{"$error":"#N/A"},{"$f":"IF(B597<=VLOOKUP(Main!$N$22,Coefficients!$E$2:$H$28,4,FALSE),(F376/(I376+N376))*I376,NA())","v":{"$error":"#N/A"}},{"$f":"IF(B597<=VLOOKUP(Main!$N$22,Coefficients!$E$2:$H$28,4,FALSE),$E$33+(($B$256-B376)*(($B$32*(1-$B$33))/1000000)),NA())","v":{"$error":"#N/A"}},{"$f":"IF(B597<=VLOOKUP(Main!$N$22,Coefficients!$E$2:$H$28,4,FALSE),($B$41-((B376-$B$256))*($B$41/1000000)*$B$43)-($B$41*$B$42),NA())","v":{"$error":"#N/A"}},{"$f":"IFERROR((I376-J376)/'NTC Thermistor Comparison'!H218,NA())","v":{"$error":"#N/A"}},{"$f":"IF(B597<=VLOOKUP(Main!$N$22,Coefficients!$E$2:$H$28,4,FALSE),($F$171*B376^4 + $E$171*B376^3 + $D$171*B376^2 + $C$171*B376 + $B$171)*0.985,NA())","v":{"$error":"#N/A"}},{"$f":"'Device Resistance Tables'!D205","v":{"$error":"#N/A"}},{"$f":"IF(B597<=VLOOKUP(Main!$N$22,Coefficients!$E$2:$H$28,4,FALSE),($F$184*B376^4 + $E$184*B376^3 + $D$184*B376^2 + $C$184*B376 + $B$184)*1.015,NA())","v":{"$error":"#N/A"}},{"$f":"IFERROR('NTC Thermistor Comparison'!F219-'NTC Thermistor Comparison'!F218,NA())","v":{"$error":"#N/A"}},{"$f":"IFERROR((K376-J376)/'NTC Thermistor Comparison'!H218,NA())","v":{"$error":"#N/A"}},{"$f":"IF(B597<=VLOOKUP(Main!$N$22,Coefficients!$E$2:$H$28,4,FALSE),($B$41+((B376-$B$256))*($B$41/1000000)*$B$43)+($B$41*$B$42),NA())","v":{"$error":"#N/A"}},{"$f":"IF(B597<=VLOOKUP(Main!$N$22,Coefficients!$E$2:$H$28,4,FALSE),$G$33+(($B$256-B376)*(($B$32*(1-$B$33))/1000000)),NA())","v":{"$error":"#N/A"}},{"$error":"#N/A"},{"$error":"#N/A"},{"$error":"#N/A"}]
[187,146,{"$error":"#N/A"},{"$error":"#N/A"},{"$f":"IF(B598<=VLOOKUP(Main!$N$22,Coefficients!$E$2:$H$28,4,FALSE),(F377/(I377+N377))*I377,NA())","v":{"$error":"#N/A"}},{"$f":"IF(B598<=VLOOKUP(Main!$N$22,Coefficients!$E$2:$H$28,4,FALSE),$E$33+(($B$256-B377)*(($B$32*(1-$B$33))/1000000)),NA())","v":{"$error":"#N/A"}},{"$f":"IF(B598<=VLOOKUP(Main!$N$22,Coefficients!$E$2:$H$28,4,FALSE),($B$41-((B377-$B$256))*($B$41/1000000)*$B$43)-($B$41*$B$42),NA())","v":{"$error":"#N/A"}},{"$f":"IFERROR((I377-J377)/'NTC Thermistor Comparison'!H219,NA())","v":{"$error":"#N/A"}},{"$f":"IF(B598<=VLOOKUP(Main!$N$22,Coefficients!$E$2:$H$28,4,FALSE),($F$171*B377^4 + $E$171*B377^3 + $D$171*B377^2 + $C$171*B377 + $B$171)*0.985,NA())","v":{"$error":"#N/A"}},{"$f":"'Device Resistance Tables'!D206","v":{"$error":"#N/A"}},{"$f":"IF(B598<=VLOOKUP(Main!$N$22,Coefficients!$E$2:$H$28,4,FALSE),($F$184*B377^4 + $E$184*B377^3 + $D$184*B377^2 + $C$184*B377 + $B$184)*1.015,NA())","v":{"$error":"#N/A"}},{"$f":"IFERROR('NTC Thermistor Comparison'!F220-'NTC Thermistor Comparison'!F219,NA())","v":{"$error":"#N/A"}},{"$f":"IFERROR((K377-J377)/'NTC Thermistor Comparison'!H219,NA())","v":{"$error":"#N/A"}},{"$f":"IF(B598<=VLOOKUP(Main!$N$22,Coefficients!$E$2:$H$28,4,FALSE),($B$41+((B377-$B$256))*($B$41/1000000)*$B$43)+($B$41*$B$42),NA())","v":{"$error":"#N/A"}},{"$f":"IF(B598<=VLOOKUP(Main!$N$22,Coefficients!$E$2:$H$28,4,FALSE),$G$33+(($B$256-B377)*(($B$32*(1-$B$33))/1000000)),NA())","v":{"$error":"#N/A"}},{"$error":"#N/A"},{"$error":"#N/A"},{"$error":"#N/A"}]
[188,147,{"$error":"#N/A"},{"$error":"#N/A"},{"$f":"IF(B599<=VLOOKUP(Main!$N$22,Coefficients!$E$2:$H$28,4,FALSE),(F378/(I378+N378))*I378,NA())","v":{"$error":"#N/A"}},{"$f":"IF(B599<=VLOOKUP(Main!$N$22,Coefficients!$E$2:$H$28,4,FALSE),$E$33+(($B$256-B378)*(($B$32*(1-$B$33))/1000000)),NA())","v":{"$error":"#N/A"}},{"$f":"IF(B599<=VLOOKUP(Main!$N$22,Coefficients!$E$2:$H$28,4,FALSE),($B$41-((B378-$B$256))*($B$41/1000000)*$B$43)-($B$41*$B$42),NA())","v":{"$error":"#N/A"}},{"$f":"IFERROR((I378-J378)/'NTC Thermistor Comparison'!H220,NA())","v":{"$error":"#N/A"}},{"$f":"IF(B599<=VLOOKUP(Main!$N$22,Coefficients!$E$2:$H$28,4,FALSE),($F$171*B378^4 + $E$171*B378^3 + $D$171*B378^2 + $C$171*B378 + $B$171)*0.985,NA())","v":{"$error":"#N/A"}},{"$f":"'Device Resistance Tables'!D207","v":{"$error":"#N/A"}},{"$f":"IF(B599<=VLOOKUP(Main!$N$22,Coefficients!$E$2:$H$28,4,FALSE),($F$184*B378^4 + $E$184*B378^3 + $D$184*B378^2 + $C$184*B378 + $B$184)*1.015,NA())","v":{"$error":"#N/A"}},{"$f":"IFERROR('NTC Thermistor Comparison'!F221-'NTC Thermistor Comparison'!F220,NA())","v":{"$error":"#N/A"}},{"$f":"IFERROR((K378-J378)/'NTC Thermistor Comparison'!H220,NA())","v":{"$error":"#N/A"}},{"$f":"IF(B599<=VLOOKUP(Main!$N$22,Coefficients!$E$2:$H$28,4,FALSE),($B$41+((B378-$B$256))*($B$41/1000000)*$B$43)+($B$41*$B$42),NA())","v":{"$error":"#N/A"}},{"$f":"IF(B599<=VLOOKUP(Main!$N$22,Coefficients!$E$2:$H$28,4,FALSE),$G$33+(($B$256-B378)*(($B$32*(1-$B$33))/1000000)),NA())","v":{"$error":"#N/A"}},{"$error":"#N/A"},{"$error":"#N/A"},{"$error":"#N/A"}]
[189,148,{"$error":"#N/A"},{"$error":"#N/A"},{"$f":"IF(B600<=VLOOKUP(Main!$N$22,Coefficients!$E$2:$H$28,4,FALSE),(F379/(I379+N379))*I379,NA())","v":{"$error":"#N/A"}},{"$f":"IF(B600<=VLOOKUP(Main!$N$22,Coefficients!$E$2:$H$28,4,FALSE),$E$33+(($B$256-B379)*(($B$32*(1-$B$33))/1000000)),NA())","v":{"$error":"#N/A"}},{"$f":"IF(B600<=VLOOKUP(Main!$N$22,Coefficients!$E$2:$H$28,4,FALSE),($B$41-((B379-$B$256))*($B$41/1000000)*$B$43)-($B$41*$B$42),NA())","v":{"$error":"#N/A"}},{"$f":"IFERROR((I379-J379)/'NTC Thermistor Comparison'!H221,NA())","v":{"$error":"#N/A"}},{"$f":"IF(B600<=VLOOKUP(Main!$N$22,Coefficients!$E$2:$H$28,4,FALSE),($F$171*B379^4 + $E$171*B379^3 + $D$171*B379^2 + $C$171*B379 + $B$171)*0.985,NA())","v":{"$error":"#N/A"}},{"$f":"'Device Resistance Tables'!D208","v":{"$error":"#N/A"}},{"$f":"IF(B600<=VLOOKUP(Main!$N$22,Coefficients!$E$2:$H$28,4,FALSE),($F$184*B379^4 + $E$184*B379^3 + $D$184*B379^2 + $C$184*B379 + $B$184)*1.015,NA())","v":{"$error":"#N/A"}},{"$f":"IFERROR('NTC Thermistor Comparison'!F222-'NTC Thermistor Comparison'!F221,NA())","v":{"$error":"#N/A"}},{"$f":"IFERROR((K379-J379)/'NTC Thermistor Comparison'!H221,NA())","v":{"$error":"#N/A"}},{"$f":"IF(B600<=VLOOKUP(Main!$N$22,Coefficients!$E$2:$H$28,4,FALSE),($B$41+((B379-$B$256))*($B$41/1000000)*$B$43)+($B$41*$B$42),NA())","v":{"$error":"#N/A"}},{"$f":"IF(B600<=VLOOKUP(Main!$N$22,Coefficients!$E$2:$H$28,4,FALSE),$G$33+(($B$256-B379)*(($B$32*(1-$B$33))/1000000)),NA())","v":{"$error":"#N/A"}},{"$error":"#N/A"},{"$error":"#N/A"},{"$error":"#N/A"}]
[190,149,{"$error":"#N/A"},{"$error":"#N/A"},{"$f":"IF(B601<=VLOOKUP(Main!$N$22,Coefficients!$E$2:$H$28,4,FALSE),(F380/(I380+N380))*I380,NA())","v":{"$error":"#N/A"}},{"$f":"IF(B601<=VLOOKUP(Main!$N$22,Coefficients!$E$2:$H$28,4,FALSE),$E$33+(($B$256-B380)*(($B$32*(1-$B$33))/1000000)),NA())","v":{"$error":"#N/A"}},{"$f":"IF(B601<=VLOOKUP(Main!$N$22,Coefficients!$E$2:$H$28,4,FALSE),($B$41-((B380-$B$256))*($B$41/1000000)*$B$43)-($B$41*$B$42),NA())","v":{"$error":"#N/A"}},{"$f":"IFERROR((I380-J380)/'NTC Thermistor Comparison'!H222,NA())","v":{"$error":"#N/A"}},{"$f":"IF(B601<=VLOOKUP(Main!$N$22,Coefficients!$E$2:$H$28,4,FALSE),($F$171*B380^4 + $E$171*B380^3 + $D$171*B380^2 + $C$171*B380 + $B$171)*0.985,NA())","v":{"$error":"#N/A"}},{"$f":"'Device Resistance Tables'!D209","v":{"$error":"#N/A"}},{"$f":"IF(B601<=VLOOKUP(Main!$N$22,Coefficients!$E$2:$H$28,4,FALSE),($F$184*B380^4 + $E$184*B380^3 + $D$184*B380^2 + $C$184*B380 + $B$184)*1.015,NA())","v":{"$error":"#N/A"}},{"$f":"IFERROR('NTC Thermistor Comparison'!F223-'NTC Thermistor Comparison'!F222,NA())","v":{"$error":"#N/A"}},{"$f":"IFERROR((K380-J380)/'NTC Thermistor Comparison'!H222,NA())","v":{"$error":"#N/A"}},{"$f":"IF(B601<=VLOOKUP(Main!$N$22,Coefficients!$E$2:$H$28,4,FALSE),($B$41+((B380-$B$256))*($B$41/1000000)*$B$43)+($B$41*$B$42),NA())","v":{"$error":"#N/A"}},{"$f":"IF(B601<=VLOOKUP(Main!$N$22,Coefficients!$E$2:$H$28,4,FALSE),$G$33+(($B$256-B380)*(($B$32*(1-$B$33))/1000000)),NA())","v":{"$error":"#N/A"}},{"$error":"#N/A"},{"$error":"#N/A"},{"$error":"#N/A"}]
[191,150,{"$error":"#N/A"},{"$error":"#N/A"},{"$f":"IF(B602<=VLOOKUP(Main!$N$22,Coefficients!$E$2:$H$28,4,FALSE),(F381/(I381+N381))*I381,NA())","v":{"$error":"#N/A"}},{"$f":"IF(B602<=VLOOKUP(Main!$N$22,Coefficients!$E$2:$H$28,4,FALSE),$E$33+(($B$256-B381)*(($B$32*(1-$B$33))/1000000)),NA())","v":{"$error":"#N/A"}},{"$f":"IF(B602<=VLOOKUP(Main!$N$22,Coefficients!$E$2:$H$28,4,FALSE),($B$41-((B381-$B$256))*($B$41/1000000)*$B$43)-($B$41*$B$42),NA())","v":{"$error":"#N/A"}},{"$f":"IFERROR((I381-J381)/'NTC Thermistor Comparison'!H223,NA())","v":{"$error":"#N/A"}},{"$f":"IF(B602<=VLOOKUP(Main!$N$22,Coefficients!$E$2:$H$28,4,FALSE),($F$171*B381^4 + $E$171*B381^3 + $D$171*B381^2 + $C$171*B381 + $B$171)*0.985,NA())","v":{"$error":"#N/A"}},{"$f":"'Device Resistance Tables'!D210","v":{"$error":"#N/A"}},{"$f":"IF(B602<=VLOOKUP(Main!$N$22,Coefficients!$E$2:$H$28,4,FALSE),($F$184*B381^4 + $E$184*B381^3 + $D$184*B381^2 + $C$184*B381 + $B$184)*1.015,NA())","v":{"$error":"#N/A"}},{"$f":"IFERROR('NTC Thermistor Comparison'!F224-'NTC Thermistor Comparison'!F223,NA())","v":{"$error":"#N/A"}},{"$f":"IFERROR((K381-J381)/'NTC Thermistor Comparison'!H223,NA())","v":{"$error":"#N/A"}},{"$f":"IF(B602<=VLOOKUP(Main!$N$22,Coefficients!$E$2:$H$28,4,FALSE),($B$41+((B381-$B$256))*($B$41/1000000)*$B$43)+($B$41*$B$42),NA())","v":{"$error":"#N/A"}},{"$f":"IF(B602<=VLOOKUP(Main!$N$22,Coefficients!$E$2:$H$28,4,FALSE),$G$33+(($B$256-B381)*(($B$32*(1-$B$33))/1000000)),NA())","v":{"$error":"#N/A"}},{"$error":"#N/A"},{"$error":"#N/A"},{"$error":"#N/A"}]
[192,151,{"$error":"#N/A"},{"$error":"#N/A"},{"$f":"IF(B603<=VLOOKUP(Main!$N$22,Coefficients!$E$2:$H$28,4,FALSE),(F382/(I382+N382))*I382,NA())","v":{"$error":"#N/A"}},{"$f":"IF(B603<=VLOOKUP(Main!$N$22,Coefficients!$E$2:$H$28,4,FALSE),$E$33+(($B$256-B382)*(($B$32*(1-$B$33))/1000000)),NA())","v":{"$error":"#N/A"}},{"$f":"IF(B603<=VLOOKUP(Main!$N$22,Coefficients!$E$2:$H$28,4,FALSE),($B$41-((B382-$B$256))*($B$41/1000000)*$B$43)-($B$41*$B$42),NA())","v":{"$error":"#N/A"}},{"$f":"IFERROR((I382-J382)/'NTC Thermistor Comparison'!H224,NA())","v":{"$error":"#N/A"}},{"$f":"IF(B603<=VLOOKUP(Main!$N$22,Coefficients!$E$2:$H$28,4,FALSE),($F$171*B382^4 + $E$171*B382^3 + $D$171*B382^2 + $C$171*B382 + $B$171)*0.985,NA())","v":{"$error":"#N/A"}},{"$f":"'Device Resistance Tables'!D211","v":{"$error":"#N/A"}},{"$f":"IF(B603<=VLOOKUP(Main!$N$22,Coefficients!$E$2:$H$28,4,FALSE),($F$184*B382^4 + $E$184*B382^3 + $D$184*B382^2 + $C$184*B382 + $B$184)*1.015,NA())","v":{"$error":"#N/A"}},{"$f":"IFERROR('NTC Thermistor Comparison'!F225-'NTC Thermistor Comparison'!F224,NA())","v":{"$error":"#N/A"}},{"$f":"IFERROR((K382-J382)/'NTC Thermistor Comparison'!H224,NA())","v":{"$error":"#N/A"}},{"$f":"IF(B603<=VLOOKUP(Main!$N$22,Coefficients!$E$2:$H$28,4,FALSE),($B$41+((B382-$B$256))*($B$41/1000000)*$B$43)+($B$41*$B$42),NA())","v":{"$error":"#N/A"}},{"$f":"IF(B603<=VLOOKUP(Main!$N$22,Coefficients!$E$2:$H$28,4,FALSE),$G$33+(($B$256-B382)*(($B$32*(1-$B$33))/1000000)),NA())","v":{"$error":"#N/A"}},{"$error":"#N/A"},{"$error":"#N/A"},{"$error":"#N/A"}]
[193,152,{"$error":"#N/A"},{"$f":"IFERROR(E383-($B$32/(J383+$B$41)*J383),NA())","v":{"$error":"#N/A"}},{"$f":"IF(B604<=VLOOKUP(Main!$N$22,Coefficients!$E$2:$H$28,4,FALSE),(F383/(I383+N383))*I383,NA())","v":{"$error":"#N/A"}},{"$f":"IF(B604<=VLOOKUP(Main!$N$22,Coefficients!$E$2:$H$28,4,FALSE),$E$33+(($B$256-B383)*(($B$32*(1-$B$33))/1000000)),NA())","v":{"$error":"#N/A"}},{"$f":"IF(B604<=VLOOKUP(Main!$N$22,Coefficients!$E$2:$H$28,4,FALSE),($B$41-((B383-$B$256))*($B$41/1000000)*$B$43)-($B$41*$B$42),NA())","v":{"$error":"#N/A"}},{"$f":"IFERROR((I383-J383)/'NTC Thermistor Comparison'!H225,NA())","v":{"$error":"#N/A"}},{"$f":"IF(B604<=VLOOKUP(Main!$N$22,Coefficients!$E$2:$H$28,4,FALSE),($F$171*B383^4 + $E$171*B383^3 + $D$171*B383^2 + $C$171*B383 + $B$171)*0.985,NA())","v":{"$error":"#N/A"}},{"$f":"'Device Resistance Tables'!D212","v":{"$error":"#N/A"}},{"$f":"IF(B604<=VLOOKUP(Main!$N$22,Coefficients!$E$2:$H$28,4,FALSE),($F$184*B383^4 + $E$184*B383^3 + $D$184*B383^2 + $C$184*B383 + $B$184)*1.015,NA())","v":{"$error":"#N/A"}},{"$f":"IFERROR('NTC Thermistor Comparison'!F226-'NTC Thermistor Comparison'!F225,NA())","v":{"$error":"#N/A"}},{"$f":"IFERROR((K383-J383)/'NTC Thermistor Comparison'!H225,NA())","v":{"$error":"#N/A"}},{"$f":"IF(B604<=VLOOKUP(Main!$N$22,Coefficients!$E$2:$H$28,4,FALSE),($B$41+((B383-$B$256))*($B$41/1000000)*$B$43)+($B$41*$B$42),NA())","v":{"$error":"#N/A"}},{"$f":"IF(B604<=VLOOKUP(Main!$N$22,Coefficients!$E$2:$H$28,4,FALSE),$G$33+(($B$256-B383)*(($B$32*(1-$B$33))/1000000)),NA())","v":{"$error":"#N/A"}},{"$error":"#N/A"},{"$f":"IFERROR(P383-($B$32/(J383+$B$41)*J383),NA())","v":{"$error":"#N/A"}},{"$error":"#N/A"}]
[194,153,{"$f":"IFERROR(D384/L384,NA())","v":{"$error":"#N/A"}},{"$error":"#N/A"},{"$f":"IF(B605<=VLOOKUP(Main!$N$22,Coefficients!$E$2:$H$28,4,FALSE),(F384/(I384+N384))*I384,NA())","v":{"$error":"#N/A"}},{"$f":"IF(B605<=VLOOKUP(Main!$N$22,Coefficients!$E$2:$H$28,4,FALSE),$E$33+(($B$256-B384)*(($B$32*(1-$B$33))/1000000)),NA())","v":{"$error":"#N/A"}},{"$f":"IF(B605<=VLOOKUP(Main!$N$22,Coefficients!$E$2:$H$28,4,FALSE),($B$41-((B384-$B$256))*($B$41/1000000)*$B$43)-($B$41*$B$42),NA())","v":{"$error":"#N/A"}},{"$f":"IFERROR((I384-J384)/'NTC Thermistor Comparison'!H226,NA())","v":{"$error":"#N/A"}},{"$f":"IF(B605<=VLOOKUP(Main!$N$22,Coefficients!$E$2:$H$28,4,FALSE),($F$171*B384^4 + $E$171*B384^3 + $D$171*B384^2 + $C$171*B384 + $B$171)*0.985,NA())","v":{"$error":"#N/A"}},{"$f":"'Device Resistance Tables'!D213","v":{"$error":"#N/A"}},{"$f":"IF(B605<=VLOOKUP(Main!$N$22,Coefficients!$E$2:$H$28,4,FALSE),($F$184*B384^4 + $E$184*B384^3 + $D$184*B384^2 + $C$184*B384 + $B$184)*1.015,NA())","v":{"$error":"#N/A"}},{"$f":"IFERROR('NTC Thermistor Comparison'!F227-'NTC Thermistor Comparison'!F226,NA())","v":{"$error":"#N/A"}},{"$f":"IFERROR((K384-J384)/'NTC Thermistor Comparison'!H226,NA())","v":{"$error":"#N/A"}},{"$f":"IF(B605<=VLOOKUP(Main!$N$22,Coefficients!$E$2:$H$28,4,FALSE),($B$41+((B384-$B$256))*($B$41/1000000)*$B$43)+($B$41*$B$42),NA())","v":{"$error":"#N/A"}},{"$f":"IF(B605<=VLOOKUP(Main!$N$22,Coefficients!$E$2:$H$28,4,FALSE),$G$33+(($B$256-B384)*(($B$32*(1-$B$33))/1000000)),NA())","v":{"$error":"#N/A"}},{"$f":"IFERROR(O384/(K384+G384)*K384,NA())","v":{"$error":"#N/A"}},{"$error":"#N/A"},{"$error":"#N/A"}]
[195,{"$f":"B384+1","v":154},{"$error":"#N/A"},{"$error":"#N/A"},{"$f":"IF(B606<=VLOOKUP(Main!$N$22,Coefficients!$E$2:$H$28,4,FALSE),(F385/(I385+N385))*I385,NA())","v":{"$error":"#N/A"}},{"$f":"IF(B606<=VLOOKUP(Main!$N$22,Coefficients!$E$2:$H$28,4,FALSE),$E$33+(($B$256-B385)*(($B$32*(1-$B$33))/1000000)),NA())","v":{"$error":"#N/A"}},{"$f":"IF(B606<=VLOOKUP(Main!$N$22,Coefficients!$E$2:$H$28,4,FALSE),($B$41-((B385-$B$256))*($B$41/1000000)*$B$43)-($B$41*$B$42),NA())","v":{"$error":"#N/A"}},{"$f":"IFERROR((I385-J385)/'NTC Thermistor Comparison'!H227,NA())","v":{"$error":"#N/A"}},{"$f":"IF(B606<=VLOOKUP(Main!$N$22,Coefficients!$E$2:$H$28,4,FALSE),($F$171*B385^4 + $E$171*B385^3 + $D$171*B385^2 + $C$171*B385 + $B$171)*0.985,NA())","v":{"$error":"#N/A"}},{"$f":"'Device Resistance Tables'!D214","v":{"$error":"#N/A"}},{"$f":"IF(B606<=VLOOKUP(Main!$N$22,Coefficients!$E$2:$H$28,4,FALSE),($F$184*B385^4 + $E$184*B385^3 + $D$184*B385^2 + $C$184*B385 + $B$184)*1.015,NA())","v":{"$error":"#N/A"}},{"$f":"IFERROR('NTC Thermistor Comparison'!F228-'NTC Thermistor Comparison'!F227,NA())","v":{"$error":"#N/A"}},{"$f":"IFERROR((K385-J385)/'NTC Thermistor Comparison'!H227,NA())","v":{"$error":"#N/A"}},{"$f":"IF(B606<=VLOOKUP(Main!$N$22,Coefficients!$E$2:$H$28,4,FALSE),($B$41+((B385-$B$256))*($B$41/1000000)*$B$43)+($B$41*$B$42),NA())","v":{"$error":"#N/A"}},{"$f":"IF(B606<=VLOOKUP(Main!$N$22,Coefficients!$E$2:$H$28,4,FALSE),$G$33+(($B$256-B385)*(($B$32*(1-$B$33))/1000000)),NA())","v":{"$error":"#N/A"}},{"$error":"#N/A"},{"$error":"#N/A"},{"$f":"IFERROR(Q385/L385,NA())","v":{"$error":"#N/A"}}]
[196,155,{"$error":"#N/A"},{"$error":"#N/A"},{"$f":"IF(B607<=VLOOKUP(Main!$N$22,Coefficients!$E$2:$H$28,4,FALSE),(F386/(I386+N386))*I386,NA())","v":{"$error":"#N/A"}},{"$f":"IF(B607<=VLOOKUP(Main!$N$22,Coefficients!$E$2:$H$28,4,FALSE),$E$33+(($B$256-B386)*(($B$32*(1-$B$33))/1000000)),NA())","v":{"$error":"#N/A"}},{"$f":"IF(B607<=VLOOKUP(Main!$N$22,Coefficients!$E$2:$H$28,4,FALSE),($B$41-((B386-$B$256))*($B$41/1000000)*$B$43)-($B$41*$B$42),NA())","v":{"$error":"#N/A"}},{"$f":"IFERROR((I386-J386)/'NTC Thermistor Comparison'!H228,NA())","v":{"$error":"#N/A"}},{"$f":"IF(B607<=VLOOKUP(Main!$N$22,Coefficients!$E$2:$H$28,4,FALSE),($F$171*B386^4 + $E$171*B386^3 + $D$171*B386^2 + $C$171*B386 + $B$171)*0.985,NA())","v":{"$error":"#N/A"}},{"$f":"'Device Resistance Tables'!D215","v":{"$error":"#N/A"}},{"$f":"IF(B607<=VLOOKUP(Main!$N$22,Coefficients!$E$2:$H$28,4,FALSE),($F$184*B386^4 + $E$184*B386^3 + $D$184*B386^2 + $C$184*B386 + $B$184)*1.015,NA())","v":{"$error":"#N/A"}},{"$f":"IFERROR('NTC Thermistor Comparison'!F229-'NTC Thermistor Comparison'!F228,NA())","v":{"$error":"#N/A"}},{"$f":"IFERROR((K386-J386)/'NTC Thermistor Comparison'!H228,NA())","v":{"$error":"#N/A"}},{"$f":"IF(B607<=VLOOKUP(Main!$N$22,Coefficients!$E$2:$H$28,4,FALSE),($B$41+((B386-$B$256))*($B$41/1000000)*$B$43)+($B$41*$B$42),NA())","v":{"$error":"#N/A"}},{"$f":"IF(B607<=VLOOKUP(Main!$N$22,Coefficients!$E$2:$H$28,4,FALSE),$G$33+(($B$256-B386)*(($B$32*(1-$B$33))/1000000)),NA())","v":{"$error":"#N/A"}},{"$error":"#N/A"},{"$error":"#N/A"},{"$error":"#N/A"}]
[197,156,{"$error":"#N/A"},{"$error":"#N/A"},{"$f":"IF(B608<=VLOOKUP(Main!$N$22,Coefficients!$E$2:$H$28,4,FALSE),(F387/(I387+N387))*I387,NA())","v":{"$error":"#N/A"}},{"$f":"IF(B608<=VLOOKUP(Main!$N$22,Coefficients!$E$2:$H$28,4,FALSE),$E$33+(($B$256-B387)*(($B$32*(1-$B$33))/1000000)),NA())","v":{"$error":"#N/A"}},{"$f":"IF(B608<=VLOOKUP(Main!$N$22,Coefficients!$E$2:$H$28,4,FALSE),($B$41-((B387-$B$256))*($B$41/1000000)*$B$43)-($B$41*$B$42),NA())","v":{"$error":"#N/A"}},{"$f":"IFERROR((I387-J387)/'NTC Thermistor Comparison'!H229,NA())","v":{"$error":"#N/A"}},{"$f":"IF(B608<=VLOOKUP(Main!$N$22,Coefficients!$E$2:$H$28,4,FALSE),($F$171*B387^4 + $E$171*B387^3 + $D$171*B387^2 + $C$171*B387 + $B$171)*0.985,NA())","v":{"$error":"#N/A"}},{"$f":"'Device Resistance Tables'!D216","v":{"$error":"#N/A"}},{"$f":"IF(B608<=VLOOKUP(Main!$N$22,Coefficients!$E$2:$H$28,4,FALSE),($F$184*B387^4 + $E$184*B387^3 + $D$184*B387^2 + $C$184*B387 + $B$184)*1.015,NA())","v":{"$error":"#N/A"}},{"$f":"IFERROR('NTC Thermistor Comparison'!F230-'NTC Thermistor Comparison'!F229,NA())","v":{"$error":"#N/A"}},{"$f":"IFERROR((K387-J387)/'NTC Thermistor Comparison'!H229,NA())","v":{"$error":"#N/A"}},{"$f":"IF(B608<=VLOOKUP(Main!$N$22,Coefficients!$E$2:$H$28,4,FALSE),($B$41+((B387-$B$256))*($B$41/1000000)*$B$43)+($B$41*$B$42),NA())","v":{"$error":"#N/A"}},{"$f":"IF(B608<=VLOOKUP(Main!$N$22,Coefficients!$E$2:$H$28,4,FALSE),$G$33+(($B$256-B387)*(($B$32*(1-$B$33))/1000000)),NA())","v":{"$error":"#N/A"}},{"$error":"#N/A"},{"$error":"#N/A"},{"$error":"#N/A"}]
[198,157,{"$error":"#N/A"},{"$error":"#N/A"},{"$f":"IF(B609<=VLOOKUP(Main!$N$22,Coefficients!$E$2:$H$28,4,FALSE),(F388/(I388+N388))*I388,NA())","v":{"$error":"#N/A"}},{"$f":"IF(B609<=VLOOKUP(Main!$N$22,Coefficients!$E$2:$H$28,4,FALSE),$E$33+(($B$256-B388)*(($B$32*(1-$B$33))/1000000)),NA())","v":{"$error":"#N/A"}},{"$f":"IF(B609<=VLOOKUP(Main!$N$22,Coefficients!$E$2:$H$28,4,FALSE),($B$41-((B388-$B$256))*($B$41/1000000)*$B$43)-($B$41*$B$42),NA())","v":{"$error":"#N/A"}},{"$f":"IFERROR((I388-J388)/'NTC Thermistor Comparison'!H230,NA())","v":{"$error":"#N/A"}},{"$f":"IF(B609<=VLOOKUP(Main!$N$22,Coefficients!$E$2:$H$28,4,FALSE),($F$171*B388^4 + $E$171*B388^3 + $D$171*B388^2 + $C$171*B388 + $B$171)*0.985,NA())","v":{"$error":"#N/A"}},{"$f":"'Device Resistance Tables'!D217","v":{"$error":"#N/A"}},{"$f":"IF(B609<=VLOOKUP(Main!$N$22,Coefficients!$E$2:$H$28,4,FALSE),($F$184*B388^4 + $E$184*B388^3 + $D$184*B388^2 + $C$184*B388 + $B$184)*1.015,NA())","v":{"$error":"#N/A"}},{"$f":"IFERROR('NTC Thermistor Comparison'!F231-'NTC Thermistor Comparison'!F230,NA())","v":{"$error":"#N/A"}},{"$f":"IFERROR((K388-J388)/'NTC Thermistor Comparison'!H230,NA())","v":{"$error":"#N/A"}},{"$f":"IF(B609<=VLOOKUP(Main!$N$22,Coefficients!$E$2:$H$28,4,FALSE),($B$41+((B388-$B$256))*($B$41/1000000)*$B$43)+($B$41*$B$42),NA())","v":{"$error":"#N/A"}},{"$f":"IF(B609<=VLOOKUP(Main!$N$22,Coefficients!$E$2:$H$28,4,FALSE),$G$33+(($B$256-B388)*(($B$32*(1-$B$33))/1000000)),NA())","v":{"$error":"#N/A"}},{"$error":"#N/A"},{"$error":"#N/A"},{"$error":"#N/A"}]
[199,158,{"$error":"#N/A"},{"$error":"#N/A"},{"$f":"IF(B610<=VLOOKUP(Main!$N$22,Coefficients!$E$2:$H$28,4,FALSE),(F389/(I389+N389))*I389,NA())","v":{"$error":"#N/A"}},{"$f":"IF(B610<=VLOOKUP(Main!$N$22,Coefficients!$E$2:$H$28,4,FALSE),$E$33+(($B$256-B389)*(($B$32*(1-$B$33))/1000000)),NA())","v":{"$error":"#N/A"}},{"$f":"IF(B610<=VLOOKUP(Main!$N$22,Coefficients!$E$2:$H$28,4,FALSE),($B$41-((B389-$B$256))*($B$41/1000000)*$B$43)-($B$41*$B$42),NA())","v":{"$error":"#N/A"}},{"$f":"IFERROR((I389-J389)/'NTC Thermistor Comparison'!H231,NA())","v":{"$error":"#N/A"}},{"$f":"IF(B610<=VLOOKUP(Main!$N$22,Coefficients!$E$2:$H$28,4,FALSE),($F$171*B389^4 + $E$171*B389^3 + $D$171*B389^2 + $C$171*B389 + $B$171)*0.985,NA())","v":{"$error":"#N/A"}},{"$f":"'Device Resistance Tables'!D218","v":{"$error":"#N/A"}},{"$f":"IF(B610<=VLOOKUP(Main!$N$22,Coefficients!$E$2:$H$28,4,FALSE),($F$184*B389^4 + $E$184*B389^3 + $D$184*B389^2 + $C$184*B389 + $B$184)*1.015,NA())","v":{"$error":"#N/A"}},{"$f":"IFERROR('NTC Thermistor Comparison'!F232-'NTC Thermistor Comparison'!F231,NA())","v":{"$error":"#N/A"}},{"$f":"IFERROR((K389-J389)/'NTC Thermistor Comparison'!H231,NA())","v":{"$error":"#N/A"}},{"$f":"IF(B610<=VLOOKUP(Main!$N$22,Coefficients!$E$2:$H$28,4,FALSE),($B$41+((B389-$B$256))*($B$41/1000000)*$B$43)+($B$41*$B$42),NA())","v":{"$error":"#N/A"}},{"$f":"IF(B610<=VLOOKUP(Main!$N$22,Coefficients!$E$2:$H$28,4,FALSE),$G$33+(($B$256-B389)*(($B$32*(1-$B$33))/1000000)),NA())","v":{"$error":"#N/A"}},{"$error":"#N/A"},{"$error":"#N/A"},{"$error":"#N/A"}]
[200,159,{"$error":"#N/A"},{"$error":"#N/A"},{"$f":"IF(B611<=VLOOKUP(Main!$N$22,Coefficients!$E$2:$H$28,4,FALSE),(F390/(I390+N390))*I390,NA())","v":{"$error":"#N/A"}},{"$f":"IF(B611<=VLOOKUP(Main!$N$22,Coefficients!$E$2:$H$28,4,FALSE),$E$33+(($B$256-B390)*(($B$32*(1-$B$33))/1000000)),NA())","v":{"$error":"#N/A"}},{"$f":"IF(B611<=VLOOKUP(Main!$N$22,Coefficients!$E$2:$H$28,4,FALSE),($B$41-((B390-$B$256))*($B$41/1000000)*$B$43)-($B$41*$B$42),NA())","v":{"$error":"#N/A"}},{"$f":"IFERROR((I390-J390)/'NTC Thermistor Comparison'!H232,NA())","v":{"$error":"#N/A"}},{"$f":"IF(B611<=VLOOKUP(Main!$N$22,Coefficients!$E$2:$H$28,4,FALSE),($F$171*B390^4 + $E$171*B390^3 + $D$171*B390^2 + $C$171*B390 + $B$171)*0.985,NA())","v":{"$error":"#N/A"}},{"$f":"'Device Resistance Tables'!D219","v":{"$error":"#N/A"}},{"$f":"IF(B611<=VLOOKUP(Main!$N$22,Coefficients!$E$2:$H$28,4,FALSE),($F$184*B390^4 + $E$184*B390^3 + $D$184*B390^2 + $C$184*B390 + $B$184)*1.015,NA())","v":{"$error":"#N/A"}},{"$f":"IFERROR('NTC Thermistor Comparison'!F233-'NTC Thermistor Comparison'!F232,NA())","v":{"$error":"#N/A"}},{"$f":"IFERROR((K390-J390)/'NTC Thermistor Comparison'!H232,NA())","v":{"$error":"#N/A"}},{"$f":"IF(B611<=VLOOKUP(Main!$N$22,Coefficients!$E$2:$H$28,4,FALSE),($B$41+((B390-$B$256))*($B$41/1000000)*$B$43)+($B$41*$B$42),NA())","v":{"$error":"#N/A"}},{"$f":"IF(B611<=VLOOKUP(Main!$N$22,Coefficients!$E$2:$H$28,4,FALSE),$G$33+(($B$256-B390)*(($B$32*(1-$B$33))/1000000)),NA())","v":{"$error":"#N/A"}},{"$error":"#N/A"},{"$error":"#N/A"},{"$error":"#N/A"}]
[201,160,{"$error":"#N/A"},{"$error":"#N/A"},{"$f":"IF(B612<=VLOOKUP(Main!$N$22,Coefficients!$E$2:$H$28,4,FALSE),(F391/(I391+N391))*I391,NA())","v":{"$error":"#N/A"}},{"$f":"IF(B612<=VLOOKUP(Main!$N$22,Coefficients!$E$2:$H$28,4,FALSE),$E$33+(($B$256-B391)*(($B$32*(1-$B$33))/1000000)),NA())","v":{"$error":"#N/A"}},{"$f":"IF(B612<=VLOOKUP(Main!$N$22,Coefficients!$E$2:$H$28,4,FALSE),($B$41-((B391-$B$256))*($B$41/1000000)*$B$43)-($B$41*$B$42),NA())","v":{"$error":"#N/A"}},{"$f":"IFERROR((I391-J391)/'NTC Thermistor Comparison'!H233,NA())","v":{"$error":"#N/A"}},{"$f":"IF(B612<=VLOOKUP(Main!$N$22,Coefficients!$E$2:$H$28,4,FALSE),($F$171*B391^4 + $E$171*B391^3 + $D$171*B391^2 + $C$171*B391 + $B$171)*0.985,NA())","v":{"$error":"#N/A"}},{"$f":"'Device Resistance Tables'!D220","v":{"$error":"#N/A"}},{"$f":"IF(B612<=VLOOKUP(Main!$N$22,Coefficients!$E$2:$H$28,4,FALSE),($F$184*B391^4 + $E$184*B391^3 + $D$184*B391^2 + $C$184*B391 + $B$184)*1.015,NA())","v":{"$error":"#N/A"}},{"$f":"IFERROR('NTC Thermistor Comparison'!F234-'NTC Thermistor Comparison'!F233,NA())","v":{"$error":"#N/A"}},{"$f":"IFERROR((K391-J391)/'NTC Thermistor Comparison'!H233,NA())","v":{"$error":"#N/A"}},{"$f":"IF(B612<=VLOOKUP(Main!$N$22,Coefficients!$E$2:$H$28,4,FALSE),($B$41+((B391-$B$256))*($B$41/1000000)*$B$43)+($B$41*$B$42),NA())","v":{"$error":"#N/A"}},{"$f":"IF(B612<=VLOOKUP(Main!$N$22,Coefficients!$E$2:$H$28,4,FALSE),$G$33+(($B$256-B391)*(($B$32*(1-$B$33))/1000000)),NA())","v":{"$error":"#N/A"}},{"$error":"#N/A"},{"$error":"#N/A"},{"$error":"#N/A"}]
[202,161,{"$error":"#N/A"},{"$error":"#N/A"},{"$f":"IF(B613<=VLOOKUP(Main!$N$22,Coefficients!$E$2:$H$28,4,FALSE),(F392/(I392+N392))*I392,NA())","v":{"$error":"#N/A"}},{"$f":"IF(B613<=VLOOKUP(Main!$N$22,Coefficients!$E$2:$H$28,4,FALSE),$E$33+(($B$256-B392)*(($B$32*(1-$B$33))/1000000)),NA())","v":{"$error":"#N/A"}},{"$f":"IF(B613<=VLOOKUP(Main!$N$22,Coefficients!$E$2:$H$28,4,FALSE),($B$41-((B392-$B$256))*($B$41/1000000)*$B$43)-($B$41*$B$42),NA())","v":{"$error":"#N/A"}},{"$f":"IFERROR((I392-J392)/'NTC Thermistor Comparison'!H234,NA())","v":{"$error":"#N/A"}},{"$f":"IF(B613<=VLOOKUP(Main!$N$22,Coefficients!$E$2:$H$28,4,FALSE),($F$171*B392^4 + $E$171*B392^3 + $D$171*B392^2 + $C$171*B392 + $B$171)*0.985,NA())","v":{"$error":"#N/A"}},{"$f":"'Device Resistance Tables'!D221","v":{"$error":"#N/A"}},{"$f":"IF(B613<=VLOOKUP(Main!$N$22,Coefficients!$E$2:$H$28,4,FALSE),($F$184*B392^4 + $E$184*B392^3 + $D$184*B392^2 + $C$184*B392 + $B$184)*1.015,NA())","v":{"$error":"#N/A"}},{"$f":"IFERROR('NTC Thermistor Comparison'!F235-'NTC Thermistor Comparison'!F234,NA())","v":{"$error":"#N/A"}},{"$f":"IFERROR((K392-J392)/'NTC Thermistor Comparison'!H234,NA())","v":{"$error":"#N/A"}},{"$f":"IF(B613<=VLOOKUP(Main!$N$22,Coefficients!$E$2:$H$28,4,FALSE),($B$41+((B392-$B$256))*($B$41/1000000)*$B$43)+($B$41*$B$42),NA())","v":{"$error":"#N/A"}},{"$f":"IF(B613<=VLOOKUP(Main!$N$22,Coefficients!$E$2:$H$28,4,FALSE),$G$33+(($B$256-B392)*(($B$32*(1-$B$33))/1000000)),NA())","v":{"$error":"#N/A"}},{"$error":"#N/A"},{"$error":"#N/A"},{"$error":"#N/A"}]
[203,162,{"$error":"#N/A"},{"$error":"#N/A"},{"$f":"IF(B614<=VLOOKUP(Main!$N$22,Coefficients!$E$2:$H$28,4,FALSE),(F393/(I393+N393))*I393,NA())","v":{"$error":"#N/A"}},{"$f":"IF(B614<=VLOOKUP(Main!$N$22,Coefficients!$E$2:$H$28,4,FALSE),$E$33+(($B$256-B393)*(($B$32*(1-$B$33))/1000000)),NA())","v":{"$error":"#N/A"}},{"$f":"IF(B614<=VLOOKUP(Main!$N$22,Coefficients!$E$2:$H$28,4,FALSE),($B$41-((B393-$B$256))*($B$41/1000000)*$B$43)-($B$41*$B$42),NA())","v":{"$error":"#N/A"}},{"$f":"IFERROR((I393-J393)/'NTC Thermistor Comparison'!H235,NA())","v":{"$error":"#N/A"}},{"$f":"IF(B614<=VLOOKUP(Main!$N$22,Coefficients!$E$2:$H$28,4,FALSE),($F$171*B393^4 + $E$171*B393^3 + $D$171*B393^2 + $C$171*B393 + $B$171)*0.985,NA())","v":{"$error":"#N/A"}},{"$f":"'Device Resistance Tables'!D222","v":{"$error":"#N/A"}},{"$f":"IF(B614<=VLOOKUP(Main!$N$22,Coefficients!$E$2:$H$28,4,FALSE),($F$184*B393^4 + $E$184*B393^3 + $D$184*B393^2 + $C$184*B393 + $B$184)*1.015,NA())","v":{"$error":"#N/A"}},{"$f":"IFERROR('NTC Thermistor Comparison'!F236-'NTC Thermistor Comparison'!F235,NA())","v":{"$error":"#N/A"}},{"$f":"IFERROR((K393-J393)/'NTC Thermistor Comparison'!H235,NA())","v":{"$error":"#N/A"}},{"$f":"IF(B614<=VLOOKUP(Main!$N$22,Coefficients!$E$2:$H$28,4,FALSE),($B$41+((B393-$B$256))*($B$41/1000000)*$B$43)+($B$41*$B$42),NA())","v":{"$error":"#N/A"}},{"$f":"IF(B614<=VLOOKUP(Main!$N$22,Coefficients!$E$2:$H$28,4,FALSE),$G$33+(($B$256-B393)*(($B$32*(1-$B$33))/1000000)),NA())","v":{"$error":"#N/A"}},{"$error":"#N/A"},{"$error":"#N/A"},{"$error":"#N/A"}]
[204,163,{"$error":"#N/A"},{"$error":"#N/A"},{"$f":"IF(B615<=VLOOKUP(Main!$N$22,Coefficients!$E$2:$H$28,4,FALSE),(F394/(I394+N394))*I394,NA())","v":{"$error":"#N/A"}},{"$f":"IF(B615<=VLOOKUP(Main!$N$22,Coefficients!$E$2:$H$28,4,FALSE),$E$33+(($B$256-B394)*(($B$32*(1-$B$33))/1000000)),NA())","v":{"$error":"#N/A"}},{"$f":"IF(B615<=VLOOKUP(Main!$N$22,Coefficients!$E$2:$H$28,4,FALSE),($B$41-((B394-$B$256))*($B$41/1000000)*$B$43)-($B$41*$B$42),NA())","v":{"$error":"#N/A"}},{"$f":"IFERROR((I394-J394)/'NTC Thermistor Comparison'!H236,NA())","v":{"$error":"#N/A"}},{"$f":"IF(B615<=VLOOKUP(Main!$N$22,Coefficients!$E$2:$H$28,4,FALSE),($F$171*B394^4 + $E$171*B394^3 + $D$171*B394^2 + $C$171*B394 + $B$171)*0.985,NA())","v":{"$error":"#N/A"}},{"$f":"'Device Resistance Tables'!D223","v":{"$error":"#N/A"}},{"$f":"IF(B615<=VLOOKUP(Main!$N$22,Coefficients!$E$2:$H$28,4,FALSE),($F$184*B394^4 + $E$184*B394^3 + $D$184*B394^2 + $C$184*B394 + $B$184)*1.015,NA())","v":{"$error":"#N/A"}},{"$f":"IFERROR('NTC Thermistor Comparison'!F237-'NTC Thermistor Comparison'!F236,NA())","v":{"$error":"#N/A"}},{"$f":"IFERROR((K394-J394)/'NTC Thermistor Comparison'!H236,NA())","v":{"$error":"#N/A"}},{"$f":"IF(B615<=VLOOKUP(Main!$N$22,Coefficients!$E$2:$H$28,4,FALSE),($B$41+((B394-$B$256))*($B$41/1000000)*$B$43)+($B$41*$B$42),NA())","v":{"$error":"#N/A"}},{"$f":"IF(B615<=VLOOKUP(Main!$N$22,Coefficients!$E$2:$H$28,4,FALSE),$G$33+(($B$256-B394)*(($B$32*(1-$B$33))/1000000)),NA())","v":{"$error":"#N/A"}},{"$error":"#N/A"},{"$error":"#N/A"},{"$error":"#N/A"}]
[205,164,{"$error":"#N/A"},{"$error":"#N/A"},{"$f":"IF(B616<=VLOOKUP(Main!$N$22,Coefficients!$E$2:$H$28,4,FALSE),(F395/(I395+N395))*I395,NA())","v":{"$error":"#N/A"}},{"$f":"IF(B616<=VLOOKUP(Main!$N$22,Coefficients!$E$2:$H$28,4,FALSE),$E$33+(($B$256-B395)*(($B$32*(1-$B$33))/1000000)),NA())","v":{"$error":"#N/A"}},{"$f":"IF(B616<=VLOOKUP(Main!$N$22,Coefficients!$E$2:$H$28,4,FALSE),($B$41-((B395-$B$256))*($B$41/1000000)*$B$43)-($B$41*$B$42),NA())","v":{"$error":"#N/A"}},{"$f":"IFERROR((I395-J395)/'NTC Thermistor Comparison'!H237,NA())","v":{"$error":"#N/A"}},{"$f":"IF(B616<=VLOOKUP(Main!$N$22,Coefficients!$E$2:$H$28,4,FALSE),($F$171*B395^4 + $E$171*B395^3 + $D$171*B395^2 + $C$171*B395 + $B$171)*0.985,NA())","v":{"$error":"#N/A"}},{"$f":"'Device Resistance Tables'!D224","v":{"$error":"#N/A"}},{"$f":"IF(B616<=VLOOKUP(Main!$N$22,Coefficients!$E$2:$H$28,4,FALSE),($F$184*B395^4 + $E$184*B395^3 + $D$184*B395^2 + $C$184*B395 + $B$184)*1.015,NA())","v":{"$error":"#N/A"}},{"$f":"IFERROR('NTC Thermistor Comparison'!F238-'NTC Thermistor Comparison'!F237,NA())","v":{"$error":"#N/A"}},{"$f":"IFERROR((K395-J395)/'NTC Thermistor Comparison'!H237,NA())","v":{"$error":"#N/A"}},{"$f":"IF(B616<=VLOOKUP(Main!$N$22,Coefficients!$E$2:$H$28,4,FALSE),($B$41+((B395-$B$256))*($B$41/1000000)*$B$43)+($B$41*$B$42),NA())","v":{"$error":"#N/A"}},{"$f":"IF(B616<=VLOOKUP(Main!$N$22,Coefficients!$E$2:$H$28,4,FALSE),$G$33+(($B$256-B395)*(($B$32*(1-$B$33))/1000000)),NA())","v":{"$error":"#N/A"}},{"$error":"#N/A"},{"$error":"#N/A"},{"$error":"#N/A"}]
[206,165,{"$error":"#N/A"},{"$error":"#N/A"},{"$f":"IF(B617<=VLOOKUP(Main!$N$22,Coefficients!$E$2:$H$28,4,FALSE),(F396/(I396+N396))*I396,NA())","v":{"$error":"#N/A"}},{"$f":"IF(B617<=VLOOKUP(Main!$N$22,Coefficients!$E$2:$H$28,4,FALSE),$E$33+(($B$256-B396)*(($B$32*(1-$B$33))/1000000)),NA())","v":{"$error":"#N/A"}},{"$f":"IF(B617<=VLOOKUP(Main!$N$22,Coefficients!$E$2:$H$28,4,FALSE),($B$41-((B396-$B$256))*($B$41/1000000)*$B$43)-($B$41*$B$42),NA())","v":{"$error":"#N/A"}},{"$f":"IFERROR((I396-J396)/'NTC Thermistor Comparison'!H238,NA())","v":{"$error":"#N/A"}},{"$f":"IF(B617<=VLOOKUP(Main!$N$22,Coefficients!$E$2:$H$28,4,FALSE),($F$171*B396^4 + $E$171*B396^3 + $D$171*B396^2 + $C$171*B396 + $B$171)*0.985,NA())","v":{"$error":"#N/A"}},{"$f":"'Device Resistance Tables'!D225","v":{"$error":"#N/A"}},{"$f":"IF(B617<=VLOOKUP(Main!$N$22,Coefficients!$E$2:$H$28,4,FALSE),($F$184*B396^4 + $E$184*B396^3 + $D$184*B396^2 + $C$184*B396 + $B$184)*1.015,NA())","v":{"$error":"#N/A"}},{"$f":"IFERROR('NTC Thermistor Comparison'!F239-'NTC Thermistor Comparison'!F238,NA())","v":{"$error":"#N/A"}},{"$f":"IFERROR((K396-J396)/'NTC Thermistor Comparison'!H238,NA())","v":{"$error":"#N/A"}},{"$f":"IF(B617<=VLOOKUP(Main!$N$22,Coefficients!$E$2:$H$28,4,FALSE),($B$41+((B396-$B$256))*($B$41/1000000)*$B$43)+($B$41*$B$42),NA())","v":{"$error":"#N/A"}},{"$f":"IF(B617<=VLOOKUP(Main!$N$22,Coefficients!$E$2:$H$28,4,FALSE),$G$33+(($B$256-B396)*(($B$32*(1-$B$33))/1000000)),NA())","v":{"$error":"#N/A"}},{"$error":"#N/A"},{"$error":"#N/A"},{"$error":"#N/A"}]
[207,166,{"$error":"#N/A"},{"$error":"#N/A"},{"$f":"IF(B618<=VLOOKUP(Main!$N$22,Coefficients!$E$2:$H$28,4,FALSE),(F397/(I397+N397))*I397,NA())","v":{"$error":"#N/A"}},{"$f":"IF(B618<=VLOOKUP(Main!$N$22,Coefficients!$E$2:$H$28,4,FALSE),$E$33+(($B$256-B397)*(($B$32*(1-$B$33))/1000000)),NA())","v":{"$error":"#N/A"}},{"$f":"IF(B618<=VLOOKUP(Main!$N$22,Coefficients!$E$2:$H$28,4,FALSE),($B$41-((B397-$B$256))*($B$41/1000000)*$B$43)-($B$41*$B$42),NA())","v":{"$error":"#N/A"}},{"$f":"IFERROR((I397-J397)/'NTC Thermistor Comparison'!H239,NA())","v":{"$error":"#N/A"}},{"$f":"IF(B618<=VLOOKUP(Main!$N$22,Coefficients!$E$2:$H$28,4,FALSE),($F$171*B397^4 + $E$171*B397^3 + $D$171*B397^2 + $C$171*B397 + $B$171)*0.985,NA())","v":{"$error":"#N/A"}},{"$f":"'Device Resistance Tables'!D226","v":{"$error":"#N/A"}},{"$f":"IF(B618<=VLOOKUP(Main!$N$22,Coefficients!$E$2:$H$28,4,FALSE),($F$184*B397^4 + $E$184*B397^3 + $D$184*B397^2 + $C$184*B397 + $B$184)*1.015,NA())","v":{"$error":"#N/A"}},{"$f":"IFERROR('NTC Thermistor Comparison'!F240-'NTC Thermistor Comparison'!F239,NA())","v":{"$error":"#N/A"}},{"$f":"IFERROR((K397-J397)/'NTC Thermistor Comparison'!H239,NA())","v":{"$error":"#N/A"}},{"$f":"IF(B618<=VLOOKUP(Main!$N$22,Coefficients!$E$2:$H$28,4,FALSE),($B$41+((B397-$B$256))*($B$41/1000000)*$B$43)+($B$41*$B$42),NA())","v":{"$error":"#N/A"}},{"$f":"IF(B618<=VLOOKUP(Main!$N$22,Coefficients!$E$2:$H$28,4,FALSE),$G$33+(($B$256-B397)*(($B$32*(1-$B$33))/1000000)),NA())","v":{"$error":"#N/A"}},{"$error":"#N/A"},{"$error":"#N/A"},{"$error":"#N/A"}]
[208,167,{"$error":"#N/A"},{"$error":"#N/A"},{"$f":"IF(B619<=VLOOKUP(Main!$N$22,Coefficients!$E$2:$H$28,4,FALSE),(F398/(I398+N398))*I398,NA())","v":{"$error":"#N/A"}},{"$f":"IF(B619<=VLOOKUP(Main!$N$22,Coefficients!$E$2:$H$28,4,FALSE),$E$33+(($B$256-B398)*(($B$32*(1-$B$33))/1000000)),NA())","v":{"$error":"#N/A"}},{"$f":"IF(B619<=VLOOKUP(Main!$N$22,Coefficients!$E$2:$H$28,4,FALSE),($B$41-((B398-$B$256))*($B$41/1000000)*$B$43)-($B$41*$B$42),NA())","v":{"$error":"#N/A"}},{"$f":"IFERROR((I398-J398)/'NTC Thermistor Comparison'!H240,NA())","v":{"$error":"#N/A"}},{"$f":"IF(B619<=VLOOKUP(Main!$N$22,Coefficients!$E$2:$H$28,4,FALSE),($F$171*B398^4 + $E$171*B398^3 + $D$171*B398^2 + $C$171*B398 + $B$171)*0.985,NA())","v":{"$error":"#N/A"}},{"$f":"'Device Resistance Tables'!D227","v":{"$error":"#N/A"}},{"$f":"IF(B619<=VLOOKUP(Main!$N$22,Coefficients!$E$2:$H$28,4,FALSE),($F$184*B398^4 + $E$184*B398^3 + $D$184*B398^2 + $C$184*B398 + $B$184)*1.015,NA())","v":{"$error":"#N/A"}},{"$f":"IFERROR('NTC Thermistor Comparison'!F241-'NTC Thermistor Comparison'!F240,NA())","v":{"$error":"#N/A"}},{"$f":"IFERROR((K398-J398)/'NTC Thermistor Comparison'!H240,NA())","v":{"$error":"#N/A"}},{"$f":"IF(B619<=VLOOKUP(Main!$N$22,Coefficients!$E$2:$H$28,4,FALSE),($B$41+((B398-$B$256))*($B$41/1000000)*$B$43)+($B$41*$B$42),NA())","v":{"$error":"#N/A"}},{"$f":"IF(B619<=VLOOKUP(Main!$N$22,Coefficients!$E$2:$H$28,4,FALSE),$G$33+(($B$256-B398)*(($B$32*(1-$B$33))/1000000)),NA())","v":{"$error":"#N/A"}},{"$error":"#N/A"},{"$error":"#N/A"},{"$error":"#N/A"}]
[209,168,{"$error":"#N/A"},{"$error":"#N/A"},{"$f":"IF(B620<=VLOOKUP(Main!$N$22,Coefficients!$E$2:$H$28,4,FALSE),(F399/(I399+N399))*I399,NA())","v":{"$error":"#N/A"}},{"$f":"IF(B620<=VLOOKUP(Main!$N$22,Coefficients!$E$2:$H$28,4,FALSE),$E$33+(($B$256-B399)*(($B$32*(1-$B$33))/1000000)),NA())","v":{"$error":"#N/A"}},{"$f":"IF(B620<=VLOOKUP(Main!$N$22,Coefficients!$E$2:$H$28,4,FALSE),($B$41-((B399-$B$256))*($B$41/1000000)*$B$43)-($B$41*$B$42),NA())","v":{"$error":"#N/A"}},{"$f":"IFERROR((I399-J399)/'NTC Thermistor Comparison'!H241,NA())","v":{"$error":"#N/A"}},{"$f":"IF(B620<=VLOOKUP(Main!$N$22,Coefficients!$E$2:$H$28,4,FALSE),($F$171*B399^4 + $E$171*B399^3 + $D$171*B399^2 + $C$171*B399 + $B$171)*0.985,NA())","v":{"$error":"#N/A"}},{"$f":"'Device Resistance Tables'!D228","v":{"$error":"#N/A"}},{"$f":"IF(B620<=VLOOKUP(Main!$N$22,Coefficients!$E$2:$H$28,4,FALSE),($F$184*B399^4 + $E$184*B399^3 + $D$184*B399^2 + $C$184*B399 + $B$184)*1.015,NA())","v":{"$error":"#N/A"}},{"$f":"IFERROR('NTC Thermistor Comparison'!F242-'NTC Thermistor Comparison'!F241,NA())","v":{"$error":"#N/A"}},{"$f":"IFERROR((K399-J399)/'NTC Thermistor Comparison'!H241,NA())","v":{"$error":"#N/A"}},{"$f":"IF(B620<=VLOOKUP(Main!$N$22,Coefficients!$E$2:$H$28,4,FALSE),($B$41+((B399-$B$256))*($B$41/1000000)*$B$43)+($B$41*$B$42),NA())","v":{"$error":"#N/A"}},{"$f":"IF(B620<=VLOOKUP(Main!$N$22,Coefficients!$E$2:$H$28,4,FALSE),$G$33+(($B$256-B399)*(($B$32*(1-$B$33))/1000000)),NA())","v":{"$error":"#N/A"}},{"$error":"#N/A"},{"$error":"#N/A"},{"$error":"#N/A"}]
[210,169,{"$error":"#N/A"},{"$error":"#N/A"},{"$f":"IF(B621<=VLOOKUP(Main!$N$22,Coefficients!$E$2:$H$28,4,FALSE),(F400/(I400+N400))*I400,NA())","v":{"$error":"#N/A"}},{"$f":"IF(B621<=VLOOKUP(Main!$N$22,Coefficients!$E$2:$H$28,4,FALSE),$E$33+(($B$256-B400)*(($B$32*(1-$B$33))/1000000)),NA())","v":{"$error":"#N/A"}},{"$f":"IF(B621<=VLOOKUP(Main!$N$22,Coefficients!$E$2:$H$28,4,FALSE),($B$41-((B400-$B$256))*($B$41/1000000)*$B$43)-($B$41*$B$42),NA())","v":{"$error":"#N/A"}},{"$f":"IFERROR((I400-J400)/'NTC Thermistor Comparison'!H242,NA())","v":{"$error":"#N/A"}},{"$f":"IF(B621<=VLOOKUP(Main!$N$22,Coefficients!$E$2:$H$28,4,FALSE),($F$171*B400^4 + $E$171*B400^3 + $D$171*B400^2 + $C$171*B400 + $B$171)*0.985,NA())","v":{"$error":"#N/A"}},{"$f":"'Device Resistance Tables'!D229","v":{"$error":"#N/A"}},{"$f":"IF(B621<=VLOOKUP(Main!$N$22,Coefficients!$E$2:$H$28,4,FALSE),($F$184*B400^4 + $E$184*B400^3 + $D$184*B400^2 + $C$184*B400 + $B$184)*1.015,NA())","v":{"$error":"#N/A"}},{"$f":"IFERROR('NTC Thermistor Comparison'!F243-'NTC Thermistor Comparison'!F242,NA())","v":{"$error":"#N/A"}},{"$f":"IFERROR((K400-J400)/'NTC Thermistor Comparison'!H242,NA())","v":{"$error":"#N/A"}},{"$f":"IF(B621<=VLOOKUP(Main!$N$22,Coefficients!$E$2:$H$28,4,FALSE),($B$41+((B400-$B$256))*($B$41/1000000)*$B$43)+($B$41*$B$42),NA())","v":{"$error":"#N/A"}},{"$f":"IF(B621<=VLOOKUP(Main!$N$22,Coefficients!$E$2:$H$28,4,FALSE),$G$33+(($B$256-B400)*(($B$32*(1-$B$33))/1000000)),NA())","v":{"$error":"#N/A"}},{"$error":"#N/A"},{"$error":"#N/A"},{"$error":"#N/A"}]
[211,170,{"$error":"#N/A"},{"$error":"#N/A"},{"$f":"IF(B622<=VLOOKUP(Main!$N$22,Coefficients!$E$2:$H$28,4,FALSE),(F401/(I401+N401))*I401,NA())","v":{"$error":"#N/A"}},{"$f":"IF(B622<=VLOOKUP(Main!$N$22,Coefficients!$E$2:$H$28,4,FALSE),$E$33+(($B$256-B401)*(($B$32*(1-$B$33))/1000000)),NA())","v":{"$error":"#N/A"}},{"$f":"IF(B622<=VLOOKUP(Main!$N$22,Coefficients!$E$2:$H$28,4,FALSE),($B$41-((B401-$B$256))*($B$41/1000000)*$B$43)-($B$41*$B$42),NA())","v":{"$error":"#N/A"}},{"$f":"IFERROR((I401-J401)/'NTC Thermistor Comparison'!H243,NA())","v":{"$error":"#N/A"}},{"$f":"IF(B622<=VLOOKUP(Main!$N$22,Coefficients!$E$2:$H$28,4,FALSE),($F$171*B401^4 + $E$171*B401^3 + $D$171*B401^2 + $C$171*B401 + $B$171)*0.985,NA())","v":{"$error":"#N/A"}},{"$f":"'Device Resistance Tables'!D230","v":{"$error":"#N/A"}},{"$f":"IF(B622<=VLOOKUP(Main!$N$22,Coefficients!$E$2:$H$28,4,FALSE),($F$184*B401^4 + $E$184*B401^3 + $D$184*B401^2 + $C$184*B401 + $B$184)*1.015,NA())","v":{"$error":"#N/A"}},{"$f":"IFERROR('NTC Thermistor Comparison'!F244-'NTC Thermistor Comparison'!F243,NA())","v":{"$error":"#N/A"}},{"$f":"IFERROR((K401-J401)/'NTC Thermistor Comparison'!H243,NA())","v":{"$error":"#N/A"}},{"$f":"IF(B622<=VLOOKUP(Main!$N$22,Coefficients!$E$2:$H$28,4,FALSE),($B$41+((B401-$B$256))*($B$41/1000000)*$B$43)+($B$41*$B$42),NA())","v":{"$error":"#N/A"}},{"$f":"IF(B622<=VLOOKUP(Main!$N$22,Coefficients!$E$2:$H$28,4,FALSE),$G$33+(($B$256-B401)*(($B$32*(1-$B$33))/1000000)),NA())","v":{"$error":"#N/A"}},{"$error":"#N/A"},{"$error":"#N/A"},{"$error":"#N/A"}]
[]
[]
[]
[]
[]
[]
[]
[]
["With OFFSET CORRRECTION",null,null,null,null,null,null,"TMP6 Only","TMP6 Only","TMP6 Only","TMP6 Only"]
["Line #","Temperature (°C)","WC Temp Error Min With Offset","Offset Delta from Nominal sense Min","Offset calculated sense Min","Min Vdc ppm","RBias Ohms ppm","Expected  Resistance (Ω)","Expected mV/℃","RBias Ohms ppm","Max Vdc ppm","Offset calculated sense Max","Offset Delta from Nominal sense Max","WC Temp Error Max With Offset"]
[1,-40,null,"`",{"$f":"IFERROR(F412/(H412+J412)*H412,NA())","v":1.303941964968713},{"$f":"IFERROR($B$32+(($B$256-B191)*(($B$32*(1-$B$33))/1000000)),NA())","v":3.2980695},{"$f":"IFERROR(($B$41-(($B$477-B412))*($B$41/1000000)*$B$43),NA())","v":9993.5},{"$f":"IFERROR('Device Resistance Tables'!D20,NA())","v":6543.1598748044544},{"$f":"IFERROR(L191,NA())","v":5.1762689377674587E-3},{"$f":"IFERROR(($B$41+(($B$477-B412))*($B$41/1000000)*$B$43),NA())","v":10006.5},{"$f":"IFERROR($B$32-(($B$477-B412)*(($B$32*(1-$B$33))/1000000)),NA())","v":3.3019304999999997},{"$f":"IFERROR((K412/(H412+G412))*H412,NA())","v":1.3064947408098326}]
[2,{"$f":"B412+1","v":-39},{"$f":"IFERROR(D413/I413,NA())","v":-0.24302420025426444},{"$f":"IFERROR(E413-($B$32/(H413+$B$41)*H413),NA())","v":-1.2599334037191046E-3},1.3091341869156561,3.2980991999999998,9993.6,{"$f":"IFERROR('Device Resistance Tables'!D21,NA())","v":6586.1994764999499},5.1843948150056551E-3,10006.4,3.3019007999999999,1.3116550264216842,{"$f":"IFERROR(L413-($B$32/(H413+$B$41)*H413),NA())","v":1.2609061023090007E-3},{"$f":"IFERROR(M413/I413,NA())","v":0.24321182072388622}]
[3,{"$f":"B413+1","v":-38},-0.23956342785532919,-1.2438609494209718E-3,1.3143346541849599,3.2981289,9993.7000000000007,{"$f":"IFERROR('Device Resistance Tables'!D22,NA())","v":6629.5317056772819},5.1921988283292198E-3,10006.299999999999,3.3018710999999996,1.3168233188997507,1.2448037653698396E-3,0.23974501103040402]
[4,-37,-0.23610453710209983,-1.2276690002219759E-3,1.3195430449624881,3.2981585999999998,9993.7999999999993,{"$f":"IFERROR('Device Resistance Tables'!D23,NA())","v":6673.1566841711856},5.1996840691421742E-3,10006.200000000001,3.3018413999999998,1.3219992963327747,1.2285823700646237E-3,0.23628019582107243]
[5,-36,-0.23264674083853612,-1.2113575280563449E-3,1.3247590405037959,3.2981882999999996,9993.9,{"$f":"IFERROR('Device Resistance Tables'!D24,NA())","v":6717.0745398642093},5.2068536343565786E-3,10006.1,3.3018117,1.3271826399225657,1.2122418907134502E-3,0.23281658672229019]
[6,-35,-0.22918926883823887,-1.1949265261939068E-3,1.3299823251400149,3.2982179999999999,9994,{"$f":"IFERROR('Device Resistance Tables'!D25,NA())","v":6761.2854066867121},5.2137106255061294E-3,10006,3.3017819999999998,1.3323730339891238,1.1957823229149511E-3,0.22935341234034612]
[7,-34,-0.22573136719944747,-1.1783760088543982E-3,1.3352125862828605,3.2982476999999997,9994.1,{"$f":"IFERROR('Device Resistance Tables'!D26,NA())","v":6805.7894246168671},5.2202581478772991E-3,10005.9,3.3017523,1.3375701659748802,1.1792036831652641E-3,0.2258899176556548]
[8,-33,-0.22227229776551596,-1.1617060108273236E-3,1.3404495144287649,3.2982773999999999,9994.2000000000007,{"$f":"IFERROR('Device Resistance Tables'!D27,NA())","v":6850.5867396806625},5.2264993096569068E-3,10005.799999999999,3.3017225999999997,1.3427737264480653,1.1625060084730077E-3,0.22242536344070049]
[9,-32,-0.21881133756902896,-1.1449165870942579E-3,1.3456928031621549,3.2983070999999997,9994.2999999999993,{"$f":"IFERROR('Device Resistance Tables'!D28,NA())","v":6895.6775039518952},5.2324372210972303E-3,10005.700000000001,3.3016928999999999,1.3479834091052285,1.1456893559793624E-3,0.21895902570219733]
[10,-31,-0.21534777829625007,-1.1280078124431547E-3,1.3509421491579032,3.2983368,9994.4,{"$f":"IFERROR('Device Resistance Tables'!D29,NA())","v":6941.0618755521764},5.2380749937033233E-3,10005.6,3.3016631999999997,1.3531989107729248,1.128753802578375E-3,0.21549019514521023]
[11,-30,-0.21188092577560963,-1.1109797810970878E-3,1.3561972521829526,3.2983664999999998,9994.5,{"$f":"IFERROR('Device Resistance Tables'!D30,NA())","v":6986.7400186509285},5.243415739431212E-3,10005.5,3.3016334999999999,1.3584199314085859,1.1116994445361517E-3,0.21201817665839806]
[12,-29,-0.20841009948436345,-1.0938326063336667E-3,1.3614578150971473,3.2983962,9994.6,{"$f":"IFERROR('Device Resistance Tables'!D31,NA())","v":7032.712103465391},5.2484625699040777E-3,10005.4,3.3016037999999996,1.3636461741005943,1.0945263971133823E-3,0.20854228881990219]
[13,-28,-0.20493463207501189,-1.0765664201100034E-3,1.366723543853275,3.2984258999999998,9994.7000000000007,{"$f":"IFERROR('Device Resistance Tables'!D32,NA())","v":7078.9783062606102},5.2532185956541966E-3,10005.299999999999,3.3015740999999998,1.3688773450675762,1.0772347941911953E-3,0.20506186342261748]
[14,-27,-0.20145386892078085,-1.0591813726898991E-3,1.3719941474963493,3.2984556,9994.7999999999993,{"$f":"IFERROR('Device Resistance Tables'!D33,NA())","v":7125.5388093494503},5.2576869253695424E-3,10005.200000000001,3.3015443999999996,1.3741131536569322,1.0598247878930156E-3,0.20157624501738938]
[15,-26,-0.19796716767784914,-1.0416776322703658E-3,1.3772693381621384,3.2984852999999998,9994.9,{"$f":"IFERROR('Device Resistance Tables'!D34,NA())","v":7172.3938010925849},5.2618706651674785E-3,10005.1,3.3015146999999998,1.3793533123426232,1.0422965482144164E-3,0.19808479047465175]
[16,-25,-0.19447389786534172,-1.02405538461392E-3,1.3825488310749623,3.2985149999999996,9995,{"$f":"IFERROR('Device Resistance Tables'!D35,NA())","v":7219.543475898502},5.2657729178802182E-3,10005,3.301485,1.3845975367222279,1.0246502626516385E-3,0.19458686856252058]
[17,-24,-0.19097344045989337,-1.0063148326755478E-3,1.3878323445447809,3.2985446999999999,9995.1,{"$f":"IFERROR('Device Resistance Tables'!D36,NA())","v":7266.9880342235001},5.2693967823598253E-3,10004.9,3.3014552999999998,1.3898455455132874,1.0068861358309977E-3,0.19108185954068121]
[18,-23,-0.18746518750775748,-9.8845619624299275E-4,1.3931195999635733,3.2985743999999997,9995.2000000000007,{"$f":"IFERROR('Device Resistance Tables'!D37,NA())","v":7314.7276825716917},5.2727453527983137E-3,10004.799999999999,3.3014256,1.395097060548961,9.8900438914473199E-4,0.18756915477055131]
[19,-22,-0.18394854174929998,-9.7047971156727364E-4,1.3984103218010473,3.2986040999999999,9995.2999999999993,{"$f":"IFERROR('Device Resistance Tables'!D38,NA())","v":7362.7626334950037},5.2758217180646216E-3,10004.700000000001,3.3013958999999997,1.4003518067729988,9.7100526038418344E-4,0.18404815633921501]
[20,-21,-0.18042291625877382,-9.5238563100275009E-4,1.4037042375996764,3.2986337999999997,9995.4,{"$f":"IFERROR('Device Resistance Tables'!D39,NA())","v":7411.0931055931715},5.2786289610615711E-3,10004.6,3.3013661999999999,1.4056095122340591,9.5288900337986426E-4,0.18051827669816581]
[21,-20,-0.17688773409789377,-9.3417422265029693E-4,1.4090010779690905,3.2986635,9995.5,{"$f":"IFERROR('Device Resistance Tables'!D40,NA())","v":7459.7193235137465},5.2811701580919301E-3,10004.5,3.3013364999999997,1.410869908079379,9.3465588763819163E-4,0.17697893831466316]
[22,-19,-0.17334242798077865,-9.158457699969258E-4,1.4143005765798358,3.2986931999999998,9995.6,{"$f":"IFERROR('Device Resistance Tables'!D41,NA())","v":7508.6415179520945},5.2834483782497887E-3,10004.4,3.3013067999999999,1.416132728547822,9.16306197989325E-4,0.17342957333726489]
[23,-18,-0.16978643995258438,-8.974005715640665E-4,1.4196024701565184,3.2987229,9995.7000000000007,{"$f":"IFERROR('Device Resistance Tables'!D42,NA())","v":7557.8599256513871},5.2854666828203722E-3,10004.299999999999,3.3012770999999996,1.4213977109623102,8.9784023422767589E-4,0.16986962327205141]
[24,-17,-0.16621922107913323,-8.7883894055540424E-4,1.4249064984703474,3.2987525999999998,9995.7999999999993,{"$f":"IFERROR('Device Resistance Tables'!D43,NA())","v":7607.3747894026164},5.2872281247005048E-3,10004.200000000001,3.3012473999999998,1.4266645957216675,8.7925831076463012E-4,0.16629853867227182]
[25,-16,-0.1626402311478076,-8.6016120450760347E-4,1.4302124043310958,3.2987822999999996,9995.9,{"$f":"IFERROR('Device Resistance Tables'!D44,NA())","v":7657.1863580445815},5.2887357478352826E-3,10004.1,3.3012177,1.43193312629188,8.6056075627660711E-4,0.1627157788378519]
[26,-15,-0.1590489383799229,-8.4136770494658286E-4,1.4355199335784921,3.2988119999999999,9996,{"$f":"IFERROR('Device Resistance Tables'!D45,NA())","v":7707.2948864638975},5.2899925866640718E-3,10004,3.3011879999999998,1.4372030491967971,8.4174791335844823E-4,0.1591208115263662]
[27,-14,-0.15544481915225145,-8.2245879704245795E-4,1.4408288350730603,3.2988416999999997,9996.1,{"$f":"IFERROR('Device Resistance Tables'!D46,NA())","v":7757.7006355949907},5.2910016655935976E-3,10003.9,3.3011583,1.4424741140082888,8.2282013818613109E-4,0.15551311267520057]
[28,-13,-0.1518273577296527,-8.034348492718113E-4,1.4461388606864245,3.2988713999999999,9996.2000000000007,{"$f":"IFERROR('Device Resistance Tables'!D47,NA())","v":7808.4038724201},5.2917659984732524E-3,10003.799999999999,3.3011285999999997,1.4477460733358656,8.037778001692697E-4,0.15189216613152787]
[29,-12,-0.14819604600658975,-7.8429624308151702E-4,1.451449765291088,3.2989010999999997,9996.2999999999993,{"$f":"IFERROR('Device Resistance Tables'!D48,NA())","v":7859.4048699692758},5.292288588095273E-3,10003.700000000001,3.3010988999999999,1.4530186828157887,7.8462128161915778E-4,0.1482574633938373]
[30,-11,-0.14455038325674122,-7.6504337255012267E-4,1.4567613067497147,3.2989307999999999,9996.4,{"$f":"IFERROR('Device Resistance Tables'!D49,NA())","v":7910.703907320385},5.2925724257077977E-3,10003.6,3.3010691999999997,1.4582917010996801,7.6535097741525782E-4,0.14460850336174744]
[31,-10,-0.1408898758939203,-7.4567664406566259E-4,1.462073245903907,3.2989604999999997,9996.5,{"$f":"IFERROR('Device Resistance Tables'!D50,NA())","v":7962.3012695991047},5.2926204905390239E-3,10003.5,3.3010394999999999,1.4635648898426463,7.4596729467368839E-4,0.14094479209441971]
[32,-9,-0.13721403723853581,-7.2619647599259096E-4,1.4673853465625191,3.2989902,9996.6,{"$f":"IFERROR('Device Resistance Tables'!D51,NA())","v":8014.1972479789247},5.2924357493406848E-3,10003.4,3.3010097999999997,1.4688380136909314,7.2647065241970843E-4,0.13726584257734445]
[33,-8,-0.13352238729397245,-7.0660329835181557E-4,1.4726973754895005,{"$f":"IFERROR($B$32+(($B$256-B223)*(($B$32*(1-$B$33))/1000000)),NA())","v":3.2990198999999998},{"$f":"IFERROR(($B$41-(($B$477-B444))*($B$41/1000000)*$B$43),NA())","v":9996.7000000000007},{"$f":"IFERROR('Device Resistance Tables'!D52,NA())","v":8066.3921396811456},5.292021155943738E-3,{"$f":"IFERROR(($B$41+(($B$477-B444))*($B$41/1000000)*$B$43),NA())","v":10003.299999999999},{"$f":"IFERROR($B$32-(($B$477-B444)*(($B$32*(1-$B$33))/1000000)),NA())","v":3.3009800999999999},1.4741108402691183,7.0686148126597459E-4,0.13357117449767988]
[34,-7,-0.12981445252947299,-6.8689755249806694E-4,1.478009102391298,3.2990496,9996.7999999999993,{"$f":"IFERROR('Device Resistance Tables'!D53,NA())","v":8118.886247974885},5.2913796508298194E-3,10003.200000000001,3.3009503999999996,1.479383140166888,6.8714022309190881E-4,0.12986031402682441]
[35,-6,-0.12608976567146216,-6.6707969080592733E-4,1.48332029990382,3.2990792999999998,9996.9,{"$f":"IFERROR('Device Resistance Tables'!D54,NA())","v":8171.679882177069},5.2905141607135775E-3,10003.1,3.3009206999999998,1.4846546869253521,6.6730733072617454E-4,0.12613279361039817]
[36,-5,-0.12234786550068816,-6.4715017635341709E-4,1.4886307435789861,3.2991089999999996,9997,{"$f":"IFERROR('Device Resistance Tables'!D55,NA())","v":8224.7733576524406},5.2894275981445471E-3,10003,3.300891,1.4899252570229755,6.4736326763603635E-4,0.12238815176582089]
[37,-4,-0.11858829665764879,-6.2710948261623933E-4,1.4939402118708678,3.2991386999999999,9997.1,{"$f":"IFERROR('Device Resistance Tables'!D56,NA())","v":8278.1669958135499},5.2881228611170172E-3,10002.9,3.3008612999999998,1.4951946298610994,6.2730850761538726E-4,0.11862593288592392]
[38,-3,-0.11481060945326201,-6.0695809315935989E-4,1.4992484861214417,3.2991683999999997,9997.2000000000007,{"$f":"IFERROR('Device Resistance Tables'!D57,NA())","v":8331.8611241207655},5.2866028326976622E-3,10002.799999999999,3.3008316,1.500462587749082,6.0714353448099168E-4,0.11484568704987751]
[39,-2,-0.11101435968640198,-5.8669650133502671E-4,1.5045553505459637,3.2991980999999999,9997.2999999999993,{"$f":"IFERROR('Device Resistance Tables'!D58,NA())","v":8385.8560760822656},5.2848703806638309E-3,10002.700000000001,3.3008018999999997,1.5057289158890681,5.8686884176939458E-4,0.11104696983990706]
[40,-1,-0.10719910846736773,-5.6632520998434188E-4,1.5098605922179782,3.2992277999999997,9997.4,{"$f":"IFERROR('Device Resistance Tables'!D59,NA())","v":8440.1521912540393},5.2829283571582675E-3,10002.6,3.3007721999999999,1.5109934023604015,5.6648493243893761E-4,0.10722934216424898]
[41,0,-0.10336442204733005,-5.458447311428305E-4,1.515164001053978,3.2992575,9997.5,{"$f":"IFERROR('Device Resistance Tables'!D60,NA())","v":8494.749815239893},5.2807795983504935E-3,10002.5,3.3007424999999997,1.5162558381036948,5.4599231857399566E-4,0.10339237008576196]
[42,1,-9.9509871652874463E-2,-5.2525558574845199E-4,1.5204653697977228,3.2992871999999998,9997.6,{"$f":"IFERROR('Device Resistance Tables'!D61,NA())","v":8549.6492996914403},5.2784269241219484E-3,10002.4,3.3007127999999999,1.5215160169045687,5.2539152109742915E-4,9.9535624656739291E-2]
[43,2,-9.5635033326353827E-2,-5.0455830335427443E-4,1.525764494004239,3.2993169,9997.7000000000007,{"$f":"IFERROR('Device Resistance Tables'!D62,NA())","v":8604.851002308118},5.275873137749354E-3,10002.299999999999,3.3006830999999996,1.5267737353770723,5.046830694790394E-4,9.5658681757903916E-2]
[44,3,-9.1739487771308817E-2,-4.8375342184603376E-4,1.5310611720234966,3.2993465999999998,9997.7999999999993,{"$f":"IFERROR('Device Resistance Tables'!D63,NA())","v":8660.3552868371589},5.2731210256149463E-3,10002.200000000001,3.3006533999999998,1.5320287929467975,4.8386750145490431E-4,9.1761121943617088E-2]
[45,4,-8.7822820202427099E-2,-4.6284148716013718E-4,1.5363552049837974,3.2993763,9997.9,{"$f":"IFERROR('Device Resistance Tables'!D64,NA())","v":8716.1625230736208},5.2701733569169296E-3,10002.1,3.3006236999999996,1.5372809918337054,4.6294536274782416E-4,8.7842530291764226E-2]
[46,5,-8.3884620200679952E-2,-4.4182305300854985E-4,1.5416463967748659,3.2994059999999998,9998,{"$f":"IFERROR('Device Resistance Tables'!D65,NA())","v":8772.2730868603721},5.2670328834005797E-3,10002,3.3005939999999998,1.5425301370346656,4.4191720679109814E-4,8.390249625815531E-2]
[47,6,-7.9924481573065559E-2,-4.2069868060723437E-4,1.5469345540306678,3.2994356999999996,9998.1,{"$f":"IFERROR('Device Resistance Tables'!D66,NA())","v":8828.6873600880917},5.2637023390966764E-3,10001.9,3.3005643,1.5477760363057318,4.2078359445674174E-4,7.9940613535710303E-2]
[48,7,-7.5942002216450033E-2,-3.9946893840681064E-4,1.5522194861119649,3.2994653999999999,9998.2000000000007,{"$f":"IFERROR('Device Resistance Tables'!D67,NA())","v":8885.4057306952727},5.2601844400710362E-3,10001.799999999999,3.3005345999999998,1.5530185001441597,3.9954509378792302E-4,7.5956479918131412E-2]
[49,8,-7.1936783986127878E-2,-3.7813440182987712E-4,1.5575010050886129,3.2994950999999997,9998.2999999999993,{"$f":"IFERROR('Device Resistance Tables'!D68,NA())","v":8942.4285926682205},5.2564818841887018E-3,10001.700000000001,3.3005049,1.5582573417701768,3.782022797340634E-4,7.1949697167544985E-2]
[50,9,-6.7908432567226992E-2,-3.5669565300544548E-4,1.562778925721626,3.2995247999999999,9998.4,{"$f":"IFERROR('Device Resistance Tables'!D69,NA())","v":8999.7563460410547},5.2525973508861235E-3,10001.6,3.3004751999999997,1.5634923771085238,3.5675573389237769E-4,6.7919870886770387E-2]
[51,10,-6.3856557352077389E-2,-3.3515328051825222E-4,1.5680530654449993,3.2995544999999997,9998.5,{"$f":"IFERROR('Device Resistance Tables'!D70,NA())","v":9057.3893968957},5.2485335009584411E-3,10001.5,3.3004454999999999,1.5687234247697677,3.3520604425008038E-4,6.3866610394859441E-2]
[52,11,-5.9780771319714085E-2,-3.1350787915274125E-4,1.5733232443473233,3.2995842,9998.6,{"$f":"IFERROR('Device Resistance Tables'!D71,NA())","v":9115.3281573619097},5.2442929763496515E-3,10001.4,3.3004157999999997,1.5739503060314086,3.13553804932587E-4,5.9789528606931416E-2]
[53,12,-5.5680690919151447E-2,-2.9176004964237556E-4,1.5785892851531833,3.2996138999999998,9998.7000000000007,{"$f":"IFERROR('Device Resistance Tables'!D72,NA())","v":9173.5730456172296},5.2398783999647591E-3,10001.299999999999,3.3003860999999999,1.5791728448187798,2.9179961595415804E-4,5.5688241917240013E-2]
[54,13,-5.1555935957433768E-2,-2.6991039842871878E-4,1.5838510132043617,3.2996436,9998.7999999999993,{"$f":"IFERROR('Device Resistance Tables'!D73,NA())","v":9232.1244858870341},5.2352923754805936E-3,10001.200000000001,3.3003563999999996,1.584390867685765,2.6994408297453809E-4,5.1562370086304404E-2]
[55,14,-4.7406129489335314E-2,-2.4795953741585386E-4,1.5891082564408552,3.2996732999999998,9998.9,{"$f":"IFERROR('Device Resistance Tables'!D74,NA())","v":9290.9829084445009},5.2305374871752797E-3,10001.1,3.3003266999999998,1.5896042037953286,2.4798781705759332E-4,4.7411536130967998E-2]
[56,15,-4.3230897711625173E-2,-2.2590808373523785E-4,1.5943608453817111,3.2997029999999996,9999,{"$f":"IFERROR('Device Resistance Tables'!D75,NA())","v":9350.1487496106292},5.2256162997625921E-3,10001,3.300297,1.5948126848998816,2.2593143443527808E-4,4.3235366218055946E-2]
[57,16,-3.9029869859846557E-2,-2.0375665951144484E-4,1.5996086131056975,3.2997326999999999,9999.1,{"$f":"IFERROR('Device Resistance Tables'!D76,NA())","v":9409.6224517542214},5.2205313582422974E-3,10000.9,3.3002672999999998,1.6000161453214816,2.0377555627271171E-4,3.9033489560595415E-2]
[58,17,-3.4802678108373564E-2,-1.815058916325718E-4,1.6048513952318186,3.2997623999999997,9999.2000000000007,{"$f":"IFERROR('Device Resistance Tables'!D77,NA())","v":9469.4044632918994},5.2152851877482753E-3,10000.799999999999,3.3002376,1.6052144219318913,1.8152080844013874E-4,3.4805538317744661E-2]
[59,18,-3.0548957473116218E-2,-1.5915641152375315E-4,1.6100890298996757,3.2997920999999999,9999.2999999999993,{"$f":"IFERROR('Device Resistance Tables'!D78,NA())","v":9529.4952386880923},5.2098802934212873E-3,10000.700000000001,3.3002078999999997,1.6104073541324881,1.591678212886638E-4,3.0551147497506041E-2]
[60,19,-2.6268345717251663E-2,-1.3670885492511609E-4,1.6153213577496957,3.2998217999999997,9999.4,{"$f":"IFERROR('Device Resistance Tables'!D79,NA())","v":9589.8952384550448},5.2043191602786365E-3,10000.6,3.3001782,1.615594783834049,1.3671722942820708E-4,2.6269954862047182E-2]
[61,20,-2.1960483259562472E-2,-1.1416386167328874E-4,1.6205482219032261,3.2998514999999999,9999.5,{"$f":"IFERROR('Device Resistance Tables'!D80,NA())","v":9650.6049291528179},5.1986042530998144E-3,10000.5,3.3001484999999997,1.6207765554364073,1.1416967150790214E-4,2.1961600835421403E-2]
[62,21,-1.7625013085972124E-2,-9.1522075489569588E-5,1.6257694679425096,3.2998811999999997,9999.6,{"$f":"IFERROR('Device Resistance Tables'!D81,NA())","v":9711.6247833892794},5.1927380163145909E-3,10000.4,3.3001187999999999,1.6259525158080046,9.152579000537564E-5,1.7625728414916966E-2]
[63,22,-1.3261580661929328E-2,-6.8784143763434002E-5,1.6309849438905504,3.2999109,9999.7000000000007,{"$f":"IFERROR('Device Resistance Tables'!D82,NA())","v":9772.9552798201094},5.1867228739101989E-3,10000.299999999999,3.3000890999999997,1.6311225142653281,6.8786231014250632E-5,1.3261983083818327E-2]
[64,23,-8.8698338495916459E-3,-4.5950717351805892E-5,1.6361945001908722,3.2999405999999998,9999.7999999999993,{"$f":"IFERROR('Device Resistance Tables'!D83,NA())","v":9834.5969031488112},5.1805612293314152E-3,10000.200000000001,3.3000593999999999,1.6362864025522637,4.5951644039643469E-5,8.8700127274769849E-3]
[65,24,-4.4494228251182304E-3,-2.3022450370779879E-5,{"$f":"IFERROR(F476/(H476+J476)*H476,NA())","v":1.6413979896871846},{"$f":"IFERROR($B$32+(($B$256-B255)*(($B$32*(1-$B$33))/1000000)),NA())","v":3.2999703},9999.9,{"$f":"IFERROR('Device Resistance Tables'!D84,NA())","v":9896.5501441266806},{"$f":"IFERROR(L255,NA())","v":5.1742554654081729E-3},10000.1,3.3000296999999996,{"$f":"IFERROR((K476/(H476+G476))*H476,NA())","v":1.6414440348193493},2.3022681793882782E-5,4.4494675509931803E-3]
[66,25,{"$f":"IFERROR(D477/I477,NA())","v":0},{"$f":"IFERROR(E477-($B$32/(H477+$B$41)*H477),NA())","v":0},1.6465952676029636,3.3,10000,{"$f":"IFERROR('Device Resistance Tables'!D85,NA())","v":9958.8154995528494},5.1678079442696312E-3,10000,3.3,1.6465952676029636,{"$f":"IFERROR(L477-($B$32/(H477+$B$41)*H477),NA())","v":0},{"$f":"IFERROR(M477/I477,NA())","v":0}]
[67,{"$f":"B477+1","v":26},-4.4787353172024962E-3,-2.3115742805224215E-5,1.651739959804428,{"$f":"IFERROR($B$32-(($B$256-B257)*(($B$32*(1-$B$33))/1000000)),NA())","v":3.2999703},{"$f":"IFERROR(($B$41-((B478-$B$477))*($B$41/1000000)*$B$43),NA())","v":9999.9},{"$f":"IFERROR('Device Resistance Tables'!D86,NA())","v":10021.393472274245},5.161221007287109E-3,{"$f":"IFERROR(($B$41+((B478-$B$477))*($B$41/1000000)*$B$43),NA())","v":10000.1},{"$f":"IFERROR($B$32+(($B$477-B478)*(($B$32*(1-$B$33))/1000000)),NA())","v":3.3000296999999996},1.6517861915209502,2.3115973716958393E-5,4.4787800569518407E-3]
[68,27,-8.9870817049322593E-3,-4.6323885462218328E-5,1.6568779726690581,3.2999405999999998,9999.7999999999993,{"$f":"IFERROR('Device Resistance Tables'!D87,NA())","v":10084.284571185617},5.1544969750074721E-3,10000.200000000001,3.3000593999999999,1.6569706213625814,4.6324808061104505E-5,8.9872606940539241E-3]
[69,28,-1.3525380453268671E-2,-6.9623764375359443E-5,1.6620091697651524,3.2999109,9999.7000000000007,{"$f":"IFERROR('Device Resistance Tables'!D88,NA())","v":10147.489311229521},5.1476381471053934E-3,10000.299999999999,3.3000890999999997,1.6621484193673561,6.9625837828324322E-5,1.3525783250222462E-2]
[70,29,-1.8093970909844284E-2,-9.3014713699268725E-5,1.6671334169629339,3.2998811999999997,9999.6,{"$f":"IFERROR('Device Resistance Tables'!D89,NA())","v":10211.00821339633},5.1406468023369456E-3,10000.4,3.3001187999999999,1.6673194500721498,9.3018395516564212E-5,1.8094687126584522E-2]
[71,30,-2.2693190548665376E-2,-1.16496065516003E-4,1.6722505824134541,3.2998514999999999,9999.5,{"$f":"IFERROR('Device Resistance Tables'!D90,NA())","v":10274.841804724227},5.133525198502964E-3,10000.5,3.3001484999999997,1.6724835802904712,1.1650181150102412E-4,2.2694309854561213E-2]
[72,31,-2.7323375038442628E-2,-1.4006715001557701E-4,1.6773605365274575,3.2998217999999997,9999.4,{"$f":"IFERROR('Device Resistance Tables'!D91,NA())","v":10338.990618299209},5.1262755724177378E-3,10000.6,3.3001782,1.6776406790916913,1.4007541421823255E-4,2.7324987164544474E-2]
[73,32,-3.1984858307899162E-2,-1.6372729566649369E-4,1.6824631519542244,3.2997920999999999,9999.2999999999993,{"$f":"IFERROR('Device Resistance Tables'!D92,NA())","v":10403.455193255088},5.1189001398845857E-3,10000.700000000001,3.3002078999999997,1.6827906177802272,1.6373853033635477E-4,3.1987053050823243E-2]
[74,33,-3.6677972610292625E-2,-1.8747582938760665E-4,1.6875583035603878,3.2997623999999997,9999.2000000000007,{"$f":"IFERROR('Device Resistance Tables'!D93,NA())","v":10468.23607477348},5.1114010956809786E-3,10000.799999999999,3.3002376,1.6879332698747025,1.8749048492705533E-4,3.6680839835770404E-2]
[75,34,-4.1403048585393856E-2,-2.1131207671176711E-4,1.6926458684087446,3.2997326999999999,9999.1,{"$f":"IFERROR('Device Resistance Tables'!D94,NA())","v":10533.333814083828},5.1037806135443287E-3,10000.9,3.3002672999999998,1.6930685110870902,2.113306016338079E-4,4.14066782324033E-2]
[76,35,-4.6160415321096104E-2,-2.3523536195257932E-4,1.6977257257370482,3.2997029999999996,9999,{"$f":"IFERROR('Device Resistance Tables'!D95,NA())","v":10598.748968463369},5.0960408461722118E-3,10001,3.300297,1.6981962193018345,2.3525820283376575E-4,4.616489740471276E-2]
[77,36,-5.0950400412161555E-2,-2.5924500836049802E-4,1.7027977569368125,3.2996732999999998,9998.9,{"$f":"IFERROR('Device Resistance Tables'!D96,NA())","v":10664.482101237174},5.0881839252163719E-3,10001.1,3.3003266999999998,1.7033162745549699,2.5927260979696776E-4,5.0955825026695031E-2]
[78,37,-5.5773330018317552E-2,-2.8334033828048E-4,1.7078618455321088,3.2996436,9998.7999999999993,{"$f":"IFERROR('Device Resistance Tables'!D97,NA())","v":10730.533781778107},5.0802119612980423E-3,10001.200000000001,3.3003563999999996,1.7084285590132364,2.8337314284709869E-4,5.5779787340742015E-2]
[79,38,-6.0629528920513098E-2,-3.0752067330364063E-4,1.7129178771583837,3.2996138999999998,9998.7000000000007,{"$f":"IFERROR('Device Resistance Tables'!D98,NA())","v":10796.904585506858},5.0721270440152733E-3,10001.299999999999,3.3003860999999999,1.7135329569532001,3.0755912151270159E-4,6.0637109213500108E-2]
[80,39,-6.5519320576218926E-2,-3.317853344182442E-4,1.7179657395412844,3.2995842,9998.6,{"$f":"IFERROR('Device Resistance Tables'!D99,NA())","v":10863.595093891925},5.0639312419651361E-3,10001.4,3.3004157999999997,1.7186293547403795,3.3182986467683584E-4,6.5528114190599507E-2]
[81,40,-7.0443027172829006E-2,-3.5613364215425491E-4,1.7230053224755135,3.2995544999999997,9998.5,{"$f":"IFERROR('Device Resistance Tables'!D100,NA())","v":10930.605894449618},5.0556266027650398E-3,10001.5,3.3004454999999999,1.7237176408083925,3.561846907247368E-4,7.0453124550363566E-2]
[82,41,-7.5400969680169766E-2,-3.8056491672699977E-4,1.7280365178037058,3.2995247999999999,9998.4,{"$f":"IFERROR('Device Resistance Tables'!D101,NA())","v":10997.937580744057},5.0472151530842613E-3,10001.6,3.3004751999999997,1.7287977056381196,3.8062291768681256E-4,7.5412461355886681E-2]
[83,42,-8.039346790146297E-2,-4.0507847817594644E-4,1.7330592193953411,3.2994950999999997,9998.2999999999993,{"$f":"IFERROR('Device Resistance Tables'!D102,NA())","v":11065.590752387183},5.0386988986772518E-3,10001.700000000001,3.3005049,1.7338694417368985,4.0514386338141861E-4,8.0406444506492758E-2]
[84,43,-8.5420840523440164E-2,-4.296736465021489E-4,1.7380733231256922,3.2994653999999999,9998.2000000000007,{"$f":"IFERROR('Device Resistance Tables'!D103,NA())","v":11133.566015038743},5.0300798244222733E-3,10001.799999999999,3.3005345999999998,1.7389327436177422,4.2974684554786258E-4,8.5435392786678263E-2]
[85,44,-9.0483405164688446E-2,-4.5434974179991983E-4,1.7430787268548167,3.2994356999999996,9998.1,{"$f":"IFERROR('Device Resistance Tables'!D104,NA())","v":11201.863980406299},5.0213598943691373E-3,10001.9,3.3005643,1.7439875077786029,4.5443118198629229E-4,9.0499623915800825E-2]
[86,45,-9.5581478423668875E-2,-4.7910608438872515E-4,1.748075330406597,3.2994059999999998,9998,{"$f":"IFERROR('Device Resistance Tables'!D105,NA())","v":11270.485266245223},5.0125410517827262E-3,10002,3.3005939999999998,1.7490336326816665,4.7919619068070851E-4,9.5599454594048838E-2]
[87,46,-0.1007153759250496,-5.0394199493997149E-4,1.7530630355478285,3.2993763,9997.9,{"$f":"IFERROR('Device Resistance Tables'!D106,NA())","v":11339.430496358704},5.0036252192018349E-3,10002.1,3.3006236999999996,1.7540710187327035,5.0404118993507829E-4,0.1007352005503485]
[88,47,-0.10588541236521938,-5.2885679460090707E-4,1.7580417459673694,3.2993465999999998,9997.7999999999993,{"$f":"IFERROR('Device Resistance Tables'!D107,NA())","v":11408.70030059774},4.9946142984906849E-3,10002.200000000001,3.3006533999999998,1.7590995682604627,5.2896549849235086E-4,0.10590717658662815]
[89,48,-0.11109190155577249,-5.5384980511186122E-4,1.7630113672553491,3.2993169,9997.7000000000007,{"$f":"IFERROR('Device Resistance Tables'!D108,NA())","v":11478.295314861145},4.9855101709084249E-3,10002.299999999999,3.3006830999999996,1.7641191854961211,5.5396843566013487E-4,0.11111569662271788]
[90,49,-0.11633515646831365,-5.7892034893081146E-4,1.7679718068824386,3.2992871999999998,9997.6,{"$f":"IFERROR('Device Resistance Tables'!D109,NA())","v":11548.21618109554},4.9763146971697481E-3,10002.4,3.3007127999999999,1.7691297765527956,5.7904932142616161E-4,0.11636107373906493]
[91,50,-0.12161548927618339,-6.040677493450719E-4,1.7729229741791941,3.2992575,9997.5,{"$f":"IFERROR('Device Resistance Tables'!D110,NA())","v":11618.463547295365},4.9670297175161693E-3,10002.5,3.3007424999999997,1.7741312494051158,6.0420747657663476E-4,0.12164362021952567]
[92,51,-0.12693321139564234,-6.2929133058209352E-4,1.7778647803154732,3.2992277999999997,9997.4,{"$f":"IFERROR('Device Resistance Tables'!D111,NA())","v":11689.038067502872},4.9576570517910756E-3,10002.6,3.3007721999999999,1.7791235138688637,6.2944222280836293E-4,0.12696364759255815]
[93,52,-0.13228863352713871,-6.5459041792181871E-4,1.7827971382799246,3.2991980999999999,9997.2999999999993,{"$f":"IFERROR('Device Resistance Tables'!D112,NA())","v":11759.940401808122},4.9481984995145556E-3,10002.700000000001,3.3008018999999997,1.7841064815806849,6.5475288283844968E-4,0.13232146667169564]
[94,53,-0.13768206569419089,-6.7996433779993204E-4,1.787719962859561,3.2991683999999997,9997.2000000000007,{"$f":"IFERROR('Device Resistance Tables'!D113,NA())","v":11831.171216348986},4.9386558399713287E-3,10002.799999999999,3.3008316,1.7890800659778738,6.8013878051287335E-4,0.13771738759524937]
[95,54,-0.14311381728349692,-7.05412417916218E-4,1.7926331706194161,3.2991386999999999,9997.1,{"$f":"IFERROR('Device Resistance Tables'!D114,NA())","v":11902.73118331116},4.9290308322840204E-3,10002.9,3.3008612999999998,1.794044182278242,7.055992409097378E-4,0.1431517198651355]
[96,55,-0.14858419708143414,-7.3093398732959614E-4,1.7975366798822867,3.2991089999999996,9997,{"$f":"IFERROR('Device Resistance Tables'!D115,NA())","v":11974.620980928139},4.91932521551397E-3,10003,3.300891,1.7989987474600584,7.3113359044207904E-4,0.14862477238470001]
[97,56,-0.1540935133130644,-7.5652837656337013E-4,1.8024304107085669,3.2990792999999998,9996.9,{"$f":"IFERROR('Device Resistance Tables'!D116,NA())","v":12046.84129348124},4.9095407087407228E-3,10003.1,3.3009206999999998,1.8039436802420867,7.5674115695645305E-4,0.1541368534961296]
[98,57,-0.15964207367692032,-7.8219491769360161E-4,1.8073142848761774,3.2990496,9996.7999999999993,{"$f":"IFERROR('Device Resistance Tables'!D117,NA())","v":12119.392811299587},4.8996790111646149E-3,10003.200000000001,3.3009503999999996,1.8088789010636996,7.8242126982863702E-4,0.15968827101648475]
[99,58,-0.16523018538190137,-8.0793294444725383E-4,1.8121882258605884,{"$f":"IFERROR($B$32-(($B$256-B289)*(($B$32*(1-$B$33))/1000000)),NA())","v":3.2990198999999998},{"$f":"IFERROR(($B$41-((B510-$B$477))*($B$41/1000000)*$B$43),NA())","v":9996.7000000000007},{"$f":"IFERROR('Device Resistance Tables'!D118,NA())","v":12192.276230760121},4.8897418022006978E-3,{"$f":"IFERROR(($B$41+((B510-$B$477))*($B$41/1000000)*$B$43),NA())","v":10003.299999999999},{"$f":"IFERROR($B$32+(($B$477-B510)*(($B$32*(1-$B$33))/1000000)),NA())","v":3.3009800999999999},1.8138043320650965,8.0817326006088486E-4,0.16527933227418162]
[100,59,-0.17085815518221048,-8.3374179229189771E-4,1.8170521588149444,3.2989902,9996.6,{"$f":"IFERROR('Device Resistance Tables'!D119,NA())","v":12265.492254287587},4.8797307415777702E-3,10003.4,3.3010097999999997,1.8187198970676037,8.3399646036741437E-4,0.17091034414283218]
[101,60,-0.17652628941120579,-8.5962079852119899E-4,1.8219060105502929,3.2989604999999997,9996.5,{"$f":"IFERROR('Device Resistance Tables'!D120,NA())","v":12339.041590354558},4.8696474694416292E-3,10003.5,3.3010394999999999,1.8236255215540818,8.5989020526766602E-4,0.17658161307645212]
[102,61,-0.18223489401540965,-8.8556930234262587E-4,1.8267497095159131,3.2989307999999999,9996.4,{"$f":"IFERROR('Device Resistance Tables'!D121,NA())","v":12412.924953481406},4.8594936064645378E-3,10003.6,3.3010691999999997,1.8285211326494275,8.8585383117179006E-4,0.18229344514279167]
[103,62,-0.1879842745880185,-9.1158664496093778E-4,1.8315831857797593,3.2989010999999997,9996.2999999999993,{"$f":"IFERROR('Device Resistance Tables'!D122,NA())","v":12487.143064236321},4.8492707539433688E-3,10003.700000000001,3.3010988999999999,1.8334066591011817,9.1188667646147081E-4,0.18804614605607153]
[104,63,-0.19377473639983869,-9.3767216965390254E-4,1.8364063710090097,3.2988713999999999,9996.2000000000007,{"$f":"IFERROR('Device Resistance Tables'!D123,NA())","v":12561.696649235302},4.8389804939230618E-3,10003.799999999999,3.3011285999999997,1.8382820312602393,9.3798808157563585E-4,0.19384002120975474]
[105,64,-0.19960658443305029,-9.6382522185778363E-4,1.8412191984507289,3.2988416999999997,9996.1,{"$f":"IFERROR('Device Resistance Tables'!D124,NA())","v":12636.586441142172},4.8286243892974312E-3,10003.9,3.3011583,1.8431471810616731,9.6415738908639526E-4,0.19967537570812813]
[106,65,-0.20548012341086799,-9.9004514923661802E-4,1.8460216029126475,3.2988119999999999,9996,{"$f":"IFERROR('Device Resistance Tables'!D125,NA())","v":12711.81317866855},4.8182039839297364E-3,10004,3.3011879999999998,1.848002042005658,9.9039394377387069E-4,0.20555251439689018]
[107,66,-0.21139565782885761,-1.0163313017592657E-3,1.8508135207440546,3.2987822999999996,9995.9,{"$f":"IFERROR('Device Resistance Tables'!D126,NA())","v":12787.377606573884},4.8077208027710316E-3,10004.1,3.3012177,1.85284654913852,1.0166970927061314E-3,0.21147174189485723]
[108,67,-0.21735349198529627,-1.0426830317704638E-3,1.8555948898168144,3.2987525999999998,9995.7999999999993,{"$f":"IFERROR('Device Resistance Tables'!D127,NA())","v":12863.280475665417},4.7971763519722987E-3,10004.200000000001,3.3012473999999998,1.8576806390338885,1.0430661853035872E-3,0.21743336262273194]
[109,68,-0.22335393000945561,-1.069099694055442E-3,1.8603656495065017,3.2987229,9995.7000000000007,{"$f":"IFERROR('Device Resistance Tables'!D128,NA())","v":12939.522542798226},4.7865721190138988E-3,10004.299999999999,3.3012770999999996,1.8625042497739741,1.0695005734169261E-3,0.2234376808339531]
[110,69,-0.22939727589264108,-1.095580645914529E-3,1.8651257406736566,3.2986931999999998,9995.6,{"$f":"IFERROR('Device Resistance Tables'!D129,NA())","v":13016.104570875179},4.7759095728201473E-3,10004.4,3.3013067999999999,1.8673173209309575,1.0959996113864001E-3,0.22948500064234229]
[111,70,-0.23548383351434637,-1.1221252472182197E-3,1.869875105645173,3.2986635,9995.5,{"$f":"IFERROR('Device Resistance Tables'!D130,NA())","v":13093.027328846969},4.7651901638923189E-3,10004.5,3.3013364999999997,1.8721197935485048,1.122562656113546E-3,0.23557562605153423]
[112,71,-0.24161390667295865,-1.1487328604797842E-3,1.8746136881958038,3.2986337999999997,9995.4,{"$f":"IFERROR('Device Resistance Tables'!D131,NA())","v":13170.291591712106},4.7544153244236664E-3,10004.6,3.3013661999999999,1.8769116101234029,1.1491890671193605E-3,0.24170986098246813]
[113,72,-0.24778779911085561,-1.1754028509063374E-3,1.8793414335298009,3.2986040999999999,9995.2999999999993,{"$f":"IFERROR('Device Resistance Tables'!D132,NA())","v":13247.898140516898},4.743586468438199E-3,10004.700000000001,3.3013958999999997,1.8816927145873164,1.1758782066091378E-3,0.24788800930117535]
[114,73,-0.25400581454298443,-1.2021345864621225E-3,1.8840582882626833,3.2985743999999997,9995.2000000000007,{"$f":"IFERROR('Device Resistance Tables'!D133,NA())","v":13325.847762355479},4.7327049919114739E-3,10004.799999999999,3.3014256,1.8864630522886752,1.2026294395297565E-3,0.25411037484591475]
[115,74,-0.26026825668321707,-1.2289274379244652E-3,1.8887642004031324,3.2985446999999999,9995.1,{"$f":"IFERROR('Device Resistance Tables'!D134,NA())","v":13404.141250369788},4.7217722729062661E-3,10004.9,3.3014552999999998,1.8912225699746827,1.2294421336258576E-3,0.26037726145338475]
[116,75,-0.26657542927061362,-1.2557807789370656E-3,1.8934591193350261,3.2985149999999996,9995,{"$f":"IFERROR('Device Resistance Tables'!D135,NA())","v":13482.779403749584},4.710789671700244E-3,10005,3.301485,1.8959712157734598,1.2563156594966873E-3,0.26668897298555277]
[117,76,-0.27292763609492293,-1.2826939860615116E-3,1.8981429957996019,3.2984852999999998,9994.9,{"$f":"IFERROR('Device Resistance Tables'!D136,NA())","v":13561.763027732428},4.6997585309220824E-3,10005.1,3.3015146999999998,1.9007089391763106,1.2832493906471676E-3,0.27304581335488248]
[118,77,-0.27932518102274467,-1.3096664388305701E-3,1.9028157818777549,3.2984556,9994.7999999999993,{"$f":"IFERROR('Device Resistance Tables'!D137,NA())","v":13641.092933603699},4.6886801756835794E-3,10005.200000000001,3.3015443999999996,1.9054356910201256,1.3102427035400765E-3,0.27944808655008158]
[119,78,-0.2857683680218514,-1.3366975197937059E-3,1.9074774309724754,3.2984258999999998,9994.7000000000007,{"$f":"IFERROR('Device Resistance Tables'!D138,NA())","v":13720.769938696594},4.6775559137164358E-3,10005.299999999999,3.3015740999999998,1.9101514234699144,1.3372949776453424E-3,0.28589609666105048]
[120,79,-0.29225750118631399,-1.3637866145650435E-3,1.9121278977914204,3.2983962,9994.6,{"$f":"IFERROR('Device Resistance Tables'!D139,NA())","v":13800.794866392116},4.6663870355054815E-3,10005.4,3.3016037999999996,1.9148560900014713,1.3644055954857848E-3,0.29239014790336332]
[121,80,-0.29879288476057075,-1.390933111867998E-3,1.916767138329623,3.2983664999999998,9994.5,{"$f":"IFERROR('Device Resistance Tables'!D140,NA())","v":13881.168546119081},4.6551748144290084E-3,10005.5,3.3016334999999999,1.919549645384178,1.3915739426870744E-3,0.29893054464330815]
[122,81,-0.30537482316352538,-1.4181364035792399E-3,1.9213951098523407,3.2983368,9994.4,{"$f":"IFERROR('Device Resistance Tables'!D141,NA())","v":13961.891813354119},4.6439205068973255E-3,10005.6,3.3016631999999997,1.9242320456639346,1.4187994080145927E-3,0.30551759142029639]
[123,82,-0.3120036210123957,-1.4453958847691073E-3,1.9260117708780482,3.2983070999999997,9994.2999999999993,{"$f":"IFERROR('Device Resistance Tables'!D142,NA())","v":14042.965509621676},4.6326253524848759E-3,10005.700000000001,3.3016928999999999,1.9289032481462371,1.4460813834198394E-3,0.31215159297182998]
[124,83,-0.31867958314527273,-1.4727109537404637E-3,1.9306170811615617,3.2982773999999999,9994.2000000000007,{"$f":"IFERROR('Device Resistance Tables'!D143,NA())","v":14124.390482494005},4.6212905740783405E-3,10005.799999999999,3.3017225999999997,1.9335632113793841,1.4734192640819543E-3,0.31883285425647784]
[125,84,-0.32540301464518617,-1.5000810120702202E-3,1.9352110016773103,3.2982476999999997,9994.1,{"$f":"IFERROR('Device Resistance Tables'!D144,NA())","v":14206.167585591174},4.6099173780116409E-3,10005.9,3.3017523,1.9382118951378233,1.5008124484428009E-3,0.32556168047639378]
[126,85,-0.33217422086166631,-1.5275054646406439E-3,1.9397934946027515,3.2982179999999999,9994,{"$f":"IFERROR('Device Resistance Tables'!D145,NA())","v":14288.297678581066},4.5985069542069379E-3,10006,3.3017819999999998,1.9428492604056371,1.5282603382449356E-3,0.33233837710016045]
[127,86,-0.33899350743406981,-1.5549837196788818E-3,1.9443645233019202,3.2981882999999996,9993.9,{"$f":"IFERROR('Device Resistance Tables'!D146,NA())","v":14370.781627179373},4.587060476316962E-3,10006.1,3.3018117,1.9474752693601682,1.5557623385691333E-3,0.33916324988553115]
[128,87,-0.34586118031270191,-1.5825151887860489E-3,1.94892405230913,3.2981585999999998,9993.7999999999993,{"$f":"IFERROR('Device Resistance Tables'!D147,NA())","v":14453.620303149599},4.5755791018675662E-3,10006.200000000001,3.3018413999999998,1.9520898853557811,1.5833178578650298E-3,0.34603660490074001]
[129,88,-0.35277754578154275,-1.6100992869723108E-3,{"$f":"IFERROR(F540/(H540+J540)*H540,NA())","v":1.9534720473128113},3.2981289,9993.7000000000007,{"$f":"IFERROR('Device Resistance Tables'!D148,NA())","v":14536.814584303067},{"$f":"IFERROR(L319,NA())","v":4.5640639723973919E-3},10006.299999999999,3.3018710999999996,{"$f":"IFERROR((K540/(H540+G540))*H540,NA())","v":1.9566930729077685},1.6109263079848724E-3,0.35295874854678949]
[130,89,{"$f":"IFERROR(D541/I541,NA())","v":-0.35974291047933687},{"$f":"IFERROR(E541-($B$32/(H541+$B$41)*H541),NA())","v":-1.6377354326853055E-3},1.9580084751394957,3.2980991999999998,9993.6,{"$f":"IFERROR('Device Resistance Tables'!D149,NA())","v":14620.365354498908},4.5525162136013098E-3,10006.4,3.3019007999999999,1.9612847976763965,{"$f":"IFERROR(L541-($B$32/(H541+$B$41)*H541),NA())","v":1.6385871042154943E-3},{"$f":"IFERROR(M541/I541,NA())","v":0.35992998757917105}]
[131,{"$f":"B541+1","v":90},-0.36675758142065989,-1.6654230478387877E-3,1.9625333037379435,{"$f":"IFERROR($B$32-(($B$256-B321)*(($B$32*(1-$B$33))/1000000)),NA())","v":3.2980695},{"$f":"IFERROR(($B$41-((B542-$B$477))*($B$41/1000000)*$B$43),NA())","v":9993.5},{"$f":"IFERROR('Device Resistance Tables'!D150,NA())","v":14704.273503644064},4.5409369354756368E-3,{"$f":"IFERROR(($B$41+((B542-$B$477))*($B$41/1000000)*$B$43),NA())","v":10006.5},{"$f":"IFERROR($B$32+(($B$477-B542)*(($B$32*(1-$B$33))/1000000)),NA())","v":3.3019304999999997},1.9658650264510868,1.6662996653045159E-3,0.36695062912825516]
[132,91,-0.37382186601728884,-1.6931615578397174E-3,1.9670465021634183,3.2980397999999997,9993.4,{"$f":"IFERROR('Device Resistance Tables'!D151,NA())","v":14788.539927693295},4.5293272324562484E-3,10006.6,3.3019601999999999,1.9704337271347483,1.694063413490321E-3,0.37402098072115503]
[133,92,-0.38093607209874847,-1.720950391614906E-3,1.9715480405620993,3.2980100999999999,9993.2999999999993,{"$f":"IFERROR('Device Resistance Tables'!D152,NA())","v":14873.165528649166},4.5176881835669036E-3,10006.700000000001,3.3019898999999997,1.974990868728242,1.7218777745278135E-3,0.38114135030194118]
[134,93,-0.38810050793276929,-1.7487889816341085E-3,1.976037890155647,3.2979803999999997,9993.2000000000007,{"$f":"IFERROR('Device Resistance Tables'!D153,NA())","v":14958.151214562062},4.5060208525598E-3,10006.799999999999,3.3020195999999999,1.9795364213149949,1.7497421777137312E-3,0.38831204625245574]
[135,94,-0.39531548224618018,-1.7766767639355585E-3,1.9805160232259054,3.2979506999999999,9993.1,{"$f":"IFERROR('Device Resistance Tables'!D154,NA())","v":15043.497899530177},4.4943262880585699E-3,10006.9,3.3020492999999997,1.9840703560457487,1.7776560559077392E-3,0.39553337741208811]
[136,95,-0.40258130424420746,-1.8046131781448427E-3,1.9849824130997547,3.2979209999999997,9993,{"$f":"IFERROR('Device Resistance Tables'!D155,NA())","v":15129.206503699521},4.4826055237034979E-3,10007,3.302079,1.9885926451234595,1.8056188455599642E-3,0.40280565309886435]
[137,96,-0.40989828363026953,-1.8325976674953282E-3,1.9894370341341077,3.2978912999999999,9992.9,{"$f":"IFERROR('Device Resistance Tables'!D156,NA())","v":15215.277953263911},4.4708595782956273E-3,10007.1,3.3021086999999998,1.9931032617883293,1.8336299867263151E-3,0.41012918312798541]
[138,97,-0.41726673062678843,-1.8606296788512555E-3,1.9938798617010474,3.2978615999999996,9992.7999999999993,{"$f":"IFERROR('Device Resistance Tables'!D157,NA())","v":15301.713180464983},4.459089455937093E-3,10007.200000000001,3.3021384,1.9976021803029893,1.8616889230906875E-3,0.41750427783231076]
[139,98,-0.42468695599332978,-1.8887086627210614E-3,1.9983108721731146,3.2978318999999998,9992.7000000000007,{"$f":"IFERROR('Device Resistance Tables'!D158,NA())","v":15388.513123592174},4.4472961461776706E-3,10007.299999999999,3.3021680999999998,2.0020893759378184,1.8897951019827275E-3,0.42493124808136618]
[140,99,-0.43215927104604052,-1.916834073274476E-3,2.0027300429087389,3.2978022,9992.6,{"$f":"IFERROR('Device Resistance Tables'!D159,NA())","v":15475.67872698276},4.4354806241568845E-3,10007.4,3.3021977999999996,2.0065648249564116,1.9179479743982597E-3,0.43241040530141683]
[141,100,-0.43968398767799183,-1.9450053683640611E-3,2.0071373522378062,3.2977724999999998,9992.5,{"$f":"IFERROR('Device Resistance Tables'!D160,NA())","v":15563.210941021794},4.4236438507478937E-3,10007.5,3.3022274999999999,2.0110285046011787,1.9461469950083909E-3,0.43994206149289372]
[142,101,-0.44726141837621913,-1.9732220095298736E-3,2.0115327794473883,3.2977428,9992.4,{"$f":"IFERROR('Device Resistance Tables'!D161,NA())","v":15651.11072214217},4.4117867726969351E-3,10007.6,3.3022571999999997,2.0154803930790983,1.9743916221801605E-3,0.44752652925091629]
[143,102,-0.45489187624145716,-2.001483462020559E-3,2.0159163047675945,3.2977130999999997,9992.2999999999993,{"$f":"IFERROR('Device Resistance Tables'!D162,NA())","v":15739.37903282458},4.399910322773426E-3,10007.700000000001,3.3022868999999999,2.0199204695476052,2.0026813179900849E-3,0.45516412178321874]
[144,103,-0.46257567500666635,-2.0297891948017899E-3,2.0202879093575867,3.2976833999999999,9992.2000000000007,{"$f":"IFERROR('Device Resistance Tables'!D163,NA())","v":15828.016841597531},4.3880154199040788E-3,10007.799999999999,3.3023165999999997,2.0243487141006185,2.0310155482299308E-3,0.46285515292795587]
[145,104,-0.47031312905517692,-2.0581386805686996E-3,2.0246475752917239,3.2976536999999997,9992.1,{"$f":"IFERROR('Device Resistance Tables'!D164,NA())","v":15917.025123037351},4.376102969320339E-3,10007.9,3.3023463,2.0287651077547215,2.0593937824289199E-3,0.47059993717395737]
[146,105,-0.47810455343867808,-2.0865313957543208E-3,2.0289952855458586,3.2976239999999999,9992,{"$f":"IFERROR('Device Resistance Tables'!D165,NA())","v":16006.40485776817},4.364173862698717E-3,10008,3.3023759999999998,2.0331696324354689,2.087815493855949E-3,0.47839878967720273]
[147,106,-0.48595026389577195,-2.1149668205406869E-3,2.033331023983771,3.2975942999999996,9991.9,{"$f":"IFERROR('Device Resistance Tables'!D166,NA())","v":16096.157032461935},4.3522289783020085E-3,10008.1,3.3024057,2.0375622709638423,2.1162801595306924E-3,0.48625202627926628]
[148,107,-0.49385057686924261,-2.1434444388641616E-3,2.0376547753437495,3.2975645999999998,9991.7999999999993,{"$f":"IFERROR('Device Resistance Tables'!D167,NA())","v":16186.282639838408},4.3402691811205152E-3,10008.200000000001,3.3024353999999998,2.0419430070428475,2.1447872602338158E-3,0.49415996352560376]
[149,108,-0.50180580952457399,-2.1719637384256529E-3,2.0419665252253085,3.2975348999999996,9991.7000000000007,{"$f":"IFERROR('Device Resistance Tables'!D168,NA())","v":16276.782678665155},4.3282953230123766E-3,10008.299999999999,3.3024651,2.0463118252442474,2.1733362805131939E-3,0.5021229186830557]
[150,109,-0.5098162797669149,-2.2005242106937217E-3,2.0462662600760528,3.2975051999999998,9991.6,{"$f":"IFERROR('Device Resistance Tables'!D169,NA())","v":16367.658153757571},4.3163082428434585E-3,10008.4,3.3024947999999998,2.0506687109954358,2.2019267086892391E-3,0.51014120975722388]
[151,110,-0.51788230625846277,-2.2291253509103548E-3,2.0505539671786797,3.2974755,9991.5,{"$f":"IFERROR('Device Resistance Tables'!D170,NA())","v":16458.910075978845},4.304308766629017E-3,10008.5,3.3025244999999996,2.0550136505664534,2.2305580368633393E-3,0.518215155510378]
[152,111,-0.52600420843702378,-2.2577666580976263E-3,2.0548296346381214,3.2974457999999998,9991.4,{"$f":"IFERROR('Device Resistance Tables'!D171,NA())","v":16550.539462239994},4.2922977076673696E-3,10008.6,3.3025541999999999,2.0593466310571382,2.2592297609191903E-3,0.52634507547869014]
[153,112,-0.53418230653087451,-2.2864476350554774E-3,2.0590932513688309,3.2974161,9991.2999999999993,{"$f":"IFERROR('Device Resistance Tables'!D172,NA())","v":16642.547335499828},4.2802758666873331E-3,10008.700000000001,3.3025838999999997,2.0636676403844136,2.2879413805272364E-3,0.53453128998854937]
[154,113,-0.54241692157857169,-2.3151677883705979E-3,2.0633448070822031,3.2973863999999997,9991.2000000000007,{"$f":"IFERROR('Device Resistance Tables'!D173,NA())","v":16734.934724765},4.2682440319761206E-3,10008.799999999999,3.3026135999999999,2.0679766672697233,2.3166923991495558E-3,0.54277412017535664]
[155,114,-0.55070837544407591,-2.3439266284142057E-3,2.0675842922741356,3.2973566999999999,9991.1,{"$f":"IFERROR('Device Resistance Tables'!D174,NA())","v":16827.70266508995},4.2562029795245593E-3,10008.9,3.3026432999999997,2.0722737012265893,2.3454823240394163E-3,0.55107388799897394]
[156,115,-0.55905699083402716,-2.3727236693420473E-3,2.0718116982127324,3.2973269999999997,9991,{"$f":"IFERROR('Device Resistance Tables'!D175,NA())","v":16920.852197576936},4.2441534731589847E-3,10009,3.302673,2.0765587325483175,2.3743106662430513E-3,0.55943091626133346]
[157,116,-0.56746309131475137,-2.4015584290970615E-3,2.0760270169261363,3.2972972999999999,9990.9,{"$f":"IFERROR('Device Resistance Tables'!D176,NA())","v":17014.384369376039},4.2320962646802407E-3,10009.1,3.3027026999999998,2.0808317522958344,2.4031769406009929E-3,0.56784552862305149]
[158,117,-0.57592700132900321,-2.4304304294080481E-3,2.0802302411905056,3.2972675999999996,9990.7999999999993,{"$f":"IFERROR('Device Resistance Tables'!D177,NA())","v":17108.300233685135},4.2200320939973501E-3,10009.200000000001,3.3027324,2.0850927522856586,2.4320806657449623E-3,0.57631804961966937]
[159,118,-0.58444904621177096,-2.4593391957856703E-3,2.0844213645181253,3.2972378999999998,9990.7000000000007,{"$f":"IFERROR('Device Resistance Tables'!D178,NA())","v":17202.600849749935},4.2079616892634064E-3,10009.299999999999,3.3027620999999998,2.0893417250780111,2.4610213641000911E-3,0.58484880467884848]
[160,119,-0.59302955220790676,-2.4882842575242314E-3,2.0886003811456502,3.2972082,9990.6,{"$f":"IFERROR('Device Resistance Tables'!D179,NA())","v":17297.287282863941},4.1958857670079119E-3,10009.4,3.3027917999999996,2.0935786639650544,2.4899985618800358E-3,0.59343812013634845]
[161,120,-0.6016688464872848,-2.5172651476941255E-3,2.0927672860224882,3.2971784999999998,9990.5,{"$f":"IFERROR('Device Resistance Tables'!D180,NA())","v":17392.360604368485},4.1838050322708931E-3,10009.5,3.3028214999999999,2.0978035629592693,2.5190117890869779E-3,0.60208632325290368]
[162,121,-0.61036725716118767,-2.5462814031405046E-3,2.0969220747993127,3.2971488,9990.4,{"$f":"IFERROR('Device Resistance Tables'!D181,NA())","v":17487.821891652693},4.1717201787383473E-3,10009.6,3.3028511999999997,2.1020164167819586,2.5480605795054068E-3,0.61079374222937843]
[163,122,-0.6191251132996457,-2.5753325644801706E-3,2.1010647438167114,{"$f":"IFERROR($B$32-(($B$256-B353)*(($B$32*(1-$B$33))/1000000)),NA())","v":3.2971190999999997},9990.2999999999993,{"$f":"IFERROR('Device Resistance Tables'!D182,NA())","v":17583.672228153529},4.1596318888679207E-3,10009.700000000001,3.3028808999999999,2.1062172208518906,2.577144470699011E-3,0.61956070622403148]
[164,123,-0.62794274494603575,-2.6044181760935814E-3,2.1051952900939659,3.2970893999999999,9990.2000000000007,{"$f":"IFERROR('Device Resistance Tables'!D183,NA())","v":17679.912703355742},4.1475408340252429E-3,10009.799999999999,3.3029105999999997,2.1104059712740653,2.6062630040057932E-3,0.62838754536778862]
[165,124,-0.63682048313419104,-2.6335377861221865E-3,2.1093137113179625,3.2970596999999997,9990.1,{"$f":"IFERROR('Device Resistance Tables'!D184,NA())","v":17776.544412791918},4.1354476746113811E-3,10009.9,3.3029402999999999,2.1145826648286206,2.63541572453585E-3,0.63727459078139759]
[166,125,{"$error":"#N/A"},-2.6626909464582127E-3,2.1134200058322379,{"$f":"IF(B577<=VLOOKUP(Main!$N$22,Coefficients!$E$2:$H$28,4,FALSE),$B$32-(($B$256-B356)*(($B$32*(1-$B$33))/1000000)),NA())","v":3.2970299999999999},{"$f":"IF(B577<=VLOOKUP(Main!$N$22,Coefficients!$E$2:$H$28,4,FALSE),($B$41-((B577-$B$477))*($B$41/1000000)*$B$43),NA())","v":9990},{"$f":"IFERROR('Device Resistance Tables'!D185,NA())","v":17873.568458042435},{"$error":"#N/A"},{"$f":"IF(B577<=VLOOKUP(Main!$N$22,Coefficients!$E$2:$H$28,4,FALSE),($B$41+((B577-$B$477))*($B$41/1000000)*$B$43),NA())","v":10010},{"$f":"IF(B577<=VLOOKUP(Main!$N$22,Coefficients!$E$2:$H$28,4,FALSE),$B$32+(($B$477-B577)*(($B$32*(1-$B$33))/1000000)),NA())","v":3.3029699999999997},2.118747298959855,2.6646021811589371E-3,{"$error":"#N/A"}]
[167,126,{"$error":"#N/A"},{"$error":"#N/A"},{"$error":"#N/A"},{"$f":"IF(B578<=VLOOKUP(Main!$N$22,Coefficients!$E$2:$H$28,4,FALSE),$B$32-(($B$256-B357)*(($B$32*(1-$B$33))/1000000)),NA())","v":{"$error":"#N/A"}},{"$f":"IF(B578<=VLOOKUP(Main!$N$22,Coefficients!$E$2:$H$28,4,FALSE),($B$41-((B578-$B$477))*($B$41/1000000)*$B$43),NA())","v":{"$error":"#N/A"}},{"$f":"IFERROR('Device Resistance Tables'!D186,NA())","v":{"$error":"#N/A"}},{"$error":"#N/A"},{"$f":"IF(B578<=VLOOKUP(Main!$N$22,Coefficients!$E$2:$H$28,4,FALSE),($B$41+((B578-$B$477))*($B$41/1000000)*$B$43),NA())","v":{"$error":"#N/A"}},{"$f":"IF(B578<=VLOOKUP(Main!$N$22,Coefficients!$E$2:$H$28,4,FALSE),$B$32+(($B$477-B578)*(($B$32*(1-$B$33))/1000000)),NA())","v":{"$error":"#N/A"}},{"$error":"#N/A"},{"$error":"#N/A"},{"$error":"#N/A"}]
[168,127,{"$error":"#N/A"},{"$error":"#N/A"},{"$error":"#N/A"},{"$f":"IF(B579<=VLOOKUP(Main!$N$22,Coefficients!$E$2:$H$28,4,FALSE),$B$32-(($B$256-B358)*(($B$32*(1-$B$33))/1000000)),NA())","v":{"$error":"#N/A"}},{"$f":"IF(B579<=VLOOKUP(Main!$N$22,Coefficients!$E$2:$H$28,4,FALSE),($B$41-((B579-$B$477))*($B$41/1000000)*$B$43),NA())","v":{"$error":"#N/A"}},{"$f":"IFERROR('Device Resistance Tables'!D187,NA())","v":{"$error":"#N/A"}},{"$error":"#N/A"},{"$f":"IF(B579<=VLOOKUP(Main!$N$22,Coefficients!$E$2:$H$28,4,FALSE),($B$41+((B579-$B$477))*($B$41/1000000)*$B$43),NA())","v":{"$error":"#N/A"}},{"$f":"IF(B579<=VLOOKUP(Main!$N$22,Coefficients!$E$2:$H$28,4,FALSE),$B$32+(($B$477-B579)*(($B$32*(1-$B$33))/1000000)),NA())","v":{"$error":"#N/A"}},{"$error":"#N/A"},{"$error":"#N/A"},{"$error":"#N/A"}]
[169,128,{"$error":"#N/A"},{"$error":"#N/A"},{"$error":"#N/A"},{"$f":"IF(B580<=VLOOKUP(Main!$N$22,Coefficients!$E$2:$H$28,4,FALSE),$B$32-(($B$256-B359)*(($B$32*(1-$B$33))/1000000)),NA())","v":{"$error":"#N/A"}},{"$f":"IF(B580<=VLOOKUP(Main!$N$22,Coefficients!$E$2:$H$28,4,FALSE),($B$41-((B580-$B$477))*($B$41/1000000)*$B$43),NA())","v":{"$error":"#N/A"}},{"$f":"IFERROR('Device Resistance Tables'!D188,NA())","v":{"$error":"#N/A"}},{"$error":"#N/A"},{"$f":"IF(B580<=VLOOKUP(Main!$N$22,Coefficients!$E$2:$H$28,4,FALSE),($B$41+((B580-$B$477))*($B$41/1000000)*$B$43),NA())","v":{"$error":"#N/A"}},{"$f":"IF(B580<=VLOOKUP(Main!$N$22,Coefficients!$E$2:$H$28,4,FALSE),$B$32+(($B$477-B580)*(($B$32*(1-$B$33))/1000000)),NA())","v":{"$error":"#N/A"}},{"$error":"#N/A"},{"$error":"#N/A"},{"$error":"#N/A"}]
[170,129,{"$error":"#N/A"},{"$error":"#N/A"},{"$error":"#N/A"},{"$f":"IF(B581<=VLOOKUP(Main!$N$22,Coefficients!$E$2:$H$28,4,FALSE),$B$32-(($B$256-B360)*(($B$32*(1-$B$33))/1000000)),NA())","v":{"$error":"#N/A"}},{"$f":"IF(B581<=VLOOKUP(Main!$N$22,Coefficients!$E$2:$H$28,4,FALSE),($B$41-((B581-$B$477))*($B$41/1000000)*$B$43),NA())","v":{"$error":"#N/A"}},{"$f":"IFERROR('Device Resistance Tables'!D189,NA())","v":{"$error":"#N/A"}},{"$error":"#N/A"},{"$f":"IF(B581<=VLOOKUP(Main!$N$22,Coefficients!$E$2:$H$28,4,FALSE),($B$41+((B581-$B$477))*($B$41/1000000)*$B$43),NA())","v":{"$error":"#N/A"}},{"$f":"IF(B581<=VLOOKUP(Main!$N$22,Coefficients!$E$2:$H$28,4,FALSE),$B$32+(($B$477-B581)*(($B$32*(1-$B$33))/1000000)),NA())","v":{"$error":"#N/A"}},{"$error":"#N/A"},{"$error":"#N/A"},{"$error":"#N/A"}]
[171,130,{"$error":"#N/A"},{"$error":"#N/A"},{"$error":"#N/A"},{"$f":"IF(B582<=VLOOKUP(Main!$N$22,Coefficients!$E$2:$H$28,4,FALSE),$B$32-(($B$256-B361)*(($B$32*(1-$B$33))/1000000)),NA())","v":{"$error":"#N/A"}},{"$f":"IF(B582<=VLOOKUP(Main!$N$22,Coefficients!$E$2:$H$28,4,FALSE),($B$41-((B582-$B$477))*($B$41/1000000)*$B$43),NA())","v":{"$error":"#N/A"}},{"$f":"IFERROR('Device Resistance Tables'!D190,NA())","v":{"$error":"#N/A"}},{"$error":"#N/A"},{"$f":"IF(B582<=VLOOKUP(Main!$N$22,Coefficients!$E$2:$H$28,4,FALSE),($B$41+((B582-$B$477))*($B$41/1000000)*$B$43),NA())","v":{"$error":"#N/A"}},{"$f":"IF(B582<=VLOOKUP(Main!$N$22,Coefficients!$E$2:$H$28,4,FALSE),$B$32+(($B$477-B582)*(($B$32*(1-$B$33))/1000000)),NA())","v":{"$error":"#N/A"}},{"$error":"#N/A"},{"$error":"#N/A"},{"$error":"#N/A"}]
[172,131,{"$error":"#N/A"},{"$error":"#N/A"},{"$error":"#N/A"},{"$f":"IF(B583<=VLOOKUP(Main!$N$22,Coefficients!$E$2:$H$28,4,FALSE),$B$32-(($B$256-B362)*(($B$32*(1-$B$33))/1000000)),NA())","v":{"$error":"#N/A"}},{"$f":"IF(B583<=VLOOKUP(Main!$N$22,Coefficients!$E$2:$H$28,4,FALSE),($B$41-((B583-$B$477))*($B$41/1000000)*$B$43),NA())","v":{"$error":"#N/A"}},{"$f":"IFERROR('Device Resistance Tables'!D191,NA())","v":{"$error":"#N/A"}},{"$error":"#N/A"},{"$f":"IF(B583<=VLOOKUP(Main!$N$22,Coefficients!$E$2:$H$28,4,FALSE),($B$41+((B583-$B$477))*($B$41/1000000)*$B$43),NA())","v":{"$error":"#N/A"}},{"$f":"IF(B583<=VLOOKUP(Main!$N$22,Coefficients!$E$2:$H$28,4,FALSE),$B$32+(($B$477-B583)*(($B$32*(1-$B$33))/1000000)),NA())","v":{"$error":"#N/A"}},{"$error":"#N/A"},{"$error":"#N/A"},{"$error":"#N/A"}]
[173,132,{"$error":"#N/A"},{"$error":"#N/A"},{"$error":"#N/A"},{"$f":"IF(B584<=VLOOKUP(Main!$N$22,Coefficients!$E$2:$H$28,4,FALSE),$B$32-(($B$256-B363)*(($B$32*(1-$B$33))/1000000)),NA())","v":{"$error":"#N/A"}},{"$f":"IF(B584<=VLOOKUP(Main!$N$22,Coefficients!$E$2:$H$28,4,FALSE),($B$41-((B584-$B$477))*($B$41/1000000)*$B$43),NA())","v":{"$error":"#N/A"}},{"$f":"IFERROR('Device Resistance Tables'!D192,NA())","v":{"$error":"#N/A"}},{"$error":"#N/A"},{"$f":"IF(B584<=VLOOKUP(Main!$N$22,Coefficients!$E$2:$H$28,4,FALSE),($B$41+((B584-$B$477))*($B$41/1000000)*$B$43),NA())","v":{"$error":"#N/A"}},{"$f":"IF(B584<=VLOOKUP(Main!$N$22,Coefficients!$E$2:$H$28,4,FALSE),$B$32+(($B$477-B584)*(($B$32*(1-$B$33))/1000000)),NA())","v":{"$error":"#N/A"}},{"$error":"#N/A"},{"$error":"#N/A"},{"$error":"#N/A"}]
[174,133,{"$error":"#N/A"},{"$error":"#N/A"},{"$error":"#N/A"},{"$f":"IF(B585<=VLOOKUP(Main!$N$22,Coefficients!$E$2:$H$28,4,FALSE),$B$32-(($B$256-B364)*(($B$32*(1-$B$33))/1000000)),NA())","v":{"$error":"#N/A"}},{"$f":"IF(B585<=VLOOKUP(Main!$N$22,Coefficients!$E$2:$H$28,4,FALSE),($B$41-((B585-$B$477))*($B$41/1000000)*$B$43),NA())","v":{"$error":"#N/A"}},{"$f":"IFERROR('Device Resistance Tables'!D193,NA())","v":{"$error":"#N/A"}},{"$error":"#N/A"},{"$f":"IF(B585<=VLOOKUP(Main!$N$22,Coefficients!$E$2:$H$28,4,FALSE),($B$41+((B585-$B$477))*($B$41/1000000)*$B$43),NA())","v":{"$error":"#N/A"}},{"$f":"IF(B585<=VLOOKUP(Main!$N$22,Coefficients!$E$2:$H$28,4,FALSE),$B$32+(($B$477-B585)*(($B$32*(1-$B$33))/1000000)),NA())","v":{"$error":"#N/A"}},{"$error":"#N/A"},{"$error":"#N/A"},{"$error":"#N/A"}]
[175,134,{"$error":"#N/A"},{"$error":"#N/A"},{"$error":"#N/A"},{"$f":"IF(B586<=VLOOKUP(Main!$N$22,Coefficients!$E$2:$H$28,4,FALSE),$B$32-(($B$256-B365)*(($B$32*(1-$B$33))/1000000)),NA())","v":{"$error":"#N/A"}},{"$f":"IF(B586<=VLOOKUP(Main!$N$22,Coefficients!$E$2:$H$28,4,FALSE),($B$41-((B586-$B$477))*($B$41/1000000)*$B$43),NA())","v":{"$error":"#N/A"}},{"$f":"IFERROR('Device Resistance Tables'!D194,NA())","v":{"$error":"#N/A"}},{"$error":"#N/A"},{"$f":"IF(B586<=VLOOKUP(Main!$N$22,Coefficients!$E$2:$H$28,4,FALSE),($B$41+((B586-$B$477))*($B$41/1000000)*$B$43),NA())","v":{"$error":"#N/A"}},{"$f":"IF(B586<=VLOOKUP(Main!$N$22,Coefficients!$E$2:$H$28,4,FALSE),$B$32+(($B$477-B586)*(($B$32*(1-$B$33))/1000000)),NA())","v":{"$error":"#N/A"}},{"$error":"#N/A"},{"$error":"#N/A"},{"$error":"#N/A"}]
[176,135,{"$error":"#N/A"},{"$error":"#N/A"},{"$error":"#N/A"},{"$f":"IF(B587<=VLOOKUP(Main!$N$22,Coefficients!$E$2:$H$28,4,FALSE),$B$32-(($B$256-B366)*(($B$32*(1-$B$33))/1000000)),NA())","v":{"$error":"#N/A"}},{"$f":"IF(B587<=VLOOKUP(Main!$N$22,Coefficients!$E$2:$H$28,4,FALSE),($B$41-((B587-$B$477))*($B$41/1000000)*$B$43),NA())","v":{"$error":"#N/A"}},{"$f":"IFERROR('Device Resistance Tables'!D195,NA())","v":{"$error":"#N/A"}},{"$error":"#N/A"},{"$f":"IF(B587<=VLOOKUP(Main!$N$22,Coefficients!$E$2:$H$28,4,FALSE),($B$41+((B587-$B$477))*($B$41/1000000)*$B$43),NA())","v":{"$error":"#N/A"}},{"$f":"IF(B587<=VLOOKUP(Main!$N$22,Coefficients!$E$2:$H$28,4,FALSE),$B$32+(($B$477-B587)*(($B$32*(1-$B$33))/1000000)),NA())","v":{"$error":"#N/A"}},{"$error":"#N/A"},{"$error":"#N/A"},{"$error":"#N/A"}]
[177,136,{"$error":"#N/A"},{"$error":"#N/A"},{"$error":"#N/A"},{"$f":"IF(B588<=VLOOKUP(Main!$N$22,Coefficients!$E$2:$H$28,4,FALSE),$B$32-(($B$256-B367)*(($B$32*(1-$B$33))/1000000)),NA())","v":{"$error":"#N/A"}},{"$f":"IF(B588<=VLOOKUP(Main!$N$22,Coefficients!$E$2:$H$28,4,FALSE),($B$41-((B588-$B$477))*($B$41/1000000)*$B$43),NA())","v":{"$error":"#N/A"}},{"$f":"IFERROR('Device Resistance Tables'!D196,NA())","v":{"$error":"#N/A"}},{"$error":"#N/A"},{"$f":"IF(B588<=VLOOKUP(Main!$N$22,Coefficients!$E$2:$H$28,4,FALSE),($B$41+((B588-$B$477))*($B$41/1000000)*$B$43),NA())","v":{"$error":"#N/A"}},{"$f":"IF(B588<=VLOOKUP(Main!$N$22,Coefficients!$E$2:$H$28,4,FALSE),$B$32+(($B$477-B588)*(($B$32*(1-$B$33))/1000000)),NA())","v":{"$error":"#N/A"}},{"$error":"#N/A"},{"$error":"#N/A"},{"$error":"#N/A"}]
[178,137,{"$error":"#N/A"},{"$error":"#N/A"},{"$error":"#N/A"},{"$f":"IF(B589<=VLOOKUP(Main!$N$22,Coefficients!$E$2:$H$28,4,FALSE),$B$32-(($B$256-B368)*(($B$32*(1-$B$33))/1000000)),NA())","v":{"$error":"#N/A"}},{"$f":"IF(B589<=VLOOKUP(Main!$N$22,Coefficients!$E$2:$H$28,4,FALSE),($B$41-((B589-$B$477))*($B$41/1000000)*$B$43),NA())","v":{"$error":"#N/A"}},{"$f":"IFERROR('Device Resistance Tables'!D197,NA())","v":{"$error":"#N/A"}},{"$error":"#N/A"},{"$f":"IF(B589<=VLOOKUP(Main!$N$22,Coefficients!$E$2:$H$28,4,FALSE),($B$41+((B589-$B$477))*($B$41/1000000)*$B$43),NA())","v":{"$error":"#N/A"}},{"$f":"IF(B589<=VLOOKUP(Main!$N$22,Coefficients!$E$2:$H$28,4,FALSE),$B$32+(($B$477-B589)*(($B$32*(1-$B$33))/1000000)),NA())","v":{"$error":"#N/A"}},{"$error":"#N/A"},{"$error":"#N/A"},{"$error":"#N/A"}]
[179,138,{"$error":"#N/A"},{"$error":"#N/A"},{"$error":"#N/A"},{"$f":"IF(B590<=VLOOKUP(Main!$N$22,Coefficients!$E$2:$H$28,4,FALSE),$B$32-(($B$256-B369)*(($B$32*(1-$B$33))/1000000)),NA())","v":{"$error":"#N/A"}},{"$f":"IF(B590<=VLOOKUP(Main!$N$22,Coefficients!$E$2:$H$28,4,FALSE),($B$41-((B590-$B$477))*($B$41/1000000)*$B$43),NA())","v":{"$error":"#N/A"}},{"$f":"IFERROR('Device Resistance Tables'!D198,NA())","v":{"$error":"#N/A"}},{"$error":"#N/A"},{"$f":"IF(B590<=VLOOKUP(Main!$N$22,Coefficients!$E$2:$H$28,4,FALSE),($B$41+((B590-$B$477))*($B$41/1000000)*$B$43),NA())","v":{"$error":"#N/A"}},{"$f":"IF(B590<=VLOOKUP(Main!$N$22,Coefficients!$E$2:$H$28,4,FALSE),$B$32+(($B$477-B590)*(($B$32*(1-$B$33))/1000000)),NA())","v":{"$error":"#N/A"}},{"$error":"#N/A"},{"$error":"#N/A"},{"$error":"#N/A"}]
[180,139,{"$error":"#N/A"},{"$error":"#N/A"},{"$error":"#N/A"},{"$f":"IF(B591<=VLOOKUP(Main!$N$22,Coefficients!$E$2:$H$28,4,FALSE),$B$32-(($B$256-B370)*(($B$32*(1-$B$33))/1000000)),NA())","v":{"$error":"#N/A"}},{"$f":"IF(B591<=VLOOKUP(Main!$N$22,Coefficients!$E$2:$H$28,4,FALSE),($B$41-((B591-$B$477))*($B$41/1000000)*$B$43),NA())","v":{"$error":"#N/A"}},{"$f":"IFERROR('Device Resistance Tables'!D199,NA())","v":{"$error":"#N/A"}},{"$error":"#N/A"},{"$f":"IF(B591<=VLOOKUP(Main!$N$22,Coefficients!$E$2:$H$28,4,FALSE),($B$41+((B591-$B$477))*($B$41/1000000)*$B$43),NA())","v":{"$error":"#N/A"}},{"$f":"IF(B591<=VLOOKUP(Main!$N$22,Coefficients!$E$2:$H$28,4,FALSE),$B$32+(($B$477-B591)*(($B$32*(1-$B$33))/1000000)),NA())","v":{"$error":"#N/A"}},{"$error":"#N/A"},{"$error":"#N/A"},{"$error":"#N/A"}]
[181,140,{"$error":"#N/A"},{"$error":"#N/A"},{"$error":"#N/A"},{"$f":"IF(B592<=VLOOKUP(Main!$N$22,Coefficients!$E$2:$H$28,4,FALSE),$B$32-(($B$256-B371)*(($B$32*(1-$B$33))/1000000)),NA())","v":{"$error":"#N/A"}},{"$f":"IF(B592<=VLOOKUP(Main!$N$22,Coefficients!$E$2:$H$28,4,FALSE),($B$41-((B592-$B$477))*($B$41/1000000)*$B$43),NA())","v":{"$error":"#N/A"}},{"$f":"IFERROR('Device Resistance Tables'!D200,NA())","v":{"$error":"#N/A"}},{"$error":"#N/A"},{"$f":"IF(B592<=VLOOKUP(Main!$N$22,Coefficients!$E$2:$H$28,4,FALSE),($B$41+((B592-$B$477))*($B$41/1000000)*$B$43),NA())","v":{"$error":"#N/A"}},{"$f":"IF(B592<=VLOOKUP(Main!$N$22,Coefficients!$E$2:$H$28,4,FALSE),$B$32+(($B$477-B592)*(($B$32*(1-$B$33))/1000000)),NA())","v":{"$error":"#N/A"}},{"$error":"#N/A"},{"$error":"#N/A"},{"$error":"#N/A"}]
[182,141,{"$error":"#N/A"},{"$error":"#N/A"},{"$error":"#N/A"},{"$f":"IF(B593<=VLOOKUP(Main!$N$22,Coefficients!$E$2:$H$28,4,FALSE),$B$32-(($B$256-B372)*(($B$32*(1-$B$33))/1000000)),NA())","v":{"$error":"#N/A"}},{"$f":"IF(B593<=VLOOKUP(Main!$N$22,Coefficients!$E$2:$H$28,4,FALSE),($B$41-((B593-$B$477))*($B$41/1000000)*$B$43),NA())","v":{"$error":"#N/A"}},{"$f":"IFERROR('Device Resistance Tables'!D201,NA())","v":{"$error":"#N/A"}},{"$error":"#N/A"},{"$f":"IF(B593<=VLOOKUP(Main!$N$22,Coefficients!$E$2:$H$28,4,FALSE),($B$41+((B593-$B$477))*($B$41/1000000)*$B$43),NA())","v":{"$error":"#N/A"}},{"$f":"IF(B593<=VLOOKUP(Main!$N$22,Coefficients!$E$2:$H$28,4,FALSE),$B$32+(($B$477-B593)*(($B$32*(1-$B$33))/1000000)),NA())","v":{"$error":"#N/A"}},{"$error":"#N/A"},{"$error":"#N/A"},{"$error":"#N/A"}]
[183,142,{"$error":"#N/A"},{"$error":"#N/A"},{"$error":"#N/A"},{"$f":"IF(B594<=VLOOKUP(Main!$N$22,Coefficients!$E$2:$H$28,4,FALSE),$B$32-(($B$256-B373)*(($B$32*(1-$B$33))/1000000)),NA())","v":{"$error":"#N/A"}},{"$f":"IF(B594<=VLOOKUP(Main!$N$22,Coefficients!$E$2:$H$28,4,FALSE),($B$41-((B594-$B$477))*($B$41/1000000)*$B$43),NA())","v":{"$error":"#N/A"}},{"$f":"IFERROR('Device Resistance Tables'!D202,NA())","v":{"$error":"#N/A"}},{"$error":"#N/A"},{"$f":"IF(B594<=VLOOKUP(Main!$N$22,Coefficients!$E$2:$H$28,4,FALSE),($B$41+((B594-$B$477))*($B$41/1000000)*$B$43),NA())","v":{"$error":"#N/A"}},{"$f":"IF(B594<=VLOOKUP(Main!$N$22,Coefficients!$E$2:$H$28,4,FALSE),$B$32+(($B$477-B594)*(($B$32*(1-$B$33))/1000000)),NA())","v":{"$error":"#N/A"}},{"$error":"#N/A"},{"$error":"#N/A"},{"$error":"#N/A"}]
[184,143,{"$error":"#N/A"},{"$error":"#N/A"},{"$error":"#N/A"},{"$f":"IF(B595<=VLOOKUP(Main!$N$22,Coefficients!$E$2:$H$28,4,FALSE),$B$32-(($B$256-B374)*(($B$32*(1-$B$33))/1000000)),NA())","v":{"$error":"#N/A"}},{"$f":"IF(B595<=VLOOKUP(Main!$N$22,Coefficients!$E$2:$H$28,4,FALSE),($B$41-((B595-$B$477))*($B$41/1000000)*$B$43),NA())","v":{"$error":"#N/A"}},{"$f":"IFERROR('Device Resistance Tables'!D203,NA())","v":{"$error":"#N/A"}},{"$error":"#N/A"},{"$f":"IF(B595<=VLOOKUP(Main!$N$22,Coefficients!$E$2:$H$28,4,FALSE),($B$41+((B595-$B$477))*($B$41/1000000)*$B$43),NA())","v":{"$error":"#N/A"}},{"$f":"IF(B595<=VLOOKUP(Main!$N$22,Coefficients!$E$2:$H$28,4,FALSE),$B$32+(($B$477-B595)*(($B$32*(1-$B$33))/1000000)),NA())","v":{"$error":"#N/A"}},{"$error":"#N/A"},{"$error":"#N/A"},{"$error":"#N/A"}]
[185,144,{"$error":"#N/A"},{"$error":"#N/A"},{"$error":"#N/A"},{"$f":"IF(B596<=VLOOKUP(Main!$N$22,Coefficients!$E$2:$H$28,4,FALSE),$B$32-(($B$256-B375)*(($B$32*(1-$B$33))/1000000)),NA())","v":{"$error":"#N/A"}},{"$f":"IF(B596<=VLOOKUP(Main!$N$22,Coefficients!$E$2:$H$28,4,FALSE),($B$41-((B596-$B$477))*($B$41/1000000)*$B$43),NA())","v":{"$error":"#N/A"}},{"$f":"IFERROR('Device Resistance Tables'!D204,NA())","v":{"$error":"#N/A"}},{"$error":"#N/A"},{"$f":"IF(B596<=VLOOKUP(Main!$N$22,Coefficients!$E$2:$H$28,4,FALSE),($B$41+((B596-$B$477))*($B$41/1000000)*$B$43),NA())","v":{"$error":"#N/A"}},{"$f":"IF(B596<=VLOOKUP(Main!$N$22,Coefficients!$E$2:$H$28,4,FALSE),$B$32+(($B$477-B596)*(($B$32*(1-$B$33))/1000000)),NA())","v":{"$error":"#N/A"}},{"$error":"#N/A"},{"$error":"#N/A"},{"$error":"#N/A"}]
[186,145,{"$error":"#N/A"},{"$error":"#N/A"},{"$error":"#N/A"},{"$f":"IF(B597<=VLOOKUP(Main!$N$22,Coefficients!$E$2:$H$28,4,FALSE),$B$32-(($B$256-B376)*(($B$32*(1-$B$33))/1000000)),NA())","v":{"$error":"#N/A"}},{"$f":"IF(B597<=VLOOKUP(Main!$N$22,Coefficients!$E$2:$H$28,4,FALSE),($B$41-((B597-$B$477))*($B$41/1000000)*$B$43),NA())","v":{"$error":"#N/A"}},{"$f":"IFERROR('Device Resistance Tables'!D205,NA())","v":{"$error":"#N/A"}},{"$error":"#N/A"},{"$f":"IF(B597<=VLOOKUP(Main!$N$22,Coefficients!$E$2:$H$28,4,FALSE),($B$41+((B597-$B$477))*($B$41/1000000)*$B$43),NA())","v":{"$error":"#N/A"}},{"$f":"IF(B597<=VLOOKUP(Main!$N$22,Coefficients!$E$2:$H$28,4,FALSE),$B$32+(($B$477-B597)*(($B$32*(1-$B$33))/1000000)),NA())","v":{"$error":"#N/A"}},{"$error":"#N/A"},{"$error":"#N/A"},{"$error":"#N/A"}]
[187,146,{"$error":"#N/A"},{"$error":"#N/A"},{"$error":"#N/A"},{"$f":"IF(B598<=VLOOKUP(Main!$N$22,Coefficients!$E$2:$H$28,4,FALSE),$B$32-(($B$256-B377)*(($B$32*(1-$B$33))/1000000)),NA())","v":{"$error":"#N/A"}},{"$f":"IF(B598<=VLOOKUP(Main!$N$22,Coefficients!$E$2:$H$28,4,FALSE),($B$41-((B598-$B$477))*($B$41/1000000)*$B$43),NA())","v":{"$error":"#N/A"}},{"$f":"IFERROR('Device Resistance Tables'!D206,NA())","v":{"$error":"#N/A"}},{"$error":"#N/A"},{"$f":"IF(B598<=VLOOKUP(Main!$N$22,Coefficients!$E$2:$H$28,4,FALSE),($B$41+((B598-$B$477))*($B$41/1000000)*$B$43),NA())","v":{"$error":"#N/A"}},{"$f":"IF(B598<=VLOOKUP(Main!$N$22,Coefficients!$E$2:$H$28,4,FALSE),$B$32+(($B$477-B598)*(($B$32*(1-$B$33))/1000000)),NA())","v":{"$error":"#N/A"}},{"$error":"#N/A"},{"$error":"#N/A"},{"$error":"#N/A"}]
[188,147,{"$error":"#N/A"},{"$error":"#N/A"},{"$error":"#N/A"},{"$f":"IF(B599<=VLOOKUP(Main!$N$22,Coefficients!$E$2:$H$28,4,FALSE),$B$32-(($B$256-B378)*(($B$32*(1-$B$33))/1000000)),NA())","v":{"$error":"#N/A"}},{"$f":"IF(B599<=VLOOKUP(Main!$N$22,Coefficients!$E$2:$H$28,4,FALSE),($B$41-((B599-$B$477))*($B$41/1000000)*$B$43),NA())","v":{"$error":"#N/A"}},{"$f":"IFERROR('Device Resistance Tables'!D207,NA())","v":{"$error":"#N/A"}},{"$error":"#N/A"},{"$f":"IF(B599<=VLOOKUP(Main!$N$22,Coefficients!$E$2:$H$28,4,FALSE),($B$41+((B599-$B$477))*($B$41/1000000)*$B$43),NA())","v":{"$error":"#N/A"}},{"$f":"IF(B599<=VLOOKUP(Main!$N$22,Coefficients!$E$2:$H$28,4,FALSE),$B$32+(($B$477-B599)*(($B$32*(1-$B$33))/1000000)),NA())","v":{"$error":"#N/A"}},{"$error":"#N/A"},{"$error":"#N/A"},{"$error":"#N/A"}]
[189,148,{"$error":"#N/A"},{"$error":"#N/A"},{"$error":"#N/A"},{"$f":"IF(B600<=VLOOKUP(Main!$N$22,Coefficients!$E$2:$H$28,4,FALSE),$B$32-(($B$256-B379)*(($B$32*(1-$B$33))/1000000)),NA())","v":{"$error":"#N/A"}},{"$f":"IF(B600<=VLOOKUP(Main!$N$22,Coefficients!$E$2:$H$28,4,FALSE),($B$41-((B600-$B$477))*($B$41/1000000)*$B$43),NA())","v":{"$error":"#N/A"}},{"$f":"IFERROR('Device Resistance Tables'!D208,NA())","v":{"$error":"#N/A"}},{"$error":"#N/A"},{"$f":"IF(B600<=VLOOKUP(Main!$N$22,Coefficients!$E$2:$H$28,4,FALSE),($B$41+((B600-$B$477))*($B$41/1000000)*$B$43),NA())","v":{"$error":"#N/A"}},{"$f":"IF(B600<=VLOOKUP(Main!$N$22,Coefficients!$E$2:$H$28,4,FALSE),$B$32+(($B$477-B600)*(($B$32*(1-$B$33))/1000000)),NA())","v":{"$error":"#N/A"}},{"$error":"#N/A"},{"$error":"#N/A"},{"$error":"#N/A"}]
[190,149,{"$error":"#N/A"},{"$error":"#N/A"},{"$error":"#N/A"},{"$f":"IF(B601<=VLOOKUP(Main!$N$22,Coefficients!$E$2:$H$28,4,FALSE),$B$32-(($B$256-B380)*(($B$32*(1-$B$33))/1000000)),NA())","v":{"$error":"#N/A"}},{"$f":"IF(B601<=VLOOKUP(Main!$N$22,Coefficients!$E$2:$H$28,4,FALSE),($B$41-((B601-$B$477))*($B$41/1000000)*$B$43),NA())","v":{"$error":"#N/A"}},{"$f":"IFERROR('Device Resistance Tables'!D209,NA())","v":{"$error":"#N/A"}},{"$error":"#N/A"},{"$f":"IF(B601<=VLOOKUP(Main!$N$22,Coefficients!$E$2:$H$28,4,FALSE),($B$41+((B601-$B$477))*($B$41/1000000)*$B$43),NA())","v":{"$error":"#N/A"}},{"$f":"IF(B601<=VLOOKUP(Main!$N$22,Coefficients!$E$2:$H$28,4,FALSE),$B$32+(($B$477-B601)*(($B$32*(1-$B$33))/1000000)),NA())","v":{"$error":"#N/A"}},{"$error":"#N/A"},{"$error":"#N/A"},{"$error":"#N/A"}]
[191,150,{"$error":"#N/A"},{"$error":"#N/A"},{"$error":"#N/A"},{"$f":"IF(B602<=VLOOKUP(Main!$N$22,Coefficients!$E$2:$H$28,4,FALSE),$B$32-(($B$256-B381)*(($B$32*(1-$B$33))/1000000)),NA())","v":{"$error":"#N/A"}},{"$f":"IF(B602<=VLOOKUP(Main!$N$22,Coefficients!$E$2:$H$28,4,FALSE),($B$41-((B602-$B$477))*($B$41/1000000)*$B$43),NA())","v":{"$error":"#N/A"}},{"$f":"IFERROR('Device Resistance Tables'!D210,NA())","v":{"$error":"#N/A"}},{"$error":"#N/A"},{"$f":"IF(B602<=VLOOKUP(Main!$N$22,Coefficients!$E$2:$H$28,4,FALSE),($B$41+((B602-$B$477))*($B$41/1000000)*$B$43),NA())","v":{"$error":"#N/A"}},{"$f":"IF(B602<=VLOOKUP(Main!$N$22,Coefficients!$E$2:$H$28,4,FALSE),$B$32+(($B$477-B602)*(($B$32*(1-$B$33))/1000000)),NA())","v":{"$error":"#N/A"}},{"$error":"#N/A"},{"$error":"#N/A"},{"$error":"#N/A"}]
[192,151,{"$error":"#N/A"},{"$error":"#N/A"},{"$error":"#N/A"},{"$f":"IF(B603<=VLOOKUP(Main!$N$22,Coefficients!$E$2:$H$28,4,FALSE),$B$32-(($B$256-B382)*(($B$32*(1-$B$33))/1000000)),NA())","v":{"$error":"#N/A"}},{"$f":"IF(B603<=VLOOKUP(Main!$N$22,Coefficients!$E$2:$H$28,4,FALSE),($B$41-((B603-$B$477))*($B$41/1000000)*$B$43),NA())","v":{"$error":"#N/A"}},{"$f":"IFERROR('Device Resistance Tables'!D211,NA())","v":{"$error":"#N/A"}},{"$error":"#N/A"},{"$f":"IF(B603<=VLOOKUP(Main!$N$22,Coefficients!$E$2:$H$28,4,FALSE),($B$41+((B603-$B$477))*($B$41/1000000)*$B$43),NA())","v":{"$error":"#N/A"}},{"$f":"IF(B603<=VLOOKUP(Main!$N$22,Coefficients!$E$2:$H$28,4,FALSE),$B$32+(($B$477-B603)*(($B$32*(1-$B$33))/1000000)),NA())","v":{"$error":"#N/A"}},{"$error":"#N/A"},{"$error":"#N/A"},{"$error":"#N/A"}]
[193,152,{"$error":"#N/A"},{"$error":"#N/A"},{"$f":"IFERROR(F604/(H604+J604)*H604,NA())","v":{"$error":"#N/A"}},{"$f":"IF(B604<=VLOOKUP(Main!$N$22,Coefficients!$E$2:$H$28,4,FALSE),$B$32-(($B$256-B383)*(($B$32*(1-$B$33))/1000000)),NA())","v":{"$error":"#N/A"}},{"$f":"IF(B604<=VLOOKUP(Main!$N$22,Coefficients!$E$2:$H$28,4,FALSE),($B$41-((B604-$B$477))*($B$41/1000000)*$B$43),NA())","v":{"$error":"#N/A"}},{"$f":"IFERROR('Device Resistance Tables'!D212,NA())","v":{"$error":"#N/A"}},{"$f":"IFERROR(L383,NA())","v":{"$error":"#N/A"}},{"$f":"IF(B604<=VLOOKUP(Main!$N$22,Coefficients!$E$2:$H$28,4,FALSE),($B$41+((B604-$B$477))*($B$41/1000000)*$B$43),NA())","v":{"$error":"#N/A"}},{"$f":"IF(B604<=VLOOKUP(Main!$N$22,Coefficients!$E$2:$H$28,4,FALSE),$B$32+(($B$477-B604)*(($B$32*(1-$B$33))/1000000)),NA())","v":{"$error":"#N/A"}},{"$f":"IFERROR((K604/(H604+G604))*H604,NA())","v":{"$error":"#N/A"}},{"$error":"#N/A"},{"$error":"#N/A"}]
[194,153,{"$f":"IFERROR(D605/I605,NA())","v":{"$error":"#N/A"}},{"$f":"IFERROR(E605-($B$32/(H605+$B$41)*H605),NA())","v":{"$error":"#N/A"}},{"$error":"#N/A"},{"$f":"IF(B605<=VLOOKUP(Main!$N$22,Coefficients!$E$2:$H$28,4,FALSE),$B$32-(($B$256-B384)*(($B$32*(1-$B$33))/1000000)),NA())","v":{"$error":"#N/A"}},{"$f":"IF(B605<=VLOOKUP(Main!$N$22,Coefficients!$E$2:$H$28,4,FALSE),($B$41-((B605-$B$477))*($B$41/1000000)*$B$43),NA())","v":{"$error":"#N/A"}},{"$f":"IFERROR('Device Resistance Tables'!D213,NA())","v":{"$error":"#N/A"}},{"$error":"#N/A"},{"$f":"IF(B605<=VLOOKUP(Main!$N$22,Coefficients!$E$2:$H$28,4,FALSE),($B$41+((B605-$B$477))*($B$41/1000000)*$B$43),NA())","v":{"$error":"#N/A"}},{"$f":"IF(B605<=VLOOKUP(Main!$N$22,Coefficients!$E$2:$H$28,4,FALSE),$B$32+(($B$477-B605)*(($B$32*(1-$B$33))/1000000)),NA())","v":{"$error":"#N/A"}},{"$error":"#N/A"},{"$f":"IFERROR(L605-($B$32/(H605+$B$41)*H605),NA())","v":{"$error":"#N/A"}},{"$f":"IFERROR(M605/I605,NA())","v":{"$error":"#N/A"}}]
[195,{"$f":"B605+1","v":154},{"$error":"#N/A"},{"$error":"#N/A"},{"$error":"#N/A"},{"$f":"IF(B606<=VLOOKUP(Main!$N$22,Coefficients!$E$2:$H$28,4,FALSE),$B$32-(($B$256-B385)*(($B$32*(1-$B$33))/1000000)),NA())","v":{"$error":"#N/A"}},{"$f":"IF(B606<=VLOOKUP(Main!$N$22,Coefficients!$E$2:$H$28,4,FALSE),($B$41-((B606-$B$477))*($B$41/1000000)*$B$43),NA())","v":{"$error":"#N/A"}},{"$f":"IFERROR('Device Resistance Tables'!D214,NA())","v":{"$error":"#N/A"}},{"$error":"#N/A"},{"$f":"IF(B606<=VLOOKUP(Main!$N$22,Coefficients!$E$2:$H$28,4,FALSE),($B$41+((B606-$B$477))*($B$41/1000000)*$B$43),NA())","v":{"$error":"#N/A"}},{"$f":"IF(B606<=VLOOKUP(Main!$N$22,Coefficients!$E$2:$H$28,4,FALSE),$B$32+(($B$477-B606)*(($B$32*(1-$B$33))/1000000)),NA())","v":{"$error":"#N/A"}},{"$error":"#N/A"},{"$error":"#N/A"},{"$error":"#N/A"}]
[196,155,{"$error":"#N/A"},{"$error":"#N/A"},{"$error":"#N/A"},{"$f":"IF(B607<=VLOOKUP(Main!$N$22,Coefficients!$E$2:$H$28,4,FALSE),$B$32-(($B$256-B386)*(($B$32*(1-$B$33))/1000000)),NA())","v":{"$error":"#N/A"}},{"$f":"IF(B607<=VLOOKUP(Main!$N$22,Coefficients!$E$2:$H$28,4,FALSE),($B$41-((B607-$B$477))*($B$41/1000000)*$B$43),NA())","v":{"$error":"#N/A"}},{"$f":"IFERROR('Device Resistance Tables'!D215,NA())","v":{"$error":"#N/A"}},{"$error":"#N/A"},{"$f":"IF(B607<=VLOOKUP(Main!$N$22,Coefficients!$E$2:$H$28,4,FALSE),($B$41+((B607-$B$477))*($B$41/1000000)*$B$43),NA())","v":{"$error":"#N/A"}},{"$f":"IF(B607<=VLOOKUP(Main!$N$22,Coefficients!$E$2:$H$28,4,FALSE),$B$32+(($B$477-B607)*(($B$32*(1-$B$33))/1000000)),NA())","v":{"$error":"#N/A"}},{"$error":"#N/A"},{"$error":"#N/A"},{"$error":"#N/A"}]
[197,156,{"$error":"#N/A"},{"$error":"#N/A"},{"$error":"#N/A"},{"$f":"IF(B608<=VLOOKUP(Main!$N$22,Coefficients!$E$2:$H$28,4,FALSE),$B$32-(($B$256-B387)*(($B$32*(1-$B$33))/1000000)),NA())","v":{"$error":"#N/A"}},{"$f":"IF(B608<=VLOOKUP(Main!$N$22,Coefficients!$E$2:$H$28,4,FALSE),($B$41-((B608-$B$477))*($B$41/1000000)*$B$43),NA())","v":{"$error":"#N/A"}},{"$f":"IFERROR('Device Resistance Tables'!D216,NA())","v":{"$error":"#N/A"}},{"$error":"#N/A"},{"$f":"IF(B608<=VLOOKUP(Main!$N$22,Coefficients!$E$2:$H$28,4,FALSE),($B$41+((B608-$B$477))*($B$41/1000000)*$B$43),NA())","v":{"$error":"#N/A"}},{"$f":"IF(B608<=VLOOKUP(Main!$N$22,Coefficients!$E$2:$H$28,4,FALSE),$B$32+(($B$477-B608)*(($B$32*(1-$B$33))/1000000)),NA())","v":{"$error":"#N/A"}},{"$error":"#N/A"},{"$error":"#N/A"},{"$error":"#N/A"}]
[198,157,{"$error":"#N/A"},{"$error":"#N/A"},{"$error":"#N/A"},{"$f":"IF(B609<=VLOOKUP(Main!$N$22,Coefficients!$E$2:$H$28,4,FALSE),$B$32-(($B$256-B388)*(($B$32*(1-$B$33))/1000000)),NA())","v":{"$error":"#N/A"}},{"$f":"IF(B609<=VLOOKUP(Main!$N$22,Coefficients!$E$2:$H$28,4,FALSE),($B$41-((B609-$B$477))*($B$41/1000000)*$B$43),NA())","v":{"$error":"#N/A"}},{"$f":"IFERROR('Device Resistance Tables'!D217,NA())","v":{"$error":"#N/A"}},{"$error":"#N/A"},{"$f":"IF(B609<=VLOOKUP(Main!$N$22,Coefficients!$E$2:$H$28,4,FALSE),($B$41+((B609-$B$477))*($B$41/1000000)*$B$43),NA())","v":{"$error":"#N/A"}},{"$f":"IF(B609<=VLOOKUP(Main!$N$22,Coefficients!$E$2:$H$28,4,FALSE),$B$32+(($B$477-B609)*(($B$32*(1-$B$33))/1000000)),NA())","v":{"$error":"#N/A"}},{"$error":"#N/A"},{"$error":"#N/A"},{"$error":"#N/A"}]
[199,158,{"$error":"#N/A"},{"$error":"#N/A"},{"$error":"#N/A"},{"$f":"IF(B610<=VLOOKUP(Main!$N$22,Coefficients!$E$2:$H$28,4,FALSE),$B$32-(($B$256-B389)*(($B$32*(1-$B$33))/1000000)),NA())","v":{"$error":"#N/A"}},{"$f":"IF(B610<=VLOOKUP(Main!$N$22,Coefficients!$E$2:$H$28,4,FALSE),($B$41-((B610-$B$477))*($B$41/1000000)*$B$43),NA())","v":{"$error":"#N/A"}},{"$f":"IFERROR('Device Resistance Tables'!D218,NA())","v":{"$error":"#N/A"}},{"$error":"#N/A"},{"$f":"IF(B610<=VLOOKUP(Main!$N$22,Coefficients!$E$2:$H$28,4,FALSE),($B$41+((B610-$B$477))*($B$41/1000000)*$B$43),NA())","v":{"$error":"#N/A"}},{"$f":"IF(B610<=VLOOKUP(Main!$N$22,Coefficients!$E$2:$H$28,4,FALSE),$B$32+(($B$477-B610)*(($B$32*(1-$B$33))/1000000)),NA())","v":{"$error":"#N/A"}},{"$error":"#N/A"},{"$error":"#N/A"},{"$error":"#N/A"}]
[200,159,{"$error":"#N/A"},{"$error":"#N/A"},{"$error":"#N/A"},{"$f":"IF(B611<=VLOOKUP(Main!$N$22,Coefficients!$E$2:$H$28,4,FALSE),$B$32-(($B$256-B390)*(($B$32*(1-$B$33))/1000000)),NA())","v":{"$error":"#N/A"}},{"$f":"IF(B611<=VLOOKUP(Main!$N$22,Coefficients!$E$2:$H$28,4,FALSE),($B$41-((B611-$B$477))*($B$41/1000000)*$B$43),NA())","v":{"$error":"#N/A"}},{"$f":"IFERROR('Device Resistance Tables'!D219,NA())","v":{"$error":"#N/A"}},{"$error":"#N/A"},{"$f":"IF(B611<=VLOOKUP(Main!$N$22,Coefficients!$E$2:$H$28,4,FALSE),($B$41+((B611-$B$477))*($B$41/1000000)*$B$43),NA())","v":{"$error":"#N/A"}},{"$f":"IF(B611<=VLOOKUP(Main!$N$22,Coefficients!$E$2:$H$28,4,FALSE),$B$32+(($B$477-B611)*(($B$32*(1-$B$33))/1000000)),NA())","v":{"$error":"#N/A"}},{"$error":"#N/A"},{"$error":"#N/A"},{"$error":"#N/A"}]
[201,160,{"$error":"#N/A"},{"$error":"#N/A"},{"$error":"#N/A"},{"$f":"IF(B612<=VLOOKUP(Main!$N$22,Coefficients!$E$2:$H$28,4,FALSE),$B$32-(($B$256-B391)*(($B$32*(1-$B$33))/1000000)),NA())","v":{"$error":"#N/A"}},{"$f":"IF(B612<=VLOOKUP(Main!$N$22,Coefficients!$E$2:$H$28,4,FALSE),($B$41-((B612-$B$477))*($B$41/1000000)*$B$43),NA())","v":{"$error":"#N/A"}},{"$f":"IFERROR('Device Resistance Tables'!D220,NA())","v":{"$error":"#N/A"}},{"$error":"#N/A"},{"$f":"IF(B612<=VLOOKUP(Main!$N$22,Coefficients!$E$2:$H$28,4,FALSE),($B$41+((B612-$B$477))*($B$41/1000000)*$B$43),NA())","v":{"$error":"#N/A"}},{"$f":"IF(B612<=VLOOKUP(Main!$N$22,Coefficients!$E$2:$H$28,4,FALSE),$B$32+(($B$477-B612)*(($B$32*(1-$B$33))/1000000)),NA())","v":{"$error":"#N/A"}},{"$error":"#N/A"},{"$error":"#N/A"},{"$error":"#N/A"}]
[202,161,{"$error":"#N/A"},{"$error":"#N/A"},{"$error":"#N/A"},{"$f":"IF(B613<=VLOOKUP(Main!$N$22,Coefficients!$E$2:$H$28,4,FALSE),$B$32-(($B$256-B392)*(($B$32*(1-$B$33))/1000000)),NA())","v":{"$error":"#N/A"}},{"$f":"IF(B613<=VLOOKUP(Main!$N$22,Coefficients!$E$2:$H$28,4,FALSE),($B$41-((B613-$B$477))*($B$41/1000000)*$B$43),NA())","v":{"$error":"#N/A"}},{"$f":"IFERROR('Device Resistance Tables'!D221,NA())","v":{"$error":"#N/A"}},{"$error":"#N/A"},{"$f":"IF(B613<=VLOOKUP(Main!$N$22,Coefficients!$E$2:$H$28,4,FALSE),($B$41+((B613-$B$477))*($B$41/1000000)*$B$43),NA())","v":{"$error":"#N/A"}},{"$f":"IF(B613<=VLOOKUP(Main!$N$22,Coefficients!$E$2:$H$28,4,FALSE),$B$32+(($B$477-B613)*(($B$32*(1-$B$33))/1000000)),NA())","v":{"$error":"#N/A"}},{"$error":"#N/A"},{"$error":"#N/A"},{"$error":"#N/A"}]
[203,162,{"$error":"#N/A"},{"$error":"#N/A"},{"$error":"#N/A"},{"$f":"IF(B614<=VLOOKUP(Main!$N$22,Coefficients!$E$2:$H$28,4,FALSE),$B$32-(($B$256-B393)*(($B$32*(1-$B$33))/1000000)),NA())","v":{"$error":"#N/A"}},{"$f":"IF(B614<=VLOOKUP(Main!$N$22,Coefficients!$E$2:$H$28,4,FALSE),($B$41-((B614-$B$477))*($B$41/1000000)*$B$43),NA())","v":{"$error":"#N/A"}},{"$f":"IFERROR('Device Resistance Tables'!D222,NA())","v":{"$error":"#N/A"}},{"$error":"#N/A"},{"$f":"IF(B614<=VLOOKUP(Main!$N$22,Coefficients!$E$2:$H$28,4,FALSE),($B$41+((B614-$B$477))*($B$41/1000000)*$B$43),NA())","v":{"$error":"#N/A"}},{"$f":"IF(B614<=VLOOKUP(Main!$N$22,Coefficients!$E$2:$H$28,4,FALSE),$B$32+(($B$477-B614)*(($B$32*(1-$B$33))/1000000)),NA())","v":{"$error":"#N/A"}},{"$error":"#N/A"},{"$error":"#N/A"},{"$error":"#N/A"}]
[204,163,{"$error":"#N/A"},{"$error":"#N/A"},{"$error":"#N/A"},{"$f":"IF(B615<=VLOOKUP(Main!$N$22,Coefficients!$E$2:$H$28,4,FALSE),$B$32-(($B$256-B394)*(($B$32*(1-$B$33))/1000000)),NA())","v":{"$error":"#N/A"}},{"$f":"IF(B615<=VLOOKUP(Main!$N$22,Coefficients!$E$2:$H$28,4,FALSE),($B$41-((B615-$B$477))*($B$41/1000000)*$B$43),NA())","v":{"$error":"#N/A"}},{"$f":"IFERROR('Device Resistance Tables'!D223,NA())","v":{"$error":"#N/A"}},{"$error":"#N/A"},{"$f":"IF(B615<=VLOOKUP(Main!$N$22,Coefficients!$E$2:$H$28,4,FALSE),($B$41+((B615-$B$477))*($B$41/1000000)*$B$43),NA())","v":{"$error":"#N/A"}},{"$f":"IF(B615<=VLOOKUP(Main!$N$22,Coefficients!$E$2:$H$28,4,FALSE),$B$32+(($B$477-B615)*(($B$32*(1-$B$33))/1000000)),NA())","v":{"$error":"#N/A"}},{"$error":"#N/A"},{"$error":"#N/A"},{"$error":"#N/A"}]
[205,164,{"$error":"#N/A"},{"$error":"#N/A"},{"$error":"#N/A"},{"$f":"IF(B616<=VLOOKUP(Main!$N$22,Coefficients!$E$2:$H$28,4,FALSE),$B$32-(($B$256-B395)*(($B$32*(1-$B$33))/1000000)),NA())","v":{"$error":"#N/A"}},{"$f":"IF(B616<=VLOOKUP(Main!$N$22,Coefficients!$E$2:$H$28,4,FALSE),($B$41-((B616-$B$477))*($B$41/1000000)*$B$43),NA())","v":{"$error":"#N/A"}},{"$f":"IFERROR('Device Resistance Tables'!D224,NA())","v":{"$error":"#N/A"}},{"$error":"#N/A"},{"$f":"IF(B616<=VLOOKUP(Main!$N$22,Coefficients!$E$2:$H$28,4,FALSE),($B$41+((B616-$B$477))*($B$41/1000000)*$B$43),NA())","v":{"$error":"#N/A"}},{"$f":"IF(B616<=VLOOKUP(Main!$N$22,Coefficients!$E$2:$H$28,4,FALSE),$B$32+(($B$477-B616)*(($B$32*(1-$B$33))/1000000)),NA())","v":{"$error":"#N/A"}},{"$error":"#N/A"},{"$error":"#N/A"},{"$error":"#N/A"}]
[206,165,{"$error":"#N/A"},{"$error":"#N/A"},{"$error":"#N/A"},{"$f":"IF(B617<=VLOOKUP(Main!$N$22,Coefficients!$E$2:$H$28,4,FALSE),$B$32-(($B$256-B396)*(($B$32*(1-$B$33))/1000000)),NA())","v":{"$error":"#N/A"}},{"$f":"IF(B617<=VLOOKUP(Main!$N$22,Coefficients!$E$2:$H$28,4,FALSE),($B$41-((B617-$B$477))*($B$41/1000000)*$B$43),NA())","v":{"$error":"#N/A"}},{"$f":"IFERROR('Device Resistance Tables'!D225,NA())","v":{"$error":"#N/A"}},{"$error":"#N/A"},{"$f":"IF(B617<=VLOOKUP(Main!$N$22,Coefficients!$E$2:$H$28,4,FALSE),($B$41+((B617-$B$477))*($B$41/1000000)*$B$43),NA())","v":{"$error":"#N/A"}},{"$f":"IF(B617<=VLOOKUP(Main!$N$22,Coefficients!$E$2:$H$28,4,FALSE),$B$32+(($B$477-B617)*(($B$32*(1-$B$33))/1000000)),NA())","v":{"$error":"#N/A"}},{"$error":"#N/A"},{"$error":"#N/A"},{"$error":"#N/A"}]
[207,166,{"$error":"#N/A"},{"$error":"#N/A"},{"$error":"#N/A"},{"$f":"IF(B618<=VLOOKUP(Main!$N$22,Coefficients!$E$2:$H$28,4,FALSE),$B$32-(($B$256-B397)*(($B$32*(1-$B$33))/1000000)),NA())","v":{"$error":"#N/A"}},{"$f":"IF(B618<=VLOOKUP(Main!$N$22,Coefficients!$E$2:$H$28,4,FALSE),($B$41-((B618-$B$477))*($B$41/1000000)*$B$43),NA())","v":{"$error":"#N/A"}},{"$f":"IFERROR('Device Resistance Tables'!D226,NA())","v":{"$error":"#N/A"}},{"$error":"#N/A"},{"$f":"IF(B618<=VLOOKUP(Main!$N$22,Coefficients!$E$2:$H$28,4,FALSE),($B$41+((B618-$B$477))*($B$41/1000000)*$B$43),NA())","v":{"$error":"#N/A"}},{"$f":"IF(B618<=VLOOKUP(Main!$N$22,Coefficients!$E$2:$H$28,4,FALSE),$B$32+(($B$477-B618)*(($B$32*(1-$B$33))/1000000)),NA())","v":{"$error":"#N/A"}},{"$error":"#N/A"},{"$error":"#N/A"},{"$error":"#N/A"}]
[208,167,{"$error":"#N/A"},{"$error":"#N/A"},{"$error":"#N/A"},{"$f":"IF(B619<=VLOOKUP(Main!$N$22,Coefficients!$E$2:$H$28,4,FALSE),$B$32-(($B$256-B398)*(($B$32*(1-$B$33))/1000000)),NA())","v":{"$error":"#N/A"}},{"$f":"IF(B619<=VLOOKUP(Main!$N$22,Coefficients!$E$2:$H$28,4,FALSE),($B$41-((B619-$B$477))*($B$41/1000000)*$B$43),NA())","v":{"$error":"#N/A"}},{"$f":"IFERROR('Device Resistance Tables'!D227,NA())","v":{"$error":"#N/A"}},{"$error":"#N/A"},{"$f":"IF(B619<=VLOOKUP(Main!$N$22,Coefficients!$E$2:$H$28,4,FALSE),($B$41+((B619-$B$477))*($B$41/1000000)*$B$43),NA())","v":{"$error":"#N/A"}},{"$f":"IF(B619<=VLOOKUP(Main!$N$22,Coefficients!$E$2:$H$28,4,FALSE),$B$32+(($B$477-B619)*(($B$32*(1-$B$33))/1000000)),NA())","v":{"$error":"#N/A"}},{"$error":"#N/A"},{"$error":"#N/A"},{"$error":"#N/A"}]
[209,168,{"$error":"#N/A"},{"$error":"#N/A"},{"$error":"#N/A"},{"$f":"IF(B620<=VLOOKUP(Main!$N$22,Coefficients!$E$2:$H$28,4,FALSE),$B$32-(($B$256-B399)*(($B$32*(1-$B$33))/1000000)),NA())","v":{"$error":"#N/A"}},{"$f":"IF(B620<=VLOOKUP(Main!$N$22,Coefficients!$E$2:$H$28,4,FALSE),($B$41-((B620-$B$477))*($B$41/1000000)*$B$43),NA())","v":{"$error":"#N/A"}},{"$f":"IFERROR('Device Resistance Tables'!D228,NA())","v":{"$error":"#N/A"}},{"$error":"#N/A"},{"$f":"IF(B620<=VLOOKUP(Main!$N$22,Coefficients!$E$2:$H$28,4,FALSE),($B$41+((B620-$B$477))*($B$41/1000000)*$B$43),NA())","v":{"$error":"#N/A"}},{"$f":"IF(B620<=VLOOKUP(Main!$N$22,Coefficients!$E$2:$H$28,4,FALSE),$B$32+(($B$477-B620)*(($B$32*(1-$B$33))/1000000)),NA())","v":{"$error":"#N/A"}},{"$error":"#N/A"},{"$error":"#N/A"},{"$error":"#N/A"}]
[210,169,{"$error":"#N/A"},{"$error":"#N/A"},{"$error":"#N/A"},{"$f":"IF(B621<=VLOOKUP(Main!$N$22,Coefficients!$E$2:$H$28,4,FALSE),$B$32-(($B$256-B400)*(($B$32*(1-$B$33))/1000000)),NA())","v":{"$error":"#N/A"}},{"$f":"IF(B621<=VLOOKUP(Main!$N$22,Coefficients!$E$2:$H$28,4,FALSE),($B$41-((B621-$B$477))*($B$41/1000000)*$B$43),NA())","v":{"$error":"#N/A"}},{"$f":"IFERROR('Device Resistance Tables'!D229,NA())","v":{"$error":"#N/A"}},{"$error":"#N/A"},{"$f":"IF(B621<=VLOOKUP(Main!$N$22,Coefficients!$E$2:$H$28,4,FALSE),($B$41+((B621-$B$477))*($B$41/1000000)*$B$43),NA())","v":{"$error":"#N/A"}},{"$f":"IF(B621<=VLOOKUP(Main!$N$22,Coefficients!$E$2:$H$28,4,FALSE),$B$32+(($B$477-B621)*(($B$32*(1-$B$33))/1000000)),NA())","v":{"$error":"#N/A"}},{"$error":"#N/A"},{"$error":"#N/A"},{"$error":"#N/A"}]
[211,170,{"$error":"#N/A"},{"$error":"#N/A"},{"$error":"#N/A"},{"$f":"IF(B622<=VLOOKUP(Main!$N$22,Coefficients!$E$2:$H$28,4,FALSE),$B$32-(($B$256-B401)*(($B$32*(1-$B$33))/1000000)),NA())","v":{"$error":"#N/A"}},{"$f":"IF(B622<=VLOOKUP(Main!$N$22,Coefficients!$E$2:$H$28,4,FALSE),($B$41-((B622-$B$477))*($B$41/1000000)*$B$43),NA())","v":{"$error":"#N/A"}},{"$f":"IFERROR('Device Resistance Tables'!D230,NA())","v":{"$error":"#N/A"}},{"$error":"#N/A"},{"$f":"IF(B622<=VLOOKUP(Main!$N$22,Coefficients!$E$2:$H$28,4,FALSE),($B$41+((B622-$B$477))*($B$41/1000000)*$B$43),NA())","v":{"$error":"#N/A"}},{"$f":"IF(B622<=VLOOKUP(Main!$N$22,Coefficients!$E$2:$H$28,4,FALSE),$B$32+(($B$477-B622)*(($B$32*(1-$B$33))/1000000)),NA())","v":{"$error":"#N/A"}},{"$error":"#N/A"},{"$error":"#N/A"},{"$error":"#N/A"}]

{"sheet":"Drift analysis","index":15,"n_rows":589,"n_cols":24,"rows_kept":589,"cut":false,"hidden":true,"merged":[[0,0,2,20],[3,0,3,24],[3,25,3,49],[36,0,36,11],[118,0,118,3],[59,0,60,3],[59,4,60,7],[59,8,60,11],[61,0,61,3],[72,0,72,3],[84,0,84,3],[95,0,95,3],[107,0,107,3],[74,0,77,3],[97,0,101,3],[109,0,112,3],[120,0,124,3],[63,0,67,3],[86,0,89,3],[91,0,91,3],[92,0,92,3]]}
[]
[]
[]
[]
["Return to Menu",null,"TI Information – NDA Restrictions"]
[]
[]
[]
[]
[]
[]
[]
[]
[]
[]
[]
[null,"Device"]
["TI Device",{"$f":"Main!$N$22","v":"TMP6131DECR"},"Return to top"]
[]
[null,null,null,null,null,null,null,null,"For Total Error Calculations",null,null,null,"For Error after Offset Calculations"]
[null,"Regulator (VBias)",null,null,null,null,null,"Min ","VBias (tol + ppm)","Max",null,"Min ","VBias (ppm only)","Max"]
["VBias",{"$f":"Main!$N$25","v":3.3},"Vdc (This data comes from the \"Main\" tab)",null,null,null,null,{"$f":"B22-(B22*B24)","v":3.2834999999999996},"Vdc tol",{"$f":"B22+(B22*B24)","v":3.3165},"Vdc tol",{"$f":"B22+(('Worst-Case Analysis'!B143-'Worst-Case Analysis'!B141)*((B22*(1-B23))/1000000))","v":3.2950994999999996},"Vdc ppm",{"$f":"B22-(('Worst-Case Analysis'!B143-'Worst-Case Analysis'!B141)*((B22*(1-B23))/1000000))","v":3.3049005},"Vdc ppm"]
["Error_ppm_temp",{"$f":"'Worst-Case Analysis'!B33","v":10},"ppm / ℃ = ppm across temperature",null,null,null,null,{"$f":"H22+(('Worst-Case Analysis'!B143-'Worst-Case Analysis'!B141)*((B22*(1-B23))/1000000))","v":3.2785994999999994},"Vdc tol + ppm",{"$f":"J22-(('Worst-Case Analysis'!B143-'Worst-Case Analysis'!B141)*((B22*(1-B23))/1000000))","v":3.3214005000000002},"Vdc tol + ppm"]
["Error_Tolerance",{"$f":"'Worst-Case Analysis'!B34","v":5.0000000000000001E-3},"Initial accuracy tolerance at 25C  (This tolerance goes away with the offset correction)"]
[]
[]
[null,null,null,null,null,null,null,null,"For Total Error Calculations",null,null,null,"For Error after Offset Calculations"]
[null,"Top Resistor (RBias)","This data Comes from the RBias TCR_PPM tab",null,null,null,null,"Min ","RBias (tol )","Max",null,"Min ","RBias (ppm only)","Max"]
["RBias",{"$f":"'RBias TCR_PPM'!B29","v":10000},"Ohms",null,null,null,null,{"$f":"'RBias TCR_PPM'!D39","v":9990},"Ohms tol",{"$f":"'RBias TCR_PPM'!F39","v":10010},"Ohms tol",{"$f":"B29+'RBias TCR_PPM'!I44","v":9993.5107250000001},"Ohms ppm",{"$f":"B29+'RBias TCR_PPM'!J44","v":10012.528125000001},"Ohms ppm"]
["Tolerance",{"$f":"'RBias TCR_PPM'!B30","v":1E-3},"Initial accuracy tolerance at 25C  (This tolerance goes away with the offset correction)",null,null,null,null,{"$f":"'RBias TCR_PPM'!C39","v":9983.5},"Ohms tol + ppm",{"$f":"'RBias TCR_PPM'!G39","v":10022.5},"Ohms tol +ppm"]
["TCR",{"$f":"'RBias TCR_PPM'!B31","v":10},"PPM"]
[]
[]
[]
[]
["Using the Arrhenius Equation to calculate the error impact from sensor drift"]
["Acceleration Factors are the ratio of the Process Rate at two temperatures"]
[]
[null,"Process Rte = Ae-(Ea/kT)",null,null,"A = A Constant",null,null,"k = Boltzmans constant, 8.62 x 10 -5 eV/K"]
[null,"AF(T1 to T2) = e(Ea/k) * (1/T2 - 1/T1)",null,null,"Ea = Thermal activation energy in electron volts (eV)",null,null,"T = Absolute temperture in degrees Kelvin (degrees C + 273.15)"]
[]
["Example: Calculate the thermal acceleration factor (AF) between the test temperature and the product use temperature:"]
[]
[null,"T(stress) = 125C -> 398K",null,null,"AF(125 to 55) = e(0.7eV/k) * (1/328 - 1/398) = 78"]
[null,"T(application) = 55C -> 328K"]
[null,"Ea = 0.7eV",null,null,"1% potential error = Application hours * (1 / data sheet percentage at AF hours) "]
[]
[]
[null,null,null,null,"ΔR"]
[null,0.7,"Ea",null,"stress hrs","stress days","app hrs","app yrs","1.0% drift for TMP6","Max app hrs","Max app yrs","Max drift percentage"]
["T(stress) stress temperature",150,"℃","DEC",600,{"$f":"E51/24","v":25},{"$f":"(E51*$B$57)*(1/1.8)","v":126481.97005238784},{"$f":"G51/(365*24)","v":14.438581056208658},"+/- 1.0%",{"$f":"(E51*$B$57)","v":227667.5460942981},{"$f":"J51/(365*24)","v":25.989445901175582},"+/- 1.8%"]
["T(app) application temperature",50,"℃","DYA",600,{"$f":"E52/24","v":25},{"$f":"(E52*$B$57)*(1/1.2)","v":189722.95507858176},{"$f":"G52/(365*24)","v":21.657871584312986},"+/- 1.0%",{"$f":"(E52*$B$57)","v":227667.5460942981},{"$f":"J52/(365*24)","v":25.989445901175582},"+/- 1.2%"]
[null,{"$f":"8.62*10^-5","v":8.6199999999999995E-5},"k","LPG",1000,{"$f":"E53/24","v":41.666666666666664},{"$f":"(E53*$B$57)*(1/1.4)","v":271032.79296940251},{"$f":"G53/(365*24)","v":30.939816549018552},"+/- 1.0%",{"$f":"(E53*$B$57)","v":379445.91015716351},{"$f":"J53/(365*24)","v":43.315743168625971},"+/- 1.4%"]
[null,{"$f":"B50/B53","v":8120.6496519721577},"Ea/k",null,"Note 1: RH = 85 %, T(stress) = 150 °C, VBias = 5.5V"]
[null,{"$f":"(B51+273.15)^-1","v":2.3632281696797826E-3},"inv stress",null,"Note 2: This version of the Arrhenius equation has the time to reach a potential 1% resistance error and the time to reach the max drift based on the datasheet specification"]
[null,{"$f":"(B52+273.15)^-1","v":3.0945381401825778E-3},"inv app"]
[null,{"$f":"EXP(B54*(B56-B55))","v":379.4459101571635},"AF"]
[]
[]
[null,null,null,null,"Without offset calibration",null,null,null,"With offset calibration"]
[]
["Without offset calibration"]
[]
["This plot shows the worst case min/max resistance values when taking into account the errors associated with TMP6 tolerance, Vbias tolerance + PPM, and a 1% drift on TMP6. Cells H23 and J23 (Min/Max Vdc Tol+PPM), are used to calculate the new worst case min/max resistance values for TMP6. From there, the min and max resistances get a +/- 1% bump. The datapoints plotted on this graph come from cells I158:I368 (Min) and M158:M368 (Max)."]
[]
[]
[]
[]
[]
[]
[]
[]
["With offset calibration"]
[]
["This plot shows the worst case min and max resistance of TMP6 after conducting an offset calibration. Thanks to the calibration, which eliminates tolerance errors from Vbias and TMP6, the TMP6 would only have its expected resistance values, no min/max. But once you add a +/- 1% drift, you do have a min/max as seen in the graph."]
[]
[]
[]
[]
[]
[]
[]
[]
[]
["Without offset calibration"]
[]
["This plot translates the graph above (worst case min/max resistance...) to degrees Celsius. This includes TMP6 tolerance, Vbias tolerance + PPM, and a 1% drift on TMP6. This excludes the impact of Rbias tolerance and PPM. The datapoints plotted on this graph come from cells H158:H368 (Min) and O158:O368 (Max)."]
[]
[]
[]
[]
[]
[]
[]
[]
["With offset calibration"]
[]
["This plot shows the measured accuracy after calibration while including a +/- 1% drift. The datapoints plotted on this graph come from cells K380:K589 (Min) and P380:P589 (Max)."]
[]
[]
[]
[]
[]
[]
[]
[]
[]
["Without offset calibration"]
[]
["This plot adds onto the graph above (worst case min/max temperature...) by including the impact of Rbias tolerance and PPM. The datapoints plotted on this graph come from cells C191:C401 (Min) and T158:T368 (Max)."]
[]
[]
[]
[]
[]
[]
[]
[]
["With offset calibration"]
[]
["This plot shows the worst case system error after performing an offset calibration. By performing an offset calibration you eliminate the TMP6, Vbias and Rbias tolerance errors and their impact on the temperature reading. What's left over that does impact the accuracy of your reading is the PPM errors from Vbias and Rbias, and in this case the +/- 1% drift on the TMP6. The datapoints plotted on this graph come from cells C379:C589 (Min) and X379:X589 (Max)."]
[]
[]
[]
[]
[]
[]
[]
[]
[]
[null,null,null,null,null,null,null,null,null,".","."]
["Hide","Min Resistances"]
[null,"COEFFICENT","X0","X1","X2","X3","X4"]
[null,"A0",{"$f":"VLOOKUP(Main!$N$22&\"A0\",Coefficients!$E$52:$K$212,3,FALSE)","v":8339.9251945161704},{"$f":"VLOOKUP(Main!$N$22&\"A0\",Coefficients!$E$52:$K$212,4,FALSE)","v":54.154715686148002},{"$f":"VLOOKUP(Main!$N$22&\"A0\",Coefficients!$E$52:$K$212,5,FALSE)","v":-5.78616061394467},{"$f":"VLOOKUP(Main!$N$22&\"A0\",Coefficients!$E$52:$K$212,6,FALSE)","v":1.47111238439537},{"$f":"VLOOKUP(Main!$N$22&\"A0\",Coefficients!$E$52:$K$212,7,FALSE)","v":-0.115876333353779}]
[null,"A1",{"$f":"VLOOKUP(Main!$N$22&\"A1\",Coefficients!$E$52:$K$212,3,FALSE)","v":53.519439171642901},{"$f":"VLOOKUP(Main!$N$22&\"A1\",Coefficients!$E$52:$K$212,4,FALSE)","v":0.111930161345648},{"$f":"VLOOKUP(Main!$N$22&\"A1\",Coefficients!$E$52:$K$212,5,FALSE)","v":0.18987442220474199},{"$f":"VLOOKUP(Main!$N$22&\"A1\",Coefficients!$E$52:$K$212,6,FALSE)","v":-4.60507145157859E-2},{"$f":"VLOOKUP(Main!$N$22&\"A1\",Coefficients!$E$52:$K$212,7,FALSE)","v":3.7681976436438999E-3}]
[null,"A2",{"$f":"VLOOKUP(Main!$N$22&\"A2\",Coefficients!$E$52:$K$212,3,FALSE)","v":0.14962693895820001},{"$f":"VLOOKUP(Main!$N$22&\"A2\",Coefficients!$E$52:$K$212,4,FALSE)","v":-5.4830524870576897E-3},{"$f":"VLOOKUP(Main!$N$22&\"A2\",Coefficients!$E$52:$K$212,5,FALSE)","v":3.8003927509140199E-3},{"$f":"VLOOKUP(Main!$N$22&\"A2\",Coefficients!$E$52:$K$212,6,FALSE)","v":-8.04689323736446E-4},{"$f":"VLOOKUP(Main!$N$22&\"A2\",Coefficients!$E$52:$K$212,7,FALSE)","v":5.84268115194529E-5}]
[null,"A3",{"$f":"VLOOKUP(Main!$N$22&\"A3\",Coefficients!$E$52:$K$212,3,FALSE)","v":7.7764366717815907E-6},{"$f":"VLOOKUP(Main!$N$22&\"A3\",Coefficients!$E$52:$K$212,4,FALSE)","v":1.0146010335395299E-4},{"$f":"VLOOKUP(Main!$N$22&\"A3\",Coefficients!$E$52:$K$212,5,FALSE)","v":-5.8340665406269602E-5},{"$f":"VLOOKUP(Main!$N$22&\"A3\",Coefficients!$E$52:$K$212,6,FALSE)","v":1.3401513694378001E-5},{"$f":"VLOOKUP(Main!$N$22&\"A3\",Coefficients!$E$52:$K$212,7,FALSE)","v":-1.0941921253097099E-6}]
[null,"A4",{"$f":"VLOOKUP(Main!$N$22&\"A4\",Coefficients!$E$52:$K$212,3,FALSE)","v":3.5239682993970999E-7},{"$f":"VLOOKUP(Main!$N$22&\"A4\",Coefficients!$E$52:$K$212,4,FALSE)","v":-4.1515958229399602E-7},{"$f":"VLOOKUP(Main!$N$22&\"A4\",Coefficients!$E$52:$K$212,5,FALSE)","v":2.7552937506444702E-7},{"$f":"VLOOKUP(Main!$N$22&\"A4\",Coefficients!$E$52:$K$212,6,FALSE)","v":-6.7111197681992294E-8},{"$f":"VLOOKUP(Main!$N$22&\"A4\",Coefficients!$E$52:$K$212,7,FALSE)","v":5.7413790872433604E-9}]
[]
[null,"Resistance as a function of temperature",null,null,null,null,null,null,null,"Temperature as a function of resistance"]
[null,"A0","A1","A2","A3","A4",null,null,"A4","A3","A2","A1","A0"]
[null,{"$f":"$C$134+$D$134*$H$23+$E$134*$H$23*$H$23+$F$134*$H$23*$H$23*$H$23+$G$134*$H$23*$H$23*$H$23*$H$23","v":8493.7366201046225},{"$f":"$C$135+$D$135*$H$23+$E$135*$H$23*$H$23+$F$135*$H$23*$H$23*$H$23+$G$135*$H$23*$H$23*$H$23*$H$23","v":54.739876674205462},{"$f":"$C$136+$D$136*$H$23+$E$136*$H$23*$H$23+$F$136*$H$23*$H$23*$H$23+$G$136*$H$23*$H$23*$H$23*$H$23","v":0.15089324652692082},{"$f":"$C$137+$D$137*$H$23+$E$137*$H$23*$H$23+$F$137*$H$23*$H$23*$H$23+$G$137*$H$23*$H$23*$H$23*$H$23","v":5.9179142823940416E-5},{"$f":"$C$138+$D$138*$H$23+$E$138*$H$23*$H$23+$F$138*$H$23*$H$23*$H$23+$G$138*$H$23*$H$23*$H$23*$H$23","v":2.512127676799599E-7},"4th Order Polynomial",null,{"$f":"IF((VLOOKUP(Main!$N$22,Coefficients!$E$2:$H$28,4,FALSE)) = 125,LINEST('Device Resistance Tables'!$B$20:$B$185,'Device Resistance Tables'!$E$20:$E$185^{1,2,3,4},TRUE,FALSE),LINEST('Device Resistance Tables'!$B$20:$B$210,'Device Resistance Tables'!$E$20:$E$210^{1,2,3,4},TRUE,FALSE))","v":-2.2996162688185005E-15},1.4051462730900837E-10,-3.5045150872958147E-6,5.3108297647808785E-2,-272.43502154685206,"Regression"]
[]
[]
[null,"Max Resistances"]
[null,"COEFFICENT","X0","X1","X2","X3","X4",null,null,null,{"$f":"($B$22/1000000)*$B$26","v":0}]
[null,"A0",{"$f":"VLOOKUP(Main!$N$22&\"A0\",Coefficients!$E$52:$K$212,3,FALSE)","v":8339.9251945161704},{"$f":"VLOOKUP(Main!$N$22&\"A0\",Coefficients!$E$52:$K$212,4,FALSE)","v":54.154715686148002},{"$f":"VLOOKUP(Main!$N$22&\"A0\",Coefficients!$E$52:$K$212,5,FALSE)","v":-5.78616061394467},{"$f":"VLOOKUP(Main!$N$22&\"A0\",Coefficients!$E$52:$K$212,6,FALSE)","v":1.47111238439537},{"$f":"VLOOKUP(Main!$N$22&\"A0\",Coefficients!$E$52:$K$212,7,FALSE)","v":-0.115876333353779},null,null,null,{"$f":"(B22-(($B$223-B158))*($B$22/1000000)*$B$26)","v":3.3},"Ohms ppm"]
[null,"A1",{"$f":"VLOOKUP(Main!$N$22&\"A1\",Coefficients!$E$52:$K$212,3,FALSE)","v":53.519439171642901},{"$f":"VLOOKUP(Main!$N$22&\"A1\",Coefficients!$E$52:$K$212,4,FALSE)","v":0.111930161345648},{"$f":"VLOOKUP(Main!$N$22&\"A1\",Coefficients!$E$52:$K$212,5,FALSE)","v":0.18987442220474199},{"$f":"VLOOKUP(Main!$N$22&\"A1\",Coefficients!$E$52:$K$212,6,FALSE)","v":-4.60507145157859E-2},{"$f":"VLOOKUP(Main!$N$22&\"A1\",Coefficients!$E$52:$K$212,7,FALSE)","v":3.7681976436438999E-3},null,null,null,{"$f":"(B29-(($B$223-B158))*($B$29/1000000)*$B$31)-(B29*B30)","v":9983.5},"Ohms tol +ppm"]
[null,"A2",{"$f":"VLOOKUP(Main!$N$22&\"A2\",Coefficients!$E$52:$K$212,3,FALSE)","v":0.14962693895820001},{"$f":"VLOOKUP(Main!$N$22&\"A2\",Coefficients!$E$52:$K$212,4,FALSE)","v":-5.4830524870576897E-3},{"$f":"VLOOKUP(Main!$N$22&\"A2\",Coefficients!$E$52:$K$212,5,FALSE)","v":3.8003927509140199E-3},{"$f":"VLOOKUP(Main!$N$22&\"A2\",Coefficients!$E$52:$K$212,6,FALSE)","v":-8.04689323736446E-4},{"$f":"VLOOKUP(Main!$N$22&\"A2\",Coefficients!$E$52:$K$212,7,FALSE)","v":5.84268115194529E-5}]
[null,"A3",{"$f":"VLOOKUP(Main!$N$22&\"A3\",Coefficients!$E$52:$K$212,3,FALSE)","v":7.7764366717815907E-6},{"$f":"VLOOKUP(Main!$N$22&\"A3\",Coefficients!$E$52:$K$212,4,FALSE)","v":1.0146010335395299E-4},{"$f":"VLOOKUP(Main!$N$22&\"A3\",Coefficients!$E$52:$K$212,5,FALSE)","v":-5.8340665406269602E-5},{"$f":"VLOOKUP(Main!$N$22&\"A3\",Coefficients!$E$52:$K$212,6,FALSE)","v":1.3401513694378001E-5},{"$f":"VLOOKUP(Main!$N$22&\"A3\",Coefficients!$E$52:$K$212,7,FALSE)","v":-1.0941921253097099E-6}]
[null,"A4",{"$f":"VLOOKUP(Main!$N$22&\"A4\",Coefficients!$E$52:$K$212,3,FALSE)","v":3.5239682993970999E-7},{"$f":"VLOOKUP(Main!$N$22&\"A4\",Coefficients!$E$52:$K$212,4,FALSE)","v":-4.1515958229399602E-7},{"$f":"VLOOKUP(Main!$N$22&\"A4\",Coefficients!$E$52:$K$212,5,FALSE)","v":2.7552937506444702E-7},{"$f":"VLOOKUP(Main!$N$22&\"A4\",Coefficients!$E$52:$K$212,6,FALSE)","v":-6.7111197681992294E-8},{"$f":"VLOOKUP(Main!$N$22&\"A4\",Coefficients!$E$52:$K$212,7,FALSE)","v":5.7413790872433604E-9}]
[]
[null,"Resistance as a function of temperature",null,null,null,null,null,null,null,"Temperature as a function of resistance"]
[null,"A0","A1","A2","A3","A4",null,null,"A4","A3","A2","A1","A0"]
[null,{"$f":"$C$134+$D$134*$J$23+$E$134*$J$23*$J$23+$F$134*$J$23*$J$23*$J$23+$G$134*$J$23*$J$23*$J$23*$J$23","v":8495.7641154286848},{"$f":"$C$135+$D$135*$J$23+$E$135*$J$23*$J$23+$F$135*$J$23*$J$23*$J$23+$G$135*$J$23*$J$23*$J$23*$J$23","v":54.757095391067054},{"$f":"$C$136+$D$136*$J$23+$E$136*$J$23*$J$23+$F$136*$J$23*$J$23*$J$23+$G$136*$J$23*$J$23*$J$23*$J$23","v":0.15096639606573611},{"$f":"$C$137+$D$137*$J$23+$E$137*$J$23*$J$23+$F$137*$J$23*$J$23*$J$23+$G$137*$J$23*$J$23*$J$23*$J$23","v":5.904863218729269E-5},{"$f":"$C$138+$D$138*$J$23+$E$138*$J$23*$J$23+$F$138*$J$23*$J$23*$J$23+$G$138*$J$23*$J$23*$J$23*$J$23","v":2.5275904791944688E-7},"4th Order Polynomial",null,{"$f":"IF((VLOOKUP(Main!$N$22,Coefficients!$E$2:$H$28,4,FALSE)) = 125,LINEST('Device Resistance Tables'!$B$20:$B$185,'Device Resistance Tables'!$E$20:$E$185^{1,2,3,4},TRUE,FALSE),LINEST('Device Resistance Tables'!$B$20:$B$210,'Device Resistance Tables'!$E$20:$E$210^{1,2,3,4},TRUE,FALSE))","v":-2.2996162688185005E-15},1.4051462730900837E-10,-3.5045150872958147E-6,5.3108297647808785E-2,-272.43502154685206,"Regression"]
["NO OFFSET CORRRECTION",null,null,null,null,null,null,"System",null,"TMP6 Only","TMP6 Only","TMP6 Only",null,null,"TMP6 Only","TMP6 Only",null,"System"]
["Line #","Temperature (°C)","WC temp Error Min No Offset ","Delta from Nominal sense Min","Calculated sense Min","Min Vbias (tol + ppm)","RBias Ohms tol + ppm","TMP6 ℃ Error Min w/ drift","Min Resistance including Vbias and Drift impact (Ω)","VBias Min Resistance (Ω)","Expected  Resistance (Ω)","VBias Max Resistance (Ω)","Max Resistance including Vbias and Drift impact (Ω)","Expected mV/℃","TMP6 ℃ Error Max w/ drift","RBias Ohms tol +ppm","Max VBias (tol + ppm)","Calculated Sense Max","Delta from Nominal  sense Max","WC temp Error Max No Offset"]
[1,-40,null,{"$f":"IFERROR(E158-($B$22/(K158+$B$29)*K158),NA())","v":-2.8353467314564229E-2},{"$f":"IFERROR((F158/(I158+P158))*I158,NA())","v":1.2768643840670435},{"$f":"IFERROR($H$22+(($B$223-B158)*(($B$22*(1-$B$23))/1000000)),NA())","v":3.2815694999999998},{"$f":"IFERROR(($B$29-(($B$223-B158))*($B$29/1000000)*$B$31)-($B$29*$B$30),NA())","v":9983.5},null,{"$f":"J158*0.99","v":6379.8470914039735},{"$f":"IFERROR(($F$142*B158^4 + $E$142*B158^3 + $D$142*B158^2 + $C$142*B158 + $B$142)*0.985,NA())","v":6444.289991317145},{"$f":"'Device Resistance Tables'!D20","v":6543.1598748044544},{"$f":"IFERROR(($F$155*B158^4 + $E$155*B158^3 + $D$155*B158^2 + $C$155*B158 + $B$155)*1.015,NA())","v":6642.0529014567746},{"$f":"L158*1.01","v":6708.473430471342},{"$f":"IFERROR('NTC Thermistor Comparison'!F34-'NTC Thermistor Comparison'!F33,NA())","v":5.1762689377674587E-3},null,{"$f":"IFERROR(($B$29+(($B$223-B158))*($B$29/1000000)*$B$31)+($B$29*$B$30),NA())","v":10016.5},{"$f":"IFERROR($J$22-(($B$223-B158)*(($B$22*(1-$B$23))/1000000)),NA())","v":3.3184304999999998},{"$f":"IFERROR(Q158/(M158+G158)*M158,NA())","v":1.3336711164107764},{"$f":"IFERROR(R158-($B$22/(K158+$B$29)*K158),NA())","v":2.8453265029168673E-2}]
[2,{"$f":"B158+1","v":-39},{"$f":"IFERROR(D159/N159,NA())","v":-5.4765446526327866},-2.8392569701256365E-2,{"$f":"IFERROR((F159/(I159+P159))*I159,NA())","v":1.2820015506181188},3.2815991999999996,9983.6,{"$f":"IFERROR((I159-K159)/'NTC Thermistor Comparison'!H34,NA())","v":-3.8194452129981746},{"$f":"J159*0.99","v":6421.8120758347413},6486.678864479537,{"$f":"'Device Resistance Tables'!D21","v":6586.1994764999499},6685.7434107387871,{"$f":"L159*1.01","v":6752.6008448461753},{"$f":"IFERROR('NTC Thermistor Comparison'!F35-'NTC Thermistor Comparison'!F34,NA())","v":5.1843948150056551E-3},{"$f":"IFERROR((M159-K159)/'NTC Thermistor Comparison'!H34,NA())","v":3.8662385754290249},10016.4,3.3184008,{"$f":"IFERROR(Q159/(M159+G159)*M159,NA())","v":1.3388842696948513},2.8490149375476115E-2,{"$f":"IFERROR(S159/N159,NA())","v":5.4953664587840692}]
[3,{"$f":"B159+1","v":-38},-5.4757580161456376,-2.8431224355645712E-2,1.2871472907787351,3.2816288999999998,9983.7000000000007,{"$f":"IFERROR((I160-K160)/'NTC Thermistor Comparison'!H35,NA())","v":-3.8186216949460721},6464.0623152503467,6529.3558739902492,{"$f":"'Device Resistance Tables'!D22","v":6629.5317056772819},6729.731040235798,6797.0283506381556,{"$f":"IFERROR('NTC Thermistor Comparison'!F36-'NTC Thermistor Comparison'!F35,NA())","v":5.1921988283292198E-3},{"$f":"IFERROR((M160-K160)/'NTC Thermistor Comparison'!H35,NA())","v":3.8654056839636279},10016.299999999999,3.3183710999999998,1.344105093256013,{"$f":"IFERROR(R160-($B$22/(K160+$B$29)*K160),NA())","v":2.8526578121632173E-2},{"$f":"IFERROR(S160/N160,NA())","v":5.4941228301943985}]
[4,-37,-5.4752221844729645,-2.846942556761789E-2,1.2923012883950922,3.2816585999999996,9983.7999999999993,{"$f":"IFERROR((I161-K161)/'NTC Thermistor Comparison'!H36,NA())","v":-3.8179676041519199},6506.5979295496372,6572.3211409592295,{"$f":"'Device Resistance Tables'!D23","v":6673.1566841711856},6774.0159125013752,6841.7560716263888,{"$f":"IFERROR('NTC Thermistor Comparison'!F37-'NTC Thermistor Comparison'!F36,NA())","v":5.1996840691421742E-3},{"$f":"IFERROR((M161-K161)/'NTC Thermistor Comparison'!H36,NA())","v":3.8647443110777471},10016.200000000001,3.3183414,1.3493332597467416,2.8562545784031501E-2,{"$f":"IFERROR(S161/N161,NA())","v":5.4931310064658696}]
[5,-36,-5.474931655314653,-2.850716778732898E-2,1.2974632302445233,3.2816882999999994,9983.9,{"$f":"IFERROR((I162-K162)/'NTC Thermistor Comparison'!H37,NA())","v":-3.8174790801568812},6549.4190445107424,6615.5747924350935,{"$f":"'Device Resistance Tables'!D24","v":6717.0745398642093},6818.5981562463021,6886.7841378087651,{"$f":"IFERROR('NTC Thermistor Comparison'!F38-'NTC Thermistor Comparison'!F37,NA())","v":5.2068536343565786E-3},{"$f":"IFERROR((M162-K162)/'NTC Thermistor Comparison'!H37,NA())","v":3.8642505483598502},10016.1,3.3183117000000002,1.3545684450727569,2.8598047040904628E-2,5.4923854306572126]
[6,-35,-5.4748810730630781,-2.8544445624011372E-2,1.3026328060421974,3.2817179999999997,9984,{"$f":"IFERROR((I163-K163)/'NTC Thermistor Comparison'!H38,NA())","v":-3.8171523660273849},6592.525791791074,6659.116961405125,{"$f":"'Device Resistance Tables'!D25","v":6761.2854066867121},6863.4779063385649,6932.1126854019503,{"$f":"IFERROR('NTC Thermistor Comparison'!F39-'NTC Thermistor Comparison'!F38,NA())","v":5.2137106255061294E-3},{"$f":"IFERROR((M163-K163)/'NTC Thermistor Comparison'!H38,NA())","v":3.8639205922171422},10016,3.318282,1.3598103283972287,2.8633076731019891E-2,5.4918806945178877]
[7,-34,-5.4750652238085209,-2.858125384474608E-2,1.3078097084469689,3.2817476999999995,9984.1,{"$f":"IFERROR((I164-K164)/'NTC Thermistor Comparison'!H39,NA())","v":-3.8169838048361604},6635.9183089273274,6702.9477867952801,{"$f":"'Device Resistance Tables'!D26","v":6805.7894246168671},6908.6553038033653,6977.7418568413987,{"$f":"IFERROR('NTC Thermistor Comparison'!F40-'NTC Thermistor Comparison'!F39,NA())","v":5.2202581478772991E-3},{"$f":"IFERROR((M164-K164)/'NTC Thermistor Comparison'!H39,NA())","v":3.8637507403128244},10015.9,3.3182523000000002,1.3650585921440679,2.8667629852352938E-2,5.4916115334277071]
[8,-33,-5.4754790305482084,-2.8617587373201081E-2,1.3129936330663912,3.2817773999999997,9984.2000000000007,{"$f":"IFERROR((I165-K165)/'NTC Thermistor Comparison'!H40,NA())","v":-3.8169698362876057},6679.5967393354831,6747.0674134701849,{"$f":"'Device Resistance Tables'!D27","v":6850.5867396806625},6954.1304958231158,7023.671800781347,{"$f":"IFERROR('NTC Thermistor Comparison'!F41-'NTC Thermistor Comparison'!F40,NA())","v":5.2264993096569068E-3},{"$f":"IFERROR((M165-K165)/'NTC Thermistor Comparison'!H40,NA())","v":3.8637373881491741},10015.799999999999,3.3182225999999999,1.3703129220003101,2.8701701560717829E-2,5.4915728215416051]
[9,-32,-5.4761175485882774,-2.8653441288337023E-2,1.3181842784609121,3.2818070999999995,9984.2999999999993,{"$f":"IFERROR((I166-K166)/'NTC Thermistor Comparison'!H41,NA())","v":-3.817106993480289},6723.5612323108016,6791.4759922331332,{"$f":"'Device Resistance Tables'!D28","v":6895.6775039518952},6999.9036357374371,7069.9026720948114,{"$f":"IFERROR('NTC Thermistor Comparison'!F42-'NTC Thermistor Comparison'!F41,NA())","v":5.2324372210972303E-3},{"$f":"IFERROR((M166-K166)/'NTC Thermistor Comparison'!H41,NA())","v":3.8638770257897206},10015.700000000001,3.3181929000000001,1.3755730069176235,2.8735287168374368E-2,5.4917595671312505]
[10,-31,-5.4769759611249729,-2.8688810823082944E-2,1.3233813461472634,3.2818367999999998,9984.4,{"$f":"IFERROR((I167-K167)/'NTC Thermistor Comparison'!H42,NA())","v":-3.8173918997982708},6767.8119430278284,6836.173679826089,{"$f":"'Device Resistance Tables'!D29","v":6941.0618755521764},7045.974883043159,7116.4346318735907,{"$f":"IFERROR('NTC Thermistor Comparison'!F43-'NTC Thermistor Comparison'!F42,NA())","v":5.2380749937033233E-3},{"$f":"IFERROR((M167-K167)/'NTC Thermistor Comparison'!H42,NA())","v":3.864166234711683},10015.6,3.3181631999999999,1.3808385391129514,2.876838214260502E-2,5.492166908107925]
[11,-30,-5.4780495750090079,-2.8723691362986692E-2,1.328584540601063,3.2818664999999996,9984.5,{"$f":"IFERROR((I168-K168)/'NTC Thermistor Comparison'!H43,NA())","v":-3.8178212659284259},6812.3490325403909,6881.1606389296876,{"$f":"'Device Resistance Tables'!D30","v":6986.7400186509285},7092.344403394326,7163.2678474282693,{"$f":"IFERROR('NTC Thermistor Comparison'!F44-'NTC Thermistor Comparison'!F43,NA())","v":5.243415739431212E-3},{"$f":"IFERROR((M168-K168)/'NTC Thermistor Comparison'!H43,NA())","v":3.8646016847861615},10015.5,3.3181335000000001,1.3861092140683098,2.8800982104260076E-2,5.4927901077293386]
[12,-29,-5.4793338166762,-2.8758078444834689E-2,1.3337935692586462,3.2818961999999998,9984.6,{"$f":"IFERROR((I169-K169)/'NTC Thermistor Comparison'!H44,NA())","v":-3.8183918869949793},6857.1726677816023,6926.4370381632343,{"$f":"'Device Resistance Tables'!D31","v":7032.712103465391},7139.0123686021916,7210.4024922882136,{"$f":"IFERROR('NTC Thermistor Comparison'!F45-'NTC Thermistor Comparison'!F44,NA())","v":5.2484625699040777E-3},{"$f":"IFERROR((M169-K169)/'NTC Thermistor Comparison'!H44,NA())","v":3.8651801313766474},10015.4,3.3181037999999998,1.39138473052976,2.8833082826279055E-2,5.4936245504759338]
[13,-28,-5.4808242282286992,-2.8791967755243064E-2,1.3390081425181419,3.2819258999999996,9984.7000000000007,{"$f":"IFERROR((I170-K170)/'NTC Thermistor Comparison'!H45,NA())","v":-3.8191006398090304},6902.2830215638542,6972.0030520847013,{"$f":"'Device Resistance Tables'!D32","v":7078.9783062606102},7185.9789566352156,7257.838746201568,{"$f":"IFERROR('NTC Thermistor Comparison'!F46-'NTC Thermistor Comparison'!F45,NA())","v":5.2532185956541966E-3},{"$f":"IFERROR((M170-K170)/'NTC Thermistor Comparison'!H45,NA())","v":3.8658984125543978},10015.299999999999,3.3180741,1.3966647905055765,2.8864680232191464E-2,5.4946657380810695]
[14,-27,-5.4825164636832699,-2.882535512923079E-2,1.3442279737398084,3.2819555999999999,9984.7999999999993,{"$f":"IFERROR((I171-K171)/'NTC Thermistor Comparison'!H46,NA())","v":-3.819944480223088},6947.6802725788257,7017.8588611907335,{"$f":"'Device Resistance Tables'!D33","v":7125.5388093494503},7233.2443516190733,7305.5767951352645,{"$f":"IFERROR('NTC Thermistor Comparison'!F47-'NTC Thermistor Comparison'!F46,NA())","v":5.2576869253695424E-3},{"$f":"IFERROR((M171-K171)/'NTC Thermistor Comparison'!H46,NA())","v":3.8667534464198487},10015.200000000001,3.3180443999999998,1.4019490992636217,2.8895770394582465E-2,5.4959092857267251]
[15,-26,-5.4844062853537991,-2.8858236548763294E-2,1.3494527792456454,3.2819852999999997,9984.9,{"$f":"IFERROR((I172-K172)/'NTC Thermistor Comparison'!H47,NA())","v":-3.8209204405918795},6993.364605397478,7064.0046519166444,{"$f":"'Device Resistance Tables'!D34","v":7172.3938010925849},7280.8087438366474,7353.6168312750142,{"$f":"IFERROR('NTC Thermistor Comparison'!F48-'NTC Thermistor Comparison'!F47,NA())","v":5.2618706651674785E-3},{"$f":"IFERROR((M172-K172)/'NTC Thermistor Comparison'!H47,NA())","v":3.8677422285317711},10015.1,3.3180147,1.4072373653279586,2.8926349533549889E-2,5.497350918378987]
[16,-25,-5.4864895603787938,-2.8890608141275198E-2,1.354682278318301,3.2820149999999995,9985,{"$f":"IFERROR((I173-K173)/'NTC Thermistor Comparison'!H48,NA())","v":-3.8220256273290794},7039.3362104700545,7110.4406166364188,{"$f":"'Device Resistance Tables'!D35","v":7219.543475898502},7328.6723297280341,7401.9590530253145,{"$f":"IFERROR('NTC Thermistor Comparison'!F49-'NTC Thermistor Comparison'!F48,NA())","v":5.2657729178802182E-3},{"$f":"IFERROR((M173-K173)/'NTC Thermistor Comparison'!H48,NA())","v":3.8688618294334423},10015,3.3179850000000002,1.4125293004747057,2.8956414015129495E-2,5.4989864672679705]
[17,-24,-5.4887622573798645,-2.892246617817551E-2,1.3599161931992809,3.2820446999999997,9985.1,{"$f":"IFERROR((I174-K174)/'NTC Thermistor Comparison'!H49,NA())","v":-3.8232572185595548},7085.5952841260814,7157.1669536627087,{"$f":"'Device Resistance Tables'!D36","v":7266.9880342235001},7376.8353118905361,7450.6036650094411,{"$f":"IFERROR('NTC Thermistor Comparison'!F50-'NTC Thermistor Comparison'!F49,NA())","v":5.2693967823598253E-3},{"$f":"IFERROR((M174-K174)/'NTC Thermistor Comparison'!H49,NA())","v":3.8701093922755674},10014.9,3.3179552999999999,1.4178246197271622,2.8985960349705797E-2,5.5008118665007499]
[18,-23,-5.4912204432480145,-2.8953807073327065E-2,1.3651542490864892,3.2820743999999995,9985.2000000000007,{"$f":"IFERROR((I175-K175)/'NTC Thermistor Comparison'!H50,NA())","v":-3.8246124618602959},7132.1420285743698,7204.1838672468384,{"$f":"'Device Resistance Tables'!D37","v":7314.7276825716917},7425.2978990786696,7499.5508780694563,{"$f":"IFERROR('NTC Thermistor Comparison'!F51-'NTC Thermistor Comparison'!F50,NA())","v":5.2727453527983137E-3},{"$f":"IFERROR((M175-K175)/'NTC Thermistor Comparison'!H50,NA())","v":3.8714821305290505},10014.799999999999,3.3179256000000001,1.4231230413502198,2.9014985190403575E-2,5.5028231498046747]
[19,-22,-5.493860280052199,-2.8984627381511974E-2,1.3703961741311026,3.2821040999999997,9985.2999999999993,{"$f":"IFERROR((I176-K176)/'NTC Thermistor Comparison'!H51,NA())","v":-3.8260886720880669},7178.9766519030136,7251.4915675788016,{"$f":"'Device Resistance Tables'!D38","v":7362.7626334950037},7474.06030620416,7548.8009092662014,{"$f":"IFERROR('NTC Thermistor Comparison'!F52-'NTC Thermistor Comparison'!F51,NA())","v":5.2758217180646216E-3},{"$f":"IFERROR((M176-K176)/'NTC Thermistor Comparison'!H51,NA())","v":3.8729773257853184},10014.700000000001,3.3178958999999999,1.428424286844074,2.9043485331459395E-2,5.5050164473930865]
[20,-21,-5.4966780220602711,-2.9014923796877978E-2,1.3756416994338012,3.2821337999999995,9985.4,{"$f":"IFERROR((I177-K177)/'NTC Thermistor Comparison'!H52,NA())","v":-3.8276832292891743},7226.0993680793863,7299.0902707872592,{"$f":"'Device Resistance Tables'!D39","v":7411.0931055931715},7523.1227543359428,7598.3539818793024,{"$f":"IFERROR('NTC Thermistor Comparison'!F53-'NTC Thermistor Comparison'!F52,NA())","v":5.2786289610615711E-3},{"$f":"IFERROR((M177-K177)/'NTC Thermistor Comparison'!H52,NA())","v":3.874592325640247},10014.6,3.3178662000000001,1.4337280809372619,2.9071457706582704E-2,5.5073879829462804]
[21,-20,-5.4996700128784246,-2.9044693151366596E-2,1.3808905590403742,3.2821634999999998,9985.5,{"$f":"IFERROR((I178-K178)/'NTC Thermistor Comparison'!H53,NA())","v":-3.8293935766862486},7273.5103969501506,7346.9801989395464,{"$f":"'Device Resistance Tables'!D40","v":7459.7193235137465},7572.4854707001632,7648.2103254071653,{"$f":"IFERROR('NTC Thermistor Comparison'!F54-'NTC Thermistor Comparison'!F53,NA())","v":5.2811701580919301E-3},{"$f":"IFERROR((M178-K178)/'NTC Thermistor Comparison'!H53,NA())","v":3.8763245416556065},10014.5,3.3178364999999999,1.4390341515790348,2.9098899387294042E-2,5.5099340707112114]
[22,-19,-5.502832682688565,-2.9073932413130832E-2,1.3861424899367019,3.2821931999999996,9985.6,{"$f":"IFERROR((I179-K179)/'NTC Thermistor Comparison'!H54,NA())","v":-3.831217218742097},7321.2099642412468,7395.1615800416639,{"$f":"'Device Resistance Tables'!D41","v":7508.6415179520945},7622.1486886801795,7698.3701755669817,{"$f":"IFERROR('NTC Thermistor Comparison'!F55-'NTC Thermistor Comparison'!F54,NA())","v":5.2834483782497887E-3},{"$f":"IFERROR((M179-K179)/'NTC Thermistor Comparison'!H54,NA())","v":3.8781714473986684},10014.4,3.3178068000000001,1.4443422299310913,2.91258075812586E-2,5.5126511127013043]
[23,-18,-5.5061625455945391,-2.9102638684933346E-2,1.3913972320431491,3.2822228999999998,9985.7000000000007,{"$f":"IFERROR((I180-K180)/'NTC Thermistor Comparison'!H55,NA())","v":-3.8331517192945896},7369.1983015579017,7443.6346480382845,{"$f":"'Device Resistance Tables'!D42","v":7557.8599256513871},7672.1126478165588,7748.8337742947242,{"$f":"IFERROR('NTC Thermistor Comparison'!F56-'NTC Thermistor Comparison'!F55,NA())","v":5.2854666828203722E-3},{"$f":"IFERROR((M180-K180)/'NTC Thermistor Comparison'!H55,NA())","v":3.8801305765542256},10014.299999999999,3.3177770999999998,1.4496520503586798,2.9152179630597352E-2,5.5155355960055905]
[24,-17,-5.5096561970617897,-2.9130809202535524E-2,1.3966545282083673,3.2822525999999996,9985.7999999999993,{"$f":"IFERROR((I181-K181)/'NTC Thermistor Comparison'!H56,NA())","v":-3.8351946997587856},7417.4756463846234,7492.3996428127512,{"$f":"'Device Resistance Tables'!D43","v":7607.3747894026164},7722.3775938070776,7799.6013697451481,{"$f":"IFERROR('NTC Thermistor Comparison'!F57-'NTC Thermistor Comparison'!F56,NA())","v":5.2872281247005048E-3},{"$f":"IFERROR((M181-K181)/'NTC Thermistor Comparison'!H56,NA())","v":3.8821995211035838},10014.200000000001,3.3177474,1.4549633504210988,2.9178013010195958E-2,5.5185840901935261]
[25,-16,-5.5133103114492554,-2.9158441333070551E-2,1.4019141242025328,3.2822822999999994,9985.9,{"$f":"IFERROR((I182-K182)/'NTC Thermistor Comparison'!H57,NA())","v":-3.8373438373980941},7466.0422420852046,7541.4568101870755,{"$f":"'Device Resistance Tables'!D44","v":7657.1863580445815},7772.9437785067239,7850.6732162917915,{"$f":"IFERROR('NTC Thermistor Comparison'!F58-'NTC Thermistor Comparison'!F57,NA())","v":5.2887357478352826E-3},{"$f":"IFERROR((M182-K182)/'NTC Thermistor Comparison'!H57,NA())","v":3.8843759295747566},10014.1,3.3177177000000002,1.460275870861601,2.9203305325997686E-2,5.5217932448129607]
[26,-15,-5.5171216396387965,-2.9185532573413164E-2,1.4071757687100255,3.2823119999999997,9986,{"$f":"IFERROR((I183-K183)/'NTC Thermistor Comparison'!H58,NA())","v":-3.8395968636551023},7514.8983379027195,7590.8064019219391,{"$f":"'Device Resistance Tables'!D45","v":7707.2948864638975},7823.8114599276978,7902.0495745269745,{"$f":"IFERROR('NTC Thermistor Comparison'!F59-'NTC Thermistor Comparison'!F58,NA())","v":5.2899925866640718E-3},{"$f":"IFERROR((M183-K183)/'NTC Thermistor Comparison'!H58,NA())","v":3.8866575053519776},10014,3.317688,1.4655893555967245,2.9228054313285901E-2,5.525159786985153]
[27,-14,-5.5210870067361819,-2.9212080548528307E-2,1.4124392133215744,3.2823416999999995,9986.1,{"$f":"IFERROR((I184-K184)/'NTC Thermistor Comparison'!H59,NA())","v":-3.8419515625451615},7564.0441889595277,7640.4486757166951,{"$f":"'Device Resistance Tables'!D46","v":7757.7006355949907},7874.9809022394047,7953.7307112617991,{"$f":"IFERROR('NTC Thermistor Comparison'!F60-'NTC Thermistor Comparison'!F59,NA())","v":5.2910016655935976E-3},{"$f":"IFERROR((M184-K184)/'NTC Thermistor Comparison'!H59,NA())","v":3.8890420050494918},10013.9,3.3176583000000002,1.4709035517050666,2.925225783496388E-2,5.5286805190756008]
[28,-13,-5.5252033098700961,-2.9238083009822446E-2,1.4177042125258739,3.2823713999999997,9986.2000000000007,{"$f":"IFERROR((I185-K185)/'NTC Thermistor Comparison'!H60,NA())","v":-3.8444057691066282},7613.48005625727,7690.3838952093638,{"$f":"'Device Resistance Tables'!D47","v":7808.4038724201},7926.4523757684665,8005.7168995261509,{"$f":"IFERROR('NTC Thermistor Comparison'!F61-'NTC Thermistor Comparison'!F60,NA())","v":5.2917659984732524E-3},{"$f":"IFERROR((M185-K185)/'NTC Thermistor Comparison'!H60,NA())","v":3.8915272369423399},10013.799999999999,3.3176285999999999,1.4762182094155176,2.9275913879821314E-2,5.5323523164606714]
[29,-12,-5.529467516058225,-2.9263537833478459E-2,1.4229705237006911,3.2824010999999995,9986.2999999999993,{"$f":"IFERROR((I186-K186)/'NTC Thermistor Comparison'!H61,NA())","v":-3.8469573679069402},7663.2062066768704,7740.6123299766368,{"$f":"'Device Resistance Tables'!D48","v":7859.4048699692758},7978.2261569987113,8058.0084185686983,{"$f":"IFERROR('NTC Thermistor Comparison'!F62-'NTC Thermistor Comparison'!F61,NA())","v":5.292288588095273E-3},{"$f":"IFERROR((M186-K186)/'NTC Thermistor Comparison'!H61,NA())","v":3.8941110594538229},10013.700000000001,3.3175989000000001,1.4815330820949677,2.9299020560798139E-2,5.5361721253645833]
[30,-11,-5.5338766601514706,-2.9288443018785637E-2,1.4282379071034792,3.2824307999999998,9986.4,{"$f":"IFERROR((I187-K187)/'NTC Thermistor Comparison'!H62,NA())","v":-3.8496042916013384},7713.2229129785374,7791.1342555338761,{"$f":"'Device Resistance Tables'!D49","v":7910.703907320385},8030.3025285711792,8110.6055538568908,{"$f":"IFERROR('NTC Thermistor Comparison'!F63-'NTC Thermistor Comparison'!F62,NA())","v":5.2925724257077977E-3},{"$f":"IFERROR((M187-K187)/'NTC Thermistor Comparison'!H62,NA())","v":3.8967913796959981},10013.6,3.3175691999999999,1.4868479262355063,2.9321576113241488E-2,5.5401369607748334]
[31,-10,-5.5384278428552784,-2.931279668646769E-2,1.4335061258615049,3.2824604999999996,9986.5,{"$f":"IFERROR((I188-K188)/'NTC Thermistor Comparison'!H63,NA())","v":-3.8523445195438621},7763.5304538017599,7841.9499533351109,{"$f":"'Device Resistance Tables'!D50","v":7962.3012695991047},8082.6817792841221,8163.5085970769633,{"$f":"IFERROR('NTC Thermistor Comparison'!F64-'NTC Thermistor Comparison'!F63,NA())","v":5.2926204905390239E-3},{"$f":"IFERROR((M188-K188)/'NTC Thermistor Comparison'!H63,NA())","v":3.8995661520636067},10013.5,3.3175395000000001,1.4921625014411317,2.9343578893159084E-2,5.5442439044350609]
[32,-9,-5.5431182288146248,-2.9336597077000537E-2,1.4387749459615111,3.2824901999999998,9986.6,{"$f":"IFERROR((I189-K189)/'NTC Thermistor Comparison'!H64,NA())","v":-3.8551760764454084},7814.1291136653144,7893.0597107730446,{"$f":"'Device Resistance Tables'!D51","v":8014.1972479789247},8135.364204092999,8216.7178461339299,{"$f":"IFERROR('NTC Thermistor Comparison'!F65-'NTC Thermistor Comparison'!F64,NA())","v":5.2924357493406848E-3},{"$f":"IFERROR((M189-K189)/'NTC Thermistor Comparison'!H64,NA())","v":3.9024333768752362},10013.4,3.3175097999999998,1.4974765704139783,2.9365027375466646E-2,5.548490102902969]
[33,-8,-5.5479450447683254,-2.9359842548927206E-2,1.4440441362389251,{"$f":"IFERROR($H$22+(($B$223-B190)*(($B$22*(1-$B$23))/1000000)),NA())","v":3.2825198999999996},{"$f":"IFERROR(($B$29-(($B$223-B190))*($B$29/1000000)*$B$31)-($B$29*$B$30),NA())","v":9986.7000000000007},{"$f":"IFERROR((I190-K190)/'NTC Thermistor Comparison'!H65,NA())","v":-3.858097031080173},7865.0191829672558,7944.4638211790461,{"$f":"'Device Resistance Tables'!D52","v":8066.3921396811456},8188.3501041104819,8270.2336051515867,{"$f":"IFERROR('NTC Thermistor Comparison'!F66-'NTC Thermistor Comparison'!F65,NA())","v":5.292021155943738E-3},{"$f":"IFERROR((M190-K190)/'NTC Thermistor Comparison'!H65,NA())","v":3.9053910990635776},{"$f":"IFERROR(($B$29+(($B$223-B190))*($B$29/1000000)*$B$31)+($B$29*$B$30),NA())","v":10013.299999999999},{"$f":"IFERROR($J$22-(($B$223-B190)*(($B$22*(1-$B$23))/1000000)),NA())","v":3.3174801},1.5027898989400881,2.9385920152235734E-2,5.5528727656787451]
[34,-7,-5.5529055777660208,-2.9382531577170523E-2,1.4493134683666256,3.2825495999999998,9986.7999999999993,{"$f":"IFERROR((I191-K191)/'NTC Thermistor Comparison'!H66,NA())","v":-3.8611054950357806},7916.2009579849246,7996.1625838231566,{"$f":"'Device Resistance Tables'!D53","v":8118.886247974885},8241.6397866064508,8324.0561844725162,{"$f":"IFERROR('NTC Thermistor Comparison'!F67-'NTC Thermistor Comparison'!F66,NA())","v":5.2913796508298194E-3},{"$f":"IFERROR((M191-K191)/'NTC Thermistor Comparison'!H66,NA())","v":3.9084374069099188},10013.200000000001,3.3174503999999998,1.5081022558747337,2.9406255930937597E-2,5.5573891633963495]
[35,-6,-5.557997173449932,-2.9404662751342903E-2,1.454582716843283,3.2825792999999996,9986.9,{"$f":"IFERROR((I192-K192)/'NTC Thermistor Comparison'!H67,NA())","v":-3.8641996215082233},7967.6747408749461,8048.1563039140874,{"$f":"'Device Resistance Tables'!D54","v":8171.679882177069},8295.2335650079985,8378.185900658078,{"$f":"IFERROR('NTC Thermistor Comparison'!F68-'NTC Thermistor Comparison'!F67,NA())","v":5.2905141607135775E-3},{"$f":"IFERROR((M192-K192)/'NTC Thermistor Comparison'!H67,NA())","v":3.911570430824145},10013.1,3.3174207,1.5134134131273138,2.9426033532687912E-2,5.5620366260807756]
[36,-5,-5.5632172343892172,-2.9426234774051707E-2,1.4598516589812878,3.2826089999999994,9987,{"$f":"IFERROR((I193-K193)/'NTC Thermistor Comparison'!H68,NA())","v":-3.8673776041363626},8019.4408396732251,8100.4452925992173,{"$f":"'Device Resistance Tables'!D55","v":8224.7733576524406},8349.131758899428,8432.6230764884222,{"$f":"IFERROR('NTC Thermistor Comparison'!F69-'NTC Thermistor Comparison'!F68,NA())","v":5.2894275981445471E-3},{"$f":"IFERROR((M193-K193)/'NTC Thermistor Comparison'!H68,NA())","v":3.9147883421644978},10013,3.3173910000000002,1.5187231456458292,2.9445251890489743E-2,5.5668125414588721]
[37,-4,-5.5685632184779914,-2.944724645920882E-2,1.4651200748942752,3.2826386999999997,9987.1,{"$f":"IFERROR((I194-K194)/'NTC Thermistor Comparison'!H69,NA())","v":-3.8706376758782737},8071.4995682949484,8153.0298669645945,{"$f":"'Device Resistance Tables'!D56","v":8278.1669958135499},8403.3346940222527,8487.3680409624758,{"$f":"IFERROR('NTC Thermistor Comparison'!F70-'NTC Thermistor Comparison'!F69,NA())","v":5.2881228611170172E-3},{"$f":"IFERROR((M194-K194)/'NTC Thermistor Comparison'!H69,NA())","v":3.9180893521000653},10012.9,3.3173613,1.5240312314009603,2.9463910047476283E-2,5.5717143533334212]
[38,-3,-5.5740326373822926,-2.9467696730334447E-2,1.4703877474842666,3.2826683999999995,9987.2000000000007,{"$f":"IFERROR((I195-K195)/'NTC Thermistor Comparison'!H70,NA())","v":-3.873978107923199},8123.851246534593,8205.9103500349429,{"$f":"'Device Resistance Tables'!D57","v":8331.8611241207655},8457.8427022751948,8542.4211292979471,{"$f":"IFERROR('NTC Thermistor Comparison'!F71-'NTC Thermistor Comparison'!F70,NA())","v":5.2866028326976622E-3},{"$f":"IFERROR((M195-K195)/'NTC Thermistor Comparison'!H70,NA())","v":3.9214717105089121},10012.799999999999,3.3173316000000002,1.5293374513697593,2.9482007155158252E-2,5.5767395600085381]
[39,-2,-5.5796230550426253,-2.9487584618863805E-2,1.4756544624284349,3.2826980999999997,9987.2999999999993,{"$f":"IFERROR((I196-K196)/'NTC Thermistor Comparison'!H71,NA())","v":-3.8773972086433095},8176.4962000659152,8259.0870707736522,{"$f":"'Device Resistance Tables'!D58","v":8385.8560760822656},8512.656121714188,8597.7826829313308,{"$f":"IFERROR('NTC Thermistor Comparison'!F72-'NTC Thermistor Comparison'!F71,NA())","v":5.2848703806638309E-3},{"$f":"IFERROR((M196-K196)/'NTC Thermistor Comparison'!H71,NA())","v":3.924933704916977},10012.700000000001,3.3173018999999999,1.5346415895189691,2.9499542471670415E-2,5.5818857127703074]
[40,-1,-5.5853320862236595,-2.9506909262456915E-2,1.4809200081655056,3.2827277999999995,9987.4,{"$f":"IFERROR((I197-K197)/'NTC Thermistor Comparison'!H72,NA())","v":-3.8808933225784803},8229.4347604419509,8312.5603640827794,{"$f":"'Device Resistance Tables'!D59","v":8440.1521912540393},8567.7752965523778,8653.4530495179024,{"$f":"IFERROR('NTC Thermistor Comparison'!F73-'NTC Thermistor Comparison'!F72,NA())","v":5.2829283571582675E-3},{"$f":"IFERROR((M197-K197)/'NTC Thermistor Comparison'!H72,NA())","v":3.9284736594700176},10012.6,3.3172722000000001,1.5399434327879844,2.9516515360021867E-2,5.5871504144150563]
[41,0,-4.8111160807871531,-2.5406443644716781E-2,1.490303402140404,3.2827574999999998,9987.5,{"$f":"IFERROR((I198-K198)/'NTC Thermistor Comparison'!H73,NA())","v":-3.1143947568013162},8324.7112613645404,{"$f":"IFERROR(($F$142*B198^4 + $E$142*B198^3 + $D$142*B198^2 + $C$142*B198 + $B$142)*0.99,NA())","v":8408.7992539035768},{"$f":"'Device Resistance Tables'!D60","v":8494.749815239893},{"$f":"IFERROR(($F$155*B198^4 + $E$155*B198^3 + $D$155*B198^2 + $C$155*B198 + $B$155)*1.01,NA())","v":8580.7217565829724},8666.5289741488014,{"$f":"IFERROR('NTC Thermistor Comparison'!F74-'NTC Thermistor Comparison'!F73,NA())","v":5.2807795983504935E-3},{"$f":"IFERROR((M198-K198)/'NTC Thermistor Comparison'!H73,NA())","v":3.1462753572099853},10012.5,3.3172424999999999,1.5411672341867177,2.5457388401596948E-2,4.8207632845629131]
[42,1,-4.8162388211915692,-2.5422164666778935E-2,1.4955684607166924,3.2827871999999996,9987.6,{"$f":"IFERROR((I199-K199)/'NTC Thermistor Comparison'!H74,NA())","v":-3.11732502025479},8378.509763211543,8463.1411749611543,{"$f":"'Device Resistance Tables'!D61","v":8549.6492996914403},8636.1789588823794,8722.5407484712032,{"$f":"IFERROR('NTC Thermistor Comparison'!F75-'NTC Thermistor Comparison'!F74,NA())","v":5.2784269241219484E-3},{"$f":"IFERROR((M199-K199)/'NTC Thermistor Comparison'!H74,NA())","v":3.1492362907770435},10012.4,3.3172128000000001,1.5464621142261841,2.5471488842712775E-2,4.8255833051908521]
[43,2,-4.8214590556462511,-2.5437406316442424E-2,1.5008316459911508,3.2828168999999998,9987.7000000000007,{"$f":"IFERROR((I200-K200)/'NTC Thermistor Comparison'!H75,NA())","v":-3.1203132636679722},8432.6043974562435,8517.7822196527704,{"$f":"'Device Resistance Tables'!D62","v":8604.851002308118},8691.9414747105675,8778.8608894576737,{"$f":"IFERROR('NTC Thermistor Comparison'!F76-'NTC Thermistor Comparison'!F75,NA())","v":5.275873137749354E-3},{"$f":"IFERROR((M200-K200)/'NTC Thermistor Comparison'!H75,NA())","v":3.1522557983018302},10012.299999999999,3.3171830999999998,1.5517541626989877,2.548511039139445E-2,4.8305009855233552]
[44,3,-4.8267748852311803,-2.5452168133222708E-2,1.5060927573121199,3.2828465999999996,9987.7999999999993,{"$f":"IFERROR((I201-K201)/'NTC Thermistor Comparison'!H76,NA())","v":-3.1233582657074219},8486.9955209712025,8572.7227484557607,{"$f":"'Device Resistance Tables'!D63","v":8660.3552868371589},8748.0096710925609,8835.4897678034868,{"$f":"IFERROR('NTC Thermistor Comparison'!F77-'NTC Thermistor Comparison'!F76,NA())","v":5.2731210256149463E-3},{"$f":"IFERROR((M201-K201)/'NTC Thermistor Comparison'!H76,NA())","v":3.1553326459814857},10012.200000000001,3.3171534,1.5570431781837577,2.5498252738415106E-2,4.835514416330227]
[45,4,-4.8321844492967481,-2.5466449740392028E-2,1.5113515967305655,3.2828762999999999,9987.9,{"$f":"IFERROR((I202-K202)/'NTC Thermistor Comparison'!H77,NA())","v":-3.1264588304682674},8541.6834965381058,8627.9631278162688,{"$f":"'Device Resistance Tables'!D64","v":8716.1625230736208},8804.3839211802679,8892.4277603920709,{"$f":"IFERROR('NTC Thermistor Comparison'!F78-'NTC Thermistor Comparison'!F77,NA())","v":5.2701733569169296E-3},{"$f":"IFERROR((M202-K202)/'NTC Thermistor Comparison'!H77,NA())","v":3.1584656257047614},10012.1,3.3171236999999998,1.5623289621282459,2.5510915657288358E-2,4.8406217271403644]
[46,5,-4.8376859244319501,-2.5480250843547214E-2,1.5166079689843273,3.2829059999999997,9988,{"$f":"IFERROR((I203-K203)/'NTC Thermistor Comparison'!H78,NA())","v":-3.1296137868083709},8596.6686928477648,8683.5037301492575,{"$f":"'Device Resistance Tables'!D65","v":8772.2730868603721},8861.0646042524822,8949.6752502950076,{"$f":"IFERROR('NTC Thermistor Comparison'!F79-'NTC Thermistor Comparison'!F78,NA())","v":5.2670328834005797E-3},{"$f":"IFERROR((M203-K203)/'NTC Thermistor Comparison'!H78,NA())","v":3.161653554379777},10012,3.317094,1.5676113188306791,2.5523099002804583E-2,4.8458210851962598]
[47,6,-4.8432775234694283,-2.549357122918039E-2,1.5218616814820947,3.2829356999999995,9988.1,{"$f":"IFERROR((I204-K204)/'NTC Thermistor Comparison'!H79,NA())","v":-3.1328219877009751},8651.9514845001213,8739.3449338385071,{"$f":"'Device Resistance Tables'!D66","v":8828.6873600880917},8918.052105714869,9007.2326267720182,{"$f":"IFERROR('NTC Thermistor Comparison'!F80-'NTC Thermistor Comparison'!F79,NA())","v":5.2637023390966764E-3},{"$f":"IFERROR((M204-K204)/'NTC Thermistor Comparison'!H79,NA())","v":3.1648952732798268},10011.9,3.3170643000000002,1.5728900554208376,2.5534802709562543E-2,4.8511106944441442]
[48,7,-4.8489574945236633,-2.5506410763259213E-2,1.5271125442871125,3.2829653999999997,9988.2000000000007,{"$f":"IFERROR((I205-K205)/'NTC Thermistor Comparison'!H80,NA())","v":-3.136082309609078},8707.5322520042409,8795.4871232366077,{"$f":"'Device Resistance Tables'!D67","v":8885.4057306952727},8975.3468170999749,9065.1002852709753,{"$f":"IFERROR('NTC Thermistor Comparison'!F81-'NTC Thermistor Comparison'!F80,NA())","v":5.2601844400710362E-3},{"$f":"IFERROR((M205-K205)/'NTC Thermistor Comparison'!H80,NA())","v":3.168189647411201},10011.799999999999,3.3170345999999999,1.57816498184089,2.5546026790518317E-2,4.8564887945589472]
[49,8,-4.8547241200562414,-2.551876938980957E-2,1.5323603701006332,3.2829950999999995,9988.2999999999993,{"$f":"IFERROR((I206-K206)/'NTC Thermistor Comparison'!H81,NA())","v":-3.139393651880074},8763.4113817783145,8851.9306886649647,{"$f":"'Device Resistance Tables'!D68","v":8942.4285926682205},9032.9491360672309,9123.2786274279042,{"$f":"IFERROR('NTC Thermistor Comparison'!F82-'NTC Thermistor Comparison'!F81,NA())","v":5.2564818841887018E-3},{"$f":"IFERROR((M206-K206)/'NTC Thermistor Comparison'!H81,NA())","v":3.1715355649016832},10011.700000000001,3.3170049000000001,1.5834359108259801,2.5556771335537354E-2,4.8619536599966517]
[50,9,-4.8605757159737086,-2.5530647129504924E-2,1.5376049742451265,3.2830247999999997,9988.4,{"$f":"IFERROR((I207-K207)/'NTC Thermistor Comparison'!H82,NA())","v":-3.1427549361590899},8819.5892661496691,8908.6760264138065,{"$f":"'Device Resistance Tables'!D69","v":8999.7563460410547},9090.859466402937,9181.7680610669668,{"$f":"IFERROR('NTC Thermistor Comparison'!F83-'NTC Thermistor Comparison'!F82,NA())","v":5.2525973508861235E-3},{"$f":"IFERROR((M207-K207)/'NTC Thermistor Comparison'!H82,NA())","v":3.1749319364076394},10011.6,3.3169751999999999,1.5887026578845822,2.5567036509950736E-2,4.8675035990789448]
[51,10,-4.8665106307511641,-2.5542044078267878E-2,1.5428461746472497,3.2830544999999995,9988.5,{"$f":"IFERROR((I208-K208)/'NTC Thermistor Comparison'!H83,NA())","v":-3.1461651058220075},8876.0663033547498,8965.7235387421715,{"$f":"'Device Resistance Tables'!D70","v":9057.3893968957},9149.0782180202805,9240.5690002004831,{"$f":"IFERROR('NTC Thermistor Comparison'!F84-'NTC Thermistor Comparison'!F83,NA())","v":5.2485335009584411E-3},{"$f":"IFERROR((M208-K208)/'NTC Thermistor Comparison'!H83,NA())","v":3.1783776945415458},10011.5,3.3169455000000001,1.5939650412786457,2.5576822553128098E-2,4.8731369531046118]
[52,11,-4.872527244589083,-2.555296040587085E-2,1.5480837918206052,3.2830841999999998,9988.6,{"$f":"IFERROR((I209-K209)/'NTC Thermistor Comparison'!H84,NA())","v":-3.149623125424021},8932.8428975391325,9023.0736338779116,{"$f":"'Device Resistance Tables'!D71","v":9115.3281573619097},9207.6058069593273,9299.6818650289206,{"$f":"IFERROR('NTC Thermistor Comparison'!F85-'NTC Thermistor Comparison'!F84,NA())","v":5.2442929763496515E-3},{"$f":"IFERROR((M209-K209)/'NTC Thermistor Comparison'!H84,NA())","v":3.1818717933140328},10011.4,3.3169157999999999,1.5992228820035259,2.5586129777049882E-2,4.8788520954943655]
[53,12,-4.8786239685876422,-2.5563396354552737E-2,1.5533176488482729,3.2831138999999996,9988.7000000000007,{"$f":"IFERROR((I210-K210)/'NTC Thermistor Comparison'!H85,NA())","v":-3.1531279801697449},8989.9194587575203,9080.7267260176977,{"$f":"'Device Resistance Tables'!D72","v":9173.5730456172296},9266.4426553870235,9359.1070819408942,{"$f":"IFERROR('NTC Thermistor Comparison'!F86-'NTC Thermistor Comparison'!F85,NA())","v":5.2398783999647591E-3},{"$f":"IFERROR((M210-K210)/'NTC Thermistor Comparison'!H85,NA())","v":3.1854132075996997},10011.299999999999,3.3168861000000001,1.6044760037677195,2.5594958564893799E-2,4.8846474309529659]
[54,13,-4.8847992439558769,-2.5573352237635572E-2,1.5585475713651549,3.2831435999999998,9988.7999999999993,{"$f":"IFERROR((I211-K211)/'NTC Thermistor Comparison'!H86,NA())","v":-3.156678675393858},9047.296402973745,9138.6832353270147,{"$f":"'Device Resistance Tables'!D73","v":9232.1244858870341},9325.5891915971861,9418.8450835131589,{"$f":"IFERROR('NTC Thermistor Comparison'!F87-'NTC Thermistor Comparison'!F86,NA())","v":5.2352923754805936E-3},{"$f":"IFERROR((M211-K211)/'NTC Thermistor Comparison'!H86,NA())","v":3.189000932611016},10011.200000000001,3.3168563999999998,1.6097242329724188,2.5603309369628402E-2,4.890521394667676]
[55,14,-4.8910515412394977,-2.5582828438159622E-2,1.5637733875401114,3.2831732999999996,9988.9,{"$f":"IFERROR((I212-K212)/'NTC Thermistor Comparison'!H87,NA())","v":-3.1602742360641689},9104.9741520607604,9196.9435879401626,{"$f":"'Device Resistance Tables'!D74","v":9290.9829084445009},9385.0458500105233,9478.8963085106279,{"$f":"IFERROR('NTC Thermistor Comparison'!F88-'NTC Thermistor Comparison'!F87,NA())","v":5.2305374871752797E-3},{"$f":"IFERROR((M212-K212)/'NTC Thermistor Comparison'!H87,NA())","v":3.1926339833973025},10011.1,3.3168267,1.6149673986908883,2.5611182712617309E-2,4.896472451523997]
[56,15,-4.897379359574793,-2.5591825407514923E-2,1.5689949280579314,3.2832029999999994,9989,{"$f":"IFERROR((I213-K213)/'NTC Thermistor Comparison'!H88,NA())","v":-3.1639137062947733},9162.9531338006564,9255.5082159602589,{"$f":"'Device Resistance Tables'!D75","v":9350.1487496106292},9444.8130711746126,9539.2612018863583,{"$f":"IFERROR('NTC Thermistor Comparison'!F89-'NTC Thermistor Comparison'!F88,NA())","v":5.2256162997625921E-3},{"$f":"IFERROR((M213-K213)/'NTC Thermistor Comparison'!H88,NA())","v":3.1963113943522123},10011,3.3167970000000002,1.62020533264768,2.5618579182233647E-2,4.9024990953502536]
[57,16,-4.9037812259619349,-2.5600343664094138E-2,1.5742120261011148,3.2832326999999997,9989.1,{"$f":"IFERROR((I214-K214)/'NTC Thermistor Comparison'!H89,NA())","v":-3.1675961488783186},9221.2337818846427,9314.3775574592346,{"$f":"'Device Resistance Tables'!D76","v":9409.6224517542214},9504.8913017639188,9599.9402147815581,{"$f":"IFERROR('NTC Thermistor Comparison'!F90-'NTC Thermistor Comparison'!F89,NA())","v":5.2205313582422974E-3},{"$f":"IFERROR((M214-K214)/'NTC Thermistor Comparison'!H89,NA())","v":3.2000322187416068},10010.9,3.3167673,1.6254378691976925,2.5625499432483601E-2,4.9085998481793354]
[58,17,-4.91025569457023,-2.5608383791948741E-2,1.5794245173315025,3.2832623999999995,9989.2000000000007,{"$f":"IFERROR((I215-K215)/'NTC Thermistor Comparison'!H90,NA())","v":-3.1713206448290201},9279.8165359130544,9373.5520564778326,{"$f":"'Device Resistance Tables'!D77","v":9469.4044632918994},9565.2809945797817,9660.933804525579,{"$f":"IFERROR('NTC Thermistor Comparison'!F91-'NTC Thermistor Comparison'!F90,NA())","v":5.2152851877482753E-3},{"$f":"IFERROR((M215-K215)/'NTC Thermistor Comparison'!H90,NA())","v":3.2037955282412476},10010.799999999999,3.3167376000000002,1.6306648453050907,2.5631944181639499E-2,4.9147732595436864]
[59,18,-4.9168013460498372,-2.5615946439452308E-2,1.5846322398717472,3.2832920999999997,9989.2999999999993,{"$f":"IFERROR((I216-K216)/'NTC Thermistor Comparison'!H91,NA())","v":-3.1750862929423822},9338.701841395361,9433.0321630256167,{"$f":"'Device Resistance Tables'!D78","v":9529.4952386880923},9625.982608550421,9722.2424346359257,{"$f":"IFERROR('NTC Thermistor Comparison'!F92-'NTC Thermistor Comparison'!F91,NA())","v":5.2098802934212873E-3},{"$f":"IFERROR((M216-K216)/'NTC Thermistor Comparison'!H91,NA())","v":3.2076004124926856},10010.700000000001,3.3167078999999999,1.635886100522087,2.5637914210887569E-2,4.9210179057782826]
[60,19,-4.9234167868769383,-2.5623032317981131E-2,1.5898350342866396,3.2833217999999995,9989.4,{"$f":"IFERROR((I217-K217)/'NTC Thermistor Comparison'!H92,NA())","v":-3.1788922093662579},9397.8901497501556,9492.8183330809661,{"$f":"'Device Resistance Tables'!D79","v":9589.8952384550448},9686.9966087309349,9783.8665748182448,{"$f":"IFERROR('NTC Thermistor Comparison'!F93-'NTC Thermistor Comparison'!F92,NA())","v":5.2043191602786365E-3},{"$f":"IFERROR((M217-K217)/'NTC Thermistor Comparison'!H92,NA())","v":3.2114459786691936},10010.6,3.3166782000000001,1.6411014769676022,2.5643410362981456E-2,4.9273323893549454]
[61,20,-4.9301006487108925,-2.5629642200598601E-2,1.5950327435643008,3.2833514999999998,9989.5,{"$f":"IFERROR((I218-K218)/'NTC Thermistor Comparison'!H93,NA())","v":-3.182737527186009},9457.3819183051601,9552.9110285910701,{"$f":"'Device Resistance Tables'!D80","v":9650.6049291528179},9748.3234663032999,9845.8067009663337,{"$f":"IFERROR('NTC Thermistor Comparison'!F94-'NTC Thermistor Comparison'!F93,NA())","v":5.1986042530998144E-3},{"$f":"IFERROR((M218-K218)/'NTC Thermistor Comparison'!H93,NA())","v":3.2153313510568737},10010.5,3.3166484999999999,1.6463108193058114,2.5648433540911952E-2,4.9337153382310932]
[62,21,-4.9368515877777304,-2.563577692075647E-2,1.6002252130972427,3.2833811999999996,9989.6,{"$f":"IFERROR((I219-K219)/'NTC Thermistor Comparison'!H94,NA())","v":-3.186621396022097},9517.1776102972217,9613.3107174719407,{"$f":"'Device Resistance Tables'!D81","v":9711.6247833892794},9809.9636585763801,9908.0632951621446,{"$f":"IFERROR('NTC Thermistor Comparison'!F95-'NTC Thermistor Comparison'!F94,NA())","v":5.1927380163145909E-3},{"$f":"IFERROR((M219-K219)/'NTC Thermistor Comparison'!H94,NA())","v":3.2192556706483648},10010.4,3.3166188000000001,1.6515139747245853,2.5652984706586057E-2,4.940165405223464]
[63,22,-4.943668284260502,-2.5641437370998332E-2,1.6054122906633155,3.2834108999999998,9989.7000000000007,{"$f":"IFERROR((I220-K220)/'NTC Thermistor Comparison'!H95,NA())","v":-3.1905429816386093},9577.2776948723131,9674.0178736083963,{"$f":"'Device Resistance Tables'!D82","v":9772.9552798201094},9871.917668985905,9970.6368456757646,{"$f":"IFERROR('NTC Thermistor Comparison'!F96-'NTC Thermistor Comparison'!F95,NA())","v":5.1867228739101989E-3},{"$f":"IFERROR((M220-K220)/'NTC Thermistor Comparison'!H95,NA())","v":3.2232180947468012},10010.299999999999,3.3165890999999998,1.6567107929138292,2.5657064879515357E-2,4.9466812673901064]
[64,23,-4.9505494417243661,-2.5646624501685533E-2,1.6105938264065385,3.2834405999999996,9989.7999999999993,{"$f":"IFERROR((I221-K221)/'NTC Thermistor Comparison'!H96,NA())","v":-3.1945014655638331},9637.6826470855394,9735.0329768540796,{"$f":"'Device Resistance Tables'!D83","v":9834.5969031488112},9934.1859870944991,10033.527846965444,{"$f":"IFERROR('NTC Thermistor Comparison'!F97-'NTC Thermistor Comparison'!F96,NA())","v":5.1805612293314152E-3},{"$f":"IFERROR((M221-K221)/'NTC Thermistor Comparison'!H96,NA())","v":3.2272177965826838},10010.200000000001,3.3165594,1.6619011260437477,2.5660675135523725E-2,4.9532616254465927]
[65,24,-4.957493786537956,{"$f":"IFERROR(E222-($B$22/(K222+$B$29)*K222),NA())","v":-2.5651339319721078E-2},1.6157696728178343,3.2834702999999998,9989.9,{"$f":"IFERROR((I222-K222)/'NTC Thermistor Comparison'!H97,NA())","v":-3.1984960447240773},9698.3929479011276,9796.3565130314419,{"$f":"'Device Resistance Tables'!D84","v":9896.5501441266806},9996.7691085916522,10096.736799677568,{"$f":"IFERROR('NTC Thermistor Comparison'!F98-'NTC Thermistor Comparison'!F97,NA())","v":5.1742554654081729E-3},{"$f":"IFERROR((M222-K222)/'NTC Thermistor Comparison'!H97,NA())","v":3.2312539649442593},10010.1,3.3165296999999998,1.6670848287430142,{"$f":"IFERROR(R222-($B$22/(K222+$B$29)*K222),NA())","v":2.56638166054588E-2},4.9599052031796615]
[66,25,{"$f":"IFERROR(D223/N223,NA())","v":-4.964500067334856},-2.5655582887300188E-2,{"$f":"IFERROR((F223/(I223+P223))*I223,NA())","v":1.6209396847156634},3.2834999999999996,9990,{"$f":"IFERROR((I223-K223)/'NTC Thermistor Comparison'!H98,NA())","v":-3.2025259310831449},{"$f":"J223*0.99","v":9759.4090841924353},9857.9889739317532,{"$f":"'Device Resistance Tables'!D85","v":9958.8154995528494},10059.667535293742,{"$f":"L223*1.01","v":10160.264210646679},{"$f":"IFERROR('NTC Thermistor Comparison'!F99-'NTC Thermistor Comparison'!F98,NA())","v":5.1678079442696312E-3},{"$f":"IFERROR((M223-K223)/'NTC Thermistor Comparison'!H98,NA())","v":3.23532580381233},10010,3.3165,{"$f":"IFERROR(Q223/(M223+G223)*M223,NA())","v":1.6722617580768828},2.5666490473919223E-2,4.9666107468989313]
[67,{"$f":"B223+1","v":26},-4.9804440512324408,-2.5705172462838988E-2,1.6260579030843942,{"$f":"IFERROR($H$22-(($B$223-B224)*(($B$22*(1-$B$23))/1000000)),NA())","v":3.2834702999999998},{"$f":"IFERROR(($B$29-((B224-$B$223))*($B$29/1000000)*$B$31)-($B$29*$B$30),NA())","v":9989.9},{"$f":"IFERROR((I224-K224)/'NTC Thermistor Comparison'!H99,NA())","v":-3.2065903512993179},9820.7315487419455,9919.9308573150975,{"$f":"'Device Resistance Tables'!D86","v":10021.393472274245},10122.88177514402,10224.11059289546,{"$f":"IFERROR('NTC Thermistor Comparison'!F100-'NTC Thermistor Comparison'!F99,NA())","v":5.161221007287109E-3},{"$f":"IFERROR((M224-K224)/'NTC Thermistor Comparison'!H99,NA())","v":3.2394325320146549},{"$f":"IFERROR(($B$29+((B224-$B$223))*($B$29/1000000)*$B$31)+($B$29*$B$30),NA())","v":10010.1},{"$f":"IFERROR($J$22+(($B$223-B224)*(($B$22*(1-$B$23))/1000000)),NA())","v":3.3165296999999998},1.6774784143696904,2.5715338822457134E-2,{"$f":"IFERROR(S224/N224,NA())","v":4.9824138098619963}]
[68,27,-4.9850571945427431,-2.5695462229509802E-2,1.6312288343250105,{"$f":"IFERROR($H$22+(($B$223-B225)*(($B$22*(1-$B$23))/1000000)),NA())","v":3.2835593999999997},9989.7999999999993,{"$f":"IFERROR((I225-K225)/'NTC Thermistor Comparison'!H100,NA())","v":-3.2106885463855606},9882.3608402412738,9982.1826669103775,{"$f":"'Device Resistance Tables'!D87","v":10084.284571185617},10186.412342212625,10288.276465634752,{"$f":"IFERROR('NTC Thermistor Comparison'!F101-'NTC Thermistor Comparison'!F100,NA())","v":5.1544969750074721E-3},{"$f":"IFERROR((M225-K225)/'NTC Thermistor Comparison'!H100,NA())","v":3.24357338288215},10010.200000000001,3.3165594,1.68268820170028,2.5763905145759658E-2,4.9983354866014471]
[69,28,-4.9954369122361495,-2.5714701610885182E-2,1.6363640919186426,3.2835890999999995,9989.7000000000007,{"$f":"IFERROR((I226-K226)/'NTC Thermistor Comparison'!H101,NA())","v":-3.2148197713846081},9944.2974632911537,10044.744912415306,{"$f":"'Device Resistance Tables'!D88","v":10147.489311229521},10250.259756696567,10352.762354263532,{"$f":"IFERROR('NTC Thermistor Comparison'!F102-'NTC Thermistor Comparison'!F101,NA())","v":5.1476381471053934E-3},{"$f":"IFERROR((M226-K226)/'NTC Thermistor Comparison'!H101,NA())","v":3.2477476039205451},10010.299999999999,3.3165890999999998,1.687890982963741,2.5812189434213151E-2,5.0143752720318533]
[70,29,-5.0058826290390916,-2.5733474529843869E-2,1.6414929571467893,3.2836187999999997,9989.6,{"$f":"IFERROR((I227-K227)/'NTC Thermistor Comparison'!H102,NA())","v":-3.2189832950501049},10006.541928401452,10107.618109496416,{"$f":"'Device Resistance Tables'!D89","v":10211.00821339633},10314.424544919735,10417.568790368932,{"$f":"IFERROR('NTC Thermistor Comparison'!F103-'NTC Thermistor Comparison'!F102,NA())","v":5.1406468023369456E-3},{"$f":"IFERROR((M227-K227)/'NTC Thermistor Comparison'!H102,NA())","v":3.2519544564883889},10010.4,3.3166188000000001,1.6930866233995721,2.5860191722938852E-2,5.0305326775577681]
[71,30,-5.0163932885301197,-2.575178135227052E-2,1.6466152971266996,3.2836484999999995,9989.5,{"$f":"IFERROR((I228-K228)/'NTC Thermistor Comparison'!H103,NA())","v":-3.2231783995388184},10069.094751991161,10170.802779789052,{"$f":"'Device Resistance Tables'!D90","v":10274.841804724227},10378.907239332908,10482.696311726237,{"$f":"IFERROR('NTC Thermistor Comparison'!F104-'NTC Thermistor Comparison'!F103,NA())","v":5.133525198502964E-3},{"$f":"IFERROR((M228-K228)/'NTC Thermistor Comparison'!H103,NA())","v":3.2561932154860904},10010.5,3.3166484999999999,1.6982749905699166,2.590791209094645E-2,5.0468072307313703]
[72,31,-5.0269678508383278,-2.5769622497081812E-2,1.6517309811803913,3.2836781999999998,9989.4,{"$f":"IFERROR((I229-K229)/'NTC Thermistor Comparison'!H104,NA())","v":-3.2274043801107757},10131.956456388401,10234.299450897375,{"$f":"'Device Resistance Tables'!D91","v":10338.990618299209},10443.708378513733,10548.145462298869,{"$f":"IFERROR('NTC Thermistor Comparison'!F105-'NTC Thermistor Comparison'!F104,NA())","v":5.1262755724177378E-3},{"$f":"IFERROR((M229-K229)/'NTC Thermistor Comparison'!H104,NA())","v":3.2604631690527413},10010.6,3.3166782000000001,1.7034559543377663,2.5955350660293197E-2,5.0631984749215722]
[73,32,-5.0376052922543568,-2.5786998435204156E-2,1.6568398808146867,3.2837078999999996,9989.2999999999993,{"$f":"IFERROR((I230-K230)/'NTC Thermistor Comparison'!H105,NA())","v":-3.2316605448380491},10195.12756983042,{"$f":"IFERROR(($F$142*B230^4 + $E$142*B230^3 + $D$142*B230^2 + $C$142*B230 + $B$142)*0.99,NA())","v":10298.108656394363},{"$f":"'Device Resistance Tables'!D92","v":10403.455193255088},{"$f":"IFERROR(($F$155*B230^4 + $E$155*B230^3 + $D$155*B230^2 + $C$155*B230 + $B$155)*1.01,NA())","v":10508.82850716674},10613.916792238408,{"$f":"IFERROR('NTC Thermistor Comparison'!F106-'NTC Thermistor Comparison'!F105,NA())","v":5.1189001398845857E-3},{"$f":"IFERROR((M230-K230)/'NTC Thermistor Comparison'!H105,NA())","v":3.2647636182719912},10010.700000000001,3.3167078999999999,1.7086293868451392,2.6002507595248359E-2,5.079705968992517]
[74,33,-5.0483046048496938,-2.5803909688560056E-2,1.6619418697012154,3.2837375999999998,9989.2000000000007,{"$f":"IFERROR((I231-K231)/'NTC Thermistor Comparison'!H106,NA())","v":-3.2359462143220799},10258.608626463591,10362.230935821808,{"$f":"'Device Resistance Tables'!D93","v":10468.23607477348},10574.268176123338,10680.010857884572,{"$f":"IFERROR('NTC Thermistor Comparison'!F107-'NTC Thermistor Comparison'!F106,NA())","v":5.1114010956809786E-3},{"$f":"IFERROR((M231-K231)/'NTC Thermistor Comparison'!H106,NA())","v":3.269093876886576},10010.799999999999,3.3167376000000002,1.7137951624912411,2.6049383101465651E-2,5.0963292869888077]
[75,34,-5.0590647961131552,-2.5820356829066915E-2,1.6670368236563895,3.2837672999999996,9989.1,{"$f":"IFERROR((I232-K232)/'NTC Thermistor Comparison'!H107,NA())","v":-3.2402607214177599},10322.400166343416,10426.666834690319,{"$f":"'Device Resistance Tables'!D94","v":10533.333814083828},10640.027942341821,10746.42822176524,{"$f":"IFERROR('NTC Thermistor Comparison'!F108-'NTC Thermistor Comparison'!F107,NA())","v":5.1037806135443287E-3},{"$f":"IFERROR((M232-K232)/'NTC Thermistor Comparison'!H107,NA())","v":3.2734532710191937},10010.9,3.3167673,1.7189531579106176,2.6095977425161232E-2,5.1130680178352801]
[76,35,-5.0698848885883745,-2.5836340477637609E-2,1.6721246206213631,3.2837969999999999,9989,{"$f":"IFERROR((I233-K233)/'NTC Thermistor Comparison'!H108,NA())","v":-3.2446034109678532},10386.50273543452,10491.416904479314,{"$f":"'Device Resistance Tables'!D95","v":10598.748968463369},10706.108368907353,10813.169452596427,{"$f":"IFERROR('NTC Thermistor Comparison'!F109-'NTC Thermistor Comparison'!F108,NA())","v":5.0960408461722118E-3},{"$f":"IFERROR((M233-K233)/'NTC Thermistor Comparison'!H108,NA())","v":3.2778411389046145},10011,3.3167970000000002,1.7241032519512991,2.6142290852298355E-2,5.1299217650373841]
[77,36,-5.0807639195347747,-2.5851861303196166E-2,1.6772051406419768,3.2838266999999997,9988.9,{"$f":"IFERROR((I234-K234)/'NTC Thermistor Comparison'!H109,NA())","v":-3.2489736395405062},10450.916885610666,10556.481702637037,{"$f":"'Device Resistance Tables'!D96","v":10664.482101237174},10772.510025031981,10880.235125282301,{"$f":"IFERROR('NTC Thermistor Comparison'!F110-'NTC Thermistor Comparison'!F109,NA())","v":5.0881839252163719E-3},{"$f":"IFERROR((M234-K234)/'NTC Thermistor Comparison'!H109,NA())","v":3.282256830623878},10011.1,3.3168267,1.7292453256529485,2.6188323707775574E-2,5.146890146401681]
[78,37,-5.091700940581747,-2.5866920021695883E-2,1.6822782658486934,3.2838563999999995,9988.7999999999993,{"$f":"IFERROR((I235-K235)/'NTC Thermistor Comparison'!H110,NA())","v":-3.2533707751796368},10515.643174654733,10621.861792580539,{"$f":"'Device Resistance Tables'!D97","v":10730.533781778107},10839.233486054634,10947.62582091518,{"$f":"IFERROR('NTC Thermistor Comparison'!F111-'NTC Thermistor Comparison'!F110,NA())","v":5.0802119612980423E-3},{"$f":"IFERROR((M235-K235)/'NTC Thermistor Comparison'!H110,NA())","v":3.2866997078528088},10011.200000000001,3.3168563999999998,1.7343792622250216,2.6234076354632263E-2,5.1639727937511504]
[79,38,-5.1026950174070569,-2.588151739515232E-2,1.687343880436535,3.2838860999999997,9988.7000000000007,{"$f":"IFERROR((I236-K236)/'NTC Thermistor Comparison'!H111,NA())","v":-3.2577941971563416},10580.682166258732,10687.557743695688,{"$f":"'Device Resistance Tables'!D98","v":10796.904585506858},10906.279333441116,11015.342126775528,{"$f":"IFERROR('NTC Thermistor Comparison'!F112-'NTC Thermistor Comparison'!F111,NA())","v":5.0721270440152733E-3},{"$f":"IFERROR((M236-K236)/'NTC Thermistor Comparison'!H111,NA())","v":3.29116914361015},10011.299999999999,3.3168861000000001,1.7395049470249357,2.6279549193248375E-2,5.1811693526597011]
[80,39,-5.1137452294143317,-2.5895654230681409E-2,1.6924018706450212,3.2839157999999995,9988.6,{"$f":"IFERROR((I237-K237)/'NTC Thermistor Comparison'!H112,NA())","v":-3.2622432957317038},10646.034430023801,10753.570131337174,{"$f":"'Device Resistance Tables'!D99","v":10863.595093891925},10973.648154784116,11083.384636331957,{"$f":"IFERROR('NTC Thermistor Comparison'!F113-'NTC Thermistor Comparison'!F112,NA())","v":5.0639312419651361E-3},{"$f":"IFERROR((M237-K237)/'NTC Thermistor Comparison'!H112,NA())","v":3.2956645220183431},10011.4,3.3169157999999999,1.744622267536261,2.6324742660558398E-2,5.1984794821863884]
[81,40,-5.1248506694257161,-2.5909331379546874E-2,1.6974521247381209,3.2839454999999997,9988.5,{"$f":"IFERROR((I238-K238)/'NTC Thermistor Comparison'!H113,NA())","v":-3.266717471923748},10711.700541460204,10819.899536828489,{"$f":"'Device Resistance Tables'!D100","v":10930.605894449618},11041.340543803197,11151.753949241229,{"$f":"IFERROR('NTC Thermistor Comparison'!F114-'NTC Thermistor Comparison'!F113,NA())","v":5.0556266027650398E-3},{"$f":"IFERROR((M238-K238)/'NTC Thermistor Comparison'!H113,NA())","v":3.3001852380678982},10011.5,3.3169455000000001,1.7497311133469411,2.6369657229273313E-2,5.2159028546236259]
[82,41,-5.1360104433785905,-2.5922549736219436E-2,1.7024945329842134,3.2839751999999995,9988.4,{"$f":"IFERROR((I239-K239)/'NTC Thermistor Comparison'!H114,NA())","v":-3.2712161372811774},10777.681081987334,10886.546547461952,{"$f":"'Device Resistance Tables'!D101","v":10997.937580744057},11109.357100344805,11220.450671348253,{"$f":"IFERROR('NTC Thermistor Comparison'!F115-'NTC Thermistor Comparison'!F114,NA())","v":5.0472151530842613E-3},{"$f":"IFERROR((M239-K239)/'NTC Thermistor Comparison'!H114,NA())","v":3.3047306973889401},10011.6,3.3169751999999999,1.7548313761275376,2.6414293407104772E-2,5.2334391552465283]
[83,42,-5.1472236700331138,-2.5935310237441334E-2,1.7075289876360757,3.2840048999999998,9988.2999999999993,{"$f":"IFERROR((I240-K240)/'NTC Thermistor Comparison'!H115,NA())","v":-3.2757387136630229},10843.976638933707,10953.511756498694,{"$f":"'Device Resistance Tables'!D102","v":11065.590752387183},11177.698430382261,11289.475414686083,{"$f":"IFERROR('NTC Thermistor Comparison'!F116-'NTC Thermistor Comparison'!F115,NA())","v":5.0386988986772518E-3},{"$f":"IFERROR((M240-K240)/'NTC Thermistor Comparison'!H115,NA())","v":3.3093003160281294},10011.700000000001,3.3170049000000001,1.7599229496095208,2.6458651736003702E-2,5.2510880820740384]
[84,43,-5.1584894806884067,-2.5947613861305285E-2,1.712555382910889,3.2840345999999996,9988.2000000000007,{"$f":"IFERROR((I241-K241)/'NTC Thermistor Comparison'!H116,NA())","v":-3.2802846330252939},10910.587805536972,11020.795763168659,{"$f":"'Device Resistance Tables'!D103","v":11133.566015038743},11246.365146015767,11358.828797475924,{"$f":"IFERROR('NTC Thermistor Comparison'!F117-'NTC Thermistor Comparison'!F116,NA())","v":5.0300798244222733E-3},{"$f":"IFERROR((M241-K241)/'NTC Thermistor Comparison'!H116,NA())","v":3.3138935202335862},10011.799999999999,3.3170345999999999,1.7650057295635933,2.650273279139892E-2,5.2688493456349619]
[85,44,-5.1698070189006247,-2.5959461626335667E-2,1.7175736149702809,3.2840642999999998,9988.1,{"$f":"IFERROR((I242-K242)/'NTC Thermistor Comparison'!H117,NA())","v":-3.2848533372118918},10977.515180943901,11088.399172670608,{"$f":"'Device Resistance Tables'!D104","v":11201.863980406299},11315.35786547241,11428.511444127134,{"$f":"IFERROR('NTC Thermistor Comparison'!F118-'NTC Thermistor Comparison'!F117,NA())","v":5.0213598943691373E-3},{"$f":"IFERROR((M242-K242)/'NTC Thermistor Comparison'!H117,NA())","v":3.3185097462435182},10011.9,3.3170643000000002,1.7700796137780703,2.6546537181453722E-2,5.2867226687381104]
[86,45,-5.1811754402198309,-2.5970854590590342E-2,1.7225835819003954,3.2840939999999996,9988,{"$f":"IFERROR((I243-K243)/'NTC Thermistor Comparison'!H118,NA())","v":-3.2894442777518558},11044.759370210399,11156.32259617212,{"$f":"'Device Resistance Tables'!D105","v":11270.485266245223},11384.677213106148,11498.523985237209,{"$f":"IFERROR('NTC Thermistor Comparison'!F119-'NTC Thermistor Comparison'!F118,NA())","v":5.0125410517827262E-3},{"$f":"IFERROR((M243-K243)/'NTC Thermistor Comparison'!H118,NA())","v":3.3231484400811668},10012,3.317094,1.7751445020373009,2.6590065546315156E-2,5.3047077862550998]
[87,46,-5.1925939119202456,-2.598179385075805E-2,1.7275851836920104,3.2841236999999994,9987.9,{"$f":"IFERROR((I244-K244)/'NTC Thermistor Comparison'!H119,NA())","v":-3.2940569156618964},11112.320984301492,11224.566650809587,{"$f":"'Device Resistance Tables'!D106","v":11339.430496358704},11454.323819397823,11568.867057591802,{"$f":"IFERROR('NTC Thermistor Comparison'!F120-'NTC Thermistor Comparison'!F119,NA())","v":5.0036252192018349E-3},{"$f":"IFERROR((M244-K244)/'NTC Thermistor Comparison'!H119,NA())","v":3.3278090573554771},10012.1,3.3171236999999998,1.7802002961001566,2.6633318557388153E-2,5.3228044449013767]
[88,47,-5.2040616127525627,-2.5992280541280444E-2,1.7325783222206899,3.2841533999999997,9987.7999999999993,{"$f":"IFERROR((I245-K245)/'NTC Thermistor Comparison'!H120,NA())","v":-3.2986907212542969},11180.200640091329,11293.131959688211,{"$f":"'Device Resistance Tables'!D107","v":11408.70030059774},11524.298320955153,11639.541304164704,{"$f":"IFERROR('NTC Thermistor Comparison'!F121-'NTC Thermistor Comparison'!F120,NA())","v":4.9946142984906849E-3},{"$f":"IFERROR((M245-K245)/'NTC Thermistor Comparison'!H120,NA())","v":3.3324910630666236},10012.200000000001,3.3171534,1.7852468996785729,2.667629691660256E-2,5.3410124030325683]
[89,48,-5.2155777326858024,-2.600231583346857E-2,1.7375629012269924,3.2841830999999995,9987.7000000000007,{"$f":"IFERROR((I246-K246)/'NTC Thermistor Comparison'!H121,NA())","v":-3.303345173949197},11248.398960363202,11362.019151882021,{"$f":"'Device Resistance Tables'!D108","v":11478.295314861145},11594.601360512741,11710.547374117868,{"$f":"IFERROR('NTC Thermistor Comparison'!F122-'NTC Thermistor Comparison'!F121,NA())","v":4.9855101709084249E-3},{"$f":"IFERROR((M246-K246)/'NTC Thermistor Comparison'!H121,NA())","v":3.3371939314171413},10012.299999999999,3.3171830999999998,1.7902842184161629,2.6719001355701932E-2,5.3593314304348079]
[90,49,-5.2271414726719403,-2.6011900934642895E-2,1.7425388262967265,3.2842127999999997,9987.6,{"$f":"IFERROR((I247-K247)/'NTC Thermistor Comparison'!H122,NA())","v":-3.3080197620927851},11316.916573809514,11431.228862433853,{"$f":"'Device Resistance Tables'!D109","v":11548.21618109554},11665.233586932061,11781.885922801383,{"$f":"IFERROR('NTC Thermistor Comparison'!F123-'NTC Thermistor Comparison'!F122,NA())","v":4.9763146971697481E-3},{"$f":"IFERROR((M247-K247)/'NTC Thermistor Comparison'!H122,NA())","v":3.341917145627348},10012.4,3.3172128000000001,1.7953121598668971,2.676143263552766E-2,5.3777613081319151]
[91,50,-5.2387520444087112,-2.6021037087276655E-2,1.7475060048412625,3.2842424999999995,9987.5,{"$f":"IFERROR((I248-K248)/'NTC Thermistor Comparison'!H123,NA())","v":-3.3127139827790852},11385.754115031803,11500.761732355357,{"$f":"'Device Resistance Tables'!D110","v":11618.463547295365},11736.195655201478,11853.557611753493,{"$f":"IFERROR('NTC Thermistor Comparison'!F124-'NTC Thermistor Comparison'!F123,NA())","v":4.9670297175161693E-3},{"$f":"IFERROR((M248-K248)/'NTC Thermistor Comparison'!H123,NA())","v":3.3466601977557779},10012.5,3.3172424999999999,1.8003306334738574,2.6803591545318195E-2,5.3963018281923416]
[92,51,-5.2504086701081665,-2.6029725568146755E-2,1.7524643460779086,3.2842721999999998,9987.4,{"$f":"IFERROR((I249-K249)/'NTC Thermistor Comparison'!H124,NA())","v":-3.3174273416772371},11454.912224540736,11570.618408627006,{"$f":"'Device Resistance Tables'!D111","v":11689.038067502872},11807.488226436226,11925.563108700588,{"$f":"IFERROR('NTC Thermistor Comparison'!F125-'NTC Thermistor Comparison'!F124,NA())","v":4.9576570517910756E-3},{"$f":"IFERROR((M249-K249)/'NTC Thermistor Comparison'!H124,NA())","v":3.3514225885244828},10012.6,3.3172722000000001,1.8053395505480738,2.6845478902018494E-2,5.4149527935418416]
[93,52,-5.2621105822764953,-2.6037967687500219E-2,1.7574137610103462,3.2843018999999996,9987.2999999999993,{"$f":"IFERROR((I250-K250)/'NTC Thermistor Comparison'!H125,NA())","v":-3.3221593528632081},11524.391548756101,11640.799544198082,{"$f":"'Device Resistance Tables'!D112","v":11759.940401808122},11879.11196787842,11997.903087557204,{"$f":"IFERROR('NTC Thermistor Comparison'!F126-'NTC Thermistor Comparison'!F125,NA())","v":4.9481984995145556E-3},{"$f":"IFERROR((M250-K250)/'NTC Thermistor Comparison'!H125,NA())","v":3.3562038271490402},10012.700000000001,3.3173018999999999,1.810338824247435,2.6887095549588569E-2,5.4337140177837115]
[94,53,-5.2738570234885902,-2.6045764788225734E-2,1.7623541624091352,3.2843315999999998,9987.2000000000007,{"$f":"IFERROR((I251-K251)/'NTC Thermistor Comparison'!H126,NA())","v":-3.3269095386550029},11594.19274000682,11711.305797986686,{"$f":"'Device Resistance Tables'!D113","v":11831.171216348986},11951.067552897057,12070.578228426028,{"$f":"IFERROR('NTC Thermistor Comparison'!F127-'NTC Thermistor Comparison'!F126,NA())","v":4.9386558399713287E-3},{"$f":"IFERROR((M251-K251)/'NTC Thermistor Comparison'!H126,NA())","v":3.3610034311722821},10012.799999999999,3.3173316000000002,1.815328369555693,2.6928442358332028E-2,5.4525853250159582]
[95,54,-5.2856472461891437,-2.6053118245043416E-2,1.7672854647922889,3.2843612999999996,9987.1,{"$f":"IFERROR((I252-K252)/'NTC Thermistor Comparison'!H127,NA())","v":-3.3316774294523035},11664.316456530934,11782.137834879732,{"$f":"'Device Resistance Tables'!D114","v":11902.73118331116},12023.355660988014,12143.589217597895,{"$f":"IFERROR('NTC Thermistor Comparison'!F128-'NTC Thermistor Comparison'!F127,NA())","v":4.9290308322840204E-3},{"$f":"IFERROR((M252-K252)/'NTC Thermistor Comparison'!H127,NA())","v":3.3658209263016161},10012.9,3.3173613,1.8203081032615536,2.6969520224221277E-2,5.4715665496708015]
[96,55,-5.2974805124702105,-2.6060029463688572E-2,1.7722075844059277,3.2843909999999998,9987,{"$f":"IFERROR((I253-K253)/'NTC Thermistor Comparison'!H128,NA())","v":-3.3364625635817684},11734.763362475618,11853.296325732948,{"$f":"'Device Resistance Tables'!D115","v":11974.620980928139},12095.976977774046,12216.936747551787,{"$f":"IFERROR('NTC Thermistor Comparison'!F129-'NTC Thermistor Comparison'!F128,NA())","v":4.91932521551397E-3},{"$f":"IFERROR((M253-K253)/'NTC Thermistor Comparison'!H128,NA())","v":3.3706558462534395},10013,3.3173910000000002,1.8252779439378579,2.7010330068241606E-2,5.4906575363343961]
[97,56,-5.3093560938843574,-2.6066499880125882E-2,1.7771204392050044,3.2844206999999996,9986.9,{"$f":"IFERROR((I254-K254)/'NTC Thermistor Comparison'!H129,NA())","v":-3.3412644871432944},11805.534127897174,11924.781947370882,{"$f":"'Device Resistance Tables'!D116","v":12046.84129348124},12168.932195004783,12290.62151695483,{"$f":"IFERROR('NTC Thermistor Comparison'!F130-'NTC Thermistor Comparison'!F129,NA())","v":4.9095407087407228E-3},{"$f":"IFERROR((M254-K254)/'NTC Thermistor Comparison'!H129,NA())","v":3.3755077325973333},10013.1,3.3174207,1.8302378119208629,2.7050872835732598E-2,5.509858139595921]
[98,57,-5.3212732712382591,-2.6072530959757367E-2,1.7820239488341136,3.2844503999999994,9986.7999999999993,{"$f":"IFERROR((I255-K255)/'NTC Thermistor Comparison'!H130,NA())","v":-3.3460827538631022},11876.629428761025,11996.595382586895,{"$f":"'Device Resistance Tables'!D117","v":12119.392811299587},12242.222010556745,12364.644230662312,{"$f":"IFERROR('NTC Thermistor Comparison'!F131-'NTC Thermistor Comparison'!F130,NA())","v":4.8996790111646149E-3},{"$f":"IFERROR((M255-K255)/'NTC Thermistor Comparison'!H130,NA())","v":3.3803761346079741},10013.200000000001,3.3174503999999998,1.8351876292896225,2.7091149495751532E-2,5.5291682238817073]
[99,58,-5.3332313344049656,-2.6078124196646568E-2,1.786918034608389,3.2844800999999997,{"$f":"IFERROR(($B$29-((B256-$B$223))*($B$29/1000000)*$B$31)-($B$29*$B$30),NA())","v":9986.7000000000007},{"$f":"IFERROR((I256-K256)/'NTC Thermistor Comparison'!H131,NA())","v":-3.3509169249480686},11948.04994694173,12068.737320143162,{"$f":"'Device Resistance Tables'!D118","v":12192.276230760121},12315.847128433319,12439.005599717653,{"$f":"IFERROR('NTC Thermistor Comparison'!F132-'NTC Thermistor Comparison'!F131,NA())","v":4.8897418022006978E-3},{"$f":"IFERROR((M256-K256)/'NTC Thermistor Comparison'!H131,NA())","v":3.3852606091175179},{"$f":"IFERROR(($B$29+((B256-$B$223))*($B$29/1000000)*$B$31)+($B$29*$B$30),NA())","v":10013.299999999999},{"$f":"IFERROR($J$22+(($B$223-B256)*(($B$22*(1-$B$23))/1000000)),NA())","v":3.3174801},1.8401273198454648,2.713116104042923E-2,5.5485876633032989]
[100,59,-5.3452295821395728,-2.6083281112757373E-2,1.7918026194944789,{"$f":"IFERROR($H$22+(($B$223-B257)*(($B$22*(1-$B$23))/1000000)),NA())","v":3.2845097999999995},9986.6,{"$f":"IFERROR((I257-K257)/'NTC Thermistor Comparison'!H132,NA())","v":-3.3557665689458118},12019.796370222966,12141.208454770673,{"$f":"'Device Resistance Tables'!D119","v":12265.492254287587},12389.80825876478,12513.706341352428,{"$f":"IFERROR('NTC Thermistor Comparison'!F133-'NTC Thermistor Comparison'!F132,NA())","v":4.8797307415777702E-3},{"$f":"IFERROR((M257-K257)/'NTC Thermistor Comparison'!H132,NA())","v":3.3901607203746571},10013.4,3.3175097999999998,1.8450568090915831,2.7170908484346779E-2,5.5681163415097714]
[101,60,-5.3572673218958391,-2.6088003257192405E-2,1.7966776280916217,3.2845394999999997,9986.5,{"$f":"IFERROR((I258-K258)/'NTC Thermistor Comparison'!H133,NA())","v":-3.3606312616057603},12091.869392297545,12214.009487169238,{"$f":"'Device Resistance Tables'!D120","v":12339.041590354558},12464.106117808278,12588.747178986361,{"$f":"IFERROR('NTC Thermistor Comparison'!F134-'NTC Thermistor Comparison'!F133,NA())","v":4.8696474694416292E-3},{"$f":"IFERROR((M258-K258)/'NTC Thermistor Comparison'!H133,NA())","v":3.3950760399037376},10013.5,3.3175395000000001,1.8499760242127294,2.7210392863915356E-2,5.5877541515413629]
[102,61,-5.3693438696452658,-2.6092292205450729E-2,1.801542986612805,3.2845691999999995,9986.4,{"$f":"IFERROR((I259-K259)/'NTC Thermistor Comparison'!H134,NA())","v":-3.3655105857470788},12164.269712767404,12287.141124007479,{"$f":"'Device Resistance Tables'!D121","v":12412.924953481406},12538.741427947843,12664.128842227323,{"$f":"IFERROR('NTC Thermistor Comparison'!F135-'NTC Thermistor Comparison'!F134,NA())","v":4.8594936064645378E-3},{"$f":"IFERROR((M259-K259)/'NTC Thermistor Comparison'!H134,NA())","v":3.4000061463719846},10013.6,3.3175691999999999,1.8548848940550209,2.7249615236765168E-2,5.6075009956830204]
[103,62,-5.3814585497152043,-2.6096149558692439E-2,1.8063986228660278,3.2845988999999998,9986.2999999999993,{"$f":"IFERROR((I260-K260)/'NTC Thermistor Comparison'!H135,NA())","v":-3.3704041311258064},12236.998037143603,12360.604077922831,{"$f":"'Device Resistance Tables'!D122","v":12487.143064236321},12613.714917694389,12739.852066871334,{"$f":"IFERROR('NTC Thermistor Comparison'!F136-'NTC Thermistor Comparison'!F135,NA())","v":4.8492707539433688E-3},{"$f":"IFERROR((M260-K260)/'NTC Thermistor Comparison'!H135,NA())","v":3.4049506254546804},10013.700000000001,3.3175989000000001,1.8597833491058615,2.7288576681141263E-2,5.6273567853373665]
[104,63,-5.3936106946049414,-2.6099576943008129E-2,1.8112444662356555,3.2846285999999996,9986.2000000000007,{"$f":"IFERROR((I261-K261)/'NTC Thermistor Comparison'!H136,NA())","v":-3.3753114943084928},12310.055076846336,12434.399067521552,{"$f":"'Device Resistance Tables'!D123","v":12561.696649235302},12689.0273216857,12815.917594902558,{"$f":"IFERROR('NTC Thermistor Comparison'!F137-'NTC Thermistor Comparison'!F136,NA())","v":4.8389804939230618E-3},{"$f":"IFERROR((M261-K261)/'NTC Thermistor Comparison'!H136,NA())","v":3.4099090697077812},10013.799999999999,3.3176285999999999,1.8646713214739754,2.7327278295311785E-2,5.6473214408758636]
[105,64,-5.4057996448361072,-2.610257600871102E-2,1.8160804476638757,3.2846582999999998,9986.1,{"$f":"IFERROR((I262-K262)/'NTC Thermistor Comparison'!H137,NA())","v":-3.3802322785468135},12383.441549204917,{"$f":"IFERROR(($F$142*B262^4 + $E$142*B262^3 + $D$142*B262^2 + $C$142*B262 + $B$142)*0.99,NA())","v":12508.526817378704},{"$f":"'Device Resistance Tables'!D124","v":12636.586441142172},{"$f":"IFERROR(($F$155*B262^4 + $E$155*B262^3 + $D$155*B262^2 + $C$155*B262 + $B$155)*1.01,NA())","v":12764.679380686448},12892.326174493313,{"$f":"IFERROR('NTC Thermistor Comparison'!F138-'NTC Thermistor Comparison'!F137,NA())","v":4.8286243892974312E-3},{"$f":"IFERROR((M262-K262)/'NTC Thermistor Comparison'!H137,NA())","v":3.4148810784408541},10013.9,3.3176583000000002,1.8695487448695656,2.7365721196978887E-2,5.66739489152119]
[106,65,-5.4180247487848519,-2.610514842962508E-2,1.820906499632259,3.2846879999999996,9986,{"$f":"IFERROR((I263-K263)/'NTC Thermistor Comparison'!H138,NA())","v":-3.3851660936573489},12457.158177457793,12582.988058038176,{"$f":"'Device Resistance Tables'!D125","v":12711.81317866855},12840.671841588181,12969.078560004062,{"$f":"IFERROR('NTC Thermistor Comparison'!F139-'NTC Thermistor Comparison'!F138,NA())","v":4.8182039839297364E-3},{"$f":"IFERROR((M263-K263)/'NTC Thermistor Comparison'!H138,NA())","v":3.4198662575962691},10014,3.317688,1.8744155545845862,2.7403906522702082E-2,5.6875770752136985]
[107,66,-5.4302853625242129,-2.6107295902390693E-2,1.8257225561434232,3.2847176999999999,9985.9,{"$f":"IFERROR((I264-K264)/'NTC Thermistor Comparison'!H139,NA())","v":-3.3901125559009566},12531.205690752538,12657.783526012665,{"$f":"'Device Resistance Tables'!D126","v":12787.377606573884},12917.005457409325,13046.175511983418,{"$f":"IFERROR('NTC Thermistor Comparison'!F140-'NTC Thermistor Comparison'!F139,NA())","v":4.8077208027710316E-3},{"$f":"IFERROR((M264-K264)/'NTC Thermistor Comparison'!H139,NA())","v":3.424864219626623},10014.1,3.3177177000000002,1.8792716874731437,2.7441835427329808E-2,5.7078679384861797]
[108,67,-5.4425808496799783,-2.6109020145782091E-2,1.8305285527028028,3.2847473999999997,9985.7999999999993,{"$f":"IFERROR((I265-K265)/'NTC Thermistor Comparison'!H140,NA())","v":-3.3950712878693676},12605.584824145846,12732.913963783683,{"$f":"'Device Resistance Tables'!D127","v":12863.280475665417},12993.680987295185,13123.617797168137,{"$f":"IFERROR('NTC Thermistor Comparison'!F141-'NTC Thermistor Comparison'!F140,NA())","v":4.7971763519722987E-3},{"$f":"IFERROR((M265-K265)/'NTC Thermistor Comparison'!H140,NA())","v":3.429874583380689},10014.200000000001,3.3177474,1.8841170819320199,2.7479509083434994E-2,5.7282674363507899]
[109,68,-5.4549105812708181,-2.6110322900024796E-2,1.8353244263005324,3.2847770999999995,9985.7000000000007,{"$f":"IFERROR((I266-K266)/'NTC Thermistor Comparison'!H141,NA())","v":-3.4000419183692778},12680.29631860355,12808.380119801566,{"$f":"'Device Resistance Tables'!D128","v":12939.522542798226},13070.699196517951,13201.406188483132,{"$f":"IFERROR('NTC Thermistor Comparison'!F142-'NTC Thermistor Comparison'!F141,NA())","v":4.7865721190138988E-3},{"$f":"IFERROR((M266-K266)/'NTC Thermistor Comparison'!H141,NA())","v":3.4348969739857687},10014.299999999999,3.3177770999999998,1.8889516778813227,2.7516928680765496E-2,5.7487755321723579]
[110,69,-5.4672739355736679,-2.611120592613636E-2,1.8401101153934347,3.2848067999999997,9985.6,{"$f":"IFERROR((I267-K267)/'NTC Thermistor Comparison'!H142,NA())","v":-3.4050240823154043},12755.340921000599,12884.182748485455,{"$f":"'Device Resistance Tables'!D129","v":13016.104570875179},13148.060856476686,13279.541465041453,{"$f":"IFERROR('NTC Thermistor Comparison'!F143-'NTC Thermistor Comparison'!F142,NA())","v":4.7759095728201473E-3},{"$f":"IFERROR((M267-K267)/'NTC Thermistor Comparison'!H142,NA())","v":3.4399310227402307},10014.4,3.3178068000000001,1.8937754167452683,2.75540954256972E-2,5.7693921975634614]
[111,70,-5.479670297971313,-2.6111671005265791E-2,1.8448855598871254,3.2848364999999995,9985.5,{"$f":"IFERROR((I268-K268)/'NTC Thermistor Comparison'!H143,NA())","v":-3.4100174206193987},12830.719384121076,12960.322610223309,{"$f":"'Device Resistance Tables'!D130","v":13093.027328846969},13225.766744697336,13358.024412144308,{"$f":"IFERROR('NTC Thermistor Comparison'!F144-'NTC Thermistor Comparison'!F143,NA())","v":4.7651901638923189E-3},{"$f":"IFERROR((M268-K268)/'NTC Thermistor Comparison'!H143,NA())","v":3.4449763670008111},10014.5,3.3178364999999999,1.8985882414330881,2.7591010540696903E-2,5.7901174122629175]
[112,71,-6.353020798595268,-3.020489944122362E-2,1.8455575216150599,3.2848661999999997,9985.4,{"$f":"IFERROR((I269-K269)/'NTC Thermistor Comparison'!H144,NA())","v":-4.2586716705641132},12841.248464301327,{"$f":"IFERROR(($F$142*B269^4 + $E$142*B269^3 + $D$142*B269^2 + $C$142*B269 + $B$142)*0.985,NA())","v":12970.958044748815},{"$f":"'Device Resistance Tables'!D131","v":13170.291591712106},{"$f":"IFERROR(($F$155*B269^4 + $E$155*B269^3 + $D$155*B269^2 + $C$155*B269 + $B$155)*1.015,NA())","v":13369.67812822298},13503.37490950521,{"$f":"IFERROR('NTC Thermistor Comparison'!F145-'NTC Thermistor Comparison'!F144,NA())","v":4.7544153244236664E-3},{"$f":"IFERROR((M269-K269)/'NTC Thermistor Comparison'!H144,NA())","v":4.3109622151510205},10014.6,3.3178662000000001,1.9073958250604717,3.1633404004188126E-2,6.6534793125215135]
[113,72,-6.3668152434890652,-3.0201538636060787E-2,1.8503152977446464,3.2848958999999995,9985.2999999999993,{"$f":"IFERROR((I270-K270)/'NTC Thermistor Comparison'!H145,NA())","v":-4.2649144681907938},12916.912847692987,13047.386714841401,{"$f":"'Device Resistance Tables'!D132","v":13247.898140516898},13448.462932537115,13582.947561862486,{"$f":"IFERROR('NTC Thermistor Comparison'!F146-'NTC Thermistor Comparison'!F145,NA())","v":4.743586468438199E-3},{"$f":"IFERROR((M270-K270)/'NTC Thermistor Comparison'!H145,NA())","v":4.3172828389567686},10014.700000000001,3.3178958999999999,1.9121831568989647,3.1666320518257463E-2,6.6756073129375109]
[114,73,-6.3806434198540662,-3.0197702964750439E-2,1.855062719884395,3.2849255999999998,9985.2000000000007,{"$f":"IFERROR((I271-K271)/'NTC Thermistor Comparison'!H146,NA())","v":-4.2711698483926499},12992.911687864922,13124.153220065578,{"$f":"'Device Resistance Tables'!D133","v":13325.847762355479},13527.59605028198,13662.8720107848,{"$f":"IFERROR('NTC Thermistor Comparison'!F147-'NTC Thermistor Comparison'!F146,NA())","v":4.7327049919114739E-3},{"$f":"IFERROR((M271-K271)/'NTC Thermistor Comparison'!H146,NA())","v":4.3236162085203489},10014.799999999999,3.3179256000000001,1.9169593526877091,3.1698929838563705E-2,6.6978461350833003]
[115,74,-6.3945046543099817,-3.019339477569094E-2,1.8597997330653659,3.2849552999999996,9985.1,{"$f":"IFERROR((I272-K272)/'NTC Thermistor Comparison'!H147,NA())","v":-4.2774373903505936},13069.245757316416,13201.258340723653,{"$f":"'Device Resistance Tables'!D134","v":13404.141250369788},13607.078287461503,13743.149070336118,{"$f":"IFERROR('NTC Thermistor Comparison'!F148-'NTC Thermistor Comparison'!F147,NA())","v":4.7217722729062661E-3},{"$f":"IFERROR((M272-K272)/'NTC Thermistor Comparison'!H147,NA())","v":4.3299618980364052},10014.9,3.3179552999999999,1.9217243616014463,3.1731233760389443E-2,6.7201957075449483]
[116,75,-6.408398281260328,-3.0188616435502746E-2,1.8645262836784604,3.2849849999999998,9985,{"$f":"IFERROR((I273-K273)/'NTC Thermistor Comparison'!H148,NA())","v":-4.2837166800780642},13145.915834426016,13278.702863056582,{"$f":"'Device Resistance Tables'!D135","v":13482.779403749584},13686.910456236816,13823.779560799185,{"$f":"IFERROR('NTC Thermistor Comparison'!F149-'NTC Thermistor Comparison'!F148,NA())","v":4.710789671700244E-3},{"$f":"IFERROR((M273-K273)/'NTC Thermistor Comparison'!H148,NA())","v":4.3363194886162297},10015,3.3179850000000002,1.9264781342071726,3.1763234093209469E-2,6.7426559678571492]
[117,76,-6.4223236427428754,-3.0183370328323411E-2,1.86924231945734,3.2850146999999996,9984.9,{"$f":"IFERROR((I274-K274)/'NTC Thermistor Comparison'!H149,NA())","v":-4.2900073103060015},13222.922703451568,13356.487579244009,{"$f":"'Device Resistance Tables'!D136","v":13561.763027732428},13767.093374926264,13904.764308675527,{"$f":"IFERROR('NTC Thermistor Comparison'!F150-'NTC Thermistor Comparison'!F149,NA())","v":4.6997585309220824E-3},{"$f":"IFERROR((M274-K274)/'NTC Thermistor Comparison'!H149,NA())","v":4.3426885681721004},10015.1,3.3180147,1.9312206224457651,3.1794932660101694E-2,6.7652268623817138]
[118,77,-6.4362800882909177,-3.0177658855116585E-2,1.8739477894614689,3.2850443999999994,9984.7999999999993,{"$f":"IFERROR((I275-K275)/'NTC Thermistor Comparison'!H150,NA())","v":-4.2963088803680893},13300.267154530193,13434.613287404236,{"$f":"'Device Resistance Tables'!D137","v":13641.092933603699},13847.627868005404,13986.104146685459,{"$f":"IFERROR('NTC Thermistor Comparison'!F151-'NTC Thermistor Comparison'!F150,NA())","v":4.6886801756835794E-3},{"$f":"IFERROR((M275-K275)/'NTC Thermistor Comparison'!H150,NA())","v":4.3490687313005401},10015.200000000001,3.3180443999999998,1.9359517796137555,3.1826331297170052E-2,6.7879083461968008]
[119,78,-6.4502669747932755,-3.0171484432994111E-2,1.8786426440592749,3.2850740999999997,9984.7000000000007,{"$f":"IFERROR((I276-K276)/'NTC Thermistor Comparison'!H151,NA())","v":-4.3026209960904609},13377.949983678296,13513.080791594239,{"$f":"'Device Resistance Tables'!D138","v":13720.769938696594},13928.514766107006,14067.799913768076,{"$f":"IFERROR('NTC Thermistor Comparison'!F152-'NTC Thermistor Comparison'!F151,NA())","v":4.6775559137164358E-3},{"$f":"IFERROR((M276-K276)/'NTC Thermistor Comparison'!H151,NA())","v":4.3554595791706801},10015.299999999999,3.3180741,1.9406715603452418,3.185743185297274E-2,6.8107003829829607]
[120,79,-6.464283666362995,-3.016484949454612E-2,1.8833268349114394,3.2851037999999995,9984.6,{"$f":"IFERROR((I277-K277)/'NTC Thermistor Comparison'!H152,NA())","v":-4.3089432696837466},13455.971992791568,13591.890901809666,{"$f":"'Device Resistance Tables'!D139","v":13800.794866392116},14009.75490602104,14149.852455081251,{"$f":"IFERROR('NTC Thermistor Comparison'!F153-'NTC Thermistor Comparison'!F152,NA())","v":4.6663870355054815E-3},{"$f":"IFERROR((M277-K277)/'NTC Thermistor Comparison'!H152,NA())","v":4.3618607194151515},10015.4,3.3181037999999998,1.9453799205939502,3.1888236187964658E-2,6.8336029449195479]
[121,80,-6.4783295342008813,-3.0157756487183551E-2,1.8880003149543074,3.2851334999999997,9984.5,{"$f":"IFERROR((I278-K278)/'NTC Thermistor Comparison'!H153,NA())","v":-4.3152753196359965},13534.333989644982,13671.044433984829,{"$f":"'Device Resistance Tables'!D140","v":13881.168546119081},14091.349130694694,14232.262622001641,{"$f":"IFERROR('NTC Thermistor Comparison'!F154-'NTC Thermistor Comparison'!F153,NA())","v":4.6551748144290084E-3},{"$f":"IFERROR((M278-K278)/'NTC Thermistor Comparison'!H153,NA())","v":4.3682717660215609},10015.5,3.3181335000000001,1.9500768176154393,3.1918746173948298E-2,6.8566160125746789]
[122,81,-6.4924039564658553,-3.0150207872493118E-2,1.8926630383834269,3.2851631999999995,9984.4,{"$f":"IFERROR((I279-K279)/'NTC Thermistor Comparison'!H154,NA())","v":-4.3216167706094426},13613.03678789279,13750.542209992718,{"$f":"'Device Resistance Tables'!D141","v":13961.891813354119},14173.298289232371,14315.031272124694,{"$f":"IFERROR('NTC Thermistor Comparison'!F155-'NTC Thermistor Comparison'!F154,NA())","v":4.6439205068973255E-3},{"$f":"IFERROR((M279-K279)/'NTC Thermistor Comparison'!H154,NA())","v":4.3746923392279733},10015.6,3.3181631999999999,1.9547622099494542,3.1948963693534171E-2,6.8797395748015857]
[123,82,-6.5065063181578155,-3.0142206125600923E-2,1.8973149606372164,3.2851928999999997,9984.2999999999993,{"$f":"IFERROR((I280-K280)/'NTC Thermistor Comparison'!H155,NA())","v":-4.3279672533390263},13692.081207068537,13830.385057644988,{"$f":"'Device Resistance Tables'!D142","v":14042.965509621676},14255.603236895673,14398.15926926463,{"$f":"IFERROR('NTC Thermistor Comparison'!F156-'NTC Thermistor Comparison'!F155,NA())","v":4.6326253524848759E-3},{"$f":"IFERROR((M280-K280)/'NTC Thermistor Comparison'!H155,NA())","v":4.3811220654200458},10015.700000000001,3.3181929000000001,1.9594360574024243,3.1978890639607016E-2,6.9029736286475192]
[124,83,-6.5206360109825408,-3.0133753734549407E-2,1.9019560383807528,3.2852225999999995,9984.2000000000007,{"$f":"IFERROR((I281-K281)/'NTC Thermistor Comparison'!H156,NA())","v":-4.3343264045335372},13771.468072585039,13910.57381069196,{"$f":"'Device Resistance Tables'!D143","v":14124.390482494005},14338.264835103422,14481.647483454457,{"$f":"IFERROR('NTC Thermistor Comparison'!F157-'NTC Thermistor Comparison'!F156,NA())","v":4.6212905740783405E-3},{"$f":"IFERROR((M281-K281)/'NTC Thermistor Comparison'!H156,NA())","v":4.3875605770309818},10015.799999999999,3.3182225999999999,1.9640983210301124,3.2008528914810208E-2,6.9263181792445314]
[125,84,-6.5347924332380725,-3.0124853199683166E-2,1.9065862294896974,3.2852522999999998,9984.1,{"$f":"IFERROR((I282-K282)/'NTC Thermistor Comparison'!H157,NA())","v":-4.3406938667782233},13851.198215734403,13991.10930882263,{"$f":"'Device Resistance Tables'!D144","v":14206.167585591174},14421.283951431644,14565.496790945961,{"$f":"IFERROR('NTC Thermistor Comparison'!F158-'NTC Thermistor Comparison'!F157,NA())","v":4.6099173780116409E-3},{"$f":"IFERROR((M282-K282)/'NTC Thermistor Comparison'!H157,NA())","v":4.3940075124430065},10015.9,3.3182523000000002,1.9687489631204118,3.2037880431031285E-2,6.9497732397212575]
[126,85,-6.5489749896966201,-3.0115507033047217E-2,1.9112054930343449,3.2852819999999996,9984,{"$f":"IFERROR((I283-K283)/'NTC Thermistor Comparison'!H158,NA())","v":-4.3470692884396289},13931.272473688017,14071.992397664664,{"$f":"'Device Resistance Tables'!D145","v":14288.297678581066},14504.661459613579,14649.708074209715,{"$f":"IFERROR('NTC Thermistor Comparison'!F159-'NTC Thermistor Comparison'!F158,NA())","v":4.5985069542069379E-3},{"$f":"IFERROR((M283-K283)/'NTC Thermistor Comparison'!H158,NA())","v":4.4004625158908617},10016,3.318282,1.9733879471762918,3.2066947108899679E-2,6.973338831109797]
[127,86,-6.5631830914871241,-3.0105717757792361E-2,1.9158137892638067,3.2853116999999998,9983.9,{"$f":"IFERROR((I284-K284)/'NTC Thermistor Comparison'!H159,NA())","v":-4.3534523235735403},14011.691689496554,14153.223928784399,{"$f":"'Device Resistance Tables'!D146","v":14370.781627179373},14588.39823953968,14734.282221935076,{"$f":"IFERROR('NTC Thermistor Comparison'!F160-'NTC Thermistor Comparison'!F159,NA())","v":4.587060476316962E-3},{"$f":"IFERROR((M284-K284)/'NTC Thermistor Comparison'!H159,NA())","v":4.4069252373687462},10016.1,3.3183117000000002,1.9780152378988958,3.2095730877296669E-2,6.9970149822543739]
[128,87,-6.5774161559823083,-3.009548790759875E-2,1.9204110795903173,3.2853413999999996,9983.7999999999993,{"$f":"IFERROR((I285-K285)/'NTC Thermistor Comparison'!H160,NA())","v":-4.3598426318335095},14092.456712089965,14234.804759686833,{"$f":"'Device Resistance Tables'!D147","v":14453.620303149599},14672.495177257597,14819.220129030173,{"$f":"IFERROR('NTC Thermistor Comparison'!F161-'NTC Thermistor Comparison'!F160,NA())","v":4.5755791018675662E-3},{"$f":"IFERROR((M285-K285)/'NTC Thermistor Comparison'!H160,NA())","v":4.4133953325373954},10016.200000000001,3.3183414,1.9826308011707838,3.2124233672867764E-2,7.0208017297211516]
[129,88,-6.5916736066908221,{"$f":"IFERROR(E286-($B$22/(K286+$B$29)*K286),NA())","v":-3.0084820026100356E-2},1.9249973265736833,3.2853710999999994,9983.7000000000007,{"$f":"IFERROR((I286-K286)/'NTC Thermistor Comparison'!H161,NA())","v":-4.3662398783817933},14173.568396277487,14316.735753815645,{"$f":"'Device Resistance Tables'!D148","v":14536.814584303067},14756.95316497221,14904.522696621932,{"$f":"IFERROR('NTC Thermistor Comparison'!F162-'NTC Thermistor Comparison'!F161,NA())","v":4.5640639723973919E-3},{"$f":"IFERROR((M286-K286)/'NTC Thermistor Comparison'!H161,NA())","v":4.419872462634248},10016.299999999999,3.3183710999999998,1.9872346040393354,{"$f":"IFERROR(R286-($B$22/(K286+$B$29)*K286),NA())","v":3.2152457439551752E-2},7.044699117716978]
[130,89,{"$f":"IFERROR(D287/N287,NA())","v":-6.6059548731481224},-3.0073716666325412E-2,{"$f":"IFERROR((F287/(I287+P287))*I287,NA())","v":1.9295724939058556},3.2854007999999997,9983.6,{"$f":"IFERROR((I287-K287)/'NTC Thermistor Comparison'!H162,NA())","v":-4.3726437338029989},{"$f":"J287*0.99","v":14255.027602747648},14399.01778055318,{"$f":"'Device Resistance Tables'!D149","v":14620.365354498908},14841.773101045595,{"$f":"L287*1.01","v":14990.190832056052},{"$f":"IFERROR('NTC Thermistor Comparison'!F163-'NTC Thermistor Comparison'!F162,NA())","v":4.5525162136013098E-3},{"$f":"IFERROR((M287-K287)/'NTC Thermistor Comparison'!H162,NA())","v":4.4263562943858039},10016.4,3.3184008,{"$f":"IFERROR(Q287/(M287+G287)*M287,NA())","v":1.991826614700295},3.218040412811396E-2,7.0687071980041027]
[131,{"$f":"B287+1","v":90},-6.6202593908077629,-3.0062180390148407E-2,1.9341365463956339,3.2854304999999995,{"$f":"IFERROR(($B$29-((B288-$B$223))*($B$29/1000000)*$B$31)-($B$29*$B$30),NA())","v":9983.5},{"$f":"IFERROR((I288-K288)/'NTC Thermistor Comparison'!H163,NA())","v":-4.3790538740185543},14336.835198068242,14481.651715220447,{"$f":"'Device Resistance Tables'!D150","v":14704.273503644064},14926.955889997049,15076.225448897019,{"$f":"IFERROR('NTC Thermistor Comparison'!F164-'NTC Thermistor Comparison'!F163,NA())","v":4.5409369354756368E-3},{"$f":"IFERROR((M288-K288)/'NTC Thermistor Comparison'!H163,NA())","v":4.4328464999210029},{"$f":"IFERROR(($B$29+((B288-$B$223))*($B$29/1000000)*$B$31)+($B$29*$B$30),NA())","v":10016.5},{"$f":"IFERROR($J$22+(($B$223-B288)*(($B$22*(1-$B$23))/1000000)),NA())","v":3.3184304999999998},1.9964068024814716,3.2208075695689287E-2,{"$f":"IFERROR(S288/N288,NA())","v":7.0928260298148533}]
[132,91,-6.6345866009446812,-3.005021376774808E-2,1.9386894499535099,{"$f":"IFERROR($H$22+(($B$223-B289)*(($B$22*(1-$B$23))/1000000)),NA())","v":3.2854601999999997},9983.4,{"$f":"IFERROR((I289-K289)/'NTC Thermistor Comparison'!H164,NA())","v":-4.3854699802027106},14418.992054686363,14564.638439077135,{"$f":"'Device Resistance Tables'!D151","v":14788.539927693295},15012.502442503066,15162.627466928097,{"$f":"IFERROR('NTC Thermistor Comparison'!F165-'NTC Thermistor Comparison'!F164,NA())","v":4.5293272324562484E-3},{"$f":"IFERROR((M289-K289)/'NTC Thermistor Comparison'!H164,NA())","v":4.4393427566862442},10016.6,3.3184602000000001,2.0009751378265914,3.223547410533345E-2,7.1170556797796642]
[133,92,-6.6489359505464165,-3.0037819377076724E-2,1.9432311715766375,3.2854898999999995,9983.2999999999993,{"$f":"IFERROR((I290-K290)/'NTC Thermistor Comparison'!H165,NA())","v":-4.3918917387020899},14501.499050928376,14647.978839321593,{"$f":"'Device Resistance Tables'!D152","v":14873.165528649166},15098.413675397358,15249.397812151332,{"$f":"IFERROR('NTC Thermistor Comparison'!F166-'NTC Thermistor Comparison'!F165,NA())","v":4.5176881835669036E-3},{"$f":"IFERROR((M290-K290)/'NTC Thermistor Comparison'!H165,NA())","v":4.4458447473638198},10016.700000000001,3.3184898999999999,2.0055315922793007,3.2262601325586449E-2,7.141396221842335]
[134,93,-6.6633068922180945,-3.0024999803340169E-2,1.947761679333941,3.2855195999999998,9983.2000000000007,{"$f":"IFERROR((I291-K291)/'NTC Thermistor Comparison'!H166,NA())","v":-4.3983188409544054},14584.357070999939,14731.673809090847,{"$f":"'Device Resistance Tables'!D153","v":14958.151214562062},15184.690511670851,15336.53741678756,{"$f":"IFERROR('NTC Thermistor Comparison'!F167-'NTC Thermistor Comparison'!F166,NA())","v":4.5060208525598E-3},{"$f":"IFERROR((M291-K291)/'NTC Thermistor Comparison'!H166,NA())","v":4.4523521597897826},10016.799999999999,3.3185196000000001,2.0100761384673214,3.2289459330040238E-2,7.1658477371885887]
[135,94,-6.6776988840873299,-3.0011757638493064E-2,1.9522809423513479,3.2855492999999996,9983.1,{"$f":"IFERROR((I292-K292)/'NTC Thermistor Comparison'!H167,NA())","v":-4.4047509834112386},14667.567004985982,14815.724247460588,{"$f":"'Device Resistance Tables'!D154","v":15043.497899530177},15271.333880471679,15424.047219276395,{"$f":"IFERROR('NTC Thermistor Comparison'!F168-'NTC Thermistor Comparison'!F167,NA())","v":4.4943262880585699E-3},{"$f":"IFERROR((M292-K292)/'NTC Thermistor Comparison'!H167,NA())","v":4.4588646868755077},10016.9,3.3185492999999999,2.0146087500867562,3.2316050096915294E-2,7.1904103141730218]
[136,95,-6.6921113897044329,-2.9998095480728182E-2,1.9567889307971713,3.2855789999999998,9983,{"$f":"IFERROR((I293-K293)/'NTC Thermistor Comparison'!H168,NA())","v":-4.4111878674605878},14751.12974885073,14900.131059445182,{"$f":"'Device Resistance Tables'!D155","v":15129.206503699521},15358.344717105181,15511.928164276233,{"$f":"IFERROR('NTC Thermistor Comparison'!F169-'NTC Thermistor Comparison'!F168,NA())","v":4.4826055237034979E-3},{"$f":"IFERROR((M293-K293)/'NTC Thermistor Comparison'!H168,NA())","v":4.4653820265294151},10017,3.3185790000000002,2.0191294018865511,3.2342375608651608E-2,7.2150840482457976]
[137,96,-6.7065438779502804,-2.9984015933993913E-2,1.9612856158676091,3.2856086999999996,9982.9,{"$f":"IFERROR((I294-K294)/'NTC Thermistor Comparison'!H169,NA())","v":-4.4176291993523034},14835.046204437684,14984.895155997661,{"$f":"'Device Resistance Tables'!D156","v":15215.277953263911},15445.723963033914,15600.181202664253,{"$f":"IFERROR('NTC Thermistor Comparison'!F170-'NTC Thermistor Comparison'!F169,NA())","v":4.4708595782956273E-3},{"$f":"IFERROR((M294-K294)/'NTC Thermistor Comparison'!H169,NA())","v":4.4719038815815191},10017.1,3.3186087,2.023638069653102,3.236843785149901E-2,7.2398690418808558]
[138,97,-6.7209958229491917,-2.9969521607509986E-2,1.9657709697723886,3.2856383999999998,9982.7999999999993,{"$f":"IFERROR((I295-K295)/'NTC Thermistor Comparison'!H170,NA())","v":-4.4240746901236561},14919.317279469629,15070.017454009727,{"$f":"'Device Resistance Tables'!D157","v":15301.713180464983},15533.472565877639,15688.807291536416,{"$f":"IFERROR('NTC Thermistor Comparison'!F171-'NTC Thermistor Comparison'!F170,NA())","v":4.459089455937093E-3},{"$f":"IFERROR((M295-K295)/'NTC Thermistor Comparison'!H170,NA())","v":4.4784299597077633},10017.200000000001,3.3186384000000002,2.0281347301950214,3.2394238815122822E-2,7.2647654045135237]
[139,98,-6.7354667039749581,-2.9954615115295846E-2,1.9702449657205399,3.2856680999999996,9982.7000000000007,{"$f":"IFERROR((I296-K296)/'NTC Thermistor Comparison'!H171,NA())","v":-4.4305240555286742},15003.943887548634,15155.498876311751,{"$f":"'Device Resistance Tables'!D158","v":15388.513123592174},15621.59147941333,15777.807394207462,{"$f":"IFERROR('NTC Thermistor Comparison'!F172-'NTC Thermistor Comparison'!F171,NA())","v":4.4472961461776706E-3},{"$f":"IFERROR((M296-K296)/'NTC Thermistor Comparison'!H171,NA())","v":4.4849599733589862},10017.299999999999,3.3186681,2.0326193613280483,3.2419780492212613E-2,7.2897732524685876]
[140,99,-6.7499560053650125,-2.9939299075707915E-2,1.9747075779063055,3.2856977999999994,9982.6,{"$f":"IFERROR((I297-K297)/'NTC Thermistor Comparison'!H172,NA())","v":-4.4369770159645565},15088.92694815605,15241.340351672778,{"$f":"'Device Resistance Tables'!D159","v":15475.67872698276},15710.081663575174,15867.182480210926,{"$f":"IFERROR('NTC Thermistor Comparison'!F173-'NTC Thermistor Comparison'!F172,NA())","v":4.4354806241568845E-3},{"$f":"IFERROR((M297-K297)/'NTC Thermistor Comparison'!H172,NA())","v":4.4914936396855198},10017.4,3.3186977999999998,2.0370919418601181,3.2445064878104724E-2,7.3148927088982658]
[141,100,-6.7644632164336054,-2.9923576110986838E-2,1.9791587814951834,3.2857274999999997,9982.5,{"$f":"IFERROR((I298-K298)/'NTC Thermistor Comparison'!H173,NA())","v":-4.4434332964071128},15174.267386652515,15327.542814800519,{"$f":"'Device Resistance Tables'!D160","v":15563.210941021794},15798.944084454568,15956.933525299113,{"$f":"IFERROR('NTC Thermistor Comparison'!F174-'NTC Thermistor Comparison'!F173,NA())","v":4.4236438507478937E-3},{"$f":"IFERROR((M298-K298)/'NTC Thermistor Comparison'!H173,NA())","v":4.49803068047314},10017.5,3.3187275000000001,2.0415524515765791,3.2470093970408787E-2,7.3401239037177808]
[142,101,-6.7789878313932652,-2.9907448846814289E-2,1.9835985526101039,3.2857571999999995,9982.4,{"$f":"IFERROR((I299-K299)/'NTC Thermistor Comparison'!H174,NA())","v":-4.4498926263374026},15259.96613427794,15414.107206341354,{"$f":"'Device Resistance Tables'!D161","v":15651.11072214217},15888.179714300113,16047.061511443115,{"$f":"IFERROR('NTC Thermistor Comparison'!F175-'NTC Thermistor Comparison'!F174,NA())","v":4.4117867726969351E-3},{"$f":"IFERROR((M299-K299)/'NTC Thermistor Comparison'!H174,NA())","v":4.5045708220673006},10017.6,3.3187571999999999,2.0460008712255573,3.2494869768639134E-2,7.3654669735488936]
[143,102,-6.7935293492601021,-2.9890919911873759E-2,1.9880268683177413,3.2857868999999997,9982.2999999999993,{"$f":"IFERROR((I300-K300)/'NTC Thermistor Comparison'!H175,NA())","v":-4.456354739679349},15346.024128151534,15501.034472880337,{"$f":"'Device Resistance Tables'!D162","v":15739.37903282458},15977.789531517627,16137.567426832802,{"$f":"IFERROR('NTC Thermistor Comparison'!F176-'NTC Thermistor Comparison'!F175,NA())","v":4.399910322773426E-3},{"$f":"IFERROR((M300-K300)/'NTC Thermistor Comparison'!H175,NA())","v":4.5111137953110765},10017.700000000001,3.3187869000000001,2.0504371825034777,3.2519394273862634E-2,7.390922061648852]
[144,103,-6.8080872737871365,-2.9873991937430677E-2,1.9924437066149578,3.2858165999999995,9982.2000000000007,{"$f":"IFERROR((I301-K301)/'NTC Thermistor Comparison'!H176,NA())","v":-4.4628193747323479},15432.442311271781,{"$f":"IFERROR(($F$142*B301^4 + $E$142*B301^3 + $D$142*B301^2 + $C$142*B301 + $B$142)*0.985,NA())","v":15588.325566941194},{"$f":"'Device Resistance Tables'!D163","v":15828.016841597531},{"$f":"IFERROR(($F$155*B301^4 + $E$155*B301^3 + $D$155*B301^2 + $C$155*B301 + $B$155)*1.015,NA())","v":16067.774520670135},16228.452265876836,{"$f":"IFERROR('NTC Thermistor Comparison'!F177-'NTC Thermistor Comparison'!F176,NA())","v":4.3880154199040788E-3},{"$f":"IFERROR((M301-K301)/'NTC Thermistor Comparison'!H176,NA())","v":4.5176593354764867},10017.799999999999,3.3188165999999999,2.0548613680407346,3.2543669488346083E-2,7.4164893178651319]
[145,104,-6.8226611133756592,-2.9856667556909633E-2,1.996849046415383,3.2858462999999998,9982.1,{"$f":"IFERROR((I302-K302)/'NTC Thermistor Comparison'!H177,NA())","v":-4.4692862741077954},15519.221632516443,15675.981446986307,{"$f":"'Device Resistance Tables'!D164","v":15917.025123037351},16158.135672477876,16319.717029202655,{"$f":"IFERROR('NTC Thermistor Comparison'!F178-'NTC Thermistor Comparison'!F177,NA())","v":4.376102969320339E-3},{"$f":"IFERROR((M302-K302)/'NTC Thermistor Comparison'!H177,NA())","v":4.5242071821999446},10017.9,3.3188463000000001,2.0592734113875086,3.2567697415216035E-2,7.4421688985700873]
[146,105,-6.8372503810001763,-2.9838949405487813E-2,2.0012428675361251,3.2858759999999996,9982,{"$f":"IFERROR((I303-K303)/'NTC Thermistor Comparison'!H178,NA())","v":-4.4757551846666663},15606.363046642575,15764.003077416743,{"$f":"'Device Resistance Tables'!D165","v":16006.40485776817},16248.873983818299,16411.362723656483,{"$f":"IFERROR('NTC Thermistor Comparison'!F179-'NTC Thermistor Comparison'!F178,NA())","v":4.364173862698717E-3},{"$f":"IFERROR((M303-K303)/'NTC Thermistor Comparison'!H178,NA())","v":4.5307570794196925},10018,3.3188759999999999,2.0636732969997369,3.2591480058123956E-2,7.4679609666077882]
[147,106,-6.8518545941321687,-2.982084011969377E-2,2.0056251506846179,3.2859056999999998,9981.9,{"$f":"IFERROR((I304-K304)/'NTC Thermistor Comparison'!H179,NA())","v":-4.4822258574573484},15693.86751428651,15852.391428572233,{"$f":"'Device Resistance Tables'!D166","v":16096.157032461935},16339.990457726055,16503.390362303315,{"$f":"IFERROR('NTC Thermistor Comparison'!F180-'NTC Thermistor Comparison'!F179,NA())","v":4.3522289783020085E-3},{"$f":"IFERROR((M304-K304)/'NTC Thermistor Comparison'!H179,NA())","v":4.5373087753122432},10018.1,3.3189057000000002,2.0680610102252301,3.261501942091849E-2,7.493865691240126]
[148,107,-6.8664732746658217,-2.9802342337019727E-2,2.0099958774455939,3.2859353999999996,9981.7999999999993,{"$f":"IFERROR((I305-K305)/'NTC Thermistor Comparison'!H180,NA())","v":-4.4886980476555625},15781.736001963864,15941.147476731176,{"$f":"'Device Resistance Tables'!D167","v":16186.282639838408},16431.486103393017,16595.800964426948,{"$f":"IFERROR('NTC Thermistor Comparison'!F181-'NTC Thermistor Comparison'!F180,NA())","v":4.3402691811205152E-3},{"$f":"IFERROR((M305-K305)/'NTC Thermistor Comparison'!H180,NA())","v":4.5438620222319361},10018.200000000001,3.3189354,2.0724365372899394,3.2638317507325709E-2,7.519883248093743]
[149,108,-6.8811059488433814,-2.9783458695531451E-2,2.0143550302682027,3.2859650999999999,9981.7000000000007,{"$f":"IFERROR((I306-K306)/'NTC Thermistor Comparison'!H181,NA())","v":-4.4951715145052855},15869.969482069539,16030.272204110644,{"$f":"'Device Resistance Tables'!D168","v":16276.782678665155},16523.361936168261,16688.595555529944,{"$f":"IFERROR('NTC Thermistor Comparison'!F182-'NTC Thermistor Comparison'!F181,NA())","v":4.3282953230123766E-3},{"$f":"IFERROR((M306-K306)/'NTC Thermistor Comparison'!H181,NA())","v":4.5504165766509983},10018.299999999999,3.3189651000000002,2.0767998652843729,3.2661376320638702E-2,7.5460138191095671]
[150,109,-6.8957521471847434,-2.9764191833498987E-2,2.0187025924532476,3.2859947999999997,9981.6,{"$f":"IFERROR((I307-K307)/'NTC Thermistor Comparison'!H182,NA())","v":-4.5016460212596661},15958.568932877713,16119.766598866378,{"$f":"'Device Resistance Tables'!D169","v":16367.658153757571},16615.618977558079,16781.775167333661,{"$f":"IFERROR('NTC Thermistor Comparison'!F183-'NTC Thermistor Comparison'!F182,NA())","v":4.3163082428434585E-3},{"$f":"IFERROR((M307-K307)/'NTC Thermistor Comparison'!H182,NA())","v":4.5569721990993814},10018.4,3.3189948,2.0811509821501564,3.2684197863409814E-2,7.5722575924926101]
[151,110,-6.9104114044128071,-2.9744544389027183E-2,2.0230385481405628,3.2860244999999995,9981.5,{"$f":"IFERROR((I308-K308)/'NTC Thermistor Comparison'!H183,NA())","v":-4.5081213351259919},16047.535338541862,16209.63165509279,{"$f":"'Device Resistance Tables'!D170","v":16458.910075978845},16708.25825522597,16875.340837778229,{"$f":"IFERROR('NTC Thermistor Comparison'!F184-'NTC Thermistor Comparison'!F183,NA())","v":4.304308766629017E-3},{"$f":"IFERROR((M308-K308)/'NTC Thermistor Comparison'!H183,NA())","v":4.563528654109807},10018.5,3.3190244999999998,2.0854898766667431,3.2706784137153111E-2,7.5986147626597687]
[152,111,-6.9250832593925722,-2.9724518999696414E-2,2.0273628822965226,3.2860541999999997,9981.4,{"$f":"IFERROR((I309-K309)/'NTC Thermistor Comparison'!H184,NA())","v":-4.514597227207048},16136.869689094727,16299.868372822957,{"$f":"'Device Resistance Tables'!D171","v":16550.539462239994},16801.280802992638,16969.293611022564,{"$f":"IFERROR('NTC Thermistor Comparison'!F185-'NTC Thermistor Comparison'!F184,NA())","v":4.2922977076673696E-3},{"$f":"IFERROR((M309-K309)/'NTC Thermistor Comparison'!H184,NA())","v":4.5700857101573842},10018.6,3.3190542000000001,2.0898165384382712,3.2729137142052167E-2,7.6250855302016491]
[153,112,-6.9397672550490705,-2.9704118302213534E-2,2.0316755807016729,3.2860838999999995,9981.2999999999993,{"$f":"IFERROR((I310-K310)/'NTC Thermistor Comparison'!H185,NA())","v":-4.5210734724490163},16226.572980448342,16390.477758028628,{"$f":"'Device Resistance Tables'!D172","v":16642.547335499828},16894.687660836007,17063.634537444366,{"$f":"IFERROR('NTC Thermistor Comparison'!F186-'NTC Thermistor Comparison'!F185,NA())","v":4.2802758666873331E-3},{"$f":"IFERROR((M310-K310)/'NTC Thermistor Comparison'!H185,NA())","v":4.5766431396079579},10018.700000000001,3.3190838999999999,2.0941309578805649,3.2751258876678513E-2,7.6516701018212521]
[154,113,-6.9544629383164134,-2.9683344932068145E-2,2.0359766299385056,3.2861135999999997,9981.2000000000007,{"$f":"IFERROR((I311-K311)/'NTC Thermistor Comparison'!H186,NA())","v":-4.5275498495838988},16316.646214394023,16481.460822620225,{"$f":"'Device Resistance Tables'!D173","v":16734.934724765},16988.479874891207,17158.364673640121,{"$f":"IFERROR('NTC Thermistor Comparison'!F187-'NTC Thermistor Comparison'!F186,NA())","v":4.2682440319761206E-3},{"$f":"IFERROR((M311-K311)/'NTC Thermistor Comparison'!H186,NA())","v":4.5832007186585253},10018.799999999999,3.3191136000000001,2.0984331262082816,3.2773151337707862E-2,7.6783686903052919]
[155,114,-6.9691698600590266,-2.9662201523195986E-2,2.0402660173793539,3.2861432999999995,9981.1,{"$f":"IFERROR((I312-K312)/'NTC Thermistor Comparison'!H187,NA())","v":-4.5340261410812239},16407.090398602366,16572.818584446835,{"$f":"'Device Resistance Tables'!D174","v":16827.70266508995},17082.658497450582,17253.48508242509,{"$f":"IFERROR('NTC Thermistor Comparison'!F188-'NTC Thermistor Comparison'!F187,NA())","v":4.2562029795245593E-3},{"$f":"IFERROR((M312-K312)/'NTC Thermistor Comparison'!H187,NA())","v":4.5897582272895212},10018.9,3.3191432999999999,2.1027230354222048,3.279481651965499E-2,7.7051815144677018]
[156,115,-6.983887575014962,-2.9640690707651629E-2,2.0445437311744228,3.2861729999999998,9981,{"$f":"IFERROR((I313-K313)/'NTC Thermistor Comparison'!H188,NA())","v":-4.5405021330918611},16497.906546623264,16664.552067296227,{"$f":"'Device Resistance Tables'!D175","v":16920.852197576936},17177.224586963683,17348.99683283332,{"$f":"IFERROR('NTC Thermistor Comparison'!F189-'NTC Thermistor Comparison'!F188,NA())","v":4.2441534731589847E-3},{"$f":"IFERROR((M313-K313)/'NTC Thermistor Comparison'!H188,NA())","v":4.5963154492074052},10019,3.3191730000000002,2.1070006782966781,3.2816256414603728E-2,7.7321087991142115]
[157,116,-6.9986156417277563,-2.9618815115288744E-2,2.0488097602399447,3.2862026999999996,9980.9,{"$f":"IFERROR((I314-K314)/'NTC Thermistor Comparison'!H189,NA())","v":-4.5469776153988999},16589.095677885874,16756.662300894823,{"$f":"'Device Resistance Tables'!D176","v":17014.384369376039},17272.179208037265,17444.901000117639,{"$f":"IFERROR('NTC Thermistor Comparison'!F190-'NTC Thermistor Comparison'!F189,NA())","v":4.2320962646802407E-3},{"$f":"IFERROR((M314-K314)/'NTC Thermistor Comparison'!H189,NA())","v":4.6028721717945817},10019.1,3.3192027,2.1112660483671855,3.2837473011952056E-2,7.7591507749961632]
[158,117,-7.0133536224870427,-2.9596577373447897E-2,2.0530640942464657,3.2862323999999998,9980.7999999999993,{"$f":"IFERROR((I315-K315)/'NTC Thermistor Comparison'!H190,NA())","v":-4.5534523813680421},16680.658817698644,16849.15032090772,{"$f":"'Device Resistance Tables'!D177","v":17108.300233685135},17367.523431435304,17541.198665749656,{"$f":"IFERROR('NTC Thermistor Comparison'!F191-'NTC Thermistor Comparison'!F190,NA())","v":4.2200320939973501E-3},{"$f":"IFERROR((M315-K315)/'NTC Thermistor Comparison'!H190,NA())","v":4.6094281860598745},10019.200000000001,3.3192324000000002,2.1155191399180717,3.2858468298158083E-2,7.7863076787725296]
[159,118,-7.028101083264982,-2.9573980106649689E-2,2.0573067236072613,3.2862620999999996,9980.7000000000007,{"$f":"IFERROR((I316-K316)/'NTC Thermistor Comparison'!H191,NA())","v":-4.5599262278959811},16772.596997249304,16942.017168938692,{"$f":"'Device Resistance Tables'!D178","v":17202.600849749935},17463.258334078982,17637.890917419772,{"$f":"IFERROR('NTC Thermistor Comparison'!F192-'NTC Thermistor Comparison'!F191,NA())","v":4.2079616892634064E-3},{"$f":"IFERROR((M316-K316)/'NTC Thermistor Comparison'!H191,NA())","v":4.6159832865855401},10019.299999999999,3.3192621,2.1197599479704068,3.2879244256495799E-2,7.8135797529685282]
[160,119,-7.0428575936587468,-2.9551025936296327E-2,2.0615376394668781,3.2862917999999994,9980.6,{"$f":"IFERROR((I317-K317)/'NTC Thermistor Comparison'!H192,NA())","v":-4.566398955365341},16864.911253604874,17035.263892530176,{"$f":"'Device Resistance Tables'!D179","v":17297.287282863941},17559.384999046695,17734.978849037161,{"$f":"IFERROR('NTC Thermistor Comparison'!F193-'NTC Thermistor Comparison'!F192,NA())","v":4.1958857670079119E-3},{"$f":"IFERROR((M317-K317)/'NTC Thermistor Comparison'!H192,NA())","v":4.6225372714824244},10019.4,3.3192917999999998,2.1239884682699866,3.2899802866812156E-2,7.8409672459393525]
[161,120,-7.0576227268303109,-2.9527717480382076E-2,2.0657568336898002,3.2863214999999997,9980.5,{"$f":"IFERROR((I318-K318)/'NTC Thermistor Comparison'!H193,NA())","v":-4.572870367593735},16957.602629711644,17128.891545163278,{"$f":"'Device Resistance Tables'!D180","v":17392.360604368485},17655.904515574042,17832.463560729782,{"$f":"IFERROR('NTC Thermistor Comparison'!F194-'NTC Thermistor Comparison'!F193,NA())","v":4.1838050322708931E-3},{"$f":"IFERROR((M318-K318)/'NTC Thermistor Comparison'!H193,NA())","v":4.6290899423374361},10019.5,3.3193215,2.1282046972754816,3.2920146105299253E-2,7.8684704118324555]
[162,121,-7.0723960594424149,-2.9504057353205493E-2,2.0699642988492477,3.2863511999999995,9980.4,{"$f":"IFERROR((I319-K319)/'NTC Thermistor Comparison'!H194,NA())","v":-4.579340271790004},17050.672174395204,17222.901186257783,{"$f":"'Device Resistance Tables'!D181","v":17487.821891652693},17752.817979053838,17930.346158844375,{"$f":"IFERROR('NTC Thermistor Comparison'!F195-'NTC Thermistor Comparison'!F194,NA())","v":4.1717201787383473E-3},{"$f":"IFERROR((M319-K319)/'NTC Thermistor Comparison'!H194,NA())","v":4.6356411041702748},10019.6,3.3193511999999998,2.1324086321467131,3.2940275944259856E-2,7.8960895105438205]
[163,122,-7.0871771716123337,-2.9480048165095418E-2,2.0741600282160961,3.2863808999999997,9980.2999999999993,{"$f":"IFERROR((I320-K320)/'NTC Thermistor Comparison'!H195,NA())","v":-4.5858084785052142},17144.120942360416,17317.293881172136,{"$f":"'Device Resistance Tables'!D182","v":17583.672228153529},17850.12649103611,18028.627755946472,{"$f":"IFERROR('NTC Thermistor Comparison'!F196-'NTC Thermistor Comparison'!F195,NA())","v":4.1596318888679207E-3},{"$f":"IFERROR((M320-K320)/'NTC Thermistor Comparison'!H195,NA())","v":4.6421905653827329},10019.700000000001,3.3193809000000001,2.1366002707330827,3.2960194351891126E-2,7.9238248076950688]
[164,123,-7.1019656468465424,-2.9455692522140531E-2,2.0783440157479189,3.2864105999999995,9980.2000000000007,{"$f":"IFERROR((I321-K321)/'NTC Thermistor Comparison'!H196,NA())","v":-4.5922748015916728},17237.949994191415,17412.070701203451,{"$f":"'Device Resistance Tables'!D183","v":17679.912703355742},17947.831159228088,18127.309470820368,{"$f":"IFERROR('NTC Thermistor Comparison'!F197-'NTC Thermistor Comparison'!F196,NA())","v":4.1475408340252429E-3},{"$f":"IFERROR((M321-K321)/'NTC Thermistor Comparison'!H196,NA())","v":4.6487381377179959},10019.799999999999,3.3194105999999999,2.1407796115621229,3.2979903292063462E-2,7.9516765745874602]
[165,124,-7.1167610719889636,-2.9430993025921559E-2,2.0825162560781632,3.2864402999999998,9980.1,{"$f":"IFERROR((I322-K322)/'NTC Thermistor Comparison'!H197,NA())","v":-4.5987390581533205},17332.16039635165,17507.232723587524,{"$f":"'Device Resistance Tables'!D184","v":17776.544412791918},18045.93309749422,18226.392428469164,{"$f":"IFERROR('NTC Thermistor Comparison'!F198-'NTC Thermistor Comparison'!F197,NA())","v":4.1354476746113811E-3},{"$f":"IFERROR((M322-K322)/'NTC Thermistor Comparison'!H197,NA())","v":4.6552836362101377},10019.9,3.3194403000000001,2.1449466538282005,3.2999404724115777E-2,7.9796450881745997]
[166,125,{"$error":"#N/A"},-2.9405952273258595E-2,2.0866767445054375,{"$f":"IF(B544<=VLOOKUP(Main!$N$22,Coefficients!$E$2:$H$28,4,FALSE),$H$22+(($B$223-B323)*(($B$22*(1-$B$23))/1000000)),NA())","v":3.2864699999999996},{"$f":"IF(B544<=VLOOKUP(Main!$N$22,Coefficients!$E$2:$H$28,4,FALSE),($B$29-((B323-$B$223))*($B$29/1000000)*$B$31)-($B$29*$B$30),NA())","v":9980},{"$f":"IFERROR((I323-K323)/'NTC Thermistor Comparison'!H198,NA())","v":-4.6052010685076663},17426.753221183819,{"$f":"IF(B544<=VLOOKUP(Main!$N$22,Coefficients!$E$2:$H$28,4,FALSE),($F$142*B323^4 + $E$142*B323^3 + $D$142*B323^2 + $C$142*B323 + $B$142)*0.985,NA())","v":17602.781031498806},{"$f":"'Device Resistance Tables'!D185","v":17873.568458042435},{"$f":"IF(B544<=VLOOKUP(Main!$N$22,Coefficients!$E$2:$H$28,4,FALSE),($F$155*B323^4 + $E$155*B323^3 + $D$155*B323^2 + $C$155*B323 + $B$155)*1.015,NA())","v":18144.433425856154},18325.877760114716,{"$f":"IFERROR('NTC Thermistor Comparison'!F199-'NTC Thermistor Comparison'!F198,NA())","v":{"$error":"#N/A"}},{"$f":"IFERROR((M323-K323)/'NTC Thermistor Comparison'!H198,NA())","v":4.6618268791454218},{"$f":"IF(B544<=VLOOKUP(Main!$N$22,Coefficients!$E$2:$H$28,4,FALSE),($B$29+((B323-$B$223))*($B$29/1000000)*$B$31)+($B$29*$B$30),NA())","v":10020},{"$f":"IF(B544<=VLOOKUP(Main!$N$22,Coefficients!$E$2:$H$28,4,FALSE),$J$22+(($B$223-B323)*(($B$22*(1-$B$23))/1000000)),NA())","v":3.3194699999999999},2.1491013973813424,3.3018700602646334E-2,{"$error":"#N/A"}]
[167,126,{"$error":"#N/A"},{"$error":"#N/A"},{"$error":"#N/A"},{"$f":"IF(B545<=VLOOKUP(Main!$N$22,Coefficients!$E$2:$H$28,4,FALSE),$H$22+(($B$223-B324)*(($B$22*(1-$B$23))/1000000)),NA())","v":{"$error":"#N/A"}},{"$f":"IF(B545<=VLOOKUP(Main!$N$22,Coefficients!$E$2:$H$28,4,FALSE),($B$29-((B324-$B$223))*($B$29/1000000)*$B$31)-($B$29*$B$30),NA())","v":{"$error":"#N/A"}},{"$f":"IFERROR((I324-K324)/'NTC Thermistor Comparison'!H199,NA())","v":{"$error":"#N/A"}},{"$error":"#N/A"},{"$f":"IF(B545<=VLOOKUP(Main!$N$22,Coefficients!$E$2:$H$28,4,FALSE),($F$142*B324^4 + $E$142*B324^3 + $D$142*B324^2 + $C$142*B324 + $B$142)*0.985,NA())","v":{"$error":"#N/A"}},{"$f":"'Device Resistance Tables'!D186","v":{"$error":"#N/A"}},{"$f":"IF(B545<=VLOOKUP(Main!$N$22,Coefficients!$E$2:$H$28,4,FALSE),($F$155*B324^4 + $E$155*B324^3 + $D$155*B324^2 + $C$155*B324 + $B$155)*1.015,NA())","v":{"$error":"#N/A"}},{"$error":"#N/A"},{"$f":"IFERROR('NTC Thermistor Comparison'!F200-'NTC Thermistor Comparison'!F199,NA())","v":{"$error":"#N/A"}},{"$f":"IFERROR((M324-K324)/'NTC Thermistor Comparison'!H199,NA())","v":{"$error":"#N/A"}},{"$f":"IF(B545<=VLOOKUP(Main!$N$22,Coefficients!$E$2:$H$28,4,FALSE),($B$29+((B324-$B$223))*($B$29/1000000)*$B$31)+($B$29*$B$30),NA())","v":{"$error":"#N/A"}},{"$f":"IF(B545<=VLOOKUP(Main!$N$22,Coefficients!$E$2:$H$28,4,FALSE),$J$22+(($B$223-B324)*(($B$22*(1-$B$23))/1000000)),NA())","v":{"$error":"#N/A"}},{"$error":"#N/A"},{"$error":"#N/A"},{"$error":"#N/A"}]
[168,127,{"$error":"#N/A"},{"$error":"#N/A"},{"$error":"#N/A"},{"$f":"IF(B546<=VLOOKUP(Main!$N$22,Coefficients!$E$2:$H$28,4,FALSE),$H$22+(($B$223-B325)*(($B$22*(1-$B$23))/1000000)),NA())","v":{"$error":"#N/A"}},{"$f":"IF(B546<=VLOOKUP(Main!$N$22,Coefficients!$E$2:$H$28,4,FALSE),($B$29-((B325-$B$223))*($B$29/1000000)*$B$31)-($B$29*$B$30),NA())","v":{"$error":"#N/A"}},{"$f":"IFERROR((I325-K325)/'NTC Thermistor Comparison'!H200,NA())","v":{"$error":"#N/A"}},{"$error":"#N/A"},{"$f":"IF(B546<=VLOOKUP(Main!$N$22,Coefficients!$E$2:$H$28,4,FALSE),($F$142*B325^4 + $E$142*B325^3 + $D$142*B325^2 + $C$142*B325 + $B$142)*0.985,NA())","v":{"$error":"#N/A"}},{"$f":"'Device Resistance Tables'!D187","v":{"$error":"#N/A"}},{"$f":"IF(B546<=VLOOKUP(Main!$N$22,Coefficients!$E$2:$H$28,4,FALSE),($F$155*B325^4 + $E$155*B325^3 + $D$155*B325^2 + $C$155*B325 + $B$155)*1.015,NA())","v":{"$error":"#N/A"}},{"$error":"#N/A"},{"$f":"IFERROR('NTC Thermistor Comparison'!F201-'NTC Thermistor Comparison'!F200,NA())","v":{"$error":"#N/A"}},{"$f":"IFERROR((M325-K325)/'NTC Thermistor Comparison'!H200,NA())","v":{"$error":"#N/A"}},{"$f":"IF(B546<=VLOOKUP(Main!$N$22,Coefficients!$E$2:$H$28,4,FALSE),($B$29+((B325-$B$223))*($B$29/1000000)*$B$31)+($B$29*$B$30),NA())","v":{"$error":"#N/A"}},{"$f":"IF(B546<=VLOOKUP(Main!$N$22,Coefficients!$E$2:$H$28,4,FALSE),$J$22+(($B$223-B325)*(($B$22*(1-$B$23))/1000000)),NA())","v":{"$error":"#N/A"}},{"$error":"#N/A"},{"$error":"#N/A"},{"$error":"#N/A"}]
[169,128,{"$error":"#N/A"},{"$error":"#N/A"},{"$error":"#N/A"},{"$f":"IF(B547<=VLOOKUP(Main!$N$22,Coefficients!$E$2:$H$28,4,FALSE),$H$22+(($B$223-B326)*(($B$22*(1-$B$23))/1000000)),NA())","v":{"$error":"#N/A"}},{"$f":"IF(B547<=VLOOKUP(Main!$N$22,Coefficients!$E$2:$H$28,4,FALSE),($B$29-((B326-$B$223))*($B$29/1000000)*$B$31)-($B$29*$B$30),NA())","v":{"$error":"#N/A"}},{"$f":"IFERROR((I326-K326)/'NTC Thermistor Comparison'!H201,NA())","v":{"$error":"#N/A"}},{"$error":"#N/A"},{"$f":"IF(B547<=VLOOKUP(Main!$N$22,Coefficients!$E$2:$H$28,4,FALSE),($F$142*B326^4 + $E$142*B326^3 + $D$142*B326^2 + $C$142*B326 + $B$142)*0.985,NA())","v":{"$error":"#N/A"}},{"$f":"'Device Resistance Tables'!D188","v":{"$error":"#N/A"}},{"$f":"IF(B547<=VLOOKUP(Main!$N$22,Coefficients!$E$2:$H$28,4,FALSE),($F$155*B326^4 + $E$155*B326^3 + $D$155*B326^2 + $C$155*B326 + $B$155)*1.015,NA())","v":{"$error":"#N/A"}},{"$error":"#N/A"},{"$f":"IFERROR('NTC Thermistor Comparison'!F202-'NTC Thermistor Comparison'!F201,NA())","v":{"$error":"#N/A"}},{"$f":"IFERROR((M326-K326)/'NTC Thermistor Comparison'!H201,NA())","v":{"$error":"#N/A"}},{"$f":"IF(B547<=VLOOKUP(Main!$N$22,Coefficients!$E$2:$H$28,4,FALSE),($B$29+((B326-$B$223))*($B$29/1000000)*$B$31)+($B$29*$B$30),NA())","v":{"$error":"#N/A"}},{"$f":"IF(B547<=VLOOKUP(Main!$N$22,Coefficients!$E$2:$H$28,4,FALSE),$J$22+(($B$223-B326)*(($B$22*(1-$B$23))/1000000)),NA())","v":{"$error":"#N/A"}},{"$error":"#N/A"},{"$error":"#N/A"},{"$error":"#N/A"}]
[170,129,{"$error":"#N/A"},{"$error":"#N/A"},{"$error":"#N/A"},{"$f":"IF(B548<=VLOOKUP(Main!$N$22,Coefficients!$E$2:$H$28,4,FALSE),$H$22+(($B$223-B327)*(($B$22*(1-$B$23))/1000000)),NA())","v":{"$error":"#N/A"}},{"$f":"IF(B548<=VLOOKUP(Main!$N$22,Coefficients!$E$2:$H$28,4,FALSE),($B$29-((B327-$B$223))*($B$29/1000000)*$B$31)-($B$29*$B$30),NA())","v":{"$error":"#N/A"}},{"$f":"IFERROR((I327-K327)/'NTC Thermistor Comparison'!H202,NA())","v":{"$error":"#N/A"}},{"$error":"#N/A"},{"$f":"IF(B548<=VLOOKUP(Main!$N$22,Coefficients!$E$2:$H$28,4,FALSE),($F$142*B327^4 + $E$142*B327^3 + $D$142*B327^2 + $C$142*B327 + $B$142)*0.985,NA())","v":{"$error":"#N/A"}},{"$f":"'Device Resistance Tables'!D189","v":{"$error":"#N/A"}},{"$f":"IF(B548<=VLOOKUP(Main!$N$22,Coefficients!$E$2:$H$28,4,FALSE),($F$155*B327^4 + $E$155*B327^3 + $D$155*B327^2 + $C$155*B327 + $B$155)*1.015,NA())","v":{"$error":"#N/A"}},{"$error":"#N/A"},{"$f":"IFERROR('NTC Thermistor Comparison'!F203-'NTC Thermistor Comparison'!F202,NA())","v":{"$error":"#N/A"}},{"$f":"IFERROR((M327-K327)/'NTC Thermistor Comparison'!H202,NA())","v":{"$error":"#N/A"}},{"$f":"IF(B548<=VLOOKUP(Main!$N$22,Coefficients!$E$2:$H$28,4,FALSE),($B$29+((B327-$B$223))*($B$29/1000000)*$B$31)+($B$29*$B$30),NA())","v":{"$error":"#N/A"}},{"$f":"IF(B548<=VLOOKUP(Main!$N$22,Coefficients!$E$2:$H$28,4,FALSE),$J$22+(($B$223-B327)*(($B$22*(1-$B$23))/1000000)),NA())","v":{"$error":"#N/A"}},{"$error":"#N/A"},{"$error":"#N/A"},{"$error":"#N/A"}]
[171,130,{"$error":"#N/A"},{"$error":"#N/A"},{"$error":"#N/A"},{"$f":"IF(B549<=VLOOKUP(Main!$N$22,Coefficients!$E$2:$H$28,4,FALSE),$H$22+(($B$223-B328)*(($B$22*(1-$B$23))/1000000)),NA())","v":{"$error":"#N/A"}},{"$f":"IF(B549<=VLOOKUP(Main!$N$22,Coefficients!$E$2:$H$28,4,FALSE),($B$29-((B328-$B$223))*($B$29/1000000)*$B$31)-($B$29*$B$30),NA())","v":{"$error":"#N/A"}},{"$f":"IFERROR((I328-K328)/'NTC Thermistor Comparison'!H203,NA())","v":{"$error":"#N/A"}},{"$error":"#N/A"},{"$f":"IF(B549<=VLOOKUP(Main!$N$22,Coefficients!$E$2:$H$28,4,FALSE),($F$142*B328^4 + $E$142*B328^3 + $D$142*B328^2 + $C$142*B328 + $B$142)*0.985,NA())","v":{"$error":"#N/A"}},{"$f":"'Device Resistance Tables'!D190","v":{"$error":"#N/A"}},{"$f":"IF(B549<=VLOOKUP(Main!$N$22,Coefficients!$E$2:$H$28,4,FALSE),($F$155*B328^4 + $E$155*B328^3 + $D$155*B328^2 + $C$155*B328 + $B$155)*1.015,NA())","v":{"$error":"#N/A"}},{"$error":"#N/A"},{"$f":"IFERROR('NTC Thermistor Comparison'!F204-'NTC Thermistor Comparison'!F203,NA())","v":{"$error":"#N/A"}},{"$f":"IFERROR((M328-K328)/'NTC Thermistor Comparison'!H203,NA())","v":{"$error":"#N/A"}},{"$f":"IF(B549<=VLOOKUP(Main!$N$22,Coefficients!$E$2:$H$28,4,FALSE),($B$29+((B328-$B$223))*($B$29/1000000)*$B$31)+($B$29*$B$30),NA())","v":{"$error":"#N/A"}},{"$f":"IF(B549<=VLOOKUP(Main!$N$22,Coefficients!$E$2:$H$28,4,FALSE),$J$22+(($B$223-B328)*(($B$22*(1-$B$23))/1000000)),NA())","v":{"$error":"#N/A"}},{"$error":"#N/A"},{"$error":"#N/A"},{"$error":"#N/A"}]
[172,131,{"$error":"#N/A"},{"$error":"#N/A"},{"$error":"#N/A"},{"$f":"IF(B550<=VLOOKUP(Main!$N$22,Coefficients!$E$2:$H$28,4,FALSE),$H$22+(($B$223-B329)*(($B$22*(1-$B$23))/1000000)),NA())","v":{"$error":"#N/A"}},{"$f":"IF(B550<=VLOOKUP(Main!$N$22,Coefficients!$E$2:$H$28,4,FALSE),($B$29-((B329-$B$223))*($B$29/1000000)*$B$31)-($B$29*$B$30),NA())","v":{"$error":"#N/A"}},{"$f":"IFERROR((I329-K329)/'NTC Thermistor Comparison'!H204,NA())","v":{"$error":"#N/A"}},{"$error":"#N/A"},{"$f":"IF(B550<=VLOOKUP(Main!$N$22,Coefficients!$E$2:$H$28,4,FALSE),($F$142*B329^4 + $E$142*B329^3 + $D$142*B329^2 + $C$142*B329 + $B$142)*0.985,NA())","v":{"$error":"#N/A"}},{"$f":"'Device Resistance Tables'!D191","v":{"$error":"#N/A"}},{"$f":"IF(B550<=VLOOKUP(Main!$N$22,Coefficients!$E$2:$H$28,4,FALSE),($F$155*B329^4 + $E$155*B329^3 + $D$155*B329^2 + $C$155*B329 + $B$155)*1.015,NA())","v":{"$error":"#N/A"}},{"$error":"#N/A"},{"$f":"IFERROR('NTC Thermistor Comparison'!F205-'NTC Thermistor Comparison'!F204,NA())","v":{"$error":"#N/A"}},{"$f":"IFERROR((M329-K329)/'NTC Thermistor Comparison'!H204,NA())","v":{"$error":"#N/A"}},{"$f":"IF(B550<=VLOOKUP(Main!$N$22,Coefficients!$E$2:$H$28,4,FALSE),($B$29+((B329-$B$223))*($B$29/1000000)*$B$31)+($B$29*$B$30),NA())","v":{"$error":"#N/A"}},{"$f":"IF(B550<=VLOOKUP(Main!$N$22,Coefficients!$E$2:$H$28,4,FALSE),$J$22+(($B$223-B329)*(($B$22*(1-$B$23))/1000000)),NA())","v":{"$error":"#N/A"}},{"$error":"#N/A"},{"$error":"#N/A"},{"$error":"#N/A"}]
[173,132,{"$error":"#N/A"},{"$error":"#N/A"},{"$error":"#N/A"},{"$f":"IF(B551<=VLOOKUP(Main!$N$22,Coefficients!$E$2:$H$28,4,FALSE),$H$22+(($B$223-B330)*(($B$22*(1-$B$23))/1000000)),NA())","v":{"$error":"#N/A"}},{"$f":"IF(B551<=VLOOKUP(Main!$N$22,Coefficients!$E$2:$H$28,4,FALSE),($B$29-((B330-$B$223))*($B$29/1000000)*$B$31)-($B$29*$B$30),NA())","v":{"$error":"#N/A"}},{"$f":"IFERROR((I330-K330)/'NTC Thermistor Comparison'!H205,NA())","v":{"$error":"#N/A"}},{"$error":"#N/A"},{"$f":"IF(B551<=VLOOKUP(Main!$N$22,Coefficients!$E$2:$H$28,4,FALSE),($F$142*B330^4 + $E$142*B330^3 + $D$142*B330^2 + $C$142*B330 + $B$142)*0.985,NA())","v":{"$error":"#N/A"}},{"$f":"'Device Resistance Tables'!D192","v":{"$error":"#N/A"}},{"$f":"IF(B551<=VLOOKUP(Main!$N$22,Coefficients!$E$2:$H$28,4,FALSE),($F$155*B330^4 + $E$155*B330^3 + $D$155*B330^2 + $C$155*B330 + $B$155)*1.015,NA())","v":{"$error":"#N/A"}},{"$error":"#N/A"},{"$f":"IFERROR('NTC Thermistor Comparison'!F206-'NTC Thermistor Comparison'!F205,NA())","v":{"$error":"#N/A"}},{"$f":"IFERROR((M330-K330)/'NTC Thermistor Comparison'!H205,NA())","v":{"$error":"#N/A"}},{"$f":"IF(B551<=VLOOKUP(Main!$N$22,Coefficients!$E$2:$H$28,4,FALSE),($B$29+((B330-$B$223))*($B$29/1000000)*$B$31)+($B$29*$B$30),NA())","v":{"$error":"#N/A"}},{"$f":"IF(B551<=VLOOKUP(Main!$N$22,Coefficients!$E$2:$H$28,4,FALSE),$J$22+(($B$223-B330)*(($B$22*(1-$B$23))/1000000)),NA())","v":{"$error":"#N/A"}},{"$error":"#N/A"},{"$error":"#N/A"},{"$error":"#N/A"}]
[174,133,{"$error":"#N/A"},{"$error":"#N/A"},{"$error":"#N/A"},{"$f":"IF(B552<=VLOOKUP(Main!$N$22,Coefficients!$E$2:$H$28,4,FALSE),$H$22+(($B$223-B331)*(($B$22*(1-$B$23))/1000000)),NA())","v":{"$error":"#N/A"}},{"$f":"IF(B552<=VLOOKUP(Main!$N$22,Coefficients!$E$2:$H$28,4,FALSE),($B$29-((B331-$B$223))*($B$29/1000000)*$B$31)-($B$29*$B$30),NA())","v":{"$error":"#N/A"}},{"$f":"IFERROR((I331-K331)/'NTC Thermistor Comparison'!H206,NA())","v":{"$error":"#N/A"}},{"$error":"#N/A"},{"$f":"IF(B552<=VLOOKUP(Main!$N$22,Coefficients!$E$2:$H$28,4,FALSE),($F$142*B331^4 + $E$142*B331^3 + $D$142*B331^2 + $C$142*B331 + $B$142)*0.985,NA())","v":{"$error":"#N/A"}},{"$f":"'Device Resistance Tables'!D193","v":{"$error":"#N/A"}},{"$f":"IF(B552<=VLOOKUP(Main!$N$22,Coefficients!$E$2:$H$28,4,FALSE),($F$155*B331^4 + $E$155*B331^3 + $D$155*B331^2 + $C$155*B331 + $B$155)*1.015,NA())","v":{"$error":"#N/A"}},{"$error":"#N/A"},{"$f":"IFERROR('NTC Thermistor Comparison'!F207-'NTC Thermistor Comparison'!F206,NA())","v":{"$error":"#N/A"}},{"$f":"IFERROR((M331-K331)/'NTC Thermistor Comparison'!H206,NA())","v":{"$error":"#N/A"}},{"$f":"IF(B552<=VLOOKUP(Main!$N$22,Coefficients!$E$2:$H$28,4,FALSE),($B$29+((B331-$B$223))*($B$29/1000000)*$B$31)+($B$29*$B$30),NA())","v":{"$error":"#N/A"}},{"$f":"IF(B552<=VLOOKUP(Main!$N$22,Coefficients!$E$2:$H$28,4,FALSE),$J$22+(($B$223-B331)*(($B$22*(1-$B$23))/1000000)),NA())","v":{"$error":"#N/A"}},{"$error":"#N/A"},{"$error":"#N/A"},{"$error":"#N/A"}]
[175,134,{"$error":"#N/A"},{"$error":"#N/A"},{"$error":"#N/A"},{"$f":"IF(B553<=VLOOKUP(Main!$N$22,Coefficients!$E$2:$H$28,4,FALSE),$H$22+(($B$223-B332)*(($B$22*(1-$B$23))/1000000)),NA())","v":{"$error":"#N/A"}},{"$f":"IF(B553<=VLOOKUP(Main!$N$22,Coefficients!$E$2:$H$28,4,FALSE),($B$29-((B332-$B$223))*($B$29/1000000)*$B$31)-($B$29*$B$30),NA())","v":{"$error":"#N/A"}},{"$f":"IFERROR((I332-K332)/'NTC Thermistor Comparison'!H207,NA())","v":{"$error":"#N/A"}},{"$error":"#N/A"},{"$f":"IF(B553<=VLOOKUP(Main!$N$22,Coefficients!$E$2:$H$28,4,FALSE),($F$142*B332^4 + $E$142*B332^3 + $D$142*B332^2 + $C$142*B332 + $B$142)*0.985,NA())","v":{"$error":"#N/A"}},{"$f":"'Device Resistance Tables'!D194","v":{"$error":"#N/A"}},{"$f":"IF(B553<=VLOOKUP(Main!$N$22,Coefficients!$E$2:$H$28,4,FALSE),($F$155*B332^4 + $E$155*B332^3 + $D$155*B332^2 + $C$155*B332 + $B$155)*1.015,NA())","v":{"$error":"#N/A"}},{"$error":"#N/A"},{"$f":"IFERROR('NTC Thermistor Comparison'!F208-'NTC Thermistor Comparison'!F207,NA())","v":{"$error":"#N/A"}},{"$f":"IFERROR((M332-K332)/'NTC Thermistor Comparison'!H207,NA())","v":{"$error":"#N/A"}},{"$f":"IF(B553<=VLOOKUP(Main!$N$22,Coefficients!$E$2:$H$28,4,FALSE),($B$29+((B332-$B$223))*($B$29/1000000)*$B$31)+($B$29*$B$30),NA())","v":{"$error":"#N/A"}},{"$f":"IF(B553<=VLOOKUP(Main!$N$22,Coefficients!$E$2:$H$28,4,FALSE),$J$22+(($B$223-B332)*(($B$22*(1-$B$23))/1000000)),NA())","v":{"$error":"#N/A"}},{"$error":"#N/A"},{"$error":"#N/A"},{"$error":"#N/A"}]
[176,135,{"$error":"#N/A"},{"$error":"#N/A"},{"$error":"#N/A"},{"$f":"IF(B554<=VLOOKUP(Main!$N$22,Coefficients!$E$2:$H$28,4,FALSE),$H$22+(($B$223-B333)*(($B$22*(1-$B$23))/1000000)),NA())","v":{"$error":"#N/A"}},{"$f":"IF(B554<=VLOOKUP(Main!$N$22,Coefficients!$E$2:$H$28,4,FALSE),($B$29-((B333-$B$223))*($B$29/1000000)*$B$31)-($B$29*$B$30),NA())","v":{"$error":"#N/A"}},{"$f":"IFERROR((I333-K333)/'NTC Thermistor Comparison'!H208,NA())","v":{"$error":"#N/A"}},{"$error":"#N/A"},{"$f":"IF(B554<=VLOOKUP(Main!$N$22,Coefficients!$E$2:$H$28,4,FALSE),($F$142*B333^4 + $E$142*B333^3 + $D$142*B333^2 + $C$142*B333 + $B$142)*0.985,NA())","v":{"$error":"#N/A"}},{"$f":"'Device Resistance Tables'!D195","v":{"$error":"#N/A"}},{"$f":"IF(B554<=VLOOKUP(Main!$N$22,Coefficients!$E$2:$H$28,4,FALSE),($F$155*B333^4 + $E$155*B333^3 + $D$155*B333^2 + $C$155*B333 + $B$155)*1.015,NA())","v":{"$error":"#N/A"}},{"$error":"#N/A"},{"$f":"IFERROR('NTC Thermistor Comparison'!F209-'NTC Thermistor Comparison'!F208,NA())","v":{"$error":"#N/A"}},{"$f":"IFERROR((M333-K333)/'NTC Thermistor Comparison'!H208,NA())","v":{"$error":"#N/A"}},{"$f":"IF(B554<=VLOOKUP(Main!$N$22,Coefficients!$E$2:$H$28,4,FALSE),($B$29+((B333-$B$223))*($B$29/1000000)*$B$31)+($B$29*$B$30),NA())","v":{"$error":"#N/A"}},{"$f":"IF(B554<=VLOOKUP(Main!$N$22,Coefficients!$E$2:$H$28,4,FALSE),$J$22+(($B$223-B333)*(($B$22*(1-$B$23))/1000000)),NA())","v":{"$error":"#N/A"}},{"$error":"#N/A"},{"$error":"#N/A"},{"$error":"#N/A"}]
[177,136,{"$error":"#N/A"},{"$error":"#N/A"},{"$error":"#N/A"},{"$f":"IF(B555<=VLOOKUP(Main!$N$22,Coefficients!$E$2:$H$28,4,FALSE),$H$22+(($B$223-B334)*(($B$22*(1-$B$23))/1000000)),NA())","v":{"$error":"#N/A"}},{"$f":"IF(B555<=VLOOKUP(Main!$N$22,Coefficients!$E$2:$H$28,4,FALSE),($B$29-((B334-$B$223))*($B$29/1000000)*$B$31)-($B$29*$B$30),NA())","v":{"$error":"#N/A"}},{"$f":"IFERROR((I334-K334)/'NTC Thermistor Comparison'!H209,NA())","v":{"$error":"#N/A"}},{"$error":"#N/A"},{"$f":"IF(B555<=VLOOKUP(Main!$N$22,Coefficients!$E$2:$H$28,4,FALSE),($F$142*B334^4 + $E$142*B334^3 + $D$142*B334^2 + $C$142*B334 + $B$142)*0.985,NA())","v":{"$error":"#N/A"}},{"$f":"'Device Resistance Tables'!D196","v":{"$error":"#N/A"}},{"$f":"IF(B555<=VLOOKUP(Main!$N$22,Coefficients!$E$2:$H$28,4,FALSE),($F$155*B334^4 + $E$155*B334^3 + $D$155*B334^2 + $C$155*B334 + $B$155)*1.015,NA())","v":{"$error":"#N/A"}},{"$error":"#N/A"},{"$f":"IFERROR('NTC Thermistor Comparison'!F210-'NTC Thermistor Comparison'!F209,NA())","v":{"$error":"#N/A"}},{"$f":"IFERROR((M334-K334)/'NTC Thermistor Comparison'!H209,NA())","v":{"$error":"#N/A"}},{"$f":"IF(B555<=VLOOKUP(Main!$N$22,Coefficients!$E$2:$H$28,4,FALSE),($B$29+((B334-$B$223))*($B$29/1000000)*$B$31)+($B$29*$B$30),NA())","v":{"$error":"#N/A"}},{"$f":"IF(B555<=VLOOKUP(Main!$N$22,Coefficients!$E$2:$H$28,4,FALSE),$J$22+(($B$223-B334)*(($B$22*(1-$B$23))/1000000)),NA())","v":{"$error":"#N/A"}},{"$error":"#N/A"},{"$error":"#N/A"},{"$error":"#N/A"}]
[178,137,{"$error":"#N/A"},{"$error":"#N/A"},{"$error":"#N/A"},{"$f":"IF(B556<=VLOOKUP(Main!$N$22,Coefficients!$E$2:$H$28,4,FALSE),$H$22+(($B$223-B335)*(($B$22*(1-$B$23))/1000000)),NA())","v":{"$error":"#N/A"}},{"$f":"IF(B556<=VLOOKUP(Main!$N$22,Coefficients!$E$2:$H$28,4,FALSE),($B$29-((B335-$B$223))*($B$29/1000000)*$B$31)-($B$29*$B$30),NA())","v":{"$error":"#N/A"}},{"$f":"IFERROR((I335-K335)/'NTC Thermistor Comparison'!H210,NA())","v":{"$error":"#N/A"}},{"$error":"#N/A"},{"$f":"IF(B556<=VLOOKUP(Main!$N$22,Coefficients!$E$2:$H$28,4,FALSE),($F$142*B335^4 + $E$142*B335^3 + $D$142*B335^2 + $C$142*B335 + $B$142)*0.985,NA())","v":{"$error":"#N/A"}},{"$f":"'Device Resistance Tables'!D197","v":{"$error":"#N/A"}},{"$f":"IF(B556<=VLOOKUP(Main!$N$22,Coefficients!$E$2:$H$28,4,FALSE),($F$155*B335^4 + $E$155*B335^3 + $D$155*B335^2 + $C$155*B335 + $B$155)*1.015,NA())","v":{"$error":"#N/A"}},{"$error":"#N/A"},{"$f":"IFERROR('NTC Thermistor Comparison'!F211-'NTC Thermistor Comparison'!F210,NA())","v":{"$error":"#N/A"}},{"$f":"IFERROR((M335-K335)/'NTC Thermistor Comparison'!H210,NA())","v":{"$error":"#N/A"}},{"$f":"IF(B556<=VLOOKUP(Main!$N$22,Coefficients!$E$2:$H$28,4,FALSE),($B$29+((B335-$B$223))*($B$29/1000000)*$B$31)+($B$29*$B$30),NA())","v":{"$error":"#N/A"}},{"$f":"IF(B556<=VLOOKUP(Main!$N$22,Coefficients!$E$2:$H$28,4,FALSE),$J$22+(($B$223-B335)*(($B$22*(1-$B$23))/1000000)),NA())","v":{"$error":"#N/A"}},{"$error":"#N/A"},{"$error":"#N/A"},{"$error":"#N/A"}]
[179,138,{"$error":"#N/A"},{"$error":"#N/A"},{"$error":"#N/A"},{"$f":"IF(B557<=VLOOKUP(Main!$N$22,Coefficients!$E$2:$H$28,4,FALSE),$H$22+(($B$223-B336)*(($B$22*(1-$B$23))/1000000)),NA())","v":{"$error":"#N/A"}},{"$f":"IF(B557<=VLOOKUP(Main!$N$22,Coefficients!$E$2:$H$28,4,FALSE),($B$29-((B336-$B$223))*($B$29/1000000)*$B$31)-($B$29*$B$30),NA())","v":{"$error":"#N/A"}},{"$f":"IFERROR((I336-K336)/'NTC Thermistor Comparison'!H211,NA())","v":{"$error":"#N/A"}},{"$error":"#N/A"},{"$f":"IF(B557<=VLOOKUP(Main!$N$22,Coefficients!$E$2:$H$28,4,FALSE),($F$142*B336^4 + $E$142*B336^3 + $D$142*B336^2 + $C$142*B336 + $B$142)*0.985,NA())","v":{"$error":"#N/A"}},{"$f":"'Device Resistance Tables'!D198","v":{"$error":"#N/A"}},{"$f":"IF(B557<=VLOOKUP(Main!$N$22,Coefficients!$E$2:$H$28,4,FALSE),($F$155*B336^4 + $E$155*B336^3 + $D$155*B336^2 + $C$155*B336 + $B$155)*1.015,NA())","v":{"$error":"#N/A"}},{"$error":"#N/A"},{"$f":"IFERROR('NTC Thermistor Comparison'!F212-'NTC Thermistor Comparison'!F211,NA())","v":{"$error":"#N/A"}},{"$f":"IFERROR((M336-K336)/'NTC Thermistor Comparison'!H211,NA())","v":{"$error":"#N/A"}},{"$f":"IF(B557<=VLOOKUP(Main!$N$22,Coefficients!$E$2:$H$28,4,FALSE),($B$29+((B336-$B$223))*($B$29/1000000)*$B$31)+($B$29*$B$30),NA())","v":{"$error":"#N/A"}},{"$f":"IF(B557<=VLOOKUP(Main!$N$22,Coefficients!$E$2:$H$28,4,FALSE),$J$22+(($B$223-B336)*(($B$22*(1-$B$23))/1000000)),NA())","v":{"$error":"#N/A"}},{"$error":"#N/A"},{"$error":"#N/A"},{"$error":"#N/A"}]
[180,139,{"$error":"#N/A"},{"$error":"#N/A"},{"$error":"#N/A"},{"$f":"IF(B558<=VLOOKUP(Main!$N$22,Coefficients!$E$2:$H$28,4,FALSE),$H$22+(($B$223-B337)*(($B$22*(1-$B$23))/1000000)),NA())","v":{"$error":"#N/A"}},{"$f":"IF(B558<=VLOOKUP(Main!$N$22,Coefficients!$E$2:$H$28,4,FALSE),($B$29-((B337-$B$223))*($B$29/1000000)*$B$31)-($B$29*$B$30),NA())","v":{"$error":"#N/A"}},{"$f":"IFERROR((I337-K337)/'NTC Thermistor Comparison'!H212,NA())","v":{"$error":"#N/A"}},{"$error":"#N/A"},{"$f":"IF(B558<=VLOOKUP(Main!$N$22,Coefficients!$E$2:$H$28,4,FALSE),($F$142*B337^4 + $E$142*B337^3 + $D$142*B337^2 + $C$142*B337 + $B$142)*0.985,NA())","v":{"$error":"#N/A"}},{"$f":"'Device Resistance Tables'!D199","v":{"$error":"#N/A"}},{"$f":"IF(B558<=VLOOKUP(Main!$N$22,Coefficients!$E$2:$H$28,4,FALSE),($F$155*B337^4 + $E$155*B337^3 + $D$155*B337^2 + $C$155*B337 + $B$155)*1.015,NA())","v":{"$error":"#N/A"}},{"$error":"#N/A"},{"$f":"IFERROR('NTC Thermistor Comparison'!F213-'NTC Thermistor Comparison'!F212,NA())","v":{"$error":"#N/A"}},{"$f":"IFERROR((M337-K337)/'NTC Thermistor Comparison'!H212,NA())","v":{"$error":"#N/A"}},{"$f":"IF(B558<=VLOOKUP(Main!$N$22,Coefficients!$E$2:$H$28,4,FALSE),($B$29+((B337-$B$223))*($B$29/1000000)*$B$31)+($B$29*$B$30),NA())","v":{"$error":"#N/A"}},{"$f":"IF(B558<=VLOOKUP(Main!$N$22,Coefficients!$E$2:$H$28,4,FALSE),$J$22+(($B$223-B337)*(($B$22*(1-$B$23))/1000000)),NA())","v":{"$error":"#N/A"}},{"$error":"#N/A"},{"$error":"#N/A"},{"$error":"#N/A"}]
[181,140,{"$error":"#N/A"},{"$error":"#N/A"},{"$error":"#N/A"},{"$f":"IF(B559<=VLOOKUP(Main!$N$22,Coefficients!$E$2:$H$28,4,FALSE),$H$22+(($B$223-B338)*(($B$22*(1-$B$23))/1000000)),NA())","v":{"$error":"#N/A"}},{"$f":"IF(B559<=VLOOKUP(Main!$N$22,Coefficients!$E$2:$H$28,4,FALSE),($B$29-((B338-$B$223))*($B$29/1000000)*$B$31)-($B$29*$B$30),NA())","v":{"$error":"#N/A"}},{"$f":"IFERROR((I338-K338)/'NTC Thermistor Comparison'!H213,NA())","v":{"$error":"#N/A"}},{"$error":"#N/A"},{"$f":"IF(B559<=VLOOKUP(Main!$N$22,Coefficients!$E$2:$H$28,4,FALSE),($F$142*B338^4 + $E$142*B338^3 + $D$142*B338^2 + $C$142*B338 + $B$142)*0.985,NA())","v":{"$error":"#N/A"}},{"$f":"'Device Resistance Tables'!D200","v":{"$error":"#N/A"}},{"$f":"IF(B559<=VLOOKUP(Main!$N$22,Coefficients!$E$2:$H$28,4,FALSE),($F$155*B338^4 + $E$155*B338^3 + $D$155*B338^2 + $C$155*B338 + $B$155)*1.015,NA())","v":{"$error":"#N/A"}},{"$error":"#N/A"},{"$f":"IFERROR('NTC Thermistor Comparison'!F214-'NTC Thermistor Comparison'!F213,NA())","v":{"$error":"#N/A"}},{"$f":"IFERROR((M338-K338)/'NTC Thermistor Comparison'!H213,NA())","v":{"$error":"#N/A"}},{"$f":"IF(B559<=VLOOKUP(Main!$N$22,Coefficients!$E$2:$H$28,4,FALSE),($B$29+((B338-$B$223))*($B$29/1000000)*$B$31)+($B$29*$B$30),NA())","v":{"$error":"#N/A"}},{"$f":"IF(B559<=VLOOKUP(Main!$N$22,Coefficients!$E$2:$H$28,4,FALSE),$J$22+(($B$223-B338)*(($B$22*(1-$B$23))/1000000)),NA())","v":{"$error":"#N/A"}},{"$error":"#N/A"},{"$error":"#N/A"},{"$error":"#N/A"}]
[182,141,{"$error":"#N/A"},{"$error":"#N/A"},{"$error":"#N/A"},{"$f":"IF(B560<=VLOOKUP(Main!$N$22,Coefficients!$E$2:$H$28,4,FALSE),$H$22+(($B$223-B339)*(($B$22*(1-$B$23))/1000000)),NA())","v":{"$error":"#N/A"}},{"$f":"IF(B560<=VLOOKUP(Main!$N$22,Coefficients!$E$2:$H$28,4,FALSE),($B$29-((B339-$B$223))*($B$29/1000000)*$B$31)-($B$29*$B$30),NA())","v":{"$error":"#N/A"}},{"$f":"IFERROR((I339-K339)/'NTC Thermistor Comparison'!H214,NA())","v":{"$error":"#N/A"}},{"$error":"#N/A"},{"$f":"IF(B560<=VLOOKUP(Main!$N$22,Coefficients!$E$2:$H$28,4,FALSE),($F$142*B339^4 + $E$142*B339^3 + $D$142*B339^2 + $C$142*B339 + $B$142)*0.985,NA())","v":{"$error":"#N/A"}},{"$f":"'Device Resistance Tables'!D201","v":{"$error":"#N/A"}},{"$f":"IF(B560<=VLOOKUP(Main!$N$22,Coefficients!$E$2:$H$28,4,FALSE),($F$155*B339^4 + $E$155*B339^3 + $D$155*B339^2 + $C$155*B339 + $B$155)*1.015,NA())","v":{"$error":"#N/A"}},{"$error":"#N/A"},{"$f":"IFERROR('NTC Thermistor Comparison'!F215-'NTC Thermistor Comparison'!F214,NA())","v":{"$error":"#N/A"}},{"$f":"IFERROR((M339-K339)/'NTC Thermistor Comparison'!H214,NA())","v":{"$error":"#N/A"}},{"$f":"IF(B560<=VLOOKUP(Main!$N$22,Coefficients!$E$2:$H$28,4,FALSE),($B$29+((B339-$B$223))*($B$29/1000000)*$B$31)+($B$29*$B$30),NA())","v":{"$error":"#N/A"}},{"$f":"IF(B560<=VLOOKUP(Main!$N$22,Coefficients!$E$2:$H$28,4,FALSE),$J$22+(($B$223-B339)*(($B$22*(1-$B$23))/1000000)),NA())","v":{"$error":"#N/A"}},{"$error":"#N/A"},{"$error":"#N/A"},{"$error":"#N/A"}]
[183,142,{"$error":"#N/A"},{"$error":"#N/A"},{"$error":"#N/A"},{"$f":"IF(B561<=VLOOKUP(Main!$N$22,Coefficients!$E$2:$H$28,4,FALSE),$H$22+(($B$223-B340)*(($B$22*(1-$B$23))/1000000)),NA())","v":{"$error":"#N/A"}},{"$f":"IF(B561<=VLOOKUP(Main!$N$22,Coefficients!$E$2:$H$28,4,FALSE),($B$29-((B340-$B$223))*($B$29/1000000)*$B$31)-($B$29*$B$30),NA())","v":{"$error":"#N/A"}},{"$f":"IFERROR((I340-K340)/'NTC Thermistor Comparison'!H215,NA())","v":{"$error":"#N/A"}},{"$error":"#N/A"},{"$f":"IF(B561<=VLOOKUP(Main!$N$22,Coefficients!$E$2:$H$28,4,FALSE),($F$142*B340^4 + $E$142*B340^3 + $D$142*B340^2 + $C$142*B340 + $B$142)*0.985,NA())","v":{"$error":"#N/A"}},{"$f":"'Device Resistance Tables'!D202","v":{"$error":"#N/A"}},{"$f":"IF(B561<=VLOOKUP(Main!$N$22,Coefficients!$E$2:$H$28,4,FALSE),($F$155*B340^4 + $E$155*B340^3 + $D$155*B340^2 + $C$155*B340 + $B$155)*1.015,NA())","v":{"$error":"#N/A"}},{"$error":"#N/A"},{"$f":"IFERROR('NTC Thermistor Comparison'!F216-'NTC Thermistor Comparison'!F215,NA())","v":{"$error":"#N/A"}},{"$f":"IFERROR((M340-K340)/'NTC Thermistor Comparison'!H215,NA())","v":{"$error":"#N/A"}},{"$f":"IF(B561<=VLOOKUP(Main!$N$22,Coefficients!$E$2:$H$28,4,FALSE),($B$29+((B340-$B$223))*($B$29/1000000)*$B$31)+($B$29*$B$30),NA())","v":{"$error":"#N/A"}},{"$f":"IF(B561<=VLOOKUP(Main!$N$22,Coefficients!$E$2:$H$28,4,FALSE),$J$22+(($B$223-B340)*(($B$22*(1-$B$23))/1000000)),NA())","v":{"$error":"#N/A"}},{"$error":"#N/A"},{"$error":"#N/A"},{"$error":"#N/A"}]
[184,143,{"$error":"#N/A"},{"$error":"#N/A"},{"$error":"#N/A"},{"$f":"IF(B562<=VLOOKUP(Main!$N$22,Coefficients!$E$2:$H$28,4,FALSE),$H$22+(($B$223-B341)*(($B$22*(1-$B$23))/1000000)),NA())","v":{"$error":"#N/A"}},{"$f":"IF(B562<=VLOOKUP(Main!$N$22,Coefficients!$E$2:$H$28,4,FALSE),($B$29-((B341-$B$223))*($B$29/1000000)*$B$31)-($B$29*$B$30),NA())","v":{"$error":"#N/A"}},{"$f":"IFERROR((I341-K341)/'NTC Thermistor Comparison'!H216,NA())","v":{"$error":"#N/A"}},{"$error":"#N/A"},{"$f":"IF(B562<=VLOOKUP(Main!$N$22,Coefficients!$E$2:$H$28,4,FALSE),($F$142*B341^4 + $E$142*B341^3 + $D$142*B341^2 + $C$142*B341 + $B$142)*0.985,NA())","v":{"$error":"#N/A"}},{"$f":"'Device Resistance Tables'!D203","v":{"$error":"#N/A"}},{"$f":"IF(B562<=VLOOKUP(Main!$N$22,Coefficients!$E$2:$H$28,4,FALSE),($F$155*B341^4 + $E$155*B341^3 + $D$155*B341^2 + $C$155*B341 + $B$155)*1.015,NA())","v":{"$error":"#N/A"}},{"$error":"#N/A"},{"$f":"IFERROR('NTC Thermistor Comparison'!F217-'NTC Thermistor Comparison'!F216,NA())","v":{"$error":"#N/A"}},{"$f":"IFERROR((M341-K341)/'NTC Thermistor Comparison'!H216,NA())","v":{"$error":"#N/A"}},{"$f":"IF(B562<=VLOOKUP(Main!$N$22,Coefficients!$E$2:$H$28,4,FALSE),($B$29+((B341-$B$223))*($B$29/1000000)*$B$31)+($B$29*$B$30),NA())","v":{"$error":"#N/A"}},{"$f":"IF(B562<=VLOOKUP(Main!$N$22,Coefficients!$E$2:$H$28,4,FALSE),$J$22+(($B$223-B341)*(($B$22*(1-$B$23))/1000000)),NA())","v":{"$error":"#N/A"}},{"$error":"#N/A"},{"$error":"#N/A"},{"$error":"#N/A"}]
[185,144,{"$error":"#N/A"},{"$error":"#N/A"},{"$error":"#N/A"},{"$f":"IF(B563<=VLOOKUP(Main!$N$22,Coefficients!$E$2:$H$28,4,FALSE),$H$22+(($B$223-B342)*(($B$22*(1-$B$23))/1000000)),NA())","v":{"$error":"#N/A"}},{"$f":"IF(B563<=VLOOKUP(Main!$N$22,Coefficients!$E$2:$H$28,4,FALSE),($B$29-((B342-$B$223))*($B$29/1000000)*$B$31)-($B$29*$B$30),NA())","v":{"$error":"#N/A"}},{"$f":"IFERROR((I342-K342)/'NTC Thermistor Comparison'!H217,NA())","v":{"$error":"#N/A"}},{"$error":"#N/A"},{"$f":"IF(B563<=VLOOKUP(Main!$N$22,Coefficients!$E$2:$H$28,4,FALSE),($F$142*B342^4 + $E$142*B342^3 + $D$142*B342^2 + $C$142*B342 + $B$142)*0.985,NA())","v":{"$error":"#N/A"}},{"$f":"'Device Resistance Tables'!D204","v":{"$error":"#N/A"}},{"$f":"IF(B563<=VLOOKUP(Main!$N$22,Coefficients!$E$2:$H$28,4,FALSE),($F$155*B342^4 + $E$155*B342^3 + $D$155*B342^2 + $C$155*B342 + $B$155)*1.015,NA())","v":{"$error":"#N/A"}},{"$error":"#N/A"},{"$f":"IFERROR('NTC Thermistor Comparison'!F218-'NTC Thermistor Comparison'!F217,NA())","v":{"$error":"#N/A"}},{"$f":"IFERROR((M342-K342)/'NTC Thermistor Comparison'!H217,NA())","v":{"$error":"#N/A"}},{"$f":"IF(B563<=VLOOKUP(Main!$N$22,Coefficients!$E$2:$H$28,4,FALSE),($B$29+((B342-$B$223))*($B$29/1000000)*$B$31)+($B$29*$B$30),NA())","v":{"$error":"#N/A"}},{"$f":"IF(B563<=VLOOKUP(Main!$N$22,Coefficients!$E$2:$H$28,4,FALSE),$J$22+(($B$223-B342)*(($B$22*(1-$B$23))/1000000)),NA())","v":{"$error":"#N/A"}},{"$error":"#N/A"},{"$error":"#N/A"},{"$error":"#N/A"}]
[186,145,{"$error":"#N/A"},{"$error":"#N/A"},{"$error":"#N/A"},{"$f":"IF(B564<=VLOOKUP(Main!$N$22,Coefficients!$E$2:$H$28,4,FALSE),$H$22+(($B$223-B343)*(($B$22*(1-$B$23))/1000000)),NA())","v":{"$error":"#N/A"}},{"$f":"IF(B564<=VLOOKUP(Main!$N$22,Coefficients!$E$2:$H$28,4,FALSE),($B$29-((B343-$B$223))*($B$29/1000000)*$B$31)-($B$29*$B$30),NA())","v":{"$error":"#N/A"}},{"$f":"IFERROR((I343-K343)/'NTC Thermistor Comparison'!H218,NA())","v":{"$error":"#N/A"}},{"$error":"#N/A"},{"$f":"IF(B564<=VLOOKUP(Main!$N$22,Coefficients!$E$2:$H$28,4,FALSE),($F$142*B343^4 + $E$142*B343^3 + $D$142*B343^2 + $C$142*B343 + $B$142)*0.985,NA())","v":{"$error":"#N/A"}},{"$f":"'Device Resistance Tables'!D205","v":{"$error":"#N/A"}},{"$f":"IF(B564<=VLOOKUP(Main!$N$22,Coefficients!$E$2:$H$28,4,FALSE),($F$155*B343^4 + $E$155*B343^3 + $D$155*B343^2 + $C$155*B343 + $B$155)*1.015,NA())","v":{"$error":"#N/A"}},{"$error":"#N/A"},{"$f":"IFERROR('NTC Thermistor Comparison'!F219-'NTC Thermistor Comparison'!F218,NA())","v":{"$error":"#N/A"}},{"$f":"IFERROR((M343-K343)/'NTC Thermistor Comparison'!H218,NA())","v":{"$error":"#N/A"}},{"$f":"IF(B564<=VLOOKUP(Main!$N$22,Coefficients!$E$2:$H$28,4,FALSE),($B$29+((B343-$B$223))*($B$29/1000000)*$B$31)+($B$29*$B$30),NA())","v":{"$error":"#N/A"}},{"$f":"IF(B564<=VLOOKUP(Main!$N$22,Coefficients!$E$2:$H$28,4,FALSE),$J$22+(($B$223-B343)*(($B$22*(1-$B$23))/1000000)),NA())","v":{"$error":"#N/A"}},{"$error":"#N/A"},{"$error":"#N/A"},{"$error":"#N/A"}]
[187,146,{"$error":"#N/A"},{"$error":"#N/A"},{"$error":"#N/A"},{"$f":"IF(B565<=VLOOKUP(Main!$N$22,Coefficients!$E$2:$H$28,4,FALSE),$H$22+(($B$223-B344)*(($B$22*(1-$B$23))/1000000)),NA())","v":{"$error":"#N/A"}},{"$f":"IF(B565<=VLOOKUP(Main!$N$22,Coefficients!$E$2:$H$28,4,FALSE),($B$29-((B344-$B$223))*($B$29/1000000)*$B$31)-($B$29*$B$30),NA())","v":{"$error":"#N/A"}},{"$f":"IFERROR((I344-K344)/'NTC Thermistor Comparison'!H219,NA())","v":{"$error":"#N/A"}},{"$error":"#N/A"},{"$f":"IF(B565<=VLOOKUP(Main!$N$22,Coefficients!$E$2:$H$28,4,FALSE),($F$142*B344^4 + $E$142*B344^3 + $D$142*B344^2 + $C$142*B344 + $B$142)*0.985,NA())","v":{"$error":"#N/A"}},{"$f":"'Device Resistance Tables'!D206","v":{"$error":"#N/A"}},{"$f":"IF(B565<=VLOOKUP(Main!$N$22,Coefficients!$E$2:$H$28,4,FALSE),($F$155*B344^4 + $E$155*B344^3 + $D$155*B344^2 + $C$155*B344 + $B$155)*1.015,NA())","v":{"$error":"#N/A"}},{"$error":"#N/A"},{"$f":"IFERROR('NTC Thermistor Comparison'!F220-'NTC Thermistor Comparison'!F219,NA())","v":{"$error":"#N/A"}},{"$f":"IFERROR((M344-K344)/'NTC Thermistor Comparison'!H219,NA())","v":{"$error":"#N/A"}},{"$f":"IF(B565<=VLOOKUP(Main!$N$22,Coefficients!$E$2:$H$28,4,FALSE),($B$29+((B344-$B$223))*($B$29/1000000)*$B$31)+($B$29*$B$30),NA())","v":{"$error":"#N/A"}},{"$f":"IF(B565<=VLOOKUP(Main!$N$22,Coefficients!$E$2:$H$28,4,FALSE),$J$22+(($B$223-B344)*(($B$22*(1-$B$23))/1000000)),NA())","v":{"$error":"#N/A"}},{"$error":"#N/A"},{"$error":"#N/A"},{"$error":"#N/A"}]
[188,147,{"$error":"#N/A"},{"$error":"#N/A"},{"$error":"#N/A"},{"$f":"IF(B566<=VLOOKUP(Main!$N$22,Coefficients!$E$2:$H$28,4,FALSE),$H$22+(($B$223-B345)*(($B$22*(1-$B$23))/1000000)),NA())","v":{"$error":"#N/A"}},{"$f":"IF(B566<=VLOOKUP(Main!$N$22,Coefficients!$E$2:$H$28,4,FALSE),($B$29-((B345-$B$223))*($B$29/1000000)*$B$31)-($B$29*$B$30),NA())","v":{"$error":"#N/A"}},{"$f":"IFERROR((I345-K345)/'NTC Thermistor Comparison'!H220,NA())","v":{"$error":"#N/A"}},{"$error":"#N/A"},{"$f":"IF(B566<=VLOOKUP(Main!$N$22,Coefficients!$E$2:$H$28,4,FALSE),($F$142*B345^4 + $E$142*B345^3 + $D$142*B345^2 + $C$142*B345 + $B$142)*0.985,NA())","v":{"$error":"#N/A"}},{"$f":"'Device Resistance Tables'!D207","v":{"$error":"#N/A"}},{"$f":"IF(B566<=VLOOKUP(Main!$N$22,Coefficients!$E$2:$H$28,4,FALSE),($F$155*B345^4 + $E$155*B345^3 + $D$155*B345^2 + $C$155*B345 + $B$155)*1.015,NA())","v":{"$error":"#N/A"}},{"$error":"#N/A"},{"$f":"IFERROR('NTC Thermistor Comparison'!F221-'NTC Thermistor Comparison'!F220,NA())","v":{"$error":"#N/A"}},{"$f":"IFERROR((M345-K345)/'NTC Thermistor Comparison'!H220,NA())","v":{"$error":"#N/A"}},{"$f":"IF(B566<=VLOOKUP(Main!$N$22,Coefficients!$E$2:$H$28,4,FALSE),($B$29+((B345-$B$223))*($B$29/1000000)*$B$31)+($B$29*$B$30),NA())","v":{"$error":"#N/A"}},{"$f":"IF(B566<=VLOOKUP(Main!$N$22,Coefficients!$E$2:$H$28,4,FALSE),$J$22+(($B$223-B345)*(($B$22*(1-$B$23))/1000000)),NA())","v":{"$error":"#N/A"}},{"$error":"#N/A"},{"$error":"#N/A"},{"$error":"#N/A"}]
[189,148,{"$error":"#N/A"},{"$error":"#N/A"},{"$error":"#N/A"},{"$f":"IF(B567<=VLOOKUP(Main!$N$22,Coefficients!$E$2:$H$28,4,FALSE),$H$22+(($B$223-B346)*(($B$22*(1-$B$23))/1000000)),NA())","v":{"$error":"#N/A"}},{"$f":"IF(B567<=VLOOKUP(Main!$N$22,Coefficients!$E$2:$H$28,4,FALSE),($B$29-((B346-$B$223))*($B$29/1000000)*$B$31)-($B$29*$B$30),NA())","v":{"$error":"#N/A"}},{"$f":"IFERROR((I346-K346)/'NTC Thermistor Comparison'!H221,NA())","v":{"$error":"#N/A"}},{"$error":"#N/A"},{"$f":"IF(B567<=VLOOKUP(Main!$N$22,Coefficients!$E$2:$H$28,4,FALSE),($F$142*B346^4 + $E$142*B346^3 + $D$142*B346^2 + $C$142*B346 + $B$142)*0.985,NA())","v":{"$error":"#N/A"}},{"$f":"'Device Resistance Tables'!D208","v":{"$error":"#N/A"}},{"$f":"IF(B567<=VLOOKUP(Main!$N$22,Coefficients!$E$2:$H$28,4,FALSE),($F$155*B346^4 + $E$155*B346^3 + $D$155*B346^2 + $C$155*B346 + $B$155)*1.015,NA())","v":{"$error":"#N/A"}},{"$error":"#N/A"},{"$f":"IFERROR('NTC Thermistor Comparison'!F222-'NTC Thermistor Comparison'!F221,NA())","v":{"$error":"#N/A"}},{"$f":"IFERROR((M346-K346)/'NTC Thermistor Comparison'!H221,NA())","v":{"$error":"#N/A"}},{"$f":"IF(B567<=VLOOKUP(Main!$N$22,Coefficients!$E$2:$H$28,4,FALSE),($B$29+((B346-$B$223))*($B$29/1000000)*$B$31)+($B$29*$B$30),NA())","v":{"$error":"#N/A"}},{"$f":"IF(B567<=VLOOKUP(Main!$N$22,Coefficients!$E$2:$H$28,4,FALSE),$J$22+(($B$223-B346)*(($B$22*(1-$B$23))/1000000)),NA())","v":{"$error":"#N/A"}},{"$error":"#N/A"},{"$error":"#N/A"},{"$error":"#N/A"}]
[190,149,{"$error":"#N/A"},{"$error":"#N/A"},{"$error":"#N/A"},{"$f":"IF(B568<=VLOOKUP(Main!$N$22,Coefficients!$E$2:$H$28,4,FALSE),$H$22+(($B$223-B347)*(($B$22*(1-$B$23))/1000000)),NA())","v":{"$error":"#N/A"}},{"$f":"IF(B568<=VLOOKUP(Main!$N$22,Coefficients!$E$2:$H$28,4,FALSE),($B$29-((B347-$B$223))*($B$29/1000000)*$B$31)-($B$29*$B$30),NA())","v":{"$error":"#N/A"}},{"$f":"IFERROR((I347-K347)/'NTC Thermistor Comparison'!H222,NA())","v":{"$error":"#N/A"}},{"$error":"#N/A"},{"$f":"IF(B568<=VLOOKUP(Main!$N$22,Coefficients!$E$2:$H$28,4,FALSE),($F$142*B347^4 + $E$142*B347^3 + $D$142*B347^2 + $C$142*B347 + $B$142)*0.985,NA())","v":{"$error":"#N/A"}},{"$f":"'Device Resistance Tables'!D209","v":{"$error":"#N/A"}},{"$f":"IF(B568<=VLOOKUP(Main!$N$22,Coefficients!$E$2:$H$28,4,FALSE),($F$155*B347^4 + $E$155*B347^3 + $D$155*B347^2 + $C$155*B347 + $B$155)*1.015,NA())","v":{"$error":"#N/A"}},{"$error":"#N/A"},{"$f":"IFERROR('NTC Thermistor Comparison'!F223-'NTC Thermistor Comparison'!F222,NA())","v":{"$error":"#N/A"}},{"$f":"IFERROR((M347-K347)/'NTC Thermistor Comparison'!H222,NA())","v":{"$error":"#N/A"}},{"$f":"IF(B568<=VLOOKUP(Main!$N$22,Coefficients!$E$2:$H$28,4,FALSE),($B$29+((B347-$B$223))*($B$29/1000000)*$B$31)+($B$29*$B$30),NA())","v":{"$error":"#N/A"}},{"$f":"IF(B568<=VLOOKUP(Main!$N$22,Coefficients!$E$2:$H$28,4,FALSE),$J$22+(($B$223-B347)*(($B$22*(1-$B$23))/1000000)),NA())","v":{"$error":"#N/A"}},{"$error":"#N/A"},{"$error":"#N/A"},{"$error":"#N/A"}]
[191,150,{"$error":"#N/A"},{"$error":"#N/A"},{"$error":"#N/A"},{"$f":"IF(B569<=VLOOKUP(Main!$N$22,Coefficients!$E$2:$H$28,4,FALSE),$H$22+(($B$223-B348)*(($B$22*(1-$B$23))/1000000)),NA())","v":{"$error":"#N/A"}},{"$f":"IF(B569<=VLOOKUP(Main!$N$22,Coefficients!$E$2:$H$28,4,FALSE),($B$29-((B348-$B$223))*($B$29/1000000)*$B$31)-($B$29*$B$30),NA())","v":{"$error":"#N/A"}},{"$f":"IFERROR((I348-K348)/'NTC Thermistor Comparison'!H223,NA())","v":{"$error":"#N/A"}},{"$error":"#N/A"},{"$f":"IF(B569<=VLOOKUP(Main!$N$22,Coefficients!$E$2:$H$28,4,FALSE),($F$142*B348^4 + $E$142*B348^3 + $D$142*B348^2 + $C$142*B348 + $B$142)*0.985,NA())","v":{"$error":"#N/A"}},{"$f":"'Device Resistance Tables'!D210","v":{"$error":"#N/A"}},{"$f":"IF(B569<=VLOOKUP(Main!$N$22,Coefficients!$E$2:$H$28,4,FALSE),($F$155*B348^4 + $E$155*B348^3 + $D$155*B348^2 + $C$155*B348 + $B$155)*1.015,NA())","v":{"$error":"#N/A"}},{"$error":"#N/A"},{"$f":"IFERROR('NTC Thermistor Comparison'!F224-'NTC Thermistor Comparison'!F223,NA())","v":{"$error":"#N/A"}},{"$f":"IFERROR((M348-K348)/'NTC Thermistor Comparison'!H223,NA())","v":{"$error":"#N/A"}},{"$f":"IF(B569<=VLOOKUP(Main!$N$22,Coefficients!$E$2:$H$28,4,FALSE),($B$29+((B348-$B$223))*($B$29/1000000)*$B$31)+($B$29*$B$30),NA())","v":{"$error":"#N/A"}},{"$f":"IF(B569<=VLOOKUP(Main!$N$22,Coefficients!$E$2:$H$28,4,FALSE),$J$22+(($B$223-B348)*(($B$22*(1-$B$23))/1000000)),NA())","v":{"$error":"#N/A"}},{"$error":"#N/A"},{"$error":"#N/A"},{"$error":"#N/A"}]
[192,151,{"$error":"#N/A"},{"$error":"#N/A"},{"$error":"#N/A"},{"$f":"IF(B570<=VLOOKUP(Main!$N$22,Coefficients!$E$2:$H$28,4,FALSE),$H$22+(($B$223-B349)*(($B$22*(1-$B$23))/1000000)),NA())","v":{"$error":"#N/A"}},{"$f":"IF(B570<=VLOOKUP(Main!$N$22,Coefficients!$E$2:$H$28,4,FALSE),($B$29-((B349-$B$223))*($B$29/1000000)*$B$31)-($B$29*$B$30),NA())","v":{"$error":"#N/A"}},{"$f":"IFERROR((I349-K349)/'NTC Thermistor Comparison'!H224,NA())","v":{"$error":"#N/A"}},{"$error":"#N/A"},{"$f":"IF(B570<=VLOOKUP(Main!$N$22,Coefficients!$E$2:$H$28,4,FALSE),($F$142*B349^4 + $E$142*B349^3 + $D$142*B349^2 + $C$142*B349 + $B$142)*0.985,NA())","v":{"$error":"#N/A"}},{"$f":"'Device Resistance Tables'!D211","v":{"$error":"#N/A"}},{"$f":"IF(B570<=VLOOKUP(Main!$N$22,Coefficients!$E$2:$H$28,4,FALSE),($F$155*B349^4 + $E$155*B349^3 + $D$155*B349^2 + $C$155*B349 + $B$155)*1.015,NA())","v":{"$error":"#N/A"}},{"$error":"#N/A"},{"$f":"IFERROR('NTC Thermistor Comparison'!F225-'NTC Thermistor Comparison'!F224,NA())","v":{"$error":"#N/A"}},{"$f":"IFERROR((M349-K349)/'NTC Thermistor Comparison'!H224,NA())","v":{"$error":"#N/A"}},{"$f":"IF(B570<=VLOOKUP(Main!$N$22,Coefficients!$E$2:$H$28,4,FALSE),($B$29+((B349-$B$223))*($B$29/1000000)*$B$31)+($B$29*$B$30),NA())","v":{"$error":"#N/A"}},{"$f":"IF(B570<=VLOOKUP(Main!$N$22,Coefficients!$E$2:$H$28,4,FALSE),$J$22+(($B$223-B349)*(($B$22*(1-$B$23))/1000000)),NA())","v":{"$error":"#N/A"}},{"$error":"#N/A"},{"$error":"#N/A"},{"$error":"#N/A"}]
[193,152,{"$error":"#N/A"},{"$f":"IFERROR(E350-($B$22/(K350+$B$29)*K350),NA())","v":{"$error":"#N/A"}},{"$error":"#N/A"},{"$f":"IF(B571<=VLOOKUP(Main!$N$22,Coefficients!$E$2:$H$28,4,FALSE),$H$22+(($B$223-B350)*(($B$22*(1-$B$23))/1000000)),NA())","v":{"$error":"#N/A"}},{"$f":"IF(B571<=VLOOKUP(Main!$N$22,Coefficients!$E$2:$H$28,4,FALSE),($B$29-((B350-$B$223))*($B$29/1000000)*$B$31)-($B$29*$B$30),NA())","v":{"$error":"#N/A"}},{"$f":"IFERROR((I350-K350)/'NTC Thermistor Comparison'!H225,NA())","v":{"$error":"#N/A"}},{"$error":"#N/A"},{"$f":"IF(B571<=VLOOKUP(Main!$N$22,Coefficients!$E$2:$H$28,4,FALSE),($F$142*B350^4 + $E$142*B350^3 + $D$142*B350^2 + $C$142*B350 + $B$142)*0.985,NA())","v":{"$error":"#N/A"}},{"$f":"'Device Resistance Tables'!D212","v":{"$error":"#N/A"}},{"$f":"IF(B571<=VLOOKUP(Main!$N$22,Coefficients!$E$2:$H$28,4,FALSE),($F$155*B350^4 + $E$155*B350^3 + $D$155*B350^2 + $C$155*B350 + $B$155)*1.015,NA())","v":{"$error":"#N/A"}},{"$error":"#N/A"},{"$f":"IFERROR('NTC Thermistor Comparison'!F226-'NTC Thermistor Comparison'!F225,NA())","v":{"$error":"#N/A"}},{"$f":"IFERROR((M350-K350)/'NTC Thermistor Comparison'!H225,NA())","v":{"$error":"#N/A"}},{"$f":"IF(B571<=VLOOKUP(Main!$N$22,Coefficients!$E$2:$H$28,4,FALSE),($B$29+((B350-$B$223))*($B$29/1000000)*$B$31)+($B$29*$B$30),NA())","v":{"$error":"#N/A"}},{"$f":"IF(B571<=VLOOKUP(Main!$N$22,Coefficients!$E$2:$H$28,4,FALSE),$J$22+(($B$223-B350)*(($B$22*(1-$B$23))/1000000)),NA())","v":{"$error":"#N/A"}},{"$error":"#N/A"},{"$f":"IFERROR(R350-($B$22/(K350+$B$29)*K350),NA())","v":{"$error":"#N/A"}},{"$error":"#N/A"}]
[194,153,{"$f":"IFERROR(D351/N351,NA())","v":{"$error":"#N/A"}},{"$error":"#N/A"},{"$f":"IFERROR((F351/(I351+P351))*I351,NA())","v":{"$error":"#N/A"}},{"$f":"IF(B572<=VLOOKUP(Main!$N$22,Coefficients!$E$2:$H$28,4,FALSE),$H$22+(($B$223-B351)*(($B$22*(1-$B$23))/1000000)),NA())","v":{"$error":"#N/A"}},{"$f":"IF(B572<=VLOOKUP(Main!$N$22,Coefficients!$E$2:$H$28,4,FALSE),($B$29-((B351-$B$223))*($B$29/1000000)*$B$31)-($B$29*$B$30),NA())","v":{"$error":"#N/A"}},{"$f":"IFERROR((I351-K351)/'NTC Thermistor Comparison'!H226,NA())","v":{"$error":"#N/A"}},{"$f":"J351*0.99","v":{"$error":"#N/A"}},{"$f":"IF(B572<=VLOOKUP(Main!$N$22,Coefficients!$E$2:$H$28,4,FALSE),($F$142*B351^4 + $E$142*B351^3 + $D$142*B351^2 + $C$142*B351 + $B$142)*0.985,NA())","v":{"$error":"#N/A"}},{"$f":"'Device Resistance Tables'!D213","v":{"$error":"#N/A"}},{"$f":"IF(B572<=VLOOKUP(Main!$N$22,Coefficients!$E$2:$H$28,4,FALSE),($F$155*B351^4 + $E$155*B351^3 + $D$155*B351^2 + $C$155*B351 + $B$155)*1.015,NA())","v":{"$error":"#N/A"}},{"$f":"L351*1.01","v":{"$error":"#N/A"}},{"$f":"IFERROR('NTC Thermistor Comparison'!F227-'NTC Thermistor Comparison'!F226,NA())","v":{"$error":"#N/A"}},{"$f":"IFERROR((M351-K351)/'NTC Thermistor Comparison'!H226,NA())","v":{"$error":"#N/A"}},{"$f":"IF(B572<=VLOOKUP(Main!$N$22,Coefficients!$E$2:$H$28,4,FALSE),($B$29+((B351-$B$223))*($B$29/1000000)*$B$31)+($B$29*$B$30),NA())","v":{"$error":"#N/A"}},{"$f":"IF(B572<=VLOOKUP(Main!$N$22,Coefficients!$E$2:$H$28,4,FALSE),$J$22+(($B$223-B351)*(($B$22*(1-$B$23))/1000000)),NA())","v":{"$error":"#N/A"}},{"$f":"IFERROR(Q351/(M351+G351)*M351,NA())","v":{"$error":"#N/A"}},{"$error":"#N/A"},{"$error":"#N/A"}]
[195,{"$f":"B351+1","v":154},{"$error":"#N/A"},{"$error":"#N/A"},{"$error":"#N/A"},{"$f":"IF(B573<=VLOOKUP(Main!$N$22,Coefficients!$E$2:$H$28,4,FALSE),$H$22+(($B$223-B352)*(($B$22*(1-$B$23))/1000000)),NA())","v":{"$error":"#N/A"}},{"$f":"IF(B573<=VLOOKUP(Main!$N$22,Coefficients!$E$2:$H$28,4,FALSE),($B$29-((B352-$B$223))*($B$29/1000000)*$B$31)-($B$29*$B$30),NA())","v":{"$error":"#N/A"}},{"$f":"IFERROR((I352-K352)/'NTC Thermistor Comparison'!H227,NA())","v":{"$error":"#N/A"}},{"$error":"#N/A"},{"$f":"IF(B573<=VLOOKUP(Main!$N$22,Coefficients!$E$2:$H$28,4,FALSE),($F$142*B352^4 + $E$142*B352^3 + $D$142*B352^2 + $C$142*B352 + $B$142)*0.985,NA())","v":{"$error":"#N/A"}},{"$f":"'Device Resistance Tables'!D214","v":{"$error":"#N/A"}},{"$f":"IF(B573<=VLOOKUP(Main!$N$22,Coefficients!$E$2:$H$28,4,FALSE),($F$155*B352^4 + $E$155*B352^3 + $D$155*B352^2 + $C$155*B352 + $B$155)*1.015,NA())","v":{"$error":"#N/A"}},{"$error":"#N/A"},{"$f":"IFERROR('NTC Thermistor Comparison'!F228-'NTC Thermistor Comparison'!F227,NA())","v":{"$error":"#N/A"}},{"$f":"IFERROR((M352-K352)/'NTC Thermistor Comparison'!H227,NA())","v":{"$error":"#N/A"}},{"$f":"IF(B573<=VLOOKUP(Main!$N$22,Coefficients!$E$2:$H$28,4,FALSE),($B$29+((B352-$B$223))*($B$29/1000000)*$B$31)+($B$29*$B$30),NA())","v":{"$error":"#N/A"}},{"$f":"IF(B573<=VLOOKUP(Main!$N$22,Coefficients!$E$2:$H$28,4,FALSE),$J$22+(($B$223-B352)*(($B$22*(1-$B$23))/1000000)),NA())","v":{"$error":"#N/A"}},{"$error":"#N/A"},{"$error":"#N/A"},{"$f":"IFERROR(S352/N352,NA())","v":{"$error":"#N/A"}}]
[196,155,{"$error":"#N/A"},{"$error":"#N/A"},{"$error":"#N/A"},{"$f":"IF(B574<=VLOOKUP(Main!$N$22,Coefficients!$E$2:$H$28,4,FALSE),$H$22+(($B$223-B353)*(($B$22*(1-$B$23))/1000000)),NA())","v":{"$error":"#N/A"}},{"$f":"IF(B574<=VLOOKUP(Main!$N$22,Coefficients!$E$2:$H$28,4,FALSE),($B$29-((B353-$B$223))*($B$29/1000000)*$B$31)-($B$29*$B$30),NA())","v":{"$error":"#N/A"}},{"$f":"IFERROR((I353-K353)/'NTC Thermistor Comparison'!H228,NA())","v":{"$error":"#N/A"}},{"$error":"#N/A"},{"$f":"IF(B574<=VLOOKUP(Main!$N$22,Coefficients!$E$2:$H$28,4,FALSE),($F$142*B353^4 + $E$142*B353^3 + $D$142*B353^2 + $C$142*B353 + $B$142)*0.985,NA())","v":{"$error":"#N/A"}},{"$f":"'Device Resistance Tables'!D215","v":{"$error":"#N/A"}},{"$f":"IF(B574<=VLOOKUP(Main!$N$22,Coefficients!$E$2:$H$28,4,FALSE),($F$155*B353^4 + $E$155*B353^3 + $D$155*B353^2 + $C$155*B353 + $B$155)*1.015,NA())","v":{"$error":"#N/A"}},{"$error":"#N/A"},{"$f":"IFERROR('NTC Thermistor Comparison'!F229-'NTC Thermistor Comparison'!F228,NA())","v":{"$error":"#N/A"}},{"$f":"IFERROR((M353-K353)/'NTC Thermistor Comparison'!H228,NA())","v":{"$error":"#N/A"}},{"$f":"IF(B574<=VLOOKUP(Main!$N$22,Coefficients!$E$2:$H$28,4,FALSE),($B$29+((B353-$B$223))*($B$29/1000000)*$B$31)+($B$29*$B$30),NA())","v":{"$error":"#N/A"}},{"$f":"IF(B574<=VLOOKUP(Main!$N$22,Coefficients!$E$2:$H$28,4,FALSE),$J$22+(($B$223-B353)*(($B$22*(1-$B$23))/1000000)),NA())","v":{"$error":"#N/A"}},{"$error":"#N/A"},{"$error":"#N/A"},{"$error":"#N/A"}]
[197,156,{"$error":"#N/A"},{"$error":"#N/A"},{"$error":"#N/A"},{"$f":"IF(B575<=VLOOKUP(Main!$N$22,Coefficients!$E$2:$H$28,4,FALSE),$H$22+(($B$223-B354)*(($B$22*(1-$B$23))/1000000)),NA())","v":{"$error":"#N/A"}},{"$f":"IF(B575<=VLOOKUP(Main!$N$22,Coefficients!$E$2:$H$28,4,FALSE),($B$29-((B354-$B$223))*($B$29/1000000)*$B$31)-($B$29*$B$30),NA())","v":{"$error":"#N/A"}},{"$f":"IFERROR((I354-K354)/'NTC Thermistor Comparison'!H229,NA())","v":{"$error":"#N/A"}},{"$error":"#N/A"},{"$f":"IF(B575<=VLOOKUP(Main!$N$22,Coefficients!$E$2:$H$28,4,FALSE),($F$142*B354^4 + $E$142*B354^3 + $D$142*B354^2 + $C$142*B354 + $B$142)*0.985,NA())","v":{"$error":"#N/A"}},{"$f":"'Device Resistance Tables'!D216","v":{"$error":"#N/A"}},{"$f":"IF(B575<=VLOOKUP(Main!$N$22,Coefficients!$E$2:$H$28,4,FALSE),($F$155*B354^4 + $E$155*B354^3 + $D$155*B354^2 + $C$155*B354 + $B$155)*1.015,NA())","v":{"$error":"#N/A"}},{"$error":"#N/A"},{"$f":"IFERROR('NTC Thermistor Comparison'!F230-'NTC Thermistor Comparison'!F229,NA())","v":{"$error":"#N/A"}},{"$f":"IFERROR((M354-K354)/'NTC Thermistor Comparison'!H229,NA())","v":{"$error":"#N/A"}},{"$f":"IF(B575<=VLOOKUP(Main!$N$22,Coefficients!$E$2:$H$28,4,FALSE),($B$29+((B354-$B$223))*($B$29/1000000)*$B$31)+($B$29*$B$30),NA())","v":{"$error":"#N/A"}},{"$f":"IF(B575<=VLOOKUP(Main!$N$22,Coefficients!$E$2:$H$28,4,FALSE),$J$22+(($B$223-B354)*(($B$22*(1-$B$23))/1000000)),NA())","v":{"$error":"#N/A"}},{"$error":"#N/A"},{"$error":"#N/A"},{"$error":"#N/A"}]
[198,157,{"$error":"#N/A"},{"$error":"#N/A"},{"$error":"#N/A"},{"$f":"IF(B576<=VLOOKUP(Main!$N$22,Coefficients!$E$2:$H$28,4,FALSE),$H$22+(($B$223-B355)*(($B$22*(1-$B$23))/1000000)),NA())","v":{"$error":"#N/A"}},{"$f":"IF(B576<=VLOOKUP(Main!$N$22,Coefficients!$E$2:$H$28,4,FALSE),($B$29-((B355-$B$223))*($B$29/1000000)*$B$31)-($B$29*$B$30),NA())","v":{"$error":"#N/A"}},{"$f":"IFERROR((I355-K355)/'NTC Thermistor Comparison'!H230,NA())","v":{"$error":"#N/A"}},{"$error":"#N/A"},{"$f":"IF(B576<=VLOOKUP(Main!$N$22,Coefficients!$E$2:$H$28,4,FALSE),($F$142*B355^4 + $E$142*B355^3 + $D$142*B355^2 + $C$142*B355 + $B$142)*0.985,NA())","v":{"$error":"#N/A"}},{"$f":"'Device Resistance Tables'!D217","v":{"$error":"#N/A"}},{"$f":"IF(B576<=VLOOKUP(Main!$N$22,Coefficients!$E$2:$H$28,4,FALSE),($F$155*B355^4 + $E$155*B355^3 + $D$155*B355^2 + $C$155*B355 + $B$155)*1.015,NA())","v":{"$error":"#N/A"}},{"$error":"#N/A"},{"$f":"IFERROR('NTC Thermistor Comparison'!F231-'NTC Thermistor Comparison'!F230,NA())","v":{"$error":"#N/A"}},{"$f":"IFERROR((M355-K355)/'NTC Thermistor Comparison'!H230,NA())","v":{"$error":"#N/A"}},{"$f":"IF(B576<=VLOOKUP(Main!$N$22,Coefficients!$E$2:$H$28,4,FALSE),($B$29+((B355-$B$223))*($B$29/1000000)*$B$31)+($B$29*$B$30),NA())","v":{"$error":"#N/A"}},{"$f":"IF(B576<=VLOOKUP(Main!$N$22,Coefficients!$E$2:$H$28,4,FALSE),$J$22+(($B$223-B355)*(($B$22*(1-$B$23))/1000000)),NA())","v":{"$error":"#N/A"}},{"$error":"#N/A"},{"$error":"#N/A"},{"$error":"#N/A"}]
[199,158,{"$error":"#N/A"},{"$error":"#N/A"},{"$error":"#N/A"},{"$f":"IF(B577<=VLOOKUP(Main!$N$22,Coefficients!$E$2:$H$28,4,FALSE),$H$22+(($B$223-B356)*(($B$22*(1-$B$23))/1000000)),NA())","v":{"$error":"#N/A"}},{"$f":"IF(B577<=VLOOKUP(Main!$N$22,Coefficients!$E$2:$H$28,4,FALSE),($B$29-((B356-$B$223))*($B$29/1000000)*$B$31)-($B$29*$B$30),NA())","v":{"$error":"#N/A"}},{"$f":"IFERROR((I356-K356)/'NTC Thermistor Comparison'!H231,NA())","v":{"$error":"#N/A"}},{"$error":"#N/A"},{"$f":"IF(B577<=VLOOKUP(Main!$N$22,Coefficients!$E$2:$H$28,4,FALSE),($F$142*B356^4 + $E$142*B356^3 + $D$142*B356^2 + $C$142*B356 + $B$142)*0.985,NA())","v":{"$error":"#N/A"}},{"$f":"'Device Resistance Tables'!D218","v":{"$error":"#N/A"}},{"$f":"IF(B577<=VLOOKUP(Main!$N$22,Coefficients!$E$2:$H$28,4,FALSE),($F$155*B356^4 + $E$155*B356^3 + $D$155*B356^2 + $C$155*B356 + $B$155)*1.015,NA())","v":{"$error":"#N/A"}},{"$error":"#N/A"},{"$f":"IFERROR('NTC Thermistor Comparison'!F232-'NTC Thermistor Comparison'!F231,NA())","v":{"$error":"#N/A"}},{"$f":"IFERROR((M356-K356)/'NTC Thermistor Comparison'!H231,NA())","v":{"$error":"#N/A"}},{"$f":"IF(B577<=VLOOKUP(Main!$N$22,Coefficients!$E$2:$H$28,4,FALSE),($B$29+((B356-$B$223))*($B$29/1000000)*$B$31)+($B$29*$B$30),NA())","v":{"$error":"#N/A"}},{"$f":"IF(B577<=VLOOKUP(Main!$N$22,Coefficients!$E$2:$H$28,4,FALSE),$J$22+(($B$223-B356)*(($B$22*(1-$B$23))/1000000)),NA())","v":{"$error":"#N/A"}},{"$error":"#N/A"},{"$error":"#N/A"},{"$error":"#N/A"}]
[200,159,{"$error":"#N/A"},{"$error":"#N/A"},{"$error":"#N/A"},{"$f":"IF(B578<=VLOOKUP(Main!$N$22,Coefficients!$E$2:$H$28,4,FALSE),$H$22+(($B$223-B357)*(($B$22*(1-$B$23))/1000000)),NA())","v":{"$error":"#N/A"}},{"$f":"IF(B578<=VLOOKUP(Main!$N$22,Coefficients!$E$2:$H$28,4,FALSE),($B$29-((B357-$B$223))*($B$29/1000000)*$B$31)-($B$29*$B$30),NA())","v":{"$error":"#N/A"}},{"$f":"IFERROR((I357-K357)/'NTC Thermistor Comparison'!H232,NA())","v":{"$error":"#N/A"}},{"$error":"#N/A"},{"$f":"IF(B578<=VLOOKUP(Main!$N$22,Coefficients!$E$2:$H$28,4,FALSE),($F$142*B357^4 + $E$142*B357^3 + $D$142*B357^2 + $C$142*B357 + $B$142)*0.985,NA())","v":{"$error":"#N/A"}},{"$f":"'Device Resistance Tables'!D219","v":{"$error":"#N/A"}},{"$f":"IF(B578<=VLOOKUP(Main!$N$22,Coefficients!$E$2:$H$28,4,FALSE),($F$155*B357^4 + $E$155*B357^3 + $D$155*B357^2 + $C$155*B357 + $B$155)*1.015,NA())","v":{"$error":"#N/A"}},{"$error":"#N/A"},{"$f":"IFERROR('NTC Thermistor Comparison'!F233-'NTC Thermistor Comparison'!F232,NA())","v":{"$error":"#N/A"}},{"$f":"IFERROR((M357-K357)/'NTC Thermistor Comparison'!H232,NA())","v":{"$error":"#N/A"}},{"$f":"IF(B578<=VLOOKUP(Main!$N$22,Coefficients!$E$2:$H$28,4,FALSE),($B$29+((B357-$B$223))*($B$29/1000000)*$B$31)+($B$29*$B$30),NA())","v":{"$error":"#N/A"}},{"$f":"IF(B578<=VLOOKUP(Main!$N$22,Coefficients!$E$2:$H$28,4,FALSE),$J$22+(($B$223-B357)*(($B$22*(1-$B$23))/1000000)),NA())","v":{"$error":"#N/A"}},{"$error":"#N/A"},{"$error":"#N/A"},{"$error":"#N/A"}]
[201,160,{"$error":"#N/A"},{"$error":"#N/A"},{"$error":"#N/A"},{"$f":"IF(B579<=VLOOKUP(Main!$N$22,Coefficients!$E$2:$H$28,4,FALSE),$H$22+(($B$223-B358)*(($B$22*(1-$B$23))/1000000)),NA())","v":{"$error":"#N/A"}},{"$f":"IF(B579<=VLOOKUP(Main!$N$22,Coefficients!$E$2:$H$28,4,FALSE),($B$29-((B358-$B$223))*($B$29/1000000)*$B$31)-($B$29*$B$30),NA())","v":{"$error":"#N/A"}},{"$f":"IFERROR((I358-K358)/'NTC Thermistor Comparison'!H233,NA())","v":{"$error":"#N/A"}},{"$error":"#N/A"},{"$f":"IF(B579<=VLOOKUP(Main!$N$22,Coefficients!$E$2:$H$28,4,FALSE),($F$142*B358^4 + $E$142*B358^3 + $D$142*B358^2 + $C$142*B358 + $B$142)*0.985,NA())","v":{"$error":"#N/A"}},{"$f":"'Device Resistance Tables'!D220","v":{"$error":"#N/A"}},{"$f":"IF(B579<=VLOOKUP(Main!$N$22,Coefficients!$E$2:$H$28,4,FALSE),($F$155*B358^4 + $E$155*B358^3 + $D$155*B358^2 + $C$155*B358 + $B$155)*1.015,NA())","v":{"$error":"#N/A"}},{"$error":"#N/A"},{"$f":"IFERROR('NTC Thermistor Comparison'!F234-'NTC Thermistor Comparison'!F233,NA())","v":{"$error":"#N/A"}},{"$f":"IFERROR((M358-K358)/'NTC Thermistor Comparison'!H233,NA())","v":{"$error":"#N/A"}},{"$f":"IF(B579<=VLOOKUP(Main!$N$22,Coefficients!$E$2:$H$28,4,FALSE),($B$29+((B358-$B$223))*($B$29/1000000)*$B$31)+($B$29*$B$30),NA())","v":{"$error":"#N/A"}},{"$f":"IF(B579<=VLOOKUP(Main!$N$22,Coefficients!$E$2:$H$28,4,FALSE),$J$22+(($B$223-B358)*(($B$22*(1-$B$23))/1000000)),NA())","v":{"$error":"#N/A"}},{"$error":"#N/A"},{"$error":"#N/A"},{"$error":"#N/A"}]
[202,161,{"$error":"#N/A"},{"$error":"#N/A"},{"$error":"#N/A"},{"$f":"IF(B580<=VLOOKUP(Main!$N$22,Coefficients!$E$2:$H$28,4,FALSE),$H$22+(($B$223-B359)*(($B$22*(1-$B$23))/1000000)),NA())","v":{"$error":"#N/A"}},{"$f":"IF(B580<=VLOOKUP(Main!$N$22,Coefficients!$E$2:$H$28,4,FALSE),($B$29-((B359-$B$223))*($B$29/1000000)*$B$31)-($B$29*$B$30),NA())","v":{"$error":"#N/A"}},{"$f":"IFERROR((I359-K359)/'NTC Thermistor Comparison'!H234,NA())","v":{"$error":"#N/A"}},{"$error":"#N/A"},{"$f":"IF(B580<=VLOOKUP(Main!$N$22,Coefficients!$E$2:$H$28,4,FALSE),($F$142*B359^4 + $E$142*B359^3 + $D$142*B359^2 + $C$142*B359 + $B$142)*0.985,NA())","v":{"$error":"#N/A"}},{"$f":"'Device Resistance Tables'!D221","v":{"$error":"#N/A"}},{"$f":"IF(B580<=VLOOKUP(Main!$N$22,Coefficients!$E$2:$H$28,4,FALSE),($F$155*B359^4 + $E$155*B359^3 + $D$155*B359^2 + $C$155*B359 + $B$155)*1.015,NA())","v":{"$error":"#N/A"}},{"$error":"#N/A"},{"$f":"IFERROR('NTC Thermistor Comparison'!F235-'NTC Thermistor Comparison'!F234,NA())","v":{"$error":"#N/A"}},{"$f":"IFERROR((M359-K359)/'NTC Thermistor Comparison'!H234,NA())","v":{"$error":"#N/A"}},{"$f":"IF(B580<=VLOOKUP(Main!$N$22,Coefficients!$E$2:$H$28,4,FALSE),($B$29+((B359-$B$223))*($B$29/1000000)*$B$31)+($B$29*$B$30),NA())","v":{"$error":"#N/A"}},{"$f":"IF(B580<=VLOOKUP(Main!$N$22,Coefficients!$E$2:$H$28,4,FALSE),$J$22+(($B$223-B359)*(($B$22*(1-$B$23))/1000000)),NA())","v":{"$error":"#N/A"}},{"$error":"#N/A"},{"$error":"#N/A"},{"$error":"#N/A"}]
[203,162,{"$error":"#N/A"},{"$error":"#N/A"},{"$error":"#N/A"},{"$f":"IF(B581<=VLOOKUP(Main!$N$22,Coefficients!$E$2:$H$28,4,FALSE),$H$22+(($B$223-B360)*(($B$22*(1-$B$23))/1000000)),NA())","v":{"$error":"#N/A"}},{"$f":"IF(B581<=VLOOKUP(Main!$N$22,Coefficients!$E$2:$H$28,4,FALSE),($B$29-((B360-$B$223))*($B$29/1000000)*$B$31)-($B$29*$B$30),NA())","v":{"$error":"#N/A"}},{"$f":"IFERROR((I360-K360)/'NTC Thermistor Comparison'!H235,NA())","v":{"$error":"#N/A"}},{"$error":"#N/A"},{"$f":"IF(B581<=VLOOKUP(Main!$N$22,Coefficients!$E$2:$H$28,4,FALSE),($F$142*B360^4 + $E$142*B360^3 + $D$142*B360^2 + $C$142*B360 + $B$142)*0.985,NA())","v":{"$error":"#N/A"}},{"$f":"'Device Resistance Tables'!D222","v":{"$error":"#N/A"}},{"$f":"IF(B581<=VLOOKUP(Main!$N$22,Coefficients!$E$2:$H$28,4,FALSE),($F$155*B360^4 + $E$155*B360^3 + $D$155*B360^2 + $C$155*B360 + $B$155)*1.015,NA())","v":{"$error":"#N/A"}},{"$error":"#N/A"},{"$f":"IFERROR('NTC Thermistor Comparison'!F236-'NTC Thermistor Comparison'!F235,NA())","v":{"$error":"#N/A"}},{"$f":"IFERROR((M360-K360)/'NTC Thermistor Comparison'!H235,NA())","v":{"$error":"#N/A"}},{"$f":"IF(B581<=VLOOKUP(Main!$N$22,Coefficients!$E$2:$H$28,4,FALSE),($B$29+((B360-$B$223))*($B$29/1000000)*$B$31)+($B$29*$B$30),NA())","v":{"$error":"#N/A"}},{"$f":"IF(B581<=VLOOKUP(Main!$N$22,Coefficients!$E$2:$H$28,4,FALSE),$J$22+(($B$223-B360)*(($B$22*(1-$B$23))/1000000)),NA())","v":{"$error":"#N/A"}},{"$error":"#N/A"},{"$error":"#N/A"},{"$error":"#N/A"}]
[204,163,{"$error":"#N/A"},{"$error":"#N/A"},{"$error":"#N/A"},{"$f":"IF(B582<=VLOOKUP(Main!$N$22,Coefficients!$E$2:$H$28,4,FALSE),$H$22+(($B$223-B361)*(($B$22*(1-$B$23))/1000000)),NA())","v":{"$error":"#N/A"}},{"$f":"IF(B582<=VLOOKUP(Main!$N$22,Coefficients!$E$2:$H$28,4,FALSE),($B$29-((B361-$B$223))*($B$29/1000000)*$B$31)-($B$29*$B$30),NA())","v":{"$error":"#N/A"}},{"$f":"IFERROR((I361-K361)/'NTC Thermistor Comparison'!H236,NA())","v":{"$error":"#N/A"}},{"$error":"#N/A"},{"$f":"IF(B582<=VLOOKUP(Main!$N$22,Coefficients!$E$2:$H$28,4,FALSE),($F$142*B361^4 + $E$142*B361^3 + $D$142*B361^2 + $C$142*B361 + $B$142)*0.985,NA())","v":{"$error":"#N/A"}},{"$f":"'Device Resistance Tables'!D223","v":{"$error":"#N/A"}},{"$f":"IF(B582<=VLOOKUP(Main!$N$22,Coefficients!$E$2:$H$28,4,FALSE),($F$155*B361^4 + $E$155*B361^3 + $D$155*B361^2 + $C$155*B361 + $B$155)*1.015,NA())","v":{"$error":"#N/A"}},{"$error":"#N/A"},{"$f":"IFERROR('NTC Thermistor Comparison'!F237-'NTC Thermistor Comparison'!F236,NA())","v":{"$error":"#N/A"}},{"$f":"IFERROR((M361-K361)/'NTC Thermistor Comparison'!H236,NA())","v":{"$error":"#N/A"}},{"$f":"IF(B582<=VLOOKUP(Main!$N$22,Coefficients!$E$2:$H$28,4,FALSE),($B$29+((B361-$B$223))*($B$29/1000000)*$B$31)+($B$29*$B$30),NA())","v":{"$error":"#N/A"}},{"$f":"IF(B582<=VLOOKUP(Main!$N$22,Coefficients!$E$2:$H$28,4,FALSE),$J$22+(($B$223-B361)*(($B$22*(1-$B$23))/1000000)),NA())","v":{"$error":"#N/A"}},{"$error":"#N/A"},{"$error":"#N/A"},{"$error":"#N/A"}]
[205,164,{"$error":"#N/A"},{"$error":"#N/A"},{"$error":"#N/A"},{"$f":"IF(B583<=VLOOKUP(Main!$N$22,Coefficients!$E$2:$H$28,4,FALSE),$H$22+(($B$223-B362)*(($B$22*(1-$B$23))/1000000)),NA())","v":{"$error":"#N/A"}},{"$f":"IF(B583<=VLOOKUP(Main!$N$22,Coefficients!$E$2:$H$28,4,FALSE),($B$29-((B362-$B$223))*($B$29/1000000)*$B$31)-($B$29*$B$30),NA())","v":{"$error":"#N/A"}},{"$f":"IFERROR((I362-K362)/'NTC Thermistor Comparison'!H237,NA())","v":{"$error":"#N/A"}},{"$error":"#N/A"},{"$f":"IF(B583<=VLOOKUP(Main!$N$22,Coefficients!$E$2:$H$28,4,FALSE),($F$142*B362^4 + $E$142*B362^3 + $D$142*B362^2 + $C$142*B362 + $B$142)*0.985,NA())","v":{"$error":"#N/A"}},{"$f":"'Device Resistance Tables'!D224","v":{"$error":"#N/A"}},{"$f":"IF(B583<=VLOOKUP(Main!$N$22,Coefficients!$E$2:$H$28,4,FALSE),($F$155*B362^4 + $E$155*B362^3 + $D$155*B362^2 + $C$155*B362 + $B$155)*1.015,NA())","v":{"$error":"#N/A"}},{"$error":"#N/A"},{"$f":"IFERROR('NTC Thermistor Comparison'!F238-'NTC Thermistor Comparison'!F237,NA())","v":{"$error":"#N/A"}},{"$f":"IFERROR((M362-K362)/'NTC Thermistor Comparison'!H237,NA())","v":{"$error":"#N/A"}},{"$f":"IF(B583<=VLOOKUP(Main!$N$22,Coefficients!$E$2:$H$28,4,FALSE),($B$29+((B362-$B$223))*($B$29/1000000)*$B$31)+($B$29*$B$30),NA())","v":{"$error":"#N/A"}},{"$f":"IF(B583<=VLOOKUP(Main!$N$22,Coefficients!$E$2:$H$28,4,FALSE),$J$22+(($B$223-B362)*(($B$22*(1-$B$23))/1000000)),NA())","v":{"$error":"#N/A"}},{"$error":"#N/A"},{"$error":"#N/A"},{"$error":"#N/A"}]
[206,165,{"$error":"#N/A"},{"$error":"#N/A"},{"$error":"#N/A"},{"$f":"IF(B584<=VLOOKUP(Main!$N$22,Coefficients!$E$2:$H$28,4,FALSE),$H$22+(($B$223-B363)*(($B$22*(1-$B$23))/1000000)),NA())","v":{"$error":"#N/A"}},{"$f":"IF(B584<=VLOOKUP(Main!$N$22,Coefficients!$E$2:$H$28,4,FALSE),($B$29-((B363-$B$223))*($B$29/1000000)*$B$31)-($B$29*$B$30),NA())","v":{"$error":"#N/A"}},{"$f":"IFERROR((I363-K363)/'NTC Thermistor Comparison'!H238,NA())","v":{"$error":"#N/A"}},{"$error":"#N/A"},{"$f":"IF(B584<=VLOOKUP(Main!$N$22,Coefficients!$E$2:$H$28,4,FALSE),($F$142*B363^4 + $E$142*B363^3 + $D$142*B363^2 + $C$142*B363 + $B$142)*0.985,NA())","v":{"$error":"#N/A"}},{"$f":"'Device Resistance Tables'!D225","v":{"$error":"#N/A"}},{"$f":"IF(B584<=VLOOKUP(Main!$N$22,Coefficients!$E$2:$H$28,4,FALSE),($F$155*B363^4 + $E$155*B363^3 + $D$155*B363^2 + $C$155*B363 + $B$155)*1.015,NA())","v":{"$error":"#N/A"}},{"$error":"#N/A"},{"$f":"IFERROR('NTC Thermistor Comparison'!F239-'NTC Thermistor Comparison'!F238,NA())","v":{"$error":"#N/A"}},{"$f":"IFERROR((M363-K363)/'NTC Thermistor Comparison'!H238,NA())","v":{"$error":"#N/A"}},{"$f":"IF(B584<=VLOOKUP(Main!$N$22,Coefficients!$E$2:$H$28,4,FALSE),($B$29+((B363-$B$223))*($B$29/1000000)*$B$31)+($B$29*$B$30),NA())","v":{"$error":"#N/A"}},{"$f":"IF(B584<=VLOOKUP(Main!$N$22,Coefficients!$E$2:$H$28,4,FALSE),$J$22+(($B$223-B363)*(($B$22*(1-$B$23))/1000000)),NA())","v":{"$error":"#N/A"}},{"$error":"#N/A"},{"$error":"#N/A"},{"$error":"#N/A"}]
[207,166,{"$error":"#N/A"},{"$error":"#N/A"},{"$error":"#N/A"},{"$f":"IF(B585<=VLOOKUP(Main!$N$22,Coefficients!$E$2:$H$28,4,FALSE),$H$22+(($B$223-B364)*(($B$22*(1-$B$23))/1000000)),NA())","v":{"$error":"#N/A"}},{"$f":"IF(B585<=VLOOKUP(Main!$N$22,Coefficients!$E$2:$H$28,4,FALSE),($B$29-((B364-$B$223))*($B$29/1000000)*$B$31)-($B$29*$B$30),NA())","v":{"$error":"#N/A"}},{"$f":"IFERROR((I364-K364)/'NTC Thermistor Comparison'!H239,NA())","v":{"$error":"#N/A"}},{"$error":"#N/A"},{"$f":"IF(B585<=VLOOKUP(Main!$N$22,Coefficients!$E$2:$H$28,4,FALSE),($F$142*B364^4 + $E$142*B364^3 + $D$142*B364^2 + $C$142*B364 + $B$142)*0.985,NA())","v":{"$error":"#N/A"}},{"$f":"'Device Resistance Tables'!D226","v":{"$error":"#N/A"}},{"$f":"IF(B585<=VLOOKUP(Main!$N$22,Coefficients!$E$2:$H$28,4,FALSE),($F$155*B364^4 + $E$155*B364^3 + $D$155*B364^2 + $C$155*B364 + $B$155)*1.015,NA())","v":{"$error":"#N/A"}},{"$error":"#N/A"},{"$f":"IFERROR('NTC Thermistor Comparison'!F240-'NTC Thermistor Comparison'!F239,NA())","v":{"$error":"#N/A"}},{"$f":"IFERROR((M364-K364)/'NTC Thermistor Comparison'!H239,NA())","v":{"$error":"#N/A"}},{"$f":"IF(B585<=VLOOKUP(Main!$N$22,Coefficients!$E$2:$H$28,4,FALSE),($B$29+((B364-$B$223))*($B$29/1000000)*$B$31)+($B$29*$B$30),NA())","v":{"$error":"#N/A"}},{"$f":"IF(B585<=VLOOKUP(Main!$N$22,Coefficients!$E$2:$H$28,4,FALSE),$J$22+(($B$223-B364)*(($B$22*(1-$B$23))/1000000)),NA())","v":{"$error":"#N/A"}},{"$error":"#N/A"},{"$error":"#N/A"},{"$error":"#N/A"}]
[208,167,{"$error":"#N/A"},{"$error":"#N/A"},{"$error":"#N/A"},{"$f":"IF(B586<=VLOOKUP(Main!$N$22,Coefficients!$E$2:$H$28,4,FALSE),$H$22+(($B$223-B365)*(($B$22*(1-$B$23))/1000000)),NA())","v":{"$error":"#N/A"}},{"$f":"IF(B586<=VLOOKUP(Main!$N$22,Coefficients!$E$2:$H$28,4,FALSE),($B$29-((B365-$B$223))*($B$29/1000000)*$B$31)-($B$29*$B$30),NA())","v":{"$error":"#N/A"}},{"$f":"IFERROR((I365-K365)/'NTC Thermistor Comparison'!H240,NA())","v":{"$error":"#N/A"}},{"$error":"#N/A"},{"$f":"IF(B586<=VLOOKUP(Main!$N$22,Coefficients!$E$2:$H$28,4,FALSE),($F$142*B365^4 + $E$142*B365^3 + $D$142*B365^2 + $C$142*B365 + $B$142)*0.985,NA())","v":{"$error":"#N/A"}},{"$f":"'Device Resistance Tables'!D227","v":{"$error":"#N/A"}},{"$f":"IF(B586<=VLOOKUP(Main!$N$22,Coefficients!$E$2:$H$28,4,FALSE),($F$155*B365^4 + $E$155*B365^3 + $D$155*B365^2 + $C$155*B365 + $B$155)*1.015,NA())","v":{"$error":"#N/A"}},{"$error":"#N/A"},{"$f":"IFERROR('NTC Thermistor Comparison'!F241-'NTC Thermistor Comparison'!F240,NA())","v":{"$error":"#N/A"}},{"$f":"IFERROR((M365-K365)/'NTC Thermistor Comparison'!H240,NA())","v":{"$error":"#N/A"}},{"$f":"IF(B586<=VLOOKUP(Main!$N$22,Coefficients!$E$2:$H$28,4,FALSE),($B$29+((B365-$B$223))*($B$29/1000000)*$B$31)+($B$29*$B$30),NA())","v":{"$error":"#N/A"}},{"$f":"IF(B586<=VLOOKUP(Main!$N$22,Coefficients!$E$2:$H$28,4,FALSE),$J$22+(($B$223-B365)*(($B$22*(1-$B$23))/1000000)),NA())","v":{"$error":"#N/A"}},{"$error":"#N/A"},{"$error":"#N/A"},{"$error":"#N/A"}]
[209,168,{"$error":"#N/A"},{"$error":"#N/A"},{"$error":"#N/A"},{"$f":"IF(B587<=VLOOKUP(Main!$N$22,Coefficients!$E$2:$H$28,4,FALSE),$H$22+(($B$223-B366)*(($B$22*(1-$B$23))/1000000)),NA())","v":{"$error":"#N/A"}},{"$f":"IF(B587<=VLOOKUP(Main!$N$22,Coefficients!$E$2:$H$28,4,FALSE),($B$29-((B366-$B$223))*($B$29/1000000)*$B$31)-($B$29*$B$30),NA())","v":{"$error":"#N/A"}},{"$f":"IFERROR((I366-K366)/'NTC Thermistor Comparison'!H241,NA())","v":{"$error":"#N/A"}},{"$error":"#N/A"},{"$f":"IF(B587<=VLOOKUP(Main!$N$22,Coefficients!$E$2:$H$28,4,FALSE),($F$142*B366^4 + $E$142*B366^3 + $D$142*B366^2 + $C$142*B366 + $B$142)*0.985,NA())","v":{"$error":"#N/A"}},{"$f":"'Device Resistance Tables'!D228","v":{"$error":"#N/A"}},{"$f":"IF(B587<=VLOOKUP(Main!$N$22,Coefficients!$E$2:$H$28,4,FALSE),($F$155*B366^4 + $E$155*B366^3 + $D$155*B366^2 + $C$155*B366 + $B$155)*1.015,NA())","v":{"$error":"#N/A"}},{"$error":"#N/A"},{"$f":"IFERROR('NTC Thermistor Comparison'!F242-'NTC Thermistor Comparison'!F241,NA())","v":{"$error":"#N/A"}},{"$f":"IFERROR((M366-K366)/'NTC Thermistor Comparison'!H241,NA())","v":{"$error":"#N/A"}},{"$f":"IF(B587<=VLOOKUP(Main!$N$22,Coefficients!$E$2:$H$28,4,FALSE),($B$29+((B366-$B$223))*($B$29/1000000)*$B$31)+($B$29*$B$30),NA())","v":{"$error":"#N/A"}},{"$f":"IF(B587<=VLOOKUP(Main!$N$22,Coefficients!$E$2:$H$28,4,FALSE),$J$22+(($B$223-B366)*(($B$22*(1-$B$23))/1000000)),NA())","v":{"$error":"#N/A"}},{"$error":"#N/A"},{"$error":"#N/A"},{"$error":"#N/A"}]
[210,169,{"$error":"#N/A"},{"$error":"#N/A"},{"$error":"#N/A"},{"$f":"IF(B588<=VLOOKUP(Main!$N$22,Coefficients!$E$2:$H$28,4,FALSE),$H$22+(($B$223-B367)*(($B$22*(1-$B$23))/1000000)),NA())","v":{"$error":"#N/A"}},{"$f":"IF(B588<=VLOOKUP(Main!$N$22,Coefficients!$E$2:$H$28,4,FALSE),($B$29-((B367-$B$223))*($B$29/1000000)*$B$31)-($B$29*$B$30),NA())","v":{"$error":"#N/A"}},{"$f":"IFERROR((I367-K367)/'NTC Thermistor Comparison'!H242,NA())","v":{"$error":"#N/A"}},{"$error":"#N/A"},{"$f":"IF(B588<=VLOOKUP(Main!$N$22,Coefficients!$E$2:$H$28,4,FALSE),($F$142*B367^4 + $E$142*B367^3 + $D$142*B367^2 + $C$142*B367 + $B$142)*0.985,NA())","v":{"$error":"#N/A"}},{"$f":"'Device Resistance Tables'!D229","v":{"$error":"#N/A"}},{"$f":"IF(B588<=VLOOKUP(Main!$N$22,Coefficients!$E$2:$H$28,4,FALSE),($F$155*B367^4 + $E$155*B367^3 + $D$155*B367^2 + $C$155*B367 + $B$155)*1.015,NA())","v":{"$error":"#N/A"}},{"$error":"#N/A"},{"$f":"IFERROR('NTC Thermistor Comparison'!F243-'NTC Thermistor Comparison'!F242,NA())","v":{"$error":"#N/A"}},{"$f":"IFERROR((M367-K367)/'NTC Thermistor Comparison'!H242,NA())","v":{"$error":"#N/A"}},{"$f":"IF(B588<=VLOOKUP(Main!$N$22,Coefficients!$E$2:$H$28,4,FALSE),($B$29+((B367-$B$223))*($B$29/1000000)*$B$31)+($B$29*$B$30),NA())","v":{"$error":"#N/A"}},{"$f":"IF(B588<=VLOOKUP(Main!$N$22,Coefficients!$E$2:$H$28,4,FALSE),$J$22+(($B$223-B367)*(($B$22*(1-$B$23))/1000000)),NA())","v":{"$error":"#N/A"}},{"$error":"#N/A"},{"$error":"#N/A"},{"$error":"#N/A"}]
[211,170,{"$error":"#N/A"},{"$error":"#N/A"},{"$error":"#N/A"},{"$f":"IF(B589<=VLOOKUP(Main!$N$22,Coefficients!$E$2:$H$28,4,FALSE),$H$22+(($B$223-B368)*(($B$22*(1-$B$23))/1000000)),NA())","v":{"$error":"#N/A"}},{"$f":"IF(B589<=VLOOKUP(Main!$N$22,Coefficients!$E$2:$H$28,4,FALSE),($B$29-((B368-$B$223))*($B$29/1000000)*$B$31)-($B$29*$B$30),NA())","v":{"$error":"#N/A"}},{"$f":"IFERROR((I368-K368)/'NTC Thermistor Comparison'!H243,NA())","v":{"$error":"#N/A"}},{"$error":"#N/A"},{"$f":"IF(B589<=VLOOKUP(Main!$N$22,Coefficients!$E$2:$H$28,4,FALSE),($F$142*B368^4 + $E$142*B368^3 + $D$142*B368^2 + $C$142*B368 + $B$142)*0.985,NA())","v":{"$error":"#N/A"}},{"$f":"'Device Resistance Tables'!D230","v":{"$error":"#N/A"}},{"$f":"IF(B589<=VLOOKUP(Main!$N$22,Coefficients!$E$2:$H$28,4,FALSE),($F$155*B368^4 + $E$155*B368^3 + $D$155*B368^2 + $C$155*B368 + $B$155)*1.015,NA())","v":{"$error":"#N/A"}},{"$error":"#N/A"},{"$f":"IFERROR('NTC Thermistor Comparison'!F244-'NTC Thermistor Comparison'!F243,NA())","v":{"$error":"#N/A"}},{"$f":"IFERROR((M368-K368)/'NTC Thermistor Comparison'!H243,NA())","v":{"$error":"#N/A"}},{"$f":"IF(B589<=VLOOKUP(Main!$N$22,Coefficients!$E$2:$H$28,4,FALSE),($B$29+((B368-$B$223))*($B$29/1000000)*$B$31)+($B$29*$B$30),NA())","v":{"$error":"#N/A"}},{"$f":"IF(B589<=VLOOKUP(Main!$N$22,Coefficients!$E$2:$H$28,4,FALSE),$J$22+(($B$223-B368)*(($B$22*(1-$B$23))/1000000)),NA())","v":{"$error":"#N/A"}},{"$error":"#N/A"},{"$error":"#N/A"},{"$error":"#N/A"}]
[]
[]
[]
[]
[]
[]
[]
[]
["With OFFSET CORRRECTION",null,null,null,null,"System",null,null,"TMP6 Only","TMP6 Only",null,"TMP6 Only","TMP6 Only","TMP6 Only","TMP6 Only",null,null,null,null,null,"System","System"]
["Line #","Temperature (°C)","WC temp Error Min with Offset w/drift","WC temp Error Min with Offset","Offset Delta from Nominal sense Min w/drift","Offset Delta from Nominal sense Min","Offset calculated sense Min w/drift","Offset calculated sense Min","Min Vdc ppm","RBias Ohms ppm","TMP6 ℃ Error Min w/ drift and offset","VBias Min Resistance (Ω) w/drift","Expected  Resistance (Ω)","VBias Max Resistance w/drift (Ω)","Expected mV/℃","TMP6 ℃ Error Max w/ drift and offset","RBias Ohms ppm","Max Vdc ppm","Offset calculated sense Max","Offset calculated sense Max w/drift","Offset Delta from Nominal sense Max","Offset Delta from Nominal sense Max w/ drift","WC temp Error Max With Offset","WC temp Error Max With Offset w/drift"]
[1,-40,null,null,null,"`",{"$f":"IFERROR(I379/(L379+Q379)*L379,NA())","v":1.2960265836393903},{"$f":"IFERROR(I379/(M379+Q379)*M379,NA())","v":1.303941964968713},{"$f":"IFERROR($B$22+(($B$223-B158)*(($B$22*(1-$B$23))/1000000)),NA())","v":3.2980695},{"$f":"IFERROR(($B$29-(($B$444-B379))*($B$29/1000000)*$B$31),NA())","v":9993.5},null,{"$f":"M379*0.99","v":6477.7282760564094},{"$f":"IFERROR('Device Resistance Tables'!D20,NA())","v":6543.1598748044544},{"$f":"M379*1.01","v":6608.5914735524993},{"$f":"IFERROR(N158,NA())","v":5.1762689377674587E-3},null,{"$f":"IFERROR(($B$29+(($B$444-B379))*($B$29/1000000)*$B$31),NA())","v":10006.5},{"$f":"IFERROR($B$22-(($B$444-B379)*(($B$22*(1-$B$23))/1000000)),NA())","v":3.3019304999999997},{"$f":"IFERROR((R379/(M379+J379))*M379,NA())","v":1.3064947408098326},{"$f":"IFERROR((R379/(N379+J379))*N379,NA())","v":1.3143590844156261}]
[2,{"$f":"B379+1","v":-39},{"$f":"IFERROR(E380/O380,NA())","v":-1.7719162684924306},{"$f":"IFERROR(F380/O380,NA())","v":-0.24302420025426444},{"$f":"IFERROR(G380-($B$22/(M380+$B$29)*M380),NA())","v":-9.1863135149963249E-3},{"$f":"IFERROR(H380-($B$22/(M380+$B$29)*M380),NA())","v":-1.2599334037191046E-3},1.3012078068043789,1.3091341869156561,3.2980991999999998,9993.6,{"$f":"IFERROR((L380-M380)/'NTC Thermistor Comparison'!H35,NA())","v":-1.5199309155194187},{"$f":"M380*0.99","v":6520.3374817349504},{"$f":"IFERROR('Device Resistance Tables'!D21,NA())","v":6586.1994764999499},{"$f":"M380*1.01","v":6652.0614712649494},5.1843948150056551E-3,{"$f":"IFERROR((N380-M380)/'NTC Thermistor Comparison'!H34,NA())","v":1.5302649692479033},10006.4,3.3019007999999999,1.3116550264216842,1.3195298445505257,{"$f":"IFERROR(S380-($B$22/(M380+$B$29)*M380),NA())","v":1.2609061023090007E-3},{"$f":"IFERROR(T380-($B$22/(M380+$B$29)*M380),NA())","v":9.1357242311504994E-3},{"$f":"IFERROR(U380/O380,NA())","v":0.24321182072388622},{"$f":"IFERROR(V380/O380,NA())","v":1.7621582763542931}]
[3,{"$f":"B380+1","v":-38},-1.7682477310841567,-0.23956342785532919,-9.1810937975309592E-3,-1.2438609494209718E-3,1.3063974213368499,1.3143346541849599,3.2981289,9993.7000000000007,{"$f":"IFERROR((L381-M381)/'NTC Thermistor Comparison'!H36,NA())","v":-1.5196641773940804},6563.2363886205094,{"$f":"IFERROR('Device Resistance Tables'!D22,NA())","v":6629.5317056772819},6695.8270227340545,5.1921988283292198E-3,{"$f":"IFERROR((N381-M381)/'NTC Thermistor Comparison'!H35,NA())","v":1.5299309155194121},10006.299999999999,3.3018710999999996,1.3168233188997507,1.3247084657850769,1.2448037653698396E-3,9.1299506506961059E-3,0.23974501103040402,1.7583977333229364]
[4,-37,-1.7646470403702534,-0.23610453710209983,-9.1756071034720943E-3,-1.2276690002219759E-3,1.311595106859238,1.3195430449624881,3.2981585999999998,9993.7999999999993,{"$f":"IFERROR((L382-M382)/'NTC Thermistor Comparison'!H37,NA())","v":-1.5194632294470707},6606.4251173294733,{"$f":"IFERROR('Device Resistance Tables'!D23,NA())","v":6673.1566841711856},6739.8882510128979,5.1996840691421742E-3,{"$f":"IFERROR((N382-M382)/'NTC Thermistor Comparison'!H36,NA())","v":1.529664177394096},10006.200000000001,3.3018413999999998,1.3219992963327747,1.3298946248279084,1.2285823700646237E-3,9.1239108651983702E-3,0.23628019582107243,1.7547048520399051]
[5,-36,-1.761111922416764,-0.23264674083853612,-9.1698520137444284E-3,-1.2113575280563449E-3,1.3168005460181078,1.3247590405037959,3.2981882999999996,9993.9,{"$f":"IFERROR((L383-M383)/'NTC Thermistor Comparison'!H38,NA())","v":-1.5193265870202932},6649.9037944655674,{"$f":"IFERROR('Device Resistance Tables'!D24,NA())","v":6717.0745398642093},6784.2452852628512,5.2068536343565786E-3,{"$f":"IFERROR((N383-M383)/'NTC Thermistor Comparison'!H37,NA())","v":1.5294632294470565},10006.1,3.3018117,1.3271826399225657,1.3350880015460418,1.2122418907134502E-3,9.1176035141895539E-3,0.23281658672229019,1.7510773596608376]
[6,-35,-1.7576401595848135,-0.22918926883823887,-9.1638271758436307E-3,-1.1949265261939068E-3,1.3220134244903652,1.3299823251400149,3.2982179999999999,9994,{"$f":"IFERROR((L384-M384)/'NTC Thermistor Comparison'!H39,NA())","v":-1.5192528048361646},6693.6725526198452,{"$f":"IFERROR('Device Resistance Tables'!D25,NA())","v":6761.2854066867121},6828.8982607535791,5.2137106255061294E-3,{"$f":"IFERROR((N384-M384)/'NTC Thermistor Comparison'!H38,NA())","v":1.5293265870202937},10006,3.3017819999999998,1.3323730339891238,1.3402882789696819,1.1957823229149511E-3,9.1110273034731293E-3,0.22935341234034612,1.7475130397342797]
[7,-34,-1.7542295885978048,-0.22573136719944747,-9.1575313031251326E-3,-1.1783760088543982E-3,1.3272334309885898,1.3352125862828605,3.2982476999999997,9994.1,{"$f":"IFERROR((L385-M385)/'NTC Thermistor Comparison'!H40,NA())","v":-1.5192404756679798},6737.7315303706982,{"$f":"IFERROR('Device Resistance Tables'!D26,NA())","v":6805.7894246168671},6873.847318863036,5.2202581478772991E-3,{"$f":"IFERROR((N385-M385)/'NTC Thermistor Comparison'!H39,NA())","v":1.5292528048361735},10005.9,3.3017523,1.3375701659748802,1.3454951432961104,1.1792036831652641E-3,9.104181004395473E-3,0.2258899176556548,1.7440097302654436]
[8,-33,-1.7508780986866883,-0.22227229776551596,-9.150963174079374E-3,-1.1617060108273236E-3,1.3324602572655129,1.3404495144287649,3.2982773999999999,9994.2000000000007,{"$f":"IFERROR((L386-M386)/'NTC Thermistor Comparison'!H41,NA())","v":-1.5192882290645207},6782.0808722838556,{"$f":"IFERROR('Device Resistance Tables'!D27,NA())","v":6850.5867396806625},6919.0926070774694,5.2264993096569068E-3,{"$f":"IFERROR((N386-M386)/'NTC Thermistor Comparison'!H40,NA())","v":1.5292404756679823},10005.799999999999,3.3017225999999997,1.3427737264480653,1.350708283892694,1.1625060084730077E-3,9.0970634531017947E-3,0.22242536344070049,1.7405653218576567]
[9,-32,-1.747583629810787,-0.21881133756902896,-9.1441216316021645E-3,-1.1449165870942579E-3,1.337693598117647,1.3456928031621549,3.2983070999999997,9994.2999999999993,{"$f":"IFERROR((L387-M387)/'NTC Thermistor Comparison'!H42,NA())","v":-1.5193947301253772},6826.7207289123762,{"$f":"IFERROR('Device Resistance Tables'!D28,NA())","v":6895.6775039518952},6964.6342789914142,5.2324372210972303E-3,{"$f":"IFERROR((N387-M387)/'NTC Thermistor Comparison'!H41,NA())","v":1.5292882290645151},10005.700000000001,3.3016928999999999,1.3479834091052285,1.3559273932990403,1.1456893559793624E-3,9.0896735497911774E-3,0.21895902570219733,1.7371777559301693]
[10,-31,-1.7443441709468896,-0.21534777829625007,-9.1370055822490581E-3,-1.1280078124431547E-3,1.3429331513880973,1.3509421491579032,3.2983368,9994.4,{"$f":"IFERROR((L388-M388)/'NTC Thermistor Comparison'!H43,NA())","v":-1.5195586783259127},6871.6512567966547,{"$f":"IFERROR('Device Resistance Tables'!D29,NA())","v":6941.0618755521764},7010.4724943076981,5.2380749937033233E-3,{"$f":"IFERROR((N388-M388)/'NTC Thermistor Comparison'!H42,NA())","v":1.5293947301253739},10005.6,3.3016631999999997,1.3531989107729248,1.3611521672283062,1.128753802578375E-3,9.0820102579598494E-3,0.21549019514521023,1.7338450230050755]
[11,-30,-1.7411577584505094,-0.21188092577560963,-9.1296139954921696E-3,-1.1109797810970878E-3,1.3481786179685575,1.3561972521829526,3.2983664999999998,9994.5,{"$f":"IFERROR((L389-M389)/'NTC Thermistor Comparison'!H44,NA())","v":-1.5197788063883813},6916.8726184644192,{"$f":"IFERROR('Device Resistance Tables'!D30,NA())","v":6986.7400186509285},7056.6074188374378,5.243415739431212E-3,{"$f":"IFERROR((N389-M389)/'NTC Thermistor Comparison'!H43,NA())","v":1.5295586783259141},10005.5,3.3016334999999999,1.3584199314085859,1.3663823045676831,1.1116994445361517E-3,9.0740726036333541E-3,0.21201817665839806,1.730565161063822]
[12,-29,-1.7380224744797448,-0.20841009948436345,-9.1219459029590055E-3,-1.0938326063336667E-3,1.3534297018005219,1.3614578150971473,3.2983962,9994.6,{"$f":"IFERROR((L390-M390)/'NTC Thermistor Comparison'!H45,NA())","v":-1.5200538791984217},6962.3849824307372,{"$f":"IFERROR('Device Resistance Tables'!D31,NA())","v":7032.712103465391},7103.0392245000448,5.2484625699040777E-3,{"$f":"IFERROR((N390-M390)/'NTC Thermistor Comparison'!H44,NA())","v":1.5297788063883802},10005.4,3.3016037999999996,1.3636461741005943,1.3716175073780774,1.0945263971133823E-3,9.0658596745964992E-3,0.20854228881990219,1.727336253969358]
[13,-28,-1.7349364454789873,-0.20493463207501189,-9.1140003976684092E-3,-1.0765664201100034E-3,1.3586861098757166,1.366723543853275,3.2984258999999998,9994.7000000000007,{"$f":"IFERROR((L391-M391)/'NTC Thermistor Comparison'!H46,NA())","v":-1.5203826927629041},7008.1885231980041,{"$f":"IFERROR('Device Resistance Tables'!D32,NA())","v":7078.9783062606102},7149.7680893232164,5.2532185956541966E-3,{"$f":"IFERROR((N391-M391)/'NTC Thermistor Comparison'!H45,NA())","v":1.5300538791984244},10005.299999999999,3.3015740999999998,1.3688773450675762,1.3768574808930014,1.0772347941911953E-3,9.0573706196164228E-3,0.20506186342261748,1.7241564299473979]
[14,-27,-1.7318978407264454,-0.20145386892078085,-9.105776633263174E-3,-1.0591813726898991E-3,1.363947552235776,1.3719941474963493,3.2984556,9994.7999999999993,{"$f":"IFERROR((L392-M392)/'NTC Thermistor Comparison'!H47,NA())","v":-1.5207640732096668},7054.2834212559555,{"$f":"IFERROR('Device Resistance Tables'!D33,NA())","v":7125.5388093494503},7196.794197442945,5.2576869253695424E-3,{"$f":"IFERROR((N392-M392)/'NTC Thermistor Comparison'!H46,NA())","v":1.5303826927629081},10005.200000000001,3.3015443999999996,1.3741131536569322,1.3821019335166926,1.0598247878930156E-3,9.0486046476534465E-3,0.20157624501738938,1.7210238601297956]
[15,-26,-1.7289048709333874,-0.19796716767784914,-9.0972738232295569E-3,-1.0416776322703658E-3,1.3692137419711792,1.3772693381621384,3.2984852999999998,9994.9,{"$f":"IFERROR((L393-M393)/'NTC Thermistor Comparison'!H48,NA())","v":-1.5211968758250001},7100.6698630816591,{"$f":"IFERROR('Device Resistance Tables'!D34,NA())","v":7172.3938010925849},7244.1177391035108,5.2618706651674785E-3,{"$f":"IFERROR((N393-M393)/'NTC Thermistor Comparison'!H47,NA())","v":1.5307640732096619},10005.1,3.3015146999999998,1.3793533123426232,1.3873505768214813,1.0422965482144164E-3,9.0395610270725957E-3,0.19808479047465175,1.7179367571522928]
[16,-25,-1.7259557869002355,-0.19447389786534172,-9.0884912401179019E-3,-1.02405538461392E-3,1.3744843952194583,1.3825488310749623,3.2985149999999996,9995,{"$f":"IFERROR((L394-M394)/'NTC Thermistor Comparison'!H49,NA())","v":-1.5216799841288922},7147.3480411395167,{"$f":"IFERROR('Device Resistance Tables'!D35,NA())","v":7219.543475898502},7291.7389106574874,5.2657729178802182E-3,{"$f":"IFERROR((N394-M394)/'NTC Thermistor Comparison'!H48,NA())","v":1.5311968758250072},10005,3.301485,1.3845975367222279,1.3926031255444242,1.0246502626516385E-3,9.030239084848013E-3,0.19458686856252058,1.714893373807546]
[17,-24,-1.7230488782222113,-0.19097344045989337,-9.0794282147528271E-3,-1.0063148326755478E-3,1.3797592311627036,1.3878323445447809,3.2985446999999999,9995.1,{"$f":"IFERROR((L395-M395)/'NTC Thermistor Comparison'!H50,NA())","v":-1.522212308985049},7194.3181538812651,{"$f":"IFERROR('Device Resistance Tables'!D36,NA())","v":7266.9880342235001},7339.6579145657352,5.2693967823598253E-3,{"$f":"IFERROR((N395-M395)/'NTC Thermistor Comparison'!H49,NA())","v":1.531679984128886},10004.9,3.3014552999999998,1.3898455455132874,1.3978592975832183,1.0068861358309977E-3,9.0206382057618217E-3,0.19108185954068121,1.7118920017486434]
[18,-23,-1.7201824720456156,-0.18746518750775748,-9.0700841354436346E-3,-9.8845619624299275E-4,1.3850379720243726,1.3931195999635733,3.2985743999999997,9995.2000000000007,{"$f":"IFERROR((L396-M396)/'NTC Thermistor Comparison'!H51,NA())","v":-1.5227927877452649},7241.5804057459745,{"$f":"IFERROR('Device Resistance Tables'!D37,NA())","v":7314.7276825716917},7387.8749593974089,5.2727453527983137E-3,{"$f":"IFERROR((N396-M396)/'NTC Thermistor Comparison'!H50,NA())","v":1.5322123089850539},10004.799999999999,3.3014256,1.395097060548961,1.4031188139914155,9.8900438914473199E-4,9.0107578315992143E-3,0.18756915477055131,1.7089309702424922]
[19,-22,-1.7173549318702175,-0.18394854174929998,-9.0604584471862815E-3,-9.7047971156727364E-4,1.3903203430654283,1.3984103218010473,3.2986040999999999,9995.2999999999993,{"$f":"IFERROR((L397-M397)/'NTC Thermistor Comparison'!H52,NA())","v":-1.5234203834259936},7289.1350071600536,{"$f":"IFERROR('Device Resistance Tables'!D38,NA())","v":7362.7626334950037},7436.3902598299537,5.2758217180646216E-3,{"$f":"IFERROR((N397-M397)/'NTC Thermistor Comparison'!H51,NA())","v":1.5327927877452592},10004.700000000001,3.3013958999999997,1.4003518067729988,1.408381398972955,9.7100526038418344E-4,9.0005974603404315E-3,0.18404815633921501,1.706008644970324]
[20,-21,-1.7145646563960759,-0.18042291625877382,-9.0505506508649081E-3,-9.5238563100275009E-4,1.3956060725798143,1.4037042375996764,3.2986337999999997,9995.4,{"$f":"IFERROR((L398-M398)/'NTC Thermistor Comparison'!H53,NA())","v":-1.5240940839154389},7336.9821745372401,{"$f":"IFERROR('Device Resistance Tables'!D39,NA())","v":7411.0931055931715},7485.2040366491028,5.2786289610615711E-3,{"$f":"IFERROR((N398-M398)/'NTC Thermistor Comparison'!H52,NA())","v":1.5334203834259863},10004.6,3.3013661999999999,1.4056095122340591,1.4136467798760284,9.5288900337986426E-4,8.9901566453491899E-3,0.18051827669816581,1.7031234268720421]
[21,-20,-1.711810078415454,-0.17688773409789377,-9.0403603024487023E-3,-9.3417422265029693E-4,1.4008948918892921,1.4090010779690905,3.2986635,9995.5,{"$f":"IFERROR((L399-M399)/'NTC Thermistor Comparison'!H54,NA())","v":-1.5248129012108274},7385.1221302786089,{"$f":"IFERROR('Device Resistance Tables'!D40,NA())","v":7459.7193235137465},7534.3165167488842,5.2811701580919301E-3,{"$f":"IFERROR((N399-M399)/'NTC Thermistor Comparison'!H53,NA())","v":1.5340940839154498},10004.5,3.3013364999999997,1.410869908079379,1.4189146871862983,9.3465588763819163E-4,8.9794349945575558E-3,0.17697893831466316,1.7002737510358494]
[22,-19,-1.7090896637430635,-0.17334242798077865,-9.0298870121867658E-3,-9.158457699969258E-4,1.4061865353376459,1.4143005765798358,3.2986931999999998,9995.6,{"$f":"IFERROR((L400-M400)/'NTC Thermistor Comparison'!H55,NA())","v":-1.525575870683856},7433.5551027725733,{"$f":"IFERROR('Device Resistance Tables'!D41,NA())","v":7508.6415179520945},7583.7279331316158,5.2834483782497887E-3,{"$f":"IFERROR((N400-M400)/'NTC Thermistor Comparison'!H54,NA())","v":1.5348129012108307},10004.4,3.3013067999999999,1.416132728547822,1.424184854519484,9.16306197989325E-4,8.9684321696512637E-3,0.17342957333726489,1.6974580856266781]
[23,-18,-1.7064019101880716,-0.16978643995258438,-9.0191304438000941E-3,-8.974005715640665E-4,1.4114807402842824,1.4196024701565184,3.2987229,9995.7000000000007,{"$f":"IFERROR((L401-M401)/'NTC Thermistor Comparison'!H56,NA())","v":-1.5263820503724577},7482.2813263948728,{"$f":"IFERROR('Device Resistance Tables'!D42,NA())","v":7557.8599256513871},7633.4385249079014,5.2854666828203722E-3,{"$f":"IFERROR((N401-M401)/'NTC Thermistor Comparison'!H55,NA())","v":1.5355758706838574},10004.299999999999,3.3012770999999996,1.4213977109623102,1.4294570186133291,8.9784023422767589E-4,8.9571478852465969E-3,0.16986962327205141,1.6946749308552982]
[24,-17,-1.7037453465623378,-0.16621922107913323,-9.0080903136720014E-3,-8.7883894055540424E-4,1.4167772470972309,1.4249064984703474,3.2987525999999998,9995.7999999999993,{"$f":"IFERROR((L402-M402)/'NTC Thermistor Comparison'!H57,NA())","v":-1.5272305202999772},7531.3010415085901,{"$f":"IFERROR('Device Resistance Tables'!D43,NA())","v":7607.3747894026164},7683.4485372966428,5.2872281247005048E-3,{"$f":"IFERROR((N402-M402)/'NTC Thermistor Comparison'!H56,NA())","v":1.5363820503724539},10004.200000000001,3.3012473999999998,1.4266645957216675,1.4347309193189801,8.7925831076463012E-4,8.9455819080772603E-3,0.16629853867227182,1.6919228179858388]
[25,-16,-1.701118531724354,-0.1626402311478076,-8.9967663900356598E-3,-8.6016120450760347E-4,1.4220757991455677,1.4302124043310958,3.2987822999999996,9995.9,{"$f":"IFERROR((L403-M403)/'NTC Thermistor Comparison'!H58,NA())","v":-1.5281203818176581},7580.6144944641355,{"$f":"IFERROR('Device Resistance Tables'!D44,NA())","v":7657.1863580445815},7733.7582216250275,5.2887357478352826E-3,{"$f":"IFERROR((N403-M403)/'NTC Thermistor Comparison'!H57,NA())","v":1.5372305202999768},10004.1,3.3012177,1.43193312629188,1.4400062995917702,8.6056075627660711E-4,8.9337340561668199E-3,0.1627157788378519,1.6892003083768103]
[26,-15,-1.698520053660709,-0.1590489383799229,-8.9851584921654126E-3,-8.4136770494658286E-4,1.4273761427912732,1.4355199335784921,3.2988119999999999,9996,{"$f":"IFERROR((L404-M404)/'NTC Thermistor Comparison'!H59,NA())","v":-1.5290507569720102},7630.2219375992581,{"$f":"IFERROR('Device Resistance Tables'!D45,NA())","v":7707.2948864638975},7784.3678353285368,5.2899925866640718E-3,{"$f":"IFERROR((N404-M404)/'NTC Thermistor Comparison'!H58,NA())","v":1.5381203818176612},10004,3.3011879999999998,1.4372030491967971,1.4452829054814496,8.4174791335844823E-4,8.9216041980109129E-3,0.1591208115263662,1.6865059925607524]
[27,-14,-1.6959485285956393,-0.15544481915225145,-8.9732664895605385E-3,-8.2245879704245795E-4,1.4326780273805422,1.4408288350730603,3.2988416999999997,9996.1,{"$f":"IFERROR((L405-M405)/'NTC Thermistor Comparison'!H60,NA())","v":-1.5300207878944028},7680.1236292390404,{"$f":"IFERROR('Device Resistance Tables'!D46,NA())","v":7757.7006355949907},7835.277641950941,5.2910016655935976E-3,{"$f":"IFERROR((N405-M405)/'NTC Thermistor Comparison'!H59,NA())","v":1.5390507569720107},10003.9,3.3011583,1.4424741140082888,1.4505604861218575,8.2282013818613109E-4,8.9091922517547939E-3,0.15551311267520057,1.6838384893525207]
[28,-13,-1.693402600137851,-0.1518273577296527,-8.9610903011356768E-3,-8.034348492718113E-4,1.4379812052345606,1.4461388606864245,3.2988713999999999,9996.2000000000007,{"$f":"IFERROR((L406-M406)/'NTC Thermistor Comparison'!H61,NA())","v":-1.5310296362127425},7730.3198336958985,{"$f":"IFERROR('Device Resistance Tables'!D47,NA())","v":7808.4038724201},7886.4879111443015,5.2917659984732524E-3,{"$f":"IFERROR((N406-M406)/'NTC Thermistor Comparison'!H60,NA())","v":1.5400207878944048},10003.799999999999,3.3011285999999997,1.4477460733358656,1.455838793720065,8.037778001692697E-4,8.8964981843686619E-3,0.15189216613152787,1.6811964449931127]
[29,-12,-1.690880938453537,-0.14819604600658975,-8.9486298944054798E-3,-7.8429624308151702E-4,1.4432854316397641,1.451449765291088,3.2989010999999997,9996.2999999999993,{"$f":"IFERROR((L407-M407)/'NTC Thermistor Comparison'!H62,NA())","v":-1.532076482483796},7780.8108212695834,{"$f":"IFERROR('Device Resistance Tables'!D48,NA())","v":7859.4048699692758},7937.9989186689681,5.292288588095273E-3,{"$f":"IFERROR((N407-M407)/'NTC Thermistor Comparison'!H61,NA())","v":1.5410296362127256},10003.700000000001,3.3010988999999999,1.4530186828157887,1.4611175835450005,7.8462128161915778E-4,8.8835220108309798E-3,0.1482574633938373,1.6785785323222924]
[30,-11,-1.688382239469665,-0.14455038325674122,-8.9358852846719294E-3,-7.6504337255012267E-4,1.4485904648375929,1.4567613067497147,3.2989307999999999,9996.4,{"$f":"IFERROR((L408-M408)/'NTC Thermistor Comparison'!H63,NA())","v":-1.5331605256462901},7831.5968682471812,{"$f":"IFERROR('Device Resistance Tables'!D49,NA())","v":7910.703907320385},7989.8109463935889,5.2925724257077977E-3,{"$f":"IFERROR((N408-M408)/'NTC Thermistor Comparison'!H62,NA())","v":1.5420764824838031},10003.6,3.3010691999999997,1.4582917010996801,1.4663966139155704,7.6535097741525782E-4,8.8702637933055772E-3,0.14460850336174744,1.6759834499797743]
[31,-10,-1.6859052241071135,-0.1408898758939203,-8.9228565342160948E-3,-7.4567664406566259E-4,1.4538960660137565,1.462073245903907,3.2989604999999997,9996.5,{"$f":"IFERROR((L409-M409)/'NTC Thermistor Comparison'!H64,NA())","v":-1.5342809824923276},7882.6782569031138,{"$f":"IFERROR('Device Resistance Tables'!D50,NA())","v":7962.3012695991047},8041.9242822950955,5.2926204905390239E-3,{"$f":"IFERROR((N409-M409)/'NTC Thermistor Comparison'!H63,NA())","v":1.5431605256462861},10003.5,3.3010394999999999,1.4635648898426463,1.4716756461882947,7.4596729467368839E-4,8.8567236403220839E-3,0.14094479209441971,1.6734099216360165]
[32,-9,-1.6834486375381725,-0.13721403723853581,-8.9095437514858933E-3,-7.2619647599259096E-4,1.4592019992870258,1.4673853465625191,3.2989902,9996.6,{"$f":"IFERROR((L410-M410)/'NTC Thermistor Comparison'!H65,NA())","v":-1.5354370871580827},7934.055275499135,{"$f":"IFERROR('Device Resistance Tables'!D51,NA())","v":8014.1972479789247},8094.3392204587144,5.2924357493406848E-3,{"$f":"IFERROR((N410-M410)/'NTC Thermistor Comparison'!H64,NA())","v":1.5442809824923409},10003.4,3.3010097999999997,1.4688380136909314,1.4769544447444711,7.2647065241970843E-4,8.8429017059594717E-3,0.13726584257734445,1.6708566952487034]
[33,-8,-1.6810112484706912,-0.13352238729397245,-8.8959470902862936E-3,-7.0660329835181557E-4,1.464508031697566,1.4726973754895005,{"$f":"IFERROR($B$22+(($B$223-B190)*(($B$22*(1-$B$23))/1000000)),NA())","v":3.2990198999999998},{"$f":"IFERROR(($B$29-(($B$444-B411))*($B$29/1000000)*$B$31),NA())","v":9996.7000000000007},{"$f":"IFERROR((L411-M411)/'NTC Thermistor Comparison'!H66,NA())","v":-1.5366280906315002},7985.7282182843337,{"$f":"IFERROR('Device Resistance Tables'!D52,NA())","v":8066.3921396811456},8147.0560610779576,5.292021155943738E-3,{"$f":"IFERROR((N411-M411)/'NTC Thermistor Comparison'!H65,NA())","v":1.5454370871580825},{"$f":"IFERROR(($B$29+(($B$444-B411))*($B$29/1000000)*$B$31),NA())","v":10003.299999999999},{"$f":"IFERROR($B$22-(($B$444-B411)*(($B$22*(1-$B$23))/1000000)),NA())","v":3.3009800999999999},1.4741108402691183,1.4822327769768824,7.0686148126597459E-4,8.8287981890300404E-3,0.13357117449767988,1.6683225423454644]
[34,-7,-1.6785918484571261,-0.12981445252947299,-8.8820667489748484E-3,-6.8689755249806694E-4,1.4698139331948212,1.478009102391298,3.2990496,9996.7999999999993,{"$f":"IFERROR((L412-M412)/'NTC Thermistor Comparison'!H67,NA())","v":-1.5378532602779353},8037.6973854951357,{"$f":"IFERROR('Device Resistance Tables'!D53,NA())","v":8118.886247974885},8200.0751104546343,5.2913796508298194E-3,{"$f":"IFERROR((N412-M412)/'NTC Thermistor Comparison'!H66,NA())","v":1.5466280906315004},10003.200000000001,3.3009503999999996,1.479383140166888,1.4875104132760626,6.8714022309190881E-4,8.814413332266513E-3,0.12986031402682441,1.6658062573310526]
[35,-6,-1.6761892512276733,-0.12608976567146216,-8.8679029696558942E-3,-6.6707969080592733E-4,1.47511947662497,1.48332029990382,3.2990792999999998,9996.9,{"$f":"IFERROR((L413-M413)/'NTC Thermistor Comparison'!H68,NA())","v":-1.5391118793810454},8089.9630833552983,{"$f":"IFERROR('Device Resistance Tables'!D54,NA())","v":8171.679882177069},8253.3966809988397,5.2905141607135775E-3,{"$f":"IFERROR((N413-M413)/'NTC Thermistor Comparison'!H67,NA())","v":1.547853260277926},10003.1,3.3009206999999998,1.4846546869253521,1.4927871270161353,6.6730733072617454E-4,8.7997474215093519E-3,0.12613279361039817,1.6633066568188628]
[36,-5,-1.6738022920443478,-0.12234786550068816,-8.8534560373769722E-3,-6.4715017635341709E-4,1.4804244377179625,1.4886307435789861,3.2991089999999996,9997,{"$f":"IFERROR((L414-M414)/'NTC Thermistor Comparison'!H69,NA())","v":-1.5404032467004976},8142.5256240759163,{"$f":"IFERROR('Device Resistance Tables'!D55,NA())","v":8224.7733576524406},8307.0210912289658,5.2894275981445471E-3,{"$f":"IFERROR((N414-M414)/'NTC Thermistor Comparison'!H68,NA())","v":1.5491118793810608},10003,3.300891,1.4899252570229755,1.4980626945402413,6.4736326763603635E-4,8.7848007849018472E-3,0.12238815176582089,1.6608225789844302]
[37,-4,-1.6714298270796573,-0.11858829665764879,-8.8387262793327981E-3,-6.2710948261623933E-4,1.4857285950741512,1.4939402118708678,3.2991386999999999,9997.1,{"$f":"IFERROR((L415-M415)/'NTC Thermistor Comparison'!H70,NA())","v":-1.5417266760434922},8195.3853258554136,{"$f":"IFERROR('Device Resistance Tables'!D56,NA())","v":8278.1669958135499},8360.9486657716861,5.2881228611170172E-3,{"$f":"IFERROR((N415-M415)/'NTC Thermistor Comparison'!H69,NA())","v":1.550403246700514},10002.9,3.3008612999999998,1.4951946298610994,1.503336895145565,6.2730850761538726E-4,8.7695737920809869E-3,0.11862593288592392,1.6583528829412595]
[38,-3,-1.669070732813702,-0.11481060945326201,-8.8237140640656797E-3,-6.0695809315935989E-4,1.4910317301505354,1.4992484861214417,3.2991683999999997,9997.2000000000007,{"$f":"IFERROR((L416-M416)/'NTC Thermistor Comparison'!H71,NA())","v":-1.5430814958519832},8248.5425128795578,{"$f":"IFERROR('Device Resistance Tables'!D57,NA())","v":8331.8611241207655},8415.1797353619731,5.2866028326976622E-3,{"$f":"IFERROR((N416-M416)/'NTC Thermistor Comparison'!H70,NA())","v":1.5517266760434787},10002.799999999999,3.3008316,1.500462587749082,1.5086095110679814,6.0714353448099168E-4,8.7540668533803156E-3,0.11484568704987751,1.6558964481379939]
[39,-2,-1.66672390545311,-0.11101435968640198,-8.8084198006734837E-3,-5.8669650133502671E-4,1.4963336272466252,1.5045553505459637,3.2991980999999999,9997.2999999999993,{"$f":"IFERROR((L417-M417)/'NTC Thermistor Comparison'!H72,NA())","v":-1.5444670488030918},8301.9975153214436,{"$f":"IFERROR('Device Resistance Tables'!D58,NA())","v":8385.8560760822656},8469.7146368430876,5.2848703806638309E-3,{"$f":"IFERROR((N417-M417)/'NTC Thermistor Comparison'!H71,NA())","v":1.5530814958519703},10002.700000000001,3.3008018999999997,1.5057289158890681,1.5138803274663273,5.8686884176939458E-4,8.7382804190285768E-3,0.11104696983990706,1.6534521737751615]
[40,-1,-1.6643882603682014,-0.10719910846736773,-8.7928439380204892E-3,-5.6632520998434188E-4,1.501634073489942,1.5098605922179782,3.2992277999999997,9997.4,{"$f":"IFERROR((L418-M418)/'NTC Thermistor Comparison'!H73,NA())","v":-1.545882691422795},8355.750669341498,{"$f":"IFERROR('Device Resistance Tables'!D59,NA())","v":8440.1521912540393},8524.5537131665806,5.2829283571582675E-3,{"$f":"IFERROR((N418-M418)/'NTC Thermistor Comparison'!H72,NA())","v":1.5544670488031203},10002.6,3.3007721999999999,1.5109934023604015,1.5191491324063198,5.6648493243893761E-4,8.7222149783572345E-3,0.10722934216424898,1.6510189782412625]
[41,0,-1.662062731550731,-0.10336442204733005,-8.7769869639517939E-3,-5.458447311428305E-4,1.506932858821169,1.515164001053978,3.2992575,9997.5,{"$f":"IFERROR((L419-M419)/'NTC Thermistor Comparison'!H74,NA())","v":-1.5473277937130774},8409.8023170874949,{"$f":"IFERROR('Device Resistance Tables'!D60,NA())","v":8494.749815239893},8579.6973133922911,5.2807795983504935E-3,{"$f":"IFERROR((N419-M419)/'NTC Thermistor Comparison'!H73,NA())","v":1.5558826914227635},10002.5,3.3007424999999997,1.5162558381036948,1.5244157168441299,5.4599231857399566E-4,8.7058710590091071E-3,0.10339237008576196,1.6485957985689228]
[42,1,-1.6597462710857334,-9.9509871652874463E-2,-8.7608494045099405E-3,-5.2525558574845199E-4,1.5122297759789614,1.5204653697977228,3.2992871999999998,9997.6,{"$f":"IFERROR((L420-M420)/'NTC Thermistor Comparison'!H75,NA())","v":-1.5488017387906301},8464.1528066945266,{"$f":"IFERROR('Device Resistance Tables'!D61,NA())","v":8549.6492996914403},8635.145792688354,5.2784269241219484E-3,{"$f":"IFERROR((N420-M420)/'NTC Thermistor Comparison'!H74,NA())","v":1.5573277937130801},10002.4,3.3007127999999999,1.5215160169045687,1.5296798746096281,5.2539152109742915E-4,8.68924922615677E-3,9.9535624656739291E-2,1.6461815899065804]
[43,2,-1.6574378486458576,-9.5635033326353827E-2,-8.7444318231597595E-3,-5.0455830335427443E-4,1.5175246204844335,1.525764494004239,3.2993169,9997.7000000000007,{"$f":"IFERROR((L421-M421)/'NTC Thermistor Comparison'!H76,NA())","v":-1.5503039225387996},8518.8024922850364,{"$f":"IFERROR('Device Resistance Tables'!D62,NA())","v":8604.851002308118},8690.8995123311997,5.275873137749354E-3,{"$f":"IFERROR((N421-M421)/'NTC Thermistor Comparison'!H75,NA())","v":1.5588017387906514},10002.299999999999,3.3006830999999996,1.5267737353770723,1.5349414023893098,5.046830694790394E-4,8.6723500817165178E-3,9.5658681757903916E-2,1.6437753250101981]
[44,3,-1.6551364509972746,-9.1739487771308817E-2,-8.7277348200154314E-3,-4.8375342184603376E-4,1.5228171906253272,1.5310611720234966,3.2993465999999998,9997.7999999999993,{"$f":"IFERROR((L422-M422)/'NTC Thermistor Comparison'!H77,NA())","v":-1.5518337532685174},8573.7517339687874,{"$f":"IFERROR('Device Resistance Tables'!D63,NA())","v":8660.3552868371589},8746.9588397055304,5.2731210256149463E-3,{"$f":"IFERROR((N422-M422)/'NTC Thermistor Comparison'!H76,NA())","v":1.5603039225387882},10002.200000000001,3.3006533999999998,1.5320287929467975,1.5402000997089198,4.8386750145490431E-4,8.6551742635772033E-3,9.1761121943617088E-2,1.6413759937489478]
[45,4,-1.6528410815249697,-8.7822820202427099E-2,-8.7107590310706584E-3,-4.6284148716013718E-4,1.5281072874398869,1.5363552049837974,3.2993763,9997.9,{"$f":"IFERROR((L423-M423)/'NTC Thermistor Comparison'!H78,NA())","v":-1.5533906513931022},8629.000897842885,{"$f":"IFERROR('Device Resistance Tables'!D64,NA())","v":8716.1625230736208},8803.3241483043566,5.2701733569169296E-3,{"$f":"IFERROR((N423-M423)/'NTC Thermistor Comparison'!H77,NA())","v":1.561833753268512},10002.1,3.3006236999999996,1.5372809918337054,1.5454557689157817,4.6294536274782416E-4,8.6377224448241918E-3,8.7842530291764226E-2,1.6389826026287095]
[46,5,-1.650550759771094,-8.3884620200679952E-2,-8.693505127436163E-3,-4.4182305300854985E-4,1.5333947147004383,1.5416463967748659,3.2994059999999998,9998,{"$f":"IFERROR((L424-M424)/'NTC Thermistor Comparison'!H79,NA())","v":-1.5549740491117425},8684.5503559917688,{"$f":"IFERROR('Device Resistance Tables'!D65,NA())","v":8772.2730868603721},8859.9958177289755,5.2670328834005797E-3,{"$f":"IFERROR((N424-M424)/'NTC Thermistor Comparison'!H78,NA())","v":1.5633906513931022},10002,3.3005939999999998,1.5425301370346656,1.5507082151608542,4.4191720679109814E-4,8.6199953329797463E-3,8.390249625815531E-2,1.6365941743303447]
[47,6,-1.6482645209895463,-7.9924481573065559E-2,-8.6759738145827381E-3,-4.2069868060723437E-4,1.5386792788966923,1.5469345540306678,3.2994356999999996,9998.1,{"$f":"IFERROR((L425-M425)/'NTC Thermistor Comparison'!H80,NA())","v":-1.5565833901036399},8740.4004864872113,{"$f":"IFERROR('Device Resistance Tables'!D66,NA())","v":8828.6873600880917},8916.9742336889722,5.2637023390966764E-3,{"$f":"IFERROR((N425-M425)/'NTC Thermistor Comparison'!H79,NA())","v":1.5649740491117408},10001.9,3.3005643,1.5477760363057318,1.5559572463805125,4.2078359445674174E-4,8.6019936692374177E-3,7.9940613535710303E-2,1.6342097472619697]
[48,7,-1.6459814157147337,-7.5942002216450033E-2,-8.6581658315887378E-3,-3.9946893840681064E-4,1.543960789218783,1.5522194861119649,3.2994653999999999,9998.2000000000007,{"$f":"IFERROR((L426-M426)/'NTC Thermistor Comparison'!H81,NA())","v":-1.5582181292322077},8796.5516733883196,{"$f":"IFERROR('Device Resistance Tables'!D67,NA())","v":8885.4057306952727},8974.2597880022258,5.2601844400710362E-3,{"$f":"IFERROR((N426-M426)/'NTC Thermistor Comparison'!H80,NA())","v":1.5665833901036552},10001.799999999999,3.3005345999999998,1.5530185001441597,1.5612026732780833,3.9954509378792302E-4,8.5837182277115343E-3,7.5956479918131412E-2,1.6318283751273968]
[49,8,-1.6437005093427692,-7.1936783986127878E-2,-8.640081950392009E-3,-3.7813440182987712E-4,1.5492390575400508,1.5575010050886129,3.2994950999999997,9998.2999999999993,{"$f":"IFERROR((L427-M427)/'NTC Thermistor Comparison'!H82,NA())","v":-1.5598777322583308},8853.004306741539,{"$f":"IFERROR('Device Resistance Tables'!D68,NA())","v":8942.4285926682205},9031.852878594902,5.2564818841887018E-3,{"$f":"IFERROR((N427-M427)/'NTC Thermistor Comparison'!H81,NA())","v":1.5682181292321882},10001.700000000001,3.3005049,1.5582573417701768,1.5664443093051277,3.782022797340634E-4,8.5651698146849142E-3,7.1949697167544985E-2,1.6294491265058137]
[50,9,-1.6414208817269307,-6.7908432567226992E-2,-8.6217229750480406E-3,-3.5669565300544548E-4,1.5545138983995834,1.562778925721626,3.2995247999999999,9998.4,{"$f":"IFERROR((L428-M428)/'NTC Thermistor Comparison'!H83,NA())","v":-1.561561675563403},8909.758782580644,{"$f":"IFERROR('Device Resistance Tables'!D69,NA())","v":8999.7563460410547},9089.7539095014654,5.2525973508861235E-3,{"$f":"IFERROR((N428-M428)/'NTC Thermistor Comparison'!H82,NA())","v":1.5698777322583457},10001.6,3.3004751999999997,1.5634923771085238,1.5716819706425011,3.5675573389237769E-4,8.5463492678696795E-3,6.7919870886770387E-2,1.6270710844469916]
[51,10,-1.6391416267848231,-6.3856557352077389E-2,-8.6030897409956619E-3,-3.3515328051825222E-4,1.5597851289845219,1.5680530654449993,3.2995544999999997,9998.5,{"$f":"IFERROR((L429-M429)/'NTC Thermistor Comparison'!H84,NA())","v":-1.5632694458794929},8966.8155029267436,{"$f":"IFERROR('Device Resistance Tables'!D70,NA())","v":9057.3893968957},9147.9632908646563,5.2485335009584411E-3,{"$f":"IFERROR((N429-M429)/'NTC Thermistor Comparison'!H83,NA())","v":1.5715616755633892},10001.5,3.3004454999999999,1.5687234247697677,1.5769154761811865,3.3520604425008038E-4,8.5272574556689573E-3,6.3866610394859441E-2,1.6246933460769155]
[52,11,-1.6368618521200053,-5.9780771319714085E-2,-8.5841831143276259E-3,-3.1350787915274125E-4,1.5650525691121484,1.5733232443473233,3.2995842,9998.6,{"$f":"IFERROR((L430-M430)/'NTC Thermistor Comparison'!H85,NA())","v":-1.5650005400309694},9024.1748757882906,{"$f":"IFERROR('Device Resistance Tables'!D71,NA())","v":9115.3281573619097},9206.4814389355288,5.2442929763496515E-3,{"$f":"IFERROR((N430-M430)/'NTC Thermistor Comparison'!H84,NA())","v":1.5732694458795045},10001.4,3.3004157999999997,1.5739503060314086,1.5821446475029213,3.13553804932587E-4,8.5078952764452431E-3,5.9789528606931416E-2,1.6223150222181635]
[53,12,-1.6345806786516932,-5.5680690919151447E-2,-8.5650039910667441E-3,-2.9176004964237556E-4,1.5703160412117589,1.5785892851531833,3.2996138999999998,9998.7000000000007,{"$f":"IFERROR((L431-M431)/'NTC Thermistor Comparison'!H86,NA())","v":-1.5667544646801943},9081.8373151610576,{"$f":"IFERROR('Device Resistance Tables'!D72,NA())","v":9173.5730456172296},9265.3087760734015,5.2398783999647591E-3,{"$f":"IFERROR((N431-M431)/'NTC Thermistor Comparison'!H85,NA())","v":1.5750005400309635},10001.299999999999,3.3003860999999999,1.5791728448187798,1.5873693088606258,2.9179961595415804E-4,8.4882636578000881E-3,5.5688241917240013E-2,1.6199352370194653]
[54,13,-1.6322972402595206,-5.1555935957433768E-2,-8.5455532964486824E-3,-2.6991039842871878E-4,1.5755753703063418,1.5838510132043617,3.2996436,9998.7999999999993,{"$f":"IFERROR((L432-M432)/'NTC Thermistor Comparison'!H87,NA())","v":-1.5685307360850957},9139.803241028163,{"$f":"IFERROR('Device Resistance Tables'!D73,NA())","v":9232.1244858870341},9324.4457307459052,5.2352923754805936E-3,{"$f":"IFERROR((N432-M432)/'NTC Thermistor Comparison'!H86,NA())","v":1.5767544646802127},10001.200000000001,3.3003563999999996,1.584390867685765,1.5925892871586436,2.6994408297453809E-4,8.4683635558531201E-3,5.1562370086304404E-2,1.6175531275988639]
[55,14,-1.630010683436786,-4.7406129489335314E-2,-8.5258319842123065E-3,-2.4795953741585386E-4,1.5808303839940587,1.5891082564408552,3.2996732999999998,9998.9,{"$f":"IFERROR((L433-M433)/'NTC Thermistor Comparison'!H88,NA())","v":-1.5703288798610817},9198.073079360056,{"$f":"IFERROR('Device Resistance Tables'!D74,NA())","v":9290.9829084445009},9383.8927375289459,5.2305374871752797E-3,{"$f":"IFERROR((N433-M433)/'NTC Thermistor Comparison'!H87,NA())","v":1.5785307360850822},10001.1,3.3003266999999998,1.5896042037953286,1.5978044119328045,2.4798781705759332E-4,8.4481959545334995E-3,4.7411536130967998E-2,1.6151678436962884]
[56,15,-1.627720166955323,-4.3230897711625173E-2,-8.505841035894024E-3,-2.2590808373523785E-4,1.5860809124295523,1.5943608453817111,3.2997029999999996,9999,{"$f":"IFERROR((L434-M434)/'NTC Thermistor Comparison'!H89,NA())","v":-1.5721484307527869},9256.6472621145222,{"$f":"IFERROR('Device Resistance Tables'!D75,NA())","v":9350.1487496106292},9443.6502371067363,5.2256162997625921E-3,{"$f":"IFERROR((N434-M434)/'NTC Thermistor Comparison'!H88,NA())","v":1.5803288798610962},10001,3.300297,1.5948126848998816,1.6030145153303235,2.2593143443527808E-4,8.427761864877148E-3,4.3235366218055946E-2,1.6127785473380498]
[57,16,-1.6254248615391729,-3.9029869859846557E-2,-8.4855814601318968E-3,-2.0375665951144484E-4,1.591326788305077,1.5996086131056975,3.2997326999999999,9999.1,{"$f":"IFERROR((L435-M435)/'NTC Thermistor Comparison'!H90,NA())","v":-1.5739889324104903},9315.5262272366799,{"$f":"IFERROR('Device Resistance Tables'!D76,NA())","v":9409.6224517542214},9503.7186762717629,5.2205313582422974E-3,{"$f":"IFERROR((N435-M435)/'NTC Thermistor Comparison'!H89,NA())","v":1.5821484307527613},10000.9,3.3002672999999998,1.6000161453214816,1.6082194320895364,2.0377555627271171E-4,8.40706232432753E-3,3.9033489560595415E-2,1.6103844125089417]
[58,17,-1.6231239495519043,-3.4802678108373564E-2,-8.4650542919775251E-3,-1.815058916325718E-4,1.5965678468314737,1.6048513952318186,3.2997623999999997,9999.2000000000007,{"$f":"IFERROR((L436-M436)/'NTC Thermistor Comparison'!H91,NA())","v":-1.5758499371755244},9374.7104186589804,{"$f":"IFERROR('Device Resistance Tables'!D77,NA())","v":9469.4044632918994},9564.0985079248185,5.2152851877482753E-3,{"$f":"IFERROR((N436-M436)/'NTC Thermistor Comparison'!H90,NA())","v":1.5839889324105032},10000.799999999999,3.3002376,1.6052144219318913,1.6134189995194999,1.8152080844013874E-4,8.3860983960486468E-3,3.4805538317744661E-2,1.6079846248387781]
[59,18,-1.6208166246869513,-3.0548957473116218E-2,-8.4442605922061542E-3,-1.5915641152375315E-4,1.6018039257189933,1.6100890298996757,3.2997920999999999,9999.2999999999993,{"$f":"IFERROR((L437-M437)/'NTC Thermistor Comparison'!H92,NA())","v":-1.5777310058703189},9434.2002863012112,{"$f":"IFERROR('Device Resistance Tables'!D78,NA())","v":9529.4952386880923},9624.7901910749733,5.2098802934212873E-3,{"$f":"IFERROR((N437-M437)/'NTC Thermistor Comparison'!H91,NA())","v":1.5858499371755259},10000.700000000001,3.3002078999999997,1.6104073541324881,1.6186130574794391,1.591678212886638E-4,8.3648711682395849E-3,3.0551147497506041E-2,1.6055783812926034]
[60,19,-1.618502091673284,-2.6268345717251663E-2,-8.4232014466463223E-3,-1.3670885492511609E-4,1.6070348651579744,1.6153213577496957,3.2998217999999997,9999.4,{"$f":"IFERROR((L438-M438)/'NTC Thermistor Comparison'!H93,NA())","v":-1.579631707596032},9493.9962860704945,{"$f":"IFERROR('Device Resistance Tables'!D79,NA())","v":9589.8952384550448},9685.7941908395951,5.2043191602786365E-3,{"$f":"IFERROR((N438-M438)/'NTC Thermistor Comparison'!H92,NA())","v":1.5877310058703142},10000.6,3.3001782,1.615594783834049,1.6238014483580838,1.3671722942820708E-4,8.3433817534630528E-3,2.6269954862047182E-2,1.6031648898751152]
[61,20,-1.6161795659858098,-2.1960483259562472E-2,-8.4018779655068432E-3,-1.1416386167328874E-4,1.6122605077993926,1.6205482219032261,3.2998514999999999,9999.5,{"$f":"IFERROR((L439-M439)/'NTC Thermistor Comparison'!H94,NA())","v":-1.5815516195360453},9554.0988798612889,{"$f":"IFERROR('Device Resistance Tables'!D80,NA())","v":9650.6049291528179},9747.110978444347,5.1986042530998144E-3,{"$f":"IFERROR((N439-M439)/'NTC Thermistor Comparison'!H93,NA())","v":1.5896317075960491},10000.5,3.3001484999999997,1.6207765554364073,1.6289840170528733,1.1416967150790214E-4,8.3216312879739185E-3,2.1961600835421403E-2,1.6007433693403208]
[62,21,-1.6138482735676145,-1.7625013085972124E-2,-8.3802912827182219E-3,-9.1522075489569588E-5,1.617480698735281,1.6257694679425096,3.2998811999999997,9999.6,{"$f":"IFERROR((L440-M440)/'NTC Thermistor Comparison'!H95,NA())","v":-1.5834903267646312},9614.5085355553874,{"$f":"IFERROR('Device Resistance Tables'!D81,NA())","v":9711.6247833892794},9808.7410312231714,5.1927380163145909E-3,{"$f":"IFERROR((N440-M440)/'NTC Thermistor Comparison'!H94,NA())","v":1.5915516195360175},10000.4,3.3001187999999999,1.6259525158080046,1.6341606109490592,9.152579000537564E-5,8.2996209310599589E-3,1.7625728414916966E-2,1.5983130489125652]
[63,22,-1.6115074505555933,-1.3261580661929328E-2,-8.3584425552734043E-3,-6.8784143763434002E-5,1.6226952854790404,1.6309849438905504,3.2999109,9999.7000000000007,{"$f":"IFERROR((L441-M441)/'NTC Thermistor Comparison'!H96,NA())","v":-1.5854474220618926},9675.2257270219088,{"$f":"IFERROR('Device Resistance Tables'!D82,NA())","v":9772.9552798201094},9870.6848326183099,5.1867228739101989E-3,{"$f":"IFERROR((N441-M441)/'NTC Thermistor Comparison'!H95,NA())","v":1.5934903267646354},10000.299999999999,3.3000890999999997,1.6311225142653281,1.6393310798987042,6.8786231014250632E-5,8.277351864390381E-3,1.3261983083818327E-2,1.5958731680125797]
[64,23,-1.6091563430202878,-8.8698338495916459E-3,-8.3363329625836258E-3,-4.5950717351805892E-5,1.6279041179456404,1.6361945001908722,3.2999405999999998,9999.7999999999993,{"$f":"IFERROR((L442-M442)/'NTC Thermistor Comparison'!H97,NA())","v":-1.5874225057349149},9736.2509341173227,{"$f":"IFERROR('Device Resistance Tables'!D83,NA())","v":9834.5969031488112},9932.9428721802997,5.1805612293314152E-3,{"$f":"IFERROR((N442-M442)/'NTC Thermistor Comparison'!H96,NA())","v":1.5954474220619079},10000.200000000001,3.3000593999999999,1.6362864025522637,1.6444952761995921,4.5951644039643469E-5,8.2548252913681175E-3,8.8700127274769849E-3,1.5934229759954899]
[65,24,-1.6067942067060845,-4.4494228251182304E-3,-8.3139637058351479E-3,-2.3022450370779879E-5,{"$f":"IFERROR(I443/(L443+Q443)*L443,NA())","v":1.6331070484317203},{"$f":"IFERROR(I443/(M443+Q443)*M443,NA())","v":1.6413979896871846},{"$f":"IFERROR($B$22+(($B$223-B222)*(($B$22*(1-$B$23))/1000000)),NA())","v":3.2999703},9999.9,{"$f":"IFERROR((L443-M443)/'NTC Thermistor Comparison'!H98,NA())","v":-1.5894151854415399},9797.5846426854132,{"$f":"IFERROR('Device Resistance Tables'!D84,NA())","v":9896.5501441266806},9995.515645567948,{"$f":"IFERROR(N222,NA())","v":5.1742554654081729E-3},{"$f":"IFERROR((N443-M443)/'NTC Thermistor Comparison'!H97,NA())","v":1.5974225057349183},10000.1,3.3000296999999996,{"$f":"IFERROR((R443/(M443+J443))*M443,NA())","v":1.6414440348193493},{"$f":"IFERROR((R443/(N443+J443))*N443,NA())","v":1.6496530545740491},2.3022681793882782E-5,8.2320424364936695E-3,4.4494675509931803E-3,1.5909617318912725]
[66,25,{"$f":"IFERROR(E444/O444,NA())","v":-1.6044203067869451},{"$f":"IFERROR(F444/O444,NA())","v":0},{"$f":"IFERROR(G444-($B$22/(M444+$B$29)*M444),NA())","v":-8.2913360073610942E-3},{"$f":"IFERROR(H444-($B$22/(M444+$B$29)*M444),NA())","v":0},1.6383039315956025,1.6465952676029636,3.3,10000,{"$f":"IFERROR((L444-M444)/'NTC Thermistor Comparison'!H99,NA())","v":-1.5914250760232538},{"$f":"M444*0.99","v":9859.227344557321},{"$f":"IFERROR('Device Resistance Tables'!D85,NA())","v":9958.8154995528494},{"$f":"M444*1.01","v":10058.403654548378},5.1678079442696312E-3,{"$f":"IFERROR((N444-M444)/'NTC Thermistor Comparison'!H98,NA())","v":1.5994151854415286},10000,3.3,1.6465952676029636,1.6548042721476977,{"$f":"IFERROR(S444-($B$22/(M444+$B$29)*M444),NA())","v":0},{"$f":"IFERROR(T444-($B$22/(M444+$B$29)*M444),NA())","v":8.2090045447340554E-3},{"$f":"IFERROR(U444/O444,NA())","v":0},{"$f":"IFERROR(V444/O444,NA())","v":1.5884887041587297}]
[67,{"$f":"B444+1","v":26},-1.6109624696301741,-4.4787353172024962E-3,-8.3145333402063759E-3,-2.3115742805224215E-5,1.6434485422070269,1.651739959804428,{"$f":"IFERROR($B$22-(($B$223-B224)*(($B$22*(1-$B$23))/1000000)),NA())","v":3.2999703},{"$f":"IFERROR(($B$29-((B445-$B$444))*($B$29/1000000)*$B$31),NA())","v":9999.9},{"$f":"IFERROR((L445-M445)/'NTC Thermistor Comparison'!H100,NA())","v":-1.5934517993391504},9921.179537551503,{"$f":"IFERROR('Device Resistance Tables'!D86,NA())","v":10021.393472274245},10121.607406996987,5.161221007287109E-3,{"$f":"IFERROR((N445-M445)/'NTC Thermistor Comparison'!H99,NA())","v":1.6014250760232502},{"$f":"IFERROR(($B$29+((B445-$B$444))*($B$29/1000000)*$B$31),NA())","v":10000.1},{"$f":"IFERROR($B$22+(($B$444-B445)*(($B$22*(1-$B$23))/1000000)),NA())","v":3.3000296999999996},1.6517861915209502,1.6599951673210667,2.3115973716958393E-5,8.2320917738334387E-3,4.4787800569518407E-3,1.594989201627014]
[68,27,-1.617550863934081,-8.9870817049322593E-3,-8.337661035068944E-3,-4.6323885462218328E-5,1.6485866355194514,1.6568779726690581,3.2999405999999998,9999.7999999999993,{"$f":"IFERROR((L446-M446)/'NTC Thermistor Comparison'!H101,NA())","v":-1.5954949841073345},9983.44172547376,{"$f":"IFERROR('Device Resistance Tables'!D87,NA())","v":10084.284571185617},10185.127416897474,5.1544969750074721E-3,{"$f":"IFERROR((N446-M446)/'NTC Thermistor Comparison'!H100,NA())","v":1.6034517993391701},10000.200000000001,3.3000593999999999,1.6569706213625814,1.6651794072934292,4.6324808061104505E-5,8.255110738908833E-3,8.9872606940539241E-3,1.6015356646701429]
[69,28,-1.6241854638885647,-1.3525380453268671E-2,-8.3607190518868446E-3,-6.9623764375359443E-5,1.653718074477641,1.6620091697651524,3.2999109,9999.7000000000007,{"$f":"IFERROR((L447-M447)/'NTC Thermistor Comparison'!H102,NA())","v":-1.5975542657492781},10046.014418117225,{"$f":"IFERROR('Device Resistance Tables'!D88,NA())","v":10147.489311229521},10248.964204341817,5.1476381471053934E-3,{"$f":"IFERROR((N447-M447)/'NTC Thermistor Comparison'!H101,NA())","v":1.6054949841073298},10000.299999999999,3.3000890999999997,1.6621484193673561,1.6703568549369403,6.9625837828324322E-5,8.2780614074124959E-3,1.3525783250222462E-2,1.6081280717191424]
[70,29,-1.6308662483300242,-1.8093970909844284E-2,-8.3837073645169902E-3,-9.3014713699268725E-5,1.6588427243121162,1.6671334169629339,3.2998811999999997,9999.6,{"$f":"IFERROR((L448-M448)/'NTC Thermistor Comparison'!H103,NA())","v":-1.5996292862397559},10108.898131262365,{"$f":"IFERROR('Device Resistance Tables'!D89,NA())","v":10211.00821339633},10313.118295530294,5.1406468023369456E-3,{"$f":"IFERROR((N448-M448)/'NTC Thermistor Comparison'!H102,NA())","v":1.6075542657492821},10000.4,3.3001187999999999,1.6673194500721498,1.6755273754371216,9.3018395516564212E-5,8.3009437604883995E-3,1.8094687126584522E-2,1.6147664057983477]
[71,30,-1.637593200662923,-2.2693190548665376E-2,-8.4066259605002358E-3,-1.16496065516003E-4,1.6639604525184699,1.6722505824134541,3.2998514999999999,9999.5,{"$f":"IFERROR((L449-M449)/'NTC Thermistor Comparison'!H104,NA())","v":-1.6017196939603773},10172.093386676985,{"$f":"IFERROR('Device Resistance Tables'!D90,NA())","v":10274.841804724227},10377.590222771469,5.133525198502964E-3,{"$f":"IFERROR((N449-M449)/'NTC Thermistor Comparison'!H103,NA())","v":1.6096292862397383},10000.5,3.3001484999999997,1.6724835802904712,1.6806908362717128,1.1650181150102412E-4,8.3237577927426365E-3,2.2694309854561213E-2,1.6214506544489169]
[72,31,-1.6443663087855773,-2.7323375038442628E-2,-8.4294748408342279E-3,-1.4006715001557701E-4,1.6690711288366389,1.6773605365274575,3.2998217999999997,9999.4,{"$f":"IFERROR((L450-M450)/'NTC Thermistor Comparison'!H105,NA())","v":-1.6038251435576139},10235.600712116217,{"$f":"IFERROR('Device Resistance Tables'!D91,NA())","v":10338.990618299209},10442.380524482202,5.1262755724177378E-3,{"$f":"IFERROR((N450-M450)/'NTC Thermistor Comparison'!H104,NA())","v":1.6117196939603875},10000.6,3.3001782,1.6776406790916913,1.6858471071894878,1.4007541421823255E-4,8.3465035120147135E-3,2.7324987164544474E-2,1.6281808096551857]
[73,32,-1.6511855650165215,-3.1984858307899162E-2,-8.452254019738481E-3,-1.6372729566649369E-4,1.6741746252301524,1.6824631519542244,3.2997920999999999,9999.2999999999993,{"$f":"IFERROR((L451-M451)/'NTC Thermistor Comparison'!H106,NA())","v":-1.6059452958048062},10299.420641322537,{"$f":"IFERROR('Device Resistance Tables'!D92,NA())","v":10403.455193255088},10507.489745187639,5.1189001398845857E-3,{"$f":"IFERROR((N451-M451)/'NTC Thermistor Comparison'!H105,NA())","v":1.6138251435576101},10000.700000000001,3.3002078999999997,1.6827906177802272,1.6909960601890364,1.6373853033635477E-4,8.3691809391455152E-3,3.1987053050823243E-2,1.634956867772422]
[74,33,-1.6580509660238958,-3.6677972610292625E-2,-8.4749635244294463E-3,-1.8747582938760665E-4,1.679270815865346,1.6875583035603878,3.2997623999999997,9999.2000000000007,{"$f":"IFERROR((L452-M452)/'NTC Thermistor Comparison'!H107,NA())","v":-1.6080798174675586},10363.553714025746,{"$f":"IFERROR('Device Resistance Tables'!D93,NA())","v":10468.23607477348},10572.918435521215,5.1114010956809786E-3,{"$f":"IFERROR((N452-M452)/'NTC Thermistor Comparison'!H106,NA())","v":1.6159452958047988},10000.799999999999,3.3002376,1.6879332698747025,1.69613756949753,1.8749048492705533E-4,8.3917901077545931E-3,3.6680839835770404E-2,1.64177882945744]
[75,34,-1.6649625127571572,-4.1403048585393856E-2,-8.4976033948880314E-3,-2.1131207671176711E-4,1.6843595770905684,1.6926458684087446,3.2997326999999999,9999.1,{"$f":"IFERROR((L453-M453)/'NTC Thermistor Comparison'!H108,NA())","v":-1.6102283811743496},10428.000475942988,{"$f":"IFERROR('Device Resistance Tables'!D94,NA())","v":10533.333814083828},10638.667152224667,5.1037806135443287E-3,{"$f":"IFERROR((N453-M453)/'NTC Thermistor Comparison'!H107,NA())","v":1.6180798174675783},10000.9,3.3002672999999998,1.6930685110870902,1.7012715115494665,2.113306016338079E-4,8.4143310640101276E-3,4.14066782324033E-2,1.6486466996015297]
[76,35,-1.6719202103796982,-4.6160415321096104E-2,-8.5201736836357789E-3,-2.3523536195257932E-4,1.689440787415365,1.6977257257370482,3.2997029999999996,9999,{"$f":"IFERROR((L454-M454)/'NTC Thermistor Comparison'!H109,NA())","v":-1.6123906652882216},10492.761478778735,{"$f":"IFERROR('Device Resistance Tables'!D95,NA())","v":10598.748968463369},10704.736458148003,5.0960408461722118E-3,{"$f":"IFERROR((N454-M454)/'NTC Thermistor Comparison'!H108,NA())","v":1.6202283811743401},10001,3.300297,1.6981962193018345,1.706397764965403,2.3525820283376575E-4,8.4368038664022205E-3,4.616489740471276E-2,1.6555604872632361]
[77,36,-1.6789240682061233,-5.0950400412161555E-2,-8.5426744555052725E-3,-2.5924500836049802E-4,1.6945143274896677,1.7027977569368125,3.2996732999999998,9998.9,{"$f":"IFERROR((L455-M455)/'NTC Thermistor Comparison'!H110,NA())","v":-1.6145663537853965},10557.837280224801,{"$f":"IFERROR('Device Resistance Tables'!D96,NA())","v":10664.482101237174},10771.126922249547,5.0881839252163719E-3,{"$f":"IFERROR((N455-M455)/'NTC Thermistor Comparison'!H109,NA())","v":1.6223906652882296},10001.1,3.3003266999999998,1.7033162745549699,1.711516210530692,2.5927260979696776E-4,8.4592085855190735E-3,5.0955825026695031E-2,1.6625202056074164]
[78,37,-1.6859740996372972,-5.5773330018317552E-2,-8.5651057874160941E-3,-2.8334033828048E-4,1.6995800800829732,1.7078618455321088,3.2996436,9998.7999999999993,{"$f":"IFERROR((L456-M456)/'NTC Thermistor Comparison'!H111,NA())","v":-1.6167551361337265},10623.228443960326,{"$f":"IFERROR('Device Resistance Tables'!D97,NA())","v":10730.533781778107},10837.839119595888,5.0802119612980423E-3,{"$f":"IFERROR((N456-M456)/'NTC Thermistor Comparison'!H110,NA())","v":1.6245663537853825},10001.200000000001,3.3003563999999996,1.7084285590132364,1.7166267311742147,2.8337314284709869E-4,8.4815453038253885E-3,5.5779787340742015E-2,1.6695258718414325]
[79,38,-1.6930703221015222,-6.0629528920513098E-2,-8.5874677681507805E-3,-3.0752067330364063E-4,1.7046379300635366,1.7129178771583837,3.2996138999999998,9998.7000000000007,{"$f":"IFERROR((L457-M457)/'NTC Thermistor Comparison'!H112,NA())","v":-1.6189567071773052},10688.935539651789,{"$f":"IFERROR('Device Resistance Tables'!D98,NA())","v":10796.904585506858},10904.873631361927,5.0721270440152733E-3,{"$f":"IFERROR((N457-M457)/'NTC Thermistor Comparison'!H111,NA())","v":1.6267551361337265},10001.299999999999,3.3003860999999999,1.7135329569532001,1.7217292119471228,3.0755912151270159E-4,8.5038141154354374E-3,6.0637109213500108E-2,1.6765775071563509]
[80,39,-1.7002127569944097,-6.5519320576218926E-2,-8.6097604981316689E-3,-3.317853344182442E-4,1.709687764377571,1.7179657395412844,3.2995842,9998.6,{"$f":"IFERROR((L458-M458)/'NTC Thermistor Comparison'!H113,NA())","v":-1.6211707670226714},10754.959142953006,{"$f":"IFERROR('Device Resistance Tables'!D99,NA())","v":10863.595093891925},10972.231044830844,5.0639312419651361E-3,{"$f":"IFERROR((N458-M458)/'NTC Thermistor Comparison'!H112,NA())","v":1.6289567071772952},10001.4,3.3004157999999997,1.7186293547403795,1.7268235400015988,3.3182986467683584E-4,8.5260151258961248E-3,6.5528114190599507E-2,1.683675136668616]
[81,40,-1.7074014296226432,-7.0443027172829006E-2,-8.6319840891992961E-3,-3.5613364215425491E-4,1.7147294720284685,1.7230053224755135,3.2995544999999997,9998.5,{"$f":"IFERROR((L459-M459)/'NTC Thermistor Comparison'!H114,NA())","v":-1.6233970209286583},10821.299835505122,{"$f":"IFERROR('Device Resistance Tables'!D100,NA())","v":10930.605894449618},11039.911953394114,5.0556266027650398E-3,{"$f":"IFERROR((N459-M459)/'NTC Thermistor Comparison'!H113,NA())","v":1.6311707670226767},10001.5,3.3004454999999999,1.7237176408083925,1.7319096045696318,3.561846907247368E-4,8.5481484519640549E-3,7.0453124550363566E-2,1.6908187893640867]
[82,41,-1.7146363691474871,-7.5400969680169766E-2,-8.654138664390576E-3,-3.8056491672699977E-4,1.7197629440560422,1.7280365178037058,3.2995247999999999,9998.4,{"$f":"IFERROR((L460-M460)/'NTC Thermistor Comparison'!H115,NA())","v":-1.6256351791988246},10887.958204936616,{"$f":"IFERROR('Device Resistance Tables'!D101,NA())","v":10997.937580744057},11107.916956551499,5.0472151530842613E-3,{"$f":"IFERROR((N460-M460)/'NTC Thermistor Comparison'!H114,NA())","v":1.6333970209286717},10001.6,3.3004751999999997,1.7287977056381196,1.7369872969418205,3.8062291768681256E-4,8.5702142213877064E-3,7.5412461355886681E-2,1.6980084980428474]
[83,42,-1.7219176085320078,-8.039346790146297E-2,-8.6762243577231946E-3,-4.0507847817594644E-4,1.7247880735157939,1.7330592193953411,3.2994950999999997,9998.2999999999993,{"$f":"IFERROR((L461-M461)/'NTC Thermistor Comparison'!H116,NA())","v":-1.6278849570775638},10954.934844863312,{"$f":"IFERROR('Device Resistance Tables'!D102,NA())","v":11065.590752387183},11176.246659911054,5.0386988986772518E-3,{"$f":"IFERROR((N461-M461)/'NTC Thermistor Comparison'!H115,NA())","v":1.6356351791988055},10001.700000000001,3.3005049,1.7338694417368985,1.7420565104462087,4.0514386338141861E-4,8.5922125726916043E-3,8.0406444506492758E-2,1.7052442992668628]
[84,43,-1.7292451844882637,-8.5420840523440164E-2,-8.6982413139737869E-3,-4.296736465021489E-4,1.7298047554582205,1.7380733231256922,3.2994653999999999,9998.2000000000007,{"$f":"IFERROR((L462-M462)/'NTC Thermistor Comparison'!H117,NA())","v":-1.6301460746483147},11022.230354888356,{"$f":"IFERROR('Device Resistance Tables'!D103,NA())","v":11133.566015038743},11244.90167518913,5.0300798244222733E-3,{"$f":"IFERROR((N462-M462)/'NTC Thermistor Comparison'!H116,NA())","v":1.6378849570775749},10001.799999999999,3.3005345999999998,1.7389327436177422,1.7471171404271526,4.2974684554786258E-4,8.6141436549582728E-3,8.5435392786678263E-2,1.712526233308364]
[85,44,-1.7366191374265172,-9.0483405164688446E-2,-8.720189688467439E-3,-4.5434974179991983E-4,1.7348128869081492,1.7430787268548167,3.2994356999999996,9998.1,{"$f":"IFERROR((L463-M463)/'NTC Thermistor Comparison'!H118,NA())","v":-1.6324182567345795},11089.845340602236,{"$f":"IFERROR('Device Resistance Tables'!D104,NA())","v":11201.863980406299},11313.882620210361,5.0213598943691373E-3,{"$f":"IFERROR((N463-M463)/'NTC Thermistor Comparison'!H117,NA())","v":1.6401460746483054},10001.9,3.3005643,1.7439875077786029,1.7521690842242337,4.5443118198629229E-4,8.6360076276170705E-3,9.0499623915800825E-2,1.7198543440993612]
[86,45,-1.7440395114066609,-9.5581478423668875E-2,-8.7420696468569759E-3,-4.7910608438872515E-4,1.7398123668441288,1.748075330406597,3.2994059999999998,9998,{"$f":"IFERROR((L464-M464)/'NTC Thermistor Comparison'!H119,NA())","v":-1.6347012328038661},11157.78041358277,{"$f":"IFERROR('Device Resistance Tables'!D105,NA())","v":11270.485266245223},11383.190118907676,5.0125410517827262E-3,{"$f":"IFERROR((N464-M464)/'NTC Thermistor Comparison'!H118,NA())","v":1.6424182567346008},10002,3.3005939999999998,1.7490336326816665,1.7572122411512145,4.7919619068070851E-4,8.6578046602288072E-3,9.5599454594048838E-2,1.7272286791845088]
[87,46,-1.7515063540899398,-0.1007153759250496,-8.7638813649166813E-3,-5.0394199493997149E-4,1.7448030961778518,1.7530630355478285,3.2993763,9997.9,{"$f":"IFERROR((L465-M465)/'NTC Thermistor Comparison'!H120,NA())","v":-1.6369947368738853},11226.036191395116,{"$f":"IFERROR('Device Resistance Tables'!D106,NA())","v":11339.430496358704},11452.824801322291,5.0036252192018349E-3,{"$f":"IFERROR((N465-M465)/'NTC Thermistor Comparison'!H119,NA())","v":1.6447012328038577},10002.1,3.3006236999999996,1.7540710187327035,1.7622465124750439,5.0404118993507829E-4,8.6795349322754678E-3,0.1007352005503485,1.7346492896724197]
[88,47,-1.759019716693917,-0.10588541236521938,-8.7856250283264714E-3,-5.2885679460090707E-4,1.7497849777336438,1.7580417459673694,3.2993465999999998,9997.7999999999993,{"$f":"IFERROR((L466-M466)/'NTC Thermistor Comparison'!H121,NA())","v":-1.639298507421507},11294.613297591763,{"$f":"IFERROR('Device Resistance Tables'!D107,NA())","v":11408.70030059774},11522.787303603718,4.9946142984906849E-3,{"$f":"IFERROR((N466-M466)/'NTC Thermistor Comparison'!H120,NA())","v":1.6469947368738869},10002.200000000001,3.3006533999999998,1.7590995682604627,1.7672718013949227,5.2896549849235086E-4,8.7011986329523783E-3,0.10590717658662815,1.7421162301925457]
[89,48,-1.766579653945098,-0.11109190155577249,-8.8073008324631719E-3,-5.5384980511186122E-4,1.7547579162279978,1.7630113672553491,3.2993169,9997.7000000000007,{"$f":"IFERROR((L467-M467)/'NTC Thermistor Comparison'!H122,NA())","v":-1.641612287293825},11363.512361712534,{"$f":"IFERROR('Device Resistance Tables'!D108,NA())","v":11478.295314861145},11593.078268009756,4.9855101709084249E-3,{"$f":"IFERROR((N467-M467)/'NTC Thermistor Comparison'!H121,NA())","v":1.6492985074215003},10002.299999999999,3.3006830999999996,1.7641191854961211,1.77228801302142,5.5396843566013487E-4,8.72279596095904E-3,0.11111569662271788,1.7496295588480633]
[90,49,-1.7741862240379229,-0.11633515646831365,-8.8289089821960154E-3,-5.7892034893081146E-4,1.7597218182491734,1.7679718068824386,3.2992871999999998,9997.6,{"$f":"IFERROR((L468-M468)/'NTC Thermistor Comparison'!H123,NA())","v":-1.6439358236215911},11432.734019284584,{"$f":"IFERROR('Device Resistance Tables'!D109,NA())","v":11548.21618109554},11663.698342906497,4.9763146971697481E-3,{"$f":"IFERROR((N468-M468)/'NTC Thermistor Comparison'!H122,NA())","v":1.6516122872938395},10002.4,3.3007127999999999,1.7691297765527956,1.777295054355664,5.7904932142616161E-4,8.7443271242946263E-3,0.11636107373906493,1.7571893371751419]
[91,50,-1.7818394885911231,-0.12161548927618339,-8.8504496916759212E-3,-6.040677493450719E-4,1.7646765922368632,1.7729229741791941,3.2992575,9997.5,{"$f":"IFERROR((L469-M469)/'NTC Thermistor Comparison'!H124,NA())","v":-1.6462688677350021},11502.278911822412,{"$f":"IFERROR('Device Resistance Tables'!D110,NA())","v":11618.463547295365},11734.648182768318,4.9670297175161693E-3,{"$f":"IFERROR((N469-M469)/'NTC Thermistor Comparison'!H123,NA())","v":1.6539358236215722},10002.5,3.3007424999999997,1.7741312494051158,1.7822928342685911,6.0420747657663476E-4,8.7657923400519255E-3,0.12164362021952567,1.7647956301005139]
[92,51,-1.7895395126072504,-0.12693321139564234,-8.871923184136099E-3,-6.2929133058209352E-4,1.7696221484619192,1.7778647803154732,3.2992277999999997,9997.4,{"$f":"IFERROR((L470-M470)/'NTC Thermistor Comparison'!H125,NA())","v":-1.6486111750819132},11572.147686827842,{"$f":"IFERROR('Device Resistance Tables'!D111,NA())","v":11689.038067502872},11805.928448177901,4.9576570517910756E-3,{"$f":"IFERROR((N470-M470)/'NTC Thermistor Comparison'!H124,NA())","v":1.6562688677350192},10002.6,3.3007721999999999,1.7791235138688637,1.7872812634802719,6.2944222280836293E-4,8.7871918342166122E-3,0.12696364759255815,1.7724485059009927]
[93,52,-1.7972863644330865,-0.13228863352713871,-8.8933296916857696E-3,-6.5459041792181871E-4,1.7745583990061606,1.7827971382799246,3.2991980999999999,9997.2999999999993,{"$f":"IFERROR((L471-M471)/'NTC Thermistor Comparison'!H126,NA())","v":-1.650962505147487},11642.340997790041,{"$f":"IFERROR('Device Resistance Tables'!D112,NA())","v":11759.940401808122},11877.539805826204,4.9481984995145556E-3,{"$f":"IFERROR((N471-M471)/'NTC Thermistor Comparison'!H125,NA())","v":1.6586111750819024},10002.700000000001,3.3008018999999997,1.7841064815806849,1.7922602545393127,6.5475288283844968E-4,8.808525841466297E-3,0.13232146667169564,1.780148036165174]
[94,53,-1.8050801157189338,-0.13768206569419089,-8.9146694551114347E-3,-6.7996433779993204E-4,1.7794852577422495,1.787719962859561,3.2991683999999997,9997.2000000000007,{"$f":"IFERROR((L472-M472)/'NTC Thermistor Comparison'!H127,NA())","v":-1.6533226213761283},11712.859504185497,{"$f":"IFERROR('Device Resistance Tables'!D113,NA())","v":11831.171216348986},11949.482928512476,4.9386558399713287E-3,{"$f":"IFERROR((N472-M472)/'NTC Thermistor Comparison'!H126,NA())","v":1.6609625051474826},10002.799999999999,3.3008316,1.7890800659778738,1.7972297218023345,6.8013878051287335E-4,8.8297946049735732E-3,0.13771738759524937,1.7878942957533226]
[95,54,-1.8129208413857378,-0.14311381728349692,-8.9359427236805899E-3,-7.05412417916218E-4,1.7844026403136517,1.7926331706194161,3.2991386999999999,9997.1,{"$f":"IFERROR((L473-M473)/'NTC Thermistor Comparison'!H128,NA())","v":-1.655691291096349},11783.703871478048,{"$f":"IFERROR('Device Resistance Tables'!D114,NA())","v":11902.73118331116},12021.758495144271,4.9290308322840204E-3,{"$f":"IFERROR((N473-M473)/'NTC Thermistor Comparison'!H127,NA())","v":1.6633226213761314},10002.9,3.3008612999999998,1.794044182278242,1.8021895814135371,7.055992409097378E-4,8.8509983762048439E-3,0.1431517198651355,1.7956873627636565]
[96,55,-1.8208086195830102,-0.14858419708143414,-8.957149754939886E-3,-7.3093398732959614E-4,1.7893104641146764,1.7975366798822867,3.2991089999999996,9997,{"$f":"IFERROR((L474-M474)/'NTC Thermistor Comparison'!H129,NA())","v":-1.6580682854458182},11854.874771118857,{"$f":"IFERROR('Device Resistance Tables'!D115,NA())","v":11974.620980928139},12094.367190737421,4.91932521551397E-3,{"$f":"IFERROR((N474-M474)/'NTC Thermistor Comparison'!H128,NA())","v":1.6656912910963577},10003,3.300891,1.7989987474600584,1.8071397512843483,7.3113359044207904E-4,8.8721374147320287E-3,0.14862477238470001,1.8035273184932274]
[97,56,-1.8287435316588703,-0.1540935133130644,-8.9782908145255025E-3,-7.5652837656337013E-4,1.7942086482706048,1.8024304107085669,3.2990792999999998,9996.9,{"$f":"IFERROR((L475-M475)/'NTC Thermistor Comparison'!H130,NA())","v":-1.6604533792999341},11926.372880546427,{"$f":"IFERROR('Device Resistance Tables'!D116,NA())","v":12046.84129348124},12167.309706416054,4.9095407087407228E-3,{"$f":"IFERROR((N475-M475)/'NTC Thermistor Comparison'!H129,NA())","v":1.6680682854458244},10003.1,3.3009206999999998,1.8039436802420867,1.812080151073163,7.5674115695645305E-4,8.8932119880327232E-3,0.1541368534961296,1.8114142474060055]
[98,57,-1.8367256621221453,-0.15964207367692032,-8.9993661759673049E-3,-7.8219491769360161E-4,1.7990971136179037,1.8073142848761774,3.2990496,9996.7999999999993,{"$f":"IFERROR((L476-M476)/'NTC Thermistor Comparison'!H131,NA())","v":-1.6628463512009508},11998.198883186591,{"$f":"IFERROR('Device Resistance Tables'!D117,NA())","v":12119.392811299587},12240.586739412583,4.8996790111646149E-3,{"$f":"IFERROR((N476-M476)/'NTC Thermistor Comparison'!H130,NA())","v":1.6704533792999252},10003.200000000001,3.3009503999999996,1.8088789010636996,1.8170107021651771,7.8242126982863702E-4,8.9142223713061242E-3,0.15968827101648475,1.8193482370975327]
[99,58,-1.8447550986104837,-0.16523018538190137,-9.0203761204985522E-3,-8.0793294444725383E-4,1.8039757826845371,1.8121882258605884,{"$f":"IFERROR($B$22-(($B$223-B256)*(($B$22*(1-$B$23))/1000000)),NA())","v":3.2990198999999998},{"$f":"IFERROR(($B$29-((B477-$B$444))*($B$29/1000000)*$B$31),NA())","v":9996.7000000000007},{"$f":"IFERROR((L477-M477)/'NTC Thermistor Comparison'!H132,NA())","v":-1.6652469832899977},12070.353468452518,{"$f":"IFERROR('Device Resistance Tables'!D118,NA())","v":12192.276230760121},12314.198993067723,4.8897418022006978E-3,{"$f":"IFERROR((N477-M477)/'NTC Thermistor Comparison'!H131,NA())","v":1.6728463512009593},{"$f":"IFERROR(($B$29+((B477-$B$444))*($B$29/1000000)*$B$31),NA())","v":10003.299999999999},{"$f":"IFERROR($B$22+(($B$444-B477)*(($B$22*(1-$B$23))/1000000)),NA())","v":3.3009800999999999},1.8138043320650965,1.8219313276523157,8.0817326006088486E-4,8.9351688472800728E-3,0.16527933227418162,1.8273293782626054]
[100,59,-1.8528319318590181,-0.17085815518221048,-9.0413209368693792E-3,-8.3374179229189771E-4,1.8088445796703669,1.8170521588149444,3.2989902,9996.6,{"$f":"IFERROR((L478-M478)/'NTC Thermistor Comparison'!H133,NA())","v":-1.6676550612392989},12142.837331744711,{"$f":"IFERROR('Device Resistance Tables'!D119,NA())","v":12265.492254287587},12388.147176830462,4.8797307415777702E-3,{"$f":"IFERROR((N478-M478)/'NTC Thermistor Comparison'!H132,NA())","v":1.6752469832899766},10003.4,3.3010097999999997,1.8187198970676037,1.8268419523132595,8.3399646036741437E-4,8.9560517060232048E-3,0.17091034414283218,1.8353577646637593]
[101,60,-1.8609562556684864,-0.17652628941120579,-9.0622009211576149E-3,-8.5962079852119899E-4,1.8137034304276565,1.8219060105502929,3.2989604999999997,9996.5,{"$f":"IFERROR((L479-M479)/'NTC Thermistor Comparison'!H134,NA())","v":-1.6700703741883174},12215.651174451012,{"$f":"IFERROR('Device Resistance Tables'!D120,NA())","v":12339.041590354558},12462.432006258105,4.8696474694416292E-3,{"$f":"IFERROR((N479-M479)/'NTC Thermistor Comparison'!H133,NA())","v":1.6776550612393186},10003.5,3.3010394999999999,1.8236255215540818,1.831742502593579,8.5989020526766602E-4,8.9768712447648724E-3,0.17658161307645212,1.8434334931013379]
[102,61,-1.8691281668732571,-0.18223489401540965,-9.0830163765833749E-3,-8.8556930234262587E-4,1.8185522624416723,1.8267497095159131,3.2989307999999999,9996.4,{"$f":"IFERROR((L480-M480)/'NTC Thermistor Comparison'!H135,NA())","v":-1.6724927146787172},12288.795703946593,{"$f":"IFERROR('Device Resistance Tables'!D121,NA())","v":12412.924953481406},12537.05420301622,4.8594936064645378E-3,{"$f":"IFERROR((N480-M480)/'NTC Thermistor Comparison'!H134,NA())","v":1.680070374188297},10003.6,3.3010691999999997,1.8285211326494275,1.8366329065859641,8.8585383117179006E-4,8.9976277677084049E-3,0.18229344514279167,1.8515566633813341]
[103,62,-1.8773477653167898,-0.1879842745880185,-9.1037676133316481E-3,-9.1158664496093778E-4,1.8233910048113886,1.8315831857797593,3.2989010999999997,9996.2999999999993,{"$f":"IFERROR((L481-M481)/'NTC Thermistor Comparison'!H136,NA())","v":-1.6749218785933542},12362.271633593959,{"$f":"IFERROR('Device Resistance Tables'!D122,NA())","v":12487.143064236321},12612.014494878684,4.8492707539433688E-3,{"$f":"IFERROR((N481-M481)/'NTC Thermistor Comparison'!H135,NA())","v":1.6824927146787179},10003.700000000001,3.3010988999999999,1.8334066591011817,1.8415130940105708,9.1188667646147081E-4,9.0183215858505861E-3,0.18804614605607153,1.8597273782902295]
[104,63,-1.8856151538164547,-0.19377473639983869,-9.1244549483635584E-3,-9.3767216965390254E-4,1.8282195882303001,1.8364063710090097,3.2988713999999999,9996.2000000000007,{"$f":"IFERROR((L482-M482)/'NTC Thermistor Comparison'!H137,NA())","v":-1.6773576650949422},12436.079682742949,{"$f":"IFERROR('Device Resistance Tables'!D123,NA())","v":12561.696649235302},12687.313615727655,4.8389804939230618E-3,{"$f":"IFERROR((N482-M482)/'NTC Thermistor Comparison'!H136,NA())","v":1.6849218785933584},10003.799999999999,3.3011285999999997,1.8382820312602393,1.8463829961954699,9.3798808157563585E-4,9.0389530168062393E-3,0.19384002120975474,1.867945743562643]
[105,64,-1.8939304381422171,-0.19960658443305029,-9.145078705246279E-3,-9.6382522185778363E-4,1.8330379449673404,1.8412191984507289,3.2988416999999997,9996.1,{"$f":"IFERROR((L483-M483)/'NTC Thermistor Comparison'!H138,NA())","v":-1.679799876567982},12510.22057673075,{"$f":"IFERROR('Device Resistance Tables'!D124,NA())","v":12636.586441142172},12762.952305553594,4.8286243892974312E-3,{"$f":"IFERROR((N483-M483)/'NTC Thermistor Comparison'!H137,NA())","v":1.6873576650949509},10003.9,3.3011583,1.8431471810616731,1.8512425460572157,9.6415738908639526E-4,9.0595223846290374E-3,0.19967537570812813,1.8762118678581261]
[106,65,-1.9022937269865574,-0.20548012341086799,-9.1656392139711773E-3,-9.9004514923661802E-4,1.8378460088479129,1.8460216029126475,3.2988119999999999,9996,{"$f":"IFERROR((L484-M484)/'NTC Thermistor Comparison'!H139,NA())","v":-1.6822483185598467},12584.695046881865,{"$f":"IFERROR('Device Resistance Tables'!D125,NA())","v":12711.81317866855},12838.931310455235,4.8182039839297364E-3,{"$f":"IFERROR((N484-M484)/'NTC Thermistor Comparison'!H138,NA())","v":1.6897998765679692},10004,3.3011879999999998,1.848002042005658,1.8560916780815195,9.9039394377387069E-4,9.0800300196354211E-3,0.20555251439689018,1.8845258627323063]
[107,66,-1.9107051319381472,-0.21139565782885761,-9.1861368107803987E-3,-1.0163313017592657E-3,1.8426437152350335,1.8508135207440546,3.2987822999999996,9995.9,{"$f":"IFERROR((L485-M485)/'NTC Thermistor Comparison'!H140,NA())","v":-1.6847027997259612},12659.503830508145,{"$f":"IFERROR('Device Resistance Tables'!D126,NA())","v":12787.377606573884},12915.251382639623,4.8077208027710316E-3,{"$f":"IFERROR((N485-M485)/'NTC Thermistor Comparison'!H139,NA())","v":1.692248318559852},10004.1,3.3012177,1.85284654913852,1.8609303283040524,1.0166970927061314E-3,9.1004762582385101E-3,0.21147174189485723,1.8928878426120872]
[108,67,-1.9191647674601218,-0.21735349198529627,-9.2065718379981121E-3,-1.0426830317704638E-3,1.8474310010105868,1.8555948898168144,3.2987525999999998,9995.7999999999993,{"$f":"IFERROR((L486-M486)/'NTC Thermistor Comparison'!H141,NA())","v":-1.6871631317732279},12734.647670908762,{"$f":"IFERROR('Device Resistance Tables'!D127,NA())","v":12863.280475665417},12991.913280422072,4.7971763519722987E-3,{"$f":"IFERROR((N486-M486)/'NTC Thermistor Comparison'!H140,NA())","v":1.6947027997259732},10004.200000000001,3.3012473999999998,1.8576806390338885,1.8657584342913534,1.0430661853035872E-3,9.1208614427684687E-3,0.21743336262273194,1.9012979247716297]
[109,68,-1.9276727508612104,-0.22335393000945561,-9.2269446438550951E-3,-1.069099694055442E-3,1.8522078045567021,1.8603656495065017,3.2987229,9995.7000000000007,{"$f":"IFERROR((L487-M487)/'NTC Thermistor Comparison'!H142,NA())","v":-1.6896291294082837},12810.127317370243,{"$f":"IFERROR('Device Resistance Tables'!D128,NA())","v":12939.522542798226},13068.917768226209,4.7865721190138988E-3,{"$f":"IFERROR((N487-M487)/'NTC Thermistor Comparison'!H141,NA())","v":1.6971631317732276},10004.299999999999,3.3012770999999996,1.8625042497739741,1.870575935121872,1.0695005734169261E-3,9.1411859213148539E-3,0.2234376808339531,1.9097562293071784]
[110,69,-1.9362292022764416,-0.22939727589264108,-9.247255582325975E-3,-1.095580645914529E-3,1.8569740657372451,1.8651257406736566,3.2986931999999998,9995.6,{"$f":"IFERROR((L488-M488)/'NTC Thermistor Comparison'!H143,NA())","v":-1.6921006102834495},12885.943525166427,{"$f":"IFERROR('Device Resistance Tables'!D129,NA())","v":13016.104570875179},13146.265616583931,4.7759095728201473E-3,{"$f":"IFERROR((N488-M488)/'NTC Thermistor Comparison'!H142,NA())","v":1.6996291294082744},10004.4,3.3013067999999999,1.8673173209309575,1.8753827713671236,1.0959996113864001E-3,9.1614500475525329E-3,0.22948500064234229,1.9182628791153491]
[111,70,-1.9448342446399767,-0.23548383351434637,-9.267505012959365E-3,-1.1221252472182197E-3,1.8617297258794319,1.869875105645173,3.2986635,9995.5,{"$f":"IFERROR((L489-M489)/'NTC Thermistor Comparison'!H144,NA())","v":-1.6945773949465472},12962.097055558499,{"$f":"IFERROR('Device Resistance Tables'!D130,NA())","v":13093.027328846969},13223.957602135439,4.7651901638923189E-3,{"$f":"IFERROR((N489-M489)/'NTC Thermistor Comparison'!H143,NA())","v":1.7021006102834515},10004.5,3.3013364999999997,1.8721197935485048,1.8801788850729739,1.122562656113546E-3,9.181654180582699E-3,0.23557562605153423,1.9268179998682169]
[112,71,-1.9534880036682223,-0.24161390667295865,-9.2876933007179918E-3,-1.1487328604797842E-3,1.8664747277555656,1.8746136881958038,3.2986337999999997,9995.4,{"$f":"IFERROR((L490-M490)/'NTC Thermistor Comparison'!H145,NA())","v":-1.697059306791258},13038.588675794985,{"$f":"IFERROR('Device Resistance Tables'!D131,NA())","v":13170.291591712106},13301.994507629228,4.7544153244236664E-3,{"$f":"IFERROR((N490-M490)/'NTC Thermistor Comparison'!H144,NA())","v":1.7045773949465521},10004.6,3.3013661999999999,1.8769116101234029,1.8849642197410508,1.1491890671193605E-3,9.2017986847672262E-3,0.24170986098246813,1.9354217199951236]
[113,72,-1.962190607833074,-0.24778779911085561,-9.3078208158134945E-3,-1.1754028509063374E-3,1.8712090155648937,1.8793414335298009,3.2986040999999999,9995.2999999999993,{"$f":"IFERROR((L491-M491)/'NTC Thermistor Comparison'!H146,NA())","v":-1.6995461720071967},13115.419159111729,{"$f":"IFERROR('Device Resistance Tables'!D132,NA())","v":13247.898140516898},13380.377121922067,4.743586468438199E-3,{"$f":"IFERROR((N491-M491)/'NTC Thermistor Comparison'!H145,NA())","v":1.7070593067912541},10004.700000000001,3.3013958999999997,1.8816927145873164,1.8897387203102805,1.1758782066091378E-3,9.221883929573238E-3,0.24788800930117535,1.9440741706579441]
[114,73,-1.9709421883450751,-0.25400581454298443,-9.3278879335496612E-3,-1.2021345864621225E-3,1.8759325349155958,1.8840582882626833,3.2985743999999997,9995.2000000000007,{"$f":"IFERROR((L492-M492)/'NTC Thermistor Comparison'!H147,NA())","v":-1.7020378195335915},13192.589284731925,{"$f":"IFERROR('Device Resistance Tables'!D133,NA())","v":13325.847762355479},13459.106239979033,4.7327049919114739E-3,{"$f":"IFERROR((N492-M492)/'NTC Thermistor Comparison'!H146,NA())","v":1.7095461720071894},10004.799999999999,3.3014256,1.8864630522886752,1.8945023331385582,1.2026294395297565E-3,9.2419102894127914E-3,0.25411037484591475,1.952775485733395]
[115,74,-1.9797428791310847,-0.26026825668321707,-9.3478950341647771E-3,-1.2289274379244652E-3,1.8806452328068921,1.8887642004031324,3.2985446999999999,9995.1,{"$f":"IFERROR((L493-M493)/'NTC Thermistor Comparison'!H148,NA())","v":-1.7045340810118448},13270.09983786609,{"$f":"IFERROR('Device Resistance Tables'!D134,NA())","v":13404.141250369788},13538.182662873487,4.7217722729062661E-3,{"$f":"IFERROR((N493-M493)/'NTC Thermistor Comparison'!H147,NA())","v":1.7120378195336061},10004.9,3.3014552999999998,1.8912225699746827,1.8992550059845454,1.2294421336258576E-3,9.2618781434885555E-3,0.26037726145338475,1.9615258017913344]
[116,75,-1.9885928168163014,-0.26657542927061362,-9.3678425026755274E-3,-1.2557807789370656E-3,1.8853470576112876,1.8934591193350261,3.2985149999999996,9995,{"$f":"IFERROR((L494-M494)/'NTC Thermistor Comparison'!H149,NA())","v":-1.7070347907406975},13347.951609712089,{"$f":"IFERROR('Device Resistance Tables'!D135,NA())","v":13482.779403749584},13617.60719778708,4.710789671700244E-3,{"$f":"IFERROR((N494-M494)/'NTC Thermistor Comparison'!H148,NA())","v":1.714534081011831},10005,3.301485,1.8959712157734598,1.9039966879896035,1.2563156594966873E-3,9.2817878756403793E-3,0.26668897298555277,1.9703252580772399]
[117,76,-1.9974921407044053,-0.27292763609492293,-9.3877307287253409E-3,-1.2826939860615116E-3,1.8900379590569381,1.8981429957996019,3.2984852999999998,9994.9,{"$f":"IFERROR((L495-M495)/'NTC Thermistor Comparison'!H150,NA())","v":-1.7095397856312999},13426.145397455104,{"$f":"IFERROR('Device Resistance Tables'!D136,NA())","v":13561.763027732428},13697.380658009752,4.6997585309220824E-3,{"$f":"IFERROR((N495-M495)/'NTC Thermistor Comparison'!H149,NA())","v":1.7170347907406946},10005.1,3.3015146999999998,1.9007089391763106,1.9087273296598584,1.2832493906471676E-3,9.3016398741949669E-3,0.27304581335488248,1.9791739964925401]
[118,77,-2.0064409927600559,-0.27932518102274467,-9.407560106432955E-3,-1.3096664388305701E-3,1.8947178882101525,1.9028157818777549,3.2984556,9994.7999999999993,{"$f":"IFERROR((L496-M496)/'NTC Thermistor Comparison'!H151,NA())","v":-1.7120489051640004},13504.682004267661,{"$f":"IFERROR('Device Resistance Tables'!D137,NA())","v":13641.092933603699},13777.503862939737,4.6886801756835794E-3,{"$f":"IFERROR((N496-M496)/'NTC Thermistor Comparison'!H150,NA())","v":1.7195397856313186},10005.200000000001,3.3015443999999996,1.9054356910201256,1.9134468828484015,1.3102427035400765E-3,9.3214345318159975E-3,0.27944808655008158,1.9880721615773231]
[119,78,-2.0154395175904911,-0.2857683680218514,-9.4273310342432026E-3,-1.3366975197937059E-3,1.8993867974580259,1.9074774309724754,3.2984258999999998,9994.7000000000007,{"$f":"IFERROR((L497-M497)/'NTC Thermistor Comparison'!H152,NA())","v":-1.7145619913461643},13583.562239309627,{"$f":"IFERROR('Device Resistance Tables'!D138,NA())","v":13720.769938696594},13857.977638083561,4.6775559137164358E-3,{"$f":"IFERROR((N497-M497)/'NTC Thermistor Comparison'!H151,NA())","v":1.7220489051639998},10005.299999999999,3.3015740999999998,1.9101514234699144,1.9181553007376275,1.3372949776453424E-3,9.3411722453584645E-3,0.28589609666105048,1.9970199004925777]
[120,79,-2.0244878624300511,-0.29225750118631399,-9.4470439147817942E-3,-1.3637866145650435E-3,1.9040446404912037,1.9121278977914204,3.2983962,9994.6,{"$f":"IFERROR((L498-M498)/'NTC Thermistor Comparison'!H153,NA())","v":-1.717078888670315},13662.786917728195,{"$f":"IFERROR('Device Resistance Tables'!D139,NA())","v":13800.794866392116},13938.802815056037,4.6663870355054815E-3,{"$f":"IFERROR((N498-M498)/'NTC Thermistor Comparison'!H152,NA())","v":1.7245619913461461},10005.4,3.3016037999999996,1.9148560900014713,1.9228525378217078,1.3644055954857848E-3,9.3608534157223477E-3,0.29239014790336332,2.0060173630043403]
[121,80,-2.0335861771222667,-0.29879288476057075,-9.466699154710545E-3,-1.390933111867998E-3,1.9086913722867804,1.916767138329623,3.2983664999999998,9994.5,{"$f":"IFERROR((L499-M499)/'NTC Thermistor Comparison'!H154,NA())","v":-1.719599444073777},13742.35686065789,{"$f":"IFERROR('Device Resistance Tables'!D140,NA())","v":13881.168546119081},14019.980231580272,4.6551748144290084E-3,{"$f":"IFERROR((N499-M499)/'NTC Thermistor Comparison'!H153,NA())","v":1.7270788886703217},10005.5,3.3016334999999999,1.919549645384178,1.9275385498892035,1.3915739426870744E-3,9.3804784477125036E-3,0.29893054464330815,2.0150647014666601]
[122,81,-2.0427346141030043,-0.30537482316352538,-9.4862971645819361E-3,-1.4181364035792399E-3,1.913326949091338,1.9213951098523407,3.2983368,9994.4,{"$f":"IFERROR((L500-M500)/'NTC Thermistor Comparison'!H155,NA())","v":-1.7221235068989083},13822.272895220578,{"$f":"IFERROR('Device Resistance Tables'!D141,NA())","v":13961.891813354119},14101.51073148766,4.6439205068973255E-3,{"$f":"IFERROR((N500-M500)/'NTC Thermistor Comparison'!H154,NA())","v":1.7295994440737776},10005.6,3.3016631999999997,1.9242320456639346,1.9322132940058172,1.4187994080145927E-3,9.4000477498972224E-3,0.30551759142029639,2.024162070805458]
[123,82,-2.0519333283897909,-0.3120036210123957,-9.5058383587072193E-3,-1.4453958847691073E-3,1.9179513284041101,1.9260117708780482,3.2983070999999997,9994.2999999999993,{"$f":"IFERROR((L501-M501)/'NTC Thermistor Comparison'!H156,NA())","v":-1.7246509288545133},13902.535854525458,{"$f":"IFERROR('Device Resistance Tables'!D142,NA())","v":14042.965509621676},14183.395164717893,4.6326253524848759E-3,{"$f":"IFERROR((N501-M501)/'NTC Thermistor Comparison'!H155,NA())","v":1.7321235068989129},10005.700000000001,3.3016928999999999,1.9289032481462371,1.9368767284972841,1.4460813834198394E-3,9.4195617344667859E-3,0.31215159297182998,2.0333096285056298]
[124,83,-2.061182477560664,-0.31867958314527273,-9.5253231550065376E-3,-1.4727109537404637E-3,1.9225644689602956,1.9306170811615617,3.2982773999999999,9994.2000000000007,{"$f":"IFERROR((L502-M502)/'NTC Thermistor Comparison'!H157,NA())","v":-1.7271815639777726},13983.146577669066,{"$f":"IFERROR('Device Resistance Tables'!D143,NA())","v":14124.390482494005},14265.634387318945,4.6212905740783405E-3,{"$f":"IFERROR((N502-M502)/'NTC Thermistor Comparison'!H156,NA())","v":1.7346509288545053},10005.799999999999,3.3017225999999997,1.9335632113793841,1.9415288129324058,1.4734192640819543E-3,9.4390208171035717E-3,0.31883285425647784,2.0425075345940713]
[125,84,-2.0704822217446472,-0.32540301464518617,-9.544751974884802E-3,-1.5000810120702202E-3,1.9271663307144957,1.9352110016773103,3.2982476999999997,9994.1,{"$f":"IFERROR((L503-M503)/'NTC Thermistor Comparison'!H158,NA())","v":-1.7297152685970578},14064.105909735263,{"$f":"IFERROR('Device Resistance Tables'!D144,NA())","v":14206.167585591174},14348.229261447086,4.6099173780116409E-3,{"$f":"IFERROR((N503-M503)/'NTC Thermistor Comparison'!H157,NA())","v":1.7371815639777755},10005.9,3.3017523,1.9382118951378233,1.9461695081062242,1.5008124484428009E-3,9.4584254168437187E-3,0.32556168047639378,2.0517559516269133]
[126,85,-2.0798327236059064,-0.33217422086166631,-9.5641252430889168E-3,-1.5275054646406439E-3,1.9317568748243032,1.9397934946027515,3.2982179999999999,9994,{"$f":"IFERROR((L504-M504)/'NTC Thermistor Comparison'!H159,NA())","v":-1.7322519012959192},14145.414701795255,{"$f":"IFERROR('Device Resistance Tables'!D145,NA())","v":14288.297678581066},14431.180655366878,4.5985069542069379E-3,{"$f":"IFERROR((N504-M504)/'NTC Thermistor Comparison'!H158,NA())","v":1.7397152685970678},10006,3.3017819999999998,1.9428492604056371,1.9507987760233354,1.5282603382449356E-3,9.4777759559432351E-3,0.33233837710016045,2.0610550446754257]
[127,86,-2.0892341483308838,-0.33899350743406981,-9.583443387580326E-3,-1.5549837196788818E-3,1.9363360636340188,1.9443645233019202,3.2981882999999996,9993.9,{"$f":"IFERROR((L505-M505)/'NTC Thermistor Comparison'!H160,NA())","v":-1.73479132287731},14227.073810907579,{"$f":"IFERROR('Device Resistance Tables'!D146,NA())","v":14370.781627179373},14514.489443451166,4.587060476316962E-3,{"$f":"IFERROR((N505-M505)/'NTC Thermistor Comparison'!H159,NA())","v":1.7422519012959066},10006.1,3.3018117,1.9474752693601682,1.9554165798813536,1.5557623385691333E-3,9.4970728597545406E-3,0.33916324988553115,2.0704049813138545]
[128,87,-2.0986866636146462,-0.34586118031270191,-9.602706839403341E-3,-1.5825151887860489E-3,1.9409038606585127,1.94892405230913,3.2981585999999998,9993.7999999999993,{"$f":"IFERROR((L506-M506)/'NTC Thermistor Comparison'!H161,NA())","v":-1.7373333963288902},14309.084100118103,{"$f":"IFERROR('Device Resistance Tables'!D147,NA())","v":14453.620303149599},14598.156506181094,4.5755791018675662E-3,{"$f":"IFERROR((N506-M506)/'NTC Thermistor Comparison'!H160,NA())","v":1.7447913228773064},10006.200000000001,3.3018413999999998,1.9520898853557811,1.9600228840545082,1.5833178578650298E-3,9.5163165565921304E-3,0.34603660490074001,2.0798059316050193]
[129,88,-2.1081904396502074,-0.35277754578154275,-9.6219160325601294E-3,-1.6100992869723108E-3,{"$f":"IFERROR(I507/(L507+Q507)*L507,NA())","v":1.9454602305672235},{"$f":"IFERROR(I507/(M507+Q507)*M507,NA())","v":1.9534720473128113},3.2981289,9993.7000000000007,{"$f":"IFERROR((L507-M507)/'NTC Thermistor Comparison'!H162,NA())","v":-1.7398779867892422},14391.446438460036,{"$f":"IFERROR('Device Resistance Tables'!D148,NA())","v":14536.814584303067},14682.182730146098,{"$f":"IFERROR(N286,NA())","v":4.5640639723973919E-3},{"$f":"IFERROR((N507-M507)/'NTC Thermistor Comparison'!H161,NA())","v":1.7473333963289008},10006.299999999999,3.3018710999999996,{"$f":"IFERROR((R507/(M507+J507))*M507,NA())","v":1.9566930729077685},{"$f":"IFERROR((R507/(N507+J507))*N507,NA())","v":1.9646176540773934},1.6109263079848724E-3,9.5355074776097837E-3,0.35295874854678949,2.0892580680899204]
[130,89,{"$f":"IFERROR(E508/O508,NA())","v":-2.1177456491157893},{"$f":"IFERROR(F508/O508,NA())","v":-0.35974291047933687},{"$f":"IFERROR(G508-($B$22/(M508+$B$29)*M508),NA())","v":-9.6410714038832612E-3},{"$f":"IFERROR(H508-($B$22/(M508+$B$29)*M508),NA())","v":-1.6377354326853055E-3},1.9500051391682978,1.9580084751394957,3.2980991999999998,9993.6,{"$f":"IFERROR((L508-M508)/'NTC Thermistor Comparison'!H163,NA())","v":-1.7424249615143586},{"$f":"M508*0.99","v":14474.161700953919},{"$f":"IFERROR('Device Resistance Tables'!D149,NA())","v":14620.365354498908},{"$f":"M508*1.01","v":14766.569008043898},4.5525162136013098E-3,{"$f":"IFERROR((N508-M508)/'NTC Thermistor Comparison'!H162,NA())","v":1.7498779867892456},10006.4,3.3019007999999999,1.9612847976763965,1.9692008566288581,{"$f":"IFERROR(S508-($B$22/(M508+$B$29)*M508),NA())","v":1.6385871042154943E-3},{"$f":"IFERROR(T508-($B$22/(M508+$B$29)*M508),NA())","v":9.5546460566771074E-3},{"$f":"IFERROR(U508/O508,NA())","v":0.35992998757917105},{"$f":"IFERROR(V508/O508,NA())","v":2.0987615657756917}]
[131,{"$f":"B508+1","v":90},-2.1273524671615096,-0.36675758142065989,-9.6601733929089217E-3,-1.6654230478387877E-3,1.9545385533928734,1.9625333037379435,{"$f":"IFERROR($B$22-(($B$223-B288)*(($B$22*(1-$B$23))/1000000)),NA())","v":3.2980695},{"$f":"IFERROR(($B$29-((B509-$B$444))*($B$29/1000000)*$B$31),NA())","v":9993.5},{"$f":"IFERROR((L509-M509)/'NTC Thermistor Comparison'!H164,NA())","v":-1.744974189844996},14557.230768607624,{"$f":"IFERROR('Device Resistance Tables'!D150,NA())","v":14704.273503644064},14851.316238680505,4.5409369354756368E-3,{"$f":"IFERROR((N509-M509)/'NTC Thermistor Comparison'!H163,NA())","v":1.7524249615143517},{"$f":"IFERROR(($B$29+((B509-$B$444))*($B$29/1000000)*$B$31),NA())","v":10006.5},{"$f":"IFERROR($B$22+(($B$444-B509)*(($B$22*(1-$B$23))/1000000)),NA())","v":3.3019304999999997},1.9658650264510868,1.9737724595160386,1.6662996653045159E-3,9.5737327302563013E-3,0.36695062912825516,2.1083166021228852]
[132,91,-2.1370110714023625,-0.37382186601728884,-9.6792224417632244E-3,-1.6931615578397174E-3,1.9590604412794947,1.9670465021634183,3.2980397999999997,9993.4,{"$f":"IFERROR((L510-M510)/'NTC Thermistor Comparison'!H165,NA())","v":-1.747525543175158},14640.654528416362,{"$f":"IFERROR('Device Resistance Tables'!D151,NA())","v":14788.539927693295},14936.425326970228,4.5293272324562484E-3,{"$f":"IFERROR((N510-M510)/'NTC Thermistor Comparison'!H164,NA())","v":1.7549741898449924},10006.6,3.3019601999999999,1.9704337271347483,1.9783324316585407,1.694063413490321E-3,9.5927679372826979E-3,0.37402098072115503,2.1179233570369682]
[133,92,-2.1467216419032975,-0.38093607209874847,-9.6982189950338693E-3,-1.720950391614906E-3,1.9635707719586803,1.9715480405620993,3.2980100999999999,9993.2999999999993,{"$f":"IFERROR((L511-M511)/'NTC Thermistor Comparison'!H166,NA())","v":-1.7500788949203911},14724.433873362674,{"$f":"IFERROR('Device Resistance Tables'!D152,NA())","v":14873.165528649166},15021.897183935658,4.5176881835669036E-3,{"$f":"IFERROR((N511-M511)/'NTC Thermistor Comparison'!H165,NA())","v":1.7575255431751675},10006.700000000001,3.3019898999999997,1.974990868728242,1.9828807430727615,1.7218777745278135E-3,9.611752119047301E-3,0.38114135030194118,2.1275820128556151]
[134,93,-2.1564843611717759,-0.38810050793276929,-9.7171634996591205E-3,-1.7487889816341085E-3,1.968069515637622,1.976037890155647,3.2979803999999997,9993.2000000000007,{"$f":"IFERROR((L512-M512)/'NTC Thermistor Comparison'!H167,NA())","v":-1.752634120487538},14808.569702416442,{"$f":"IFERROR('Device Resistance Tables'!D153,NA())","v":14958.151214562062},15107.732726707682,4.5060208525598E-3,{"$f":"IFERROR((N512-M512)/'NTC Thermistor Comparison'!H166,NA())","v":1.7600788949203754},10006.799999999999,3.3020195999999999,1.9795364213149949,1.9874173648563624,1.7497421777137312E-3,9.6306857190813222E-3,0.38831204625245574,2.1372927543400695]
[135,94,-2.1662994141474066,-0.39531548224618018,-9.7360564048085685E-3,-1.7766767639355585E-3,1.9725566435850324,1.9805160232259054,3.2979506999999999,9993.1,{"$f":"IFERROR((L513-M513)/'NTC Thermistor Comparison'!H168,NA())","v":-1.7551910972446894},14893.062920534876,{"$f":"IFERROR('Device Resistance Tables'!D154,NA())","v":15043.497899530177},15193.932878525478,4.4943262880585699E-3,{"$f":"IFERROR((N513-M513)/'NTC Thermistor Comparison'!H167,NA())","v":1.7626341204875402},10006.9,3.3020492999999997,1.9840703560457487,1.9919422691728825,1.7776560559077392E-3,9.6495691830416064E-3,0.39553337741208811,2.1470557686656]
[136,95,-2.1761669881921737,-0.40258130424420746,-9.7548981617714414E-3,-1.8046131781448427E-3,1.9770321281161281,1.9849824130997547,3.2979209999999997,9993,{"$f":"IFERROR((L514-M514)/'NTC Thermistor Comparison'!H169,NA())","v":-1.757749704491907},14977.914438662525,{"$f":"IFERROR('Device Resistance Tables'!D155,NA())","v":15129.206503699521},15280.498568736517,4.4826055237034979E-3,{"$f":"IFERROR((N514-M514)/'NTC Thermistor Comparison'!H168,NA())","v":1.765191097244706},10007,3.302079,1.9885926451234595,1.9964554292364989,1.8056188455599642E-3,9.6684029585993869E-3,0.40280565309886435,2.1568712454116237]
[137,96,-2.1860872730805787,-0.40989828363026953,-9.7736892238424744E-3,-1.8325976674953282E-3,1.9814959425777605,1.9894370341341077,3.2978912999999999,9992.9,{"$f":"IFERROR((L515-M515)/'NTC Thermistor Comparison'!H170,NA())","v":-1.760309823432171},15063.12517373127,{"$f":"IFERROR('Device Resistance Tables'!D156,NA())","v":15215.277953263911},15367.430732796551,4.4708595782956273E-3,{"$f":"IFERROR((N515-M515)/'NTC Thermistor Comparison'!H169,NA())","v":1.7677497044919088},10007.1,3.3021086999999998,1.9931032617883293,2.0009568192969338,1.8336299867263151E-3,9.6871874953308179E-3,0.41012918312798541,2.1667393765526737]
[138,97,-2.1960604609933938,-0.41726673062678843,-9.7924300462159941E-3,-1.8606296788512555E-3,1.9859480613336826,1.9938798617010474,3.2978615999999996,9992.7999999999993,{"$f":"IFERROR((L516-M516)/'NTC Thermistor Comparison'!H171,NA())","v":-1.7628713371439555},15148.696048660333,{"$f":"IFERROR('Device Resistance Tables'!D157,NA())","v":15301.713180464983},15454.730312269634,4.459089455937093E-3,{"$f":"IFERROR((N516-M516)/'NTC Thermistor Comparison'!H170,NA())","v":1.7703098234321668},10007.200000000001,3.3021384,1.9976021803029893,2.005446414624505,1.8616889230906875E-3,9.7059232446063959E-3,0.41750427783231076,2.1766603564508804]
[139,98,-2.2060867465069034,-0.42468695599332978,-9.8111210858737863E-3,-1.8887086627210614E-3,1.9903884597499619,1.9983108721731146,3.2978318999999998,9992.7000000000007,{"$f":"IFERROR((L517-M517)/'NTC Thermistor Comparison'!H172,NA())","v":-1.7654341305522645},15234.627992356252,{"$f":"IFERROR('Device Resistance Tables'!D158,NA())","v":15388.513123592174},15542.398254828096,4.4472961461776706E-3,{"$f":"IFERROR((N517-M517)/'NTC Thermistor Comparison'!H171,NA())","v":1.7728713371439511},10007.299999999999,3.3021680999999998,2.0020893759378184,2.0099241914953234,1.8897951019827275E-3,9.7246106594877091E-3,0.42493124808136618,2.1866343818469893]
[140,99,-2.216166326586309,-0.43215927104604052,-9.8297628014825111E-3,-1.916834073274476E-3,1.9948171141805309,2.0027300429087389,3.2978022,9992.6,{"$f":"IFERROR((L518-M518)/'NTC Thermistor Comparison'!H173,NA())","v":-1.7679980904037742},15320.921939712933,{"$f":"IFERROR('Device Resistance Tables'!D159,NA())","v":15475.67872698276},15630.435514252587,4.4354806241568845E-3,{"$f":"IFERROR((N518-M518)/'NTC Thermistor Comparison'!H172,NA())","v":1.7754341305522583},10007.4,3.3021977999999996,2.0065648249564116,2.0143901271766373,1.9179479743982597E-3,9.7432501946239647E-3,0.43241040530141683,2.1966616518533444]
[141,100,-2.2262994005775671,-0.43968398767799183,-9.8483556532886762E-3,-1.9450053683640611E-3,1.9992340019528816,2.0071373522378062,3.2977724999999998,9992.5,{"$f":"IFERROR((L519-M519)/'NTC Thermistor Comparison'!H174,NA())","v":-1.7705631052378445},15407.578831611576,{"$f":"IFERROR('Device Resistance Tables'!D160,NA())","v":15563.210941021794},15718.843050432013,4.4236438507478937E-3,{"$f":"IFERROR((N519-M519)/'NTC Thermistor Comparison'!H173,NA())","v":1.7779980904037849},10007.5,3.3022274999999999,2.0110285046011787,2.0188441999123148,1.9461469950083909E-3,9.7618423061445192E-3,0.43994206149289372,2.2067423679449489]
[142,101,-2.2364861702015766,-0.44726141837621913,-9.8669001030149417E-3,-1.9732220095298736E-3,2.0036391013539032,2.0115327794473883,3.2977428,9992.4,{"$f":"IFERROR((L520-M520)/'NTC Thermistor Comparison'!H175,NA())","v":-1.7731290653624352},15494.599614920748,{"$f":"IFERROR('Device Resistance Tables'!D161,NA())","v":15651.11072214217},15807.621829363592,4.4117867726969351E-3,{"$f":"IFERROR((N520-M520)/'NTC Thermistor Comparison'!H174,NA())","v":1.7805631052378426},10007.6,3.3022571999999997,2.0154803930790983,2.0232863889084824,1.9743916221801605E-3,9.7803874515642875E-3,0.44752652925091629,2.2168767339554614]
[143,102,-2.2467268395439484,-0.45489187624145716,-9.8853966137615323E-3,-2.001483462020559E-3,2.0080323916158536,2.0159163047675945,3.2977130999999997,9992.2999999999993,{"$f":"IFERROR((L521-M521)/'NTC Thermistor Comparison'!H176,NA())","v":-1.7756958628277288},15581.985242496334,{"$f":"IFERROR('Device Resistance Tables'!D162,NA())","v":15739.37903282458},15896.772823152825,4.399910322773426E-3,{"$f":"IFERROR((N521-M521)/'NTC Thermistor Comparison'!H175,NA())","v":1.7831290653624297},10007.700000000001,3.3022868999999999,2.0199204695476052,2.0277166743192989,2.0026813179900849E-3,9.7988860896838226E-3,0.45516412178321874,2.2270649560664735]
[144,103,-2.2570216150526581,-0.46257567500666635,-9.903845649907872E-3,-2.0297891948017899E-3,2.0124138529024806,2.0202879093575867,3.2976833999999999,9992.2000000000007,{"$f":"IFERROR((L522-M522)/'NTC Thermistor Comparison'!H177,NA())","v":-1.778263391401306},15669.736673181556,{"$f":"IFERROR('Device Resistance Tables'!D163,NA())","v":15828.016841597531},15986.297010013506,4.3880154199040788E-3,{"$f":"IFERROR((N522-M522)/'NTC Thermistor Comparison'!H176,NA())","v":1.7856958628277242},10007.799999999999,3.3023165999999997,2.0243487141006185,2.0321350372328761,2.0310155482299308E-3,9.8173386804876195E-3,0.46285515292795587,2.2373072428041341]
[145,104,-2.2673707055289816,-0.47031312905517692,-9.9222476770153278E-3,-2.0581386805686996E-3,2.0167834662952773,2.0246475752917239,3.2976536999999997,9992.1,{"$f":"IFERROR((L523-M523)/'NTC Thermistor Comparison'!H178,NA())","v":-1.7808315465439517},15757.854871806978,{"$f":"IFERROR('Device Resistance Tables'!D164,NA())","v":15917.025123037351},16076.195374267723,4.376102969320339E-3,{"$f":"IFERROR((N523-M523)/'NTC Thermistor Comparison'!H177,NA())","v":1.788263391401302},10007.9,3.3023463,2.0287651077547215,2.0365414596573501,2.0593937824289199E-3,9.8357456850575176E-3,0.47059993717395737,2.2476038050322948]
[146,105,-2.2777743221221911,-0.47810455343867808,-9.9406031617319535E-3,-2.0865313957543208E-3,2.021141213779881,2.0289952855458586,3.2976239999999999,9992,{"$f":"IFERROR((L524-M524)/'NTC Thermistor Comparison'!H179,NA())","v":-1.7834002253852992},15846.340809190488,{"$f":"IFERROR('Device Resistance Tables'!D165,NA())","v":16006.40485776817},16166.468906345852,4.364173862698717E-3,{"$f":"IFERROR((N524-M524)/'NTC Thermistor Comparison'!H178,NA())","v":1.7908315465439648},10008,3.3023759999999998,2.0331696324354689,2.0409359245070844,2.087815493855949E-3,9.8541075654714483E-3,0.47839878967720273,2.2579548559456031]
[147,106,-2.2882326783242828,-0.48595026389577195,-9.9589125717005622E-3,-2.1149668205406869E-3,2.0254870782326111,2.033331023983771,3.2975942999999996,9991.9,{"$f":"IFERROR((L525-M525)/'NTC Thermistor Comparison'!H180,NA())","v":-1.7859693267003633},15935.195462137315,{"$f":"IFERROR('Device Resistance Tables'!D166,NA())","v":16096.157032461935},16257.118602786555,4.3522289783020085E-3,{"$f":"IFERROR((N525-M525)/'NTC Thermistor Comparison'!H179,NA())","v":1.7934002253853014},10008.1,3.3024057,2.0375622709638423,2.0453184155890289,2.1162801595306924E-3,9.8724247847172819E-3,0.48625202627926628,2.2683606110653072]
[148,107,-2.2987459899641829,-0.49385057686924261,-9.9771763754659126E-3,-2.1434444388641616E-3,2.0298210434071478,2.0376547753437495,3.2975645999999998,9991.7999999999993,{"$f":"IFERROR((L526-M526)/'NTC Thermistor Comparison'!H181,NA())","v":-1.7885387508866599},16024.419813440023,{"$f":"IFERROR('Device Resistance Tables'!D167,NA())","v":16186.282639838408},16348.145466236792,4.3402691811205152E-3,{"$f":"IFERROR((N526-M526)/'NTC Thermistor Comparison'!H180,NA())","v":1.7959693267003627},10008.200000000001,3.3024353999999998,2.0419430070428475,2.0496889175892168,2.1447872602338158E-3,9.8906978066031215E-3,0.49415996352560376,2.2788212882339405]
[149,108,-2.3093144752034021,-0.50180580952457399,-9.995395042387667E-3,-2.1719637384256529E-3,2.0341430939213465,2.0419665252253085,3.2975348999999996,9991.7000000000007,{"$f":"IFERROR((L527-M527)/'NTC Thermistor Comparison'!H182,NA())","v":-1.7911083999409587},16114.014851878503,{"$f":"IFERROR('Device Resistance Tables'!D168,NA())","v":16276.782678665155},16439.550505451807,4.3282953230123766E-3,{"$f":"IFERROR((N527-M527)/'NTC Thermistor Comparison'!H181,NA())","v":1.7985387508866613},10008.299999999999,3.3024651,2.0463118252442474,2.0540474160593982,2.1733362805131939E-3,9.9089270956640441E-3,0.5021229186830557,2.2893371076093065]
[150,109,-2.3199383545305512,-0.5098162797669149,-1.0013569042548909E-2,-2.2005242106937217E-3,2.0384532152441976,2.0462662600760528,3.2975051999999998,9991.6,{"$f":"IFERROR((L528-M528)/'NTC Thermistor Comparison'!H183,NA())","v":-1.7936781774380828},16203.981572219995,{"$f":"IFERROR('Device Resistance Tables'!D169,NA())","v":16367.658153757571},16531.334735295146,4.3163082428434585E-3,{"$f":"IFERROR((N528-M528)/'NTC Thermistor Comparison'!H182,NA())","v":1.8011083999409407},10008.4,3.3024947999999998,2.0506687109954358,2.0583938974038301,2.2019267086892391E-3,9.927113117083497E-3,0.51014120975722388,2.2999082916617195]
[151,110,-2.330617850756767,-0.51788230625846277,-1.0031698846674431E-2,-2.2291253509103548E-3,2.0427513936829156,2.0505539671786797,3.2974755,9991.5,{"$f":"IFERROR((L529-M529)/'NTC Thermistor Comparison'!H184,NA())","v":-1.7962479885077542},16294.320975219056,{"$f":"IFERROR('Device Resistance Tables'!D170,NA())","v":16458.910075978845},16623.499176738635,4.304308766629017E-3,{"$f":"IFERROR((N529-M529)/'NTC Thermistor Comparison'!H183,NA())","v":1.8036781774380826},10008.5,3.3025244999999996,2.0550136505664534,2.0627283488661927,2.2305580368633393E-3,9.9452563366027036E-3,0.518215155510378,2.3105350651671483]
[152,111,-2.3413531890140238,-0.52600420843702378,-1.004978492604458E-2,-2.2577666580976263E-3,2.0470376163701745,2.0548296346381214,3.2974457999999998,9991.4,{"$f":"IFERROR((L530-M530)/'NTC Thermistor Comparison'!H185,NA())","v":-1.7988177398145671},16385.034067617595,{"$f":"IFERROR('Device Resistance Tables'!D171,NA())","v":16550.539462239994},16716.044856862394,4.2922977076673696E-3,{"$f":"IFERROR((N530-M530)/'NTC Thermistor Comparison'!H184,NA())","v":1.8062479885077432},10008.6,3.3025541999999999,2.0593466310571382,2.0670507585166606,2.2592297609191903E-3,9.9633572204416154E-3,0.52634507547869014,2.3212176552069028]
[153,112,-2.3521445967455787,-0.53418230653087451,-1.0067827752409109E-2,-2.2864476350554774E-3,2.0513118712514773,2.0590932513688309,3.2974161,9991.2999999999993,{"$f":"IFERROR((L531-M531)/'NTC Thermistor Comparison'!H186,NA())","v":-1.8013873395352671},16476.121862144832,{"$f":"IFERROR('Device Resistance Tables'!D172,NA())","v":16642.547335499828},16808.972808854825,4.2802758666873331E-3,{"$f":"IFERROR((N531-M531)/'NTC Thermistor Comparison'!H185,NA())","v":1.8088177398145544},10008.700000000001,3.3025838999999997,2.0636676403844136,2.0713611152391023,2.2879413805272364E-3,9.9814162352158675E-3,0.53453128998854937,2.3319562911586029]
[154,113,-2.3629923037092619,-0.54241692157857169,-1.0085827797912561E-2,-2.3151677883705979E-3,2.0555741470726612,2.0633448070822031,3.2973863999999997,9991.2000000000007,{"$f":"IFERROR((L532-M532)/'NTC Thermistor Comparison'!H187,NA())","v":-1.8039566973402279},16567.585377517349,{"$f":"IFERROR('Device Resistance Tables'!D173,NA())","v":16734.934724765},16902.284072012651,4.2682440319761206E-3,{"$f":"IFERROR((N532-M532)/'NTC Thermistor Comparison'!H186,NA())","v":1.8113873395352944},10008.799999999999,3.3026135999999999,2.0679766672697233,2.0756594087184324,2.3166923991495558E-3,9.9994338478586187E-3,0.54277412017535664,2.3427512046983545]
[155,114,-2.37389654196831,-0.55070837544407591,-1.0103785535008569E-2,-2.3439266284142057E-3,2.0598244333675413,2.0675842922741356,3.2973566999999999,9991.1,{"$f":"IFERROR((L533-M533)/'NTC Thermistor Comparison'!H188,NA())","v":-1.8065257243712816},16659.42563843905,{"$f":"IFERROR('Device Resistance Tables'!D174,NA())","v":16827.70266508995},16995.979691740849,4.2562029795245593E-3,{"$f":"IFERROR((N533-M533)/'NTC Thermistor Comparison'!H187,NA())","v":1.813956697340217},10008.9,3.3026432999999997,2.0722737012265893,2.0799456294280909,2.3454823240394163E-3,1.0017410525541059E-2,0.55107388799897394,2.353602629792825]
[156,115,-2.3848575458925412,-0.55905699083402716,-1.0121701436389241E-2,-2.3727236693420473E-3,2.0640627204456852,2.0718116982127324,3.2973269999999997,9991,{"$f":"IFERROR((L534-M534)/'NTC Thermistor Comparison'!H189,NA())","v":-1.809094333222693},16751.643675601168,{"$f":"IFERROR('Device Resistance Tables'!D175,NA())","v":16920.852197576936},17090.060719552705,4.2441534731589847E-3,{"$f":"IFERROR((N534-M534)/'NTC Thermistor Comparison'!H188,NA())","v":1.8165257243712678},10009,3.302673,2.0765587325483175,2.0842197686176727,2.3743106662430513E-3,1.003534673559825E-2,0.55943091626133346,2.3645108026993182]
[157,116,-2.3958755521516943,-0.56746309131475137,-1.0139575974899895E-2,-2.4015584290970615E-3,2.0682889993803335,2.0760270169261363,3.2972972999999999,9990.9,{"$f":"IFERROR((L535-M535)/'NTC Thermistor Comparison'!H190,NA())","v":-1.8116624379219159},16844.240525682279,{"$f":"IFERROR('Device Resistance Tables'!D176,NA())","v":17014.384369376039},17184.5282130698,4.2320962646802407E-3,{"$f":"IFERROR((N535-M535)/'NTC Thermistor Comparison'!H189,NA())","v":1.819094333222707},10009.1,3.3027026999999998,2.0808317522958344,2.088481818300687,2.4031769406009929E-3,1.0053242945453622E-2,0.56784552862305149,2.3754759619611825]
[158,117,-2.4069507997160273,-0.57592700132900321,-1.0157409623474223E-2,-2.4304304294080481E-3,2.0725032619964394,2.0802302411905056,3.2972675999999996,9990.7999999999993,{"$f":"IFERROR((L536-M536)/'NTC Thermistor Comparison'!H191,NA())","v":-1.8142299539091924},16937.217231348284,{"$f":"IFERROR('Device Resistance Tables'!D177,NA())","v":17108.300233685135},17279.383236021986,4.2200320939973501E-3,{"$f":"IFERROR((N536-M536)/'NTC Thermistor Comparison'!H190,NA())","v":1.8216624379219077},10009.200000000001,3.3027324,2.0850927522856586,2.0927317712424576,2.4320806657449623E-3,1.0071099622543933E-2,0.57631804961966937,2.3864983484057496]
[159,118,-2.4180835298508603,-0.58444904621177096,-1.0175202855051246E-2,-2.4593391957856703E-3,2.0767055008588597,2.0844213645181253,3.2972378999999998,9990.7000000000007,{"$f":"IFERROR((L537-M537)/'NTC Thermistor Comparison'!H192,NA())","v":-1.8167967980203918},17030.574841252437,{"$f":"IFERROR('Device Resistance Tables'!D178,NA())","v":17202.600849749935},17374.626858247433,4.2079616892634064E-3,{"$f":"IFERROR((N537-M537)/'NTC Thermistor Comparison'!H191,NA())","v":1.8242299539091837},10009.299999999999,3.3027620999999998,2.0893417250780111,2.0969696209481623,2.4610213641000911E-3,1.0088917234251316E-2,0.58484880467884848,2.3975782051422043]
[160,119,-2.4292739861181705,-0.59302955220790676,-1.0192956142515808E-2,-2.4882842575242314E-3,2.0808957092606586,2.0886003811456502,3.2972082,9990.6,{"$f":"IFERROR((L538-M538)/'NTC Thermistor Comparison'!H193,NA())","v":-1.8193628884667941},17124.314410035302,{"$f":"IFERROR('Device Resistance Tables'!D179,NA())","v":17297.287282863941},17470.26015569258,4.1958857670079119E-3,{"$f":"IFERROR((N538-M538)/'NTC Thermistor Comparison'!H192,NA())","v":1.8267967980204032},10009.4,3.3027917999999996,2.0935786639650544,2.1011953616510062,2.4899985618800358E-3,1.0106696247831781E-2,0.59343812013634845,2.4087157775600909]
[161,120,-2.4405224143714785,-0.6016688464872848,-1.0210669958617302E-2,-2.5172651476941255E-3,2.085073881211565,2.0927672860224882,3.2971784999999998,9990.5,{"$f":"IFERROR((L539-M539)/'NTC Thermistor Comparison'!H194,NA())","v":-1.821928144818312},17218.4369983248,{"$f":"IFERROR('Device Resistance Tables'!D180,NA())","v":17392.360604368485},17566.28421041217,4.1838050322708931E-3,{"$f":"IFERROR((N539-M539)/'NTC Thermistor Comparison'!H193,NA())","v":1.8293628884668007},10009.5,3.3028214999999999,2.0978035629592693,2.1054089883005274,2.5190117890869779E-3,1.0124437130345054E-2,0.60208632325290368,2.4199113133265904]
[162,121,-2.4518290627535642,-0.61036725716118767,-1.0228344775906173E-2,-2.5462814031405046E-3,2.089240011426547,2.0969220747993127,3.2971488,9990.4,{"$f":"IFERROR((L540-M540)/'NTC Thermistor Comparison'!H195,NA())","v":-1.8244924879841453},17312.943672736164,{"$f":"IFERROR('Device Resistance Tables'!D181,NA())","v":17487.821891652693},17662.700110569222,4.1717201787383473E-3,{"$f":"IFERROR((N540-M540)/'NTC Thermistor Comparison'!H194,NA())","v":1.831928144818326},10009.6,3.3028511999999997,2.1020164167819586,2.1096104965510447,2.5480605795054068E-3,1.0142140348591511E-2,0.61079374222937843,2.431165062384121]
[163,122,-2.4631941816988911,-0.6191251132996457,-1.024598106666863E-2,-2.5753325644801706E-3,2.0933940953145229,2.1010647438167114,{"$f":"IFERROR($B$22-(($B$223-B320)*(($B$22*(1-$B$23))/1000000)),NA())","v":3.2971190999999997},9990.2999999999993,{"$f":"IFERROR((L541-M541)/'NTC Thermistor Comparison'!H196,NA())","v":-1.8270558401969972},17407.835505871994,{"$f":"IFERROR('Device Resistance Tables'!D182,NA())","v":17583.672228153529},17759.508950435065,4.1596318888679207E-3,{"$f":"IFERROR((N541-M541)/'NTC Thermistor Comparison'!H195,NA())","v":1.8344924879841347},10009.700000000001,3.3028808999999999,2.1062172208518906,2.1137998827502336,2.577144470699011E-3,1.0159806369042013E-2,0.61956070622403148,2.4424772769513243]
[164,123,-2.4746180239287026,-0.62794274494603575,-1.0263579302859149E-2,-2.6044181760935814E-3,2.0975361289672003,2.1051952900939659,3.2970893999999999,9990.2000000000007,{"$f":"IFERROR((L542-M542)/'NTC Thermistor Comparison'!H197,NA())","v":-1.8296181249937546},17503.113576322183,{"$f":"IFERROR('Device Resistance Tables'!D183,NA())","v":17679.912703355742},17856.7118303893,4.1475408340252429E-3,{"$f":"IFERROR((N542-M542)/'NTC Thermistor Comparison'!H196,NA())","v":1.8370558401970047},10009.799999999999,3.3029105999999997,2.1104059712740653,2.1179771439278365,2.6062630040057932E-3,1.0177435657777067E-2,0.62838754536778862,2.4538482115195315]
[165,124,-2.486100844451435,-0.63682048313419104,-1.0281139956036078E-2,-2.6335377861221865E-3,2.1016661091480486,2.1093137113179625,3.2970596999999997,9990.1,{"$f":"IFERROR((L543-M543)/'NTC Thermistor Comparison'!H198,NA())","v":-1.8321792672004915},17598.778968663999,{"$f":"IFERROR('Device Resistance Tables'!D184,NA())","v":17776.544412791918},17954.309856919837,4.1354476746113811E-3,{"$f":"IFERROR((N543-M543)/'NTC Thermistor Comparison'!H197,NA())","v":1.8396181249937409},10009.9,3.3029402999999999,2.1145826648286206,2.1221422777845094,2.63541572453585E-3,1.0195028680424656E-2,0.63727459078139759,2.4652781228534608]
[166,125,{"$error":"#N/A"},{"$error":"#N/A"},-1.0298663497299465E-2,-2.6626909464582127E-3,2.1057840332813966,2.1134200058322379,{"$f":"IF(B544<=VLOOKUP(Main!$N$22,Coefficients!$E$2:$H$28,4,FALSE),$B$22-(($B$223-B323)*(($B$22*(1-$B$23))/1000000)),NA())","v":3.2970299999999999},{"$f":"IF(B544<=VLOOKUP(Main!$N$22,Coefficients!$E$2:$H$28,4,FALSE),($B$29-((B544-$B$444))*($B$29/1000000)*$B$31),NA())","v":9990},{"$f":"IFERROR((L544-M544)/'NTC Thermistor Comparison'!H199,NA())","v":{"$error":"#N/A"}},17694.832773462011,{"$f":"IFERROR('Device Resistance Tables'!D185,NA())","v":17873.568458042435},18052.304142622859,{"$error":"#N/A"},{"$f":"IFERROR((N544-M544)/'NTC Thermistor Comparison'!H198,NA())","v":1.8421792672004906},{"$f":"IF(B544<=VLOOKUP(Main!$N$22,Coefficients!$E$2:$H$28,4,FALSE),($B$29+((B544-$B$444))*($B$29/1000000)*$B$31),NA())","v":10010},{"$f":"IF(B544<=VLOOKUP(Main!$N$22,Coefficients!$E$2:$H$28,4,FALSE),$B$22+(($B$444-B544)*(($B$22*(1-$B$23))/1000000)),NA())","v":3.3029699999999997},2.118747298959855,2.1262952826807919,2.6646021811589371E-3,1.0212585902095839E-2,{"$error":"#N/A"},{"$error":"#N/A"}]
[167,126,{"$error":"#N/A"},{"$error":"#N/A"},{"$error":"#N/A"},{"$error":"#N/A"},{"$error":"#N/A"},{"$error":"#N/A"},{"$f":"IF(B545<=VLOOKUP(Main!$N$22,Coefficients!$E$2:$H$28,4,FALSE),$B$22-(($B$223-B324)*(($B$22*(1-$B$23))/1000000)),NA())","v":{"$error":"#N/A"}},{"$f":"IF(B545<=VLOOKUP(Main!$N$22,Coefficients!$E$2:$H$28,4,FALSE),($B$29-((B545-$B$444))*($B$29/1000000)*$B$31),NA())","v":{"$error":"#N/A"}},{"$f":"IFERROR((L545-M545)/'NTC Thermistor Comparison'!H200,NA())","v":{"$error":"#N/A"}},{"$error":"#N/A"},{"$f":"IFERROR('Device Resistance Tables'!D186,NA())","v":{"$error":"#N/A"}},{"$error":"#N/A"},{"$error":"#N/A"},{"$f":"IFERROR((N545-M545)/'NTC Thermistor Comparison'!H199,NA())","v":{"$error":"#N/A"}},{"$f":"IF(B545<=VLOOKUP(Main!$N$22,Coefficients!$E$2:$H$28,4,FALSE),($B$29+((B545-$B$444))*($B$29/1000000)*$B$31),NA())","v":{"$error":"#N/A"}},{"$f":"IF(B545<=VLOOKUP(Main!$N$22,Coefficients!$E$2:$H$28,4,FALSE),$B$22+(($B$444-B545)*(($B$22*(1-$B$23))/1000000)),NA())","v":{"$error":"#N/A"}},{"$error":"#N/A"},{"$error":"#N/A"},{"$error":"#N/A"},{"$error":"#N/A"},{"$error":"#N/A"},{"$error":"#N/A"}]
[168,127,{"$error":"#N/A"},{"$error":"#N/A"},{"$error":"#N/A"},{"$error":"#N/A"},{"$error":"#N/A"},{"$error":"#N/A"},{"$f":"IF(B546<=VLOOKUP(Main!$N$22,Coefficients!$E$2:$H$28,4,FALSE),$B$22-(($B$223-B325)*(($B$22*(1-$B$23))/1000000)),NA())","v":{"$error":"#N/A"}},{"$f":"IF(B546<=VLOOKUP(Main!$N$22,Coefficients!$E$2:$H$28,4,FALSE),($B$29-((B546-$B$444))*($B$29/1000000)*$B$31),NA())","v":{"$error":"#N/A"}},{"$f":"IFERROR((L546-M546)/'NTC Thermistor Comparison'!H201,NA())","v":{"$error":"#N/A"}},{"$error":"#N/A"},{"$f":"IFERROR('Device Resistance Tables'!D187,NA())","v":{"$error":"#N/A"}},{"$error":"#N/A"},{"$error":"#N/A"},{"$f":"IFERROR((N546-M546)/'NTC Thermistor Comparison'!H200,NA())","v":{"$error":"#N/A"}},{"$f":"IF(B546<=VLOOKUP(Main!$N$22,Coefficients!$E$2:$H$28,4,FALSE),($B$29+((B546-$B$444))*($B$29/1000000)*$B$31),NA())","v":{"$error":"#N/A"}},{"$f":"IF(B546<=VLOOKUP(Main!$N$22,Coefficients!$E$2:$H$28,4,FALSE),$B$22+(($B$444-B546)*(($B$22*(1-$B$23))/1000000)),NA())","v":{"$error":"#N/A"}},{"$error":"#N/A"},{"$error":"#N/A"},{"$error":"#N/A"},{"$error":"#N/A"},{"$error":"#N/A"},{"$error":"#N/A"}]
[169,128,{"$error":"#N/A"},{"$error":"#N/A"},{"$error":"#N/A"},{"$error":"#N/A"},{"$error":"#N/A"},{"$error":"#N/A"},{"$f":"IF(B547<=VLOOKUP(Main!$N$22,Coefficients!$E$2:$H$28,4,FALSE),$B$22-(($B$223-B326)*(($B$22*(1-$B$23))/1000000)),NA())","v":{"$error":"#N/A"}},{"$f":"IF(B547<=VLOOKUP(Main!$N$22,Coefficients!$E$2:$H$28,4,FALSE),($B$29-((B547-$B$444))*($B$29/1000000)*$B$31),NA())","v":{"$error":"#N/A"}},{"$f":"IFERROR((L547-M547)/'NTC Thermistor Comparison'!H202,NA())","v":{"$error":"#N/A"}},{"$error":"#N/A"},{"$f":"IFERROR('Device Resistance Tables'!D188,NA())","v":{"$error":"#N/A"}},{"$error":"#N/A"},{"$error":"#N/A"},{"$f":"IFERROR((N547-M547)/'NTC Thermistor Comparison'!H201,NA())","v":{"$error":"#N/A"}},{"$f":"IF(B547<=VLOOKUP(Main!$N$22,Coefficients!$E$2:$H$28,4,FALSE),($B$29+((B547-$B$444))*($B$29/1000000)*$B$31),NA())","v":{"$error":"#N/A"}},{"$f":"IF(B547<=VLOOKUP(Main!$N$22,Coefficients!$E$2:$H$28,4,FALSE),$B$22+(($B$444-B547)*(($B$22*(1-$B$23))/1000000)),NA())","v":{"$error":"#N/A"}},{"$error":"#N/A"},{"$error":"#N/A"},{"$error":"#N/A"},{"$error":"#N/A"},{"$error":"#N/A"},{"$error":"#N/A"}]
[170,129,{"$error":"#N/A"},{"$error":"#N/A"},{"$error":"#N/A"},{"$error":"#N/A"},{"$error":"#N/A"},{"$error":"#N/A"},{"$f":"IF(B548<=VLOOKUP(Main!$N$22,Coefficients!$E$2:$H$28,4,FALSE),$B$22-(($B$223-B327)*(($B$22*(1-$B$23))/1000000)),NA())","v":{"$error":"#N/A"}},{"$f":"IF(B548<=VLOOKUP(Main!$N$22,Coefficients!$E$2:$H$28,4,FALSE),($B$29-((B548-$B$444))*($B$29/1000000)*$B$31),NA())","v":{"$error":"#N/A"}},{"$f":"IFERROR((L548-M548)/'NTC Thermistor Comparison'!H203,NA())","v":{"$error":"#N/A"}},{"$error":"#N/A"},{"$f":"IFERROR('Device Resistance Tables'!D189,NA())","v":{"$error":"#N/A"}},{"$error":"#N/A"},{"$error":"#N/A"},{"$f":"IFERROR((N548-M548)/'NTC Thermistor Comparison'!H202,NA())","v":{"$error":"#N/A"}},{"$f":"IF(B548<=VLOOKUP(Main!$N$22,Coefficients!$E$2:$H$28,4,FALSE),($B$29+((B548-$B$444))*($B$29/1000000)*$B$31),NA())","v":{"$error":"#N/A"}},{"$f":"IF(B548<=VLOOKUP(Main!$N$22,Coefficients!$E$2:$H$28,4,FALSE),$B$22+(($B$444-B548)*(($B$22*(1-$B$23))/1000000)),NA())","v":{"$error":"#N/A"}},{"$error":"#N/A"},{"$error":"#N/A"},{"$error":"#N/A"},{"$error":"#N/A"},{"$error":"#N/A"},{"$error":"#N/A"}]
[171,130,{"$error":"#N/A"},{"$error":"#N/A"},{"$error":"#N/A"},{"$error":"#N/A"},{"$error":"#N/A"},{"$error":"#N/A"},{"$f":"IF(B549<=VLOOKUP(Main!$N$22,Coefficients!$E$2:$H$28,4,FALSE),$B$22-(($B$223-B328)*(($B$22*(1-$B$23))/1000000)),NA())","v":{"$error":"#N/A"}},{"$f":"IF(B549<=VLOOKUP(Main!$N$22,Coefficients!$E$2:$H$28,4,FALSE),($B$29-((B549-$B$444))*($B$29/1000000)*$B$31),NA())","v":{"$error":"#N/A"}},{"$f":"IFERROR((L549-M549)/'NTC Thermistor Comparison'!H204,NA())","v":{"$error":"#N/A"}},{"$error":"#N/A"},{"$f":"IFERROR('Device Resistance Tables'!D190,NA())","v":{"$error":"#N/A"}},{"$error":"#N/A"},{"$error":"#N/A"},{"$f":"IFERROR((N549-M549)/'NTC Thermistor Comparison'!H203,NA())","v":{"$error":"#N/A"}},{"$f":"IF(B549<=VLOOKUP(Main!$N$22,Coefficients!$E$2:$H$28,4,FALSE),($B$29+((B549-$B$444))*($B$29/1000000)*$B$31),NA())","v":{"$error":"#N/A"}},{"$f":"IF(B549<=VLOOKUP(Main!$N$22,Coefficients!$E$2:$H$28,4,FALSE),$B$22+(($B$444-B549)*(($B$22*(1-$B$23))/1000000)),NA())","v":{"$error":"#N/A"}},{"$error":"#N/A"},{"$error":"#N/A"},{"$error":"#N/A"},{"$error":"#N/A"},{"$error":"#N/A"},{"$error":"#N/A"}]
[172,131,{"$error":"#N/A"},{"$error":"#N/A"},{"$error":"#N/A"},{"$error":"#N/A"},{"$error":"#N/A"},{"$error":"#N/A"},{"$f":"IF(B550<=VLOOKUP(Main!$N$22,Coefficients!$E$2:$H$28,4,FALSE),$B$22-(($B$223-B329)*(($B$22*(1-$B$23))/1000000)),NA())","v":{"$error":"#N/A"}},{"$f":"IF(B550<=VLOOKUP(Main!$N$22,Coefficients!$E$2:$H$28,4,FALSE),($B$29-((B550-$B$444))*($B$29/1000000)*$B$31),NA())","v":{"$error":"#N/A"}},{"$f":"IFERROR((L550-M550)/'NTC Thermistor Comparison'!H205,NA())","v":{"$error":"#N/A"}},{"$error":"#N/A"},{"$f":"IFERROR('Device Resistance Tables'!D191,NA())","v":{"$error":"#N/A"}},{"$error":"#N/A"},{"$error":"#N/A"},{"$f":"IFERROR((N550-M550)/'NTC Thermistor Comparison'!H204,NA())","v":{"$error":"#N/A"}},{"$f":"IF(B550<=VLOOKUP(Main!$N$22,Coefficients!$E$2:$H$28,4,FALSE),($B$29+((B550-$B$444))*($B$29/1000000)*$B$31),NA())","v":{"$error":"#N/A"}},{"$f":"IF(B550<=VLOOKUP(Main!$N$22,Coefficients!$E$2:$H$28,4,FALSE),$B$22+(($B$444-B550)*(($B$22*(1-$B$23))/1000000)),NA())","v":{"$error":"#N/A"}},{"$error":"#N/A"},{"$error":"#N/A"},{"$error":"#N/A"},{"$error":"#N/A"},{"$error":"#N/A"},{"$error":"#N/A"}]
[173,132,{"$error":"#N/A"},{"$error":"#N/A"},{"$error":"#N/A"},{"$error":"#N/A"},{"$error":"#N/A"},{"$error":"#N/A"},{"$f":"IF(B551<=VLOOKUP(Main!$N$22,Coefficients!$E$2:$H$28,4,FALSE),$B$22-(($B$223-B330)*(($B$22*(1-$B$23))/1000000)),NA())","v":{"$error":"#N/A"}},{"$f":"IF(B551<=VLOOKUP(Main!$N$22,Coefficients!$E$2:$H$28,4,FALSE),($B$29-((B551-$B$444))*($B$29/1000000)*$B$31),NA())","v":{"$error":"#N/A"}},{"$f":"IFERROR((L551-M551)/'NTC Thermistor Comparison'!H206,NA())","v":{"$error":"#N/A"}},{"$error":"#N/A"},{"$f":"IFERROR('Device Resistance Tables'!D192,NA())","v":{"$error":"#N/A"}},{"$error":"#N/A"},{"$error":"#N/A"},{"$f":"IFERROR((N551-M551)/'NTC Thermistor Comparison'!H205,NA())","v":{"$error":"#N/A"}},{"$f":"IF(B551<=VLOOKUP(Main!$N$22,Coefficients!$E$2:$H$28,4,FALSE),($B$29+((B551-$B$444))*($B$29/1000000)*$B$31),NA())","v":{"$error":"#N/A"}},{"$f":"IF(B551<=VLOOKUP(Main!$N$22,Coefficients!$E$2:$H$28,4,FALSE),$B$22+(($B$444-B551)*(($B$22*(1-$B$23))/1000000)),NA())","v":{"$error":"#N/A"}},{"$error":"#N/A"},{"$error":"#N/A"},{"$error":"#N/A"},{"$error":"#N/A"},{"$error":"#N/A"},{"$error":"#N/A"}]
[174,133,{"$error":"#N/A"},{"$error":"#N/A"},{"$error":"#N/A"},{"$error":"#N/A"},{"$error":"#N/A"},{"$error":"#N/A"},{"$f":"IF(B552<=VLOOKUP(Main!$N$22,Coefficients!$E$2:$H$28,4,FALSE),$B$22-(($B$223-B331)*(($B$22*(1-$B$23))/1000000)),NA())","v":{"$error":"#N/A"}},{"$f":"IF(B552<=VLOOKUP(Main!$N$22,Coefficients!$E$2:$H$28,4,FALSE),($B$29-((B552-$B$444))*($B$29/1000000)*$B$31),NA())","v":{"$error":"#N/A"}},{"$f":"IFERROR((L552-M552)/'NTC Thermistor Comparison'!H207,NA())","v":{"$error":"#N/A"}},{"$error":"#N/A"},{"$f":"IFERROR('Device Resistance Tables'!D193,NA())","v":{"$error":"#N/A"}},{"$error":"#N/A"},{"$error":"#N/A"},{"$f":"IFERROR((N552-M552)/'NTC Thermistor Comparison'!H206,NA())","v":{"$error":"#N/A"}},{"$f":"IF(B552<=VLOOKUP(Main!$N$22,Coefficients!$E$2:$H$28,4,FALSE),($B$29+((B552-$B$444))*($B$29/1000000)*$B$31),NA())","v":{"$error":"#N/A"}},{"$f":"IF(B552<=VLOOKUP(Main!$N$22,Coefficients!$E$2:$H$28,4,FALSE),$B$22+(($B$444-B552)*(($B$22*(1-$B$23))/1000000)),NA())","v":{"$error":"#N/A"}},{"$error":"#N/A"},{"$error":"#N/A"},{"$error":"#N/A"},{"$error":"#N/A"},{"$error":"#N/A"},{"$error":"#N/A"}]
[175,134,{"$error":"#N/A"},{"$error":"#N/A"},{"$error":"#N/A"},{"$error":"#N/A"},{"$error":"#N/A"},{"$error":"#N/A"},{"$f":"IF(B553<=VLOOKUP(Main!$N$22,Coefficients!$E$2:$H$28,4,FALSE),$B$22-(($B$223-B332)*(($B$22*(1-$B$23))/1000000)),NA())","v":{"$error":"#N/A"}},{"$f":"IF(B553<=VLOOKUP(Main!$N$22,Coefficients!$E$2:$H$28,4,FALSE),($B$29-((B553-$B$444))*($B$29/1000000)*$B$31),NA())","v":{"$error":"#N/A"}},{"$f":"IFERROR((L553-M553)/'NTC Thermistor Comparison'!H208,NA())","v":{"$error":"#N/A"}},{"$error":"#N/A"},{"$f":"IFERROR('Device Resistance Tables'!D194,NA())","v":{"$error":"#N/A"}},{"$error":"#N/A"},{"$error":"#N/A"},{"$f":"IFERROR((N553-M553)/'NTC Thermistor Comparison'!H207,NA())","v":{"$error":"#N/A"}},{"$f":"IF(B553<=VLOOKUP(Main!$N$22,Coefficients!$E$2:$H$28,4,FALSE),($B$29+((B553-$B$444))*($B$29/1000000)*$B$31),NA())","v":{"$error":"#N/A"}},{"$f":"IF(B553<=VLOOKUP(Main!$N$22,Coefficients!$E$2:$H$28,4,FALSE),$B$22+(($B$444-B553)*(($B$22*(1-$B$23))/1000000)),NA())","v":{"$error":"#N/A"}},{"$error":"#N/A"},{"$error":"#N/A"},{"$error":"#N/A"},{"$error":"#N/A"},{"$error":"#N/A"},{"$error":"#N/A"}]
[176,135,{"$error":"#N/A"},{"$error":"#N/A"},{"$error":"#N/A"},{"$error":"#N/A"},{"$error":"#N/A"},{"$error":"#N/A"},{"$f":"IF(B554<=VLOOKUP(Main!$N$22,Coefficients!$E$2:$H$28,4,FALSE),$B$22-(($B$223-B333)*(($B$22*(1-$B$23))/1000000)),NA())","v":{"$error":"#N/A"}},{"$f":"IF(B554<=VLOOKUP(Main!$N$22,Coefficients!$E$2:$H$28,4,FALSE),($B$29-((B554-$B$444))*($B$29/1000000)*$B$31),NA())","v":{"$error":"#N/A"}},{"$f":"IFERROR((L554-M554)/'NTC Thermistor Comparison'!H209,NA())","v":{"$error":"#N/A"}},{"$error":"#N/A"},{"$f":"IFERROR('Device Resistance Tables'!D195,NA())","v":{"$error":"#N/A"}},{"$error":"#N/A"},{"$error":"#N/A"},{"$f":"IFERROR((N554-M554)/'NTC Thermistor Comparison'!H208,NA())","v":{"$error":"#N/A"}},{"$f":"IF(B554<=VLOOKUP(Main!$N$22,Coefficients!$E$2:$H$28,4,FALSE),($B$29+((B554-$B$444))*($B$29/1000000)*$B$31),NA())","v":{"$error":"#N/A"}},{"$f":"IF(B554<=VLOOKUP(Main!$N$22,Coefficients!$E$2:$H$28,4,FALSE),$B$22+(($B$444-B554)*(($B$22*(1-$B$23))/1000000)),NA())","v":{"$error":"#N/A"}},{"$error":"#N/A"},{"$error":"#N/A"},{"$error":"#N/A"},{"$error":"#N/A"},{"$error":"#N/A"},{"$error":"#N/A"}]
[177,136,{"$error":"#N/A"},{"$error":"#N/A"},{"$error":"#N/A"},{"$error":"#N/A"},{"$error":"#N/A"},{"$error":"#N/A"},{"$f":"IF(B555<=VLOOKUP(Main!$N$22,Coefficients!$E$2:$H$28,4,FALSE),$B$22-(($B$223-B334)*(($B$22*(1-$B$23))/1000000)),NA())","v":{"$error":"#N/A"}},{"$f":"IF(B555<=VLOOKUP(Main!$N$22,Coefficients!$E$2:$H$28,4,FALSE),($B$29-((B555-$B$444))*($B$29/1000000)*$B$31),NA())","v":{"$error":"#N/A"}},{"$f":"IFERROR((L555-M555)/'NTC Thermistor Comparison'!H210,NA())","v":{"$error":"#N/A"}},{"$error":"#N/A"},{"$f":"IFERROR('Device Resistance Tables'!D196,NA())","v":{"$error":"#N/A"}},{"$error":"#N/A"},{"$error":"#N/A"},{"$f":"IFERROR((N555-M555)/'NTC Thermistor Comparison'!H209,NA())","v":{"$error":"#N/A"}},{"$f":"IF(B555<=VLOOKUP(Main!$N$22,Coefficients!$E$2:$H$28,4,FALSE),($B$29+((B555-$B$444))*($B$29/1000000)*$B$31),NA())","v":{"$error":"#N/A"}},{"$f":"IF(B555<=VLOOKUP(Main!$N$22,Coefficients!$E$2:$H$28,4,FALSE),$B$22+(($B$444-B555)*(($B$22*(1-$B$23))/1000000)),NA())","v":{"$error":"#N/A"}},{"$error":"#N/A"},{"$error":"#N/A"},{"$error":"#N/A"},{"$error":"#N/A"},{"$error":"#N/A"},{"$error":"#N/A"}]
[178,137,{"$error":"#N/A"},{"$error":"#N/A"},{"$error":"#N/A"},{"$error":"#N/A"},{"$error":"#N/A"},{"$error":"#N/A"},{"$f":"IF(B556<=VLOOKUP(Main!$N$22,Coefficients!$E$2:$H$28,4,FALSE),$B$22-(($B$223-B335)*(($B$22*(1-$B$23))/1000000)),NA())","v":{"$error":"#N/A"}},{"$f":"IF(B556<=VLOOKUP(Main!$N$22,Coefficients!$E$2:$H$28,4,FALSE),($B$29-((B556-$B$444))*($B$29/1000000)*$B$31),NA())","v":{"$error":"#N/A"}},{"$f":"IFERROR((L556-M556)/'NTC Thermistor Comparison'!H211,NA())","v":{"$error":"#N/A"}},{"$error":"#N/A"},{"$f":"IFERROR('Device Resistance Tables'!D197,NA())","v":{"$error":"#N/A"}},{"$error":"#N/A"},{"$error":"#N/A"},{"$f":"IFERROR((N556-M556)/'NTC Thermistor Comparison'!H210,NA())","v":{"$error":"#N/A"}},{"$f":"IF(B556<=VLOOKUP(Main!$N$22,Coefficients!$E$2:$H$28,4,FALSE),($B$29+((B556-$B$444))*($B$29/1000000)*$B$31),NA())","v":{"$error":"#N/A"}},{"$f":"IF(B556<=VLOOKUP(Main!$N$22,Coefficients!$E$2:$H$28,4,FALSE),$B$22+(($B$444-B556)*(($B$22*(1-$B$23))/1000000)),NA())","v":{"$error":"#N/A"}},{"$error":"#N/A"},{"$error":"#N/A"},{"$error":"#N/A"},{"$error":"#N/A"},{"$error":"#N/A"},{"$error":"#N/A"}]
[179,138,{"$error":"#N/A"},{"$error":"#N/A"},{"$error":"#N/A"},{"$error":"#N/A"},{"$error":"#N/A"},{"$error":"#N/A"},{"$f":"IF(B557<=VLOOKUP(Main!$N$22,Coefficients!$E$2:$H$28,4,FALSE),$B$22-(($B$223-B336)*(($B$22*(1-$B$23))/1000000)),NA())","v":{"$error":"#N/A"}},{"$f":"IF(B557<=VLOOKUP(Main!$N$22,Coefficients!$E$2:$H$28,4,FALSE),($B$29-((B557-$B$444))*($B$29/1000000)*$B$31),NA())","v":{"$error":"#N/A"}},{"$f":"IFERROR((L557-M557)/'NTC Thermistor Comparison'!H212,NA())","v":{"$error":"#N/A"}},{"$error":"#N/A"},{"$f":"IFERROR('Device Resistance Tables'!D198,NA())","v":{"$error":"#N/A"}},{"$error":"#N/A"},{"$error":"#N/A"},{"$f":"IFERROR((N557-M557)/'NTC Thermistor Comparison'!H211,NA())","v":{"$error":"#N/A"}},{"$f":"IF(B557<=VLOOKUP(Main!$N$22,Coefficients!$E$2:$H$28,4,FALSE),($B$29+((B557-$B$444))*($B$29/1000000)*$B$31),NA())","v":{"$error":"#N/A"}},{"$f":"IF(B557<=VLOOKUP(Main!$N$22,Coefficients!$E$2:$H$28,4,FALSE),$B$22+(($B$444-B557)*(($B$22*(1-$B$23))/1000000)),NA())","v":{"$error":"#N/A"}},{"$error":"#N/A"},{"$error":"#N/A"},{"$error":"#N/A"},{"$error":"#N/A"},{"$error":"#N/A"},{"$error":"#N/A"}]
[180,139,{"$error":"#N/A"},{"$error":"#N/A"},{"$error":"#N/A"},{"$error":"#N/A"},{"$error":"#N/A"},{"$error":"#N/A"},{"$f":"IF(B558<=VLOOKUP(Main!$N$22,Coefficients!$E$2:$H$28,4,FALSE),$B$22-(($B$223-B337)*(($B$22*(1-$B$23))/1000000)),NA())","v":{"$error":"#N/A"}},{"$f":"IF(B558<=VLOOKUP(Main!$N$22,Coefficients!$E$2:$H$28,4,FALSE),($B$29-((B558-$B$444))*($B$29/1000000)*$B$31),NA())","v":{"$error":"#N/A"}},{"$f":"IFERROR((L558-M558)/'NTC Thermistor Comparison'!H213,NA())","v":{"$error":"#N/A"}},{"$error":"#N/A"},{"$f":"IFERROR('Device Resistance Tables'!D199,NA())","v":{"$error":"#N/A"}},{"$error":"#N/A"},{"$error":"#N/A"},{"$f":"IFERROR((N558-M558)/'NTC Thermistor Comparison'!H212,NA())","v":{"$error":"#N/A"}},{"$f":"IF(B558<=VLOOKUP(Main!$N$22,Coefficients!$E$2:$H$28,4,FALSE),($B$29+((B558-$B$444))*($B$29/1000000)*$B$31),NA())","v":{"$error":"#N/A"}},{"$f":"IF(B558<=VLOOKUP(Main!$N$22,Coefficients!$E$2:$H$28,4,FALSE),$B$22+(($B$444-B558)*(($B$22*(1-$B$23))/1000000)),NA())","v":{"$error":"#N/A"}},{"$error":"#N/A"},{"$error":"#N/A"},{"$error":"#N/A"},{"$error":"#N/A"},{"$error":"#N/A"},{"$error":"#N/A"}]
[181,140,{"$error":"#N/A"},{"$error":"#N/A"},{"$error":"#N/A"},{"$error":"#N/A"},{"$error":"#N/A"},{"$error":"#N/A"},{"$f":"IF(B559<=VLOOKUP(Main!$N$22,Coefficients!$E$2:$H$28,4,FALSE),$B$22-(($B$223-B338)*(($B$22*(1-$B$23))/1000000)),NA())","v":{"$error":"#N/A"}},{"$f":"IF(B559<=VLOOKUP(Main!$N$22,Coefficients!$E$2:$H$28,4,FALSE),($B$29-((B559-$B$444))*($B$29/1000000)*$B$31),NA())","v":{"$error":"#N/A"}},{"$f":"IFERROR((L559-M559)/'NTC Thermistor Comparison'!H214,NA())","v":{"$error":"#N/A"}},{"$error":"#N/A"},{"$f":"IFERROR('Device Resistance Tables'!D200,NA())","v":{"$error":"#N/A"}},{"$error":"#N/A"},{"$error":"#N/A"},{"$f":"IFERROR((N559-M559)/'NTC Thermistor Comparison'!H213,NA())","v":{"$error":"#N/A"}},{"$f":"IF(B559<=VLOOKUP(Main!$N$22,Coefficients!$E$2:$H$28,4,FALSE),($B$29+((B559-$B$444))*($B$29/1000000)*$B$31),NA())","v":{"$error":"#N/A"}},{"$f":"IF(B559<=VLOOKUP(Main!$N$22,Coefficients!$E$2:$H$28,4,FALSE),$B$22+(($B$444-B559)*(($B$22*(1-$B$23))/1000000)),NA())","v":{"$error":"#N/A"}},{"$error":"#N/A"},{"$error":"#N/A"},{"$error":"#N/A"},{"$error":"#N/A"},{"$error":"#N/A"},{"$error":"#N/A"}]
[182,141,{"$error":"#N/A"},{"$error":"#N/A"},{"$error":"#N/A"},{"$error":"#N/A"},{"$error":"#N/A"},{"$error":"#N/A"},{"$f":"IF(B560<=VLOOKUP(Main!$N$22,Coefficients!$E$2:$H$28,4,FALSE),$B$22-(($B$223-B339)*(($B$22*(1-$B$23))/1000000)),NA())","v":{"$error":"#N/A"}},{"$f":"IF(B560<=VLOOKUP(Main!$N$22,Coefficients!$E$2:$H$28,4,FALSE),($B$29-((B560-$B$444))*($B$29/1000000)*$B$31),NA())","v":{"$error":"#N/A"}},{"$f":"IFERROR((L560-M560)/'NTC Thermistor Comparison'!H215,NA())","v":{"$error":"#N/A"}},{"$error":"#N/A"},{"$f":"IFERROR('Device Resistance Tables'!D201,NA())","v":{"$error":"#N/A"}},{"$error":"#N/A"},{"$error":"#N/A"},{"$f":"IFERROR((N560-M560)/'NTC Thermistor Comparison'!H214,NA())","v":{"$error":"#N/A"}},{"$f":"IF(B560<=VLOOKUP(Main!$N$22,Coefficients!$E$2:$H$28,4,FALSE),($B$29+((B560-$B$444))*($B$29/1000000)*$B$31),NA())","v":{"$error":"#N/A"}},{"$f":"IF(B560<=VLOOKUP(Main!$N$22,Coefficients!$E$2:$H$28,4,FALSE),$B$22+(($B$444-B560)*(($B$22*(1-$B$23))/1000000)),NA())","v":{"$error":"#N/A"}},{"$error":"#N/A"},{"$error":"#N/A"},{"$error":"#N/A"},{"$error":"#N/A"},{"$error":"#N/A"},{"$error":"#N/A"}]
[183,142,{"$error":"#N/A"},{"$error":"#N/A"},{"$error":"#N/A"},{"$error":"#N/A"},{"$error":"#N/A"},{"$error":"#N/A"},{"$f":"IF(B561<=VLOOKUP(Main!$N$22,Coefficients!$E$2:$H$28,4,FALSE),$B$22-(($B$223-B340)*(($B$22*(1-$B$23))/1000000)),NA())","v":{"$error":"#N/A"}},{"$f":"IF(B561<=VLOOKUP(Main!$N$22,Coefficients!$E$2:$H$28,4,FALSE),($B$29-((B561-$B$444))*($B$29/1000000)*$B$31),NA())","v":{"$error":"#N/A"}},{"$f":"IFERROR((L561-M561)/'NTC Thermistor Comparison'!H216,NA())","v":{"$error":"#N/A"}},{"$error":"#N/A"},{"$f":"IFERROR('Device Resistance Tables'!D202,NA())","v":{"$error":"#N/A"}},{"$error":"#N/A"},{"$error":"#N/A"},{"$f":"IFERROR((N561-M561)/'NTC Thermistor Comparison'!H215,NA())","v":{"$error":"#N/A"}},{"$f":"IF(B561<=VLOOKUP(Main!$N$22,Coefficients!$E$2:$H$28,4,FALSE),($B$29+((B561-$B$444))*($B$29/1000000)*$B$31),NA())","v":{"$error":"#N/A"}},{"$f":"IF(B561<=VLOOKUP(Main!$N$22,Coefficients!$E$2:$H$28,4,FALSE),$B$22+(($B$444-B561)*(($B$22*(1-$B$23))/1000000)),NA())","v":{"$error":"#N/A"}},{"$error":"#N/A"},{"$error":"#N/A"},{"$error":"#N/A"},{"$error":"#N/A"},{"$error":"#N/A"},{"$error":"#N/A"}]
[184,143,{"$error":"#N/A"},{"$error":"#N/A"},{"$error":"#N/A"},{"$error":"#N/A"},{"$error":"#N/A"},{"$error":"#N/A"},{"$f":"IF(B562<=VLOOKUP(Main!$N$22,Coefficients!$E$2:$H$28,4,FALSE),$B$22-(($B$223-B341)*(($B$22*(1-$B$23))/1000000)),NA())","v":{"$error":"#N/A"}},{"$f":"IF(B562<=VLOOKUP(Main!$N$22,Coefficients!$E$2:$H$28,4,FALSE),($B$29-((B562-$B$444))*($B$29/1000000)*$B$31),NA())","v":{"$error":"#N/A"}},{"$f":"IFERROR((L562-M562)/'NTC Thermistor Comparison'!H217,NA())","v":{"$error":"#N/A"}},{"$error":"#N/A"},{"$f":"IFERROR('Device Resistance Tables'!D203,NA())","v":{"$error":"#N/A"}},{"$error":"#N/A"},{"$error":"#N/A"},{"$f":"IFERROR((N562-M562)/'NTC Thermistor Comparison'!H216,NA())","v":{"$error":"#N/A"}},{"$f":"IF(B562<=VLOOKUP(Main!$N$22,Coefficients!$E$2:$H$28,4,FALSE),($B$29+((B562-$B$444))*($B$29/1000000)*$B$31),NA())","v":{"$error":"#N/A"}},{"$f":"IF(B562<=VLOOKUP(Main!$N$22,Coefficients!$E$2:$H$28,4,FALSE),$B$22+(($B$444-B562)*(($B$22*(1-$B$23))/1000000)),NA())","v":{"$error":"#N/A"}},{"$error":"#N/A"},{"$error":"#N/A"},{"$error":"#N/A"},{"$error":"#N/A"},{"$error":"#N/A"},{"$error":"#N/A"}]
[185,144,{"$error":"#N/A"},{"$error":"#N/A"},{"$error":"#N/A"},{"$error":"#N/A"},{"$error":"#N/A"},{"$error":"#N/A"},{"$f":"IF(B563<=VLOOKUP(Main!$N$22,Coefficients!$E$2:$H$28,4,FALSE),$B$22-(($B$223-B342)*(($B$22*(1-$B$23))/1000000)),NA())","v":{"$error":"#N/A"}},{"$f":"IF(B563<=VLOOKUP(Main!$N$22,Coefficients!$E$2:$H$28,4,FALSE),($B$29-((B563-$B$444))*($B$29/1000000)*$B$31),NA())","v":{"$error":"#N/A"}},{"$f":"IFERROR((L563-M563)/'NTC Thermistor Comparison'!H218,NA())","v":{"$error":"#N/A"}},{"$error":"#N/A"},{"$f":"IFERROR('Device Resistance Tables'!D204,NA())","v":{"$error":"#N/A"}},{"$error":"#N/A"},{"$error":"#N/A"},{"$f":"IFERROR((N563-M563)/'NTC Thermistor Comparison'!H217,NA())","v":{"$error":"#N/A"}},{"$f":"IF(B563<=VLOOKUP(Main!$N$22,Coefficients!$E$2:$H$28,4,FALSE),($B$29+((B563-$B$444))*($B$29/1000000)*$B$31),NA())","v":{"$error":"#N/A"}},{"$f":"IF(B563<=VLOOKUP(Main!$N$22,Coefficients!$E$2:$H$28,4,FALSE),$B$22+(($B$444-B563)*(($B$22*(1-$B$23))/1000000)),NA())","v":{"$error":"#N/A"}},{"$error":"#N/A"},{"$error":"#N/A"},{"$error":"#N/A"},{"$error":"#N/A"},{"$error":"#N/A"},{"$error":"#N/A"}]
[186,145,{"$error":"#N/A"},{"$error":"#N/A"},{"$error":"#N/A"},{"$error":"#N/A"},{"$error":"#N/A"},{"$error":"#N/A"},{"$f":"IF(B564<=VLOOKUP(Main!$N$22,Coefficients!$E$2:$H$28,4,FALSE),$B$22-(($B$223-B343)*(($B$22*(1-$B$23))/1000000)),NA())","v":{"$error":"#N/A"}},{"$f":"IF(B564<=VLOOKUP(Main!$N$22,Coefficients!$E$2:$H$28,4,FALSE),($B$29-((B564-$B$444))*($B$29/1000000)*$B$31),NA())","v":{"$error":"#N/A"}},{"$f":"IFERROR((L564-M564)/'NTC Thermistor Comparison'!H219,NA())","v":{"$error":"#N/A"}},{"$error":"#N/A"},{"$f":"IFERROR('Device Resistance Tables'!D205,NA())","v":{"$error":"#N/A"}},{"$error":"#N/A"},{"$error":"#N/A"},{"$f":"IFERROR((N564-M564)/'NTC Thermistor Comparison'!H218,NA())","v":{"$error":"#N/A"}},{"$f":"IF(B564<=VLOOKUP(Main!$N$22,Coefficients!$E$2:$H$28,4,FALSE),($B$29+((B564-$B$444))*($B$29/1000000)*$B$31),NA())","v":{"$error":"#N/A"}},{"$f":"IF(B564<=VLOOKUP(Main!$N$22,Coefficients!$E$2:$H$28,4,FALSE),$B$22+(($B$444-B564)*(($B$22*(1-$B$23))/1000000)),NA())","v":{"$error":"#N/A"}},{"$error":"#N/A"},{"$error":"#N/A"},{"$error":"#N/A"},{"$error":"#N/A"},{"$error":"#N/A"},{"$error":"#N/A"}]
[187,146,{"$error":"#N/A"},{"$error":"#N/A"},{"$error":"#N/A"},{"$error":"#N/A"},{"$error":"#N/A"},{"$error":"#N/A"},{"$f":"IF(B565<=VLOOKUP(Main!$N$22,Coefficients!$E$2:$H$28,4,FALSE),$B$22-(($B$223-B344)*(($B$22*(1-$B$23))/1000000)),NA())","v":{"$error":"#N/A"}},{"$f":"IF(B565<=VLOOKUP(Main!$N$22,Coefficients!$E$2:$H$28,4,FALSE),($B$29-((B565-$B$444))*($B$29/1000000)*$B$31),NA())","v":{"$error":"#N/A"}},{"$f":"IFERROR((L565-M565)/'NTC Thermistor Comparison'!H220,NA())","v":{"$error":"#N/A"}},{"$error":"#N/A"},{"$f":"IFERROR('Device Resistance Tables'!D206,NA())","v":{"$error":"#N/A"}},{"$error":"#N/A"},{"$error":"#N/A"},{"$f":"IFERROR((N565-M565)/'NTC Thermistor Comparison'!H219,NA())","v":{"$error":"#N/A"}},{"$f":"IF(B565<=VLOOKUP(Main!$N$22,Coefficients!$E$2:$H$28,4,FALSE),($B$29+((B565-$B$444))*($B$29/1000000)*$B$31),NA())","v":{"$error":"#N/A"}},{"$f":"IF(B565<=VLOOKUP(Main!$N$22,Coefficients!$E$2:$H$28,4,FALSE),$B$22+(($B$444-B565)*(($B$22*(1-$B$23))/1000000)),NA())","v":{"$error":"#N/A"}},{"$error":"#N/A"},{"$error":"#N/A"},{"$error":"#N/A"},{"$error":"#N/A"},{"$error":"#N/A"},{"$error":"#N/A"}]
[188,147,{"$error":"#N/A"},{"$error":"#N/A"},{"$error":"#N/A"},{"$error":"#N/A"},{"$error":"#N/A"},{"$error":"#N/A"},{"$f":"IF(B566<=VLOOKUP(Main!$N$22,Coefficients!$E$2:$H$28,4,FALSE),$B$22-(($B$223-B345)*(($B$22*(1-$B$23))/1000000)),NA())","v":{"$error":"#N/A"}},{"$f":"IF(B566<=VLOOKUP(Main!$N$22,Coefficients!$E$2:$H$28,4,FALSE),($B$29-((B566-$B$444))*($B$29/1000000)*$B$31),NA())","v":{"$error":"#N/A"}},{"$f":"IFERROR((L566-M566)/'NTC Thermistor Comparison'!H221,NA())","v":{"$error":"#N/A"}},{"$error":"#N/A"},{"$f":"IFERROR('Device Resistance Tables'!D207,NA())","v":{"$error":"#N/A"}},{"$error":"#N/A"},{"$error":"#N/A"},{"$f":"IFERROR((N566-M566)/'NTC Thermistor Comparison'!H220,NA())","v":{"$error":"#N/A"}},{"$f":"IF(B566<=VLOOKUP(Main!$N$22,Coefficients!$E$2:$H$28,4,FALSE),($B$29+((B566-$B$444))*($B$29/1000000)*$B$31),NA())","v":{"$error":"#N/A"}},{"$f":"IF(B566<=VLOOKUP(Main!$N$22,Coefficients!$E$2:$H$28,4,FALSE),$B$22+(($B$444-B566)*(($B$22*(1-$B$23))/1000000)),NA())","v":{"$error":"#N/A"}},{"$error":"#N/A"},{"$error":"#N/A"},{"$error":"#N/A"},{"$error":"#N/A"},{"$error":"#N/A"},{"$error":"#N/A"}]
[189,148,{"$error":"#N/A"},{"$error":"#N/A"},{"$error":"#N/A"},{"$error":"#N/A"},{"$error":"#N/A"},{"$error":"#N/A"},{"$f":"IF(B567<=VLOOKUP(Main!$N$22,Coefficients!$E$2:$H$28,4,FALSE),$B$22-(($B$223-B346)*(($B$22*(1-$B$23))/1000000)),NA())","v":{"$error":"#N/A"}},{"$f":"IF(B567<=VLOOKUP(Main!$N$22,Coefficients!$E$2:$H$28,4,FALSE),($B$29-((B567-$B$444))*($B$29/1000000)*$B$31),NA())","v":{"$error":"#N/A"}},{"$f":"IFERROR((L567-M567)/'NTC Thermistor Comparison'!H222,NA())","v":{"$error":"#N/A"}},{"$error":"#N/A"},{"$f":"IFERROR('Device Resistance Tables'!D208,NA())","v":{"$error":"#N/A"}},{"$error":"#N/A"},{"$error":"#N/A"},{"$f":"IFERROR((N567-M567)/'NTC Thermistor Comparison'!H221,NA())","v":{"$error":"#N/A"}},{"$f":"IF(B567<=VLOOKUP(Main!$N$22,Coefficients!$E$2:$H$28,4,FALSE),($B$29+((B567-$B$444))*($B$29/1000000)*$B$31),NA())","v":{"$error":"#N/A"}},{"$f":"IF(B567<=VLOOKUP(Main!$N$22,Coefficients!$E$2:$H$28,4,FALSE),$B$22+(($B$444-B567)*(($B$22*(1-$B$23))/1000000)),NA())","v":{"$error":"#N/A"}},{"$error":"#N/A"},{"$error":"#N/A"},{"$error":"#N/A"},{"$error":"#N/A"},{"$error":"#N/A"},{"$error":"#N/A"}]
[190,149,{"$error":"#N/A"},{"$error":"#N/A"},{"$error":"#N/A"},{"$error":"#N/A"},{"$error":"#N/A"},{"$error":"#N/A"},{"$f":"IF(B568<=VLOOKUP(Main!$N$22,Coefficients!$E$2:$H$28,4,FALSE),$B$22-(($B$223-B347)*(($B$22*(1-$B$23))/1000000)),NA())","v":{"$error":"#N/A"}},{"$f":"IF(B568<=VLOOKUP(Main!$N$22,Coefficients!$E$2:$H$28,4,FALSE),($B$29-((B568-$B$444))*($B$29/1000000)*$B$31),NA())","v":{"$error":"#N/A"}},{"$f":"IFERROR((L568-M568)/'NTC Thermistor Comparison'!H223,NA())","v":{"$error":"#N/A"}},{"$error":"#N/A"},{"$f":"IFERROR('Device Resistance Tables'!D209,NA())","v":{"$error":"#N/A"}},{"$error":"#N/A"},{"$error":"#N/A"},{"$f":"IFERROR((N568-M568)/'NTC Thermistor Comparison'!H222,NA())","v":{"$error":"#N/A"}},{"$f":"IF(B568<=VLOOKUP(Main!$N$22,Coefficients!$E$2:$H$28,4,FALSE),($B$29+((B568-$B$444))*($B$29/1000000)*$B$31),NA())","v":{"$error":"#N/A"}},{"$f":"IF(B568<=VLOOKUP(Main!$N$22,Coefficients!$E$2:$H$28,4,FALSE),$B$22+(($B$444-B568)*(($B$22*(1-$B$23))/1000000)),NA())","v":{"$error":"#N/A"}},{"$error":"#N/A"},{"$error":"#N/A"},{"$error":"#N/A"},{"$error":"#N/A"},{"$error":"#N/A"},{"$error":"#N/A"}]
[191,150,{"$error":"#N/A"},{"$error":"#N/A"},{"$error":"#N/A"},{"$error":"#N/A"},{"$error":"#N/A"},{"$error":"#N/A"},{"$f":"IF(B569<=VLOOKUP(Main!$N$22,Coefficients!$E$2:$H$28,4,FALSE),$B$22-(($B$223-B348)*(($B$22*(1-$B$23))/1000000)),NA())","v":{"$error":"#N/A"}},{"$f":"IF(B569<=VLOOKUP(Main!$N$22,Coefficients!$E$2:$H$28,4,FALSE),($B$29-((B569-$B$444))*($B$29/1000000)*$B$31),NA())","v":{"$error":"#N/A"}},{"$f":"IFERROR((L569-M569)/'NTC Thermistor Comparison'!H224,NA())","v":{"$error":"#N/A"}},{"$error":"#N/A"},{"$f":"IFERROR('Device Resistance Tables'!D210,NA())","v":{"$error":"#N/A"}},{"$error":"#N/A"},{"$error":"#N/A"},{"$f":"IFERROR((N569-M569)/'NTC Thermistor Comparison'!H223,NA())","v":{"$error":"#N/A"}},{"$f":"IF(B569<=VLOOKUP(Main!$N$22,Coefficients!$E$2:$H$28,4,FALSE),($B$29+((B569-$B$444))*($B$29/1000000)*$B$31),NA())","v":{"$error":"#N/A"}},{"$f":"IF(B569<=VLOOKUP(Main!$N$22,Coefficients!$E$2:$H$28,4,FALSE),$B$22+(($B$444-B569)*(($B$22*(1-$B$23))/1000000)),NA())","v":{"$error":"#N/A"}},{"$error":"#N/A"},{"$error":"#N/A"},{"$error":"#N/A"},{"$error":"#N/A"},{"$error":"#N/A"},{"$error":"#N/A"}]
[192,151,{"$error":"#N/A"},{"$error":"#N/A"},{"$error":"#N/A"},{"$error":"#N/A"},{"$error":"#N/A"},{"$error":"#N/A"},{"$f":"IF(B570<=VLOOKUP(Main!$N$22,Coefficients!$E$2:$H$28,4,FALSE),$B$22-(($B$223-B349)*(($B$22*(1-$B$23))/1000000)),NA())","v":{"$error":"#N/A"}},{"$f":"IF(B570<=VLOOKUP(Main!$N$22,Coefficients!$E$2:$H$28,4,FALSE),($B$29-((B570-$B$444))*($B$29/1000000)*$B$31),NA())","v":{"$error":"#N/A"}},{"$f":"IFERROR((L570-M570)/'NTC Thermistor Comparison'!H225,NA())","v":{"$error":"#N/A"}},{"$error":"#N/A"},{"$f":"IFERROR('Device Resistance Tables'!D211,NA())","v":{"$error":"#N/A"}},{"$error":"#N/A"},{"$error":"#N/A"},{"$f":"IFERROR((N570-M570)/'NTC Thermistor Comparison'!H224,NA())","v":{"$error":"#N/A"}},{"$f":"IF(B570<=VLOOKUP(Main!$N$22,Coefficients!$E$2:$H$28,4,FALSE),($B$29+((B570-$B$444))*($B$29/1000000)*$B$31),NA())","v":{"$error":"#N/A"}},{"$f":"IF(B570<=VLOOKUP(Main!$N$22,Coefficients!$E$2:$H$28,4,FALSE),$B$22+(($B$444-B570)*(($B$22*(1-$B$23))/1000000)),NA())","v":{"$error":"#N/A"}},{"$error":"#N/A"},{"$error":"#N/A"},{"$error":"#N/A"},{"$error":"#N/A"},{"$error":"#N/A"},{"$error":"#N/A"}]
[193,152,{"$error":"#N/A"},{"$error":"#N/A"},{"$error":"#N/A"},{"$error":"#N/A"},{"$f":"IFERROR(I571/(L571+Q571)*L571,NA())","v":{"$error":"#N/A"}},{"$f":"IFERROR(I571/(M571+Q571)*M571,NA())","v":{"$error":"#N/A"}},{"$f":"IF(B571<=VLOOKUP(Main!$N$22,Coefficients!$E$2:$H$28,4,FALSE),$B$22-(($B$223-B350)*(($B$22*(1-$B$23))/1000000)),NA())","v":{"$error":"#N/A"}},{"$f":"IF(B571<=VLOOKUP(Main!$N$22,Coefficients!$E$2:$H$28,4,FALSE),($B$29-((B571-$B$444))*($B$29/1000000)*$B$31),NA())","v":{"$error":"#N/A"}},{"$f":"IFERROR((L571-M571)/'NTC Thermistor Comparison'!H226,NA())","v":{"$error":"#N/A"}},{"$error":"#N/A"},{"$f":"IFERROR('Device Resistance Tables'!D212,NA())","v":{"$error":"#N/A"}},{"$error":"#N/A"},{"$f":"IFERROR(N350,NA())","v":{"$error":"#N/A"}},{"$f":"IFERROR((N571-M571)/'NTC Thermistor Comparison'!H225,NA())","v":{"$error":"#N/A"}},{"$f":"IF(B571<=VLOOKUP(Main!$N$22,Coefficients!$E$2:$H$28,4,FALSE),($B$29+((B571-$B$444))*($B$29/1000000)*$B$31),NA())","v":{"$error":"#N/A"}},{"$f":"IF(B571<=VLOOKUP(Main!$N$22,Coefficients!$E$2:$H$28,4,FALSE),$B$22+(($B$444-B571)*(($B$22*(1-$B$23))/1000000)),NA())","v":{"$error":"#N/A"}},{"$f":"IFERROR((R571/(M571+J571))*M571,NA())","v":{"$error":"#N/A"}},{"$f":"IFERROR((R571/(N571+J571))*N571,NA())","v":{"$error":"#N/A"}},{"$error":"#N/A"},{"$error":"#N/A"},{"$error":"#N/A"},{"$error":"#N/A"}]
[194,153,{"$f":"IFERROR(E572/O572,NA())","v":{"$error":"#N/A"}},{"$f":"IFERROR(F572/O572,NA())","v":{"$error":"#N/A"}},{"$f":"IFERROR(G572-($B$22/(M572+$B$29)*M572),NA())","v":{"$error":"#N/A"}},{"$f":"IFERROR(H572-($B$22/(M572+$B$29)*M572),NA())","v":{"$error":"#N/A"}},{"$error":"#N/A"},{"$error":"#N/A"},{"$f":"IF(B572<=VLOOKUP(Main!$N$22,Coefficients!$E$2:$H$28,4,FALSE),$B$22-(($B$223-B351)*(($B$22*(1-$B$23))/1000000)),NA())","v":{"$error":"#N/A"}},{"$f":"IF(B572<=VLOOKUP(Main!$N$22,Coefficients!$E$2:$H$28,4,FALSE),($B$29-((B572-$B$444))*($B$29/1000000)*$B$31),NA())","v":{"$error":"#N/A"}},{"$f":"IFERROR((L572-M572)/'NTC Thermistor Comparison'!H227,NA())","v":{"$error":"#N/A"}},{"$f":"M572*0.99","v":{"$error":"#N/A"}},{"$f":"IFERROR('Device Resistance Tables'!D213,NA())","v":{"$error":"#N/A"}},{"$f":"M572*1.01","v":{"$error":"#N/A"}},{"$error":"#N/A"},{"$f":"IFERROR((N572-M572)/'NTC Thermistor Comparison'!H226,NA())","v":{"$error":"#N/A"}},{"$f":"IF(B572<=VLOOKUP(Main!$N$22,Coefficients!$E$2:$H$28,4,FALSE),($B$29+((B572-$B$444))*($B$29/1000000)*$B$31),NA())","v":{"$error":"#N/A"}},{"$f":"IF(B572<=VLOOKUP(Main!$N$22,Coefficients!$E$2:$H$28,4,FALSE),$B$22+(($B$444-B572)*(($B$22*(1-$B$23))/1000000)),NA())","v":{"$error":"#N/A"}},{"$error":"#N/A"},{"$error":"#N/A"},{"$f":"IFERROR(S572-($B$22/(M572+$B$29)*M572),NA())","v":{"$error":"#N/A"}},{"$f":"IFERROR(T572-($B$22/(M572+$B$29)*M572),NA())","v":{"$error":"#N/A"}},{"$f":"IFERROR(U572/O572,NA())","v":{"$error":"#N/A"}},{"$f":"IFERROR(V572/O572,NA())","v":{"$error":"#N/A"}}]
[195,{"$f":"B572+1","v":154},{"$error":"#N/A"},{"$error":"#N/A"},{"$error":"#N/A"},{"$error":"#N/A"},{"$error":"#N/A"},{"$error":"#N/A"},{"$f":"IF(B573<=VLOOKUP(Main!$N$22,Coefficients!$E$2:$H$28,4,FALSE),$B$22-(($B$223-B352)*(($B$22*(1-$B$23))/1000000)),NA())","v":{"$error":"#N/A"}},{"$f":"IF(B573<=VLOOKUP(Main!$N$22,Coefficients!$E$2:$H$28,4,FALSE),($B$29-((B573-$B$444))*($B$29/1000000)*$B$31),NA())","v":{"$error":"#N/A"}},{"$f":"IFERROR((L573-M573)/'NTC Thermistor Comparison'!H228,NA())","v":{"$error":"#N/A"}},{"$error":"#N/A"},{"$f":"IFERROR('Device Resistance Tables'!D214,NA())","v":{"$error":"#N/A"}},{"$error":"#N/A"},{"$error":"#N/A"},{"$f":"IFERROR((N573-M573)/'NTC Thermistor Comparison'!H227,NA())","v":{"$error":"#N/A"}},{"$f":"IF(B573<=VLOOKUP(Main!$N$22,Coefficients!$E$2:$H$28,4,FALSE),($B$29+((B573-$B$444))*($B$29/1000000)*$B$31),NA())","v":{"$error":"#N/A"}},{"$f":"IF(B573<=VLOOKUP(Main!$N$22,Coefficients!$E$2:$H$28,4,FALSE),$B$22+(($B$444-B573)*(($B$22*(1-$B$23))/1000000)),NA())","v":{"$error":"#N/A"}},{"$error":"#N/A"},{"$error":"#N/A"},{"$error":"#N/A"},{"$error":"#N/A"},{"$error":"#N/A"},{"$error":"#N/A"}]
[196,155,{"$error":"#N/A"},{"$error":"#N/A"},{"$error":"#N/A"},{"$error":"#N/A"},{"$error":"#N/A"},{"$error":"#N/A"},{"$f":"IF(B574<=VLOOKUP(Main!$N$22,Coefficients!$E$2:$H$28,4,FALSE),$B$22-(($B$223-B353)*(($B$22*(1-$B$23))/1000000)),NA())","v":{"$error":"#N/A"}},{"$f":"IF(B574<=VLOOKUP(Main!$N$22,Coefficients!$E$2:$H$28,4,FALSE),($B$29-((B574-$B$444))*($B$29/1000000)*$B$31),NA())","v":{"$error":"#N/A"}},{"$f":"IFERROR((L574-M574)/'NTC Thermistor Comparison'!H229,NA())","v":{"$error":"#N/A"}},{"$error":"#N/A"},{"$f":"IFERROR('Device Resistance Tables'!D215,NA())","v":{"$error":"#N/A"}},{"$error":"#N/A"},{"$error":"#N/A"},{"$f":"IFERROR((N574-M574)/'NTC Thermistor Comparison'!H228,NA())","v":{"$error":"#N/A"}},{"$f":"IF(B574<=VLOOKUP(Main!$N$22,Coefficients!$E$2:$H$28,4,FALSE),($B$29+((B574-$B$444))*($B$29/1000000)*$B$31),NA())","v":{"$error":"#N/A"}},{"$f":"IF(B574<=VLOOKUP(Main!$N$22,Coefficients!$E$2:$H$28,4,FALSE),$B$22+(($B$444-B574)*(($B$22*(1-$B$23))/1000000)),NA())","v":{"$error":"#N/A"}},{"$error":"#N/A"},{"$error":"#N/A"},{"$error":"#N/A"},{"$error":"#N/A"},{"$error":"#N/A"},{"$error":"#N/A"}]
[197,156,{"$error":"#N/A"},{"$error":"#N/A"},{"$error":"#N/A"},{"$error":"#N/A"},{"$error":"#N/A"},{"$error":"#N/A"},{"$f":"IF(B575<=VLOOKUP(Main!$N$22,Coefficients!$E$2:$H$28,4,FALSE),$B$22-(($B$223-B354)*(($B$22*(1-$B$23))/1000000)),NA())","v":{"$error":"#N/A"}},{"$f":"IF(B575<=VLOOKUP(Main!$N$22,Coefficients!$E$2:$H$28,4,FALSE),($B$29-((B575-$B$444))*($B$29/1000000)*$B$31),NA())","v":{"$error":"#N/A"}},{"$f":"IFERROR((L575-M575)/'NTC Thermistor Comparison'!H230,NA())","v":{"$error":"#N/A"}},{"$error":"#N/A"},{"$f":"IFERROR('Device Resistance Tables'!D216,NA())","v":{"$error":"#N/A"}},{"$error":"#N/A"},{"$error":"#N/A"},{"$f":"IFERROR((N575-M575)/'NTC Thermistor Comparison'!H229,NA())","v":{"$error":"#N/A"}},{"$f":"IF(B575<=VLOOKUP(Main!$N$22,Coefficients!$E$2:$H$28,4,FALSE),($B$29+((B575-$B$444))*($B$29/1000000)*$B$31),NA())","v":{"$error":"#N/A"}},{"$f":"IF(B575<=VLOOKUP(Main!$N$22,Coefficients!$E$2:$H$28,4,FALSE),$B$22+(($B$444-B575)*(($B$22*(1-$B$23))/1000000)),NA())","v":{"$error":"#N/A"}},{"$error":"#N/A"},{"$error":"#N/A"},{"$error":"#N/A"},{"$error":"#N/A"},{"$error":"#N/A"},{"$error":"#N/A"}]
[198,157,{"$error":"#N/A"},{"$error":"#N/A"},{"$error":"#N/A"},{"$error":"#N/A"},{"$error":"#N/A"},{"$error":"#N/A"},{"$f":"IF(B576<=VLOOKUP(Main!$N$22,Coefficients!$E$2:$H$28,4,FALSE),$B$22-(($B$223-B355)*(($B$22*(1-$B$23))/1000000)),NA())","v":{"$error":"#N/A"}},{"$f":"IF(B576<=VLOOKUP(Main!$N$22,Coefficients!$E$2:$H$28,4,FALSE),($B$29-((B576-$B$444))*($B$29/1000000)*$B$31),NA())","v":{"$error":"#N/A"}},{"$f":"IFERROR((L576-M576)/'NTC Thermistor Comparison'!H231,NA())","v":{"$error":"#N/A"}},{"$error":"#N/A"},{"$f":"IFERROR('Device Resistance Tables'!D217,NA())","v":{"$error":"#N/A"}},{"$error":"#N/A"},{"$error":"#N/A"},{"$f":"IFERROR((N576-M576)/'NTC Thermistor Comparison'!H230,NA())","v":{"$error":"#N/A"}},{"$f":"IF(B576<=VLOOKUP(Main!$N$22,Coefficients!$E$2:$H$28,4,FALSE),($B$29+((B576-$B$444))*($B$29/1000000)*$B$31),NA())","v":{"$error":"#N/A"}},{"$f":"IF(B576<=VLOOKUP(Main!$N$22,Coefficients!$E$2:$H$28,4,FALSE),$B$22+(($B$444-B576)*(($B$22*(1-$B$23))/1000000)),NA())","v":{"$error":"#N/A"}},{"$error":"#N/A"},{"$error":"#N/A"},{"$error":"#N/A"},{"$error":"#N/A"},{"$error":"#N/A"},{"$error":"#N/A"}]
[199,158,{"$error":"#N/A"},{"$error":"#N/A"},{"$error":"#N/A"},{"$error":"#N/A"},{"$error":"#N/A"},{"$error":"#N/A"},{"$f":"IF(B577<=VLOOKUP(Main!$N$22,Coefficients!$E$2:$H$28,4,FALSE),$B$22-(($B$223-B356)*(($B$22*(1-$B$23))/1000000)),NA())","v":{"$error":"#N/A"}},{"$f":"IF(B577<=VLOOKUP(Main!$N$22,Coefficients!$E$2:$H$28,4,FALSE),($B$29-((B577-$B$444))*($B$29/1000000)*$B$31),NA())","v":{"$error":"#N/A"}},{"$f":"IFERROR((L577-M577)/'NTC Thermistor Comparison'!H232,NA())","v":{"$error":"#N/A"}},{"$error":"#N/A"},{"$f":"IFERROR('Device Resistance Tables'!D218,NA())","v":{"$error":"#N/A"}},{"$error":"#N/A"},{"$error":"#N/A"},{"$f":"IFERROR((N577-M577)/'NTC Thermistor Comparison'!H231,NA())","v":{"$error":"#N/A"}},{"$f":"IF(B577<=VLOOKUP(Main!$N$22,Coefficients!$E$2:$H$28,4,FALSE),($B$29+((B577-$B$444))*($B$29/1000000)*$B$31),NA())","v":{"$error":"#N/A"}},{"$f":"IF(B577<=VLOOKUP(Main!$N$22,Coefficients!$E$2:$H$28,4,FALSE),$B$22+(($B$444-B577)*(($B$22*(1-$B$23))/1000000)),NA())","v":{"$error":"#N/A"}},{"$error":"#N/A"},{"$error":"#N/A"},{"$error":"#N/A"},{"$error":"#N/A"},{"$error":"#N/A"},{"$error":"#N/A"}]
[200,159,{"$error":"#N/A"},{"$error":"#N/A"},{"$error":"#N/A"},{"$error":"#N/A"},{"$error":"#N/A"},{"$error":"#N/A"},{"$f":"IF(B578<=VLOOKUP(Main!$N$22,Coefficients!$E$2:$H$28,4,FALSE),$B$22-(($B$223-B357)*(($B$22*(1-$B$23))/1000000)),NA())","v":{"$error":"#N/A"}},{"$f":"IF(B578<=VLOOKUP(Main!$N$22,Coefficients!$E$2:$H$28,4,FALSE),($B$29-((B578-$B$444))*($B$29/1000000)*$B$31),NA())","v":{"$error":"#N/A"}},{"$f":"IFERROR((L578-M578)/'NTC Thermistor Comparison'!H233,NA())","v":{"$error":"#N/A"}},{"$error":"#N/A"},{"$f":"IFERROR('Device Resistance Tables'!D219,NA())","v":{"$error":"#N/A"}},{"$error":"#N/A"},{"$error":"#N/A"},{"$f":"IFERROR((N578-M578)/'NTC Thermistor Comparison'!H232,NA())","v":{"$error":"#N/A"}},{"$f":"IF(B578<=VLOOKUP(Main!$N$22,Coefficients!$E$2:$H$28,4,FALSE),($B$29+((B578-$B$444))*($B$29/1000000)*$B$31),NA())","v":{"$error":"#N/A"}},{"$f":"IF(B578<=VLOOKUP(Main!$N$22,Coefficients!$E$2:$H$28,4,FALSE),$B$22+(($B$444-B578)*(($B$22*(1-$B$23))/1000000)),NA())","v":{"$error":"#N/A"}},{"$error":"#N/A"},{"$error":"#N/A"},{"$error":"#N/A"},{"$error":"#N/A"},{"$error":"#N/A"},{"$error":"#N/A"}]
[201,160,{"$error":"#N/A"},{"$error":"#N/A"},{"$error":"#N/A"},{"$error":"#N/A"},{"$error":"#N/A"},{"$error":"#N/A"},{"$f":"IF(B579<=VLOOKUP(Main!$N$22,Coefficients!$E$2:$H$28,4,FALSE),$B$22-(($B$223-B358)*(($B$22*(1-$B$23))/1000000)),NA())","v":{"$error":"#N/A"}},{"$f":"IF(B579<=VLOOKUP(Main!$N$22,Coefficients!$E$2:$H$28,4,FALSE),($B$29-((B579-$B$444))*($B$29/1000000)*$B$31),NA())","v":{"$error":"#N/A"}},{"$f":"IFERROR((L579-M579)/'NTC Thermistor Comparison'!H234,NA())","v":{"$error":"#N/A"}},{"$error":"#N/A"},{"$f":"IFERROR('Device Resistance Tables'!D220,NA())","v":{"$error":"#N/A"}},{"$error":"#N/A"},{"$error":"#N/A"},{"$f":"IFERROR((N579-M579)/'NTC Thermistor Comparison'!H233,NA())","v":{"$error":"#N/A"}},{"$f":"IF(B579<=VLOOKUP(Main!$N$22,Coefficients!$E$2:$H$28,4,FALSE),($B$29+((B579-$B$444))*($B$29/1000000)*$B$31),NA())","v":{"$error":"#N/A"}},{"$f":"IF(B579<=VLOOKUP(Main!$N$22,Coefficients!$E$2:$H$28,4,FALSE),$B$22+(($B$444-B579)*(($B$22*(1-$B$23))/1000000)),NA())","v":{"$error":"#N/A"}},{"$error":"#N/A"},{"$error":"#N/A"},{"$error":"#N/A"},{"$error":"#N/A"},{"$error":"#N/A"},{"$error":"#N/A"}]
[202,161,{"$error":"#N/A"},{"$error":"#N/A"},{"$error":"#N/A"},{"$error":"#N/A"},{"$error":"#N/A"},{"$error":"#N/A"},{"$f":"IF(B580<=VLOOKUP(Main!$N$22,Coefficients!$E$2:$H$28,4,FALSE),$B$22-(($B$223-B359)*(($B$22*(1-$B$23))/1000000)),NA())","v":{"$error":"#N/A"}},{"$f":"IF(B580<=VLOOKUP(Main!$N$22,Coefficients!$E$2:$H$28,4,FALSE),($B$29-((B580-$B$444))*($B$29/1000000)*$B$31),NA())","v":{"$error":"#N/A"}},{"$f":"IFERROR((L580-M580)/'NTC Thermistor Comparison'!H235,NA())","v":{"$error":"#N/A"}},{"$error":"#N/A"},{"$f":"IFERROR('Device Resistance Tables'!D221,NA())","v":{"$error":"#N/A"}},{"$error":"#N/A"},{"$error":"#N/A"},{"$f":"IFERROR((N580-M580)/'NTC Thermistor Comparison'!H234,NA())","v":{"$error":"#N/A"}},{"$f":"IF(B580<=VLOOKUP(Main!$N$22,Coefficients!$E$2:$H$28,4,FALSE),($B$29+((B580-$B$444))*($B$29/1000000)*$B$31),NA())","v":{"$error":"#N/A"}},{"$f":"IF(B580<=VLOOKUP(Main!$N$22,Coefficients!$E$2:$H$28,4,FALSE),$B$22+(($B$444-B580)*(($B$22*(1-$B$23))/1000000)),NA())","v":{"$error":"#N/A"}},{"$error":"#N/A"},{"$error":"#N/A"},{"$error":"#N/A"},{"$error":"#N/A"},{"$error":"#N/A"},{"$error":"#N/A"}]
[203,162,{"$error":"#N/A"},{"$error":"#N/A"},{"$error":"#N/A"},{"$error":"#N/A"},{"$error":"#N/A"},{"$error":"#N/A"},{"$f":"IF(B581<=VLOOKUP(Main!$N$22,Coefficients!$E$2:$H$28,4,FALSE),$B$22-(($B$223-B360)*(($B$22*(1-$B$23))/1000000)),NA())","v":{"$error":"#N/A"}},{"$f":"IF(B581<=VLOOKUP(Main!$N$22,Coefficients!$E$2:$H$28,4,FALSE),($B$29-((B581-$B$444))*($B$29/1000000)*$B$31),NA())","v":{"$error":"#N/A"}},{"$f":"IFERROR((L581-M581)/'NTC Thermistor Comparison'!H236,NA())","v":{"$error":"#N/A"}},{"$error":"#N/A"},{"$f":"IFERROR('Device Resistance Tables'!D222,NA())","v":{"$error":"#N/A"}},{"$error":"#N/A"},{"$error":"#N/A"},{"$f":"IFERROR((N581-M581)/'NTC Thermistor Comparison'!H235,NA())","v":{"$error":"#N/A"}},{"$f":"IF(B581<=VLOOKUP(Main!$N$22,Coefficients!$E$2:$H$28,4,FALSE),($B$29+((B581-$B$444))*($B$29/1000000)*$B$31),NA())","v":{"$error":"#N/A"}},{"$f":"IF(B581<=VLOOKUP(Main!$N$22,Coefficients!$E$2:$H$28,4,FALSE),$B$22+(($B$444-B581)*(($B$22*(1-$B$23))/1000000)),NA())","v":{"$error":"#N/A"}},{"$error":"#N/A"},{"$error":"#N/A"},{"$error":"#N/A"},{"$error":"#N/A"},{"$error":"#N/A"},{"$error":"#N/A"}]
[204,163,{"$error":"#N/A"},{"$error":"#N/A"},{"$error":"#N/A"},{"$error":"#N/A"},{"$error":"#N/A"},{"$error":"#N/A"},{"$f":"IF(B582<=VLOOKUP(Main!$N$22,Coefficients!$E$2:$H$28,4,FALSE),$B$22-(($B$223-B361)*(($B$22*(1-$B$23))/1000000)),NA())","v":{"$error":"#N/A"}},{"$f":"IF(B582<=VLOOKUP(Main!$N$22,Coefficients!$E$2:$H$28,4,FALSE),($B$29-((B582-$B$444))*($B$29/1000000)*$B$31),NA())","v":{"$error":"#N/A"}},{"$f":"IFERROR((L582-M582)/'NTC Thermistor Comparison'!H237,NA())","v":{"$error":"#N/A"}},{"$error":"#N/A"},{"$f":"IFERROR('Device Resistance Tables'!D223,NA())","v":{"$error":"#N/A"}},{"$error":"#N/A"},{"$error":"#N/A"},{"$f":"IFERROR((N582-M582)/'NTC Thermistor Comparison'!H236,NA())","v":{"$error":"#N/A"}},{"$f":"IF(B582<=VLOOKUP(Main!$N$22,Coefficients!$E$2:$H$28,4,FALSE),($B$29+((B582-$B$444))*($B$29/1000000)*$B$31),NA())","v":{"$error":"#N/A"}},{"$f":"IF(B582<=VLOOKUP(Main!$N$22,Coefficients!$E$2:$H$28,4,FALSE),$B$22+(($B$444-B582)*(($B$22*(1-$B$23))/1000000)),NA())","v":{"$error":"#N/A"}},{"$error":"#N/A"},{"$error":"#N/A"},{"$error":"#N/A"},{"$error":"#N/A"},{"$error":"#N/A"},{"$error":"#N/A"}]
[205,164,{"$error":"#N/A"},{"$error":"#N/A"},{"$error":"#N/A"},{"$error":"#N/A"},{"$error":"#N/A"},{"$error":"#N/A"},{"$f":"IF(B583<=VLOOKUP(Main!$N$22,Coefficients!$E$2:$H$28,4,FALSE),$B$22-(($B$223-B362)*(($B$22*(1-$B$23))/1000000)),NA())","v":{"$error":"#N/A"}},{"$f":"IF(B583<=VLOOKUP(Main!$N$22,Coefficients!$E$2:$H$28,4,FALSE),($B$29-((B583-$B$444))*($B$29/1000000)*$B$31),NA())","v":{"$error":"#N/A"}},{"$f":"IFERROR((L583-M583)/'NTC Thermistor Comparison'!H238,NA())","v":{"$error":"#N/A"}},{"$error":"#N/A"},{"$f":"IFERROR('Device Resistance Tables'!D224,NA())","v":{"$error":"#N/A"}},{"$error":"#N/A"},{"$error":"#N/A"},{"$f":"IFERROR((N583-M583)/'NTC Thermistor Comparison'!H237,NA())","v":{"$error":"#N/A"}},{"$f":"IF(B583<=VLOOKUP(Main!$N$22,Coefficients!$E$2:$H$28,4,FALSE),($B$29+((B583-$B$444))*($B$29/1000000)*$B$31),NA())","v":{"$error":"#N/A"}},{"$f":"IF(B583<=VLOOKUP(Main!$N$22,Coefficients!$E$2:$H$28,4,FALSE),$B$22+(($B$444-B583)*(($B$22*(1-$B$23))/1000000)),NA())","v":{"$error":"#N/A"}},{"$error":"#N/A"},{"$error":"#N/A"},{"$error":"#N/A"},{"$error":"#N/A"},{"$error":"#N/A"},{"$error":"#N/A"}]
[206,165,{"$error":"#N/A"},{"$error":"#N/A"},{"$error":"#N/A"},{"$error":"#N/A"},{"$error":"#N/A"},{"$error":"#N/A"},{"$f":"IF(B584<=VLOOKUP(Main!$N$22,Coefficients!$E$2:$H$28,4,FALSE),$B$22-(($B$223-B363)*(($B$22*(1-$B$23))/1000000)),NA())","v":{"$error":"#N/A"}},{"$f":"IF(B584<=VLOOKUP(Main!$N$22,Coefficients!$E$2:$H$28,4,FALSE),($B$29-((B584-$B$444))*($B$29/1000000)*$B$31),NA())","v":{"$error":"#N/A"}},{"$f":"IFERROR((L584-M584)/'NTC Thermistor Comparison'!H239,NA())","v":{"$error":"#N/A"}},{"$error":"#N/A"},{"$f":"IFERROR('Device Resistance Tables'!D225,NA())","v":{"$error":"#N/A"}},{"$error":"#N/A"},{"$error":"#N/A"},{"$f":"IFERROR((N584-M584)/'NTC Thermistor Comparison'!H238,NA())","v":{"$error":"#N/A"}},{"$f":"IF(B584<=VLOOKUP(Main!$N$22,Coefficients!$E$2:$H$28,4,FALSE),($B$29+((B584-$B$444))*($B$29/1000000)*$B$31),NA())","v":{"$error":"#N/A"}},{"$f":"IF(B584<=VLOOKUP(Main!$N$22,Coefficients!$E$2:$H$28,4,FALSE),$B$22+(($B$444-B584)*(($B$22*(1-$B$23))/1000000)),NA())","v":{"$error":"#N/A"}},{"$error":"#N/A"},{"$error":"#N/A"},{"$error":"#N/A"},{"$error":"#N/A"},{"$error":"#N/A"},{"$error":"#N/A"}]
[207,166,{"$error":"#N/A"},{"$error":"#N/A"},{"$error":"#N/A"},{"$error":"#N/A"},{"$error":"#N/A"},{"$error":"#N/A"},{"$f":"IF(B585<=VLOOKUP(Main!$N$22,Coefficients!$E$2:$H$28,4,FALSE),$B$22-(($B$223-B364)*(($B$22*(1-$B$23))/1000000)),NA())","v":{"$error":"#N/A"}},{"$f":"IF(B585<=VLOOKUP(Main!$N$22,Coefficients!$E$2:$H$28,4,FALSE),($B$29-((B585-$B$444))*($B$29/1000000)*$B$31),NA())","v":{"$error":"#N/A"}},{"$f":"IFERROR((L585-M585)/'NTC Thermistor Comparison'!H240,NA())","v":{"$error":"#N/A"}},{"$error":"#N/A"},{"$f":"IFERROR('Device Resistance Tables'!D226,NA())","v":{"$error":"#N/A"}},{"$error":"#N/A"},{"$error":"#N/A"},{"$f":"IFERROR((N585-M585)/'NTC Thermistor Comparison'!H239,NA())","v":{"$error":"#N/A"}},{"$f":"IF(B585<=VLOOKUP(Main!$N$22,Coefficients!$E$2:$H$28,4,FALSE),($B$29+((B585-$B$444))*($B$29/1000000)*$B$31),NA())","v":{"$error":"#N/A"}},{"$f":"IF(B585<=VLOOKUP(Main!$N$22,Coefficients!$E$2:$H$28,4,FALSE),$B$22+(($B$444-B585)*(($B$22*(1-$B$23))/1000000)),NA())","v":{"$error":"#N/A"}},{"$error":"#N/A"},{"$error":"#N/A"},{"$error":"#N/A"},{"$error":"#N/A"},{"$error":"#N/A"},{"$error":"#N/A"}]
[208,167,{"$error":"#N/A"},{"$error":"#N/A"},{"$error":"#N/A"},{"$error":"#N/A"},{"$error":"#N/A"},{"$error":"#N/A"},{"$f":"IF(B586<=VLOOKUP(Main!$N$22,Coefficients!$E$2:$H$28,4,FALSE),$B$22-(($B$223-B365)*(($B$22*(1-$B$23))/1000000)),NA())","v":{"$error":"#N/A"}},{"$f":"IF(B586<=VLOOKUP(Main!$N$22,Coefficients!$E$2:$H$28,4,FALSE),($B$29-((B586-$B$444))*($B$29/1000000)*$B$31),NA())","v":{"$error":"#N/A"}},{"$f":"IFERROR((L586-M586)/'NTC Thermistor Comparison'!H241,NA())","v":{"$error":"#N/A"}},{"$error":"#N/A"},{"$f":"IFERROR('Device Resistance Tables'!D227,NA())","v":{"$error":"#N/A"}},{"$error":"#N/A"},{"$error":"#N/A"},{"$f":"IFERROR((N586-M586)/'NTC Thermistor Comparison'!H240,NA())","v":{"$error":"#N/A"}},{"$f":"IF(B586<=VLOOKUP(Main!$N$22,Coefficients!$E$2:$H$28,4,FALSE),($B$29+((B586-$B$444))*($B$29/1000000)*$B$31),NA())","v":{"$error":"#N/A"}},{"$f":"IF(B586<=VLOOKUP(Main!$N$22,Coefficients!$E$2:$H$28,4,FALSE),$B$22+(($B$444-B586)*(($B$22*(1-$B$23))/1000000)),NA())","v":{"$error":"#N/A"}},{"$error":"#N/A"},{"$error":"#N/A"},{"$error":"#N/A"},{"$error":"#N/A"},{"$error":"#N/A"},{"$error":"#N/A"}]
[209,168,{"$error":"#N/A"},{"$error":"#N/A"},{"$error":"#N/A"},{"$error":"#N/A"},{"$error":"#N/A"},{"$error":"#N/A"},{"$f":"IF(B587<=VLOOKUP(Main!$N$22,Coefficients!$E$2:$H$28,4,FALSE),$B$22-(($B$223-B366)*(($B$22*(1-$B$23))/1000000)),NA())","v":{"$error":"#N/A"}},{"$f":"IF(B587<=VLOOKUP(Main!$N$22,Coefficients!$E$2:$H$28,4,FALSE),($B$29-((B587-$B$444))*($B$29/1000000)*$B$31),NA())","v":{"$error":"#N/A"}},{"$f":"IFERROR((L587-M587)/'NTC Thermistor Comparison'!H242,NA())","v":{"$error":"#N/A"}},{"$error":"#N/A"},{"$f":"IFERROR('Device Resistance Tables'!D228,NA())","v":{"$error":"#N/A"}},{"$error":"#N/A"},{"$error":"#N/A"},{"$f":"IFERROR((N587-M587)/'NTC Thermistor Comparison'!H241,NA())","v":{"$error":"#N/A"}},{"$f":"IF(B587<=VLOOKUP(Main!$N$22,Coefficients!$E$2:$H$28,4,FALSE),($B$29+((B587-$B$444))*($B$29/1000000)*$B$31),NA())","v":{"$error":"#N/A"}},{"$f":"IF(B587<=VLOOKUP(Main!$N$22,Coefficients!$E$2:$H$28,4,FALSE),$B$22+(($B$444-B587)*(($B$22*(1-$B$23))/1000000)),NA())","v":{"$error":"#N/A"}},{"$error":"#N/A"},{"$error":"#N/A"},{"$error":"#N/A"},{"$error":"#N/A"},{"$error":"#N/A"},{"$error":"#N/A"}]
[210,169,{"$error":"#N/A"},{"$error":"#N/A"},{"$error":"#N/A"},{"$error":"#N/A"},{"$error":"#N/A"},{"$error":"#N/A"},{"$f":"IF(B588<=VLOOKUP(Main!$N$22,Coefficients!$E$2:$H$28,4,FALSE),$B$22-(($B$223-B367)*(($B$22*(1-$B$23))/1000000)),NA())","v":{"$error":"#N/A"}},{"$f":"IF(B588<=VLOOKUP(Main!$N$22,Coefficients!$E$2:$H$28,4,FALSE),($B$29-((B588-$B$444))*($B$29/1000000)*$B$31),NA())","v":{"$error":"#N/A"}},{"$f":"IFERROR((L588-M588)/'NTC Thermistor Comparison'!H243,NA())","v":{"$error":"#N/A"}},{"$error":"#N/A"},{"$f":"IFERROR('Device Resistance Tables'!D229,NA())","v":{"$error":"#N/A"}},{"$error":"#N/A"},{"$error":"#N/A"},{"$f":"IFERROR((N588-M588)/'NTC Thermistor Comparison'!H242,NA())","v":{"$error":"#N/A"}},{"$f":"IF(B588<=VLOOKUP(Main!$N$22,Coefficients!$E$2:$H$28,4,FALSE),($B$29+((B588-$B$444))*($B$29/1000000)*$B$31),NA())","v":{"$error":"#N/A"}},{"$f":"IF(B588<=VLOOKUP(Main!$N$22,Coefficients!$E$2:$H$28,4,FALSE),$B$22+(($B$444-B588)*(($B$22*(1-$B$23))/1000000)),NA())","v":{"$error":"#N/A"}},{"$error":"#N/A"},{"$error":"#N/A"},{"$error":"#N/A"},{"$error":"#N/A"},{"$error":"#N/A"},{"$error":"#N/A"}]
[211,170,{"$error":"#N/A"},{"$error":"#N/A"},{"$error":"#N/A"},{"$error":"#N/A"},{"$error":"#N/A"},{"$error":"#N/A"},{"$f":"IF(B589<=VLOOKUP(Main!$N$22,Coefficients!$E$2:$H$28,4,FALSE),$B$22-(($B$223-B368)*(($B$22*(1-$B$23))/1000000)),NA())","v":{"$error":"#N/A"}},{"$f":"IF(B589<=VLOOKUP(Main!$N$22,Coefficients!$E$2:$H$28,4,FALSE),($B$29-((B589-$B$444))*($B$29/1000000)*$B$31),NA())","v":{"$error":"#N/A"}},{"$f":"IFERROR((L589-M589)/'NTC Thermistor Comparison'!H244,NA())","v":{"$error":"#N/A"}},{"$error":"#N/A"},{"$f":"IFERROR('Device Resistance Tables'!D230,NA())","v":{"$error":"#N/A"}},{"$error":"#N/A"},{"$error":"#N/A"},{"$f":"IFERROR((N589-M589)/'NTC Thermistor Comparison'!H243,NA())","v":{"$error":"#N/A"}},{"$f":"IF(B589<=VLOOKUP(Main!$N$22,Coefficients!$E$2:$H$28,4,FALSE),($B$29+((B589-$B$444))*($B$29/1000000)*$B$31),NA())","v":{"$error":"#N/A"}},{"$f":"IF(B589<=VLOOKUP(Main!$N$22,Coefficients!$E$2:$H$28,4,FALSE),$B$22+(($B$444-B589)*(($B$22*(1-$B$23))/1000000)),NA())","v":{"$error":"#N/A"}},{"$error":"#N/A"},{"$error":"#N/A"},{"$error":"#N/A"},{"$error":"#N/A"},{"$error":"#N/A"},{"$error":"#N/A"}]