Workbook

Sheet Registers to Output
A1: PatGen Calculator: Registers to Output
A3: Instructions:
A4: Use this sheet to calculate PatGen output parameters given a specific register configuration. Fill in beige colored boxes with inputs. Register values should be 2 digits hexadecimal without the "0x" prefix. Output parameters will be populated in blue colored boxes based on inputs.
A6: PatGen Registers | E6: Device Type | H6: PatGen Outputs
A7: Name | B7: Address | C7: Value | E7: Select: | F7: Serializer | H7: Horizontal Resolution | I7: =HEX2DEC(C11&C12)*8/(INDEX('Video Formats'!C4:D20,MATCH('Registers to Output'!C10,'Video Formats'!D4:D20,0),1)) -> 2560
A8: PGEN_CTL | B8: 01 | C8: 01 | H8: Vertical Resolution | I8: =HEX2DEC(C15&C16) -> 1440
A9: PGEN_CFG | B9: 02 | C9: 33 | E9: Serializer Only | H9: Total Vertical Blanking | I9: =HEX2DEC(C17&C18)-HEX2DEC(C15&C16) -> 45
A10: PGEN_CSI_DI | B10: 03 | C10: 2b | E10: Enter Forward Channel Rate [Gbps]: | F10: 7.55 | H10: Vertical Front Porch | I10: =HEX2DEC(C22) -> 10
A11: PGEN_LINE_SIZE1 | B11: 04 | C11: 0c | H11: Vertical Back Porch | I11: =HEX2DEC(C21) -> 33
A12: PGEN_LINE_SIZE0 | B12: 05 | C12: 80 | E12: Deserializer Only | H12: Vertical Sync | I12: =HEX2DEC(C17&C18)-HEX2DEC(C15&C16)-HEX2DEC(C22)-HEX2DEC(C21) -> 2
A13: PGEN_BAR_SIZE1 | B13: 06 | C13: 01 | E13: Select CSI-2 Rate [Mbps]: | F13: 2500 | H13: Frame Rate | I13: =IF(F7="Serializer",CEILING(F10*1000000000/40/HEX2DEC(C19&C20)/HEX2DEC(C17&C18),1),CEILING(1/INDEX('Lookup Table'!A2:B7,MATCH('Registers to Output'!F13,'Lookup Table'!A2:A7,0),2)/HEX2DEC(C19&C20)/HEX2DEC(C17&C18),1)) -> 60
A14: PGEN_BAR_SIZE0 | B14: 07 | C14: 90 | H14: Video Format | I14: =INDEX('Video Formats'!B4:D20,MATCH('Registers to Output'!C10,'Video Formats'!D4:D20,0),1) -> RAW10
A15: PGEN_ACT_LPF1 | B15: 08 | C15: 05
A16: PGEN_ACT_LPF0 | B16: 09 | C16: a0
A17: PGEN_TOT_LPF1 | B17: 0A | C17: 05
A18: PGEN_TOT_LPF0 | B18: 0B | C18: cd
A19: PGEN_LINE_PD1 | B19: 0C | C19: 08
A20: PGEN_LINE_PD0 | B20: 0D | C20: 47
A21: PGEN_VBP | B21: 0E | C21: 21
A22: PGEN_VFP | B22: 0F | C22: 0a
A24: Texas Instruments Confidential -- NDA Restrictions

Sheet Output to Registers
A1: PatGen Calculator: Output to Registers
A3: Instructions:
A4: Use this sheet to calculate PatGen register values given specific output parameters. Fill in beige colored boxes with inputs. Register values (given in hexadecimal) will be populated in blue colored boxes based on inputs.
A6: PatGen Registers | E6: Device Type | H6: PatGen Outputs
A7: Name | B7: Address | C7: Value | E7: Select: | F7: Serializer | H7: Horizontal Resolution | I7: 2560
A8: PGEN_CTL | B8: 01 | C8: 01 | H8: Vertical Resolution | I8: 1440
A9: PGEN_CFG | B9: 02 | C9: 33 | E9: Serializer Only | H9: Total Vertical Blanking | I9: =I10+I11+I12 -> 45
A10: PGEN_CSI_DI | B10: 03 | C10: =INDEX('Video Formats'!B4:D20,MATCH('Output to Registers'!I14,'Video Formats'!B4:B20,0),3) -> 2B | E10: Enter Forward Channel Rate [Gbps]: | F10: 7.55 | H10: Vertical Front Porch | I10: 10
A11: PGEN_LINE_SIZE1 | B11: 04 | C11: =LEFT(DEC2HEX(I7*INDEX('Video Formats'!B4:C20,MATCH('Output to Registers'!I14,'Video Formats'!B4:B20,0),2)/8,4),2) -> 0C | H11: Vertical Back Porch | I11: 33
A12: PGEN_LINE_SIZE0 | B12: 05 | C12: =RIGHT(DEC2HEX(I7*INDEX('Video Formats'!B4:C20,MATCH('Output to Registers'!I14,'Video Formats'!B4:B20,0),2)/8,4),2) -> 80 | E12: Deserializer Only | H12: Vertical Sync | I12: 2
A13: PGEN_BAR_SIZE1 | B13: 06 | C13: =LEFT(DEC2HEX(I7*INDEX('Video Formats'!B4:C20,MATCH('Output to Registers'!I14,'Video Formats'!B4:B20,0),2)/8/8,4),2) -> 01 | E13: Select CSI-2 Rate [Mbps]: | F13: 2500 | H13: Frame Rate | I13: 60
A14: PGEN_BAR_SIZE0 | B14: 07 | C14: =RIGHT(DEC2HEX(I7*INDEX('Video Formats'!B4:C20,MATCH('Output to Registers'!I14,'Video Formats'!B4:B20,0),2)/8/8,4),2) -> 90 | H14: Video Format | I14: RAW10
A15: PGEN_ACT_LPF1 | B15: 08 | C15: =LEFT(DEC2HEX(I8,4),2) -> 05
A16: PGEN_ACT_LPF0 | B16: 09 | C16: =RIGHT(DEC2HEX(I8,4),2) -> A0
A17: PGEN_TOT_LPF1 | B17: 0A | C17: =LEFT(DEC2HEX(I8+I10+I11+I12,4),2) -> 05
A18: PGEN_TOT_LPF0 | B18: 0B | C18: =RIGHT(DEC2HEX(I8+I10+I11+I12,4),2) -> CD
A19: PGEN_LINE_PD1 | B19: 0C | C19: =IF(F7="Serializer", LEFT(DEC2HEX(CEILING(1/I13/(I8+I10+I11+I12)*F10*1000000000/40,1),4),2), LEFT(DEC2HEX(CEILING(1/I13/(I8+I10+I11+I12)/INDEX('Lookup Table'!A2:B7,MATCH('Output to Registers'!F13,'Lookup Table'!A2:A7,0),2),1),4),2)) -> 08
A20: PGEN_LINE_PD0 | B20: 0D | C20: =IF(F7="Serializer", RIGHT(DEC2HEX(CEILING(1/I13/(I8+I10+I11+I12)*F10*1000000000/40,1),4),2), RIGHT(DEC2HEX(CEILING(1/I13/(I8+I10+I11+I12)/INDEX('Lookup Table'!A2:B7,MATCH('Output to Registers'!F13,'Lookup Table'!A2:A7,0),2),1),4),2)) -> 47
A21: PGEN_VBP | B21: 0E | C21: =DEC2HEX(I11,2) -> 21
A22: PGEN_VFP | B22: 0F | C22: =DEC2HEX(I10,2) -> 0A
A24: Texas Instruments Confidential -- NDA Restrictions

Sheet Lookup Table
A1: CSI-2 Rate | B1: Line Period Units [s]
A2: 400 | B2: 1e-08
A3: 800 | B3: 1e-08
A4: 1200 | B4: 1e-08
A5: 1500 | B5: 1.067e-08
A6: 1600 | B6: 1e-08
A7: 2500 | B7: 9.6e-09

Sheet Video Formats
A1: Video Formats
A3: Color Space | B3: Video Format | C3: Number of Bits / Pixel [bpp] | D3: CSI-2 Data Code [Hex] | F3: Video Format | G3: Number of Bits / Pixel [bpp] | H3: PCLK Multiplier | I3: MODE | J3: Cable Multiplier
A4: YUV | B4: YUV420 8-bit | C4: 16 | D4: 18 | F4: YUV420 8-bit | G4: 16 | H4: 2 | I4: RAW10 | J4: 14
A5: YUV | B5: YUV420 10-bit | C5: 20 | D5: 19 | F5: YUV420 10-bit | G5: 20 | H5: 2 | I5: RAW10 | J5: 14
A6: YUV | B6: YUV422 8-bit | C6: 16 | D6: 1E | F6: YUV422 8-bit | G6: 16 | H6: 2 | I6: RAW10 | J6: 14
A7: YUV | B7: YUV422 10-bit | C7: 20 | D7: 1F | F7: YUV422 10-bit | G7: 20 | H7: 2 | I7: RAW10 | J7: 14
A8: RGB | B8: RGB888 | C8: 24 | D8: 24 | F8: RAW8 | G8: 8 | H8: 1 | I8: RAW10 | J8: 14
A9: RGB | B9: RGB666 | C9: 18 | D9: 23 | F9: RAW10 | G9: 10 | H9: 1 | I9: RAW10 | J9: 14
A10: RGB | B10: RGB565 | C10: 16 | D10: 22 | F10: RAW12 | G10: 12 | H10: 1 | I10: RAW12 | J10: =(2/3)*28 -> 18.666667
A11: RGB | B11: RGB555 | C11: 15 | D11: 21
A12: RGB | B12: RGB444 | C12: 12 | D12: 20
A13: RAW | B13: RAW6 | C13: 6 | D13: 28
A14: RAW | B14: RAW7 | C14: 7 | D14: 29
A15: RAW | B15: RAW8 | C15: 8 | D15: 2A
A16: RAW | B16: RAW10 | C16: 10 | D16: 2B
A17: RAW | B17: RAW12 | C17: 12 | D17: 2C
A18: RAW | B18: RAW14 | C18: 14 | D18: 2D
A19: RAW | B19: RAW16 | C19: 16 | D19: 2E
A20: RAW | B20: RAW20 | C20: 20 | D20: 2F
A45: Texas Instruments Confidential -- NDA Restrictions
