{"text_format":"1","workbook":"xlsx","n_sheets":3,"sheets":["SCHEMATIC","DESIGN INPUTS AND CALCULATIONS","data"],"not_rendered":{"charts":4,"images":0,"macros":1,"external_links":0,"defined_names":144,"comments":0,"pivot_tables":0},"unopened":[],"bounds":{"document_bytes":16777216,"sheet_cells":100000,"rows_first":2000,"rows_last":500,"rows_between":2000,"halvings":0,"cell_chars":16384,"cell_head_chars":4096},"cells_cut":0,"cells_raw":0,"read":"whole","date_system":"1900"}

{"sheet":"SCHEMATIC","index":0,"n_rows":100,"n_cols":5,"rows_kept":100,"cut":false,"hidden":false,"merged":[[0,0,1,5],[37,1,37,4],[38,2,38,4],[39,1,41,1],[39,3,39,4],[42,1,44,1],[45,1,47,1],[45,3,45,4],[48,1,51,1],[52,1,55,1],[52,3,52,4],[56,1,60,1],[56,3,56,4],[61,1,63,1],[61,3,61,4],[64,1,65,1],[64,3,64,4],[66,1,67,1],[66,3,66,4],[68,1,70,1],[68,3,68,4],[71,1,73,1],[71,3,71,4],[74,1,78,1],[74,3,74,4],[79,1,80,1],[79,3,79,4],[81,1,82,1],[81,3,81,4],[83,1,84,1],[83,3,83,4],[85,1,86,1],[85,3,85,4],[87,1,88,1],[87,3,87,4],[89,1,90,1],[89,3,89,4],[91,1,92,1],[91,3,91,4],[93,1,95,1],[93,3,93,4],[94,2,95,2],[96,1,97,1],[96,3,96,4],[97,3,97,4],[98,1,99,1],[98,3,98,4]]}
["Typical Schematic for a CRM/DCM Boost  PFC Converter Using the UCC28056"]
[]
[]
[]
[]
[]
[]
[]
[]
[]
[]
[]
[]
[]
[]
[]
[]
[]
[]
[]
[]
[]
[]
[]
[]
[]
[]
[]
[]
[]
[]
[]
[]
[]
[]
[]
[]
[null,"RECOMMENDED BILL OF MATERIALS"]
[null,"Reference Designator","Description/Comments"]
[null,"FUSE","Type:","Fast Acting"]
[null,null,"Voltage Rating:",{"$f":"IF(Vin_rms_max<270,250,350)","v":250},{"$f":"'DESIGN INPUTS AND CALCULATIONS'!D26","v":"VRMS"}]
[null,null,"Current Rating:",{"$f":"CEILING(Ifuse,0.5)","v":1},{"$f":"'DESIGN INPUTS AND CALCULATIONS'!D51","v":"A"}]
[null,"DB1","DC Blocking Voltage:",{"$f":"CEILING(Vrated,100)","v":300},{"$f":"'DESIGN INPUTS AND CALCULATIONS'!D98","v":"V"}]
[null,null,"Current Rating:",{"$f":"CEILING(Ibridge,1)","v":1},{"$f":"'DESIGN INPUTS AND CALCULATIONS'!D97","v":"A"}]
[null,null,"Power Dissipation:",{"$f":"Pbridge","v":0.908501918442271},{"$f":"'DESIGN INPUTS AND CALCULATIONS'!D99","v":"W"}]
[null,"CIN","Type:","Film Capacitor"]
[null,null,"Value:",{"$f":"IF(Cin=\"\",Cin_rcmd,Cin)","v":0.1},{"$f":"'DESIGN INPUTS AND CALCULATIONS'!D108","v":"µF"}]
[null,null,"Volatge Rating:",{"$f":"Vin_rms_max","v":130},"VRMS"]
[null,"LBST","Inductor Value:",{"$f":"IF(Lbst=\"\",#NAME?,Lbst)","v":680},{"$f":"'DESIGN INPUTS AND CALCULATIONS'!D60","v":"\u009dµH"}]
[null,null,"Peak Current Rating:",{"$f":"IL_pk_max","v":2.92825396444311},{"$f":"'DESIGN INPUTS AND CALCULATIONS'!D60","v":"\u009dµH"}]
[null,null,"RMS Current:",{"$f":"IL_rms_max","v":1.19545467502793},{"$f":"'DESIGN INPUTS AND CALCULATIONS'!D63","v":"A"}]
[null,null,"Saturated Current:",{"$f":"IL_sat","v":3.66666666666667},{"$f":"'DESIGN INPUTS AND CALCULATIONS'!D72","v":"A"}]
[null,"D1","Type:","Diode"]
[null,null,"Current Rating:",{"$f":"Irated","v":1},{"$f":"'DESIGN INPUTS AND CALCULATIONS'!D121","v":"A"}]
[null,null,"Volatge Rating:",{"$f":"CEILING(Vdiode_blocking,100)","v":{"$error":"#VALUE!"}},{"$f":"'DESIGN INPUTS AND CALCULATIONS'!D37","v":"V"}]
[null,null,"Power Dissipation:",{"$f":"Pdiode","v":0.125},{"$f":"'DESIGN INPUTS AND CALCULATIONS'!D117","v":"W"}]
[null,"Q1","Type:","MOSFET, Nchannel"]
[null,null,"RMS Drain Current Rating:",{"$f":"CEILING(1.2*Ids_rms_max,0.5)","v":1},{"$f":"'DESIGN INPUTS AND CALCULATIONS'!D128","v":"A"}]
[null,null,"Peak Current Rating:",{"$f":"Ids_rms_max","v":0.494785342103382},{"$f":"'DESIGN INPUTS AND CALCULATIONS'!D128","v":"A"}]
[null,null,"Voltage Rating:",{"$f":"CEILING(Vovp2*1.25,100)","v":{"$error":"#VALUE!"}},{"$f":"'DESIGN INPUTS AND CALCULATIONS'!D32","v":"V"}]
[null,null,"Power Dissipation:",{"$f":"P_FET","v":1.02833054256036},{"$f":"'DESIGN INPUTS AND CALCULATIONS'!D140","v":"W"}]
[null,"RCS","Type:","Resistor, Low Inductance"]
[null,null,"Value:",{"$f":"IF(Rcs=\"\",Rcs_rcmd,Rcs)","v":0.15},"W"]
[null,null,"Power Dissipation:",{"$f":"P_Rsense","v":0.0742178013155073},{"$f":"'DESIGN INPUTS AND CALCULATIONS'!D73","v":"W"}]
[null,"RCS_FILTER","Type:","Resistor, Chip, 1/16W"]
[null,null,"Value:",{"$f":"Rcs_filter","v":3000},"W"]
[null,"CCS_FILTER","Type:","Capacitor, Ceramic, 100V, X7R, ±10%"]
[null,null,"Value:",{"$f":"Ccs_filter","v":10},{"$f":"'DESIGN INPUTS AND CALCULATIONS'!D74","v":"pF"}]
[null,"RZC1","Type:","Resistor, Low Inductance"]
[null,null,"Value:",{"$f":"IF(Rzc1=\"\",Rzc1_rcmd,Rzc1)","v":10},"MW"]
[null,null,"Power Dissipation:",{"$f":"P_Rsense","v":0.0742178013155073},{"$f":"'DESIGN INPUTS AND CALCULATIONS'!D80","v":0}]
[null,"RZC2","Type:","Resistor, Low Inductance"]
[null,null,"Value:",{"$f":"IF(Rzc2=\"\",Rzc2_rcmd,Rzc2)","v":20},"kW"]
[null,null,"Power Dissipation:",{"$f":"P_Rsense","v":0.0742178013155073},{"$f":"'DESIGN INPUTS AND CALCULATIONS'!D80","v":0}]
[null,"COUT","Type:","Capacitor, Aluminum, ±20% "]
[null,null,"Value:",{"$f":"IF(Cout=\"\",Cout_rcmd,Cout)","v":22},{"$f":"'DESIGN INPUTS AND CALCULATIONS'!D147","v":"\u009dµF"}]
[null,null,"Voltage Rating:",{"$f":"CEILING(Vovp2,100)","v":{"$error":"#VALUE!"}},"V"]
[null,null,"2 x fLINE Ripple Current Rating:",{"$f":"Icout_2fline","v":0.0707106781186548},"ARMS"]
[null,null,"HF Ripple Current Rating:",{"$f":"Icout_HF","v":0.782537151821732},"ARMS"]
[null,"ROS1","Type:","Resistor, Chip, Total Voltage Rating 400V, ±1%"]
[null,null,"Value:",{"$f":"IF(Ros1=\"\",Ros1_rcmd,Ros1)","v":10},"MW"]
[null,"ROS2","Type:","Resistor, Chip, 1/10W, ±1%"]
[null,null,"Value:",{"$f":"IF(Ros2=\"\",Ros2_rcmd,Ros2)","v":0},"kW"]
[null,"ROS3","Type:","Resistor, Chip, 1/10W, ±1%"]
[null,null,"Value:",{"$f":"IF(Ros3=\"\",Ros3_rcmd,Ros3)","v":50},"kW"]
[null,"CVOSNS","Type:","Capacitor, Ceramic, 50V, X7R, ±10%"]
[null,null,"Value:",{"$f":"Cvosns","v":3000},"pF"]
[null,"CZ","Type:","Capacitor, Ceramic, 10V, X5R, ±10%"]
[null,null,"Value:",{"$f":"IF(Cz=\"\",#NAME?,Cz)","v":0.2},"mF"]
[null,"RZ","Type:","Resistor, Chip, 1/10W, ±1%"]
[null,null,"Value:",{"$f":"IF(Rz=\"\",#NAME?,Rz)","v":275},"kW"]
[null,"CP","Type:","Capacitor, Ceramic, 10V, X5R, ±10%"]
[null,null,"Value:",{"$f":"IF(Cp=\"\",#NAME?,Cp)","v":0.02},"mF"]
[null,"CVCC","Type:","Ceramic, Low ESR/ESL, placed close to the VCC and GND pins with short traces"]
[null,null,"Values:",0.1,"mF min"]
[null,null,null,1,"mF max"]
[null,"RGATE","Type:","Resistor, Chip, 1/10W, ±1%"]
[null,null,"Value:","As Needed"]
[null,"RDG","Type:","Resistor, Chip, 1/10W, ±1%"]
[null,null,"Value:","As Needed"]

{"sheet":"DESIGN INPUTS AND CALCULATIONS","index":1,"n_rows":635,"n_cols":40,"rows_kept":635,"cut":false,"hidden":false,"merged":[[0,0,0,3],[2,0,2,3],[3,2,3,3],[4,0,4,3],[5,0,5,3],[6,0,10,3],[11,0,15,3],[16,0,16,3],[17,0,19,3],[23,0,23,3],[32,0,33,3],[34,0,34,3],[42,0,43,3],[44,0,44,3],[53,0,53,3],[64,0,65,3],[66,0,66,3],[77,0,78,3],[79,0,79,3],[89,0,89,3],[90,0,90,3],[91,0,91,3],[100,0,101,3],[102,0,102,3],[109,0,110,3],[111,0,111,3],[122,0,123,3],[124,0,124,3],[141,0,142,3],[143,0,143,3],[149,0,149,3],[153,0,154,3],[155,0,155,3],[172,0,173,3],[174,0,174,3],[175,0,175,3]]}
["UCC28056X DESIGN CALCULATOR TOOL"]
["TI Literature Number:",null,"Rev A"]
["UCC28056X 6-Pin Single-Phase Transition-Mode PFC Controller"]
["Please enter design parameters into the","shaded","cells; "]
["Calculated results will be in RED",null,null,null,null,"COMP",0.1,0.2,0.25,0.5,0.75,1]
["Be sure to ENABLE EDITING before attempting to use this design calculator",null,null,null,null,"VFF_F",90,104.96,122.4,142.74,166.46,194.12,226.38,264,null,null,"alpha","TONn(0.1)","TONn(0.2)","TONn(0.25)","TONn(0.5)","TONn(0.75)","TONn(1)",null,"TDCHn(0.1)","TDCHn(0.2)","TDCHn(0.25)","TDCHn(0.5)","TDCHn(0.75)","TDCHn(1)",null,"Freq(0.1)"]
["This spreadsheet guides the user through the design process of a Transition-Mode PFC BOOST CONVERTER using the UCC28056X.  User interaction is required in order to get the best possible results.  Enter the desired specification where prompted, the highlighted cells are for user inputs; calculations for the design are based upon the inputs.",null,null,null,null,"TDCMCoe",0.15,0.45,0.16,0.52,null,null,null,null,null,null,0.01,{"$f":"(G$5*((90/$G$18)*(90/$G$18))/2)*(1+(SQRT(1+(4/(G$5*((90/$G$18)*(90/$G$18))))*$G$23*(1-(SQRT(2)*Vin_rms_min*(SIN($Q7)/Vout))))))","v":0.321019018990293},{"$f":"(H$5*((90/$G$18)*(90/$G$18))/2)*(1+(SQRT(1+(4/(H$5*((90/$G$18)*(90/$G$18))))*$H$23*(1-(SQRT(2)*Vin_rms_min*(SIN($Q7)/Vout))))))","v":0.307770873980026},{"$f":"(I$5*((90/$G$18)*(90/$G$18))/2)*(1+(SQRT(1+(4/(I$5*((90/$G$18)*(90/$G$18))))*$I$23*(1-(SQRT(2)*Vin_rms_min*(SIN($Q7)/Vout))))))","v":0.299710580423879},{"$f":"(J$5*((90/$G$18)*(90/$G$18))/2)*(1+(SQRT(1+(4/(J$5*((90/$G$18)*(90/$G$18))))*$J$23*(1-(SQRT(2)*Vin_rms_min*(SIN($Q7)/Vout))))))","v":0.270328719723183},{"$f":"(K$5*((90/$G$18)*(90/$G$18))/2)*(1+(SQRT(1+(4/(K$5*((90/$G$18)*(90/$G$18))))*$K$23*(1-(SQRT(2)*Vin_rms_min*(SIN($Q7)/Vout))))))","v":0.405493079584775},{"$f":"(L$5*((90/$G$18)*(90/$G$18))/2)*(1+(SQRT(1+(4/(L$5*((90/$G$18)*(90/$G$18))))*$L$23*(1-(SQRT(2)*Vin_rms_min*(SIN($Q7)/Vout))))))","v":0.540657439446367},null,{"$f":"R7*ABS(1/(Vout/(SQRT(2)*$C$25*SIN($Q7))))","v":0.000998760144762094},{"$f":"S7*ABS(1/(Vout/(SQRT(2)*$C$25*SIN($Q7))))","v":0.000957542277764987},{"$f":"T7*ABS(1/(Vout/(SQRT(2)*$C$25*SIN($Q7))))","v":0.000932464947504983},{"$f":"U7*ABS(1/(Vout/(SQRT(2)*$C$25*SIN($Q7))))","v":0.000841051574119484},{"$f":"V7*ABS(1/(Vout/(SQRT(2)*$C$25*SIN($Q7))))","v":0.00126157736117923},{"$f":"W7*ABS(1/(Vout/(SQRT(2)*$C$25*SIN($Q7))))","v":0.00168210314823897},null,{"$f":"1/(0.0000128*(R7+Y7+$G$23))","v":40859.9757034381},{"$f":"1/(0.0000128*(S7+Z7+$H$23))","v":88906.8778869223},{"$f":"1/(0.0000128*(T7+AA7+$I$23))","v":117191.652327936},{"$f":"1/(0.0000128*(U7+AB7+$J$23))","v":288103.646753258},{"$f":"1/(0.0000128*(V7+AC7+$K$23))","v":192069.097835506},{"$f":"1/(0.0000128*(W7+AD7+$L$23))","v":144051.823376629}]
[null,null,null,null,null,"VFF_select_index",{"$f":"IF(G$6>=Vin_rms_min,1,0-1)","v":-1},{"$f":"IF(H$6>=Vin_rms_min,1,0-1)","v":-1},{"$f":"IF(I$6>=Vin_rms_min,1,0-1)","v":1},{"$f":"IF(J$6>=Vin_rms_min,1,0-1)","v":1},{"$f":"IF(K$6>=Vin_rms_min,1,0-1)","v":1},{"$f":"IF(L$6>=Vin_rms_min,1,0-1)","v":1},{"$f":"IF(M$6>=Vin_rms_min,1,0-1)","v":1},{"$f":"IF(N$6>=Vin_rms_min,1,0-1)","v":1},null,null,{"$f":"Q7+0.01","v":0.02},{"$f":"(G$5*((90/$G$18)*(90/$G$18))/2)*(1+(SQRT(1+(4/(G$5*((90/$G$18)*(90/$G$18))))*$G$23*(1-(SQRT(2)*Vin_rms_min*(SIN($Q8)/Vout))))))","v":0.320563836238648},{"$f":"(H$5*((90/$G$18)*(90/$G$18))/2)*(1+(SQRT(1+(4/(H$5*((90/$G$18)*(90/$G$18))))*$H$23*(1-(SQRT(2)*Vin_rms_min*(SIN($Q8)/Vout))))))","v":0.307392711366564},{"$f":"(I$5*((90/$G$18)*(90/$G$18))/2)*(1+(SQRT(1+(4/(I$5*((90/$G$18)*(90/$G$18))))*$I$23*(1-(SQRT(2)*Vin_rms_min*(SIN($Q8)/Vout))))))","v":0.299378852185875},{"$f":"(J$5*((90/$G$18)*(90/$G$18))/2)*(1+(SQRT(1+(4/(J$5*((90/$G$18)*(90/$G$18))))*$J$23*(1-(SQRT(2)*Vin_rms_min*(SIN($Q8)/Vout))))))","v":0.270328719723183},{"$f":"(K$5*((90/$G$18)*(90/$G$18))/2)*(1+(SQRT(1+(4/(K$5*((90/$G$18)*(90/$G$18))))*$K$23*(1-(SQRT(2)*Vin_rms_min*(SIN($Q8)/Vout))))))","v":0.405493079584775},{"$f":"(L$5*((90/$G$18)*(90/$G$18))/2)*(1+(SQRT(1+(4/(L$5*((90/$G$18)*(90/$G$18))))*$L$23*(1-(SQRT(2)*Vin_rms_min*(SIN($Q8)/Vout))))))","v":0.540657439446367},null,{"$f":"R8*ABS(1/(Vout/(SQRT(2)*$C$25*SIN($Q8))))","v":0.00199458821043318},{"$f":"S8*ABS(1/(Vout/(SQRT(2)*$C$25*SIN($Q8))))","v":0.00191263582710681},{"$f":"T8*ABS(1/(Vout/(SQRT(2)*$C$25*SIN($Q8))))","v":0.00186277259478021},{"$f":"U8*ABS(1/(Vout/(SQRT(2)*$C$25*SIN($Q8))))","v":0.00168201904378243},{"$f":"V8*ABS(1/(Vout/(SQRT(2)*$C$25*SIN($Q8))))","v":0.00252302856567364},{"$f":"W8*ABS(1/(Vout/(SQRT(2)*$C$25*SIN($Q8))))","v":0.00336403808756486},null,{"$f":"1/(0.0000128*(R8+Y8+$G$23))","v":40848.4253350348},{"$f":"1/(0.0000128*(S8+Z8+$H$23))","v":88848.544193821},{"$f":"1/(0.0000128*(T8+AA8+$I$23))","v":117086.52023273},{"$f":"1/(0.0000128*(U8+AB8+$J$23))","v":287212.925321049},{"$f":"1/(0.0000128*(V8+AC8+$K$23))","v":191475.283547366},{"$f":"1/(0.0000128*(W8+AD8+$L$23))","v":143606.462660525}]
[null,null,null,null,null,null,{"$f":"G6*G8","v":-90},{"$f":"H6*H8","v":-104.96},{"$f":"I6*I8","v":122.4},{"$f":"J6*J8","v":142.74},{"$f":"K6*K8","v":166.46},{"$f":"L6*L8","v":194.12},{"$f":"M6*M8","v":226.38},{"$f":"N6*N8","v":264},null,null,{"$f":"Q8+0.01","v":0.03},{"$f":"(G$5*((90/$G$18)*(90/$G$18))/2)*(1+(SQRT(1+(4/(G$5*((90/$G$18)*(90/$G$18))))*$G$23*(1-(SQRT(2)*Vin_rms_min*(SIN($Q9)/Vout))))))","v":0.320108037783972},{"$f":"(H$5*((90/$G$18)*(90/$G$18))/2)*(1+(SQRT(1+(4/(H$5*((90/$G$18)*(90/$G$18))))*$H$23*(1-(SQRT(2)*Vin_rms_min*(SIN($Q9)/Vout))))))","v":0.307014059198607},{"$f":"(I$5*((90/$G$18)*(90/$G$18))/2)*(1+(SQRT(1+(4/(I$5*((90/$G$18)*(90/$G$18))))*$I$23*(1-(SQRT(2)*Vin_rms_min*(SIN($Q9)/Vout))))))","v":0.299046715016136},{"$f":"(J$5*((90/$G$18)*(90/$G$18))/2)*(1+(SQRT(1+(4/(J$5*((90/$G$18)*(90/$G$18))))*$J$23*(1-(SQRT(2)*Vin_rms_min*(SIN($Q9)/Vout))))))","v":0.270328719723183},{"$f":"(K$5*((90/$G$18)*(90/$G$18))/2)*(1+(SQRT(1+(4/(K$5*((90/$G$18)*(90/$G$18))))*$K$23*(1-(SQRT(2)*Vin_rms_min*(SIN($Q9)/Vout))))))","v":0.405493079584775},{"$f":"(L$5*((90/$G$18)*(90/$G$18))/2)*(1+(SQRT(1+(4/(L$5*((90/$G$18)*(90/$G$18))))*$L$23*(1-(SQRT(2)*Vin_rms_min*(SIN($Q9)/Vout))))))","v":0.540657439446367},null,{"$f":"R9*ABS(1/(Vout/(SQRT(2)*$C$25*SIN($Q9))))","v":0.00298737929387786},{"$f":"S9*ABS(1/(Vout/(SQRT(2)*$C$25*SIN($Q9))))","v":0.00286518092369261},{"$f":"T9*ABS(1/(Vout/(SQRT(2)*$C$25*SIN($Q9))))","v":0.00279082640512855},{"$f":"U9*ABS(1/(Vout/(SQRT(2)*$C$25*SIN($Q9))))","v":0.00252281831294267},{"$f":"V9*ABS(1/(Vout/(SQRT(2)*$C$25*SIN($Q9))))","v":0.00378422746941401},{"$f":"W9*ABS(1/(Vout/(SQRT(2)*$C$25*SIN($Q9))))","v":0.00504563662588535},null,{"$f":"1/(0.0000128*(R9+Y9+$G$23))","v":40836.9594650599},{"$f":"1/(0.0000128*(S9+Z9+$H$23))","v":88790.5935695687},{"$f":"1/(0.0000128*(T9+AA9+$I$23))","v":116982.043018632},{"$f":"1/(0.0000128*(U9+AB9+$J$23))","v":286327.871055123},{"$f":"1/(0.0000128*(V9+AC9+$K$23))","v":190885.247370082},{"$f":"1/(0.0000128*(W9+AD9+$L$23))","v":143163.935527562}]
[null,null,null,null,null,null,null,null,null,null,null,null,null,null,null,null,{"$f":"Q9+0.01","v":0.04},{"$f":"(G$5*((90/$G$18)*(90/$G$18))/2)*(1+(SQRT(1+(4/(G$5*((90/$G$18)*(90/$G$18))))*$G$23*(1-(SQRT(2)*Vin_rms_min*(SIN($Q10)/Vout))))))","v":0.319651666435164},{"$f":"(H$5*((90/$G$18)*(90/$G$18))/2)*(1+(SQRT(1+(4/(H$5*((90/$G$18)*(90/$G$18))))*$H$23*(1-(SQRT(2)*Vin_rms_min*(SIN($Q10)/Vout))))))","v":0.306634953224453},{"$f":"(I$5*((90/$G$18)*(90/$G$18))/2)*(1+(SQRT(1+(4/(I$5*((90/$G$18)*(90/$G$18))))*$I$23*(1-(SQRT(2)*Vin_rms_min*(SIN($Q10)/Vout))))))","v":0.29871420043684},{"$f":"(J$5*((90/$G$18)*(90/$G$18))/2)*(1+(SQRT(1+(4/(J$5*((90/$G$18)*(90/$G$18))))*$J$23*(1-(SQRT(2)*Vin_rms_min*(SIN($Q10)/Vout))))))","v":0.270328719723183},{"$f":"(K$5*((90/$G$18)*(90/$G$18))/2)*(1+(SQRT(1+(4/(K$5*((90/$G$18)*(90/$G$18))))*$K$23*(1-(SQRT(2)*Vin_rms_min*(SIN($Q10)/Vout))))))","v":0.405493079584775},{"$f":"(L$5*((90/$G$18)*(90/$G$18))/2)*(1+(SQRT(1+(4/(L$5*((90/$G$18)*(90/$G$18))))*$L$23*(1-(SQRT(2)*Vin_rms_min*(SIN($Q10)/Vout))))))","v":0.540657439446367},null,{"$f":"R10*ABS(1/(Vout/(SQRT(2)*$C$25*SIN($Q10))))","v":0.00397702961355699},{"$f":"S10*ABS(1/(Vout/(SQRT(2)*$C$25*SIN($Q10))))","v":0.00381507877973996},{"$f":"T10*ABS(1/(Vout/(SQRT(2)*$C$25*SIN($Q10))))","v":0.00371653066719825},{"$f":"U10*ABS(1/(Vout/(SQRT(2)*$C$25*SIN($Q10))))","v":0.00336336530237397},{"$f":"V10*ABS(1/(Vout/(SQRT(2)*$C$25*SIN($Q10))))","v":0.00504504795356095},{"$f":"W10*ABS(1/(Vout/(SQRT(2)*$C$25*SIN($Q10))))","v":0.00672673060474793},null,{"$f":"1/(0.0000128*(R10+Y10+$G$23))","v":40825.5792575191},{"$f":"1/(0.0000128*(S10+Z10+$H$23))","v":88733.0310184235},{"$f":"1/(0.0000128*(T10+AA10+$I$23))","v":116878.228909317},{"$f":"1/(0.0000128*(U10+AB10+$J$23))","v":285448.517784885},{"$f":"1/(0.0000128*(V10+AC10+$K$23))","v":190299.01185659},{"$f":"1/(0.0000128*(W10+AD10+$L$23))","v":142724.258892442}]
[null,null,null,null,null,null,{"$f":"IF(M9>0,N9,264)","v":264},null,null,null,null,null,null,null,null,null,{"$f":"Q10+0.01","v":0.05},{"$f":"(G$5*((90/$G$18)*(90/$G$18))/2)*(1+(SQRT(1+(4/(G$5*((90/$G$18)*(90/$G$18))))*$G$23*(1-(SQRT(2)*Vin_rms_min*(SIN($Q11)/Vout))))))","v":0.319194765251328},{"$f":"(H$5*((90/$G$18)*(90/$G$18))/2)*(1+(SQRT(1+(4/(H$5*((90/$G$18)*(90/$G$18))))*$H$23*(1-(SQRT(2)*Vin_rms_min*(SIN($Q11)/Vout))))))","v":0.30625542939337},{"$f":"(I$5*((90/$G$18)*(90/$G$18))/2)*(1+(SQRT(1+(4/(I$5*((90/$G$18)*(90/$G$18))))*$I$23*(1-(SQRT(2)*Vin_rms_min*(SIN($Q11)/Vout))))))","v":0.298381340139868},{"$f":"(J$5*((90/$G$18)*(90/$G$18))/2)*(1+(SQRT(1+(4/(J$5*((90/$G$18)*(90/$G$18))))*$J$23*(1-(SQRT(2)*Vin_rms_min*(SIN($Q11)/Vout))))))","v":0.270328719723183},{"$f":"(K$5*((90/$G$18)*(90/$G$18))/2)*(1+(SQRT(1+(4/(K$5*((90/$G$18)*(90/$G$18))))*$K$23*(1-(SQRT(2)*Vin_rms_min*(SIN($Q11)/Vout))))))","v":0.405493079584775},{"$f":"(L$5*((90/$G$18)*(90/$G$18))/2)*(1+(SQRT(1+(4/(L$5*((90/$G$18)*(90/$G$18))))*$L$23*(1-(SQRT(2)*Vin_rms_min*(SIN($Q11)/Vout))))))","v":0.540657439446367},null,{"$f":"R11*ABS(1/(Vout/(SQRT(2)*$C$25*SIN($Q11))))","v":0.00496343652471974},{"$f":"S11*ABS(1/(Vout/(SQRT(2)*$C$25*SIN($Q11))))","v":0.00476223155773842},{"$f":"T11*ABS(1/(Vout/(SQRT(2)*$C$25*SIN($Q11))))","v":0.00463979050777645},{"$f":"U11*ABS(1/(Vout/(SQRT(2)*$C$25*SIN($Q11))))","v":0.00420357595807782},{"$f":"V11*ABS(1/(Vout/(SQRT(2)*$C$25*SIN($Q11))))","v":0.00630536393711673},{"$f":"W11*ABS(1/(Vout/(SQRT(2)*$C$25*SIN($Q11))))","v":0.00840715191615564},null,{"$f":"1/(0.0000128*(R11+Y11+$G$23))","v":40814.2858450842},{"$f":"1/(0.0000128*(S11+Z11+$H$23))","v":88675.8614074315},{"$f":"1/(0.0000128*(T11+AA11+$I$23))","v":116775.085899561},{"$f":"1/(0.0000128*(U11+AB11+$J$23))","v":284574.897849924},{"$f":"1/(0.0000128*(V11+AC11+$K$23))","v":189716.598566616},{"$f":"1/(0.0000128*(W11+AD11+$L$23))","v":142287.448924962}]
["WHERE APPLICABLE, A RECOMMENDED VALUE IS GIVEN THAT WILL BE THE BEST CHOICE TO MEET THE GIVEN SPECIFICATION.  IT IS IN THE BEST INTEREST OF THE USER TO USE A VALUE AS CLOSE AS POSSIBLE TO THE SUGGESTED RECOMMENDED VALUE.  FOR ACCURATE RESULTS, THE USER MUST ENTER THE ACTUAL VALUE USED IN THE APPROPRIATE CELL.",null,null,null,null,null,{"$f":"IF(M9>0,M9,G11)","v":226.38},null,null,null,null,null,null,null,null,null,{"$f":"Q11+0.01","v":0.06},{"$f":"(G$5*((90/$G$18)*(90/$G$18))/2)*(1+(SQRT(1+(4/(G$5*((90/$G$18)*(90/$G$18))))*$G$23*(1-(SQRT(2)*Vin_rms_min*(SIN($Q12)/Vout))))))","v":0.318737377539961},{"$f":"(H$5*((90/$G$18)*(90/$G$18))/2)*(1+(SQRT(1+(4/(H$5*((90/$G$18)*(90/$G$18))))*$H$23*(1-(SQRT(2)*Vin_rms_min*(SIN($Q12)/Vout))))))","v":0.305875523853924},{"$f":"(I$5*((90/$G$18)*(90/$G$18))/2)*(1+(SQRT(1+(4/(I$5*((90/$G$18)*(90/$G$18))))*$I$23*(1-(SQRT(2)*Vin_rms_min*(SIN($Q12)/Vout))))))","v":0.298048165985176},{"$f":"(J$5*((90/$G$18)*(90/$G$18))/2)*(1+(SQRT(1+(4/(J$5*((90/$G$18)*(90/$G$18))))*$J$23*(1-(SQRT(2)*Vin_rms_min*(SIN($Q12)/Vout))))))","v":0.270328719723183},{"$f":"(K$5*((90/$G$18)*(90/$G$18))/2)*(1+(SQRT(1+(4/(K$5*((90/$G$18)*(90/$G$18))))*$K$23*(1-(SQRT(2)*Vin_rms_min*(SIN($Q12)/Vout))))))","v":0.405493079584775},{"$f":"(L$5*((90/$G$18)*(90/$G$18))/2)*(1+(SQRT(1+(4/(L$5*((90/$G$18)*(90/$G$18))))*$L$23*(1-(SQRT(2)*Vin_rms_min*(SIN($Q12)/Vout))))))","v":0.540657439446367},null,{"$f":"R12*ABS(1/(Vout/(SQRT(2)*$C$25*SIN($Q12))))","v":0.00594649853420247},{"$f":"S12*ABS(1/(Vout/(SQRT(2)*$C$25*SIN($Q12))))","v":0.00570654238383991},{"$f":"T12*ABS(1/(Vout/(SQRT(2)*$C$25*SIN($Q12))))","v":0.0055605119042883},{"$f":"U12*ABS(1/(Vout/(SQRT(2)*$C$25*SIN($Q12))))","v":0.00504336625968883},{"$f":"V12*ABS(1/(Vout/(SQRT(2)*$C$25*SIN($Q12))))","v":0.00756504938953324},{"$f":"W12*ABS(1/(Vout/(SQRT(2)*$C$25*SIN($Q12))))","v":0.0100867325193777},null,{"$f":"1/(0.0000128*(R12+Y12+$G$23))","v":40803.0803289503},{"$f":"1/(0.0000128*(S12+Z12+$H$23))","v":88619.0894665155},{"$f":"1/(0.0000128*(T12+AA12+$I$23))","v":116672.6217561},{"$f":"1/(0.0000128*(U12+AB12+$J$23))","v":283707.042132293},{"$f":"1/(0.0000128*(V12+AC12+$K$23))","v":189138.028088195},{"$f":"1/(0.0000128*(W12+AD12+$L$23))","v":141853.521066146}]
[null,null,null,null,null,null,{"$f":"IF(L9>0,L9,G12)","v":194.12},null,null,null,null,null,null,null,null,null,{"$f":"Q12+0.01","v":0.07},{"$f":"(G$5*((90/$G$18)*(90/$G$18))/2)*(1+(SQRT(1+(4/(G$5*((90/$G$18)*(90/$G$18))))*$G$23*(1-(SQRT(2)*Vin_rms_min*(SIN($Q13)/Vout))))))","v":0.318279546855074},{"$f":"(H$5*((90/$G$18)*(90/$G$18))/2)*(1+(SQRT(1+(4/(H$5*((90/$G$18)*(90/$G$18))))*$H$23*(1-(SQRT(2)*Vin_rms_min*(SIN($Q13)/Vout))))))","v":0.305495272952247},{"$f":"(I$5*((90/$G$18)*(90/$G$18))/2)*(1+(SQRT(1+(4/(I$5*((90/$G$18)*(90/$G$18))))*$I$23*(1-(SQRT(2)*Vin_rms_min*(SIN($Q13)/Vout))))))","v":0.297714709999138},{"$f":"(J$5*((90/$G$18)*(90/$G$18))/2)*(1+(SQRT(1+(4/(J$5*((90/$G$18)*(90/$G$18))))*$J$23*(1-(SQRT(2)*Vin_rms_min*(SIN($Q13)/Vout))))))","v":0.270328719723183},{"$f":"(K$5*((90/$G$18)*(90/$G$18))/2)*(1+(SQRT(1+(4/(K$5*((90/$G$18)*(90/$G$18))))*$K$23*(1-(SQRT(2)*Vin_rms_min*(SIN($Q13)/Vout))))))","v":0.405493079584775},{"$f":"(L$5*((90/$G$18)*(90/$G$18))/2)*(1+(SQRT(1+(4/(L$5*((90/$G$18)*(90/$G$18))))*$L$23*(1-(SQRT(2)*Vin_rms_min*(SIN($Q13)/Vout))))))","v":0.540657439446367},null,{"$f":"R13*ABS(1/(Vout/(SQRT(2)*$C$25*SIN($Q13))))","v":0.00692611531482898},{"$f":"S13*ABS(1/(Vout/(SQRT(2)*$C$25*SIN($Q13))))","v":0.00664791536091347},{"$f":"T13*ABS(1/(Vout/(SQRT(2)*$C$25*SIN($Q13))))","v":0.00647860169699758},{"$f":"U13*ABS(1/(Vout/(SQRT(2)*$C$25*SIN($Q13))))","v":0.00588265222887666},{"$f":"V13*ABS(1/(Vout/(SQRT(2)*$C$25*SIN($Q13))))","v":0.00882397834331499},{"$f":"W13*ABS(1/(Vout/(SQRT(2)*$C$25*SIN($Q13))))","v":0.0117653044577533},null,{"$f":"1/(0.0000128*(R13+Y13+$G$23))","v":40791.9637787022},{"$f":"1/(0.0000128*(S13+Z13+$H$23))","v":88562.7197885992},{"$f":"1/(0.0000128*(T13+AA13+$I$23))","v":116570.844018541},{"$f":"1/(0.0000128*(U13+AB13+$J$23))","v":282844.980088508},{"$f":"1/(0.0000128*(V13+AC13+$K$23))","v":188563.320059006},{"$f":"1/(0.0000128*(W13+AD13+$L$23))","v":141422.490044254}]
[null,null,null,null,null,null,{"$f":"IF(K9>0,K9,G13)","v":166.46},null,null,null,null,null,null,null,null,null,{"$f":"Q13+0.01","v":0.08},{"$f":"(G$5*((90/$G$18)*(90/$G$18))/2)*(1+(SQRT(1+(4/(G$5*((90/$G$18)*(90/$G$18))))*$G$23*(1-(SQRT(2)*Vin_rms_min*(SIN($Q14)/Vout))))))","v":0.317821316995228},{"$f":"(H$5*((90/$G$18)*(90/$G$18))/2)*(1+(SQRT(1+(4/(H$5*((90/$G$18)*(90/$G$18))))*$H$23*(1-(SQRT(2)*Vin_rms_min*(SIN($Q14)/Vout))))))","v":0.305114713230247},{"$f":"(I$5*((90/$G$18)*(90/$G$18))/2)*(1+(SQRT(1+(4/(I$5*((90/$G$18)*(90/$G$18))))*$I$23*(1-(SQRT(2)*Vin_rms_min*(SIN($Q14)/Vout))))))","v":0.297381004372815},{"$f":"(J$5*((90/$G$18)*(90/$G$18))/2)*(1+(SQRT(1+(4/(J$5*((90/$G$18)*(90/$G$18))))*$J$23*(1-(SQRT(2)*Vin_rms_min*(SIN($Q14)/Vout))))))","v":0.270328719723183},{"$f":"(K$5*((90/$G$18)*(90/$G$18))/2)*(1+(SQRT(1+(4/(K$5*((90/$G$18)*(90/$G$18))))*$K$23*(1-(SQRT(2)*Vin_rms_min*(SIN($Q14)/Vout))))))","v":0.405493079584775},{"$f":"(L$5*((90/$G$18)*(90/$G$18))/2)*(1+(SQRT(1+(4/(L$5*((90/$G$18)*(90/$G$18))))*$L$23*(1-(SQRT(2)*Vin_rms_min*(SIN($Q14)/Vout))))))","v":0.540657439446367},null,{"$f":"R14*ABS(1/(Vout/(SQRT(2)*$C$25*SIN($Q14))))","v":0.00790218771940689},{"$f":"S14*ABS(1/(Vout/(SQRT(2)*$C$25*SIN($Q14))))","v":0.00758625558125988},{"$f":"T14*ABS(1/(Vout/(SQRT(2)*$C$25*SIN($Q14))))","v":0.00739396760090523},{"$f":"U14*ABS(1/(Vout/(SQRT(2)*$C$25*SIN($Q14))))","v":0.0067213499377438},{"$f":"V14*ABS(1/(Vout/(SQRT(2)*$C$25*SIN($Q14))))","v":0.0100820249066157},{"$f":"W14*ABS(1/(Vout/(SQRT(2)*$C$25*SIN($Q14))))","v":0.0134426998754876},null,{"$f":"1/(0.0000128*(R14+Y14+$G$23))","v":40780.9372321908},{"$f":"1/(0.0000128*(S14+Z14+$H$23))","v":88506.7568297673},{"$f":"1/(0.0000128*(T14+AA14+$I$23))","v":116469.760000319},{"$f":"1/(0.0000128*(U14+AB14+$J$23))","v":281988.739781278},{"$f":"1/(0.0000128*(V14+AC14+$K$23))","v":187992.493187518},{"$f":"1/(0.0000128*(W14+AD14+$L$23))","v":140994.369890639}]
[null,null,null,null,null,null,{"$f":"IF(J9>0,J9,G14)","v":142.74},null,null,null,null,null,null,null,null,null,{"$f":"Q14+0.01","v":0.09},{"$f":"(G$5*((90/$G$18)*(90/$G$18))/2)*(1+(SQRT(1+(4/(G$5*((90/$G$18)*(90/$G$18))))*$G$23*(1-(SQRT(2)*Vin_rms_min*(SIN($Q15)/Vout))))))","v":0.317362732001508},{"$f":"(H$5*((90/$G$18)*(90/$G$18))/2)*(1+(SQRT(1+(4/(H$5*((90/$G$18)*(90/$G$18))))*$H$23*(1-(SQRT(2)*Vin_rms_min*(SIN($Q15)/Vout))))))","v":0.304733881423749},{"$f":"(I$5*((90/$G$18)*(90/$G$18))/2)*(1+(SQRT(1+(4/(I$5*((90/$G$18)*(90/$G$18))))*$I$23*(1-(SQRT(2)*Vin_rms_min*(SIN($Q15)/Vout))))))","v":0.29704708146018},{"$f":"(J$5*((90/$G$18)*(90/$G$18))/2)*(1+(SQRT(1+(4/(J$5*((90/$G$18)*(90/$G$18))))*$J$23*(1-(SQRT(2)*Vin_rms_min*(SIN($Q15)/Vout))))))","v":0.270328719723183},{"$f":"(K$5*((90/$G$18)*(90/$G$18))/2)*(1+(SQRT(1+(4/(K$5*((90/$G$18)*(90/$G$18))))*$K$23*(1-(SQRT(2)*Vin_rms_min*(SIN($Q15)/Vout))))))","v":0.405493079584775},{"$f":"(L$5*((90/$G$18)*(90/$G$18))/2)*(1+(SQRT(1+(4/(L$5*((90/$G$18)*(90/$G$18))))*$L$23*(1-(SQRT(2)*Vin_rms_min*(SIN($Q15)/Vout))))))","v":0.540657439446367},null,{"$f":"R15*ABS(1/(Vout/(SQRT(2)*$C$25*SIN($Q15))))","v":0.0088746177943148},{"$f":"S15*ABS(1/(Vout/(SQRT(2)*$C$25*SIN($Q15))))","v":0.00852146913898186},{"$f":"T15*ABS(1/(Vout/(SQRT(2)*$C$25*SIN($Q15))))","v":0.0083065182173415},{"$f":"U15*ABS(1/(Vout/(SQRT(2)*$C$25*SIN($Q15))))","v":0.00755937551721827},{"$f":"V15*ABS(1/(Vout/(SQRT(2)*$C$25*SIN($Q15))))","v":0.0113390632758274},{"$f":"W15*ABS(1/(Vout/(SQRT(2)*$C$25*SIN($Q15))))","v":0.0151187510344365},null,{"$f":"1/(0.0000128*(R15+Y15+$G$23))","v":40770.0016954185},{"$f":"1/(0.0000128*(S15+Z15+$H$23))","v":88451.2049094588},{"$f":"1/(0.0000128*(T15+AA15+$I$23))","v":116369.376789708},{"$f":"1/(0.0000128*(U15+AB15+$J$23))","v":281138.347910924},{"$f":"1/(0.0000128*(V15+AC15+$K$23))","v":187425.565273949},{"$f":"1/(0.0000128*(W15+AD15+$L$23))","v":140569.173955462}]
[null,null,null,null,null,null,{"$f":"IF(I9>0,I9,G15)","v":122.4},null,null,null,null,null,null,null,null,null,{"$f":"Q15+0.01","v":0.1},{"$f":"(G$5*((90/$G$18)*(90/$G$18))/2)*(1+(SQRT(1+(4/(G$5*((90/$G$18)*(90/$G$18))))*$G$23*(1-(SQRT(2)*Vin_rms_min*(SIN($Q16)/Vout))))))","v":0.316903836155408},{"$f":"(H$5*((90/$G$18)*(90/$G$18))/2)*(1+(SQRT(1+(4/(H$5*((90/$G$18)*(90/$G$18))))*$H$23*(1-(SQRT(2)*Vin_rms_min*(SIN($Q16)/Vout))))))","v":0.304352814460579},{"$f":"(I$5*((90/$G$18)*(90/$G$18))/2)*(1+(SQRT(1+(4/(I$5*((90/$G$18)*(90/$G$18))))*$I$23*(1-(SQRT(2)*Vin_rms_min*(SIN($Q16)/Vout))))))","v":0.296712973776288},{"$f":"(J$5*((90/$G$18)*(90/$G$18))/2)*(1+(SQRT(1+(4/(J$5*((90/$G$18)*(90/$G$18))))*$J$23*(1-(SQRT(2)*Vin_rms_min*(SIN($Q16)/Vout))))))","v":0.270328719723183},{"$f":"(K$5*((90/$G$18)*(90/$G$18))/2)*(1+(SQRT(1+(4/(K$5*((90/$G$18)*(90/$G$18))))*$K$23*(1-(SQRT(2)*Vin_rms_min*(SIN($Q16)/Vout))))))","v":0.405493079584775},{"$f":"(L$5*((90/$G$18)*(90/$G$18))/2)*(1+(SQRT(1+(4/(L$5*((90/$G$18)*(90/$G$18))))*$L$23*(1-(SQRT(2)*Vin_rms_min*(SIN($Q16)/Vout))))))","v":0.540657439446367},null,{"$f":"R16*ABS(1/(Vout/(SQRT(2)*$C$25*SIN($Q16))))","v":0.00984330879267522},{"$f":"S16*ABS(1/(Vout/(SQRT(2)*$C$25*SIN($Q16))))","v":0.00945346314200541},{"$f":"T16*ABS(1/(Vout/(SQRT(2)*$C$25*SIN($Q16))))","v":0.00921616304524848},{"$f":"U16*ABS(1/(Vout/(SQRT(2)*$C$25*SIN($Q16))))","v":0.00839664516544048},{"$f":"V16*ABS(1/(Vout/(SQRT(2)*$C$25*SIN($Q16))))","v":0.0125949677481607},{"$f":"W16*ABS(1/(Vout/(SQRT(2)*$C$25*SIN($Q16))))","v":0.016793290330881},null,{"$f":"1/(0.0000128*(R16+Y16+$G$23))","v":40759.1581424352},{"$f":"1/(0.0000128*(S16+Z16+$H$23))","v":88396.0682106967},{"$f":"1/(0.0000128*(T16+AA16+$I$23))","v":116269.701250877},{"$f":"1/(0.0000128*(U16+AB16+$J$23))","v":280293.829846516},{"$f":"1/(0.0000128*(V16+AC16+$K$23))","v":186862.553231011},{"$f":"1/(0.0000128*(W16+AD16+$L$23))","v":140146.914923258}]
["Disclaimer",null,null,null,null,null,{"$f":"IF(H9>0,H9,G16)","v":122.4},null,null,null,null,null,null,null,null,null,{"$f":"Q16+0.01","v":0.11},{"$f":"(G$5*((90/$G$18)*(90/$G$18))/2)*(1+(SQRT(1+(4/(G$5*((90/$G$18)*(90/$G$18))))*$G$23*(1-(SQRT(2)*Vin_rms_min*(SIN($Q17)/Vout))))))","v":0.316444673976643},{"$f":"(H$5*((90/$G$18)*(90/$G$18))/2)*(1+(SQRT(1+(4/(H$5*((90/$G$18)*(90/$G$18))))*$H$23*(1-(SQRT(2)*Vin_rms_min*(SIN($Q17)/Vout))))))","v":0.303971549458579},{"$f":"(I$5*((90/$G$18)*(90/$G$18))/2)*(1+(SQRT(1+(4/(I$5*((90/$G$18)*(90/$G$18))))*$I$23*(1-(SQRT(2)*Vin_rms_min*(SIN($Q17)/Vout))))))","v":0.296378713995381},{"$f":"(J$5*((90/$G$18)*(90/$G$18))/2)*(1+(SQRT(1+(4/(J$5*((90/$G$18)*(90/$G$18))))*$J$23*(1-(SQRT(2)*Vin_rms_min*(SIN($Q17)/Vout))))))","v":0.270328719723183},{"$f":"(K$5*((90/$G$18)*(90/$G$18))/2)*(1+(SQRT(1+(4/(K$5*((90/$G$18)*(90/$G$18))))*$K$23*(1-(SQRT(2)*Vin_rms_min*(SIN($Q17)/Vout))))))","v":0.405493079584775},{"$f":"(L$5*((90/$G$18)*(90/$G$18))/2)*(1+(SQRT(1+(4/(L$5*((90/$G$18)*(90/$G$18))))*$L$23*(1-(SQRT(2)*Vin_rms_min*(SIN($Q17)/Vout))))))","v":0.540657439446367},null,{"$f":"R17*ABS(1/(Vout/(SQRT(2)*$C$25*SIN($Q17))))","v":0.0108081651871081},{"$f":"S17*ABS(1/(Vout/(SQRT(2)*$C$25*SIN($Q17))))","v":0.0103821457237483},{"$f":"T17*ABS(1/(Vout/(SQRT(2)*$C$25*SIN($Q17))))","v":0.0101228124921489},{"$f":"U17*ABS(1/(Vout/(SQRT(2)*$C$25*SIN($Q17))))","v":0.00923307515614332},{"$f":"V17*ABS(1/(Vout/(SQRT(2)*$C$25*SIN($Q17))))","v":0.013849612734215},{"$f":"W17*ABS(1/(Vout/(SQRT(2)*$C$25*SIN($Q17))))","v":0.0184661503122866},null,{"$f":"1/(0.0000128*(R17+Y17+$G$23))","v":40748.4075152424},{"$f":"1/(0.0000128*(S17+Z17+$H$23))","v":88341.3507803493},{"$f":"1/(0.0000128*(T17+AA17+$I$23))","v":116170.740025002},{"$f":"1/(0.0000128*(U17+AB17+$J$23))","v":279455.20965668},{"$f":"1/(0.0000128*(V17+AC17+$K$23))","v":186303.473104453},{"$f":"1/(0.0000128*(W17+AD17+$L$23))","v":139727.60482834}]
["This product is designed as an aid for customers of Texas Instruments. No warranties, either expressed or implied, with respect to this software or its fitness for any particular purpose, are claimed by Texas Instruments or the author. The software is licensed solely on an \"as is\" basis. The entire risk as to its quality and performance is with the customer.",null,null,null,null,"VFF value",{"$f":"IF(G9>0,G9,G17)","v":122.4},null,null,null,null,null,null,null,null,null,{"$f":"Q17+0.01","v":0.12},{"$f":"(G$5*((90/$G$18)*(90/$G$18))/2)*(1+(SQRT(1+(4/(G$5*((90/$G$18)*(90/$G$18))))*$G$23*(1-(SQRT(2)*Vin_rms_min*(SIN($Q18)/Vout))))))","v":0.315985290220877},{"$f":"(H$5*((90/$G$18)*(90/$G$18))/2)*(1+(SQRT(1+(4/(H$5*((90/$G$18)*(90/$G$18))))*$H$23*(1-(SQRT(2)*Vin_rms_min*(SIN($Q18)/Vout))))))","v":0.30359012372355},{"$f":"(I$5*((90/$G$18)*(90/$G$18))/2)*(1+(SQRT(1+(4/(I$5*((90/$G$18)*(90/$G$18))))*$I$23*(1-(SQRT(2)*Vin_rms_min*(SIN($Q18)/Vout))))))","v":0.296044334948942},{"$f":"(J$5*((90/$G$18)*(90/$G$18))/2)*(1+(SQRT(1+(4/(J$5*((90/$G$18)*(90/$G$18))))*$J$23*(1-(SQRT(2)*Vin_rms_min*(SIN($Q18)/Vout))))))","v":0.270328719723183},{"$f":"(K$5*((90/$G$18)*(90/$G$18))/2)*(1+(SQRT(1+(4/(K$5*((90/$G$18)*(90/$G$18))))*$K$23*(1-(SQRT(2)*Vin_rms_min*(SIN($Q18)/Vout))))))","v":0.405493079584775},{"$f":"(L$5*((90/$G$18)*(90/$G$18))/2)*(1+(SQRT(1+(4/(L$5*((90/$G$18)*(90/$G$18))))*$L$23*(1-(SQRT(2)*Vin_rms_min*(SIN($Q18)/Vout))))))","v":0.540657439446367},null,{"$f":"R18*ABS(1/(Vout/(SQRT(2)*$C$25*SIN($Q18))))","v":0.01176909268206},{"$f":"S18*ABS(1/(Vout/(SQRT(2)*$C$25*SIN($Q18))))","v":0.0113074260544311},{"$f":"T18*ABS(1/(Vout/(SQRT(2)*$C$25*SIN($Q18))))","v":0.0110263778847979},{"$f":"U18*ABS(1/(Vout/(SQRT(2)*$C$25*SIN($Q18))))","v":0.0100685818470248},{"$f":"V18*ABS(1/(Vout/(SQRT(2)*$C$25*SIN($Q18))))","v":0.0151028727705371},{"$f":"W18*ABS(1/(Vout/(SQRT(2)*$C$25*SIN($Q18))))","v":0.0201371636940495},null,{"$f":"1/(0.0000128*(R18+Y18+$G$23))","v":40737.7507237089},{"$f":"1/(0.0000128*(S18+Z18+$H$23))","v":88287.056529427},{"$f":"1/(0.0000128*(T18+AA18+$I$23))","v":116072.49953141},{"$f":"1/(0.0000128*(U18+AB18+$J$23))","v":278622.510140093},{"$f":"1/(0.0000128*(V18+AC18+$K$23))","v":185748.340093395},{"$f":"1/(0.0000128*(W18+AD18+$L$23))","v":139311.255070046}]
[null,null,null,null,null,"TDCM",{"$f":"IF(G18>190,I7,G7)","v":0.15},{"$f":"IF(G18>190,J7,H7)","v":0.45},null,null,null,null,null,null,null,null,{"$f":"Q18+0.01","v":0.13},{"$f":"(G$5*((90/$G$18)*(90/$G$18))/2)*(1+(SQRT(1+(4/(G$5*((90/$G$18)*(90/$G$18))))*$G$23*(1-(SQRT(2)*Vin_rms_min*(SIN($Q19)/Vout))))))","v":0.31552572987737},{"$f":"(H$5*((90/$G$18)*(90/$G$18))/2)*(1+(SQRT(1+(4/(H$5*((90/$G$18)*(90/$G$18))))*$H$23*(1-(SQRT(2)*Vin_rms_min*(SIN($Q19)/Vout))))))","v":0.303208574747137},{"$f":"(I$5*((90/$G$18)*(90/$G$18))/2)*(1+(SQRT(1+(4/(I$5*((90/$G$18)*(90/$G$18))))*$I$23*(1-(SQRT(2)*Vin_rms_min*(SIN($Q19)/Vout))))))","v":0.295709869623688},{"$f":"(J$5*((90/$G$18)*(90/$G$18))/2)*(1+(SQRT(1+(4/(J$5*((90/$G$18)*(90/$G$18))))*$J$23*(1-(SQRT(2)*Vin_rms_min*(SIN($Q19)/Vout))))))","v":0.270328719723183},{"$f":"(K$5*((90/$G$18)*(90/$G$18))/2)*(1+(SQRT(1+(4/(K$5*((90/$G$18)*(90/$G$18))))*$K$23*(1-(SQRT(2)*Vin_rms_min*(SIN($Q19)/Vout))))))","v":0.405493079584775},{"$f":"(L$5*((90/$G$18)*(90/$G$18))/2)*(1+(SQRT(1+(4/(L$5*((90/$G$18)*(90/$G$18))))*$L$23*(1-(SQRT(2)*Vin_rms_min*(SIN($Q19)/Vout))))))","v":0.540657439446367},null,{"$f":"R19*ABS(1/(Vout/(SQRT(2)*$C$25*SIN($Q19))))","v":0.0127259982257042},{"$f":"S19*ABS(1/(Vout/(SQRT(2)*$C$25*SIN($Q19))))","v":0.0122292143520277},{"$f":"T19*ABS(1/(Vout/(SQRT(2)*$C$25*SIN($Q19))))","v":0.011926771479514},{"$f":"U19*ABS(1/(Vout/(SQRT(2)*$C$25*SIN($Q19))))","v":0.0109030816881119},{"$f":"V19*ABS(1/(Vout/(SQRT(2)*$C$25*SIN($Q19))))","v":0.0163546225321679},{"$f":"W19*ABS(1/(Vout/(SQRT(2)*$C$25*SIN($Q19))))","v":0.0218061633762239},null,{"$f":"1/(0.0000128*(R19+Y19+$G$23))","v":40727.1886454946},{"$f":"1/(0.0000128*(S19+Z19+$H$23))","v":88233.1892334114},{"$f":"1/(0.0000128*(T19+AA19+$I$23))","v":115974.98596878},{"$f":"1/(0.0000128*(U19+AB19+$J$23))","v":277795.752855645},{"$f":"1/(0.0000128*(V19+AC19+$K$23))","v":185197.16857043},{"$f":"1/(0.0000128*(W19+AD19+$L$23))","v":138897.876427822}]
[null,null,null,null,null,null,{"$f":"$G$19*(1/(G$5*(90/$G$18)))-$H$19","v":1.59},{"$f":"$G$19*(1/(H$5*(90/$G$18)))-$H$19","v":0.57},{"$f":"$G$19*(1/(I$5*(90/$G$18)))-$H$19","v":0.366},{"$f":"$G$19*(1/(J$5*(90/$G$18)))-$H$19","v":-0.042},{"$f":"$G$19*(1/(K$5*(90/$G$18)))-$H$19","v":-0.178},{"$f":"$G$19*(1/(L$5*(90/$G$18)))-$H$19","v":-0.246},null,null,null,null,{"$f":"Q19+0.01","v":0.14},{"$f":"(G$5*((90/$G$18)*(90/$G$18))/2)*(1+(SQRT(1+(4/(G$5*((90/$G$18)*(90/$G$18))))*$G$23*(1-(SQRT(2)*Vin_rms_min*(SIN($Q20)/Vout))))))","v":0.315066038166538},{"$f":"(H$5*((90/$G$18)*(90/$G$18))/2)*(1+(SQRT(1+(4/(H$5*((90/$G$18)*(90/$G$18))))*$H$23*(1-(SQRT(2)*Vin_rms_min*(SIN($Q20)/Vout))))))","v":0.302826940204637},{"$f":"(I$5*((90/$G$18)*(90/$G$18))/2)*(1+(SQRT(1+(4/(I$5*((90/$G$18)*(90/$G$18))))*$I$23*(1-(SQRT(2)*Vin_rms_min*(SIN($Q20)/Vout))))))","v":0.2953753511595},{"$f":"(J$5*((90/$G$18)*(90/$G$18))/2)*(1+(SQRT(1+(4/(J$5*((90/$G$18)*(90/$G$18))))*$J$23*(1-(SQRT(2)*Vin_rms_min*(SIN($Q20)/Vout))))))","v":0.270328719723183},{"$f":"(K$5*((90/$G$18)*(90/$G$18))/2)*(1+(SQRT(1+(4/(K$5*((90/$G$18)*(90/$G$18))))*$K$23*(1-(SQRT(2)*Vin_rms_min*(SIN($Q20)/Vout))))))","v":0.405493079584775},{"$f":"(L$5*((90/$G$18)*(90/$G$18))/2)*(1+(SQRT(1+(4/(L$5*((90/$G$18)*(90/$G$18))))*$L$23*(1-(SQRT(2)*Vin_rms_min*(SIN($Q20)/Vout))))))","v":0.540657439446367},null,{"$f":"R20*ABS(1/(Vout/(SQRT(2)*$C$25*SIN($Q20))))","v":0.0136787900214063},{"$f":"S20*ABS(1/(Vout/(SQRT(2)*$C$25*SIN($Q20))))","v":0.0131474218928498},{"$f":"T20*ABS(1/(Vout/(SQRT(2)*$C$25*SIN($Q20))))","v":0.0128239064721863},{"$f":"U20*ABS(1/(Vout/(SQRT(2)*$C$25*SIN($Q20))))","v":0.0117364912301162},{"$f":"V20*ABS(1/(Vout/(SQRT(2)*$C$25*SIN($Q20))))","v":0.0176047368451743},{"$f":"W20*ABS(1/(Vout/(SQRT(2)*$C$25*SIN($Q20))))","v":0.0234729824602324},null,{"$f":"1/(0.0000128*(R20+Y20+$G$23))","v":40716.7221259853},{"$f":"1/(0.0000128*(S20+Z20+$H$23))","v":88179.7525326175},{"$f":"1/(0.0000128*(T20+AA20+$I$23))","v":115878.205316387},{"$f":"1/(0.0000128*(U20+AB20+$J$23))","v":276974.958152265},{"$f":"1/(0.0000128*(V20+AC20+$K$23))","v":184649.97210151},{"$f":"1/(0.0000128*(W20+AD20+$L$23))","v":138487.479076133}]
[null,null,null,null,null,null,{"$f":"MAX(G20:L20)","v":1.59},null,null,null,null,null,null,null,null,null,{"$f":"Q20+0.01","v":0.15},{"$f":"(G$5*((90/$G$18)*(90/$G$18))/2)*(1+(SQRT(1+(4/(G$5*((90/$G$18)*(90/$G$18))))*$G$23*(1-(SQRT(2)*Vin_rms_min*(SIN($Q21)/Vout))))))","v":0.31460626053743},{"$f":"(H$5*((90/$G$18)*(90/$G$18))/2)*(1+(SQRT(1+(4/(H$5*((90/$G$18)*(90/$G$18))))*$H$23*(1-(SQRT(2)*Vin_rms_min*(SIN($Q21)/Vout))))))","v":0.302445257952736},{"$f":"(I$5*((90/$G$18)*(90/$G$18))/2)*(1+(SQRT(1+(4/(I$5*((90/$G$18)*(90/$G$18))))*$I$23*(1-(SQRT(2)*Vin_rms_min*(SIN($Q21)/Vout))))))","v":0.295040812847295},{"$f":"(J$5*((90/$G$18)*(90/$G$18))/2)*(1+(SQRT(1+(4/(J$5*((90/$G$18)*(90/$G$18))))*$J$23*(1-(SQRT(2)*Vin_rms_min*(SIN($Q21)/Vout))))))","v":0.270328719723183},{"$f":"(K$5*((90/$G$18)*(90/$G$18))/2)*(1+(SQRT(1+(4/(K$5*((90/$G$18)*(90/$G$18))))*$K$23*(1-(SQRT(2)*Vin_rms_min*(SIN($Q21)/Vout))))))","v":0.405493079584775},{"$f":"(L$5*((90/$G$18)*(90/$G$18))/2)*(1+(SQRT(1+(4/(L$5*((90/$G$18)*(90/$G$18))))*$L$23*(1-(SQRT(2)*Vin_rms_min*(SIN($Q21)/Vout))))))","v":0.540657439446367},null,{"$f":"R21*ABS(1/(Vout/(SQRT(2)*$C$25*SIN($Q21))))","v":0.0146273775387523},{"$f":"S21*ABS(1/(Vout/(SQRT(2)*$C$25*SIN($Q21))))","v":0.0140619610217631},{"$f":"T21*ABS(1/(Vout/(SQRT(2)*$C$25*SIN($Q21))))","v":0.0137176970079535},{"$f":"U21*ABS(1/(Vout/(SQRT(2)*$C$25*SIN($Q21))))","v":0.0125687271327778},{"$f":"V21*ABS(1/(Vout/(SQRT(2)*$C$25*SIN($Q21))))","v":0.0188530906991667},{"$f":"W21*ABS(1/(Vout/(SQRT(2)*$C$25*SIN($Q21))))","v":0.0251374542655556},null,{"$f":"1/(0.0000128*(R21+Y21+$G$23))","v":40706.3519782363},{"$f":"1/(0.0000128*(S21+Z21+$H$23))","v":88126.7499325883},{"$f":"1/(0.0000128*(T21+AA21+$I$23))","v":115782.163335383},{"$f":"1/(0.0000128*(U21+AB21+$J$23))","v":276160.145198404},{"$f":"1/(0.0000128*(V21+AC21+$K$23))","v":184106.763465603},{"$f":"1/(0.0000128*(W21+AD21+$L$23))","v":138080.072599202}]
["Select Which Device You Are Using",null,"UCC28056A",null,"Refer datasheet for the difference of UCC28056A/B devices",null,{"$f":"IF(G$20>6.5,6.5,G$20)","v":1.59},{"$f":"IF(H$20>6.5,6.5,H$20)","v":0.57},{"$f":"IF(I$20>6.5,6.5,I$20)","v":0.366},{"$f":"IF(J$20>6.5,6.5,J$20)","v":-0.042},{"$f":"IF(K$20>6.5,6.5,K$20)","v":-0.178},{"$f":"IF(L$20>6.5,6.5,L$20)","v":-0.246},null,null,null,null,{"$f":"Q21+0.01","v":0.16},{"$f":"(G$5*((90/$G$18)*(90/$G$18))/2)*(1+(SQRT(1+(4/(G$5*((90/$G$18)*(90/$G$18))))*$G$23*(1-(SQRT(2)*Vin_rms_min*(SIN($Q22)/Vout))))))","v":0.314146442665113},{"$f":"(H$5*((90/$G$18)*(90/$G$18))/2)*(1+(SQRT(1+(4/(H$5*((90/$G$18)*(90/$G$18))))*$H$23*(1-(SQRT(2)*Vin_rms_min*(SIN($Q22)/Vout))))))","v":0.302063566027177},{"$f":"(I$5*((90/$G$18)*(90/$G$18))/2)*(1+(SQRT(1+(4/(I$5*((90/$G$18)*(90/$G$18))))*$I$23*(1-(SQRT(2)*Vin_rms_min*(SIN($Q22)/Vout))))))","v":0.294706288126833},{"$f":"(J$5*((90/$G$18)*(90/$G$18))/2)*(1+(SQRT(1+(4/(J$5*((90/$G$18)*(90/$G$18))))*$J$23*(1-(SQRT(2)*Vin_rms_min*(SIN($Q22)/Vout))))))","v":0.270328719723183},{"$f":"(K$5*((90/$G$18)*(90/$G$18))/2)*(1+(SQRT(1+(4/(K$5*((90/$G$18)*(90/$G$18))))*$K$23*(1-(SQRT(2)*Vin_rms_min*(SIN($Q22)/Vout))))))","v":0.405493079584775},{"$f":"(L$5*((90/$G$18)*(90/$G$18))/2)*(1+(SQRT(1+(4/(L$5*((90/$G$18)*(90/$G$18))))*$L$23*(1-(SQRT(2)*Vin_rms_min*(SIN($Q22)/Vout))))))","v":0.540657439446367},null,{"$f":"R22*ABS(1/(Vout/(SQRT(2)*$C$25*SIN($Q22))))","v":0.015571671524132},{"$f":"S22*ABS(1/(Vout/(SQRT(2)*$C$25*SIN($Q22))))","v":0.0149727451620305},{"$f":"T22*ABS(1/(Vout/(SQRT(2)*$C$25*SIN($Q22))))","v":0.0146080581905532},{"$f":"U22*ABS(1/(Vout/(SQRT(2)*$C$25*SIN($Q22))))","v":0.0133997061732001},{"$f":"V22*ABS(1/(Vout/(SQRT(2)*$C$25*SIN($Q22))))","v":0.0200995592598001},{"$f":"W22*ABS(1/(Vout/(SQRT(2)*$C$25*SIN($Q22))))","v":0.0267994123464001},null,{"$f":"1/(0.0000128*(R22+Y22+$G$23))","v":40696.0789829264},{"$f":"1/(0.0000128*(S22+Z22+$H$23))","v":88074.1848045223},{"$f":"1/(0.0000128*(T22+AA22+$I$23))","v":115686.86557013},{"$f":"1/(0.0000128*(U22+AB22+$J$23))","v":275351.332011164},{"$f":"1/(0.0000128*(V22+AC22+$K$23))","v":183567.554674109},{"$f":"1/(0.0000128*(W22+AD22+$L$23))","v":137675.666005582}]
[null,null,null,null,null,"TDCMn",{"$f":"IF(G$22<0,0,G$22)","v":1.59},{"$f":"IF(H$22<0,0,H$22)","v":0.57},{"$f":"IF(I$22<0,0,I$22)","v":0.366},{"$f":"IF(J$22<0,0,J$22)","v":0},{"$f":"IF(K$22<0,0,K$22)","v":0},{"$f":"IF(L$22<0,0,L$22)","v":0},null,null,null,null,{"$f":"Q22+0.01","v":0.17},{"$f":"(G$5*((90/$G$18)*(90/$G$18))/2)*(1+(SQRT(1+(4/(G$5*((90/$G$18)*(90/$G$18))))*$G$23*(1-(SQRT(2)*Vin_rms_min*(SIN($Q23)/Vout))))))","v":0.313686630447971},{"$f":"(H$5*((90/$G$18)*(90/$G$18))/2)*(1+(SQRT(1+(4/(H$5*((90/$G$18)*(90/$G$18))))*$H$23*(1-(SQRT(2)*Vin_rms_min*(SIN($Q23)/Vout))))))","v":0.301681902640352},{"$f":"(I$5*((90/$G$18)*(90/$G$18))/2)*(1+(SQRT(1+(4/(I$5*((90/$G$18)*(90/$G$18))))*$I$23*(1-(SQRT(2)*Vin_rms_min*(SIN($Q23)/Vout))))))","v":0.294371810584465},{"$f":"(J$5*((90/$G$18)*(90/$G$18))/2)*(1+(SQRT(1+(4/(J$5*((90/$G$18)*(90/$G$18))))*$J$23*(1-(SQRT(2)*Vin_rms_min*(SIN($Q23)/Vout))))))","v":0.270328719723183},{"$f":"(K$5*((90/$G$18)*(90/$G$18))/2)*(1+(SQRT(1+(4/(K$5*((90/$G$18)*(90/$G$18))))*$K$23*(1-(SQRT(2)*Vin_rms_min*(SIN($Q23)/Vout))))))","v":0.405493079584775},{"$f":"(L$5*((90/$G$18)*(90/$G$18))/2)*(1+(SQRT(1+(4/(L$5*((90/$G$18)*(90/$G$18))))*$L$23*(1-(SQRT(2)*Vin_rms_min*(SIN($Q23)/Vout))))))","v":0.540657439446367},null,{"$f":"R23*ABS(1/(Vout/(SQRT(2)*$C$25*SIN($Q23))))","v":0.0165115840108758},{"$f":"S23*ABS(1/(Vout/(SQRT(2)*$C$25*SIN($Q23))))","v":0.0158796888247784},{"$f":"T23*ABS(1/(Vout/(SQRT(2)*$C$25*SIN($Q23))))","v":0.0154949060913363},{"$f":"U23*ABS(1/(Vout/(SQRT(2)*$C$25*SIN($Q23))))","v":0.0142293452541714},{"$f":"V23*ABS(1/(Vout/(SQRT(2)*$C$25*SIN($Q23))))","v":0.021344017881257},{"$f":"W23*ABS(1/(Vout/(SQRT(2)*$C$25*SIN($Q23))))","v":0.0284586905083427},null,{"$f":"1/(0.0000128*(R23+Y23+$G$23))","v":40685.9038883219},{"$f":"1/(0.0000128*(S23+Z23+$H$23))","v":88022.0603857319},{"$f":"1/(0.0000128*(T23+AA23+$I$23))","v":115592.317349568},{"$f":"1/(0.0000128*(U23+AB23+$J$23))","v":274548.535485077},{"$f":"1/(0.0000128*(V23+AC23+$K$23))","v":183032.356990051},{"$f":"1/(0.0000128*(W23+AD23+$L$23))","v":137274.267742538}]
["INPUT:",null,null,null,null,null,null,null,null,null,null,null,null,null,null,null,{"$f":"Q23+0.01","v":0.18},{"$f":"(G$5*((90/$G$18)*(90/$G$18))/2)*(1+(SQRT(1+(4/(G$5*((90/$G$18)*(90/$G$18))))*$G$23*(1-(SQRT(2)*Vin_rms_min*(SIN($Q24)/Vout))))))","v":0.313226870004906},{"$f":"(H$5*((90/$G$18)*(90/$G$18))/2)*(1+(SQRT(1+(4/(H$5*((90/$G$18)*(90/$G$18))))*$H$23*(1-(SQRT(2)*Vin_rms_min*(SIN($Q24)/Vout))))))","v":0.301300306178821},{"$f":"(I$5*((90/$G$18)*(90/$G$18))/2)*(1+(SQRT(1+(4/(I$5*((90/$G$18)*(90/$G$18))))*$I$23*(1-(SQRT(2)*Vin_rms_min*(SIN($Q24)/Vout))))))","v":0.294037413950807},{"$f":"(J$5*((90/$G$18)*(90/$G$18))/2)*(1+(SQRT(1+(4/(J$5*((90/$G$18)*(90/$G$18))))*$J$23*(1-(SQRT(2)*Vin_rms_min*(SIN($Q24)/Vout))))))","v":0.270328719723183},{"$f":"(K$5*((90/$G$18)*(90/$G$18))/2)*(1+(SQRT(1+(4/(K$5*((90/$G$18)*(90/$G$18))))*$K$23*(1-(SQRT(2)*Vin_rms_min*(SIN($Q24)/Vout))))))","v":0.405493079584775},{"$f":"(L$5*((90/$G$18)*(90/$G$18))/2)*(1+(SQRT(1+(4/(L$5*((90/$G$18)*(90/$G$18))))*$L$23*(1-(SQRT(2)*Vin_rms_min*(SIN($Q24)/Vout))))))","v":0.540657439446367},null,{"$f":"R24*ABS(1/(Vout/(SQRT(2)*$C$25*SIN($Q24))))","v":0.017447028328939},{"$f":"S24*ABS(1/(Vout/(SQRT(2)*$C$25*SIN($Q24))))","v":0.0167827076180838},{"$f":"T24*ABS(1/(Vout/(SQRT(2)*$C$25*SIN($Q24))))","v":0.0163781577579451},{"$f":"U24*ABS(1/(Vout/(SQRT(2)*$C$25*SIN($Q24))))","v":0.015057561412475},{"$f":"V24*ABS(1/(Vout/(SQRT(2)*$C$25*SIN($Q24))))","v":0.0225863421187125},{"$f":"W24*ABS(1/(Vout/(SQRT(2)*$C$25*SIN($Q24))))","v":0.03011512282495},null,{"$f":"1/(0.0000128*(R24+Y24+$G$23))","v":40675.8274102502},{"$f":"1/(0.0000128*(S24+Z24+$H$23))","v":87970.3797801344},{"$f":"1/(0.0000128*(T24+AA24+$I$23))","v":115498.523788625},{"$f":"1/(0.0000128*(U24+AB24+$J$23))","v":273751.771420517},{"$f":"1/(0.0000128*(V24+AC24+$K$23))","v":182501.180947011},{"$f":"1/(0.0000128*(W24+AD24+$L$23))","v":136875.885710258}]
["Minimum AC Input Voltage:","VIN_RMS(min)",110,"VRMS",null,"VFF_select_index",{"$f":"IF(G$6>=Vin_rms_max,1,0-1)","v":-1},{"$f":"IF(H$6>=Vin_rms_max,1,0-1)","v":-1},{"$f":"IF(I$6>=Vin_rms_max,1,0-1)","v":-1},{"$f":"IF(J$6>=Vin_rms_max,1,0-1)","v":1},{"$f":"IF(K$6>=Vin_rms_max,1,0-1)","v":1},{"$f":"IF(L$6>=Vin_rms_max,1,0-1)","v":1},{"$f":"IF(M$6>=Vin_rms_max,1,0-1)","v":1},{"$f":"IF(N$6>=Vin_rms_max,1,0-1)","v":1},null,null,{"$f":"Q24+0.01","v":0.19},{"$f":"(G$5*((90/$G$18)*(90/$G$18))/2)*(1+(SQRT(1+(4/(G$5*((90/$G$18)*(90/$G$18))))*$G$23*(1-(SQRT(2)*Vin_rms_min*(SIN($Q25)/Vout))))))","v":0.312767207672456},{"$f":"(H$5*((90/$G$18)*(90/$G$18))/2)*(1+(SQRT(1+(4/(H$5*((90/$G$18)*(90/$G$18))))*$H$23*(1-(SQRT(2)*Vin_rms_min*(SIN($Q25)/Vout))))))","v":0.300918815200748},{"$f":"(I$5*((90/$G$18)*(90/$G$18))/2)*(1+(SQRT(1+(4/(I$5*((90/$G$18)*(90/$G$18))))*$I$23*(1-(SQRT(2)*Vin_rms_min*(SIN($Q25)/Vout))))))","v":0.293703132098361},{"$f":"(J$5*((90/$G$18)*(90/$G$18))/2)*(1+(SQRT(1+(4/(J$5*((90/$G$18)*(90/$G$18))))*$J$23*(1-(SQRT(2)*Vin_rms_min*(SIN($Q25)/Vout))))))","v":0.270328719723183},{"$f":"(K$5*((90/$G$18)*(90/$G$18))/2)*(1+(SQRT(1+(4/(K$5*((90/$G$18)*(90/$G$18))))*$K$23*(1-(SQRT(2)*Vin_rms_min*(SIN($Q25)/Vout))))))","v":0.405493079584775},{"$f":"(L$5*((90/$G$18)*(90/$G$18))/2)*(1+(SQRT(1+(4/(L$5*((90/$G$18)*(90/$G$18))))*$L$23*(1-(SQRT(2)*Vin_rms_min*(SIN($Q25)/Vout))))))","v":0.540657439446367},null,{"$f":"R25*ABS(1/(Vout/(SQRT(2)*$C$25*SIN($Q25))))","v":0.0183779191141301},{"$f":"S25*ABS(1/(Vout/(SQRT(2)*$C$25*SIN($Q25))))","v":0.0176817182556771},{"$f":"T25*ABS(1/(Vout/(SQRT(2)*$C$25*SIN($Q25))))","v":0.0172577312226511},{"$f":"U25*ABS(1/(Vout/(SQRT(2)*$C$25*SIN($Q25))))","v":0.0158842718271853},{"$f":"V25*ABS(1/(Vout/(SQRT(2)*$C$25*SIN($Q25))))","v":0.023826407740778},{"$f":"W25*ABS(1/(Vout/(SQRT(2)*$C$25*SIN($Q25))))","v":0.0317685436543706},null,{"$f":"1/(0.0000128*(R25+Y25+$G$23))","v":40665.8502320833},{"$f":"1/(0.0000128*(S25+Z25+$H$23))","v":87919.1459587742},{"$f":"1/(0.0000128*(T25+AA25+$I$23))","v":115405.489789671},{"$f":"1/(0.0000128*(U25+AB25+$J$23))","v":272961.054551751},{"$f":"1/(0.0000128*(V25+AC25+$K$23))","v":181974.036367834},{"$f":"1/(0.0000128*(W25+AD25+$L$23))","v":136480.527275875}]
["Maximum AC Input Voltage:","VIN_RMS(max)",130,"VRMS",null,null,{"$f":"G6*G25","v":-90},{"$f":"H6*H25","v":-104.96},{"$f":"I6*I25","v":-122.4},{"$f":"J6*J25","v":142.74},{"$f":"K6*K25","v":166.46},{"$f":"L6*L25","v":194.12},{"$f":"M6*M25","v":226.38},{"$f":"N6*N25","v":264},null,null,{"$f":"Q25+0.01","v":0.2},{"$f":"(G$5*((90/$G$18)*(90/$G$18))/2)*(1+(SQRT(1+(4/(G$5*((90/$G$18)*(90/$G$18))))*$G$23*(1-(SQRT(2)*Vin_rms_min*(SIN($Q26)/Vout))))))","v":0.312307690001804},{"$f":"(H$5*((90/$G$18)*(90/$G$18))/2)*(1+(SQRT(1+(4/(H$5*((90/$G$18)*(90/$G$18))))*$H$23*(1-(SQRT(2)*Vin_rms_min*(SIN($Q26)/Vout))))))","v":0.300537468433269},{"$f":"(I$5*((90/$G$18)*(90/$G$18))/2)*(1+(SQRT(1+(4/(I$5*((90/$G$18)*(90/$G$18))))*$I$23*(1-(SQRT(2)*Vin_rms_min*(SIN($Q26)/Vout))))))","v":0.293368999039056},{"$f":"(J$5*((90/$G$18)*(90/$G$18))/2)*(1+(SQRT(1+(4/(J$5*((90/$G$18)*(90/$G$18))))*$J$23*(1-(SQRT(2)*Vin_rms_min*(SIN($Q26)/Vout))))))","v":0.270328719723183},{"$f":"(K$5*((90/$G$18)*(90/$G$18))/2)*(1+(SQRT(1+(4/(K$5*((90/$G$18)*(90/$G$18))))*$K$23*(1-(SQRT(2)*Vin_rms_min*(SIN($Q26)/Vout))))))","v":0.405493079584775},{"$f":"(L$5*((90/$G$18)*(90/$G$18))/2)*(1+(SQRT(1+(4/(L$5*((90/$G$18)*(90/$G$18))))*$L$23*(1-(SQRT(2)*Vin_rms_min*(SIN($Q26)/Vout))))))","v":0.540657439446367},null,{"$f":"R26*ABS(1/(Vout/(SQRT(2)*$C$25*SIN($Q26))))","v":0.0193041723168781},{"$f":"S26*ABS(1/(Vout/(SQRT(2)*$C$25*SIN($Q26))))","v":0.018576638565258},{"$f":"T26*ABS(1/(Vout/(SQRT(2)*$C$25*SIN($Q26))))","v":0.01813354551035},{"$f":"U26*ABS(1/(Vout/(SQRT(2)*$C$25*SIN($Q26))))","v":0.0167093938279498},{"$f":"V26*ABS(1/(Vout/(SQRT(2)*$C$25*SIN($Q26))))","v":0.0250640907419246},{"$f":"W26*ABS(1/(Vout/(SQRT(2)*$C$25*SIN($Q26))))","v":0.0334187876558995},null,{"$f":"1/(0.0000128*(R26+Y26+$G$23))","v":40655.9730047314},{"$f":"1/(0.0000128*(S26+Z26+$H$23))","v":87868.3617603758},{"$f":"1/(0.0000128*(T26+AA26+$I$23))","v":115313.220044007},{"$f":"1/(0.0000128*(U26+AB26+$J$23))","v":272176.398574619},{"$f":"1/(0.0000128*(V26+AC26+$K$23))","v":181450.932383079},{"$f":"1/(0.0000128*(W26+AD26+$L$23))","v":136088.19928731}]
["Minimum Line Frequency:","fLINE(min):",57,"Hz",{"$f":"IF(PF>=0.999,\"ENTER VALUE LESS THAN 0.999\",\" \")","v":" "},null,null,null,null,null,null,null,null,null,null,null,{"$f":"Q26+0.01","v":0.21},{"$f":"(G$5*((90/$G$18)*(90/$G$18))/2)*(1+(SQRT(1+(4/(G$5*((90/$G$18)*(90/$G$18))))*$G$23*(1-(SQRT(2)*Vin_rms_min*(SIN($Q27)/Vout))))))","v":0.311848363755698},{"$f":"(H$5*((90/$G$18)*(90/$G$18))/2)*(1+(SQRT(1+(4/(H$5*((90/$G$18)*(90/$G$18))))*$H$23*(1-(SQRT(2)*Vin_rms_min*(SIN($Q27)/Vout))))))","v":0.300156304769774},{"$f":"(I$5*((90/$G$18)*(90/$G$18))/2)*(1+(SQRT(1+(4/(I$5*((90/$G$18)*(90/$G$18))))*$I$23*(1-(SQRT(2)*Vin_rms_min*(SIN($Q27)/Vout))))))","v":0.293035048921734},{"$f":"(J$5*((90/$G$18)*(90/$G$18))/2)*(1+(SQRT(1+(4/(J$5*((90/$G$18)*(90/$G$18))))*$J$23*(1-(SQRT(2)*Vin_rms_min*(SIN($Q27)/Vout))))))","v":0.270328719723183},{"$f":"(K$5*((90/$G$18)*(90/$G$18))/2)*(1+(SQRT(1+(4/(K$5*((90/$G$18)*(90/$G$18))))*$K$23*(1-(SQRT(2)*Vin_rms_min*(SIN($Q27)/Vout))))))","v":0.405493079584775},{"$f":"(L$5*((90/$G$18)*(90/$G$18))/2)*(1+(SQRT(1+(4/(L$5*((90/$G$18)*(90/$G$18))))*$L$23*(1-(SQRT(2)*Vin_rms_min*(SIN($Q27)/Vout))))))","v":0.540657439446367},null,{"$f":"R27*ABS(1/(Vout/(SQRT(2)*$C$25*SIN($Q27))))","v":0.0202257052105362},{"$f":"S27*ABS(1/(Vout/(SQRT(2)*$C$25*SIN($Q27))))","v":0.0194673874964219},{"$f":"T27*ABS(1/(Vout/(SQRT(2)*$C$25*SIN($Q27))))","v":0.019005520646211},{"$f":"U27*ABS(1/(Vout/(SQRT(2)*$C$25*SIN($Q27))))","v":0.0175328449032559},{"$f":"V27*ABS(1/(Vout/(SQRT(2)*$C$25*SIN($Q27))))","v":0.0262992673548838},{"$f":"W27*ABS(1/(Vout/(SQRT(2)*$C$25*SIN($Q27))))","v":0.0350656898065117},null,{"$f":"1/(0.0000128*(R27+Y27+$G$23))","v":40646.1963466468},{"$f":"1/(0.0000128*(S27+Z27+$H$23))","v":87818.0298919278},{"$f":"1/(0.0000128*(T27+AA27+$I$23))","v":115221.719033394},{"$f":"1/(0.0000128*(U27+AB27+$J$23))","v":271397.816173839},{"$f":"1/(0.0000128*(V27+AC27+$K$23))","v":180931.877449226},{"$f":"1/(0.0000128*(W27+AD27+$L$23))","v":135698.90808692}]
["Maximum Line Frequency:","fLINE(max):",63,"Hz",{"$f":"IF(eff>=0.97,\"ENTER VALUE LESS THAN 0.97\",\" \")","v":" "},null,{"$f":"IF(M26>0,N26,264)","v":264},null,null,null,null,null,null,null,null,null,{"$f":"Q27+0.01","v":0.22},{"$f":"(G$5*((90/$G$18)*(90/$G$18))/2)*(1+(SQRT(1+(4/(G$5*((90/$G$18)*(90/$G$18))))*$G$23*(1-(SQRT(2)*Vin_rms_min*(SIN($Q28)/Vout))))))","v":0.311389275905276},{"$f":"(H$5*((90/$G$18)*(90/$G$18))/2)*(1+(SQRT(1+(4/(H$5*((90/$G$18)*(90/$G$18))))*$H$23*(1-(SQRT(2)*Vin_rms_min*(SIN($Q28)/Vout))))))","v":0.299775363267107},{"$f":"(I$5*((90/$G$18)*(90/$G$18))/2)*(1+(SQRT(1+(4/(I$5*((90/$G$18)*(90/$G$18))))*$I$23*(1-(SQRT(2)*Vin_rms_min*(SIN($Q28)/Vout))))))","v":0.292701316029556},{"$f":"(J$5*((90/$G$18)*(90/$G$18))/2)*(1+(SQRT(1+(4/(J$5*((90/$G$18)*(90/$G$18))))*$J$23*(1-(SQRT(2)*Vin_rms_min*(SIN($Q28)/Vout))))))","v":0.270328719723183},{"$f":"(K$5*((90/$G$18)*(90/$G$18))/2)*(1+(SQRT(1+(4/(K$5*((90/$G$18)*(90/$G$18))))*$K$23*(1-(SQRT(2)*Vin_rms_min*(SIN($Q28)/Vout))))))","v":0.405493079584775},{"$f":"(L$5*((90/$G$18)*(90/$G$18))/2)*(1+(SQRT(1+(4/(L$5*((90/$G$18)*(90/$G$18))))*$L$23*(1-(SQRT(2)*Vin_rms_min*(SIN($Q28)/Vout))))))","v":0.540657439446367},null,{"$f":"R28*ABS(1/(Vout/(SQRT(2)*$C$25*SIN($Q28))))","v":0.0211424363992165},{"$f":"S28*ABS(1/(Vout/(SQRT(2)*$C$25*SIN($Q28))))","v":0.0203538851281919},{"$f":"T28*ABS(1/(Vout/(SQRT(2)*$C$25*SIN($Q28))))","v":0.0198735776629776},{"$f":"U28*ABS(1/(Vout/(SQRT(2)*$C$25*SIN($Q28))))","v":0.0183545427086823},{"$f":"V28*ABS(1/(Vout/(SQRT(2)*$C$25*SIN($Q28))))","v":0.0275318140630234},{"$f":"W28*ABS(1/(Vout/(SQRT(2)*$C$25*SIN($Q28))))","v":0.0367090854173646},null,{"$f":"1/(0.0000128*(R28+Y28+$G$23))","v":40636.5208438375},{"$f":"1/(0.0000128*(S28+Z28+$H$23))","v":87768.1529292983},{"$f":"1/(0.0000128*(T28+AA28+$I$23))","v":115130.991031624},{"$f":"1/(0.0000128*(U28+AB28+$J$23))","v":270625.319049936},{"$f":"1/(0.0000128*(V28+AC28+$K$23))","v":180416.879366624},{"$f":"1/(0.0000128*(W28+AD28+$L$23))","v":135312.659524968}]
["Target Power Factor, VIN(nom), Full Load:","PF",0.99,null,null,null,{"$f":"IF(M26>0,M26,G28)","v":226.38},null,null,null,null,null,null,null,null,null,{"$f":"Q28+0.01","v":0.23},{"$f":"(G$5*((90/$G$18)*(90/$G$18))/2)*(1+(SQRT(1+(4/(G$5*((90/$G$18)*(90/$G$18))))*$G$23*(1-(SQRT(2)*Vin_rms_min*(SIN($Q29)/Vout))))))","v":0.310930473626773},{"$f":"(H$5*((90/$G$18)*(90/$G$18))/2)*(1+(SQRT(1+(4/(H$5*((90/$G$18)*(90/$G$18))))*$H$23*(1-(SQRT(2)*Vin_rms_min*(SIN($Q29)/Vout))))))","v":0.299394683142691},{"$f":"(I$5*((90/$G$18)*(90/$G$18))/2)*(1+(SQRT(1+(4/(I$5*((90/$G$18)*(90/$G$18))))*$I$23*(1-(SQRT(2)*Vin_rms_min*(SIN($Q29)/Vout))))))","v":0.292367834777344},{"$f":"(J$5*((90/$G$18)*(90/$G$18))/2)*(1+(SQRT(1+(4/(J$5*((90/$G$18)*(90/$G$18))))*$J$23*(1-(SQRT(2)*Vin_rms_min*(SIN($Q29)/Vout))))))","v":0.270328719723183},{"$f":"(K$5*((90/$G$18)*(90/$G$18))/2)*(1+(SQRT(1+(4/(K$5*((90/$G$18)*(90/$G$18))))*$K$23*(1-(SQRT(2)*Vin_rms_min*(SIN($Q29)/Vout))))))","v":0.405493079584775},{"$f":"(L$5*((90/$G$18)*(90/$G$18))/2)*(1+(SQRT(1+(4/(L$5*((90/$G$18)*(90/$G$18))))*$L$23*(1-(SQRT(2)*Vin_rms_min*(SIN($Q29)/Vout))))))","v":0.540657439446367},null,{"$f":"R29*ABS(1/(Vout/(SQRT(2)*$C$25*SIN($Q29))))","v":0.0220542858251531},{"$f":"S29*ABS(1/(Vout/(SQRT(2)*$C$25*SIN($Q29))))","v":0.0212360526761552},{"$f":"T29*ABS(1/(Vout/(SQRT(2)*$C$25*SIN($Q29))))","v":0.0207376386079176},{"$f":"U29*ABS(1/(Vout/(SQRT(2)*$C$25*SIN($Q29))))","v":0.0191744050751332},{"$f":"V29*ABS(1/(Vout/(SQRT(2)*$C$25*SIN($Q29))))","v":0.0287616076126999},{"$f":"W29*ABS(1/(Vout/(SQRT(2)*$C$25*SIN($Q29))))","v":0.0383488101502665},null,{"$f":"1/(0.0000128*(R29+Y29+$G$23))","v":40626.9470498906},{"$f":"1/(0.0000128*(S29+Z29+$H$23))","v":87718.7333178794},{"$f":"1/(0.0000128*(T29+AA29+$I$23))","v":115041.040106121},{"$f":"1/(0.0000128*(U29+AB29+$J$23))","v":269858.917945794},{"$f":"1/(0.0000128*(V29+AC29+$K$23))","v":179905.945297196},{"$f":"1/(0.0000128*(W29+AD29+$L$23))","v":134929.458972897}]
["Predicted Efficiency:","h",0.91,null,null,null,{"$f":"IF(L26>0,L26,G29)","v":194.12},null,null,null,null,null,null,null,null,null,{"$f":"Q29+0.01","v":0.24},{"$f":"(G$5*((90/$G$18)*(90/$G$18))/2)*(1+(SQRT(1+(4/(G$5*((90/$G$18)*(90/$G$18))))*$G$23*(1-(SQRT(2)*Vin_rms_min*(SIN($Q30)/Vout))))))","v":0.31047200429815},{"$f":"(H$5*((90/$G$18)*(90/$G$18))/2)*(1+(SQRT(1+(4/(H$5*((90/$G$18)*(90/$G$18))))*$H$23*(1-(SQRT(2)*Vin_rms_min*(SIN($Q30)/Vout))))))","v":0.299014303771561},{"$f":"(I$5*((90/$G$18)*(90/$G$18))/2)*(1+(SQRT(1+(4/(I$5*((90/$G$18)*(90/$G$18))))*$I$23*(1-(SQRT(2)*Vin_rms_min*(SIN($Q30)/Vout))))))","v":0.292034639708852},{"$f":"(J$5*((90/$G$18)*(90/$G$18))/2)*(1+(SQRT(1+(4/(J$5*((90/$G$18)*(90/$G$18))))*$J$23*(1-(SQRT(2)*Vin_rms_min*(SIN($Q30)/Vout))))))","v":0.270328719723183},{"$f":"(K$5*((90/$G$18)*(90/$G$18))/2)*(1+(SQRT(1+(4/(K$5*((90/$G$18)*(90/$G$18))))*$K$23*(1-(SQRT(2)*Vin_rms_min*(SIN($Q30)/Vout))))))","v":0.405493079584775},{"$f":"(L$5*((90/$G$18)*(90/$G$18))/2)*(1+(SQRT(1+(4/(L$5*((90/$G$18)*(90/$G$18))))*$L$23*(1-(SQRT(2)*Vin_rms_min*(SIN($Q30)/Vout))))))","v":0.540657439446367},null,{"$f":"R30*ABS(1/(Vout/(SQRT(2)*$C$25*SIN($Q30))))","v":0.0229611747755894},{"$f":"S30*ABS(1/(Vout/(SQRT(2)*$C$25*SIN($Q30))))","v":0.0221138124991996},{"$f":"T30*ABS(1/(Vout/(SQRT(2)*$C$25*SIN($Q30))))","v":0.0215976265494195},{"$f":"U30*ABS(1/(Vout/(SQRT(2)*$C$25*SIN($Q30))))","v":0.0199923500170553},{"$f":"V30*ABS(1/(Vout/(SQRT(2)*$C$25*SIN($Q30))))","v":0.029988525025583},{"$f":"W30*ABS(1/(Vout/(SQRT(2)*$C$25*SIN($Q30))))","v":0.0399847000341106},null,{"$f":"1/(0.0000128*(R30+Y30+$G$23))","v":40617.4754860069},{"$f":"1/(0.0000128*(S30+Z30+$H$23))","v":87669.7733732627},{"$f":"1/(0.0000128*(T30+AA30+$I$23))","v":114951.870119585},{"$f":"1/(0.0000128*(U30+AB30+$J$23))","v":269098.622672827},{"$f":"1/(0.0000128*(V30+AC30+$K$23))","v":179399.081781885},{"$f":"1/(0.0000128*(W30+AD30+$L$23))","v":134549.311336414}]
["Minimum Rectified AC Line Voltage:","VIN_PEAK(min)",{"$f":"SQRT(2)*Vin_rms_min","v":155.56349186104},"V",null,null,{"$f":"IF(K26>0,K26,G30)","v":166.46},null,null,null,null,null,null,null,null,null,{"$f":"Q30+0.01","v":0.25},{"$f":"(G$5*((90/$G$18)*(90/$G$18))/2)*(1+(SQRT(1+(4/(G$5*((90/$G$18)*(90/$G$18))))*$G$23*(1-(SQRT(2)*Vin_rms_min*(SIN($Q31)/Vout))))))","v":0.310013915495594},{"$f":"(H$5*((90/$G$18)*(90/$G$18))/2)*(1+(SQRT(1+(4/(H$5*((90/$G$18)*(90/$G$18))))*$H$23*(1-(SQRT(2)*Vin_rms_min*(SIN($Q31)/Vout))))))","v":0.29863426468332},{"$f":"(I$5*((90/$G$18)*(90/$G$18))/2)*(1+(SQRT(1+(4/(I$5*((90/$G$18)*(90/$G$18))))*$I$23*(1-(SQRT(2)*Vin_rms_min*(SIN($Q31)/Vout))))))","v":0.29170176549396},{"$f":"(J$5*((90/$G$18)*(90/$G$18))/2)*(1+(SQRT(1+(4/(J$5*((90/$G$18)*(90/$G$18))))*$J$23*(1-(SQRT(2)*Vin_rms_min*(SIN($Q31)/Vout))))))","v":0.270328719723183},{"$f":"(K$5*((90/$G$18)*(90/$G$18))/2)*(1+(SQRT(1+(4/(K$5*((90/$G$18)*(90/$G$18))))*$K$23*(1-(SQRT(2)*Vin_rms_min*(SIN($Q31)/Vout))))))","v":0.405493079584775},{"$f":"(L$5*((90/$G$18)*(90/$G$18))/2)*(1+(SQRT(1+(4/(L$5*((90/$G$18)*(90/$G$18))))*$L$23*(1-(SQRT(2)*Vin_rms_min*(SIN($Q31)/Vout))))))","v":0.540657439446367},null,{"$f":"R31*ABS(1/(Vout/(SQRT(2)*$C$25*SIN($Q31))))","v":0.023863025889186},{"$f":"S31*ABS(1/(Vout/(SQRT(2)*$C$25*SIN($Q31))))","v":0.0229870881058478},{"$f":"T31*ABS(1/(Vout/(SQRT(2)*$C$25*SIN($Q31))))","v":0.022453465583233},{"$f":"U31*ABS(1/(Vout/(SQRT(2)*$C$25*SIN($Q31))))","v":0.0208082957406359},{"$f":"V31*ABS(1/(Vout/(SQRT(2)*$C$25*SIN($Q31))))","v":0.0312124436109538},{"$f":"W31*ABS(1/(Vout/(SQRT(2)*$C$25*SIN($Q31))))","v":0.0416165914812718},null,{"$f":"1/(0.0000128*(R31+Y31+$G$23))","v":40608.1066410447},{"$f":"1/(0.0000128*(S31+Z31+$H$23))","v":87621.2752819451},{"$f":"1/(0.0000128*(T31+AA31+$I$23))","v":114863.484731669},{"$f":"1/(0.0000128*(U31+AB31+$J$23))","v":268344.442136761},{"$f":"1/(0.0000128*(V31+AC31+$K$23))","v":178896.29475784},{"$f":"1/(0.0000128*(W31+AD31+$L$23))","v":134172.22106838}]
["Maximum Rectified AC Line Voltage:","VIN_PEAK(max)",{"$f":"SQRT(2)*Vin_rms_max","v":183.847763108502},"V",null,null,{"$f":"IF(J26>0,J26,G31)","v":142.74},null,null,null,null,null,null,null,null,null,{"$f":"Q31+0.01","v":0.26},{"$f":"(G$5*((90/$G$18)*(90/$G$18))/2)*(1+(SQRT(1+(4/(G$5*((90/$G$18)*(90/$G$18))))*$G$23*(1-(SQRT(2)*Vin_rms_min*(SIN($Q32)/Vout))))))","v":0.309556254989926},{"$f":"(H$5*((90/$G$18)*(90/$G$18))/2)*(1+(SQRT(1+(4/(H$5*((90/$G$18)*(90/$G$18))))*$H$23*(1-(SQRT(2)*Vin_rms_min*(SIN($Q32)/Vout))))))","v":0.298254605559004},{"$f":"(I$5*((90/$G$18)*(90/$G$18))/2)*(1+(SQRT(1+(4/(I$5*((90/$G$18)*(90/$G$18))))*$I$23*(1-(SQRT(2)*Vin_rms_min*(SIN($Q32)/Vout))))))","v":0.291369246925804},{"$f":"(J$5*((90/$G$18)*(90/$G$18))/2)*(1+(SQRT(1+(4/(J$5*((90/$G$18)*(90/$G$18))))*$J$23*(1-(SQRT(2)*Vin_rms_min*(SIN($Q32)/Vout))))))","v":0.270328719723183},{"$f":"(K$5*((90/$G$18)*(90/$G$18))/2)*(1+(SQRT(1+(4/(K$5*((90/$G$18)*(90/$G$18))))*$K$23*(1-(SQRT(2)*Vin_rms_min*(SIN($Q32)/Vout))))))","v":0.405493079584775},{"$f":"(L$5*((90/$G$18)*(90/$G$18))/2)*(1+(SQRT(1+(4/(L$5*((90/$G$18)*(90/$G$18))))*$L$23*(1-(SQRT(2)*Vin_rms_min*(SIN($Q32)/Vout))))))","v":0.540657439446367},null,{"$f":"R32*ABS(1/(Vout/(SQRT(2)*$C$25*SIN($Q32))))","v":0.0247597631619466},{"$f":"S32*ABS(1/(Vout/(SQRT(2)*$C$25*SIN($Q32))))","v":0.0238558041601876},{"$f":"T32*ABS(1/(Vout/(SQRT(2)*$C$25*SIN($Q32))))","v":0.0233050808383518},{"$f":"U32*ABS(1/(Vout/(SQRT(2)*$C$25*SIN($Q32))))","v":0.0216221606519826},{"$f":"V32*ABS(1/(Vout/(SQRT(2)*$C$25*SIN($Q32))))","v":0.0324332409779739},{"$f":"W32*ABS(1/(Vout/(SQRT(2)*$C$25*SIN($Q32))))","v":0.0432443213039653},null,{"$f":"1/(0.0000128*(R32+Y32+$G$23))","v":40598.8409715738},{"$f":"1/(0.0000128*(S32+Z32+$H$23))","v":87573.2411020641},{"$f":"1/(0.0000128*(T32+AA32+$I$23))","v":114775.887400691},{"$f":"1/(0.0000128*(U32+AB32+$J$23))","v":267596.384363037},{"$f":"1/(0.0000128*(V32+AC32+$K$23))","v":178397.589575358},{"$f":"1/(0.0000128*(W32+AD32+$L$23))","v":133798.192181519}]
[null,null,null,null,null,null,{"$f":"IF(I26>0,I26,G32)","v":142.74},null,null,null,null,null,null,null,null,null,{"$f":"Q32+0.01","v":0.27},{"$f":"(G$5*((90/$G$18)*(90/$G$18))/2)*(1+(SQRT(1+(4/(G$5*((90/$G$18)*(90/$G$18))))*$G$23*(1-(SQRT(2)*Vin_rms_min*(SIN($Q33)/Vout))))))","v":0.309099070742898},{"$f":"(H$5*((90/$G$18)*(90/$G$18))/2)*(1+(SQRT(1+(4/(H$5*((90/$G$18)*(90/$G$18))))*$H$23*(1-(SQRT(2)*Vin_rms_min*(SIN($Q33)/Vout))))))","v":0.297875366227861},{"$f":"(I$5*((90/$G$18)*(90/$G$18))/2)*(1+(SQRT(1+(4/(I$5*((90/$G$18)*(90/$G$18))))*$I$23*(1-(SQRT(2)*Vin_rms_min*(SIN($Q33)/Vout))))))","v":0.291037118917819},{"$f":"(J$5*((90/$G$18)*(90/$G$18))/2)*(1+(SQRT(1+(4/(J$5*((90/$G$18)*(90/$G$18))))*$J$23*(1-(SQRT(2)*Vin_rms_min*(SIN($Q33)/Vout))))))","v":0.270328719723183},{"$f":"(K$5*((90/$G$18)*(90/$G$18))/2)*(1+(SQRT(1+(4/(K$5*((90/$G$18)*(90/$G$18))))*$K$23*(1-(SQRT(2)*Vin_rms_min*(SIN($Q33)/Vout))))))","v":0.405493079584775},{"$f":"(L$5*((90/$G$18)*(90/$G$18))/2)*(1+(SQRT(1+(4/(L$5*((90/$G$18)*(90/$G$18))))*$L$23*(1-(SQRT(2)*Vin_rms_min*(SIN($Q33)/Vout))))))","v":0.540657439446367},null,{"$f":"R33*ABS(1/(Vout/(SQRT(2)*$C$25*SIN($Q33))))","v":0.0256513119526578},{"$f":"S33*ABS(1/(Vout/(SQRT(2)*$C$25*SIN($Q33))))","v":0.0247198864873929},{"$f":"T33*ABS(1/(Vout/(SQRT(2)*$C$25*SIN($Q33))))","v":0.024152398482535},{"$f":"U33*ABS(1/(Vout/(SQRT(2)*$C$25*SIN($Q33))))","v":0.0224338633652826},{"$f":"V33*ABS(1/(Vout/(SQRT(2)*$C$25*SIN($Q33))))","v":0.0336507950479238},{"$f":"W33*ABS(1/(Vout/(SQRT(2)*$C$25*SIN($Q33))))","v":0.0448677267305651},null,{"$f":"1/(0.0000128*(R33+Y33+$G$23))","v":40589.6789019407},{"$f":"1/(0.0000128*(S33+Z33+$H$23))","v":87525.6727641622},{"$f":"1/(0.0000128*(T33+AA33+$I$23))","v":114689.081385385},{"$f":"1/(0.0000128*(U33+AB33+$J$23))","v":266854.456521831},{"$f":"1/(0.0000128*(V33+AC33+$K$23))","v":177902.971014554},{"$f":"1/(0.0000128*(W33+AD33+$L$23))","v":133427.228260916}]
[null,null,null,null,null,null,{"$f":"IF(H26>0,H26,G33)","v":142.74},null,null,null,null,null,null,null,null,null,{"$f":"Q33+0.01","v":0.28},{"$f":"(G$5*((90/$G$18)*(90/$G$18))/2)*(1+(SQRT(1+(4/(G$5*((90/$G$18)*(90/$G$18))))*$G$23*(1-(SQRT(2)*Vin_rms_min*(SIN($Q34)/Vout))))))","v":0.30864241090338},{"$f":"(H$5*((90/$G$18)*(90/$G$18))/2)*(1+(SQRT(1+(4/(H$5*((90/$G$18)*(90/$G$18))))*$H$23*(1-(SQRT(2)*Vin_rms_min*(SIN($Q34)/Vout))))))","v":0.297496586664039},{"$f":"(I$5*((90/$G$18)*(90/$G$18))/2)*(1+(SQRT(1+(4/(I$5*((90/$G$18)*(90/$G$18))))*$I$23*(1-(SQRT(2)*Vin_rms_min*(SIN($Q34)/Vout))))))","v":0.290705416500721},{"$f":"(J$5*((90/$G$18)*(90/$G$18))/2)*(1+(SQRT(1+(4/(J$5*((90/$G$18)*(90/$G$18))))*$J$23*(1-(SQRT(2)*Vin_rms_min*(SIN($Q34)/Vout))))))","v":0.270328719723183},{"$f":"(K$5*((90/$G$18)*(90/$G$18))/2)*(1+(SQRT(1+(4/(K$5*((90/$G$18)*(90/$G$18))))*$K$23*(1-(SQRT(2)*Vin_rms_min*(SIN($Q34)/Vout))))))","v":0.405493079584775},{"$f":"(L$5*((90/$G$18)*(90/$G$18))/2)*(1+(SQRT(1+(4/(L$5*((90/$G$18)*(90/$G$18))))*$L$23*(1-(SQRT(2)*Vin_rms_min*(SIN($Q34)/Vout))))))","v":0.540657439446367},null,{"$f":"R34*ABS(1/(Vout/(SQRT(2)*$C$25*SIN($Q34))))","v":0.02653759898784},{"$f":"S34*ABS(1/(Vout/(SQRT(2)*$C$25*SIN($Q34))))","v":0.0255792620788364},{"$f":"T34*ABS(1/(Vout/(SQRT(2)*$C$25*SIN($Q34))))","v":0.0249953457274678},{"$f":"U34*ABS(1/(Vout/(SQRT(2)*$C$25*SIN($Q34))))","v":0.0232433227109408},{"$f":"V34*ABS(1/(Vout/(SQRT(2)*$C$25*SIN($Q34))))","v":0.0348649840664112},{"$f":"W34*ABS(1/(Vout/(SQRT(2)*$C$25*SIN($Q34))))","v":0.0464866454218816},null,{"$f":"1/(0.0000128*(R34+Y34+$G$23))","v":40580.6208243428},{"$f":"1/(0.0000128*(S34+Z34+$H$23))","v":87478.5720719819},{"$f":"1/(0.0000128*(T34+AA34+$I$23))","v":114603.069746677},{"$f":"1/(0.0000128*(U34+AB34+$J$23))","v":266118.664952678},{"$f":"1/(0.0000128*(V34+AC34+$K$23))","v":177412.443301785},{"$f":"1/(0.0000128*(W34+AD34+$L$23))","v":133059.332476339}]
["OUTPUT:",null,null,null,{"$f":"IF(Vout<=Vin_pk_max,\"OUTPUT VOLTAGE MUST BE GREATER THAN RECTIFIED MAXIMUM INPUT VOLTAGE\",\" \")","v":" "},"VFF value",{"$f":"IF(G26>0,G26,G34)","v":142.74},null,null,null,null,null,null,null,null,null,{"$f":"Q34+0.01","v":0.29},{"$f":"(G$5*((90/$G$18)*(90/$G$18))/2)*(1+(SQRT(1+(4/(G$5*((90/$G$18)*(90/$G$18))))*$G$23*(1-(SQRT(2)*Vin_rms_min*(SIN($Q35)/Vout))))))","v":0.308186323803428},{"$f":"(H$5*((90/$G$18)*(90/$G$18))/2)*(1+(SQRT(1+(4/(H$5*((90/$G$18)*(90/$G$18))))*$H$23*(1-(SQRT(2)*Vin_rms_min*(SIN($Q35)/Vout))))))","v":0.29711830698319},{"$f":"(I$5*((90/$G$18)*(90/$G$18))/2)*(1+(SQRT(1+(4/(I$5*((90/$G$18)*(90/$G$18))))*$I$23*(1-(SQRT(2)*Vin_rms_min*(SIN($Q35)/Vout))))))","v":0.290374174819401},{"$f":"(J$5*((90/$G$18)*(90/$G$18))/2)*(1+(SQRT(1+(4/(J$5*((90/$G$18)*(90/$G$18))))*$J$23*(1-(SQRT(2)*Vin_rms_min*(SIN($Q35)/Vout))))))","v":0.270328719723183},{"$f":"(K$5*((90/$G$18)*(90/$G$18))/2)*(1+(SQRT(1+(4/(K$5*((90/$G$18)*(90/$G$18))))*$K$23*(1-(SQRT(2)*Vin_rms_min*(SIN($Q35)/Vout))))))","v":0.405493079584775},{"$f":"(L$5*((90/$G$18)*(90/$G$18))/2)*(1+(SQRT(1+(4/(L$5*((90/$G$18)*(90/$G$18))))*$L$23*(1-(SQRT(2)*Vin_rms_min*(SIN($Q35)/Vout))))))","v":0.540657439446367},null,{"$f":"R35*ABS(1/(Vout/(SQRT(2)*$C$25*SIN($Q35))))","v":0.0274185523662069},{"$f":"S35*ABS(1/(Vout/(SQRT(2)*$C$25*SIN($Q35))))","v":0.0264338590967893},{"$f":"T35*ABS(1/(Vout/(SQRT(2)*$C$25*SIN($Q35))))","v":0.0258338508335563},{"$f":"U35*ABS(1/(Vout/(SQRT(2)*$C$25*SIN($Q35))))","v":0.0240504577436973},{"$f":"V35*ABS(1/(Vout/(SQRT(2)*$C$25*SIN($Q35))))","v":0.0360756866155459},{"$f":"W35*ABS(1/(Vout/(SQRT(2)*$C$25*SIN($Q35))))","v":0.0481009154873946},null,{"$f":"1/(0.0000128*(R35+Y35+$G$23))","v":40571.667098914},{"$f":"1/(0.0000128*(S35+Z35+$H$23))","v":87431.9407032888},{"$f":"1/(0.0000128*(T35+AA35+$I$23))","v":114517.85534951},{"$f":"1/(0.0000128*(U35+AB35+$J$23))","v":265389.015188717},{"$f":"1/(0.0000128*(V35+AC35+$K$23))","v":176926.010125811},{"$f":"1/(0.0000128*(W35+AD35+$L$23))","v":132694.507594359}]
["Maximum Output Power of PFC Stage:","POUT",50,"W",{"$f":"IF(Vout_ripple_factor>0.05,\"Lower ripple voltage factor is recommended\",\"Good! Output voltage peak-peak ripple ≤5% VOUT\")","v":"Good! Output voltage peak-peak ripple ≤5% VOUT"},"TDCM",{"$f":"IF(G35>190,I7,G7)","v":0.15},{"$f":"IF(G35>190,J7,H7)","v":0.45},null,null,null,null,null,null,null,null,{"$f":"Q35+0.01","v":0.3},{"$f":"(G$5*((90/$G$18)*(90/$G$18))/2)*(1+(SQRT(1+(4/(G$5*((90/$G$18)*(90/$G$18))))*$G$23*(1-(SQRT(2)*Vin_rms_min*(SIN($Q36)/Vout))))))","v":0.307730857954254},{"$f":"(H$5*((90/$G$18)*(90/$G$18))/2)*(1+(SQRT(1+(4/(H$5*((90/$G$18)*(90/$G$18))))*$H$23*(1-(SQRT(2)*Vin_rms_min*(SIN($Q36)/Vout))))))","v":0.296740567438975},{"$f":"(I$5*((90/$G$18)*(90/$G$18))/2)*(1+(SQRT(1+(4/(I$5*((90/$G$18)*(90/$G$18))))*$I$23*(1-(SQRT(2)*Vin_rms_min*(SIN($Q36)/Vout))))))","v":0.29004342912975},{"$f":"(J$5*((90/$G$18)*(90/$G$18))/2)*(1+(SQRT(1+(4/(J$5*((90/$G$18)*(90/$G$18))))*$J$23*(1-(SQRT(2)*Vin_rms_min*(SIN($Q36)/Vout))))))","v":0.270328719723183},{"$f":"(K$5*((90/$G$18)*(90/$G$18))/2)*(1+(SQRT(1+(4/(K$5*((90/$G$18)*(90/$G$18))))*$K$23*(1-(SQRT(2)*Vin_rms_min*(SIN($Q36)/Vout))))))","v":0.405493079584775},{"$f":"(L$5*((90/$G$18)*(90/$G$18))/2)*(1+(SQRT(1+(4/(L$5*((90/$G$18)*(90/$G$18))))*$L$23*(1-(SQRT(2)*Vin_rms_min*(SIN($Q36)/Vout))))))","v":0.540657439446367},null,{"$f":"R36*ABS(1/(Vout/(SQRT(2)*$C$25*SIN($Q36))))","v":0.0282941015626302},{"$f":"S36*ABS(1/(Vout/(SQRT(2)*$C$25*SIN($Q36))))","v":0.0272836068787064},{"$f":"T36*ABS(1/(Vout/(SQRT(2)*$C$25*SIN($Q36))))","v":0.0266678431143575},{"$f":"U36*ABS(1/(Vout/(SQRT(2)*$C$25*SIN($Q36))))","v":0.0248551877507214},{"$f":"V36*ABS(1/(Vout/(SQRT(2)*$C$25*SIN($Q36))))","v":0.0372827816260821},{"$f":"W36*ABS(1/(Vout/(SQRT(2)*$C$25*SIN($Q36))))","v":0.0497103755014428},null,{"$f":"1/(0.0000128*(R36+Y36+$G$23))","v":40562.8180538203},{"$f":"1/(0.0000128*(S36+Z36+$H$23))","v":87385.7802107252},{"$f":"1/(0.0000128*(T36+AA36+$I$23))","v":114433.440864685},{"$f":"1/(0.0000128*(U36+AB36+$J$23))","v":264665.511980549},{"$f":"1/(0.0000128*(V36+AC36+$K$23))","v":176443.674653699},{"$f":"1/(0.0000128*(W36+AD36+$L$23))","v":132332.755990275}]
["Output Voltage (Note: Must be > VIN_RECTIFIED(max)):","VOUT",500,"V",null,null,{"$f":"$G$36*(1/(G$5*(90/$G$35)))-$H$36","v":1.929},{"$f":"$G$36*(1/(H$5*(90/$G$35)))-$H$36","v":0.7395},{"$f":"$G$36*(1/(I$5*(90/$G$35)))-$H$36","v":0.5016},{"$f":"$G$36*(1/(J$5*(90/$G$35)))-$H$36","v":0.0258},{"$f":"$G$36*(1/(K$5*(90/$G$35)))-$H$36","v":-0.1328},{"$f":"$G$36*(1/(L$5*(90/$G$35)))-$H$36","v":-0.2121},null,null,null,null,{"$f":"Q36+0.01","v":0.31},{"$f":"(G$5*((90/$G$18)*(90/$G$18))/2)*(1+(SQRT(1+(4/(G$5*((90/$G$18)*(90/$G$18))))*$G$23*(1-(SQRT(2)*Vin_rms_min*(SIN($Q37)/Vout))))))","v":0.307276062042059},{"$f":"(H$5*((90/$G$18)*(90/$G$18))/2)*(1+(SQRT(1+(4/(H$5*((90/$G$18)*(90/$G$18))))*$H$23*(1-(SQRT(2)*Vin_rms_min*(SIN($Q37)/Vout))))))","v":0.296363408419483},{"$f":"(I$5*((90/$G$18)*(90/$G$18))/2)*(1+(SQRT(1+(4/(I$5*((90/$G$18)*(90/$G$18))))*$I$23*(1-(SQRT(2)*Vin_rms_min*(SIN($Q37)/Vout))))))","v":0.289713214795398},{"$f":"(J$5*((90/$G$18)*(90/$G$18))/2)*(1+(SQRT(1+(4/(J$5*((90/$G$18)*(90/$G$18))))*$J$23*(1-(SQRT(2)*Vin_rms_min*(SIN($Q37)/Vout))))))","v":0.270328719723183},{"$f":"(K$5*((90/$G$18)*(90/$G$18))/2)*(1+(SQRT(1+(4/(K$5*((90/$G$18)*(90/$G$18))))*$K$23*(1-(SQRT(2)*Vin_rms_min*(SIN($Q37)/Vout))))))","v":0.405493079584775},{"$f":"(L$5*((90/$G$18)*(90/$G$18))/2)*(1+(SQRT(1+(4/(L$5*((90/$G$18)*(90/$G$18))))*$L$23*(1-(SQRT(2)*Vin_rms_min*(SIN($Q37)/Vout))))))","v":0.540657439446367},null,{"$f":"R37*ABS(1/(Vout/(SQRT(2)*$C$25*SIN($Q37))))","v":0.0291641774316078},{"$f":"S37*ABS(1/(Vout/(SQRT(2)*$C$25*SIN($Q37))))","v":0.0281284359410945},{"$f":"T37*ABS(1/(Vout/(SQRT(2)*$C$25*SIN($Q37))))","v":0.0274972529406406},{"$f":"U37*ABS(1/(Vout/(SQRT(2)*$C$25*SIN($Q37))))","v":0.025657432259683},{"$f":"V37*ABS(1/(Vout/(SQRT(2)*$C$25*SIN($Q37))))","v":0.0384861483895245},{"$f":"W37*ABS(1/(Vout/(SQRT(2)*$C$25*SIN($Q37))))","v":0.0513148645193661},null,{"$f":"1/(0.0000128*(R37+Y37+$G$23))","v":40554.0739853653},{"$f":"1/(0.0000128*(S37+Z37+$H$23))","v":87340.0920226917},{"$f":"1/(0.0000128*(T37+AA37+$I$23))","v":114349.82877075},{"$f":"1/(0.0000128*(U37+AB37+$J$23))","v":263948.159319705},{"$f":"1/(0.0000128*(V37+AC37+$K$23))","v":175965.43954647},{"$f":"1/(0.0000128*(W37+AD37+$L$23))","v":131974.079659852}]
["Maximum Output Voltage Allowed Peak to Peak Low Frequency Ripple Factor \n(i.e. 0.02 for 2%, 0.05 for 5%). Not recommended to be > 5%:","VOUT_ripple_factor",0.05,null,null,null,{"$f":"MAX(G37:L37)","v":1.929},null,null,null,null,null,null,null,null,null,{"$f":"Q37+0.01","v":0.32},{"$f":"(G$5*((90/$G$18)*(90/$G$18))/2)*(1+(SQRT(1+(4/(G$5*((90/$G$18)*(90/$G$18))))*$G$23*(1-(SQRT(2)*Vin_rms_min*(SIN($Q38)/Vout))))))","v":0.306821984923773},{"$f":"(H$5*((90/$G$18)*(90/$G$18))/2)*(1+(SQRT(1+(4/(H$5*((90/$G$18)*(90/$G$18))))*$H$23*(1-(SQRT(2)*Vin_rms_min*(SIN($Q38)/Vout))))))","v":0.295986870443548},{"$f":"(I$5*((90/$G$18)*(90/$G$18))/2)*(1+(SQRT(1+(4/(I$5*((90/$G$18)*(90/$G$18))))*$I$23*(1-(SQRT(2)*Vin_rms_min*(SIN($Q38)/Vout))))))","v":0.289383567284384},{"$f":"(J$5*((90/$G$18)*(90/$G$18))/2)*(1+(SQRT(1+(4/(J$5*((90/$G$18)*(90/$G$18))))*$J$23*(1-(SQRT(2)*Vin_rms_min*(SIN($Q38)/Vout))))))","v":0.270328719723183},{"$f":"(K$5*((90/$G$18)*(90/$G$18))/2)*(1+(SQRT(1+(4/(K$5*((90/$G$18)*(90/$G$18))))*$K$23*(1-(SQRT(2)*Vin_rms_min*(SIN($Q38)/Vout))))))","v":0.405493079584775},{"$f":"(L$5*((90/$G$18)*(90/$G$18))/2)*(1+(SQRT(1+(4/(L$5*((90/$G$18)*(90/$G$18))))*$L$23*(1-(SQRT(2)*Vin_rms_min*(SIN($Q38)/Vout))))))","v":0.540657439446367},null,{"$f":"R38*ABS(1/(Vout/(SQRT(2)*$C$25*SIN($Q38))))","v":0.0300287122102315},{"$f":"S38*ABS(1/(Vout/(SQRT(2)*$C$25*SIN($Q38))))","v":0.0289682779829632},{"$f":"T38*ABS(1/(Vout/(SQRT(2)*$C$25*SIN($Q38))))","v":0.0283220117440797},{"$f":"U38*ABS(1/(Vout/(SQRT(2)*$C$25*SIN($Q38))))","v":0.0264571110467998},{"$f":"V38*ABS(1/(Vout/(SQRT(2)*$C$25*SIN($Q38))))","v":0.0396856665701997},{"$f":"W38*ABS(1/(Vout/(SQRT(2)*$C$25*SIN($Q38))))","v":0.0529142220935996},null,{"$f":"1/(0.0000128*(R38+Y38+$G$23))","v":40545.435158107},{"$f":"1/(0.0000128*(S38+Z38+$H$23))","v":87294.8774442579},{"$f":"1/(0.0000128*(T38+AA38+$I$23))","v":114267.02135591},{"$f":"1/(0.0000128*(U38+AB38+$J$23))","v":263236.960461731},{"$f":"1/(0.0000128*(V38+AC38+$K$23))","v":175491.306974487},{"$f":"1/(0.0000128*(W38+AD38+$L$23))","v":131618.480230865}]
["Maximum Output Voltage Allowed Peak to Peak Low Frequency Ripple","ΔVPPK",10,"V",null,null,{"$f":"IF(G$37>6.5,6.5,G$37)","v":1.929},{"$f":"IF(H$37>6.5,6.5,H$37)","v":0.7395},{"$f":"IF(I$37>6.5,6.5,I$37)","v":0.5016},{"$f":"IF(J$37>6.5,6.5,J$37)","v":0.0258},{"$f":"IF(K$37>6.5,6.5,K$37)","v":-0.1328},{"$f":"IF(L$37>6.5,6.5,L$37)","v":-0.2121},null,null,null,null,{"$f":"Q38+0.01","v":0.33},{"$f":"(G$5*((90/$G$18)*(90/$G$18))/2)*(1+(SQRT(1+(4/(G$5*((90/$G$18)*(90/$G$18))))*$G$23*(1-(SQRT(2)*Vin_rms_min*(SIN($Q39)/Vout))))))","v":0.306368675622654},{"$f":"(H$5*((90/$G$18)*(90/$G$18))/2)*(1+(SQRT(1+(4/(H$5*((90/$G$18)*(90/$G$18))))*$H$23*(1-(SQRT(2)*Vin_rms_min*(SIN($Q39)/Vout))))))","v":0.295610994156983},{"$f":"(I$5*((90/$G$18)*(90/$G$18))/2)*(1+(SQRT(1+(4/(I$5*((90/$G$18)*(90/$G$18))))*$I$23*(1-(SQRT(2)*Vin_rms_min*(SIN($Q39)/Vout))))))","v":0.289054522165739},{"$f":"(J$5*((90/$G$18)*(90/$G$18))/2)*(1+(SQRT(1+(4/(J$5*((90/$G$18)*(90/$G$18))))*$J$23*(1-(SQRT(2)*Vin_rms_min*(SIN($Q39)/Vout))))))","v":0.270328719723183},{"$f":"(K$5*((90/$G$18)*(90/$G$18))/2)*(1+(SQRT(1+(4/(K$5*((90/$G$18)*(90/$G$18))))*$K$23*(1-(SQRT(2)*Vin_rms_min*(SIN($Q39)/Vout))))))","v":0.405493079584775},{"$f":"(L$5*((90/$G$18)*(90/$G$18))/2)*(1+(SQRT(1+(4/(L$5*((90/$G$18)*(90/$G$18))))*$L$23*(1-(SQRT(2)*Vin_rms_min*(SIN($Q39)/Vout))))))","v":0.540657439446367},null,{"$f":"R39*ABS(1/(Vout/(SQRT(2)*$C$25*SIN($Q39))))","v":0.0308876395206536},{"$f":"S39*ABS(1/(Vout/(SQRT(2)*$C$25*SIN($Q39))))","v":0.0298030658888541},{"$f":"T39*ABS(1/(Vout/(SQRT(2)*$C$25*SIN($Q39))))","v":0.0291420520205752},{"$f":"U39*ABS(1/(Vout/(SQRT(2)*$C$25*SIN($Q39))))","v":0.0272541441448594},{"$f":"V39*ABS(1/(Vout/(SQRT(2)*$C$25*SIN($Q39))))","v":0.0408812162172892},{"$f":"W39*ABS(1/(Vout/(SQRT(2)*$C$25*SIN($Q39))))","v":0.0545082882897189},null,{"$f":"1/(0.0000128*(R39+Y39+$G$23))","v":40536.9018049842},{"$f":"1/(0.0000128*(S39+Z39+$H$23))","v":87250.1376581028},{"$f":"1/(0.0000128*(T39+AA39+$I$23))","v":114185.020719975},{"$f":"1/(0.0000128*(U39+AB39+$J$23))","v":262531.917948888},{"$f":"1/(0.0000128*(V39+AC39+$K$23))","v":175021.278632592},{"$f":"1/(0.0000128*(W39+AD39+$L$23))","v":131265.958974444}]
["Maximum Ambient Temperature:","TAMB(max)",50,"°C",null,"TDCMn",{"$f":"IF(G$39<0,0,G$39)","v":1.929},{"$f":"IF(H$39<0,0,H$39)","v":0.7395},{"$f":"IF(I$39<0,0,I$39)","v":0.5016},{"$f":"IF(J$39<0,0,J$39)","v":0.0258},{"$f":"IF(K$39<0,0,K$39)","v":0},{"$f":"IF(L$39<0,0,L$39)","v":0},null,null,null,null,{"$f":"Q39+0.01","v":0.34},{"$f":"(G$5*((90/$G$18)*(90/$G$18))/2)*(1+(SQRT(1+(4/(G$5*((90/$G$18)*(90/$G$18))))*$G$23*(1-(SQRT(2)*Vin_rms_min*(SIN($Q40)/Vout))))))","v":0.305916183323782},{"$f":"(H$5*((90/$G$18)*(90/$G$18))/2)*(1+(SQRT(1+(4/(H$5*((90/$G$18)*(90/$G$18))))*$H$23*(1-(SQRT(2)*Vin_rms_min*(SIN($Q40)/Vout))))))","v":0.295235820328701},{"$f":"(I$5*((90/$G$18)*(90/$G$18))/2)*(1+(SQRT(1+(4/(I$5*((90/$G$18)*(90/$G$18))))*$I$23*(1-(SQRT(2)*Vin_rms_min*(SIN($Q40)/Vout))))))","v":0.288726115105985},{"$f":"(J$5*((90/$G$18)*(90/$G$18))/2)*(1+(SQRT(1+(4/(J$5*((90/$G$18)*(90/$G$18))))*$J$23*(1-(SQRT(2)*Vin_rms_min*(SIN($Q40)/Vout))))))","v":0.270328719723183},{"$f":"(K$5*((90/$G$18)*(90/$G$18))/2)*(1+(SQRT(1+(4/(K$5*((90/$G$18)*(90/$G$18))))*$K$23*(1-(SQRT(2)*Vin_rms_min*(SIN($Q40)/Vout))))))","v":0.405493079584775},{"$f":"(L$5*((90/$G$18)*(90/$G$18))/2)*(1+(SQRT(1+(4/(L$5*((90/$G$18)*(90/$G$18))))*$L$23*(1-(SQRT(2)*Vin_rms_min*(SIN($Q40)/Vout))))))","v":0.540657439446367},null,{"$f":"R40*ABS(1/(Vout/(SQRT(2)*$C$25*SIN($Q40))))","v":0.0317408943720495},{"$f":"S40*ABS(1/(Vout/(SQRT(2)*$C$25*SIN($Q40))))","v":0.0306327337314495},{"$f":"T40*ABS(1/(Vout/(SQRT(2)*$C$25*SIN($Q40))))","v":0.029957307333204},{"$f":"U40*ABS(1/(Vout/(SQRT(2)*$C$25*SIN($Q40))))","v":0.0280484518512163},{"$f":"V40*ABS(1/(Vout/(SQRT(2)*$C$25*SIN($Q40))))","v":0.0420726777768244},{"$f":"W40*ABS(1/(Vout/(SQRT(2)*$C$25*SIN($Q40))))","v":0.0560969037024326},null,{"$f":"1/(0.0000128*(R40+Y40+$G$23))","v":40528.4741274545},{"$f":"1/(0.0000128*(S40+Z40+$H$23))","v":87205.8737254824},{"$f":"1/(0.0000128*(T40+AA40+$I$23))","v":114103.82877634},{"$f":"1/(0.0000128*(U40+AB40+$J$23))","v":261833.033632466},{"$f":"1/(0.0000128*(V40+AC40+$K$23))","v":174555.355754978},{"$f":"1/(0.0000128*(W40+AD40+$L$23))","v":130916.516816233}]
["Maximum Average Output Current of PFC Stage:","IOUT",{"$f":"Pout/Vout","v":0.1},"A",null,null,null,null,null,null,null,null,null,null,null,null,{"$f":"Q40+0.01","v":0.35},{"$f":"(G$5*((90/$G$18)*(90/$G$18))/2)*(1+(SQRT(1+(4/(G$5*((90/$G$18)*(90/$G$18))))*$G$23*(1-(SQRT(2)*Vin_rms_min*(SIN($Q41)/Vout))))))","v":0.305464557369422},{"$f":"(H$5*((90/$G$18)*(90/$G$18))/2)*(1+(SQRT(1+(4/(H$5*((90/$G$18)*(90/$G$18))))*$H$23*(1-(SQRT(2)*Vin_rms_min*(SIN($Q41)/Vout))))))","v":0.294861389846757},{"$f":"(I$5*((90/$G$18)*(90/$G$18))/2)*(1+(SQRT(1+(4/(I$5*((90/$G$18)*(90/$G$18))))*$I$23*(1-(SQRT(2)*Vin_rms_min*(SIN($Q41)/Vout))))))","v":0.288398381865565},{"$f":"(J$5*((90/$G$18)*(90/$G$18))/2)*(1+(SQRT(1+(4/(J$5*((90/$G$18)*(90/$G$18))))*$J$23*(1-(SQRT(2)*Vin_rms_min*(SIN($Q41)/Vout))))))","v":0.270328719723183},{"$f":"(K$5*((90/$G$18)*(90/$G$18))/2)*(1+(SQRT(1+(4/(K$5*((90/$G$18)*(90/$G$18))))*$K$23*(1-(SQRT(2)*Vin_rms_min*(SIN($Q41)/Vout))))))","v":0.405493079584775},{"$f":"(L$5*((90/$G$18)*(90/$G$18))/2)*(1+(SQRT(1+(4/(L$5*((90/$G$18)*(90/$G$18))))*$L$23*(1-(SQRT(2)*Vin_rms_min*(SIN($Q41)/Vout))))))","v":0.540657439446367},null,{"$f":"R41*ABS(1/(Vout/(SQRT(2)*$C$25*SIN($Q41))))","v":0.032588413162074},{"$f":"S41*ABS(1/(Vout/(SQRT(2)*$C$25*SIN($Q41))))","v":0.0314572167737565},{"$f":"T41*ABS(1/(Vout/(SQRT(2)*$C$25*SIN($Q41))))","v":0.0307677123147951},{"$f":"U41*ABS(1/(Vout/(SQRT(2)*$C$25*SIN($Q41))))","v":0.0288399547357616},{"$f":"V41*ABS(1/(Vout/(SQRT(2)*$C$25*SIN($Q41))))","v":0.0432599321036425},{"$f":"W41*ABS(1/(Vout/(SQRT(2)*$C$25*SIN($Q41))))","v":0.0576799094715233},null,{"$f":"1/(0.0000128*(R41+Y41+$G$23))","v":40520.1522956414},{"$f":"1/(0.0000128*(S41+Z41+$H$23))","v":87162.0865872272},{"$f":"1/(0.0000128*(T41+AA41+$I$23))","v":114023.447253995},{"$f":"1/(0.0000128*(U41+AB41+$J$23))","v":261140.308694723},{"$f":"1/(0.0000128*(V41+AC41+$K$23))","v":174093.539129815},{"$f":"1/(0.0000128*(W41+AD41+$L$23))","v":130570.154347362}]
["Minimum Equivalent Load Resistor","RLOAD",{"$f":"Vout^2/Pout","v":5000},"W",null,null,null,null,null,null,null,null,null,null,null,null,{"$f":"Q41+0.01","v":0.36},{"$f":"(G$5*((90/$G$18)*(90/$G$18))/2)*(1+(SQRT(1+(4/(G$5*((90/$G$18)*(90/$G$18))))*$G$23*(1-(SQRT(2)*Vin_rms_min*(SIN($Q42)/Vout))))))","v":0.305013847254269},{"$f":"(H$5*((90/$G$18)*(90/$G$18))/2)*(1+(SQRT(1+(4/(H$5*((90/$G$18)*(90/$G$18))))*$H$23*(1-(SQRT(2)*Vin_rms_min*(SIN($Q42)/Vout))))))","v":0.294487743714273},{"$f":"(I$5*((90/$G$18)*(90/$G$18))/2)*(1+(SQRT(1+(4/(I$5*((90/$G$18)*(90/$G$18))))*$I$23*(1-(SQRT(2)*Vin_rms_min*(SIN($Q42)/Vout))))))","v":0.288071358295174},{"$f":"(J$5*((90/$G$18)*(90/$G$18))/2)*(1+(SQRT(1+(4/(J$5*((90/$G$18)*(90/$G$18))))*$J$23*(1-(SQRT(2)*Vin_rms_min*(SIN($Q42)/Vout))))))","v":0.270328719723183},{"$f":"(K$5*((90/$G$18)*(90/$G$18))/2)*(1+(SQRT(1+(4/(K$5*((90/$G$18)*(90/$G$18))))*$K$23*(1-(SQRT(2)*Vin_rms_min*(SIN($Q42)/Vout))))))","v":0.405493079584775},{"$f":"(L$5*((90/$G$18)*(90/$G$18))/2)*(1+(SQRT(1+(4/(L$5*((90/$G$18)*(90/$G$18))))*$L$23*(1-(SQRT(2)*Vin_rms_min*(SIN($Q42)/Vout))))))","v":0.540657439446367},null,{"$f":"R42*ABS(1/(Vout/(SQRT(2)*$C$25*SIN($Q42))))","v":0.0334301336778101},{"$f":"S42*ABS(1/(Vout/(SQRT(2)*$C$25*SIN($Q42))))","v":0.0322764514708669},{"$f":"T42*ABS(1/(Vout/(SQRT(2)*$C$25*SIN($Q42))))","v":0.0315732026701328},{"$f":"U42*ABS(1/(Vout/(SQRT(2)*$C$25*SIN($Q42))))","v":0.0296285736488666},{"$f":"V42*ABS(1/(Vout/(SQRT(2)*$C$25*SIN($Q42))))","v":0.0444428604733},{"$f":"W42*ABS(1/(Vout/(SQRT(2)*$C$25*SIN($Q42))))","v":0.0592571472977333},null,{"$f":"1/(0.0000128*(R42+Y42+$G$23))","v":40511.9364484934},{"$f":"1/(0.0000128*(S42+Z42+$H$23))","v":87118.7770647676},{"$f":"1/(0.0000128*(T42+AA42+$I$23))","v":113943.877699561},{"$f":"1/(0.0000128*(U42+AB42+$J$23))","v":260453.74367043},{"$f":"1/(0.0000128*(V42+AC42+$K$23))","v":173635.82911362},{"$f":"1/(0.0000128*(W42+AD42+$L$23))","v":130226.871835215}]
[null,null,null,null,null,null,null,null,null,null,null,null,null,null,null,null,{"$f":"Q42+0.01","v":0.37},{"$f":"(G$5*((90/$G$18)*(90/$G$18))/2)*(1+(SQRT(1+(4/(G$5*((90/$G$18)*(90/$G$18))))*$G$23*(1-(SQRT(2)*Vin_rms_min*(SIN($Q43)/Vout))))))","v":0.30456410262056},{"$f":"(H$5*((90/$G$18)*(90/$G$18))/2)*(1+(SQRT(1+(4/(H$5*((90/$G$18)*(90/$G$18))))*$H$23*(1-(SQRT(2)*Vin_rms_min*(SIN($Q43)/Vout))))))","v":0.294114923045281},{"$f":"(I$5*((90/$G$18)*(90/$G$18))/2)*(1+(SQRT(1+(4/(I$5*((90/$G$18)*(90/$G$18))))*$I$23*(1-(SQRT(2)*Vin_rms_min*(SIN($Q43)/Vout))))))","v":0.287745080332021},{"$f":"(J$5*((90/$G$18)*(90/$G$18))/2)*(1+(SQRT(1+(4/(J$5*((90/$G$18)*(90/$G$18))))*$J$23*(1-(SQRT(2)*Vin_rms_min*(SIN($Q43)/Vout))))))","v":0.270328719723183},{"$f":"(K$5*((90/$G$18)*(90/$G$18))/2)*(1+(SQRT(1+(4/(K$5*((90/$G$18)*(90/$G$18))))*$K$23*(1-(SQRT(2)*Vin_rms_min*(SIN($Q43)/Vout))))))","v":0.405493079584775},{"$f":"(L$5*((90/$G$18)*(90/$G$18))/2)*(1+(SQRT(1+(4/(L$5*((90/$G$18)*(90/$G$18))))*$L$23*(1-(SQRT(2)*Vin_rms_min*(SIN($Q43)/Vout))))))","v":0.540657439446367},null,{"$f":"R43*ABS(1/(Vout/(SQRT(2)*$C$25*SIN($Q43))))","v":0.0342659950962086},{"$f":"S43*ABS(1/(Vout/(SQRT(2)*$C$25*SIN($Q43))))","v":0.0330903754712917},{"$f":"T43*ABS(1/(Vout/(SQRT(2)*$C$25*SIN($Q43))))","v":0.0323737151777833},{"$f":"U43*ABS(1/(Vout/(SQRT(2)*$C$25*SIN($Q43))))","v":0.0304142297292971},{"$f":"V43*ABS(1/(Vout/(SQRT(2)*$C$25*SIN($Q43))))","v":0.0456213445939457},{"$f":"W43*ABS(1/(Vout/(SQRT(2)*$C$25*SIN($Q43))))","v":0.0608284594585943},null,{"$f":"1/(0.0000128*(R43+Y43+$G$23))","v":40503.8266939528},{"$f":"1/(0.0000128*(S43+Z43+$H$23))","v":87075.9458611879},{"$f":"1/(0.0000128*(T43+AA43+$I$23))","v":113865.121479366},{"$f":"1/(0.0000128*(U43+AB43+$J$23))","v":259773.338468054},{"$f":"1/(0.0000128*(V43+AC43+$K$23))","v":173182.225645369},{"$f":"1/(0.0000128*(W43+AD43+$L$23))","v":129886.669234027}]
[null,null,null,null,null,null,null,null,null,null,null,null,null,null,null,null,{"$f":"Q43+0.01","v":0.38},{"$f":"(G$5*((90/$G$18)*(90/$G$18))/2)*(1+(SQRT(1+(4/(G$5*((90/$G$18)*(90/$G$18))))*$G$23*(1-(SQRT(2)*Vin_rms_min*(SIN($Q44)/Vout))))))","v":0.304115373253067},{"$f":"(H$5*((90/$G$18)*(90/$G$18))/2)*(1+(SQRT(1+(4/(H$5*((90/$G$18)*(90/$G$18))))*$H$23*(1-(SQRT(2)*Vin_rms_min*(SIN($Q44)/Vout))))))","v":0.293742969060445},{"$f":"(I$5*((90/$G$18)*(90/$G$18))/2)*(1+(SQRT(1+(4/(I$5*((90/$G$18)*(90/$G$18))))*$I$23*(1-(SQRT(2)*Vin_rms_min*(SIN($Q44)/Vout))))))","v":0.287419583995998},{"$f":"(J$5*((90/$G$18)*(90/$G$18))/2)*(1+(SQRT(1+(4/(J$5*((90/$G$18)*(90/$G$18))))*$J$23*(1-(SQRT(2)*Vin_rms_min*(SIN($Q44)/Vout))))))","v":0.270328719723183},{"$f":"(K$5*((90/$G$18)*(90/$G$18))/2)*(1+(SQRT(1+(4/(K$5*((90/$G$18)*(90/$G$18))))*$K$23*(1-(SQRT(2)*Vin_rms_min*(SIN($Q44)/Vout))))))","v":0.405493079584775},{"$f":"(L$5*((90/$G$18)*(90/$G$18))/2)*(1+(SQRT(1+(4/(L$5*((90/$G$18)*(90/$G$18))))*$L$23*(1-(SQRT(2)*Vin_rms_min*(SIN($Q44)/Vout))))))","v":0.540657439446367},null,{"$f":"R44*ABS(1/(Vout/(SQRT(2)*$C$25*SIN($Q44))))","v":0.0350959379840172},{"$f":"S44*ABS(1/(Vout/(SQRT(2)*$C$25*SIN($Q44))))","v":0.0338989276178675},{"$f":"T44*ABS(1/(Vout/(SQRT(2)*$C$25*SIN($Q44))))","v":0.033169187691546},{"$f":"U44*ABS(1/(Vout/(SQRT(2)*$C$25*SIN($Q44))))","v":0.0311968444120998},{"$f":"V44*ABS(1/(Vout/(SQRT(2)*$C$25*SIN($Q44))))","v":0.0467952666181498},{"$f":"W44*ABS(1/(Vout/(SQRT(2)*$C$25*SIN($Q44))))","v":0.0623936888241997},null,{"$f":"1/(0.0000128*(R44+Y44+$G$23))","v":40495.8231091353},{"$f":"1/(0.0000128*(S44+Z44+$H$23))","v":87033.5935623085},{"$f":"1/(0.0000128*(T44+AA44+$I$23))","v":113787.179781544},{"$f":"1/(0.0000128*(U44+AB44+$J$23))","v":259099.092390549},{"$f":"1/(0.0000128*(V44+AC44+$K$23))","v":172732.728260366},{"$f":"1/(0.0000128*(W44+AD44+$L$23))","v":129549.546195274}]
["LINE CURRENT:",null,null,null,null,null,null,null,null,null,null,null,null,null,null,null,{"$f":"Q44+0.01","v":0.39},{"$f":"(G$5*((90/$G$18)*(90/$G$18))/2)*(1+(SQRT(1+(4/(G$5*((90/$G$18)*(90/$G$18))))*$G$23*(1-(SQRT(2)*Vin_rms_min*(SIN($Q45)/Vout))))))","v":0.303667709073957},{"$f":"(H$5*((90/$G$18)*(90/$G$18))/2)*(1+(SQRT(1+(4/(H$5*((90/$G$18)*(90/$G$18))))*$H$23*(1-(SQRT(2)*Vin_rms_min*(SIN($Q45)/Vout))))))","v":0.293371923082703},{"$f":"(I$5*((90/$G$18)*(90/$G$18))/2)*(1+(SQRT(1+(4/(I$5*((90/$G$18)*(90/$G$18))))*$I$23*(1-(SQRT(2)*Vin_rms_min*(SIN($Q45)/Vout))))))","v":0.287094905385766},{"$f":"(J$5*((90/$G$18)*(90/$G$18))/2)*(1+(SQRT(1+(4/(J$5*((90/$G$18)*(90/$G$18))))*$J$23*(1-(SQRT(2)*Vin_rms_min*(SIN($Q45)/Vout))))))","v":0.270328719723183},{"$f":"(K$5*((90/$G$18)*(90/$G$18))/2)*(1+(SQRT(1+(4/(K$5*((90/$G$18)*(90/$G$18))))*$K$23*(1-(SQRT(2)*Vin_rms_min*(SIN($Q45)/Vout))))))","v":0.405493079584775},{"$f":"(L$5*((90/$G$18)*(90/$G$18))/2)*(1+(SQRT(1+(4/(L$5*((90/$G$18)*(90/$G$18))))*$L$23*(1-(SQRT(2)*Vin_rms_min*(SIN($Q45)/Vout))))))","v":0.540657439446367},null,{"$f":"R45*ABS(1/(Vout/(SQRT(2)*$C$25*SIN($Q45))))","v":0.0359199042971973},{"$f":"S45*ABS(1/(Vout/(SQRT(2)*$C$25*SIN($Q45))))","v":0.0347020479482359},{"$f":"T45*ABS(1/(Vout/(SQRT(2)*$C$25*SIN($Q45))))","v":0.0339595591415288},{"$f":"U45*ABS(1/(Vout/(SQRT(2)*$C$25*SIN($Q45))))","v":0.0319763394364586},{"$f":"V45*ABS(1/(Vout/(SQRT(2)*$C$25*SIN($Q45))))","v":0.0479645091546879},{"$f":"W45*ABS(1/(Vout/(SQRT(2)*$C$25*SIN($Q45))))","v":0.0639526788729172},null,{"$f":"1/(0.0000128*(R45+Y45+$G$23))","v":40487.9257405208},{"$f":"1/(0.0000128*(S45+Z45+$H$23))","v":86991.7206377965},{"$f":"1/(0.0000128*(T45+AA45+$I$23))","v":113710.053618167},{"$f":"1/(0.0000128*(U45+AB45+$J$23))","v":258431.004155784},{"$f":"1/(0.0000128*(V45+AC45+$K$23))","v":172287.336103856},{"$f":"1/(0.0000128*(W45+AD45+$L$23))","v":129215.502077892}]
["Maximum Input Power Drawn from the Line:","PIN",{"$f":"Pout/eff","v":54.9450549450549},"W",null,null,null,null,null,null,null,null,null,null,null,null,{"$f":"Q45+0.01","v":0.4},{"$f":"(G$5*((90/$G$18)*(90/$G$18))/2)*(1+(SQRT(1+(4/(G$5*((90/$G$18)*(90/$G$18))))*$G$23*(1-(SQRT(2)*Vin_rms_min*(SIN($Q46)/Vout))))))","v":0.30322116013752},{"$f":"(H$5*((90/$G$18)*(90/$G$18))/2)*(1+(SQRT(1+(4/(H$5*((90/$G$18)*(90/$G$18))))*$H$23*(1-(SQRT(2)*Vin_rms_min*(SIN($Q46)/Vout))))))","v":0.293001826532784},{"$f":"(I$5*((90/$G$18)*(90/$G$18))/2)*(1+(SQRT(1+(4/(I$5*((90/$G$18)*(90/$G$18))))*$I$23*(1-(SQRT(2)*Vin_rms_min*(SIN($Q46)/Vout))))))","v":0.286771080674759},{"$f":"(J$5*((90/$G$18)*(90/$G$18))/2)*(1+(SQRT(1+(4/(J$5*((90/$G$18)*(90/$G$18))))*$J$23*(1-(SQRT(2)*Vin_rms_min*(SIN($Q46)/Vout))))))","v":0.270328719723183},{"$f":"(K$5*((90/$G$18)*(90/$G$18))/2)*(1+(SQRT(1+(4/(K$5*((90/$G$18)*(90/$G$18))))*$K$23*(1-(SQRT(2)*Vin_rms_min*(SIN($Q46)/Vout))))))","v":0.405493079584775},{"$f":"(L$5*((90/$G$18)*(90/$G$18))/2)*(1+(SQRT(1+(4/(L$5*((90/$G$18)*(90/$G$18))))*$L$23*(1-(SQRT(2)*Vin_rms_min*(SIN($Q46)/Vout))))))","v":0.540657439446367},null,{"$f":"R46*ABS(1/(Vout/(SQRT(2)*$C$25*SIN($Q46))))","v":0.036737837379828},{"$f":"S46*ABS(1/(Vout/(SQRT(2)*$C$25*SIN($Q46))))","v":0.0354996776948946},{"$f":"T46*ABS(1/(Vout/(SQRT(2)*$C$25*SIN($Q46))))","v":0.0347447695348461},{"$f":"U46*ABS(1/(Vout/(SQRT(2)*$C$25*SIN($Q46))))","v":0.0327526368535206},{"$f":"V46*ABS(1/(Vout/(SQRT(2)*$C$25*SIN($Q46))))","v":0.0491289552802808},{"$f":"W46*ABS(1/(Vout/(SQRT(2)*$C$25*SIN($Q46))))","v":0.0655052737070411},null,{"$f":"1/(0.0000128*(R46+Y46+$G$23))","v":40480.1346041538},{"$f":"1/(0.0000128*(S46+Z46+$H$23))","v":86950.3274423047},{"$f":"1/(0.0000128*(T46+AA46+$I$23))","v":113633.743827407},{"$f":"1/(0.0000128*(U46+AB46+$J$23))","v":257769.071916596},{"$f":"1/(0.0000128*(V46+AC46+$K$23))","v":171846.047944398},{"$f":"1/(0.0000128*(W46+AD46+$L$23))","v":128884.535958298}]
["Minimum Equivalent Input Resistance","RIN(min)",{"$f":"Vin_rms_min^2/Pin","v":220.22},"W",null,null,null,null,null,null,null,null,null,null,null,null,{"$f":"Q46+0.01","v":0.41},{"$f":"(G$5*((90/$G$18)*(90/$G$18))/2)*(1+(SQRT(1+(4/(G$5*((90/$G$18)*(90/$G$18))))*$G$23*(1-(SQRT(2)*Vin_rms_min*(SIN($Q47)/Vout))))))","v":0.302775776624771},{"$f":"(H$5*((90/$G$18)*(90/$G$18))/2)*(1+(SQRT(1+(4/(H$5*((90/$G$18)*(90/$G$18))))*$H$23*(1-(SQRT(2)*Vin_rms_min*(SIN($Q47)/Vout))))))","v":0.29263272092464},{"$f":"(I$5*((90/$G$18)*(90/$G$18))/2)*(1+(SQRT(1+(4/(I$5*((90/$G$18)*(90/$G$18))))*$I$23*(1-(SQRT(2)*Vin_rms_min*(SIN($Q47)/Vout))))))","v":0.286448146107093},{"$f":"(J$5*((90/$G$18)*(90/$G$18))/2)*(1+(SQRT(1+(4/(J$5*((90/$G$18)*(90/$G$18))))*$J$23*(1-(SQRT(2)*Vin_rms_min*(SIN($Q47)/Vout))))))","v":0.270328719723183},{"$f":"(K$5*((90/$G$18)*(90/$G$18))/2)*(1+(SQRT(1+(4/(K$5*((90/$G$18)*(90/$G$18))))*$K$23*(1-(SQRT(2)*Vin_rms_min*(SIN($Q47)/Vout))))))","v":0.405493079584775},{"$f":"(L$5*((90/$G$18)*(90/$G$18))/2)*(1+(SQRT(1+(4/(L$5*((90/$G$18)*(90/$G$18))))*$L$23*(1-(SQRT(2)*Vin_rms_min*(SIN($Q47)/Vout))))))","v":0.540657439446367},null,{"$f":"R47*ABS(1/(Vout/(SQRT(2)*$C$25*SIN($Q47))))","v":0.0375496819624966},{"$f":"S47*ABS(1/(Vout/(SQRT(2)*$C$25*SIN($Q47))))","v":0.0362917592848188},{"$f":"T47*ABS(1/(Vout/(SQRT(2)*$C$25*SIN($Q47))))","v":0.0355247599559394},{"$f":"U47*ABS(1/(Vout/(SQRT(2)*$C$25*SIN($Q47))))","v":0.033525659034191},{"$f":"V47*ABS(1/(Vout/(SQRT(2)*$C$25*SIN($Q47))))","v":0.0502884885512864},{"$f":"W47*ABS(1/(Vout/(SQRT(2)*$C$25*SIN($Q47))))","v":0.0670513180683819},null,{"$f":"1/(0.0000128*(R47+Y47+$G$23))","v":40472.449685856},{"$f":"1/(0.0000128*(S47+Z47+$H$23))","v":86909.4142166382},{"$f":"1/(0.0000128*(T47+AA47+$I$23))","v":113558.251075722},{"$f":"1/(0.0000128*(U47+AB47+$J$23))","v":257113.293280471},{"$f":"1/(0.0000128*(V47+AC47+$K$23))","v":171408.86218698},{"$f":"1/(0.0000128*(W47+AD47+$L$23))","v":128556.646640235}]
["Maximum RMS AC Line Current:","IIN_RMS(max)",{"$f":"Pout/(eff*Vin_rms_min*PF)","v":0.504545959091414},"A",null,null,null,null,null,null,null,null,null,null,null,null,{"$f":"Q47+0.01","v":0.42},{"$f":"(G$5*((90/$G$18)*(90/$G$18))/2)*(1+(SQRT(1+(4/(G$5*((90/$G$18)*(90/$G$18))))*$G$23*(1-(SQRT(2)*Vin_rms_min*(SIN($Q48)/Vout))))))","v":0.302331608837912},{"$f":"(H$5*((90/$G$18)*(90/$G$18))/2)*(1+(SQRT(1+(4/(H$5*((90/$G$18)*(90/$G$18))))*$H$23*(1-(SQRT(2)*Vin_rms_min*(SIN($Q48)/Vout))))))","v":0.292264647860756},{"$f":"(I$5*((90/$G$18)*(90/$G$18))/2)*(1+(SQRT(1+(4/(I$5*((90/$G$18)*(90/$G$18))))*$I$23*(1-(SQRT(2)*Vin_rms_min*(SIN($Q48)/Vout))))))","v":0.286126137993399},{"$f":"(J$5*((90/$G$18)*(90/$G$18))/2)*(1+(SQRT(1+(4/(J$5*((90/$G$18)*(90/$G$18))))*$J$23*(1-(SQRT(2)*Vin_rms_min*(SIN($Q48)/Vout))))))","v":0.270328719723183},{"$f":"(K$5*((90/$G$18)*(90/$G$18))/2)*(1+(SQRT(1+(4/(K$5*((90/$G$18)*(90/$G$18))))*$K$23*(1-(SQRT(2)*Vin_rms_min*(SIN($Q48)/Vout))))))","v":0.405493079584775},{"$f":"(L$5*((90/$G$18)*(90/$G$18))/2)*(1+(SQRT(1+(4/(L$5*((90/$G$18)*(90/$G$18))))*$L$23*(1-(SQRT(2)*Vin_rms_min*(SIN($Q48)/Vout))))))","v":0.540657439446367},null,{"$f":"R48*ABS(1/(Vout/(SQRT(2)*$C$25*SIN($Q48))))","v":0.0383553841601747},{"$f":"S48*ABS(1/(Vout/(SQRT(2)*$C$25*SIN($Q48))))","v":0.0370782363386537},{"$f":"T48*ABS(1/(Vout/(SQRT(2)*$C$25*SIN($Q48))))","v":0.0362994725665212},{"$f":"U48*ABS(1/(Vout/(SQRT(2)*$C$25*SIN($Q48))))","v":0.0342953286768959},{"$f":"V48*ABS(1/(Vout/(SQRT(2)*$C$25*SIN($Q48))))","v":0.0514429930153438},{"$f":"W48*ABS(1/(Vout/(SQRT(2)*$C$25*SIN($Q48))))","v":0.0685906573537918},null,{"$f":"1/(0.0000128*(R48+Y48+$G$23))","v":40464.8709414481},{"$f":"1/(0.0000128*(S48+Z48+$H$23))","v":86868.9810889497},{"$f":"1/(0.0000128*(T48+AA48+$I$23))","v":113483.575860082},{"$f":"1/(0.0000128*(U48+AB48+$J$23))","v":256463.665328859},{"$f":"1/(0.0000128*(V48+AC48+$K$23))","v":170975.776885906},{"$f":"1/(0.0000128*(W48+AD48+$L$23))","v":128231.832664429}]
["Maximum Peak AC Line Current, assuming sinusoidal:","IIN_PEAK(max)",{"$f":"SQRT(2)*Iin_rms_max","v":0.713535738187618},"A",null,null,null,null,null,null,null,null,null,null,null,null,{"$f":"Q48+0.01","v":0.43},{"$f":"(G$5*((90/$G$18)*(90/$G$18))/2)*(1+(SQRT(1+(4/(G$5*((90/$G$18)*(90/$G$18))))*$G$23*(1-(SQRT(2)*Vin_rms_min*(SIN($Q49)/Vout))))))","v":0.301888707194667},{"$f":"(H$5*((90/$G$18)*(90/$G$18))/2)*(1+(SQRT(1+(4/(H$5*((90/$G$18)*(90/$G$18))))*$H$23*(1-(SQRT(2)*Vin_rms_min*(SIN($Q49)/Vout))))))","v":0.291897649027368},{"$f":"(I$5*((90/$G$18)*(90/$G$18))/2)*(1+(SQRT(1+(4/(I$5*((90/$G$18)*(90/$G$18))))*$I$23*(1-(SQRT(2)*Vin_rms_min*(SIN($Q49)/Vout))))))","v":0.28580509270656},{"$f":"(J$5*((90/$G$18)*(90/$G$18))/2)*(1+(SQRT(1+(4/(J$5*((90/$G$18)*(90/$G$18))))*$J$23*(1-(SQRT(2)*Vin_rms_min*(SIN($Q49)/Vout))))))","v":0.270328719723183},{"$f":"(K$5*((90/$G$18)*(90/$G$18))/2)*(1+(SQRT(1+(4/(K$5*((90/$G$18)*(90/$G$18))))*$K$23*(1-(SQRT(2)*Vin_rms_min*(SIN($Q49)/Vout))))))","v":0.405493079584775},{"$f":"(L$5*((90/$G$18)*(90/$G$18))/2)*(1+(SQRT(1+(4/(L$5*((90/$G$18)*(90/$G$18))))*$L$23*(1-(SQRT(2)*Vin_rms_min*(SIN($Q49)/Vout))))))","v":0.540657439446367},null,{"$f":"R49*ABS(1/(Vout/(SQRT(2)*$C$25*SIN($Q49))))","v":0.0391548914695792},{"$f":"S49*ABS(1/(Vout/(SQRT(2)*$C$25*SIN($Q49))))","v":0.037859053669477},{"$f":"T49*ABS(1/(Vout/(SQRT(2)*$C$25*SIN($Q49))))","v":0.0370688506051414},{"$f":"U49*ABS(1/(Vout/(SQRT(2)*$C$25*SIN($Q49))))","v":0.0350615688153125},{"$f":"V49*ABS(1/(Vout/(SQRT(2)*$C$25*SIN($Q49))))","v":0.0525923532229687},{"$f":"W49*ABS(1/(Vout/(SQRT(2)*$C$25*SIN($Q49))))","v":0.070123137630625},null,{"$f":"1/(0.0000128*(R49+Y49+$G$23))","v":40457.3982969836},{"$f":"1/(0.0000128*(S49+Z49+$H$23))","v":86829.0280759627},{"$f":"1/(0.0000128*(T49+AA49+$I$23))","v":113409.718510212},{"$f":"1/(0.0000128*(U49+AB49+$J$23))","v":255820.184636133},{"$f":"1/(0.0000128*(V49+AC49+$K$23))","v":170546.789757422},{"$f":"1/(0.0000128*(W49+AD49+$L$23))","v":127910.092318067}]
["Maximum Average AC Line Current, assuming sinusoidal:","IIN_AVG(max)",{"$f":"(2*Iin_pk_max)/pi","v":0.454250959221136},"A",null,null,null,null,null,null,null,null,null,null,null,null,{"$f":"Q49+0.01","v":0.44},{"$f":"(G$5*((90/$G$18)*(90/$G$18))/2)*(1+(SQRT(1+(4/(G$5*((90/$G$18)*(90/$G$18))))*$G$23*(1-(SQRT(2)*Vin_rms_min*(SIN($Q50)/Vout))))))","v":0.301447122222474},{"$f":"(H$5*((90/$G$18)*(90/$G$18))/2)*(1+(SQRT(1+(4/(H$5*((90/$G$18)*(90/$G$18))))*$H$23*(1-(SQRT(2)*Vin_rms_min*(SIN($Q50)/Vout))))))","v":0.291531766189567},{"$f":"(I$5*((90/$G$18)*(90/$G$18))/2)*(1+(SQRT(1+(4/(I$5*((90/$G$18)*(90/$G$18))))*$I$23*(1-(SQRT(2)*Vin_rms_min*(SIN($Q50)/Vout))))))","v":0.28548504667736},{"$f":"(J$5*((90/$G$18)*(90/$G$18))/2)*(1+(SQRT(1+(4/(J$5*((90/$G$18)*(90/$G$18))))*$J$23*(1-(SQRT(2)*Vin_rms_min*(SIN($Q50)/Vout))))))","v":0.270328719723183},{"$f":"(K$5*((90/$G$18)*(90/$G$18))/2)*(1+(SQRT(1+(4/(K$5*((90/$G$18)*(90/$G$18))))*$K$23*(1-(SQRT(2)*Vin_rms_min*(SIN($Q50)/Vout))))))","v":0.405493079584775},{"$f":"(L$5*((90/$G$18)*(90/$G$18))/2)*(1+(SQRT(1+(4/(L$5*((90/$G$18)*(90/$G$18))))*$L$23*(1-(SQRT(2)*Vin_rms_min*(SIN($Q50)/Vout))))))","v":0.540657439446367},null,{"$f":"R50*ABS(1/(Vout/(SQRT(2)*$C$25*SIN($Q50))))","v":0.0399481527660183},{"$f":"S50*ABS(1/(Vout/(SQRT(2)*$C$25*SIN($Q50))))","v":0.0386341572811329},{"$f":"T50*ABS(1/(Vout/(SQRT(2)*$C$25*SIN($Q50))))","v":0.0378328383863762},{"$f":"U50*ABS(1/(Vout/(SQRT(2)*$C$25*SIN($Q50))))","v":0.0358243028260654},{"$f":"V50*ABS(1/(Vout/(SQRT(2)*$C$25*SIN($Q50))))","v":0.0537364542390981},{"$f":"W50*ABS(1/(Vout/(SQRT(2)*$C$25*SIN($Q50))))","v":0.0716486056521308},null,{"$f":"1/(0.0000128*(R50+Y50+$G$23))","v":40450.031648993},{"$f":"1/(0.0000128*(S50+Z50+$H$23))","v":86789.5550842221},{"$f":"1/(0.0000128*(T50+AA50+$I$23))","v":113336.679190873},{"$f":"1/(0.0000128*(U50+AB50+$J$23))","v":255182.847288181},{"$f":"1/(0.0000128*(V50+AC50+$K$23))","v":170121.898192121},{"$f":"1/(0.0000128*(W50+AD50+$L$23))","v":127591.423644091}]
["Minimum Input Fuse Rating:","IFUSE",{"$f":"1.5*Iin_rms_max","v":0.75681893863712},"A",null,null,null,null,null,null,null,null,null,null,null,null,{"$f":"Q50+0.01","v":0.45},{"$f":"(G$5*((90/$G$18)*(90/$G$18))/2)*(1+(SQRT(1+(4/(G$5*((90/$G$18)*(90/$G$18))))*$G$23*(1-(SQRT(2)*Vin_rms_min*(SIN($Q51)/Vout))))))","v":0.301006904552547},{"$f":"(H$5*((90/$G$18)*(90/$G$18))/2)*(1+(SQRT(1+(4/(H$5*((90/$G$18)*(90/$G$18))))*$H$23*(1-(SQRT(2)*Vin_rms_min*(SIN($Q51)/Vout))))))","v":0.291167041186293},{"$f":"(I$5*((90/$G$18)*(90/$G$18))/2)*(1+(SQRT(1+(4/(I$5*((90/$G$18)*(90/$G$18))))*$I$23*(1-(SQRT(2)*Vin_rms_min*(SIN($Q51)/Vout))))))","v":0.285166036390051},{"$f":"(J$5*((90/$G$18)*(90/$G$18))/2)*(1+(SQRT(1+(4/(J$5*((90/$G$18)*(90/$G$18))))*$J$23*(1-(SQRT(2)*Vin_rms_min*(SIN($Q51)/Vout))))))","v":0.270328719723183},{"$f":"(K$5*((90/$G$18)*(90/$G$18))/2)*(1+(SQRT(1+(4/(K$5*((90/$G$18)*(90/$G$18))))*$K$23*(1-(SQRT(2)*Vin_rms_min*(SIN($Q51)/Vout))))))","v":0.405493079584775},{"$f":"(L$5*((90/$G$18)*(90/$G$18))/2)*(1+(SQRT(1+(4/(L$5*((90/$G$18)*(90/$G$18))))*$L$23*(1-(SQRT(2)*Vin_rms_min*(SIN($Q51)/Vout))))))","v":0.540657439446367},null,{"$f":"R51*ABS(1/(Vout/(SQRT(2)*$C$25*SIN($Q51))))","v":0.0407351182997235},{"$f":"S51*ABS(1/(Vout/(SQRT(2)*$C$25*SIN($Q51))))","v":0.0394034943661352},{"$f":"T51*ABS(1/(Vout/(SQRT(2)*$C$25*SIN($Q51))))","v":0.038591381299641},{"$f":"U51*ABS(1/(Vout/(SQRT(2)*$C$25*SIN($Q51))))","v":0.0365834544363892},{"$f":"V51*ABS(1/(Vout/(SQRT(2)*$C$25*SIN($Q51))))","v":0.0548751816545838},{"$f":"W51*ABS(1/(Vout/(SQRT(2)*$C$25*SIN($Q51))))","v":0.0731669088727784},null,{"$f":"1/(0.0000128*(R51+Y51+$G$23))","v":40442.7708647381},{"$f":"1/(0.0000128*(S51+Z51+$H$23))","v":86750.5619113739},{"$f":"1/(0.0000128*(T51+AA51+$I$23))","v":113264.457904165},{"$f":"1/(0.0000128*(U51+AB51+$J$23))","v":254551.648900641},{"$f":"1/(0.0000128*(V51+AC51+$K$23))","v":169701.099267094},{"$f":"1/(0.0000128*(W51+AD51+$L$23))","v":127275.824450321}]
[{"$f":"IF(Vout>=Vin_pk_max,IF(PF<1,IF(eff<0.97,\"\",\"DO NOT PROCEED. ENTER EFFICIENCY LESS < 0.97\"),\"DO NOT PROCEED. ENTER PF < 1\"),\"DO NOT PROCEED. OUTPUT VOLTAGE MUST BE > RECTIFIED MAXIMUM INPUT VOLTAGE\")","v":""},null,null,null,null,null,null,null,null,null,null,null,null,null,null,null,{"$f":"Q51+0.01","v":0.46},{"$f":"(G$5*((90/$G$18)*(90/$G$18))/2)*(1+(SQRT(1+(4/(G$5*((90/$G$18)*(90/$G$18))))*$G$23*(1-(SQRT(2)*Vin_rms_min*(SIN($Q52)/Vout))))))","v":0.300568104913791},{"$f":"(H$5*((90/$G$18)*(90/$G$18))/2)*(1+(SQRT(1+(4/(H$5*((90/$G$18)*(90/$G$18))))*$H$23*(1-(SQRT(2)*Vin_rms_min*(SIN($Q52)/Vout))))))","v":0.290803515925224},{"$f":"(I$5*((90/$G$18)*(90/$G$18))/2)*(1+(SQRT(1+(4/(I$5*((90/$G$18)*(90/$G$18))))*$I$23*(1-(SQRT(2)*Vin_rms_min*(SIN($Q52)/Vout))))))","v":0.284848098377822},{"$f":"(J$5*((90/$G$18)*(90/$G$18))/2)*(1+(SQRT(1+(4/(J$5*((90/$G$18)*(90/$G$18))))*$J$23*(1-(SQRT(2)*Vin_rms_min*(SIN($Q52)/Vout))))))","v":0.270328719723183},{"$f":"(K$5*((90/$G$18)*(90/$G$18))/2)*(1+(SQRT(1+(4/(K$5*((90/$G$18)*(90/$G$18))))*$K$23*(1-(SQRT(2)*Vin_rms_min*(SIN($Q52)/Vout))))))","v":0.405493079584775},{"$f":"(L$5*((90/$G$18)*(90/$G$18))/2)*(1+(SQRT(1+(4/(L$5*((90/$G$18)*(90/$G$18))))*$L$23*(1-(SQRT(2)*Vin_rms_min*(SIN($Q52)/Vout))))))","v":0.540657439446367},null,{"$f":"R52*ABS(1/(Vout/(SQRT(2)*$C$25*SIN($Q52))))","v":0.0415157396916654},{"$f":"S52*ABS(1/(Vout/(SQRT(2)*$C$25*SIN($Q52))))","v":0.0401670133031428},{"$f":"T52*ABS(1/(Vout/(SQRT(2)*$C$25*SIN($Q52))))","v":0.0393444258076265},{"$f":"U52*ABS(1/(Vout/(SQRT(2)*$C$25*SIN($Q52))))","v":0.0373389477317555},{"$f":"V52*ABS(1/(Vout/(SQRT(2)*$C$25*SIN($Q52))))","v":0.0560084215976333},{"$f":"W52*ABS(1/(Vout/(SQRT(2)*$C$25*SIN($Q52))))","v":0.074677895463511},null,{"$f":"1/(0.0000128*(R52+Y52+$G$23))","v":40435.6157824784},{"$f":"1/(0.0000128*(S52+Z52+$H$23))","v":86712.0482474714},{"$f":"1/(0.0000128*(T52+AA52+$I$23))","v":113193.054491863},{"$f":"1/(0.0000128*(U52+AB52+$J$23))","v":253926.584636789},{"$f":"1/(0.0000128*(V52+AC52+$K$23))","v":169284.389757859},{"$f":"1/(0.0000128*(W52+AD52+$L$23))","v":126963.292318395}]
[null,null,null,null,null,null,null,null,null,null,null,null,null,null,null,null,{"$f":"Q52+0.01","v":0.47},{"$f":"(G$5*((90/$G$18)*(90/$G$18))/2)*(1+(SQRT(1+(4/(G$5*((90/$G$18)*(90/$G$18))))*$G$23*(1-(SQRT(2)*Vin_rms_min*(SIN($Q53)/Vout))))))","v":0.300130774126587},{"$f":"(H$5*((90/$G$18)*(90/$G$18))/2)*(1+(SQRT(1+(4/(H$5*((90/$G$18)*(90/$G$18))))*$H$23*(1-(SQRT(2)*Vin_rms_min*(SIN($Q53)/Vout))))))","v":0.29044123237756},{"$f":"(I$5*((90/$G$18)*(90/$G$18))/2)*(1+(SQRT(1+(4/(I$5*((90/$G$18)*(90/$G$18))))*$I$23*(1-(SQRT(2)*Vin_rms_min*(SIN($Q53)/Vout))))))","v":0.284531269218184},{"$f":"(J$5*((90/$G$18)*(90/$G$18))/2)*(1+(SQRT(1+(4/(J$5*((90/$G$18)*(90/$G$18))))*$J$23*(1-(SQRT(2)*Vin_rms_min*(SIN($Q53)/Vout))))))","v":0.270328719723183},{"$f":"(K$5*((90/$G$18)*(90/$G$18))/2)*(1+(SQRT(1+(4/(K$5*((90/$G$18)*(90/$G$18))))*$K$23*(1-(SQRT(2)*Vin_rms_min*(SIN($Q53)/Vout))))))","v":0.405493079584775},{"$f":"(L$5*((90/$G$18)*(90/$G$18))/2)*(1+(SQRT(1+(4/(L$5*((90/$G$18)*(90/$G$18))))*$L$23*(1-(SQRT(2)*Vin_rms_min*(SIN($Q53)/Vout))))))","v":0.540657439446367},null,{"$f":"R53*ABS(1/(Vout/(SQRT(2)*$C$25*SIN($Q53))))","v":0.0422899699288564},{"$f":"S53*ABS(1/(Vout/(SQRT(2)*$C$25*SIN($Q53))))","v":0.0409246636540059},{"$f":"T53*ABS(1/(Vout/(SQRT(2)*$C$25*SIN($Q53))))","v":0.0400919194443594},{"$f":"U53*ABS(1/(Vout/(SQRT(2)*$C$25*SIN($Q53))))","v":0.0380907071634643},{"$f":"V53*ABS(1/(Vout/(SQRT(2)*$C$25*SIN($Q53))))","v":0.0571360607451964},{"$f":"W53*ABS(1/(Vout/(SQRT(2)*$C$25*SIN($Q53))))","v":0.0761814143269286},null,{"$f":"1/(0.0000128*(R53+Y53+$G$23))","v":40428.5662117476},{"$f":"1/(0.0000128*(S53+Z53+$H$23))","v":86674.0136763107},{"$f":"1/(0.0000128*(T53+AA53+$I$23))","v":113122.468637777},{"$f":"1/(0.0000128*(U53+AB53+$J$23))","v":253307.64922507},{"$f":"1/(0.0000128*(V53+AC53+$K$23))","v":168871.766150047},{"$f":"1/(0.0000128*(W53+AD53+$L$23))","v":126653.824612535}]
["BOOST INDUCTOR DESIGN:",null,null,null,null,null,null,null,null,null,null,null,null,null,null,null,{"$f":"Q53+0.01","v":0.48},{"$f":"(G$5*((90/$G$18)*(90/$G$18))/2)*(1+(SQRT(1+(4/(G$5*((90/$G$18)*(90/$G$18))))*$G$23*(1-(SQRT(2)*Vin_rms_min*(SIN($Q54)/Vout))))))","v":0.299694963096429},{"$f":"(H$5*((90/$G$18)*(90/$G$18))/2)*(1+(SQRT(1+(4/(H$5*((90/$G$18)*(90/$G$18))))*$H$23*(1-(SQRT(2)*Vin_rms_min*(SIN($Q54)/Vout))))))","v":0.290080232572686},{"$f":"(I$5*((90/$G$18)*(90/$G$18))/2)*(1+(SQRT(1+(4/(I$5*((90/$G$18)*(90/$G$18))))*$I$23*(1-(SQRT(2)*Vin_rms_min*(SIN($Q54)/Vout))))))","v":0.284215585528263},{"$f":"(J$5*((90/$G$18)*(90/$G$18))/2)*(1+(SQRT(1+(4/(J$5*((90/$G$18)*(90/$G$18))))*$J$23*(1-(SQRT(2)*Vin_rms_min*(SIN($Q54)/Vout))))))","v":0.270328719723183},{"$f":"(K$5*((90/$G$18)*(90/$G$18))/2)*(1+(SQRT(1+(4/(K$5*((90/$G$18)*(90/$G$18))))*$K$23*(1-(SQRT(2)*Vin_rms_min*(SIN($Q54)/Vout))))))","v":0.405493079584775},{"$f":"(L$5*((90/$G$18)*(90/$G$18))/2)*(1+(SQRT(1+(4/(L$5*((90/$G$18)*(90/$G$18))))*$L$23*(1-(SQRT(2)*Vin_rms_min*(SIN($Q54)/Vout))))))","v":0.540657439446367},null,{"$f":"R54*ABS(1/(Vout/(SQRT(2)*$C$25*SIN($Q54))))","v":0.0430577633591391},{"$f":"S54*ABS(1/(Vout/(SQRT(2)*$C$25*SIN($Q54))))","v":0.041676396160385},{"$f":"T54*ABS(1/(Vout/(SQRT(2)*$C$25*SIN($Q54))))","v":0.0408338108128882},{"$f":"U54*ABS(1/(Vout/(SQRT(2)*$C$25*SIN($Q54))))","v":0.0388386575561989},{"$f":"V54*ABS(1/(Vout/(SQRT(2)*$C$25*SIN($Q54))))","v":0.0582579863342983},{"$f":"W54*ABS(1/(Vout/(SQRT(2)*$C$25*SIN($Q54))))","v":0.0776773151123978},null,{"$f":"1/(0.0000128*(R54+Y54+$G$23))","v":40421.6219336406},{"$f":"1/(0.0000128*(S54+Z54+$H$23))","v":86636.4576767928},{"$f":"1/(0.0000128*(T54+AA54+$I$23))","v":113052.699870144},{"$f":"1/(0.0000128*(U54+AB54+$J$23))","v":252694.836976288},{"$f":"1/(0.0000128*(V54+AC54+$K$23))","v":168463.224650859},{"$f":"1/(0.0000128*(W54+AD54+$L$23))","v":126347.418488144}]
["Maximum ON time when GFF=GFF0","TON(max0)",12.8,"µs",null,null,null,null,null,null,null,null,null,null,null,null,{"$f":"Q54+0.01","v":0.49},{"$f":"(G$5*((90/$G$18)*(90/$G$18))/2)*(1+(SQRT(1+(4/(G$5*((90/$G$18)*(90/$G$18))))*$G$23*(1-(SQRT(2)*Vin_rms_min*(SIN($Q55)/Vout))))))","v":0.299260722807425},{"$f":"(H$5*((90/$G$18)*(90/$G$18))/2)*(1+(SQRT(1+(4/(H$5*((90/$G$18)*(90/$G$18))))*$H$23*(1-(SQRT(2)*Vin_rms_min*(SIN($Q55)/Vout))))))","v":0.289720558592734},{"$f":"(I$5*((90/$G$18)*(90/$G$18))/2)*(1+(SQRT(1+(4/(I$5*((90/$G$18)*(90/$G$18))))*$I$23*(1-(SQRT(2)*Vin_rms_min*(SIN($Q55)/Vout))))))","v":0.283901083960001},{"$f":"(J$5*((90/$G$18)*(90/$G$18))/2)*(1+(SQRT(1+(4/(J$5*((90/$G$18)*(90/$G$18))))*$J$23*(1-(SQRT(2)*Vin_rms_min*(SIN($Q55)/Vout))))))","v":0.270328719723183},{"$f":"(K$5*((90/$G$18)*(90/$G$18))/2)*(1+(SQRT(1+(4/(K$5*((90/$G$18)*(90/$G$18))))*$K$23*(1-(SQRT(2)*Vin_rms_min*(SIN($Q55)/Vout))))))","v":0.405493079584775},{"$f":"(L$5*((90/$G$18)*(90/$G$18))/2)*(1+(SQRT(1+(4/(L$5*((90/$G$18)*(90/$G$18))))*$L$23*(1-(SQRT(2)*Vin_rms_min*(SIN($Q55)/Vout))))))","v":0.540657439446367},null,{"$f":"R55*ABS(1/(Vout/(SQRT(2)*$C$25*SIN($Q55))))","v":0.0438190756854627},{"$f":"S55*ABS(1/(Vout/(SQRT(2)*$C$25*SIN($Q55))))","v":0.0424221627399428},{"$f":"T55*ABS(1/(Vout/(SQRT(2)*$C$25*SIN($Q55))))","v":0.041570049582596},{"$f":"U55*ABS(1/(Vout/(SQRT(2)*$C$25*SIN($Q55))))","v":0.0395827241155433},{"$f":"V55*ABS(1/(Vout/(SQRT(2)*$C$25*SIN($Q55))))","v":0.059374086173315},{"$f":"W55*ABS(1/(Vout/(SQRT(2)*$C$25*SIN($Q55))))","v":0.0791654482310866},null,{"$f":"1/(0.0000128*(R55+Y55+$G$23))","v":40414.7827011123},{"$f":"1/(0.0000128*(S55+Z55+$H$23))","v":86599.3796243138},{"$f":"1/(0.0000128*(T55+AA55+$I$23))","v":112983.747564044},{"$f":"1/(0.0000128*(U55+AB55+$J$23))","v":252088.141800453},{"$f":"1/(0.0000128*(V55+AC55+$K$23))","v":168058.761200302},{"$f":"1/(0.0000128*(W55+AD55+$L$23))","v":126044.070900226}]
["Maximum ON time when GFF=GFF1","TON(max1)",10.98,"µs",null,null,null,null,null,null,null,null,null,null,null,null,{"$f":"Q55+0.01","v":0.5},{"$f":"(G$5*((90/$G$18)*(90/$G$18))/2)*(1+(SQRT(1+(4/(G$5*((90/$G$18)*(90/$G$18))))*$G$23*(1-(SQRT(2)*Vin_rms_min*(SIN($Q56)/Vout))))))","v":0.298828104315653},{"$f":"(H$5*((90/$G$18)*(90/$G$18))/2)*(1+(SQRT(1+(4/(H$5*((90/$G$18)*(90/$G$18))))*$H$23*(1-(SQRT(2)*Vin_rms_min*(SIN($Q56)/Vout))))))","v":0.289362252567029},{"$f":"(I$5*((90/$G$18)*(90/$G$18))/2)*(1+(SQRT(1+(4/(I$5*((90/$G$18)*(90/$G$18))))*$I$23*(1-(SQRT(2)*Vin_rms_min*(SIN($Q56)/Vout))))))","v":0.28358780119527},{"$f":"(J$5*((90/$G$18)*(90/$G$18))/2)*(1+(SQRT(1+(4/(J$5*((90/$G$18)*(90/$G$18))))*$J$23*(1-(SQRT(2)*Vin_rms_min*(SIN($Q56)/Vout))))))","v":0.270328719723183},{"$f":"(K$5*((90/$G$18)*(90/$G$18))/2)*(1+(SQRT(1+(4/(K$5*((90/$G$18)*(90/$G$18))))*$K$23*(1-(SQRT(2)*Vin_rms_min*(SIN($Q56)/Vout))))))","v":0.405493079584775},{"$f":"(L$5*((90/$G$18)*(90/$G$18))/2)*(1+(SQRT(1+(4/(L$5*((90/$G$18)*(90/$G$18))))*$L$23*(1-(SQRT(2)*Vin_rms_min*(SIN($Q56)/Vout))))))","v":0.540657439446367},null,{"$f":"R56*ABS(1/(Vout/(SQRT(2)*$C$25*SIN($Q56))))","v":0.0445738639596471},{"$f":"S56*ABS(1/(Vout/(SQRT(2)*$C$25*SIN($Q56))))","v":0.0431619164821111},{"$f":"T56*ABS(1/(Vout/(SQRT(2)*$C$25*SIN($Q56))))","v":0.0423005864861395},{"$f":"U56*ABS(1/(Vout/(SQRT(2)*$C$25*SIN($Q56))))","v":0.0403228324354617},{"$f":"V56*ABS(1/(Vout/(SQRT(2)*$C$25*SIN($Q56))))","v":0.0604842486531925},{"$f":"W56*ABS(1/(Vout/(SQRT(2)*$C$25*SIN($Q56))))","v":0.0806456648709233},null,{"$f":"1/(0.0000128*(R56+Y56+$G$23))","v":40408.0482392866},{"$f":"1/(0.0000128*(S56+Z56+$H$23))","v":86562.7787921836},{"$f":"1/(0.0000128*(T56+AA56+$I$23))","v":112915.610943848},{"$f":"1/(0.0000128*(U56+AB56+$J$23))","v":251487.557223287},{"$f":"1/(0.0000128*(V56+AC56+$K$23))","v":167658.371482191},{"$f":"1/(0.0000128*(W56+AD56+$L$23))","v":125743.778611643}]
["Feed-Forward Comparator Falling Threshold Switching From GFF1 to GFF0","VFF0_Fall",0.331,"V",null,null,null,null,null,null,null,null,null,null,null,null,{"$f":"Q56+0.01","v":0.51},{"$f":"(G$5*((90/$G$18)*(90/$G$18))/2)*(1+(SQRT(1+(4/(G$5*((90/$G$18)*(90/$G$18))))*$G$23*(1-(SQRT(2)*Vin_rms_min*(SIN($Q57)/Vout))))))","v":0.298397158742371},{"$f":"(H$5*((90/$G$18)*(90/$G$18))/2)*(1+(SQRT(1+(4/(H$5*((90/$G$18)*(90/$G$18))))*$H$23*(1-(SQRT(2)*Vin_rms_min*(SIN($Q57)/Vout))))))","v":0.289005356666426},{"$f":"(I$5*((90/$G$18)*(90/$G$18))/2)*(1+(SQRT(1+(4/(I$5*((90/$G$18)*(90/$G$18))))*$I$23*(1-(SQRT(2)*Vin_rms_min*(SIN($Q57)/Vout))))))","v":0.283275773940889},{"$f":"(J$5*((90/$G$18)*(90/$G$18))/2)*(1+(SQRT(1+(4/(J$5*((90/$G$18)*(90/$G$18))))*$J$23*(1-(SQRT(2)*Vin_rms_min*(SIN($Q57)/Vout))))))","v":0.270328719723183},{"$f":"(K$5*((90/$G$18)*(90/$G$18))/2)*(1+(SQRT(1+(4/(K$5*((90/$G$18)*(90/$G$18))))*$K$23*(1-(SQRT(2)*Vin_rms_min*(SIN($Q57)/Vout))))))","v":0.405493079584775},{"$f":"(L$5*((90/$G$18)*(90/$G$18))/2)*(1+(SQRT(1+(4/(L$5*((90/$G$18)*(90/$G$18))))*$L$23*(1-(SQRT(2)*Vin_rms_min*(SIN($Q57)/Vout))))))","v":0.540657439446367},null,{"$f":"R57*ABS(1/(Vout/(SQRT(2)*$C$25*SIN($Q57))))","v":0.0453220865756376},{"$f":"S57*ABS(1/(Vout/(SQRT(2)*$C$25*SIN($Q57))))","v":0.0438956116434325},{"$f":"T57*ABS(1/(Vout/(SQRT(2)*$C$25*SIN($Q57))))","v":0.0430253733160185},{"$f":"U57*ABS(1/(Vout/(SQRT(2)*$C$25*SIN($Q57))))","v":0.0410589085057387},{"$f":"V57*ABS(1/(Vout/(SQRT(2)*$C$25*SIN($Q57))))","v":0.0615883627586081},{"$f":"W57*ABS(1/(Vout/(SQRT(2)*$C$25*SIN($Q57))))","v":0.0821178170114774},null,{"$f":"1/(0.0000128*(R57+Y57+$G$23))","v":40401.4182457764},{"$f":"1/(0.0000128*(S57+Z57+$H$23))","v":86526.6543530707},{"$f":"1/(0.0000128*(T57+AA57+$I$23))","v":112848.289085687},{"$f":"1/(0.0000128*(U57+AB57+$J$23))","v":250893.076402397},{"$f":"1/(0.0000128*(V57+AC57+$K$23))","v":167262.050934931},{"$f":"1/(0.0000128*(W57+AD57+$L$23))","v":125446.538201198}]
["Initial ZCD/CS Pin Divider Ratio ","KZC_initial",401,null,{"$f":"IF(Lbst>C59,\"DECREASE BOOST INDUCTANCE TO LEAST THAN RECOMMENDED MAXIMUM VALUE\",\"\")","v":""},null,null,null,null,null,null,null,null,null,null,null,{"$f":"Q57+0.01","v":0.52},{"$f":"(G$5*((90/$G$18)*(90/$G$18))/2)*(1+(SQRT(1+(4/(G$5*((90/$G$18)*(90/$G$18))))*$G$23*(1-(SQRT(2)*Vin_rms_min*(SIN($Q58)/Vout))))))","v":0.297967937267088},{"$f":"(H$5*((90/$G$18)*(90/$G$18))/2)*(1+(SQRT(1+(4/(H$5*((90/$G$18)*(90/$G$18))))*$H$23*(1-(SQRT(2)*Vin_rms_min*(SIN($Q58)/Vout))))))","v":0.288649913097532},{"$f":"(I$5*((90/$G$18)*(90/$G$18))/2)*(1+(SQRT(1+(4/(I$5*((90/$G$18)*(90/$G$18))))*$I$23*(1-(SQRT(2)*Vin_rms_min*(SIN($Q58)/Vout))))))","v":0.282965038923554},{"$f":"(J$5*((90/$G$18)*(90/$G$18))/2)*(1+(SQRT(1+(4/(J$5*((90/$G$18)*(90/$G$18))))*$J$23*(1-(SQRT(2)*Vin_rms_min*(SIN($Q58)/Vout))))))","v":0.270328719723183},{"$f":"(K$5*((90/$G$18)*(90/$G$18))/2)*(1+(SQRT(1+(4/(K$5*((90/$G$18)*(90/$G$18))))*$K$23*(1-(SQRT(2)*Vin_rms_min*(SIN($Q58)/Vout))))))","v":0.405493079584775},{"$f":"(L$5*((90/$G$18)*(90/$G$18))/2)*(1+(SQRT(1+(4/(L$5*((90/$G$18)*(90/$G$18))))*$L$23*(1-(SQRT(2)*Vin_rms_min*(SIN($Q58)/Vout))))))","v":0.540657439446367},null,{"$f":"R58*ABS(1/(Vout/(SQRT(2)*$C$25*SIN($Q58))))","v":0.046063703262251},{"$f":"S58*ABS(1/(Vout/(SQRT(2)*$C$25*SIN($Q58))))","v":0.0446232036424809},{"$f":"T58*ABS(1/(Vout/(SQRT(2)*$C$25*SIN($Q58))))","v":0.043744362920774},{"$f":"U58*ABS(1/(Vout/(SQRT(2)*$C$25*SIN($Q58))))","v":0.0417908787193808},{"$f":"V58*ABS(1/(Vout/(SQRT(2)*$C$25*SIN($Q58))))","v":0.0626863180790713},{"$f":"W58*ABS(1/(Vout/(SQRT(2)*$C$25*SIN($Q58))))","v":0.0835817574387617},null,{"$f":"1/(0.0000128*(R58+Y58+$G$23))","v":40394.8923910146},{"$f":"1/(0.0000128*(S58+Z58+$H$23))","v":86491.0053804763},{"$f":"1/(0.0000128*(T58+AA58+$I$23))","v":112781.780919955},{"$f":"1/(0.0000128*(U58+AB58+$J$23))","v":250304.692143119},{"$f":"1/(0.0000128*(V58+AC58+$K$23))","v":166869.794762079},{"$f":"1/(0.0000128*(W58+AD58+$L$23))","v":125152.34607156}]
["Recommended Maximum Boost Inductor Value:","LBST(recommended)",{"$f":"MIN(Vin_rms_min^2*Ton_max0/(2*Pin),(Kzc_initial*VFF0)^2*Ton_max1/(4*Pin))","v":880.1535997972},"\u009dµH",null,null,null,null,null,null,null,null,null,null,null,null,{"$f":"Q58+0.01","v":0.53},{"$f":"(G$5*((90/$G$18)*(90/$G$18))/2)*(1+(SQRT(1+(4/(G$5*((90/$G$18)*(90/$G$18))))*$G$23*(1-(SQRT(2)*Vin_rms_min*(SIN($Q59)/Vout))))))","v":0.297540491120489},{"$f":"(H$5*((90/$G$18)*(90/$G$18))/2)*(1+(SQRT(1+(4/(H$5*((90/$G$18)*(90/$G$18))))*$H$23*(1-(SQRT(2)*Vin_rms_min*(SIN($Q59)/Vout))))))","v":0.288295964096815},{"$f":"(I$5*((90/$G$18)*(90/$G$18))/2)*(1+(SQRT(1+(4/(I$5*((90/$G$18)*(90/$G$18))))*$I$23*(1-(SQRT(2)*Vin_rms_min*(SIN($Q59)/Vout))))))","v":0.282655632884677},{"$f":"(J$5*((90/$G$18)*(90/$G$18))/2)*(1+(SQRT(1+(4/(J$5*((90/$G$18)*(90/$G$18))))*$J$23*(1-(SQRT(2)*Vin_rms_min*(SIN($Q59)/Vout))))))","v":0.270328719723183},{"$f":"(K$5*((90/$G$18)*(90/$G$18))/2)*(1+(SQRT(1+(4/(K$5*((90/$G$18)*(90/$G$18))))*$K$23*(1-(SQRT(2)*Vin_rms_min*(SIN($Q59)/Vout))))))","v":0.405493079584775},{"$f":"(L$5*((90/$G$18)*(90/$G$18))/2)*(1+(SQRT(1+(4/(L$5*((90/$G$18)*(90/$G$18))))*$L$23*(1-(SQRT(2)*Vin_rms_min*(SIN($Q59)/Vout))))))","v":0.540657439446367},null,{"$f":"R59*ABS(1/(Vout/(SQRT(2)*$C$25*SIN($Q59))))","v":0.046798675075415},{"$f":"S59*ABS(1/(Vout/(SQRT(2)*$C$25*SIN($Q59))))","v":0.0453446490543597},{"$f":"T59*ABS(1/(Vout/(SQRT(2)*$C$25*SIN($Q59))))","v":0.0444575092008205},{"$f":"U59*ABS(1/(Vout/(SQRT(2)*$C$25*SIN($Q59))))","v":0.0425186698799767},{"$f":"V59*ABS(1/(Vout/(SQRT(2)*$C$25*SIN($Q59))))","v":0.063778004819965},{"$f":"W59*ABS(1/(Vout/(SQRT(2)*$C$25*SIN($Q59))))","v":0.0850373397599533},null,{"$f":"1/(0.0000128*(R59+Y59+$G$23))","v":40388.4703185955},{"$f":"1/(0.0000128*(S59+Z59+$H$23))","v":86455.8308502343},{"$f":"1/(0.0000128*(T59+AA59+$I$23))","v":112716.085233835},{"$f":"1/(0.0000128*(U59+AB59+$J$23))","v":249722.396914035},{"$f":"1/(0.0000128*(V59+AC59+$K$23))","v":166481.59794269},{"$f":"1/(0.0000128*(W59+AD59+$L$23))","v":124861.198457017}]
["Actual Boost Inductor Value Used:","LBST(actual)",680,"\u009dµH",null,null,null,null,null,null,null,null,null,null,null,null,{"$f":"Q59+0.01","v":0.54},{"$f":"(G$5*((90/$G$18)*(90/$G$18))/2)*(1+(SQRT(1+(4/(G$5*((90/$G$18)*(90/$G$18))))*$G$23*(1-(SQRT(2)*Vin_rms_min*(SIN($Q60)/Vout))))))","v":0.29711487157721},{"$f":"(H$5*((90/$G$18)*(90/$G$18))/2)*(1+(SQRT(1+(4/(H$5*((90/$G$18)*(90/$G$18))))*$H$23*(1-(SQRT(2)*Vin_rms_min*(SIN($Q60)/Vout))))))","v":0.28794355192461},{"$f":"(I$5*((90/$G$18)*(90/$G$18))/2)*(1+(SQRT(1+(4/(I$5*((90/$G$18)*(90/$G$18))))*$I$23*(1-(SQRT(2)*Vin_rms_min*(SIN($Q60)/Vout))))))","v":0.28234759257513},{"$f":"(J$5*((90/$G$18)*(90/$G$18))/2)*(1+(SQRT(1+(4/(J$5*((90/$G$18)*(90/$G$18))))*$J$23*(1-(SQRT(2)*Vin_rms_min*(SIN($Q60)/Vout))))))","v":0.270328719723183},{"$f":"(K$5*((90/$G$18)*(90/$G$18))/2)*(1+(SQRT(1+(4/(K$5*((90/$G$18)*(90/$G$18))))*$K$23*(1-(SQRT(2)*Vin_rms_min*(SIN($Q60)/Vout))))))","v":0.405493079584775},{"$f":"(L$5*((90/$G$18)*(90/$G$18))/2)*(1+(SQRT(1+(4/(L$5*((90/$G$18)*(90/$G$18))))*$L$23*(1-(SQRT(2)*Vin_rms_min*(SIN($Q60)/Vout))))))","v":0.540657439446367},null,{"$f":"R60*ABS(1/(Vout/(SQRT(2)*$C$25*SIN($Q60))))","v":0.047526964389903},{"$f":"S60*ABS(1/(Vout/(SQRT(2)*$C$25*SIN($Q60))))","v":0.0460599056047816},{"$f":"T60*ABS(1/(Vout/(SQRT(2)*$C$25*SIN($Q60))))","v":0.0451647671039107},{"$f":"U60*ABS(1/(Vout/(SQRT(2)*$C$25*SIN($Q60))))","v":0.0432422092090166},{"$f":"V60*ABS(1/(Vout/(SQRT(2)*$C$25*SIN($Q60))))","v":0.0648633138135248},{"$f":"W60*ABS(1/(Vout/(SQRT(2)*$C$25*SIN($Q60))))","v":0.0864844184180331},null,{"$f":"1/(0.0000128*(R60+Y60+$G$23))","v":40382.1516456279},{"$f":"1/(0.0000128*(S60+Z60+$H$23))","v":86421.1296420401},{"$f":"1/(0.0000128*(T60+AA60+$I$23))","v":112651.200673852},{"$f":"1/(0.0000128*(U60+AB60+$J$23))","v":249146.182862162},{"$f":"1/(0.0000128*(V60+AC60+$K$23))","v":166097.455241442},{"$f":"1/(0.0000128*(W60+AD60+$L$23))","v":124573.091431081}]
["DC resistance Value for Boost Inductor","DCR",0.437,"W",null,null,null,null,null,null,null,null,null,null,null,null,{"$f":"Q60+0.01","v":0.55},{"$f":"(G$5*((90/$G$18)*(90/$G$18))/2)*(1+(SQRT(1+(4/(G$5*((90/$G$18)*(90/$G$18))))*$G$23*(1-(SQRT(2)*Vin_rms_min*(SIN($Q61)/Vout))))))","v":0.296691129948476},{"$f":"(H$5*((90/$G$18)*(90/$G$18))/2)*(1+(SQRT(1+(4/(H$5*((90/$G$18)*(90/$G$18))))*$H$23*(1-(SQRT(2)*Vin_rms_min*(SIN($Q61)/Vout))))))","v":0.287592718858992},{"$f":"(I$5*((90/$G$18)*(90/$G$18))/2)*(1+(SQRT(1+(4/(I$5*((90/$G$18)*(90/$G$18))))*$I$23*(1-(SQRT(2)*Vin_rms_min*(SIN($Q61)/Vout))))))","v":0.282040954749899},{"$f":"(J$5*((90/$G$18)*(90/$G$18))/2)*(1+(SQRT(1+(4/(J$5*((90/$G$18)*(90/$G$18))))*$J$23*(1-(SQRT(2)*Vin_rms_min*(SIN($Q61)/Vout))))))","v":0.270328719723183},{"$f":"(K$5*((90/$G$18)*(90/$G$18))/2)*(1+(SQRT(1+(4/(K$5*((90/$G$18)*(90/$G$18))))*$K$23*(1-(SQRT(2)*Vin_rms_min*(SIN($Q61)/Vout))))))","v":0.405493079584775},{"$f":"(L$5*((90/$G$18)*(90/$G$18))/2)*(1+(SQRT(1+(4/(L$5*((90/$G$18)*(90/$G$18))))*$L$23*(1-(SQRT(2)*Vin_rms_min*(SIN($Q61)/Vout))))))","v":0.540657439446367},null,{"$f":"R61*ABS(1/(Vout/(SQRT(2)*$C$25*SIN($Q61))))","v":0.0482485348905682},{"$f":"S61*ABS(1/(Vout/(SQRT(2)*$C$25*SIN($Q61))))","v":0.0467689321637326},{"$f":"T61*ABS(1/(Vout/(SQRT(2)*$C$25*SIN($Q61))))","v":0.0458660926202373},{"$f":"U61*ABS(1/(Vout/(SQRT(2)*$C$25*SIN($Q61))))","v":0.0439614243531706},{"$f":"V61*ABS(1/(Vout/(SQRT(2)*$C$25*SIN($Q61))))","v":0.065942136529756},{"$f":"W61*ABS(1/(Vout/(SQRT(2)*$C$25*SIN($Q61))))","v":0.0879228487063413},null,{"$f":"1/(0.0000128*(R61+Y61+$G$23))","v":40375.9359630982},{"$f":"1/(0.0000128*(S61+Z61+$H$23))","v":86386.9005410059},{"$f":"1/(0.0000128*(T61+AA61+$I$23))","v":112587.125748454},{"$f":"1/(0.0000128*(U61+AB61+$J$23))","v":248576.041827835},{"$f":"1/(0.0000128*(V61+AC61+$K$23))","v":165717.361218557},{"$f":"1/(0.0000128*(W61+AD61+$L$23))","v":124288.020913917}]
["Actual Maximum Inductor Peak Current:","IL_PEAK(max)",{"$f":"MAX(Vin_pk_min*Ton_max0/Lbst,Kzc_initial*VFF0*Ton_max1/Lbst)","v":2.92825396444311},"A",null,null,null,null,null,null,null,null,null,null,null,null,{"$f":"Q61+0.01","v":0.56},{"$f":"(G$5*((90/$G$18)*(90/$G$18))/2)*(1+(SQRT(1+(4/(G$5*((90/$G$18)*(90/$G$18))))*$G$23*(1-(SQRT(2)*Vin_rms_min*(SIN($Q62)/Vout))))))","v":0.29626931757458},{"$f":"(H$5*((90/$G$18)*(90/$G$18))/2)*(1+(SQRT(1+(4/(H$5*((90/$G$18)*(90/$G$18))))*$H$23*(1-(SQRT(2)*Vin_rms_min*(SIN($Q62)/Vout))))))","v":0.28724350718956},{"$f":"(I$5*((90/$G$18)*(90/$G$18))/2)*(1+(SQRT(1+(4/(I$5*((90/$G$18)*(90/$G$18))))*$I$23*(1-(SQRT(2)*Vin_rms_min*(SIN($Q62)/Vout))))))","v":0.281735756162649},{"$f":"(J$5*((90/$G$18)*(90/$G$18))/2)*(1+(SQRT(1+(4/(J$5*((90/$G$18)*(90/$G$18))))*$J$23*(1-(SQRT(2)*Vin_rms_min*(SIN($Q62)/Vout))))))","v":0.270328719723183},{"$f":"(K$5*((90/$G$18)*(90/$G$18))/2)*(1+(SQRT(1+(4/(K$5*((90/$G$18)*(90/$G$18))))*$K$23*(1-(SQRT(2)*Vin_rms_min*(SIN($Q62)/Vout))))))","v":0.405493079584775},{"$f":"(L$5*((90/$G$18)*(90/$G$18))/2)*(1+(SQRT(1+(4/(L$5*((90/$G$18)*(90/$G$18))))*$L$23*(1-(SQRT(2)*Vin_rms_min*(SIN($Q62)/Vout))))))","v":0.540657439446367},null,{"$f":"R62*ABS(1/(Vout/(SQRT(2)*$C$25*SIN($Q62))))","v":0.0489633515630765},{"$f":"S62*ABS(1/(Vout/(SQRT(2)*$C$25*SIN($Q62))))","v":0.0474716887387202},{"$f":"T62*ABS(1/(Vout/(SQRT(2)*$C$25*SIN($Q62))))","v":0.0465614427771733},{"$f":"U62*ABS(1/(Vout/(SQRT(2)*$C$25*SIN($Q62))))","v":0.0446762433915238},{"$f":"V62*ABS(1/(Vout/(SQRT(2)*$C$25*SIN($Q62))))","v":0.0670143650872857},{"$f":"W62*ABS(1/(Vout/(SQRT(2)*$C$25*SIN($Q62))))","v":0.0893524867830476},null,{"$f":"1/(0.0000128*(R62+Y62+$G$23))","v":40369.8228362446},{"$f":"1/(0.0000128*(S62+Z62+$H$23))","v":86353.1422392437},{"$f":"1/(0.0000128*(T62+AA62+$I$23))","v":112523.858830621},{"$f":"1/(0.0000128*(U62+AB62+$J$23))","v":248011.965359261},{"$f":"1/(0.0000128*(V62+AC62+$K$23))","v":165341.310239507},{"$f":"1/(0.0000128*(W62+AD62+$L$23))","v":124005.98267963}]
["Maximum Inductor RMS Current:","IL_RMS(max)",{"$f":"IL_pk_max/SQRT(6)","v":1.19545467502793},"A",null,null,null,null,null,null,null,null,null,null,null,null,{"$f":"Q62+0.01","v":0.57},{"$f":"(G$5*((90/$G$18)*(90/$G$18))/2)*(1+(SQRT(1+(4/(G$5*((90/$G$18)*(90/$G$18))))*$G$23*(1-(SQRT(2)*Vin_rms_min*(SIN($Q63)/Vout))))))","v":0.295849485817229},{"$f":"(H$5*((90/$G$18)*(90/$G$18))/2)*(1+(SQRT(1+(4/(H$5*((90/$G$18)*(90/$G$18))))*$H$23*(1-(SQRT(2)*Vin_rms_min*(SIN($Q63)/Vout))))))","v":0.286895959211087},{"$f":"(I$5*((90/$G$18)*(90/$G$18))/2)*(1+(SQRT(1+(4/(I$5*((90/$G$18)*(90/$G$18))))*$I$23*(1-(SQRT(2)*Vin_rms_min*(SIN($Q63)/Vout))))))","v":0.281432033560193},{"$f":"(J$5*((90/$G$18)*(90/$G$18))/2)*(1+(SQRT(1+(4/(J$5*((90/$G$18)*(90/$G$18))))*$J$23*(1-(SQRT(2)*Vin_rms_min*(SIN($Q63)/Vout))))))","v":0.270328719723183},{"$f":"(K$5*((90/$G$18)*(90/$G$18))/2)*(1+(SQRT(1+(4/(K$5*((90/$G$18)*(90/$G$18))))*$K$23*(1-(SQRT(2)*Vin_rms_min*(SIN($Q63)/Vout))))))","v":0.405493079584775},{"$f":"(L$5*((90/$G$18)*(90/$G$18))/2)*(1+(SQRT(1+(4/(L$5*((90/$G$18)*(90/$G$18))))*$L$23*(1-(SQRT(2)*Vin_rms_min*(SIN($Q63)/Vout))))))","v":0.540657439446367},null,{"$f":"R63*ABS(1/(Vout/(SQRT(2)*$C$25*SIN($Q63))))","v":0.049671380684145},{"$f":"S63*ABS(1/(Vout/(SQRT(2)*$C$25*SIN($Q63))))","v":0.0481681364676111},{"$f":"T63*ABS(1/(Vout/(SQRT(2)*$C$25*SIN($Q63))))","v":0.0472507756336527},{"$f":"U63*ABS(1/(Vout/(SQRT(2)*$C$25*SIN($Q63))))","v":0.0453865948427679},{"$f":"V63*ABS(1/(Vout/(SQRT(2)*$C$25*SIN($Q63))))","v":0.0680798922641518},{"$f":"W63*ABS(1/(Vout/(SQRT(2)*$C$25*SIN($Q63))))","v":0.0907731896855357},null,{"$f":"1/(0.0000128*(R63+Y63+$G$23))","v":40363.8118049421},{"$f":"1/(0.0000128*(S63+Z63+$H$23))","v":86319.8533374754},{"$f":"1/(0.0000128*(T63+AA63+$I$23))","v":112461.398160495},{"$f":"1/(0.0000128*(U63+AB63+$J$23))","v":247453.944726777},{"$f":"1/(0.0000128*(V63+AC63+$K$23))","v":164969.296484518},{"$f":"1/(0.0000128*(W63+AD63+$L$23))","v":123726.972363389}]
["Boost Inductor Power Dissipation:","PLBST",{"$f":"IL_rms_max^2*DCR","v":0.624521891580158},"W",null,null,null,null,null,null,null,null,null,null,null,null,{"$f":"Q63+0.01","v":0.58},{"$f":"(G$5*((90/$G$18)*(90/$G$18))/2)*(1+(SQRT(1+(4/(G$5*((90/$G$18)*(90/$G$18))))*$G$23*(1-(SQRT(2)*Vin_rms_min*(SIN($Q64)/Vout))))))","v":0.295431686051734},{"$f":"(H$5*((90/$G$18)*(90/$G$18))/2)*(1+(SQRT(1+(4/(H$5*((90/$G$18)*(90/$G$18))))*$H$23*(1-(SQRT(2)*Vin_rms_min*(SIN($Q64)/Vout))))))","v":0.286550117217072},{"$f":"(I$5*((90/$G$18)*(90/$G$18))/2)*(1+(SQRT(1+(4/(I$5*((90/$G$18)*(90/$G$18))))*$I$23*(1-(SQRT(2)*Vin_rms_min*(SIN($Q64)/Vout))))))","v":0.281129823676872},{"$f":"(J$5*((90/$G$18)*(90/$G$18))/2)*(1+(SQRT(1+(4/(J$5*((90/$G$18)*(90/$G$18))))*$J$23*(1-(SQRT(2)*Vin_rms_min*(SIN($Q64)/Vout))))))","v":0.270328719723183},{"$f":"(K$5*((90/$G$18)*(90/$G$18))/2)*(1+(SQRT(1+(4/(K$5*((90/$G$18)*(90/$G$18))))*$K$23*(1-(SQRT(2)*Vin_rms_min*(SIN($Q64)/Vout))))))","v":0.405493079584775},{"$f":"(L$5*((90/$G$18)*(90/$G$18))/2)*(1+(SQRT(1+(4/(L$5*((90/$G$18)*(90/$G$18))))*$L$23*(1-(SQRT(2)*Vin_rms_min*(SIN($Q64)/Vout))))))","v":0.540657439446367},null,{"$f":"R64*ABS(1/(Vout/(SQRT(2)*$C$25*SIN($Q64))))","v":0.0503725898112865},{"$f":"S64*ABS(1/(Vout/(SQRT(2)*$C$25*SIN($Q64))))","v":0.0488582376110598},{"$f":"T64*ABS(1/(Vout/(SQRT(2)*$C$25*SIN($Q64))))","v":0.0479340502741962},{"$f":"U64*ABS(1/(Vout/(SQRT(2)*$C$25*SIN($Q64))))","v":0.0460924076723497},{"$f":"V64*ABS(1/(Vout/(SQRT(2)*$C$25*SIN($Q64))))","v":0.0691386115085245},{"$f":"W64*ABS(1/(Vout/(SQRT(2)*$C$25*SIN($Q64))))","v":0.0921848153446994},null,{"$f":"1/(0.0000128*(R64+Y64+$G$23))","v":40357.9023840984},{"$f":"1/(0.0000128*(S64+Z64+$H$23))","v":86287.0323466697},{"$f":"1/(0.0000128*(T64+AA64+$I$23))","v":112399.741848042},{"$f":"1/(0.0000128*(U64+AB64+$J$23))","v":246901.970936796},{"$f":"1/(0.0000128*(V64+AC64+$K$23))","v":164601.313957864},{"$f":"1/(0.0000128*(W64+AD64+$L$23))","v":123450.985468398}]
[null,null,null,null,null,null,null,null,null,null,null,null,null,null,null,null,{"$f":"Q64+0.01","v":0.59},{"$f":"(G$5*((90/$G$18)*(90/$G$18))/2)*(1+(SQRT(1+(4/(G$5*((90/$G$18)*(90/$G$18))))*$G$23*(1-(SQRT(2)*Vin_rms_min*(SIN($Q65)/Vout))))))","v":0.295015969659056},{"$f":"(H$5*((90/$G$18)*(90/$G$18))/2)*(1+(SQRT(1+(4/(H$5*((90/$G$18)*(90/$G$18))))*$H$23*(1-(SQRT(2)*Vin_rms_min*(SIN($Q65)/Vout))))))","v":0.286206023493167},{"$f":"(I$5*((90/$G$18)*(90/$G$18))/2)*(1+(SQRT(1+(4/(I$5*((90/$G$18)*(90/$G$18))))*$I$23*(1-(SQRT(2)*Vin_rms_min*(SIN($Q65)/Vout))))))","v":0.280829163228846},{"$f":"(J$5*((90/$G$18)*(90/$G$18))/2)*(1+(SQRT(1+(4/(J$5*((90/$G$18)*(90/$G$18))))*$J$23*(1-(SQRT(2)*Vin_rms_min*(SIN($Q65)/Vout))))))","v":0.270328719723183},{"$f":"(K$5*((90/$G$18)*(90/$G$18))/2)*(1+(SQRT(1+(4/(K$5*((90/$G$18)*(90/$G$18))))*$K$23*(1-(SQRT(2)*Vin_rms_min*(SIN($Q65)/Vout))))))","v":0.405493079584775},{"$f":"(L$5*((90/$G$18)*(90/$G$18))/2)*(1+(SQRT(1+(4/(L$5*((90/$G$18)*(90/$G$18))))*$L$23*(1-(SQRT(2)*Vin_rms_min*(SIN($Q65)/Vout))))))","v":0.540657439446367},null,{"$f":"R65*ABS(1/(Vout/(SQRT(2)*$C$25*SIN($Q65))))","v":0.0510669477720647},{"$f":"S65*ABS(1/(Vout/(SQRT(2)*$C$25*SIN($Q65))))","v":0.0495419555445318},{"$f":"T65*ABS(1/(Vout/(SQRT(2)*$C$25*SIN($Q65))))","v":0.0486112268025823},{"$f":"U65*ABS(1/(Vout/(SQRT(2)*$C$25*SIN($Q65))))","v":0.0467936112995745},{"$f":"V65*ABS(1/(Vout/(SQRT(2)*$C$25*SIN($Q65))))","v":0.0701904169493618},{"$f":"W65*ABS(1/(Vout/(SQRT(2)*$C$25*SIN($Q65))))","v":0.093587222599149},null,{"$f":"1/(0.0000128*(R65+Y65+$G$23))","v":40352.0940640599},{"$f":"1/(0.0000128*(S65+Z65+$H$23))","v":86254.6776897068},{"$f":"1/(0.0000128*(T65+AA65+$I$23))","v":112338.887875738},{"$f":"1/(0.0000128*(U65+AB65+$J$23))","v":246356.034745448},{"$f":"1/(0.0000128*(V65+AC65+$K$23))","v":164237.356496965},{"$f":"1/(0.0000128*(W65+AD65+$L$23))","v":123178.017372724}]
[null,null,null,null,null,null,null,null,null,null,null,null,null,null,null,null,{"$f":"Q65+0.01","v":0.6},{"$f":"(G$5*((90/$G$18)*(90/$G$18))/2)*(1+(SQRT(1+(4/(G$5*((90/$G$18)*(90/$G$18))))*$G$23*(1-(SQRT(2)*Vin_rms_min*(SIN($Q66)/Vout))))))","v":0.294602388017702},{"$f":"(H$5*((90/$G$18)*(90/$G$18))/2)*(1+(SQRT(1+(4/(H$5*((90/$G$18)*(90/$G$18))))*$H$23*(1-(SQRT(2)*Vin_rms_min*(SIN($Q66)/Vout))))))","v":0.2858637203105},{"$f":"(I$5*((90/$G$18)*(90/$G$18))/2)*(1+(SQRT(1+(4/(I$5*((90/$G$18)*(90/$G$18))))*$I$23*(1-(SQRT(2)*Vin_rms_min*(SIN($Q66)/Vout))))))","v":0.280530088908291},{"$f":"(J$5*((90/$G$18)*(90/$G$18))/2)*(1+(SQRT(1+(4/(J$5*((90/$G$18)*(90/$G$18))))*$J$23*(1-(SQRT(2)*Vin_rms_min*(SIN($Q66)/Vout))))))","v":0.270328719723183},{"$f":"(K$5*((90/$G$18)*(90/$G$18))/2)*(1+(SQRT(1+(4/(K$5*((90/$G$18)*(90/$G$18))))*$K$23*(1-(SQRT(2)*Vin_rms_min*(SIN($Q66)/Vout))))))","v":0.405493079584775},{"$f":"(L$5*((90/$G$18)*(90/$G$18))/2)*(1+(SQRT(1+(4/(L$5*((90/$G$18)*(90/$G$18))))*$L$23*(1-(SQRT(2)*Vin_rms_min*(SIN($Q66)/Vout))))))","v":0.540657439446367},null,{"$f":"R66*ABS(1/(Vout/(SQRT(2)*$C$25*SIN($Q66))))","v":0.0517544246528633},{"$f":"S66*ABS(1/(Vout/(SQRT(2)*$C$25*SIN($Q66))))","v":0.0502192547499241},{"$f":"T66*ABS(1/(Vout/(SQRT(2)*$C$25*SIN($Q66))))","v":0.0492822663351689},{"$f":"U66*ABS(1/(Vout/(SQRT(2)*$C$25*SIN($Q66))))","v":0.0474901356046639},{"$f":"V66*ABS(1/(Vout/(SQRT(2)*$C$25*SIN($Q66))))","v":0.0712352034069959},{"$f":"W66*ABS(1/(Vout/(SQRT(2)*$C$25*SIN($Q66))))","v":0.0949802712093278},null,{"$f":"1/(0.0000128*(R66+Y66+$G$23))","v":40346.3863110293},{"$f":"1/(0.0000128*(S66+Z66+$H$23))","v":86222.7877030688},{"$f":"1/(0.0000128*(T66+AA66+$I$23))","v":112278.834101278},{"$f":"1/(0.0000128*(U66+AB66+$J$23))","v":245816.126671937},{"$f":"1/(0.0000128*(V66+AC66+$K$23))","v":163877.417781291},{"$f":"1/(0.0000128*(W66+AD66+$L$23))","v":122908.063335968}]
["CURRENT SENSE RESISTOR:",null,null,null,null,null,null,null,null,null,null,null,null,null,null,null,{"$f":"Q66+0.01","v":0.61},{"$f":"(G$5*((90/$G$18)*(90/$G$18))/2)*(1+(SQRT(1+(4/(G$5*((90/$G$18)*(90/$G$18))))*$G$23*(1-(SQRT(2)*Vin_rms_min*(SIN($Q67)/Vout))))))","v":0.294190992495483},{"$f":"(H$5*((90/$G$18)*(90/$G$18))/2)*(1+(SQRT(1+(4/(H$5*((90/$G$18)*(90/$G$18))))*$H$23*(1-(SQRT(2)*Vin_rms_min*(SIN($Q67)/Vout))))))","v":0.285523249918882},{"$f":"(I$5*((90/$G$18)*(90/$G$18))/2)*(1+(SQRT(1+(4/(I$5*((90/$G$18)*(90/$G$18))))*$I$23*(1-(SQRT(2)*Vin_rms_min*(SIN($Q67)/Vout))))))","v":0.280232637377507},{"$f":"(J$5*((90/$G$18)*(90/$G$18))/2)*(1+(SQRT(1+(4/(J$5*((90/$G$18)*(90/$G$18))))*$J$23*(1-(SQRT(2)*Vin_rms_min*(SIN($Q67)/Vout))))))","v":0.270328719723183},{"$f":"(K$5*((90/$G$18)*(90/$G$18))/2)*(1+(SQRT(1+(4/(K$5*((90/$G$18)*(90/$G$18))))*$K$23*(1-(SQRT(2)*Vin_rms_min*(SIN($Q67)/Vout))))))","v":0.405493079584775},{"$f":"(L$5*((90/$G$18)*(90/$G$18))/2)*(1+(SQRT(1+(4/(L$5*((90/$G$18)*(90/$G$18))))*$L$23*(1-(SQRT(2)*Vin_rms_min*(SIN($Q67)/Vout))))))","v":0.540657439446367},null,{"$f":"R67*ABS(1/(Vout/(SQRT(2)*$C$25*SIN($Q67))))","v":0.0524349917871745},{"$f":"S67*ABS(1/(Vout/(SQRT(2)*$C$25*SIN($Q67))))","v":0.0508901008067873},{"$f":"T67*ABS(1/(Vout/(SQRT(2)*$C$25*SIN($Q67))))","v":0.0499471309938676},{"$f":"U67*ABS(1/(Vout/(SQRT(2)*$C$25*SIN($Q67))))","v":0.0481819109357678},{"$f":"V67*ABS(1/(Vout/(SQRT(2)*$C$25*SIN($Q67))))","v":0.0722728664036517},{"$f":"W67*ABS(1/(Vout/(SQRT(2)*$C$25*SIN($Q67))))","v":0.0963638218715356},null,{"$f":"1/(0.0000128*(R67+Y67+$G$23))","v":40340.7785674931},{"$f":"1/(0.0000128*(S67+Z67+$H$23))","v":86191.3606385581},{"$f":"1/(0.0000128*(T67+AA67+$I$23))","v":112219.578260316},{"$f":"1/(0.0000128*(U67+AB67+$J$23))","v":245282.23701159},{"$f":"1/(0.0000128*(V67+AC67+$K$23))","v":163521.49134106},{"$f":"1/(0.0000128*(W67+AD67+$L$23))","v":122641.118505795}]
["Minimum OCP1 Threshold","VZCOCP1(min)",0.45,"V",null,null,null,null,null,null,null,null,null,null,null,null,{"$f":"Q67+0.01","v":0.62},{"$f":"(G$5*((90/$G$18)*(90/$G$18))/2)*(1+(SQRT(1+(4/(G$5*((90/$G$18)*(90/$G$18))))*$G$23*(1-(SQRT(2)*Vin_rms_min*(SIN($Q68)/Vout))))))","v":0.293781834441113},{"$f":"(H$5*((90/$G$18)*(90/$G$18))/2)*(1+(SQRT(1+(4/(H$5*((90/$G$18)*(90/$G$18))))*$H$23*(1-(SQRT(2)*Vin_rms_min*(SIN($Q68)/Vout))))))","v":0.285184654539899},{"$f":"(I$5*((90/$G$18)*(90/$G$18))/2)*(1+(SQRT(1+(4/(I$5*((90/$G$18)*(90/$G$18))))*$I$23*(1-(SQRT(2)*Vin_rms_min*(SIN($Q68)/Vout))))))","v":0.279936845262938},{"$f":"(J$5*((90/$G$18)*(90/$G$18))/2)*(1+(SQRT(1+(4/(J$5*((90/$G$18)*(90/$G$18))))*$J$23*(1-(SQRT(2)*Vin_rms_min*(SIN($Q68)/Vout))))))","v":0.270328719723183},{"$f":"(K$5*((90/$G$18)*(90/$G$18))/2)*(1+(SQRT(1+(4/(K$5*((90/$G$18)*(90/$G$18))))*$K$23*(1-(SQRT(2)*Vin_rms_min*(SIN($Q68)/Vout))))))","v":0.405493079584775},{"$f":"(L$5*((90/$G$18)*(90/$G$18))/2)*(1+(SQRT(1+(4/(L$5*((90/$G$18)*(90/$G$18))))*$L$23*(1-(SQRT(2)*Vin_rms_min*(SIN($Q68)/Vout))))))","v":0.540657439446367},null,{"$f":"R68*ABS(1/(Vout/(SQRT(2)*$C$25*SIN($Q68))))","v":0.0531086217434092},{"$f":"S68*ABS(1/(Vout/(SQRT(2)*$C$25*SIN($Q68))))","v":0.0515544603831528},{"$f":"T68*ABS(1/(Vout/(SQRT(2)*$C$25*SIN($Q68))))","v":0.0506057838987748},{"$f":"U68*ABS(1/(Vout/(SQRT(2)*$C$25*SIN($Q68))))","v":0.0488688681159296},{"$f":"V68*ABS(1/(Vout/(SQRT(2)*$C$25*SIN($Q68))))","v":0.0733033021738944},{"$f":"W68*ABS(1/(Vout/(SQRT(2)*$C$25*SIN($Q68))))","v":0.0977377362318592},null,{"$f":"1/(0.0000128*(R68+Y68+$G$23))","v":40335.2702526597},{"$f":"1/(0.0000128*(S68+Z68+$H$23))","v":86160.3946650409},{"$f":"1/(0.0000128*(T68+AA68+$I$23))","v":112161.117969224},{"$f":"1/(0.0000128*(U68+AB68+$J$23))","v":244754.355848634},{"$f":"1/(0.0000128*(V68+AC68+$K$23))","v":163169.570565756},{"$f":"1/(0.0000128*(W68+AD68+$L$23))","v":122377.177924317}]
["Minimum OCP1 Threshold","VZCOCP1(max)",0.55,"V",{"$f":"IF(Rcs>0.5/IL_pk_max,\"DECREASE Rsense\",\"\")","v":""},null,null,null,null,null,null,null,null,null,null,null,{"$f":"Q68+0.01","v":0.63},{"$f":"(G$5*((90/$G$18)*(90/$G$18))/2)*(1+(SQRT(1+(4/(G$5*((90/$G$18)*(90/$G$18))))*$G$23*(1-(SQRT(2)*Vin_rms_min*(SIN($Q69)/Vout))))))","v":0.29337496517567},{"$f":"(H$5*((90/$G$18)*(90/$G$18))/2)*(1+(SQRT(1+(4/(H$5*((90/$G$18)*(90/$G$18))))*$H$23*(1-(SQRT(2)*Vin_rms_min*(SIN($Q69)/Vout))))))","v":0.284847976359899},{"$f":"(I$5*((90/$G$18)*(90/$G$18))/2)*(1+(SQRT(1+(4/(I$5*((90/$G$18)*(90/$G$18))))*$I$23*(1-(SQRT(2)*Vin_rms_min*(SIN($Q69)/Vout))))))","v":0.279642749149098},{"$f":"(J$5*((90/$G$18)*(90/$G$18))/2)*(1+(SQRT(1+(4/(J$5*((90/$G$18)*(90/$G$18))))*$J$23*(1-(SQRT(2)*Vin_rms_min*(SIN($Q69)/Vout))))))","v":0.270328719723183},{"$f":"(K$5*((90/$G$18)*(90/$G$18))/2)*(1+(SQRT(1+(4/(K$5*((90/$G$18)*(90/$G$18))))*$K$23*(1-(SQRT(2)*Vin_rms_min*(SIN($Q69)/Vout))))))","v":0.405493079584775},{"$f":"(L$5*((90/$G$18)*(90/$G$18))/2)*(1+(SQRT(1+(4/(L$5*((90/$G$18)*(90/$G$18))))*$L$23*(1-(SQRT(2)*Vin_rms_min*(SIN($Q69)/Vout))))))","v":0.540657439446367},null,{"$f":"R69*ABS(1/(Vout/(SQRT(2)*$C$25*SIN($Q69))))","v":0.0537752883122352},{"$f":"S69*ABS(1/(Vout/(SQRT(2)*$C$25*SIN($Q69))))","v":0.0522123012259692},{"$f":"T69*ABS(1/(Vout/(SQRT(2)*$C$25*SIN($Q69))))","v":0.0512581891604633},{"$f":"U69*ABS(1/(Vout/(SQRT(2)*$C$25*SIN($Q69))))","v":0.0495509384500037},{"$f":"V69*ABS(1/(Vout/(SQRT(2)*$C$25*SIN($Q69))))","v":0.0743264076750056},{"$f":"W69*ABS(1/(Vout/(SQRT(2)*$C$25*SIN($Q69))))","v":0.0991018769000075},null,{"$f":"1/(0.0000128*(R69+Y69+$G$23))","v":40329.8607629084},{"$f":"1/(0.0000128*(S69+Z69+$H$23))","v":86129.8878702184},{"$f":"1/(0.0000128*(T69+AA69+$I$23))","v":112103.450727881},{"$f":"1/(0.0000128*(U69+AB69+$J$23))","v":244232.473068675},{"$f":"1/(0.0000128*(V69+AC69+$K$23))","v":162821.64871245},{"$f":"1/(0.0000128*(W69+AD69+$L$23))","v":122116.236534338}]
["Recommanded Current Sense Resistor for OCP1:","RCS(recommanded)",{"$f":"Vzcocp1_min/IL_pk_max","v":0.1536751953431},"W",null,null,null,null,null,null,null,null,null,null,null,null,{"$f":"Q69+0.01","v":0.64},{"$f":"(G$5*((90/$G$18)*(90/$G$18))/2)*(1+(SQRT(1+(4/(G$5*((90/$G$18)*(90/$G$18))))*$G$23*(1-(SQRT(2)*Vin_rms_min*(SIN($Q70)/Vout))))))","v":0.292970435983909},{"$f":"(H$5*((90/$G$18)*(90/$G$18))/2)*(1+(SQRT(1+(4/(H$5*((90/$G$18)*(90/$G$18))))*$H$23*(1-(SQRT(2)*Vin_rms_min*(SIN($Q70)/Vout))))))","v":0.284513257522859},{"$f":"(I$5*((90/$G$18)*(90/$G$18))/2)*(1+(SQRT(1+(4/(I$5*((90/$G$18)*(90/$G$18))))*$I$23*(1-(SQRT(2)*Vin_rms_min*(SIN($Q70)/Vout))))))","v":0.279350385572417},{"$f":"(J$5*((90/$G$18)*(90/$G$18))/2)*(1+(SQRT(1+(4/(J$5*((90/$G$18)*(90/$G$18))))*$J$23*(1-(SQRT(2)*Vin_rms_min*(SIN($Q70)/Vout))))))","v":0.270328719723183},{"$f":"(K$5*((90/$G$18)*(90/$G$18))/2)*(1+(SQRT(1+(4/(K$5*((90/$G$18)*(90/$G$18))))*$K$23*(1-(SQRT(2)*Vin_rms_min*(SIN($Q70)/Vout))))))","v":0.405493079584775},{"$f":"(L$5*((90/$G$18)*(90/$G$18))/2)*(1+(SQRT(1+(4/(L$5*((90/$G$18)*(90/$G$18))))*$L$23*(1-(SQRT(2)*Vin_rms_min*(SIN($Q70)/Vout))))))","v":0.540657439446367},null,{"$f":"R70*ABS(1/(Vout/(SQRT(2)*$C$25*SIN($Q70))))","v":0.0544349664934479},{"$f":"S70*ABS(1/(Vout/(SQRT(2)*$C$25*SIN($Q70))))","v":0.052863592151152},{"$f":"T70*ABS(1/(Vout/(SQRT(2)*$C$25*SIN($Q70))))","v":0.0519043118719373},{"$f":"U70*ABS(1/(Vout/(SQRT(2)*$C$25*SIN($Q70))))","v":0.0502280537315252},{"$f":"V70*ABS(1/(Vout/(SQRT(2)*$C$25*SIN($Q70))))","v":0.0753420805972878},{"$f":"W70*ABS(1/(Vout/(SQRT(2)*$C$25*SIN($Q70))))","v":0.10045610746305},null,{"$f":"1/(0.0000128*(R70+Y70+$G$23))","v":40324.5494722487},{"$f":"1/(0.0000128*(S70+Z70+$H$23))","v":86099.8382624238},{"$f":"1/(0.0000128*(T70+AA70+$I$23))","v":112046.573922487},{"$f":"1/(0.0000128*(U70+AB70+$J$23))","v":243716.578370908},{"$f":"1/(0.0000128*(V70+AC70+$K$23))","v":162477.718913939},{"$f":"1/(0.0000128*(W70+AD70+$L$23))","v":121858.289185454}]
["Actual Value for RCS - Current Sense Resistor:","RCS",0.15,"W",null,null,null,null,null,null,null,null,null,null,null,null,{"$f":"Q70+0.01","v":0.65},{"$f":"(G$5*((90/$G$18)*(90/$G$18))/2)*(1+(SQRT(1+(4/(G$5*((90/$G$18)*(90/$G$18))))*$G$23*(1-(SQRT(2)*Vin_rms_min*(SIN($Q71)/Vout))))))","v":0.292568298105431},{"$f":"(H$5*((90/$G$18)*(90/$G$18))/2)*(1+(SQRT(1+(4/(H$5*((90/$G$18)*(90/$G$18))))*$H$23*(1-(SQRT(2)*Vin_rms_min*(SIN($Q71)/Vout))))))","v":0.284180540123153},{"$f":"(I$5*((90/$G$18)*(90/$G$18))/2)*(1+(SQRT(1+(4/(I$5*((90/$G$18)*(90/$G$18))))*$I$23*(1-(SQRT(2)*Vin_rms_min*(SIN($Q71)/Vout))))))","v":0.279059791014988},{"$f":"(J$5*((90/$G$18)*(90/$G$18))/2)*(1+(SQRT(1+(4/(J$5*((90/$G$18)*(90/$G$18))))*$J$23*(1-(SQRT(2)*Vin_rms_min*(SIN($Q71)/Vout))))))","v":0.270328719723183},{"$f":"(K$5*((90/$G$18)*(90/$G$18))/2)*(1+(SQRT(1+(4/(K$5*((90/$G$18)*(90/$G$18))))*$K$23*(1-(SQRT(2)*Vin_rms_min*(SIN($Q71)/Vout))))))","v":0.405493079584775},{"$f":"(L$5*((90/$G$18)*(90/$G$18))/2)*(1+(SQRT(1+(4/(L$5*((90/$G$18)*(90/$G$18))))*$L$23*(1-(SQRT(2)*Vin_rms_min*(SIN($Q71)/Vout))))))","v":0.540657439446367},null,{"$f":"R71*ABS(1/(Vout/(SQRT(2)*$C$25*SIN($Q71))))","v":0.0550876324823781},{"$f":"S71*ABS(1/(Vout/(SQRT(2)*$C$25*SIN($Q71))))","v":0.0535083030332512},{"$f":"T71*ABS(1/(Vout/(SQRT(2)*$C$25*SIN($Q71))))","v":0.0525441181002569},{"$f":"U71*ABS(1/(Vout/(SQRT(2)*$C$25*SIN($Q71))))","v":0.05090014624953},{"$f":"V71*ABS(1/(Vout/(SQRT(2)*$C$25*SIN($Q71))))","v":0.0763502193742951},{"$f":"W71*ABS(1/(Vout/(SQRT(2)*$C$25*SIN($Q71))))","v":0.10180029249906},null,{"$f":"1/(0.0000128*(R71+Y71+$G$23))","v":40319.3357327892},{"$f":"1/(0.0000128*(S71+Z71+$H$23))","v":86070.2437724447},{"$f":"1/(0.0000128*(T71+AA71+$I$23))","v":111990.484828395},{"$f":"1/(0.0000128*(U71+AB71+$J$23))","v":243206.661280049},{"$f":"1/(0.0000128*(V71+AC71+$K$23))","v":162137.774186699},{"$f":"1/(0.0000128*(W71+AD71+$L$23))","v":121603.330640025}]
["Recommanded Minimum Inductor Saturated Current:","IL_SAT(min)",{"$f":"Vzcocp1_max/Rcs","v":3.66666666666667},"A",null,null,null,null,null,null,null,null,null,null,null,null,{"$f":"Q71+0.01","v":0.66},{"$f":"(G$5*((90/$G$18)*(90/$G$18))/2)*(1+(SQRT(1+(4/(G$5*((90/$G$18)*(90/$G$18))))*$G$23*(1-(SQRT(2)*Vin_rms_min*(SIN($Q72)/Vout))))))","v":0.292168602725701},{"$f":"(H$5*((90/$G$18)*(90/$G$18))/2)*(1+(SQRT(1+(4/(H$5*((90/$G$18)*(90/$G$18))))*$H$23*(1-(SQRT(2)*Vin_rms_min*(SIN($Q72)/Vout))))))","v":0.283849866198195},{"$f":"(I$5*((90/$G$18)*(90/$G$18))/2)*(1+(SQRT(1+(4/(I$5*((90/$G$18)*(90/$G$18))))*$I$23*(1-(SQRT(2)*Vin_rms_min*(SIN($Q72)/Vout))))))","v":0.278771001898239},{"$f":"(J$5*((90/$G$18)*(90/$G$18))/2)*(1+(SQRT(1+(4/(J$5*((90/$G$18)*(90/$G$18))))*$J$23*(1-(SQRT(2)*Vin_rms_min*(SIN($Q72)/Vout))))))","v":0.270328719723183},{"$f":"(K$5*((90/$G$18)*(90/$G$18))/2)*(1+(SQRT(1+(4/(K$5*((90/$G$18)*(90/$G$18))))*$K$23*(1-(SQRT(2)*Vin_rms_min*(SIN($Q72)/Vout))))))","v":0.405493079584775},{"$f":"(L$5*((90/$G$18)*(90/$G$18))/2)*(1+(SQRT(1+(4/(L$5*((90/$G$18)*(90/$G$18))))*$L$23*(1-(SQRT(2)*Vin_rms_min*(SIN($Q72)/Vout))))))","v":0.540657439446367},null,{"$f":"R72*ABS(1/(Vout/(SQRT(2)*$C$25*SIN($Q72))))","v":0.0557332636558438},{"$f":"S72*ABS(1/(Vout/(SQRT(2)*$C$25*SIN($Q72))))","v":0.0541464047947421},{"$f":"T72*ABS(1/(Vout/(SQRT(2)*$C$25*SIN($Q72))))","v":0.0531775748778346},{"$f":"U72*ABS(1/(Vout/(SQRT(2)*$C$25*SIN($Q72))))","v":0.0515671487953266},{"$f":"V72*ABS(1/(Vout/(SQRT(2)*$C$25*SIN($Q72))))","v":0.0773507231929899},{"$f":"W72*ABS(1/(Vout/(SQRT(2)*$C$25*SIN($Q72))))","v":0.103134297590653},null,{"$f":"1/(0.0000128*(R72+Y72+$G$23))","v":40314.2188752185},{"$f":"1/(0.0000128*(S72+Z72+$H$23))","v":86041.1022553722},{"$f":"1/(0.0000128*(T72+AA72+$I$23))","v":111935.180612977},{"$f":"1/(0.0000128*(U72+AB72+$J$23))","v":242702.711157995},{"$f":"1/(0.0000128*(V72+AC72+$K$23))","v":161801.807438664},{"$f":"1/(0.0000128*(W72+AD72+$L$23))","v":121351.355578998}]
["Power Dissipated in RCS:","PRsense",{"$f":"Rcs*(Vin_rms_min/Rin_min)*SQRT(4/3-32*Vin_pk_min/(9*pi*Vout))","v":0.0742178013155073},"W",null,null,null,null,null,null,null,null,null,null,null,null,{"$f":"Q72+0.01","v":0.67},{"$f":"(G$5*((90/$G$18)*(90/$G$18))/2)*(1+(SQRT(1+(4/(G$5*((90/$G$18)*(90/$G$18))))*$G$23*(1-(SQRT(2)*Vin_rms_min*(SIN($Q73)/Vout))))))","v":0.291771400966935},{"$f":"(H$5*((90/$G$18)*(90/$G$18))/2)*(1+(SQRT(1+(4/(H$5*((90/$G$18)*(90/$G$18))))*$H$23*(1-(SQRT(2)*Vin_rms_min*(SIN($Q73)/Vout))))))","v":0.283521277720991},{"$f":"(I$5*((90/$G$18)*(90/$G$18))/2)*(1+(SQRT(1+(4/(I$5*((90/$G$18)*(90/$G$18))))*$I$23*(1-(SQRT(2)*Vin_rms_min*(SIN($Q73)/Vout))))))","v":0.278484054576505},{"$f":"(J$5*((90/$G$18)*(90/$G$18))/2)*(1+(SQRT(1+(4/(J$5*((90/$G$18)*(90/$G$18))))*$J$23*(1-(SQRT(2)*Vin_rms_min*(SIN($Q73)/Vout))))))","v":0.270328719723183},{"$f":"(K$5*((90/$G$18)*(90/$G$18))/2)*(1+(SQRT(1+(4/(K$5*((90/$G$18)*(90/$G$18))))*$K$23*(1-(SQRT(2)*Vin_rms_min*(SIN($Q73)/Vout))))))","v":0.405493079584775},{"$f":"(L$5*((90/$G$18)*(90/$G$18))/2)*(1+(SQRT(1+(4/(L$5*((90/$G$18)*(90/$G$18))))*$L$23*(1-(SQRT(2)*Vin_rms_min*(SIN($Q73)/Vout))))))","v":0.540657439446367},null,{"$f":"R73*ABS(1/(Vout/(SQRT(2)*$C$25*SIN($Q73))))","v":0.0563718385576509},{"$f":"S73*ABS(1/(Vout/(SQRT(2)*$C$25*SIN($Q73))))","v":0.054777869394944},{"$f":"T73*ABS(1/(Vout/(SQRT(2)*$C$25*SIN($Q73))))","v":0.0538046501934089},{"$f":"U73*ABS(1/(Vout/(SQRT(2)*$C$25*SIN($Q73))))","v":0.0522289946692161},{"$f":"V73*ABS(1/(Vout/(SQRT(2)*$C$25*SIN($Q73))))","v":0.0783434920038241},{"$f":"W73*ABS(1/(Vout/(SQRT(2)*$C$25*SIN($Q73))))","v":0.104457989338432},null,{"$f":"1/(0.0000128*(R73+Y73+$G$23))","v":40309.1982092942},{"$f":"1/(0.0000128*(S73+Z73+$H$23))","v":86012.4114924752},{"$f":"1/(0.0000128*(T73+AA73+$I$23))","v":111880.658338505},{"$f":"1/(0.0000128*(U73+AB73+$J$23))","v":242204.717215224},{"$f":"1/(0.0000128*(V73+AC73+$K$23))","v":161469.811476816},{"$f":"1/(0.0000128*(W73+AD73+$L$23))","v":121102.358607612}]
["Recommended Current Sense Filter Capacitor:","CCS_Fliter",10,"pF",null,null,null,null,null,null,null,null,null,null,null,null,{"$f":"Q73+0.01","v":0.68},{"$f":"(G$5*((90/$G$18)*(90/$G$18))/2)*(1+(SQRT(1+(4/(G$5*((90/$G$18)*(90/$G$18))))*$G$23*(1-(SQRT(2)*Vin_rms_min*(SIN($Q74)/Vout))))))","v":0.29137674387883},{"$f":"(H$5*((90/$G$18)*(90/$G$18))/2)*(1+(SQRT(1+(4/(H$5*((90/$G$18)*(90/$G$18))))*$H$23*(1-(SQRT(2)*Vin_rms_min*(SIN($Q74)/Vout))))))","v":0.283194816592565},{"$f":"(I$5*((90/$G$18)*(90/$G$18))/2)*(1+(SQRT(1+(4/(I$5*((90/$G$18)*(90/$G$18))))*$I$23*(1-(SQRT(2)*Vin_rms_min*(SIN($Q74)/Vout))))))","v":0.278198985330532},{"$f":"(J$5*((90/$G$18)*(90/$G$18))/2)*(1+(SQRT(1+(4/(J$5*((90/$G$18)*(90/$G$18))))*$J$23*(1-(SQRT(2)*Vin_rms_min*(SIN($Q74)/Vout))))))","v":0.270328719723183},{"$f":"(K$5*((90/$G$18)*(90/$G$18))/2)*(1+(SQRT(1+(4/(K$5*((90/$G$18)*(90/$G$18))))*$K$23*(1-(SQRT(2)*Vin_rms_min*(SIN($Q74)/Vout))))))","v":0.405493079584775},{"$f":"(L$5*((90/$G$18)*(90/$G$18))/2)*(1+(SQRT(1+(4/(L$5*((90/$G$18)*(90/$G$18))))*$L$23*(1-(SQRT(2)*Vin_rms_min*(SIN($Q74)/Vout))))))","v":0.540657439446367},null,{"$f":"R74*ABS(1/(Vout/(SQRT(2)*$C$25*SIN($Q74))))","v":0.0570033368836489},{"$f":"S74*ABS(1/(Vout/(SQRT(2)*$C$25*SIN($Q74))))","v":0.055402669818571},{"$f":"T74*ABS(1/(Vout/(SQRT(2)*$C$25*SIN($Q74))))","v":0.0544253129827009},{"$f":"U74*ABS(1/(Vout/(SQRT(2)*$C$25*SIN($Q74))))","v":0.0528856176871627},{"$f":"V74*ABS(1/(Vout/(SQRT(2)*$C$25*SIN($Q74))))","v":0.079328426530744},{"$f":"W74*ABS(1/(Vout/(SQRT(2)*$C$25*SIN($Q74))))","v":0.105771235374325},null,{"$f":"1/(0.0000128*(R74+Y74+$G$23))","v":40304.2730243435},{"$f":"1/(0.0000128*(S74+Z74+$H$23))","v":85984.1691930994},{"$f":"1/(0.0000128*(T74+AA74+$I$23))","v":111826.914965062},{"$f":"1/(0.0000128*(U74+AB74+$J$23))","v":241712.668521923},{"$f":"1/(0.0000128*(V74+AC74+$K$23))","v":161141.779014615},{"$f":"1/(0.0000128*(W74+AD74+$L$23))","v":120856.334260962}]
["Recommended Current Sense Filter Resistor:","RCS_Filter",{"$f":"30*ns/Ccs_filter/picoF","v":3000},"W",null,null,null,null,null,null,null,null,null,null,null,null,{"$f":"Q74+0.01","v":0.69},{"$f":"(G$5*((90/$G$18)*(90/$G$18))/2)*(1+(SQRT(1+(4/(G$5*((90/$G$18)*(90/$G$18))))*$G$23*(1-(SQRT(2)*Vin_rms_min*(SIN($Q75)/Vout))))))","v":0.290984682429165},{"$f":"(H$5*((90/$G$18)*(90/$G$18))/2)*(1+(SQRT(1+(4/(H$5*((90/$G$18)*(90/$G$18))))*$H$23*(1-(SQRT(2)*Vin_rms_min*(SIN($Q75)/Vout))))))","v":0.282870524634296},{"$f":"(I$5*((90/$G$18)*(90/$G$18))/2)*(1+(SQRT(1+(4/(I$5*((90/$G$18)*(90/$G$18))))*$I$23*(1-(SQRT(2)*Vin_rms_min*(SIN($Q75)/Vout))))))","v":0.27791583036088},{"$f":"(J$5*((90/$G$18)*(90/$G$18))/2)*(1+(SQRT(1+(4/(J$5*((90/$G$18)*(90/$G$18))))*$J$23*(1-(SQRT(2)*Vin_rms_min*(SIN($Q75)/Vout))))))","v":0.270328719723183},{"$f":"(K$5*((90/$G$18)*(90/$G$18))/2)*(1+(SQRT(1+(4/(K$5*((90/$G$18)*(90/$G$18))))*$K$23*(1-(SQRT(2)*Vin_rms_min*(SIN($Q75)/Vout))))))","v":0.405493079584775},{"$f":"(L$5*((90/$G$18)*(90/$G$18))/2)*(1+(SQRT(1+(4/(L$5*((90/$G$18)*(90/$G$18))))*$L$23*(1-(SQRT(2)*Vin_rms_min*(SIN($Q75)/Vout))))))","v":0.540657439446367},null,{"$f":"R75*ABS(1/(Vout/(SQRT(2)*$C$25*SIN($Q75))))","v":0.0576277394663494},{"$f":"S75*ABS(1/(Vout/(SQRT(2)*$C$25*SIN($Q75))))","v":0.0560207800639231},{"$f":"T75*ABS(1/(Vout/(SQRT(2)*$C$25*SIN($Q75))))","v":0.0550395331187567},{"$f":"U75*ABS(1/(Vout/(SQRT(2)*$C$25*SIN($Q75))))","v":0.0535369521874117},{"$f":"V75*ABS(1/(Vout/(SQRT(2)*$C$25*SIN($Q75))))","v":0.0803054282811176},{"$f":"W75*ABS(1/(Vout/(SQRT(2)*$C$25*SIN($Q75))))","v":0.107073904374823},null,{"$f":"1/(0.0000128*(R75+Y75+$G$23))","v":40299.4425897735},{"$f":"1/(0.0000128*(S75+Z75+$H$23))","v":85956.3729965928},{"$f":"1/(0.0000128*(T75+AA75+$I$23))","v":111773.947353472},{"$f":"1/(0.0000128*(U75+AB75+$J$23))","v":241226.554018874},{"$f":"1/(0.0000128*(V75+AC75+$K$23))","v":160817.702679249},{"$f":"1/(0.0000128*(W75+AD75+$L$23))","v":120613.277009437}]
["Resistance of Thermistor at 25°C:","RNTC",4.7,"W",null,null,null,null,null,null,null,null,null,null,null,null,{"$f":"Q75+0.01","v":0.7},{"$f":"(G$5*((90/$G$18)*(90/$G$18))/2)*(1+(SQRT(1+(4/(G$5*((90/$G$18)*(90/$G$18))))*$G$23*(1-(SQRT(2)*Vin_rms_min*(SIN($Q76)/Vout))))))","v":0.290595267494252},{"$f":"(H$5*((90/$G$18)*(90/$G$18))/2)*(1+(SQRT(1+(4/(H$5*((90/$G$18)*(90/$G$18))))*$H$23*(1-(SQRT(2)*Vin_rms_min*(SIN($Q76)/Vout))))))","v":0.282548443580132},{"$f":"(I$5*((90/$G$18)*(90/$G$18))/2)*(1+(SQRT(1+(4/(I$5*((90/$G$18)*(90/$G$18))))*$I$23*(1-(SQRT(2)*Vin_rms_min*(SIN($Q76)/Vout))))))","v":0.277634625781254},{"$f":"(J$5*((90/$G$18)*(90/$G$18))/2)*(1+(SQRT(1+(4/(J$5*((90/$G$18)*(90/$G$18))))*$J$23*(1-(SQRT(2)*Vin_rms_min*(SIN($Q76)/Vout))))))","v":0.270328719723183},{"$f":"(K$5*((90/$G$18)*(90/$G$18))/2)*(1+(SQRT(1+(4/(K$5*((90/$G$18)*(90/$G$18))))*$K$23*(1-(SQRT(2)*Vin_rms_min*(SIN($Q76)/Vout))))))","v":0.405493079584775},{"$f":"(L$5*((90/$G$18)*(90/$G$18))/2)*(1+(SQRT(1+(4/(L$5*((90/$G$18)*(90/$G$18))))*$L$23*(1-(SQRT(2)*Vin_rms_min*(SIN($Q76)/Vout))))))","v":0.540657439446367},null,{"$f":"R76*ABS(1/(Vout/(SQRT(2)*$C$25*SIN($Q76))))","v":0.0582450282591123},{"$f":"S76*ABS(1/(Vout/(SQRT(2)*$C$25*SIN($Q76))))","v":0.0566321751307203},{"$f":"T76*ABS(1/(Vout/(SQRT(2)*$C$25*SIN($Q76))))","v":0.0556472814019832},{"$f":"U76*ABS(1/(Vout/(SQRT(2)*$C$25*SIN($Q76))))","v":0.0541829330370561},{"$f":"V76*ABS(1/(Vout/(SQRT(2)*$C$25*SIN($Q76))))","v":0.0812743995555841},{"$f":"W76*ABS(1/(Vout/(SQRT(2)*$C$25*SIN($Q76))))","v":0.108365866074112},null,{"$f":"1/(0.0000128*(R76+Y76+$G$23))","v":40294.7061555905},{"$f":"1/(0.0000128*(S76+Z76+$H$23))","v":85929.0204742543},{"$f":"1/(0.0000128*(T76+AA76+$I$23))","v":111721.752268257},{"$f":"1/(0.0000128*(U76+AB76+$J$23))","v":240746.362528071},{"$f":"1/(0.0000128*(V76+AC76+$K$23))","v":160497.575018714},{"$f":"1/(0.0000128*(W76+AD76+$L$23))","v":120373.181264035}]
["Maximum Inrush Current:","IINRUSH",{"$f":"Vin_pk_max/Rntc","v":39.1165453422345},"A",null,null,null,null,null,null,null,null,null,null,null,null,{"$f":"Q76+0.01","v":0.71},{"$f":"(G$5*((90/$G$18)*(90/$G$18))/2)*(1+(SQRT(1+(4/(G$5*((90/$G$18)*(90/$G$18))))*$G$23*(1-(SQRT(2)*Vin_rms_min*(SIN($Q77)/Vout))))))","v":0.290208549849256},{"$f":"(H$5*((90/$G$18)*(90/$G$18))/2)*(1+(SQRT(1+(4/(H$5*((90/$G$18)*(90/$G$18))))*$H$23*(1-(SQRT(2)*Vin_rms_min*(SIN($Q77)/Vout))))))","v":0.282228615068717},{"$f":"(I$5*((90/$G$18)*(90/$G$18))/2)*(1+(SQRT(1+(4/(I$5*((90/$G$18)*(90/$G$18))))*$I$23*(1-(SQRT(2)*Vin_rms_min*(SIN($Q77)/Vout))))))","v":0.277355407611753},{"$f":"(J$5*((90/$G$18)*(90/$G$18))/2)*(1+(SQRT(1+(4/(J$5*((90/$G$18)*(90/$G$18))))*$J$23*(1-(SQRT(2)*Vin_rms_min*(SIN($Q77)/Vout))))))","v":0.270328719723183},{"$f":"(K$5*((90/$G$18)*(90/$G$18))/2)*(1+(SQRT(1+(4/(K$5*((90/$G$18)*(90/$G$18))))*$K$23*(1-(SQRT(2)*Vin_rms_min*(SIN($Q77)/Vout))))))","v":0.405493079584775},{"$f":"(L$5*((90/$G$18)*(90/$G$18))/2)*(1+(SQRT(1+(4/(L$5*((90/$G$18)*(90/$G$18))))*$L$23*(1-(SQRT(2)*Vin_rms_min*(SIN($Q77)/Vout))))))","v":0.540657439446367},null,{"$f":"R77*ABS(1/(Vout/(SQRT(2)*$C$25*SIN($Q77))))","v":0.0588551863199085},{"$f":"S77*ABS(1/(Vout/(SQRT(2)*$C$25*SIN($Q77))))","v":0.0572368310075882},{"$f":"T77*ABS(1/(Vout/(SQRT(2)*$C$25*SIN($Q77))))","v":0.0562485295498807},{"$f":"U77*ABS(1/(Vout/(SQRT(2)*$C$25*SIN($Q77))))","v":0.054823495638549},{"$f":"V77*ABS(1/(Vout/(SQRT(2)*$C$25*SIN($Q77))))","v":0.0822352434578234},{"$f":"W77*ABS(1/(Vout/(SQRT(2)*$C$25*SIN($Q77))))","v":0.109646991277098},null,{"$f":"1/(0.0000128*(R77+Y77+$G$23))","v":40290.0629529304},{"$f":"1/(0.0000128*(S77+Z77+$H$23))","v":85902.1091313075},{"$f":"1/(0.0000128*(T77+AA77+$I$23))","v":111670.326380611},{"$f":"1/(0.0000128*(U77+AB77+$J$23))","v":240272.082763102},{"$f":"1/(0.0000128*(V77+AC77+$K$23))","v":160181.388508734},{"$f":"1/(0.0000128*(W77+AD77+$L$23))","v":120136.041381551}]
[null,null,null,null,null,null,null,null,null,null,null,null,null,null,null,null,{"$f":"Q77+0.01","v":0.72},{"$f":"(G$5*((90/$G$18)*(90/$G$18))/2)*(1+(SQRT(1+(4/(G$5*((90/$G$18)*(90/$G$18))))*$G$23*(1-(SQRT(2)*Vin_rms_min*(SIN($Q78)/Vout))))))","v":0.289824580158372},{"$f":"(H$5*((90/$G$18)*(90/$G$18))/2)*(1+(SQRT(1+(4/(H$5*((90/$G$18)*(90/$G$18))))*$H$23*(1-(SQRT(2)*Vin_rms_min*(SIN($Q78)/Vout))))))","v":0.2819110806354},{"$f":"(I$5*((90/$G$18)*(90/$G$18))/2)*(1+(SQRT(1+(4/(I$5*((90/$G$18)*(90/$G$18))))*$I$23*(1-(SQRT(2)*Vin_rms_min*(SIN($Q78)/Vout))))))","v":0.277078211772029},{"$f":"(J$5*((90/$G$18)*(90/$G$18))/2)*(1+(SQRT(1+(4/(J$5*((90/$G$18)*(90/$G$18))))*$J$23*(1-(SQRT(2)*Vin_rms_min*(SIN($Q78)/Vout))))))","v":0.270328719723183},{"$f":"(K$5*((90/$G$18)*(90/$G$18))/2)*(1+(SQRT(1+(4/(K$5*((90/$G$18)*(90/$G$18))))*$K$23*(1-(SQRT(2)*Vin_rms_min*(SIN($Q78)/Vout))))))","v":0.405493079584775},{"$f":"(L$5*((90/$G$18)*(90/$G$18))/2)*(1+(SQRT(1+(4/(L$5*((90/$G$18)*(90/$G$18))))*$L$23*(1-(SQRT(2)*Vin_rms_min*(SIN($Q78)/Vout))))))","v":0.540657439446367},null,{"$f":"R78*ABS(1/(Vout/(SQRT(2)*$C$25*SIN($Q78))))","v":0.0594581977946663},{"$f":"S78*ABS(1/(Vout/(SQRT(2)*$C$25*SIN($Q78))))","v":0.0578347246592003},{"$f":"T78*ABS(1/(Vout/(SQRT(2)*$C$25*SIN($Q78))))","v":0.0568432501864796},{"$f":"U78*ABS(1/(Vout/(SQRT(2)*$C$25*SIN($Q78))))","v":0.0554585759361641},{"$f":"V78*ABS(1/(Vout/(SQRT(2)*$C$25*SIN($Q78))))","v":0.0831878639042461},{"$f":"W78*ABS(1/(Vout/(SQRT(2)*$C$25*SIN($Q78))))","v":0.110917151872328},null,{"$f":"1/(0.0000128*(R78+Y78+$G$23))","v":40285.5121945975},{"$f":"1/(0.0000128*(S78+Z78+$H$23))","v":85875.6364088988},{"$f":"1/(0.0000128*(T78+AA78+$I$23))","v":111619.666271401},{"$f":"1/(0.0000128*(U78+AB78+$J$23))","v":239803.703339279},{"$f":"1/(0.0000128*(V78+AC78+$K$23))","v":159869.135559519},{"$f":"1/(0.0000128*(W78+AD78+$L$23))","v":119901.851669639}]
[null,null,null,null,null,null,null,null,null,null,null,null,null,null,null,null,{"$f":"Q78+0.01","v":0.73},{"$f":"(G$5*((90/$G$18)*(90/$G$18))/2)*(1+(SQRT(1+(4/(G$5*((90/$G$18)*(90/$G$18))))*$G$23*(1-(SQRT(2)*Vin_rms_min*(SIN($Q79)/Vout))))))","v":0.289443408964872},{"$f":"(H$5*((90/$G$18)*(90/$G$18))/2)*(1+(SQRT(1+(4/(H$5*((90/$G$18)*(90/$G$18))))*$H$23*(1-(SQRT(2)*Vin_rms_min*(SIN($Q79)/Vout))))))","v":0.281595881704155},{"$f":"(I$5*((90/$G$18)*(90/$G$18))/2)*(1+(SQRT(1+(4/(I$5*((90/$G$18)*(90/$G$18))))*$I$23*(1-(SQRT(2)*Vin_rms_min*(SIN($Q79)/Vout))))))","v":0.276803074074382},{"$f":"(J$5*((90/$G$18)*(90/$G$18))/2)*(1+(SQRT(1+(4/(J$5*((90/$G$18)*(90/$G$18))))*$J$23*(1-(SQRT(2)*Vin_rms_min*(SIN($Q79)/Vout))))))","v":0.270328719723183},{"$f":"(K$5*((90/$G$18)*(90/$G$18))/2)*(1+(SQRT(1+(4/(K$5*((90/$G$18)*(90/$G$18))))*$K$23*(1-(SQRT(2)*Vin_rms_min*(SIN($Q79)/Vout))))))","v":0.405493079584775},{"$f":"(L$5*((90/$G$18)*(90/$G$18))/2)*(1+(SQRT(1+(4/(L$5*((90/$G$18)*(90/$G$18))))*$L$23*(1-(SQRT(2)*Vin_rms_min*(SIN($Q79)/Vout))))))","v":0.540657439446367},null,{"$f":"R79*ABS(1/(Vout/(SQRT(2)*$C$25*SIN($Q79))))","v":0.0600540479002079},{"$f":"S79*ABS(1/(Vout/(SQRT(2)*$C$25*SIN($Q79))))","v":0.0584258340130832},{"$f":"T79*ABS(1/(Vout/(SQRT(2)*$C$25*SIN($Q79))))","v":0.0574314168314855},{"$f":"U79*ABS(1/(Vout/(SQRT(2)*$C$25*SIN($Q79))))","v":0.056088110422401},{"$f":"V79*ABS(1/(Vout/(SQRT(2)*$C$25*SIN($Q79))))","v":0.0841321656336014},{"$f":"W79*ABS(1/(Vout/(SQRT(2)*$C$25*SIN($Q79))))","v":0.112176220844802},null,{"$f":"1/(0.0000128*(R79+Y79+$G$23))","v":40281.0530756137},{"$f":"1/(0.0000128*(S79+Z79+$H$23))","v":85849.5996861189},{"$f":"1/(0.0000128*(T79+AA79+$I$23))","v":111569.768434189},{"$f":"1/(0.0000128*(U79+AB79+$J$23))","v":239341.212783531},{"$f":"1/(0.0000128*(V79+AC79+$K$23))","v":159560.808522354},{"$f":"1/(0.0000128*(W79+AD79+$L$23))","v":119670.606391766}]
["ZCD RESISTOR:",null,null,null,null,null,null,null,null,null,null,null,null,null,null,null,{"$f":"Q79+0.01","v":0.74},{"$f":"(G$5*((90/$G$18)*(90/$G$18))/2)*(1+(SQRT(1+(4/(G$5*((90/$G$18)*(90/$G$18))))*$G$23*(1-(SQRT(2)*Vin_rms_min*(SIN($Q80)/Vout))))))","v":0.289065086681017},{"$f":"(H$5*((90/$G$18)*(90/$G$18))/2)*(1+(SQRT(1+(4/(H$5*((90/$G$18)*(90/$G$18))))*$H$23*(1-(SQRT(2)*Vin_rms_min*(SIN($Q80)/Vout))))))","v":0.281283059579393},{"$f":"(I$5*((90/$G$18)*(90/$G$18))/2)*(1+(SQRT(1+(4/(I$5*((90/$G$18)*(90/$G$18))))*$I$23*(1-(SQRT(2)*Vin_rms_min*(SIN($Q80)/Vout))))))","v":0.276530030216765},{"$f":"(J$5*((90/$G$18)*(90/$G$18))/2)*(1+(SQRT(1+(4/(J$5*((90/$G$18)*(90/$G$18))))*$J$23*(1-(SQRT(2)*Vin_rms_min*(SIN($Q80)/Vout))))))","v":0.270328719723183},{"$f":"(K$5*((90/$G$18)*(90/$G$18))/2)*(1+(SQRT(1+(4/(K$5*((90/$G$18)*(90/$G$18))))*$K$23*(1-(SQRT(2)*Vin_rms_min*(SIN($Q80)/Vout))))))","v":0.405493079584775},{"$f":"(L$5*((90/$G$18)*(90/$G$18))/2)*(1+(SQRT(1+(4/(L$5*((90/$G$18)*(90/$G$18))))*$L$23*(1-(SQRT(2)*Vin_rms_min*(SIN($Q80)/Vout))))))","v":0.540657439446367},null,{"$f":"R80*ABS(1/(Vout/(SQRT(2)*$C$25*SIN($Q80))))","v":0.0606427229067863},{"$f":"S80*ABS(1/(Vout/(SQRT(2)*$C$25*SIN($Q80))))","v":0.0590101379460931},{"$f":"T80*ABS(1/(Vout/(SQRT(2)*$C$25*SIN($Q80))))","v":0.0580130038891403},{"$f":"U80*ABS(1/(Vout/(SQRT(2)*$C$25*SIN($Q80))))","v":0.0567120361443355},{"$f":"V80*ABS(1/(Vout/(SQRT(2)*$C$25*SIN($Q80))))","v":0.0850680542165033},{"$f":"W80*ABS(1/(Vout/(SQRT(2)*$C$25*SIN($Q80))))","v":0.113424072288671},null,{"$f":"1/(0.0000128*(R80+Y80+$G$23))","v":40276.6847737763},{"$f":"1/(0.0000128*(S80+Z80+$H$23))","v":85823.996282047},{"$f":"1/(0.0000128*(T80+AA80+$I$23))","v":111520.629278271},{"$f":"1/(0.0000128*(U80+AB80+$J$23))","v":238884.599544063},{"$f":"1/(0.0000128*(V80+AC80+$K$23))","v":159256.399696042},{"$f":"1/(0.0000128*(W80+AD80+$L$23))","v":119442.299772032}]
["Line Rising Threshold at ZCD/CS Pin","VZCBOR",0.3,"V",null,null,null,null,null,null,null,null,null,null,null,null,{"$f":"Q80+0.01","v":0.75},{"$f":"(G$5*((90/$G$18)*(90/$G$18))/2)*(1+(SQRT(1+(4/(G$5*((90/$G$18)*(90/$G$18))))*$G$23*(1-(SQRT(2)*Vin_rms_min*(SIN($Q81)/Vout))))))","v":0.288689663577831},{"$f":"(H$5*((90/$G$18)*(90/$G$18))/2)*(1+(SQRT(1+(4/(H$5*((90/$G$18)*(90/$G$18))))*$H$23*(1-(SQRT(2)*Vin_rms_min*(SIN($Q81)/Vout))))))","v":0.280972655437681},{"$f":"(I$5*((90/$G$18)*(90/$G$18))/2)*(1+(SQRT(1+(4/(I$5*((90/$G$18)*(90/$G$18))))*$I$23*(1-(SQRT(2)*Vin_rms_min*(SIN($Q81)/Vout))))))","v":0.27625911577572},{"$f":"(J$5*((90/$G$18)*(90/$G$18))/2)*(1+(SQRT(1+(4/(J$5*((90/$G$18)*(90/$G$18))))*$J$23*(1-(SQRT(2)*Vin_rms_min*(SIN($Q81)/Vout))))))","v":0.270328719723183},{"$f":"(K$5*((90/$G$18)*(90/$G$18))/2)*(1+(SQRT(1+(4/(K$5*((90/$G$18)*(90/$G$18))))*$K$23*(1-(SQRT(2)*Vin_rms_min*(SIN($Q81)/Vout))))))","v":0.405493079584775},{"$f":"(L$5*((90/$G$18)*(90/$G$18))/2)*(1+(SQRT(1+(4/(L$5*((90/$G$18)*(90/$G$18))))*$L$23*(1-(SQRT(2)*Vin_rms_min*(SIN($Q81)/Vout))))))","v":0.540657439446367},null,{"$f":"R81*ABS(1/(Vout/(SQRT(2)*$C$25*SIN($Q81))))","v":0.0612242101202294},{"$f":"S81*ABS(1/(Vout/(SQRT(2)*$C$25*SIN($Q81))))","v":0.0595876162705686},{"$f":"T81*ABS(1/(Vout/(SQRT(2)*$C$25*SIN($Q81))))","v":0.0585879866368041},{"$f":"U81*ABS(1/(Vout/(SQRT(2)*$C$25*SIN($Q81))))","v":0.0573302907099155},{"$f":"V81*ABS(1/(Vout/(SQRT(2)*$C$25*SIN($Q81))))","v":0.0859954360648732},{"$f":"W81*ABS(1/(Vout/(SQRT(2)*$C$25*SIN($Q81))))","v":0.114660581419831},null,{"$f":"1/(0.0000128*(R81+Y81+$G$23))","v":40272.4064502256},{"$f":"1/(0.0000128*(S81+Z81+$H$23))","v":85798.8234578192},{"$f":"1/(0.0000128*(T81+AA81+$I$23))","v":111472.245131742},{"$f":"1/(0.0000128*(U81+AB81+$J$23))","v":238433.85199978},{"$f":"1/(0.0000128*(V81+AC81+$K$23))","v":158955.901333187},{"$f":"1/(0.0000128*(W81+AD81+$L$23))","v":119216.92599989}]
["Second Output Over-Voltage Protection Threshold","VOVP2TH",1.125,"V",{"$f":"IF(Rzc1>39,\"RECOMMENDED VALUE IS LESS THAN OR EQUAL TO 39Meg\",\"\")","v":""},null,null,null,null,null,null,null,null,null,null,null,{"$f":"Q81+0.01","v":0.76},{"$f":"(G$5*((90/$G$18)*(90/$G$18))/2)*(1+(SQRT(1+(4/(G$5*((90/$G$18)*(90/$G$18))))*$G$23*(1-(SQRT(2)*Vin_rms_min*(SIN($Q82)/Vout))))))","v":0.288317189774762},{"$f":"(H$5*((90/$G$18)*(90/$G$18))/2)*(1+(SQRT(1+(4/(H$5*((90/$G$18)*(90/$G$18))))*$H$23*(1-(SQRT(2)*Vin_rms_min*(SIN($Q82)/Vout))))))","v":0.280664710319365},{"$f":"(I$5*((90/$G$18)*(90/$G$18))/2)*(1+(SQRT(1+(4/(I$5*((90/$G$18)*(90/$G$18))))*$I$23*(1-(SQRT(2)*Vin_rms_min*(SIN($Q82)/Vout))))))","v":0.27599036619924},{"$f":"(J$5*((90/$G$18)*(90/$G$18))/2)*(1+(SQRT(1+(4/(J$5*((90/$G$18)*(90/$G$18))))*$J$23*(1-(SQRT(2)*Vin_rms_min*(SIN($Q82)/Vout))))))","v":0.270328719723183},{"$f":"(K$5*((90/$G$18)*(90/$G$18))/2)*(1+(SQRT(1+(4/(K$5*((90/$G$18)*(90/$G$18))))*$K$23*(1-(SQRT(2)*Vin_rms_min*(SIN($Q82)/Vout))))))","v":0.405493079584775},{"$f":"(L$5*((90/$G$18)*(90/$G$18))/2)*(1+(SQRT(1+(4/(L$5*((90/$G$18)*(90/$G$18))))*$L$23*(1-(SQRT(2)*Vin_rms_min*(SIN($Q82)/Vout))))))","v":0.540657439446367},null,{"$f":"R82*ABS(1/(Vout/(SQRT(2)*$C$25*SIN($Q82))))","v":0.061798497863701},{"$f":"S82*ABS(1/(Vout/(SQRT(2)*$C$25*SIN($Q82))))","v":0.0601582497201691},{"$f":"T82*ABS(1/(Vout/(SQRT(2)*$C$25*SIN($Q82))))","v":0.0591563412132659},{"$f":"U82*ABS(1/(Vout/(SQRT(2)*$C$25*SIN($Q82))))","v":0.0579428122941996},{"$f":"V82*ABS(1/(Vout/(SQRT(2)*$C$25*SIN($Q82))))","v":0.0869142184412993},{"$f":"W82*ABS(1/(Vout/(SQRT(2)*$C$25*SIN($Q82))))","v":0.115885624588399},null,{"$f":"1/(0.0000128*(R82+Y82+$G$23))","v":40268.2172500213},{"$f":"1/(0.0000128*(S82+Z82+$H$23))","v":85774.0784187181},{"$f":"1/(0.0000128*(T82+AA82+$I$23))","v":111424.612244577},{"$f":"1/(0.0000128*(U82+AB82+$J$23))","v":237988.958469488},{"$f":"1/(0.0000128*(V82+AC82+$K$23))","v":158659.305646325},{"$f":"1/(0.0000128*(W82+AD82+$L$23))","v":118994.479234744}]
["Recommended Value for the Top Divider Resistor:","RZC1(recommended)",10,"MW",null,null,null,null,null,null,null,null,null,null,null,null,{"$f":"Q82+0.01","v":0.77},{"$f":"(G$5*((90/$G$18)*(90/$G$18))/2)*(1+(SQRT(1+(4/(G$5*((90/$G$18)*(90/$G$18))))*$G$23*(1-(SQRT(2)*Vin_rms_min*(SIN($Q83)/Vout))))))","v":0.287947715229199},{"$f":"(H$5*((90/$G$18)*(90/$G$18))/2)*(1+(SQRT(1+(4/(H$5*((90/$G$18)*(90/$G$18))))*$H$23*(1-(SQRT(2)*Vin_rms_min*(SIN($Q83)/Vout))))))","v":0.2803592651201},{"$f":"(I$5*((90/$G$18)*(90/$G$18))/2)*(1+(SQRT(1+(4/(I$5*((90/$G$18)*(90/$G$18))))*$I$23*(1-(SQRT(2)*Vin_rms_min*(SIN($Q83)/Vout))))))","v":0.275723816799557},{"$f":"(J$5*((90/$G$18)*(90/$G$18))/2)*(1+(SQRT(1+(4/(J$5*((90/$G$18)*(90/$G$18))))*$J$23*(1-(SQRT(2)*Vin_rms_min*(SIN($Q83)/Vout))))))","v":0.270328719723183},{"$f":"(K$5*((90/$G$18)*(90/$G$18))/2)*(1+(SQRT(1+(4/(K$5*((90/$G$18)*(90/$G$18))))*$K$23*(1-(SQRT(2)*Vin_rms_min*(SIN($Q83)/Vout))))))","v":0.405493079584775},{"$f":"(L$5*((90/$G$18)*(90/$G$18))/2)*(1+(SQRT(1+(4/(L$5*((90/$G$18)*(90/$G$18))))*$L$23*(1-(SQRT(2)*Vin_rms_min*(SIN($Q83)/Vout))))))","v":0.540657439446367},null,{"$f":"R83*ABS(1/(Vout/(SQRT(2)*$C$25*SIN($Q83))))","v":0.0623655754590869},{"$f":"S83*ABS(1/(Vout/(SQRT(2)*$C$25*SIN($Q83))))","v":0.0607220199354051},{"$f":"T83*ABS(1/(Vout/(SQRT(2)*$C$25*SIN($Q83))))","v":0.0597180446067889},{"$f":"U83*ABS(1/(Vout/(SQRT(2)*$C$25*SIN($Q83))))","v":0.0585495396455397},{"$f":"V83*ABS(1/(Vout/(SQRT(2)*$C$25*SIN($Q83))))","v":0.0878243094683096},{"$f":"W83*ABS(1/(Vout/(SQRT(2)*$C$25*SIN($Q83))))","v":0.117099079291079},null,{"$f":"1/(0.0000128*(R83+Y83+$G$23))","v":40264.116302727},{"$f":"1/(0.0000128*(S83+Z83+$H$23))","v":85749.7583162851},{"$f":"1/(0.0000128*(T83+AA83+$I$23))","v":111377.726791732},{"$f":"1/(0.0000128*(U83+AB83+$J$23))","v":237549.907220866},{"$f":"1/(0.0000128*(V83+AC83+$K$23))","v":158366.604813911},{"$f":"1/(0.0000128*(W83+AD83+$L$23))","v":118774.953610433}]
["Actual Value of the Top Divider Resistor:","RZC1(actual)",10,"MW",null,null,null,null,null,null,null,null,null,null,null,null,{"$f":"Q83+0.01","v":0.78},{"$f":"(G$5*((90/$G$18)*(90/$G$18))/2)*(1+(SQRT(1+(4/(G$5*((90/$G$18)*(90/$G$18))))*$G$23*(1-(SQRT(2)*Vin_rms_min*(SIN($Q84)/Vout))))))","v":0.287581289725874},{"$f":"(H$5*((90/$G$18)*(90/$G$18))/2)*(1+(SQRT(1+(4/(H$5*((90/$G$18)*(90/$G$18))))*$H$23*(1-(SQRT(2)*Vin_rms_min*(SIN($Q84)/Vout))))))","v":0.280056360582283},{"$f":"(I$5*((90/$G$18)*(90/$G$18))/2)*(1+(SQRT(1+(4/(I$5*((90/$G$18)*(90/$G$18))))*$I$23*(1-(SQRT(2)*Vin_rms_min*(SIN($Q84)/Vout))))))","v":0.275459502745861},{"$f":"(J$5*((90/$G$18)*(90/$G$18))/2)*(1+(SQRT(1+(4/(J$5*((90/$G$18)*(90/$G$18))))*$J$23*(1-(SQRT(2)*Vin_rms_min*(SIN($Q84)/Vout))))))","v":0.270328719723183},{"$f":"(K$5*((90/$G$18)*(90/$G$18))/2)*(1+(SQRT(1+(4/(K$5*((90/$G$18)*(90/$G$18))))*$K$23*(1-(SQRT(2)*Vin_rms_min*(SIN($Q84)/Vout))))))","v":0.405493079584775},{"$f":"(L$5*((90/$G$18)*(90/$G$18))/2)*(1+(SQRT(1+(4/(L$5*((90/$G$18)*(90/$G$18))))*$L$23*(1-(SQRT(2)*Vin_rms_min*(SIN($Q84)/Vout))))))","v":0.540657439446367},null,{"$f":"R84*ABS(1/(Vout/(SQRT(2)*$C$25*SIN($Q84))))","v":0.0629254332080169},{"$f":"S84*ABS(1/(Vout/(SQRT(2)*$C$25*SIN($Q84))))","v":0.0612789094488689},{"$f":"T84*ABS(1/(Vout/(SQRT(2)*$C$25*SIN($Q84))))","v":0.060273074642897},{"$f":"U84*ABS(1/(Vout/(SQRT(2)*$C$25*SIN($Q84))))","v":0.0591504120917065},{"$f":"V84*ABS(1/(Vout/(SQRT(2)*$C$25*SIN($Q84))))","v":0.0887256181375597},{"$f":"W84*ABS(1/(Vout/(SQRT(2)*$C$25*SIN($Q84))))","v":0.118300824183413},null,{"$f":"1/(0.0000128*(R84+Y84+$G$23))","v":40260.1027230049},{"$f":"1/(0.0000128*(S84+Z84+$H$23))","v":85725.8602504537},{"$f":"1/(0.0000128*(T84+AA84+$I$23))","v":111331.58487627},{"$f":"1/(0.0000128*(U84+AB84+$J$23))","v":237116.68647923},{"$f":"1/(0.0000128*(V84+AC84+$K$23))","v":158077.790986153},{"$f":"1/(0.0000128*(W84+AD84+$L$23))","v":118558.343239615}]
["Recommended Value for the Bottom Divider Resistor:","RZC2(recommended)",{"$f":"Vzcbo_R*Rzc1*kΩ/(Vin_pk_min-Vzcbo_R)","v":19.3219923372906},"kW",null,null,null,null,null,null,null,null,null,null,null,null,{"$f":"Q84+0.01","v":0.790000000000001},{"$f":"(G$5*((90/$G$18)*(90/$G$18))/2)*(1+(SQRT(1+(4/(G$5*((90/$G$18)*(90/$G$18))))*$G$23*(1-(SQRT(2)*Vin_rms_min*(SIN($Q85)/Vout))))))","v":0.287217962866147},{"$f":"(H$5*((90/$G$18)*(90/$G$18))/2)*(1+(SQRT(1+(4/(H$5*((90/$G$18)*(90/$G$18))))*$H$23*(1-(SQRT(2)*Vin_rms_min*(SIN($Q85)/Vout))))))","v":0.279756037286408},{"$f":"(I$5*((90/$G$18)*(90/$G$18))/2)*(1+(SQRT(1+(4/(I$5*((90/$G$18)*(90/$G$18))))*$I$23*(1-(SQRT(2)*Vin_rms_min*(SIN($Q85)/Vout))))))","v":0.27519745905695},{"$f":"(J$5*((90/$G$18)*(90/$G$18))/2)*(1+(SQRT(1+(4/(J$5*((90/$G$18)*(90/$G$18))))*$J$23*(1-(SQRT(2)*Vin_rms_min*(SIN($Q85)/Vout))))))","v":0.270328719723183},{"$f":"(K$5*((90/$G$18)*(90/$G$18))/2)*(1+(SQRT(1+(4/(K$5*((90/$G$18)*(90/$G$18))))*$K$23*(1-(SQRT(2)*Vin_rms_min*(SIN($Q85)/Vout))))))","v":0.405493079584775},{"$f":"(L$5*((90/$G$18)*(90/$G$18))/2)*(1+(SQRT(1+(4/(L$5*((90/$G$18)*(90/$G$18))))*$L$23*(1-(SQRT(2)*Vin_rms_min*(SIN($Q85)/Vout))))))","v":0.540657439446367},null,{"$f":"R85*ABS(1/(Vout/(SQRT(2)*$C$25*SIN($Q85))))","v":0.0634780623725307},{"$f":"S85*ABS(1/(Vout/(SQRT(2)*$C$25*SIN($Q85))))","v":0.0618289016701738},{"$f":"T85*ABS(1/(Vout/(SQRT(2)*$C$25*SIN($Q85))))","v":0.0608214099719111},{"$f":"U85*ABS(1/(Vout/(SQRT(2)*$C$25*SIN($Q85))))","v":0.0597453695459559},{"$f":"V85*ABS(1/(Vout/(SQRT(2)*$C$25*SIN($Q85))))","v":0.0896180543189338},{"$f":"W85*ABS(1/(Vout/(SQRT(2)*$C$25*SIN($Q85))))","v":0.119490739091912},null,{"$f":"1/(0.0000128*(R85+Y85+$G$23))","v":40256.1756112175},{"$f":"1/(0.0000128*(S85+Z85+$H$23))","v":85702.381271704},{"$f":"1/(0.0000128*(T85+AA85+$I$23))","v":111286.182532493},{"$f":"1/(0.0000128*(U85+AB85+$J$23))","v":236689.28443607},{"$f":"1/(0.0000128*(V85+AC85+$K$23))","v":157792.856290713},{"$f":"1/(0.0000128*(W85+AD85+$L$23))","v":118344.642218035}]
["Actual Value of the Bottom Divider Resistor:","RZC2(actual)",20,"kW",null,null,null,null,null,null,null,null,null,null,null,null,{"$f":"Q85+0.01","v":0.8},{"$f":"(G$5*((90/$G$18)*(90/$G$18))/2)*(1+(SQRT(1+(4/(G$5*((90/$G$18)*(90/$G$18))))*$G$23*(1-(SQRT(2)*Vin_rms_min*(SIN($Q86)/Vout))))))","v":0.286857784057164},{"$f":"(H$5*((90/$G$18)*(90/$G$18))/2)*(1+(SQRT(1+(4/(H$5*((90/$G$18)*(90/$G$18))))*$H$23*(1-(SQRT(2)*Vin_rms_min*(SIN($Q86)/Vout))))))","v":0.279458335642323},{"$f":"(I$5*((90/$G$18)*(90/$G$18))/2)*(1+(SQRT(1+(4/(I$5*((90/$G$18)*(90/$G$18))))*$I$23*(1-(SQRT(2)*Vin_rms_min*(SIN($Q86)/Vout))))))","v":0.27493772059382},{"$f":"(J$5*((90/$G$18)*(90/$G$18))/2)*(1+(SQRT(1+(4/(J$5*((90/$G$18)*(90/$G$18))))*$J$23*(1-(SQRT(2)*Vin_rms_min*(SIN($Q86)/Vout))))))","v":0.270328719723183},{"$f":"(K$5*((90/$G$18)*(90/$G$18))/2)*(1+(SQRT(1+(4/(K$5*((90/$G$18)*(90/$G$18))))*$K$23*(1-(SQRT(2)*Vin_rms_min*(SIN($Q86)/Vout))))))","v":0.405493079584775},{"$f":"(L$5*((90/$G$18)*(90/$G$18))/2)*(1+(SQRT(1+(4/(L$5*((90/$G$18)*(90/$G$18))))*$L$23*(1-(SQRT(2)*Vin_rms_min*(SIN($Q86)/Vout))))))","v":0.540657439446367},null,{"$f":"R86*ABS(1/(Vout/(SQRT(2)*$C$25*SIN($Q86))))","v":0.0640234551554002},{"$f":"S86*ABS(1/(Vout/(SQRT(2)*$C$25*SIN($Q86))))","v":0.0623719808706102},{"$f":"T86*ABS(1/(Vout/(SQRT(2)*$C$25*SIN($Q86))))","v":0.0613630300562407},{"$f":"U86*ABS(1/(Vout/(SQRT(2)*$C$25*SIN($Q86))))","v":0.0603343525130384},{"$f":"V86*ABS(1/(Vout/(SQRT(2)*$C$25*SIN($Q86))))","v":0.0905015287695575},{"$f":"W86*ABS(1/(Vout/(SQRT(2)*$C$25*SIN($Q86))))","v":0.120668705026077},null,{"$f":"1/(0.0000128*(R86+Y86+$G$23))","v":40252.3340540383},{"$f":"1/(0.0000128*(S86+Z86+$H$23))","v":85679.3183832377},{"$f":"1/(0.0000128*(T86+AA86+$I$23))","v":111241.515729104},{"$f":"1/(0.0000128*(U86+AB86+$J$23))","v":236267.689257385},{"$f":"1/(0.0000128*(V86+AC86+$K$23))","v":157511.792838257},{"$f":"1/(0.0000128*(W86+AD86+$L$23))","v":118133.844628693}]
["Power dissipated in Drain Voltage Divider at Maximum Input Voltage and No Load","PRZC1+RZC2",{"$f":"Vin_pk_max^2/(Rzc1*MegΩ+Rzc2*kΩ)","v":0.00337325349301397},"W",null,null,null,null,null,null,null,null,null,null,null,null,{"$f":"Q86+0.01","v":0.810000000000001},{"$f":"(G$5*((90/$G$18)*(90/$G$18))/2)*(1+(SQRT(1+(4/(G$5*((90/$G$18)*(90/$G$18))))*$G$23*(1-(SQRT(2)*Vin_rms_min*(SIN($Q87)/Vout))))))","v":0.286500802500904},{"$f":"(H$5*((90/$G$18)*(90/$G$18))/2)*(1+(SQRT(1+(4/(H$5*((90/$G$18)*(90/$G$18))))*$H$23*(1-(SQRT(2)*Vin_rms_min*(SIN($Q87)/Vout))))))","v":0.279163295880412},{"$f":"(I$5*((90/$G$18)*(90/$G$18))/2)*(1+(SQRT(1+(4/(I$5*((90/$G$18)*(90/$G$18))))*$I$23*(1-(SQRT(2)*Vin_rms_min*(SIN($Q87)/Vout))))))","v":0.27468032205218},{"$f":"(J$5*((90/$G$18)*(90/$G$18))/2)*(1+(SQRT(1+(4/(J$5*((90/$G$18)*(90/$G$18))))*$J$23*(1-(SQRT(2)*Vin_rms_min*(SIN($Q87)/Vout))))))","v":0.270328719723183},{"$f":"(K$5*((90/$G$18)*(90/$G$18))/2)*(1+(SQRT(1+(4/(K$5*((90/$G$18)*(90/$G$18))))*$K$23*(1-(SQRT(2)*Vin_rms_min*(SIN($Q87)/Vout))))))","v":0.405493079584775},{"$f":"(L$5*((90/$G$18)*(90/$G$18))/2)*(1+(SQRT(1+(4/(L$5*((90/$G$18)*(90/$G$18))))*$L$23*(1-(SQRT(2)*Vin_rms_min*(SIN($Q87)/Vout))))))","v":0.540657439446367},null,{"$f":"R87*ABS(1/(Vout/(SQRT(2)*$C$25*SIN($Q87))))","v":0.0645616046801155},{"$f":"S87*ABS(1/(Vout/(SQRT(2)*$C$25*SIN($Q87))))","v":0.0629081321675265},{"$f":"T87*ABS(1/(Vout/(SQRT(2)*$C$25*SIN($Q87))))","v":0.0618979151574407},{"$f":"U87*ABS(1/(Vout/(SQRT(2)*$C$25*SIN($Q87))))","v":0.060917302095148},{"$f":"V87*ABS(1/(Vout/(SQRT(2)*$C$25*SIN($Q87))))","v":0.091375953142722},{"$f":"W87*ABS(1/(Vout/(SQRT(2)*$C$25*SIN($Q87))))","v":0.121834604190296},null,{"$f":"1/(0.0000128*(R87+Y87+$G$23))","v":40248.5771250704},{"$f":"1/(0.0000128*(S87+Z87+$H$23))","v":85656.6685431722},{"$f":"1/(0.0000128*(T87+AA87+$I$23))","v":111197.580372377},{"$f":"1/(0.0000128*(U87+AB87+$J$23))","v":235851.889091809},{"$f":"1/(0.0000128*(V87+AC87+$K$23))","v":157234.592727873},{"$f":"1/(0.0000128*(W87+AD87+$L$23))","v":117925.944545905}]
["Ratio of Drain Resistor Divider","KZC",{"$f":"1+Rzc1*MegΩ/(Rzc2*kΩ)","v":501},null,null,null,null,null,null,null,null,null,null,null,null,null,{"$f":"Q87+0.01","v":0.82},{"$f":"(G$5*((90/$G$18)*(90/$G$18))/2)*(1+(SQRT(1+(4/(G$5*((90/$G$18)*(90/$G$18))))*$G$23*(1-(SQRT(2)*Vin_rms_min*(SIN($Q88)/Vout))))))","v":0.286147067183117},{"$f":"(H$5*((90/$G$18)*(90/$G$18))/2)*(1+(SQRT(1+(4/(H$5*((90/$G$18)*(90/$G$18))))*$H$23*(1-(SQRT(2)*Vin_rms_min*(SIN($Q88)/Vout))))))","v":0.27887095804269},{"$f":"(I$5*((90/$G$18)*(90/$G$18))/2)*(1+(SQRT(1+(4/(I$5*((90/$G$18)*(90/$G$18))))*$I$23*(1-(SQRT(2)*Vin_rms_min*(SIN($Q88)/Vout))))))","v":0.274425297954919},{"$f":"(J$5*((90/$G$18)*(90/$G$18))/2)*(1+(SQRT(1+(4/(J$5*((90/$G$18)*(90/$G$18))))*$J$23*(1-(SQRT(2)*Vin_rms_min*(SIN($Q88)/Vout))))))","v":0.270328719723183},{"$f":"(K$5*((90/$G$18)*(90/$G$18))/2)*(1+(SQRT(1+(4/(K$5*((90/$G$18)*(90/$G$18))))*$K$23*(1-(SQRT(2)*Vin_rms_min*(SIN($Q88)/Vout))))))","v":0.405493079584775},{"$f":"(L$5*((90/$G$18)*(90/$G$18))/2)*(1+(SQRT(1+(4/(L$5*((90/$G$18)*(90/$G$18))))*$L$23*(1-(SQRT(2)*Vin_rms_min*(SIN($Q88)/Vout))))))","v":0.540657439446367},null,{"$f":"R88*ABS(1/(Vout/(SQRT(2)*$C$25*SIN($Q88))))","v":0.0650925049705485},{"$f":"S88*ABS(1/(Vout/(SQRT(2)*$C$25*SIN($Q88))))","v":0.0634373415084453},{"$f":"T88*ABS(1/(Vout/(SQRT(2)*$C$25*SIN($Q88))))","v":0.0624260463230384},{"$f":"U88*ABS(1/(Vout/(SQRT(2)*$C$25*SIN($Q88))))","v":0.0614941599978123},{"$f":"V88*ABS(1/(Vout/(SQRT(2)*$C$25*SIN($Q88))))","v":0.0922412399967185},{"$f":"W88*ABS(1/(Vout/(SQRT(2)*$C$25*SIN($Q88))))","v":0.122988319995625},null,{"$f":"1/(0.0000128*(R88+Y88+$G$23))","v":40244.9038854725},{"$f":"1/(0.0000128*(S88+Z88+$H$23))","v":85634.4286667547},{"$f":"1/(0.0000128*(T88+AA88+$I$23))","v":111154.372309351},{"$f":"1/(0.0000128*(U88+AB88+$J$23))","v":235441.87207853},{"$f":"1/(0.0000128*(V88+AC88+$K$23))","v":156961.248052353},{"$f":"1/(0.0000128*(W88+AD88+$L$23))","v":117720.936039265}]
[{"$f":"IF(C22=\"UCC28056A\",\"\",\"OVP Set Point: Typical DC Output Voltage to Trigger OVP:\")","v":""},{"$f":"IF(C22=\"UCC28056A\",\"\",\"VOVP2\")","v":""},{"$f":"IF(C22=\"UCC28056A\",\"\",Kzc*Vovp2th+Vf)","v":""},{"$f":"IF(C22=\"UCC28056A\",\"\",\"V\")","v":""},null,null,null,null,null,null,null,null,null,null,null,null,{"$f":"Q88+0.01","v":0.83},{"$f":"(G$5*((90/$G$18)*(90/$G$18))/2)*(1+(SQRT(1+(4/(G$5*((90/$G$18)*(90/$G$18))))*$G$23*(1-(SQRT(2)*Vin_rms_min*(SIN($Q89)/Vout))))))","v":0.285796626862149},{"$f":"(H$5*((90/$G$18)*(90/$G$18))/2)*(1+(SQRT(1+(4/(H$5*((90/$G$18)*(90/$G$18))))*$H$23*(1-(SQRT(2)*Vin_rms_min*(SIN($Q89)/Vout))))))","v":0.278581361973825},{"$f":"(I$5*((90/$G$18)*(90/$G$18))/2)*(1+(SQRT(1+(4/(I$5*((90/$G$18)*(90/$G$18))))*$I$23*(1-(SQRT(2)*Vin_rms_min*(SIN($Q89)/Vout))))))","v":0.274172682644507},{"$f":"(J$5*((90/$G$18)*(90/$G$18))/2)*(1+(SQRT(1+(4/(J$5*((90/$G$18)*(90/$G$18))))*$J$23*(1-(SQRT(2)*Vin_rms_min*(SIN($Q89)/Vout))))))","v":0.270328719723183},{"$f":"(K$5*((90/$G$18)*(90/$G$18))/2)*(1+(SQRT(1+(4/(K$5*((90/$G$18)*(90/$G$18))))*$K$23*(1-(SQRT(2)*Vin_rms_min*(SIN($Q89)/Vout))))))","v":0.405493079584775},{"$f":"(L$5*((90/$G$18)*(90/$G$18))/2)*(1+(SQRT(1+(4/(L$5*((90/$G$18)*(90/$G$18))))*$L$23*(1-(SQRT(2)*Vin_rms_min*(SIN($Q89)/Vout))))))","v":0.540657439446367},null,{"$f":"R89*ABS(1/(Vout/(SQRT(2)*$C$25*SIN($Q89))))","v":0.0656161509303033},{"$f":"S89*ABS(1/(Vout/(SQRT(2)*$C$25*SIN($Q89))))","v":0.0639595956549228},{"$f":"T89*ABS(1/(Vout/(SQRT(2)*$C$25*SIN($Q89))))","v":0.0629474053731413},{"$f":"U89*ABS(1/(Vout/(SQRT(2)*$C$25*SIN($Q89))))","v":0.0620648685357219},{"$f":"V89*ABS(1/(Vout/(SQRT(2)*$C$25*SIN($Q89))))","v":0.0930973028035828},{"$f":"W89*ABS(1/(Vout/(SQRT(2)*$C$25*SIN($Q89))))","v":0.124129737071444},null,{"$f":"1/(0.0000128*(R89+Y89+$G$23))","v":40241.3133845934},{"$f":"1/(0.0000128*(S89+Z89+$H$23))","v":85612.5956285941},{"$f":"1/(0.0000128*(T89+AA89+$I$23))","v":111111.887331029},{"$f":"1/(0.0000128*(U89+AB89+$J$23))","v":235037.626355017},{"$f":"1/(0.0000128*(V89+AC89+$K$23))","v":156691.750903345},{"$f":"1/(0.0000128*(W89+AD89+$L$23))","v":117518.813177509}]
[null,null,null,null,null,null,null,null,null,null,null,null,null,null,null,null,{"$f":"Q89+0.01","v":0.84},{"$f":"(G$5*((90/$G$18)*(90/$G$18))/2)*(1+(SQRT(1+(4/(G$5*((90/$G$18)*(90/$G$18))))*$G$23*(1-(SQRT(2)*Vin_rms_min*(SIN($Q90)/Vout))))))","v":0.28544953005767},{"$f":"(H$5*((90/$G$18)*(90/$G$18))/2)*(1+(SQRT(1+(4/(H$5*((90/$G$18)*(90/$G$18))))*$H$23*(1-(SQRT(2)*Vin_rms_min*(SIN($Q90)/Vout))))))","v":0.278294547312079},{"$f":"(I$5*((90/$G$18)*(90/$G$18))/2)*(1+(SQRT(1+(4/(I$5*((90/$G$18)*(90/$G$18))))*$I$23*(1-(SQRT(2)*Vin_rms_min*(SIN($Q90)/Vout))))))","v":0.27392251027534},{"$f":"(J$5*((90/$G$18)*(90/$G$18))/2)*(1+(SQRT(1+(4/(J$5*((90/$G$18)*(90/$G$18))))*$J$23*(1-(SQRT(2)*Vin_rms_min*(SIN($Q90)/Vout))))))","v":0.270328719723183},{"$f":"(K$5*((90/$G$18)*(90/$G$18))/2)*(1+(SQRT(1+(4/(K$5*((90/$G$18)*(90/$G$18))))*$K$23*(1-(SQRT(2)*Vin_rms_min*(SIN($Q90)/Vout))))))","v":0.405493079584775},{"$f":"(L$5*((90/$G$18)*(90/$G$18))/2)*(1+(SQRT(1+(4/(L$5*((90/$G$18)*(90/$G$18))))*$L$23*(1-(SQRT(2)*Vin_rms_min*(SIN($Q90)/Vout))))))","v":0.540657439446367},null,{"$f":"R90*ABS(1/(Vout/(SQRT(2)*$C$25*SIN($Q90))))","v":0.0661325383217647},{"$f":"S90*ABS(1/(Vout/(SQRT(2)*$C$25*SIN($Q90))))","v":0.0644748821661607},{"$f":"T90*ABS(1/(Vout/(SQRT(2)*$C$25*SIN($Q90))))","v":0.0634619748868322},{"$f":"U90*ABS(1/(Vout/(SQRT(2)*$C$25*SIN($Q90))))","v":0.0626293706384984},{"$f":"V90*ABS(1/(Vout/(SQRT(2)*$C$25*SIN($Q90))))","v":0.0939440559577475},{"$f":"W90*ABS(1/(Vout/(SQRT(2)*$C$25*SIN($Q90))))","v":0.125258741276997},null,{"$f":"1/(0.0000128*(R90+Y90+$G$23))","v":40237.8046606127},{"$f":"1/(0.0000128*(S90+Z90+$H$23))","v":85591.166264911},{"$f":"1/(0.0000128*(T90+AA90+$I$23))","v":111070.121175601},{"$f":"1/(0.0000128*(U90+AB90+$J$23))","v":234639.140064551},{"$f":"1/(0.0000128*(V90+AC90+$K$23))","v":156426.093376367},{"$f":"1/(0.0000128*(W90+AD90+$L$23))","v":117319.570032275}]
[null,null,null,null,null,null,null,null,null,null,null,null,null,null,null,null,{"$f":"Q90+0.01","v":0.850000000000001},{"$f":"(G$5*((90/$G$18)*(90/$G$18))/2)*(1+(SQRT(1+(4/(G$5*((90/$G$18)*(90/$G$18))))*$G$23*(1-(SQRT(2)*Vin_rms_min*(SIN($Q91)/Vout))))))","v":0.285105825039292},{"$f":"(H$5*((90/$G$18)*(90/$G$18))/2)*(1+(SQRT(1+(4/(H$5*((90/$G$18)*(90/$G$18))))*$H$23*(1-(SQRT(2)*Vin_rms_min*(SIN($Q91)/Vout))))))","v":0.278010553480185},{"$f":"(I$5*((90/$G$18)*(90/$G$18))/2)*(1+(SQRT(1+(4/(I$5*((90/$G$18)*(90/$G$18))))*$I$23*(1-(SQRT(2)*Vin_rms_min*(SIN($Q91)/Vout))))))","v":0.273674814806037},{"$f":"(J$5*((90/$G$18)*(90/$G$18))/2)*(1+(SQRT(1+(4/(J$5*((90/$G$18)*(90/$G$18))))*$J$23*(1-(SQRT(2)*Vin_rms_min*(SIN($Q91)/Vout))))))","v":0.270328719723183},{"$f":"(K$5*((90/$G$18)*(90/$G$18))/2)*(1+(SQRT(1+(4/(K$5*((90/$G$18)*(90/$G$18))))*$K$23*(1-(SQRT(2)*Vin_rms_min*(SIN($Q91)/Vout))))))","v":0.405493079584775},{"$f":"(L$5*((90/$G$18)*(90/$G$18))/2)*(1+(SQRT(1+(4/(L$5*((90/$G$18)*(90/$G$18))))*$L$23*(1-(SQRT(2)*Vin_rms_min*(SIN($Q91)/Vout))))))","v":0.540657439446367},null,{"$f":"R91*ABS(1/(Vout/(SQRT(2)*$C$25*SIN($Q91))))","v":0.0666416637448581},{"$f":"S91*ABS(1/(Vout/(SQRT(2)*$C$25*SIN($Q91))))","v":0.0649831893823814},{"$f":"T91*ABS(1/(Vout/(SQRT(2)*$C$25*SIN($Q91))))","v":0.0639697381883613},{"$f":"U91*ABS(1/(Vout/(SQRT(2)*$C$25*SIN($Q91))))","v":0.063187609856402},{"$f":"V91*ABS(1/(Vout/(SQRT(2)*$C$25*SIN($Q91))))","v":0.094781414784603},{"$f":"W91*ABS(1/(Vout/(SQRT(2)*$C$25*SIN($Q91))))","v":0.126375219712804},null,{"$f":"1/(0.0000128*(R91+Y91+$G$23))","v":40234.3767411894},{"$f":"1/(0.0000128*(S91+Z91+$H$23))","v":85570.1373758048},{"$f":"1/(0.0000128*(T91+AA91+$I$23))","v":111029.069531676},{"$f":"1/(0.0000128*(U91+AB91+$J$23))","v":234246.401363557},{"$f":"1/(0.0000128*(V91+AC91+$K$23))","v":156164.267575705},{"$f":"1/(0.0000128*(W91+AD91+$L$23))","v":117123.200681779}]
["BRIDGE RECTIFIER:",null,null,null,null,null,null,null,null,null,null,null,null,null,null,null,{"$f":"Q91+0.01","v":0.860000000000001},{"$f":"(G$5*((90/$G$18)*(90/$G$18))/2)*(1+(SQRT(1+(4/(G$5*((90/$G$18)*(90/$G$18))))*$G$23*(1-(SQRT(2)*Vin_rms_min*(SIN($Q92)/Vout))))))","v":0.284765559815098},{"$f":"(H$5*((90/$G$18)*(90/$G$18))/2)*(1+(SQRT(1+(4/(H$5*((90/$G$18)*(90/$G$18))))*$H$23*(1-(SQRT(2)*Vin_rms_min*(SIN($Q92)/Vout))))))","v":0.277729419676147},{"$f":"(I$5*((90/$G$18)*(90/$G$18))/2)*(1+(SQRT(1+(4/(I$5*((90/$G$18)*(90/$G$18))))*$I$23*(1-(SQRT(2)*Vin_rms_min*(SIN($Q92)/Vout))))))","v":0.273429629991678},{"$f":"(J$5*((90/$G$18)*(90/$G$18))/2)*(1+(SQRT(1+(4/(J$5*((90/$G$18)*(90/$G$18))))*$J$23*(1-(SQRT(2)*Vin_rms_min*(SIN($Q92)/Vout))))))","v":0.270328719723183},{"$f":"(K$5*((90/$G$18)*(90/$G$18))/2)*(1+(SQRT(1+(4/(K$5*((90/$G$18)*(90/$G$18))))*$K$23*(1-(SQRT(2)*Vin_rms_min*(SIN($Q92)/Vout))))))","v":0.405493079584775},{"$f":"(L$5*((90/$G$18)*(90/$G$18))/2)*(1+(SQRT(1+(4/(L$5*((90/$G$18)*(90/$G$18))))*$L$23*(1-(SQRT(2)*Vin_rms_min*(SIN($Q92)/Vout))))))","v":0.540657439446367},null,{"$f":"R92*ABS(1/(Vout/(SQRT(2)*$C$25*SIN($Q92))))","v":0.0671435246155313},{"$f":"S92*ABS(1/(Vout/(SQRT(2)*$C$25*SIN($Q92))))","v":0.0654845064079759},{"$f":"T92*ABS(1/(Vout/(SQRT(2)*$C$25*SIN($Q92))))","v":0.064470679333142},{"$f":"U92*ABS(1/(Vout/(SQRT(2)*$C$25*SIN($Q92))))","v":0.0637395303659761},{"$f":"V92*ABS(1/(Vout/(SQRT(2)*$C$25*SIN($Q92))))","v":0.0956092955489642},{"$f":"W92*ABS(1/(Vout/(SQRT(2)*$C$25*SIN($Q92))))","v":0.127479060731952},null,{"$f":"1/(0.0000128*(R92+Y92+$G$23))","v":40231.0286441172},{"$f":"1/(0.0000128*(S92+Z92+$H$23))","v":85549.5057275367},{"$f":"1/(0.0000128*(T92+AA92+$I$23))","v":110988.728041528},{"$f":"1/(0.0000128*(U92+AB92+$J$23))","v":233859.398428762},{"$f":"1/(0.0000128*(V92+AC92+$K$23))","v":155906.265619175},{"$f":"1/(0.0000128*(W92+AD92+$L$23))","v":116929.699214381}]
["Bridge Rectifier Forward Voltage, at IIN_PEAK(max):","VF_BRIDGE",1,"V",null,null,null,null,null,null,null,null,null,null,null,null,{"$f":"Q92+0.01","v":0.87},{"$f":"(G$5*((90/$G$18)*(90/$G$18))/2)*(1+(SQRT(1+(4/(G$5*((90/$G$18)*(90/$G$18))))*$G$23*(1-(SQRT(2)*Vin_rms_min*(SIN($Q93)/Vout))))))","v":0.284428782120078},{"$f":"(H$5*((90/$G$18)*(90/$G$18))/2)*(1+(SQRT(1+(4/(H$5*((90/$G$18)*(90/$G$18))))*$H$23*(1-(SQRT(2)*Vin_rms_min*(SIN($Q93)/Vout))))))","v":0.27745118486398},{"$f":"(I$5*((90/$G$18)*(90/$G$18))/2)*(1+(SQRT(1+(4/(I$5*((90/$G$18)*(90/$G$18))))*$I$23*(1-(SQRT(2)*Vin_rms_min*(SIN($Q93)/Vout))))))","v":0.273186989376005},{"$f":"(J$5*((90/$G$18)*(90/$G$18))/2)*(1+(SQRT(1+(4/(J$5*((90/$G$18)*(90/$G$18))))*$J$23*(1-(SQRT(2)*Vin_rms_min*(SIN($Q93)/Vout))))))","v":0.270328719723183},{"$f":"(K$5*((90/$G$18)*(90/$G$18))/2)*(1+(SQRT(1+(4/(K$5*((90/$G$18)*(90/$G$18))))*$K$23*(1-(SQRT(2)*Vin_rms_min*(SIN($Q93)/Vout))))))","v":0.405493079584775},{"$f":"(L$5*((90/$G$18)*(90/$G$18))/2)*(1+(SQRT(1+(4/(L$5*((90/$G$18)*(90/$G$18))))*$L$23*(1-(SQRT(2)*Vin_rms_min*(SIN($Q93)/Vout))))))","v":0.540657439446367},null,{"$f":"R93*ABS(1/(Vout/(SQRT(2)*$C$25*SIN($Q93))))","v":0.0676381191439712},{"$f":"S93*ABS(1/(Vout/(SQRT(2)*$C$25*SIN($Q93))))","v":0.0659788230944336},{"$f":"T93*ABS(1/(Vout/(SQRT(2)*$C$25*SIN($Q93))))","v":0.0649647830935625},{"$f":"U93*ABS(1/(Vout/(SQRT(2)*$C$25*SIN($Q93))))","v":0.0642850769756298},{"$f":"V93*ABS(1/(Vout/(SQRT(2)*$C$25*SIN($Q93))))","v":0.0964276154634447},{"$f":"W93*ABS(1/(Vout/(SQRT(2)*$C$25*SIN($Q93))))","v":0.12857015395126},null,{"$f":"1/(0.0000128*(R93+Y93+$G$23))","v":40227.7593779854},{"$f":"1/(0.0000128*(S93+Z93+$H$23))","v":85529.2680548293},{"$f":"1/(0.0000128*(T93+AA93+$I$23))","v":110949.092304353},{"$f":"1/(0.0000128*(U93+AB93+$J$23))","v":233478.119464155},{"$f":"1/(0.0000128*(V93+AC93+$K$23))","v":155652.07964277},{"$f":"1/(0.0000128*(W93+AD93+$L$23))","v":116739.059732078}]
["Bridge Rectifier Thermal Resistance, Junction to Case:","RqJC(Bridge)",2.2,"°C/W",null,null,null,null,null,null,null,null,null,null,null,null,{"$f":"Q93+0.01","v":0.88},{"$f":"(G$5*((90/$G$18)*(90/$G$18))/2)*(1+(SQRT(1+(4/(G$5*((90/$G$18)*(90/$G$18))))*$G$23*(1-(SQRT(2)*Vin_rms_min*(SIN($Q94)/Vout))))))","v":0.284095539404476},{"$f":"(H$5*((90/$G$18)*(90/$G$18))/2)*(1+(SQRT(1+(4/(H$5*((90/$G$18)*(90/$G$18))))*$H$23*(1-(SQRT(2)*Vin_rms_min*(SIN($Q94)/Vout))))))","v":0.277175887764386},{"$f":"(I$5*((90/$G$18)*(90/$G$18))/2)*(1+(SQRT(1+(4/(I$5*((90/$G$18)*(90/$G$18))))*$I$23*(1-(SQRT(2)*Vin_rms_min*(SIN($Q94)/Vout))))))","v":0.27294692628357},{"$f":"(J$5*((90/$G$18)*(90/$G$18))/2)*(1+(SQRT(1+(4/(J$5*((90/$G$18)*(90/$G$18))))*$J$23*(1-(SQRT(2)*Vin_rms_min*(SIN($Q94)/Vout))))))","v":0.270328719723183},{"$f":"(K$5*((90/$G$18)*(90/$G$18))/2)*(1+(SQRT(1+(4/(K$5*((90/$G$18)*(90/$G$18))))*$K$23*(1-(SQRT(2)*Vin_rms_min*(SIN($Q94)/Vout))))))","v":0.405493079584775},{"$f":"(L$5*((90/$G$18)*(90/$G$18))/2)*(1+(SQRT(1+(4/(L$5*((90/$G$18)*(90/$G$18))))*$L$23*(1-(SQRT(2)*Vin_rms_min*(SIN($Q94)/Vout))))))","v":0.540657439446367},null,{"$f":"R94*ABS(1/(Vout/(SQRT(2)*$C$25*SIN($Q94))))","v":0.068125446312568},{"$f":"S94*ABS(1/(Vout/(SQRT(2)*$C$25*SIN($Q94))))","v":0.0664661300230661},{"$f":"T94*ABS(1/(Vout/(SQRT(2)*$C$25*SIN($Q94))))","v":0.0654520349446178},{"$f":"U94*ABS(1/(Vout/(SQRT(2)*$C$25*SIN($Q94))))","v":0.0648241951311566},{"$f":"V94*ABS(1/(Vout/(SQRT(2)*$C$25*SIN($Q94))))","v":0.0972362926967349},{"$f":"W94*ABS(1/(Vout/(SQRT(2)*$C$25*SIN($Q94))))","v":0.129648390262313},null,{"$f":"1/(0.0000128*(R94+Y94+$G$23))","v":40224.5679428478},{"$f":"1/(0.0000128*(S94+Z94+$H$23))","v":85509.4210631793},{"$f":"1/(0.0000128*(T94+AA94+$I$23))","v":110910.157879537},{"$f":"1/(0.0000128*(U94+AB94+$J$23))","v":233102.55270778},{"$f":"1/(0.0000128*(V94+AC94+$K$23))","v":155401.701805187},{"$f":"1/(0.0000128*(W94+AD94+$L$23))","v":116551.27635389}]
["Case to Heatsink Thermal Resistance:","RθCHS(Bridge)",0.61,"°C/W",null,null,null,null,null,null,null,null,null,null,null,null,{"$f":"Q94+0.01","v":0.890000000000001},{"$f":"(G$5*((90/$G$18)*(90/$G$18))/2)*(1+(SQRT(1+(4/(G$5*((90/$G$18)*(90/$G$18))))*$G$23*(1-(SQRT(2)*Vin_rms_min*(SIN($Q95)/Vout))))))","v":0.283765878822052},{"$f":"(H$5*((90/$G$18)*(90/$G$18))/2)*(1+(SQRT(1+(4/(H$5*((90/$G$18)*(90/$G$18))))*$H$23*(1-(SQRT(2)*Vin_rms_min*(SIN($Q95)/Vout))))))","v":0.276903566845376},{"$f":"(I$5*((90/$G$18)*(90/$G$18))/2)*(1+(SQRT(1+(4/(I$5*((90/$G$18)*(90/$G$18))))*$I$23*(1-(SQRT(2)*Vin_rms_min*(SIN($Q95)/Vout))))))","v":0.272709473811847},{"$f":"(J$5*((90/$G$18)*(90/$G$18))/2)*(1+(SQRT(1+(4/(J$5*((90/$G$18)*(90/$G$18))))*$J$23*(1-(SQRT(2)*Vin_rms_min*(SIN($Q95)/Vout))))))","v":0.270328719723183},{"$f":"(K$5*((90/$G$18)*(90/$G$18))/2)*(1+(SQRT(1+(4/(K$5*((90/$G$18)*(90/$G$18))))*$K$23*(1-(SQRT(2)*Vin_rms_min*(SIN($Q95)/Vout))))))","v":0.405493079584775},{"$f":"(L$5*((90/$G$18)*(90/$G$18))/2)*(1+(SQRT(1+(4/(L$5*((90/$G$18)*(90/$G$18))))*$L$23*(1-(SQRT(2)*Vin_rms_min*(SIN($Q95)/Vout))))))","v":0.540657439446367},null,{"$f":"R95*ABS(1/(Vout/(SQRT(2)*$C$25*SIN($Q95))))","v":0.0686055058536399},{"$f":"S95*ABS(1/(Vout/(SQRT(2)*$C$25*SIN($Q95))))","v":0.066946418487535},{"$f":"T95*ABS(1/(Vout/(SQRT(2)*$C$25*SIN($Q95))))","v":0.065932421049376},{"$f":"U95*ABS(1/(Vout/(SQRT(2)*$C$25*SIN($Q95))))","v":0.0653568309211903},{"$f":"V95*ABS(1/(Vout/(SQRT(2)*$C$25*SIN($Q95))))","v":0.0980352463817854},{"$f":"W95*ABS(1/(Vout/(SQRT(2)*$C$25*SIN($Q95))))","v":0.130713661842381},null,{"$f":"1/(0.0000128*(R95+Y95+$G$23))","v":40221.4533308954},{"$f":"1/(0.0000128*(S95+Z95+$H$23))","v":85489.9614311855},{"$f":"1/(0.0000128*(T95+AA95+$I$23))","v":110871.920289932},{"$f":"1/(0.0000128*(U95+AB95+$J$23))","v":232732.686438344},{"$f":"1/(0.0000128*(V95+AC95+$K$23))","v":155155.12429223},{"$f":"1/(0.0000128*(W95+AD95+$L$23))","v":116366.343219172}]
["Bridge Rectifier Maximum Junction Temperature:","TJ(max)",125,"°C",null,null,null,null,null,null,null,null,null,null,null,null,{"$f":"Q95+0.01","v":0.900000000000001},{"$f":"(G$5*((90/$G$18)*(90/$G$18))/2)*(1+(SQRT(1+(4/(G$5*((90/$G$18)*(90/$G$18))))*$G$23*(1-(SQRT(2)*Vin_rms_min*(SIN($Q96)/Vout))))))","v":0.283439847218271},{"$f":"(H$5*((90/$G$18)*(90/$G$18))/2)*(1+(SQRT(1+(4/(H$5*((90/$G$18)*(90/$G$18))))*$H$23*(1-(SQRT(2)*Vin_rms_min*(SIN($Q96)/Vout))))))","v":0.276634260312835},{"$f":"(I$5*((90/$G$18)*(90/$G$18))/2)*(1+(SQRT(1+(4/(I$5*((90/$G$18)*(90/$G$18))))*$I$23*(1-(SQRT(2)*Vin_rms_min*(SIN($Q96)/Vout))))))","v":0.272474664823302},{"$f":"(J$5*((90/$G$18)*(90/$G$18))/2)*(1+(SQRT(1+(4/(J$5*((90/$G$18)*(90/$G$18))))*$J$23*(1-(SQRT(2)*Vin_rms_min*(SIN($Q96)/Vout))))))","v":0.270328719723183},{"$f":"(K$5*((90/$G$18)*(90/$G$18))/2)*(1+(SQRT(1+(4/(K$5*((90/$G$18)*(90/$G$18))))*$K$23*(1-(SQRT(2)*Vin_rms_min*(SIN($Q96)/Vout))))))","v":0.405493079584775},{"$f":"(L$5*((90/$G$18)*(90/$G$18))/2)*(1+(SQRT(1+(4/(L$5*((90/$G$18)*(90/$G$18))))*$L$23*(1-(SQRT(2)*Vin_rms_min*(SIN($Q96)/Vout))))))","v":0.540657439446367},null,{"$f":"R96*ABS(1/(Vout/(SQRT(2)*$C$25*SIN($Q96))))","v":0.0690782982269321},{"$f":"S96*ABS(1/(Vout/(SQRT(2)*$C$25*SIN($Q96))))","v":0.067419680476193},{"$f":"T96*ABS(1/(Vout/(SQRT(2)*$C$25*SIN($Q96))))","v":0.0664059282442844},{"$f":"U96*ABS(1/(Vout/(SQRT(2)*$C$25*SIN($Q96))))","v":0.0658829310825957},{"$f":"V96*ABS(1/(Vout/(SQRT(2)*$C$25*SIN($Q96))))","v":0.0988243966238936},{"$f":"W96*ABS(1/(Vout/(SQRT(2)*$C$25*SIN($Q96))))","v":0.131765862165191},null,{"$f":"1/(0.0000128*(R96+Y96+$G$23))","v":40218.4145271367},{"$f":"1/(0.0000128*(S96+Z96+$H$23))","v":85470.8858128888},{"$f":"1/(0.0000128*(T96+AA96+$I$23))","v":110834.375025146},{"$f":"1/(0.0000128*(U96+AB96+$J$23))","v":232368.508981656},{"$f":"1/(0.0000128*(V96+AC96+$K$23))","v":154912.339321104},{"$f":"1/(0.0000128*(W96+AD96+$L$23))","v":116184.254490828}]
["Bridge Rectifier Minimum Average Current Rating:","IBRIDGE(rated)",{"$f":"1.5*Iin_avg_max","v":0.681376438831703},"A",null,null,null,null,null,null,null,null,null,null,null,null,{"$f":"Q96+0.01","v":0.910000000000001},{"$f":"(G$5*((90/$G$18)*(90/$G$18))/2)*(1+(SQRT(1+(4/(G$5*((90/$G$18)*(90/$G$18))))*$G$23*(1-(SQRT(2)*Vin_rms_min*(SIN($Q97)/Vout))))))","v":0.283117491118415},{"$f":"(H$5*((90/$G$18)*(90/$G$18))/2)*(1+(SQRT(1+(4/(H$5*((90/$G$18)*(90/$G$18))))*$H$23*(1-(SQRT(2)*Vin_rms_min*(SIN($Q97)/Vout))))))","v":0.276368006101034},{"$f":"(I$5*((90/$G$18)*(90/$G$18))/2)*(1+(SQRT(1+(4/(I$5*((90/$G$18)*(90/$G$18))))*$I$23*(1-(SQRT(2)*Vin_rms_min*(SIN($Q97)/Vout))))))","v":0.272242531937433},{"$f":"(J$5*((90/$G$18)*(90/$G$18))/2)*(1+(SQRT(1+(4/(J$5*((90/$G$18)*(90/$G$18))))*$J$23*(1-(SQRT(2)*Vin_rms_min*(SIN($Q97)/Vout))))))","v":0.270328719723183},{"$f":"(K$5*((90/$G$18)*(90/$G$18))/2)*(1+(SQRT(1+(4/(K$5*((90/$G$18)*(90/$G$18))))*$K$23*(1-(SQRT(2)*Vin_rms_min*(SIN($Q97)/Vout))))))","v":0.405493079584775},{"$f":"(L$5*((90/$G$18)*(90/$G$18))/2)*(1+(SQRT(1+(4/(L$5*((90/$G$18)*(90/$G$18))))*$L$23*(1-(SQRT(2)*Vin_rms_min*(SIN($Q97)/Vout))))))","v":0.540657439446367},null,{"$f":"R97*ABS(1/(Vout/(SQRT(2)*$C$25*SIN($Q97))))","v":0.0695438245969023},{"$f":"S97*ABS(1/(Vout/(SQRT(2)*$C$25*SIN($Q97))))","v":0.0678859086542528},{"$f":"T97*ABS(1/(Vout/(SQRT(2)*$C$25*SIN($Q97))))","v":0.0668725440243277},{"$f":"U97*ABS(1/(Vout/(SQRT(2)*$C$25*SIN($Q97))))","v":0.0664024430057951},{"$f":"V97*ABS(1/(Vout/(SQRT(2)*$C$25*SIN($Q97))))","v":0.0996036645086927},{"$f":"W97*ABS(1/(Vout/(SQRT(2)*$C$25*SIN($Q97))))","v":0.13280488601159},null,{"$f":"1/(0.0000128*(R97+Y97+$G$23))","v":40215.4505100819},{"$f":"1/(0.0000128*(S97+Z97+$H$23))","v":85452.1908401249},{"$f":"1/(0.0000128*(T97+AA97+$I$23))","v":110797.517544834},{"$f":"1/(0.0000128*(U97+AB97+$J$23))","v":232010.008716894},{"$f":"1/(0.0000128*(V97+AC97+$K$23))","v":154673.339144596},{"$f":"1/(0.0000128*(W97+AD97+$L$23))","v":116005.004358447}]
["Bridge Rectifier Minimum DC Blocking Voltage Rating:","VDC_BLOCKING(rated)",{"$f":"Vin_pk_max*1.25","v":229.809703885628},"V",null,null,null,null,null,null,null,null,null,null,null,null,{"$f":"Q97+0.01","v":0.92},{"$f":"(G$5*((90/$G$18)*(90/$G$18))/2)*(1+(SQRT(1+(4/(G$5*((90/$G$18)*(90/$G$18))))*$G$23*(1-(SQRT(2)*Vin_rms_min*(SIN($Q98)/Vout))))))","v":0.282798856715628},{"$f":"(H$5*((90/$G$18)*(90/$G$18))/2)*(1+(SQRT(1+(4/(H$5*((90/$G$18)*(90/$G$18))))*$H$23*(1-(SQRT(2)*Vin_rms_min*(SIN($Q98)/Vout))))))","v":0.276104841863103},{"$f":"(I$5*((90/$G$18)*(90/$G$18))/2)*(1+(SQRT(1+(4/(I$5*((90/$G$18)*(90/$G$18))))*$I$23*(1-(SQRT(2)*Vin_rms_min*(SIN($Q98)/Vout))))))","v":0.272013107522772},{"$f":"(J$5*((90/$G$18)*(90/$G$18))/2)*(1+(SQRT(1+(4/(J$5*((90/$G$18)*(90/$G$18))))*$J$23*(1-(SQRT(2)*Vin_rms_min*(SIN($Q98)/Vout))))))","v":0.270328719723183},{"$f":"(K$5*((90/$G$18)*(90/$G$18))/2)*(1+(SQRT(1+(4/(K$5*((90/$G$18)*(90/$G$18))))*$K$23*(1-(SQRT(2)*Vin_rms_min*(SIN($Q98)/Vout))))))","v":0.405493079584775},{"$f":"(L$5*((90/$G$18)*(90/$G$18))/2)*(1+(SQRT(1+(4/(L$5*((90/$G$18)*(90/$G$18))))*$L$23*(1-(SQRT(2)*Vin_rms_min*(SIN($Q98)/Vout))))))","v":0.540657439446367},null,{"$f":"R98*ABS(1/(Vout/(SQRT(2)*$C$25*SIN($Q98))))","v":0.0700020868098084},{"$f":"S98*ABS(1/(Vout/(SQRT(2)*$C$25*SIN($Q98))))","v":0.0683450963457917},{"$f":"T98*ABS(1/(Vout/(SQRT(2)*$C$25*SIN($Q98))))","v":0.0673322565280461},{"$f":"U98*ABS(1/(Vout/(SQRT(2)*$C$25*SIN($Q98))))","v":0.0669153147400291},{"$f":"V98*ABS(1/(Vout/(SQRT(2)*$C$25*SIN($Q98))))","v":0.100372972110044},{"$f":"W98*ABS(1/(Vout/(SQRT(2)*$C$25*SIN($Q98))))","v":0.133830629480058},null,{"$f":"1/(0.0000128*(R98+Y98+$G$23))","v":40212.5602524329},{"$f":"1/(0.0000128*(S98+Z98+$H$23))","v":85433.8731248876},{"$f":"1/(0.0000128*(T98+AA98+$I$23))","v":110761.343282},{"$f":"1/(0.0000128*(U98+AB98+$J$23))","v":231657.17408271},{"$f":"1/(0.0000128*(V98+AC98+$K$23))","v":154438.11605514},{"$f":"1/(0.0000128*(W98+AD98+$L$23))","v":115828.587041355}]
["Bridge Rectifier Power Dissipation:","PBRIDGE",{"$f":"2*Vf_bridge*Iin_avg_max","v":0.908501918442271},"W",null,null,null,null,null,null,null,null,null,null,null,null,{"$f":"Q98+0.01","v":0.930000000000001},{"$f":"(G$5*((90/$G$18)*(90/$G$18))/2)*(1+(SQRT(1+(4/(G$5*((90/$G$18)*(90/$G$18))))*$G$23*(1-(SQRT(2)*Vin_rms_min*(SIN($Q99)/Vout))))))","v":0.282483989858901},{"$f":"(H$5*((90/$G$18)*(90/$G$18))/2)*(1+(SQRT(1+(4/(H$5*((90/$G$18)*(90/$G$18))))*$H$23*(1-(SQRT(2)*Vin_rms_min*(SIN($Q99)/Vout))))))","v":0.275844804961458},{"$f":"(I$5*((90/$G$18)*(90/$G$18))/2)*(1+(SQRT(1+(4/(I$5*((90/$G$18)*(90/$G$18))))*$I$23*(1-(SQRT(2)*Vin_rms_min*(SIN($Q99)/Vout))))))","v":0.271786423688868},{"$f":"(J$5*((90/$G$18)*(90/$G$18))/2)*(1+(SQRT(1+(4/(J$5*((90/$G$18)*(90/$G$18))))*$J$23*(1-(SQRT(2)*Vin_rms_min*(SIN($Q99)/Vout))))))","v":0.270328719723183},{"$f":"(K$5*((90/$G$18)*(90/$G$18))/2)*(1+(SQRT(1+(4/(K$5*((90/$G$18)*(90/$G$18))))*$K$23*(1-(SQRT(2)*Vin_rms_min*(SIN($Q99)/Vout))))))","v":0.405493079584775},{"$f":"(L$5*((90/$G$18)*(90/$G$18))/2)*(1+(SQRT(1+(4/(L$5*((90/$G$18)*(90/$G$18))))*$L$23*(1-(SQRT(2)*Vin_rms_min*(SIN($Q99)/Vout))))))","v":0.540657439446367},null,{"$f":"R99*ABS(1/(Vout/(SQRT(2)*$C$25*SIN($Q99))))","v":0.0704530873706108},{"$f":"S99*ABS(1/(Vout/(SQRT(2)*$C$25*SIN($Q99))))","v":0.0687972375156056},{"$f":"T99*ABS(1/(Vout/(SQRT(2)*$C$25*SIN($Q99))))","v":0.0677850545224247},{"$f":"U99*ABS(1/(Vout/(SQRT(2)*$C$25*SIN($Q99))))","v":0.0674214949985517},{"$f":"V99*ABS(1/(Vout/(SQRT(2)*$C$25*SIN($Q99))))","v":0.101132242497828},{"$f":"W99*ABS(1/(Vout/(SQRT(2)*$C$25*SIN($Q99))))","v":0.134842989997103},null,{"$f":"1/(0.0000128*(R99+Y99+$G$23))","v":40209.742721777},{"$f":"1/(0.0000128*(S99+Z99+$H$23))","v":85415.9292617025},{"$f":"1/(0.0000128*(T99+AA99+$I$23))","v":110725.847646302},{"$f":"1/(0.0000128*(U99+AB99+$J$23))","v":231309.993583173},{"$f":"1/(0.0000128*(V99+AC99+$K$23))","v":154206.662388782},{"$f":"1/(0.0000128*(W99+AD99+$L$23))","v":115654.996791587}]
["Required Heat Sink Thermal Impedance:","RqHS_AMB(Bridge)",{"$f":"((Tj_bridge-Tamb)/Pbridge)-Rjc_bridge-Rchs_bridge","v":79.7434855541042},"°C/W",null,null,null,null,null,null,null,null,null,null,null,null,{"$f":"Q99+0.01","v":0.940000000000001},{"$f":"(G$5*((90/$G$18)*(90/$G$18))/2)*(1+(SQRT(1+(4/(G$5*((90/$G$18)*(90/$G$18))))*$G$23*(1-(SQRT(2)*Vin_rms_min*(SIN($Q100)/Vout))))))","v":0.282172936040996},{"$f":"(H$5*((90/$G$18)*(90/$G$18))/2)*(1+(SQRT(1+(4/(H$5*((90/$G$18)*(90/$G$18))))*$H$23*(1-(SQRT(2)*Vin_rms_min*(SIN($Q100)/Vout))))))","v":0.275587932458193},{"$f":"(I$5*((90/$G$18)*(90/$G$18))/2)*(1+(SQRT(1+(4/(I$5*((90/$G$18)*(90/$G$18))))*$I$23*(1-(SQRT(2)*Vin_rms_min*(SIN($Q100)/Vout))))))","v":0.271562512278238},{"$f":"(J$5*((90/$G$18)*(90/$G$18))/2)*(1+(SQRT(1+(4/(J$5*((90/$G$18)*(90/$G$18))))*$J$23*(1-(SQRT(2)*Vin_rms_min*(SIN($Q100)/Vout))))))","v":0.270328719723183},{"$f":"(K$5*((90/$G$18)*(90/$G$18))/2)*(1+(SQRT(1+(4/(K$5*((90/$G$18)*(90/$G$18))))*$K$23*(1-(SQRT(2)*Vin_rms_min*(SIN($Q100)/Vout))))))","v":0.405493079584775},{"$f":"(L$5*((90/$G$18)*(90/$G$18))/2)*(1+(SQRT(1+(4/(L$5*((90/$G$18)*(90/$G$18))))*$L$23*(1-(SQRT(2)*Vin_rms_min*(SIN($Q100)/Vout))))))","v":0.540657439446367},null,{"$f":"R100*ABS(1/(Vout/(SQRT(2)*$C$25*SIN($Q100))))","v":0.0708968294197061},{"$f":"S100*ABS(1/(Vout/(SQRT(2)*$C$25*SIN($Q100))))","v":0.0692423267509234},{"$f":"T100*ABS(1/(Vout/(SQRT(2)*$C$25*SIN($Q100))))","v":0.0682309273876639},{"$f":"U100*ABS(1/(Vout/(SQRT(2)*$C$25*SIN($Q100))))","v":0.0679209331637588},{"$f":"V100*ABS(1/(Vout/(SQRT(2)*$C$25*SIN($Q100))))","v":0.101881399745638},{"$f":"W100*ABS(1/(Vout/(SQRT(2)*$C$25*SIN($Q100))))","v":0.135841866327518},null,{"$f":"1/(0.0000128*(R100+Y100+$G$23))","v":40206.9968812862},{"$f":"1/(0.0000128*(S100+Z100+$H$23))","v":85398.3558300095},{"$f":"1/(0.0000128*(T100+AA100+$I$23))","v":110691.026027362},{"$f":"1/(0.0000128*(U100+AB100+$J$23))","v":230968.455793546},{"$f":"1/(0.0000128*(V100+AC100+$K$23))","v":153978.970529031},{"$f":"1/(0.0000128*(W100+AD100+$L$23))","v":115484.227896773}]
[null,null,null,null,null,null,null,null,null,null,null,null,null,null,null,null,{"$f":"Q100+0.01","v":0.950000000000001},{"$f":"(G$5*((90/$G$18)*(90/$G$18))/2)*(1+(SQRT(1+(4/(G$5*((90/$G$18)*(90/$G$18))))*$G$23*(1-(SQRT(2)*Vin_rms_min*(SIN($Q101)/Vout))))))","v":0.281865740386321},{"$f":"(H$5*((90/$G$18)*(90/$G$18))/2)*(1+(SQRT(1+(4/(H$5*((90/$G$18)*(90/$G$18))))*$H$23*(1-(SQRT(2)*Vin_rms_min*(SIN($Q101)/Vout))))))","v":0.275334261105438},{"$f":"(I$5*((90/$G$18)*(90/$G$18))/2)*(1+(SQRT(1+(4/(I$5*((90/$G$18)*(90/$G$18))))*$I$23*(1-(SQRT(2)*Vin_rms_min*(SIN($Q101)/Vout))))))","v":0.271341404858305},{"$f":"(J$5*((90/$G$18)*(90/$G$18))/2)*(1+(SQRT(1+(4/(J$5*((90/$G$18)*(90/$G$18))))*$J$23*(1-(SQRT(2)*Vin_rms_min*(SIN($Q101)/Vout))))))","v":0.270328719723183},{"$f":"(K$5*((90/$G$18)*(90/$G$18))/2)*(1+(SQRT(1+(4/(K$5*((90/$G$18)*(90/$G$18))))*$K$23*(1-(SQRT(2)*Vin_rms_min*(SIN($Q101)/Vout))))))","v":0.405493079584775},{"$f":"(L$5*((90/$G$18)*(90/$G$18))/2)*(1+(SQRT(1+(4/(L$5*((90/$G$18)*(90/$G$18))))*$L$23*(1-(SQRT(2)*Vin_rms_min*(SIN($Q101)/Vout))))))","v":0.540657439446367},null,{"$f":"R101*ABS(1/(Vout/(SQRT(2)*$C$25*SIN($Q101))))","v":0.0713333167095033},{"$f":"S101*ABS(1/(Vout/(SQRT(2)*$C$25*SIN($Q101))))","v":0.0696803592429937},{"$f":"T101*ABS(1/(Vout/(SQRT(2)*$C$25*SIN($Q101))))","v":0.0686698651018403},{"$f":"U101*ABS(1/(Vout/(SQRT(2)*$C$25*SIN($Q101))))","v":0.0684135792922502},{"$f":"V101*ABS(1/(Vout/(SQRT(2)*$C$25*SIN($Q101))))","v":0.102620368938375},{"$f":"W101*ABS(1/(Vout/(SQRT(2)*$C$25*SIN($Q101))))","v":0.1368271585845},null,{"$f":"1/(0.0000128*(R101+Y101+$G$23))","v":40204.3216904193},{"$f":"1/(0.0000128*(S101+Z101+$H$23))","v":85381.1493965534},{"$f":"1/(0.0000128*(T101+AA101+$I$23))","v":110656.873798077},{"$f":"1/(0.0000128*(U101+AB101+$J$23))","v":230632.549365913},{"$f":"1/(0.0000128*(V101+AC101+$K$23))","v":153755.032910609},{"$f":"1/(0.0000128*(W101+AD101+$L$23))","v":115316.274682957}]
[null,null,null,null,null,null,null,null,null,null,null,null,null,null,null,null,{"$f":"Q101+0.01","v":0.960000000000001},{"$f":"(G$5*((90/$G$18)*(90/$G$18))/2)*(1+(SQRT(1+(4/(G$5*((90/$G$18)*(90/$G$18))))*$G$23*(1-(SQRT(2)*Vin_rms_min*(SIN($Q102)/Vout))))))","v":0.281562447638763},{"$f":"(H$5*((90/$G$18)*(90/$G$18))/2)*(1+(SQRT(1+(4/(H$5*((90/$G$18)*(90/$G$18))))*$H$23*(1-(SQRT(2)*Vin_rms_min*(SIN($Q102)/Vout))))))","v":0.275083827335687},{"$f":"(I$5*((90/$G$18)*(90/$G$18))/2)*(1+(SQRT(1+(4/(I$5*((90/$G$18)*(90/$G$18))))*$I$23*(1-(SQRT(2)*Vin_rms_min*(SIN($Q102)/Vout))))))","v":0.271123132713309},{"$f":"(J$5*((90/$G$18)*(90/$G$18))/2)*(1+(SQRT(1+(4/(J$5*((90/$G$18)*(90/$G$18))))*$J$23*(1-(SQRT(2)*Vin_rms_min*(SIN($Q102)/Vout))))))","v":0.270328719723183},{"$f":"(K$5*((90/$G$18)*(90/$G$18))/2)*(1+(SQRT(1+(4/(K$5*((90/$G$18)*(90/$G$18))))*$K$23*(1-(SQRT(2)*Vin_rms_min*(SIN($Q102)/Vout))))))","v":0.405493079584775},{"$f":"(L$5*((90/$G$18)*(90/$G$18))/2)*(1+(SQRT(1+(4/(L$5*((90/$G$18)*(90/$G$18))))*$L$23*(1-(SQRT(2)*Vin_rms_min*(SIN($Q102)/Vout))))))","v":0.540657439446367},null,{"$f":"R102*ABS(1/(Vout/(SQRT(2)*$C$25*SIN($Q102))))","v":0.071762553580862},{"$f":"S102*ABS(1/(Vout/(SQRT(2)*$C$25*SIN($Q102))))","v":0.070111330768557},{"$f":"T102*ABS(1/(Vout/(SQRT(2)*$C$25*SIN($Q102))))","v":0.0691018582254697},{"$f":"U102*ABS(1/(Vout/(SQRT(2)*$C$25*SIN($Q102))))","v":0.0688993841198234},{"$f":"V102*ABS(1/(Vout/(SQRT(2)*$C$25*SIN($Q102))))","v":0.103349076179735},{"$f":"W102*ABS(1/(Vout/(SQRT(2)*$C$25*SIN($Q102))))","v":0.137798768239647},null,{"$f":"1/(0.0000128*(R102+Y102+$G$23))","v":40201.7161056277},{"$f":"1/(0.0000128*(S102+Z102+$H$23))","v":85364.3065177814},{"$f":"1/(0.0000128*(T102+AA102+$I$23))","v":110623.386317934},{"$f":"1/(0.0000128*(U102+AB102+$J$23))","v":230302.263034657},{"$f":"1/(0.0000128*(V102+AC102+$K$23))","v":153534.842023105},{"$f":"1/(0.0000128*(W102+AD102+$L$23))","v":115151.131517328}]
["INPUT CAPACITOR:",null,null,null,null,null,null,null,null,null,null,null,null,null,null,null,{"$f":"Q102+0.01","v":0.970000000000001},{"$f":"(G$5*((90/$G$18)*(90/$G$18))/2)*(1+(SQRT(1+(4/(G$5*((90/$G$18)*(90/$G$18))))*$G$23*(1-(SQRT(2)*Vin_rms_min*(SIN($Q103)/Vout))))))","v":0.281263102149472},{"$f":"(H$5*((90/$G$18)*(90/$G$18))/2)*(1+(SQRT(1+(4/(H$5*((90/$G$18)*(90/$G$18))))*$H$23*(1-(SQRT(2)*Vin_rms_min*(SIN($Q103)/Vout))))))","v":0.274836667252108},{"$f":"(I$5*((90/$G$18)*(90/$G$18))/2)*(1+(SQRT(1+(4/(I$5*((90/$G$18)*(90/$G$18))))*$I$23*(1-(SQRT(2)*Vin_rms_min*(SIN($Q103)/Vout))))))","v":0.27090772683622},{"$f":"(J$5*((90/$G$18)*(90/$G$18))/2)*(1+(SQRT(1+(4/(J$5*((90/$G$18)*(90/$G$18))))*$J$23*(1-(SQRT(2)*Vin_rms_min*(SIN($Q103)/Vout))))))","v":0.270328719723183},{"$f":"(K$5*((90/$G$18)*(90/$G$18))/2)*(1+(SQRT(1+(4/(K$5*((90/$G$18)*(90/$G$18))))*$K$23*(1-(SQRT(2)*Vin_rms_min*(SIN($Q103)/Vout))))))","v":0.405493079584775},{"$f":"(L$5*((90/$G$18)*(90/$G$18))/2)*(1+(SQRT(1+(4/(L$5*((90/$G$18)*(90/$G$18))))*$L$23*(1-(SQRT(2)*Vin_rms_min*(SIN($Q103)/Vout))))))","v":0.540657439446367},null,{"$f":"R103*ABS(1/(Vout/(SQRT(2)*$C$25*SIN($Q103))))","v":0.072184544939404},{"$f":"S103*ABS(1/(Vout/(SQRT(2)*$C$25*SIN($Q103))))","v":0.0705352376712135},{"$f":"T103*ABS(1/(Vout/(SQRT(2)*$C$25*SIN($Q103))))","v":0.069526897885982},{"$f":"U103*ABS(1/(Vout/(SQRT(2)*$C$25*SIN($Q103))))","v":0.0693782990664006},{"$f":"V103*ABS(1/(Vout/(SQRT(2)*$C$25*SIN($Q103))))","v":0.104067448599601},{"$f":"W103*ABS(1/(Vout/(SQRT(2)*$C$25*SIN($Q103))))","v":0.138756598132801},null,{"$f":"1/(0.0000128*(R103+Y103+$G$23))","v":40199.1790810649},{"$f":"1/(0.0000128*(S103+Z103+$H$23))","v":85347.8237422464},{"$f":"1/(0.0000128*(T103+AA103+$I$23))","v":110590.558936323},{"$f":"1/(0.0000128*(U103+AB103+$J$23))","v":229977.585621777},{"$f":"1/(0.0000128*(V103+AC103+$K$23))","v":153318.390414518},{"$f":"1/(0.0000128*(W103+AD103+$L$23))","v":114988.792810888}]
["Maximum High Frequency Voltage Ripple Factor (i.e. 0.03 for 3%, 0.12 for 12%):","VCin_ripple_factor",0.12,null,null,null,null,null,null,null,null,null,null,null,null,null,{"$f":"Q103+0.01","v":0.980000000000001},{"$f":"(G$5*((90/$G$18)*(90/$G$18))/2)*(1+(SQRT(1+(4/(G$5*((90/$G$18)*(90/$G$18))))*$G$23*(1-(SQRT(2)*Vin_rms_min*(SIN($Q104)/Vout))))))","v":0.280967747864627},{"$f":"(H$5*((90/$G$18)*(90/$G$18))/2)*(1+(SQRT(1+(4/(H$5*((90/$G$18)*(90/$G$18))))*$H$23*(1-(SQRT(2)*Vin_rms_min*(SIN($Q104)/Vout))))))","v":0.274592816618834},{"$f":"(I$5*((90/$G$18)*(90/$G$18))/2)*(1+(SQRT(1+(4/(I$5*((90/$G$18)*(90/$G$18))))*$I$23*(1-(SQRT(2)*Vin_rms_min*(SIN($Q104)/Vout))))))","v":0.270695217920628},{"$f":"(J$5*((90/$G$18)*(90/$G$18))/2)*(1+(SQRT(1+(4/(J$5*((90/$G$18)*(90/$G$18))))*$J$23*(1-(SQRT(2)*Vin_rms_min*(SIN($Q104)/Vout))))))","v":0.270328719723183},{"$f":"(K$5*((90/$G$18)*(90/$G$18))/2)*(1+(SQRT(1+(4/(K$5*((90/$G$18)*(90/$G$18))))*$K$23*(1-(SQRT(2)*Vin_rms_min*(SIN($Q104)/Vout))))))","v":0.405493079584775},{"$f":"(L$5*((90/$G$18)*(90/$G$18))/2)*(1+(SQRT(1+(4/(L$5*((90/$G$18)*(90/$G$18))))*$L$23*(1-(SQRT(2)*Vin_rms_min*(SIN($Q104)/Vout))))))","v":0.540657439446367},null,{"$f":"R104*ABS(1/(Vout/(SQRT(2)*$C$25*SIN($Q104))))","v":0.0725992962317159},{"$f":"S104*ABS(1/(Vout/(SQRT(2)*$C$25*SIN($Q104))))","v":0.0709520768427021},{"$f":"T104*ABS(1/(Vout/(SQRT(2)*$C$25*SIN($Q104))))","v":0.0699449757621191},{"$f":"U104*ABS(1/(Vout/(SQRT(2)*$C$25*SIN($Q104))))","v":0.0698502762408862},{"$f":"V104*ABS(1/(Vout/(SQRT(2)*$C$25*SIN($Q104))))","v":0.104775414361329},{"$f":"W104*ABS(1/(Vout/(SQRT(2)*$C$25*SIN($Q104))))","v":0.139700552481772},null,{"$f":"1/(0.0000128*(R104+Y104+$G$23))","v":40196.7095692982},{"$f":"1/(0.0000128*(S104+Z104+$H$23))","v":85331.6976130152},{"$f":"1/(0.0000128*(T104+AA104+$I$23))","v":110558.386995851},{"$f":"1/(0.0000128*(U104+AB104+$J$23))","v":229658.506042071},{"$f":"1/(0.0000128*(V104+AC104+$K$23))","v":153105.670694714},{"$f":"1/(0.0000128*(W104+AD104+$L$23))","v":114829.253021036}]
["Maximum Inductor Voltage Ripple:","VIN_RIPPLE",{"$f":"V_ripplefactor*Vin_pk_min","v":18.6676190233249},"V",null,null,null,null,null,null,null,null,null,null,null,null,{"$f":"Q104+0.01","v":0.990000000000001},{"$f":"(G$5*((90/$G$18)*(90/$G$18))/2)*(1+(SQRT(1+(4/(G$5*((90/$G$18)*(90/$G$18))))*$G$23*(1-(SQRT(2)*Vin_rms_min*(SIN($Q105)/Vout))))))","v":0.280676428313161},{"$f":"(H$5*((90/$G$18)*(90/$G$18))/2)*(1+(SQRT(1+(4/(H$5*((90/$G$18)*(90/$G$18))))*$H$23*(1-(SQRT(2)*Vin_rms_min*(SIN($Q105)/Vout))))))","v":0.274352310851234},{"$f":"(I$5*((90/$G$18)*(90/$G$18))/2)*(1+(SQRT(1+(4/(I$5*((90/$G$18)*(90/$G$18))))*$I$23*(1-(SQRT(2)*Vin_rms_min*(SIN($Q105)/Vout))))))","v":0.27048563635264},{"$f":"(J$5*((90/$G$18)*(90/$G$18))/2)*(1+(SQRT(1+(4/(J$5*((90/$G$18)*(90/$G$18))))*$J$23*(1-(SQRT(2)*Vin_rms_min*(SIN($Q105)/Vout))))))","v":0.270328719723183},{"$f":"(K$5*((90/$G$18)*(90/$G$18))/2)*(1+(SQRT(1+(4/(K$5*((90/$G$18)*(90/$G$18))))*$K$23*(1-(SQRT(2)*Vin_rms_min*(SIN($Q105)/Vout))))))","v":0.405493079584775},{"$f":"(L$5*((90/$G$18)*(90/$G$18))/2)*(1+(SQRT(1+(4/(L$5*((90/$G$18)*(90/$G$18))))*$L$23*(1-(SQRT(2)*Vin_rms_min*(SIN($Q105)/Vout))))))","v":0.540657439446367},null,{"$f":"R105*ABS(1/(Vout/(SQRT(2)*$C$25*SIN($Q105))))","v":0.073006813421458},{"$f":"S105*ABS(1/(Vout/(SQRT(2)*$C$25*SIN($Q105))))","v":0.0713618457041009},{"$f":"T105*ABS(1/(Vout/(SQRT(2)*$C$25*SIN($Q105))))","v":0.0703560840682664},{"$f":"U105*ABS(1/(Vout/(SQRT(2)*$C$25*SIN($Q105))))","v":0.0703152684459561},{"$f":"V105*ABS(1/(Vout/(SQRT(2)*$C$25*SIN($Q105))))","v":0.105472902668934},{"$f":"W105*ABS(1/(Vout/(SQRT(2)*$C$25*SIN($Q105))))","v":0.140630536891912},null,{"$f":"1/(0.0000128*(R105+Y105+$G$23))","v":40194.3065220227},{"$f":"1/(0.0000128*(S105+Z105+$H$23))","v":85315.9246700791},{"$f":"1/(0.0000128*(T105+AA105+$I$23))","v":110526.865835648},{"$f":"1/(0.0000128*(U105+AB105+$J$23))","v":229345.013308172},{"$f":"1/(0.0000128*(V105+AC105+$K$23))","v":152896.675538781},{"$f":"1/(0.0000128*(W105+AD105+$L$23))","v":114672.506654086}]
["Switching Frequency at Lowest line and Maximum Output Power, fSW:","fSW",{"$f":"Vin_pk_min^2*(Vout-Vin_pk_min)/(4*Pin*Vout*Lbst)*kHz","v":111.546776209355},"kHz",null,null,null,null,null,null,null,null,null,null,null,null,{"$f":"Q105+0.01","v":1},{"$f":"(G$5*((90/$G$18)*(90/$G$18))/2)*(1+(SQRT(1+(4/(G$5*((90/$G$18)*(90/$G$18))))*$G$23*(1-(SQRT(2)*Vin_rms_min*(SIN($Q106)/Vout))))))","v":0.280389186594474},{"$f":"(H$5*((90/$G$18)*(90/$G$18))/2)*(1+(SQRT(1+(4/(H$5*((90/$G$18)*(90/$G$18))))*$H$23*(1-(SQRT(2)*Vin_rms_min*(SIN($Q106)/Vout))))))","v":0.274115185006184},{"$f":"(I$5*((90/$G$18)*(90/$G$18))/2)*(1+(SQRT(1+(4/(I$5*((90/$G$18)*(90/$G$18))))*$I$23*(1-(SQRT(2)*Vin_rms_min*(SIN($Q106)/Vout))))))","v":0.27027901220277},{"$f":"(J$5*((90/$G$18)*(90/$G$18))/2)*(1+(SQRT(1+(4/(J$5*((90/$G$18)*(90/$G$18))))*$J$23*(1-(SQRT(2)*Vin_rms_min*(SIN($Q106)/Vout))))))","v":0.270328719723183},{"$f":"(K$5*((90/$G$18)*(90/$G$18))/2)*(1+(SQRT(1+(4/(K$5*((90/$G$18)*(90/$G$18))))*$K$23*(1-(SQRT(2)*Vin_rms_min*(SIN($Q106)/Vout))))))","v":0.405493079584775},{"$f":"(L$5*((90/$G$18)*(90/$G$18))/2)*(1+(SQRT(1+(4/(L$5*((90/$G$18)*(90/$G$18))))*$L$23*(1-(SQRT(2)*Vin_rms_min*(SIN($Q106)/Vout))))))","v":0.540657439446367},null,{"$f":"R106*ABS(1/(Vout/(SQRT(2)*$C$25*SIN($Q106))))","v":0.0734071029653954},{"$f":"S106*ABS(1/(Vout/(SQRT(2)*$C$25*SIN($Q106))))","v":0.071764542186963},{"$f":"T106*ABS(1/(Vout/(SQRT(2)*$C$25*SIN($Q106))))","v":0.0707602155387297},{"$f":"U106*ABS(1/(Vout/(SQRT(2)*$C$25*SIN($Q106))))","v":0.0707732291827773},{"$f":"V106*ABS(1/(Vout/(SQRT(2)*$C$25*SIN($Q106))))","v":0.106159843774166},{"$f":"W106*ABS(1/(Vout/(SQRT(2)*$C$25*SIN($Q106))))","v":0.141546458365555},null,{"$f":"1/(0.0000128*(R106+Y106+$G$23))","v":40191.968890778},{"$f":"1/(0.0000128*(S106+Z106+$H$23))","v":85300.5014527682},{"$f":"1/(0.0000128*(T106+AA106+$I$23))","v":110495.990794677},{"$f":"1/(0.0000128*(U106+AB106+$J$23))","v":229037.096535436},{"$f":"1/(0.0000128*(V106+AC106+$K$23))","v":152691.397690291},{"$f":"1/(0.0000128*(W106+AD106+$L$23))","v":114518.548267718}]
["Recommended Input Capacitor Value:","CIN(recommended)",{"$f":"Iin_pk_max/(8*fsw*kHz*Vin_ripple)/uF","v":0.0428331279687857},"\u009dµF",null,null,null,null,null,null,null,null,null,null,null,null,{"$f":"Q106+0.01","v":1.01},{"$f":"(G$5*((90/$G$18)*(90/$G$18))/2)*(1+(SQRT(1+(4/(G$5*((90/$G$18)*(90/$G$18))))*$G$23*(1-(SQRT(2)*Vin_rms_min*(SIN($Q107)/Vout))))))","v":0.280106065366137},{"$f":"(H$5*((90/$G$18)*(90/$G$18))/2)*(1+(SQRT(1+(4/(H$5*((90/$G$18)*(90/$G$18))))*$H$23*(1-(SQRT(2)*Vin_rms_min*(SIN($Q107)/Vout))))))","v":0.273881473772333},{"$f":"(I$5*((90/$G$18)*(90/$G$18))/2)*(1+(SQRT(1+(4/(I$5*((90/$G$18)*(90/$G$18))))*$I$23*(1-(SQRT(2)*Vin_rms_min*(SIN($Q107)/Vout))))))","v":0.270075375217837},{"$f":"(J$5*((90/$G$18)*(90/$G$18))/2)*(1+(SQRT(1+(4/(J$5*((90/$G$18)*(90/$G$18))))*$J$23*(1-(SQRT(2)*Vin_rms_min*(SIN($Q107)/Vout))))))","v":0.270328719723183},{"$f":"(K$5*((90/$G$18)*(90/$G$18))/2)*(1+(SQRT(1+(4/(K$5*((90/$G$18)*(90/$G$18))))*$K$23*(1-(SQRT(2)*Vin_rms_min*(SIN($Q107)/Vout))))))","v":0.405493079584775},{"$f":"(L$5*((90/$G$18)*(90/$G$18))/2)*(1+(SQRT(1+(4/(L$5*((90/$G$18)*(90/$G$18))))*$L$23*(1-(SQRT(2)*Vin_rms_min*(SIN($Q107)/Vout))))))","v":0.540657439446367},null,{"$f":"R107*ABS(1/(Vout/(SQRT(2)*$C$25*SIN($Q107))))","v":0.0738001717893676},{"$f":"S107*ABS(1/(Vout/(SQRT(2)*$C$25*SIN($Q107))))","v":0.0721601647144017},{"$f":"T107*ABS(1/(Vout/(SQRT(2)*$C$25*SIN($Q107))))","v":0.0711573634119666},{"$f":"U107*ABS(1/(Vout/(SQRT(2)*$C$25*SIN($Q107))))","v":0.0712241126556577},{"$f":"V107*ABS(1/(Vout/(SQRT(2)*$C$25*SIN($Q107))))","v":0.106836168983487},{"$f":"W107*ABS(1/(Vout/(SQRT(2)*$C$25*SIN($Q107))))","v":0.142448225311315},null,{"$f":"1/(0.0000128*(R107+Y107+$G$23))","v":40189.6956276654},{"$f":"1/(0.0000128*(S107+Z107+$H$23))","v":85285.424502165},{"$f":"1/(0.0000128*(T107+AA107+$I$23))","v":110465.757215029},{"$f":"1/(0.0000128*(U107+AB107+$J$23))","v":228734.744946708},{"$f":"1/(0.0000128*(V107+AC107+$K$23))","v":152489.829964472},{"$f":"1/(0.0000128*(W107+AD107+$L$23))","v":114367.372473354}]
["Actual Value of Input Capacitor Used:","CIN",0.1,"µF",null,null,null,null,null,null,null,null,null,null,null,null,{"$f":"Q107+0.01","v":1.02},{"$f":"(G$5*((90/$G$18)*(90/$G$18))/2)*(1+(SQRT(1+(4/(G$5*((90/$G$18)*(90/$G$18))))*$G$23*(1-(SQRT(2)*Vin_rms_min*(SIN($Q108)/Vout))))))","v":0.279827106831575},{"$f":"(H$5*((90/$G$18)*(90/$G$18))/2)*(1+(SQRT(1+(4/(H$5*((90/$G$18)*(90/$G$18))))*$H$23*(1-(SQRT(2)*Vin_rms_min*(SIN($Q108)/Vout))))))","v":0.273651211460368},{"$f":"(I$5*((90/$G$18)*(90/$G$18))/2)*(1+(SQRT(1+(4/(I$5*((90/$G$18)*(90/$G$18))))*$I$23*(1-(SQRT(2)*Vin_rms_min*(SIN($Q108)/Vout))))))","v":0.269874754812867},{"$f":"(J$5*((90/$G$18)*(90/$G$18))/2)*(1+(SQRT(1+(4/(J$5*((90/$G$18)*(90/$G$18))))*$J$23*(1-(SQRT(2)*Vin_rms_min*(SIN($Q108)/Vout))))))","v":0.270328719723183},{"$f":"(K$5*((90/$G$18)*(90/$G$18))/2)*(1+(SQRT(1+(4/(K$5*((90/$G$18)*(90/$G$18))))*$K$23*(1-(SQRT(2)*Vin_rms_min*(SIN($Q108)/Vout))))))","v":0.405493079584775},{"$f":"(L$5*((90/$G$18)*(90/$G$18))/2)*(1+(SQRT(1+(4/(L$5*((90/$G$18)*(90/$G$18))))*$L$23*(1-(SQRT(2)*Vin_rms_min*(SIN($Q108)/Vout))))))","v":0.540657439446367},null,{"$f":"R108*ABS(1/(Vout/(SQRT(2)*$C$25*SIN($Q108))))","v":0.0741860272642124},{"$f":"S108*ABS(1/(Vout/(SQRT(2)*$C$25*SIN($Q108))))","v":0.0725487121821354},{"$f":"T108*ABS(1/(Vout/(SQRT(2)*$C$25*SIN($Q108))))","v":0.071547521414787},{"$f":"U108*ABS(1/(Vout/(SQRT(2)*$C$25*SIN($Q108))))","v":0.0716678737766258},{"$f":"V108*ABS(1/(Vout/(SQRT(2)*$C$25*SIN($Q108))))","v":0.107501810664939},{"$f":"W108*ABS(1/(Vout/(SQRT(2)*$C$25*SIN($Q108))))","v":0.143335747553252},null,{"$f":"1/(0.0000128*(R108+Y108+$G$23))","v":40187.4856860666},{"$f":"1/(0.0000128*(S108+Z108+$H$23))","v":85270.6903635194},{"$f":"1/(0.0000128*(T108+AA108+$I$23))","v":110436.16044522},{"$f":"1/(0.0000128*(U108+AB108+$J$23))","v":228437.947876939},{"$f":"1/(0.0000128*(V108+AC108+$K$23))","v":152291.965251292},{"$f":"1/(0.0000128*(W108+AD108+$L$23))","v":114218.973938469}]
["Required Minimum Voltage Rating for CIN:","VCIN(rating)",{"$f":"1.25*Vin_pk_max","v":229.809703885628},"V",null,null,null,null,null,null,null,null,null,null,null,null,{"$f":"Q108+0.01","v":1.03},{"$f":"(G$5*((90/$G$18)*(90/$G$18))/2)*(1+(SQRT(1+(4/(G$5*((90/$G$18)*(90/$G$18))))*$G$23*(1-(SQRT(2)*Vin_rms_min*(SIN($Q109)/Vout))))))","v":0.279552352727771},{"$f":"(H$5*((90/$G$18)*(90/$G$18))/2)*(1+(SQRT(1+(4/(H$5*((90/$G$18)*(90/$G$18))))*$H$23*(1-(SQRT(2)*Vin_rms_min*(SIN($Q109)/Vout))))))","v":0.273424431993291},{"$f":"(I$5*((90/$G$18)*(90/$G$18))/2)*(1+(SQRT(1+(4/(I$5*((90/$G$18)*(90/$G$18))))*$I$23*(1-(SQRT(2)*Vin_rms_min*(SIN($Q109)/Vout))))))","v":0.269677180063016},{"$f":"(J$5*((90/$G$18)*(90/$G$18))/2)*(1+(SQRT(1+(4/(J$5*((90/$G$18)*(90/$G$18))))*$J$23*(1-(SQRT(2)*Vin_rms_min*(SIN($Q109)/Vout))))))","v":0.270328719723183},{"$f":"(K$5*((90/$G$18)*(90/$G$18))/2)*(1+(SQRT(1+(4/(K$5*((90/$G$18)*(90/$G$18))))*$K$23*(1-(SQRT(2)*Vin_rms_min*(SIN($Q109)/Vout))))))","v":0.405493079584775},{"$f":"(L$5*((90/$G$18)*(90/$G$18))/2)*(1+(SQRT(1+(4/(L$5*((90/$G$18)*(90/$G$18))))*$L$23*(1-(SQRT(2)*Vin_rms_min*(SIN($Q109)/Vout))))))","v":0.540657439446367},null,{"$f":"R109*ABS(1/(Vout/(SQRT(2)*$C$25*SIN($Q109))))","v":0.0745646771816621},{"$f":"S109*ABS(1/(Vout/(SQRT(2)*$C$25*SIN($Q109))))","v":0.0729301839395097},{"$f":"T109*ABS(1/(Vout/(SQRT(2)*$C$25*SIN($Q109))))","v":0.0719306837465302},{"$f":"U109*ABS(1/(Vout/(SQRT(2)*$C$25*SIN($Q109))))","v":0.0721044681699392},{"$f":"V109*ABS(1/(Vout/(SQRT(2)*$C$25*SIN($Q109))))","v":0.108156702254909},{"$f":"W109*ABS(1/(Vout/(SQRT(2)*$C$25*SIN($Q109))))","v":0.144208936339878},null,{"$f":"1/(0.0000128*(R109+Y109+$G$23))","v":40185.3380213636},{"$f":"1/(0.0000128*(S109+Z109+$H$23))","v":85256.2955886602},{"$f":"1/(0.0000128*(T109+AA109+$I$23))","v":110407.19584347},{"$f":"1/(0.0000128*(U109+AB109+$J$23))","v":228146.69477768},{"$f":"1/(0.0000128*(V109+AC109+$K$23))","v":152097.796518453},{"$f":"1/(0.0000128*(W109+AD109+$L$23))","v":114073.34738884}]
[null,null,null,null,null,null,null,null,null,null,null,null,null,null,null,null,{"$f":"Q109+0.01","v":1.04},{"$f":"(G$5*((90/$G$18)*(90/$G$18))/2)*(1+(SQRT(1+(4/(G$5*((90/$G$18)*(90/$G$18))))*$G$23*(1-(SQRT(2)*Vin_rms_min*(SIN($Q110)/Vout))))))","v":0.27928184431296},{"$f":"(H$5*((90/$G$18)*(90/$G$18))/2)*(1+(SQRT(1+(4/(H$5*((90/$G$18)*(90/$G$18))))*$H$23*(1-(SQRT(2)*Vin_rms_min*(SIN($Q110)/Vout))))))","v":0.27320116889671},{"$f":"(I$5*((90/$G$18)*(90/$G$18))/2)*(1+(SQRT(1+(4/(I$5*((90/$G$18)*(90/$G$18))))*$I$23*(1-(SQRT(2)*Vin_rms_min*(SIN($Q110)/Vout))))))","v":0.2694826796955},{"$f":"(J$5*((90/$G$18)*(90/$G$18))/2)*(1+(SQRT(1+(4/(J$5*((90/$G$18)*(90/$G$18))))*$J$23*(1-(SQRT(2)*Vin_rms_min*(SIN($Q110)/Vout))))))","v":0.270328719723183},{"$f":"(K$5*((90/$G$18)*(90/$G$18))/2)*(1+(SQRT(1+(4/(K$5*((90/$G$18)*(90/$G$18))))*$K$23*(1-(SQRT(2)*Vin_rms_min*(SIN($Q110)/Vout))))))","v":0.405493079584775},{"$f":"(L$5*((90/$G$18)*(90/$G$18))/2)*(1+(SQRT(1+(4/(L$5*((90/$G$18)*(90/$G$18))))*$L$23*(1-(SQRT(2)*Vin_rms_min*(SIN($Q110)/Vout))))))","v":0.540657439446367},null,{"$f":"R110*ABS(1/(Vout/(SQRT(2)*$C$25*SIN($Q110))))","v":0.0749361297302277},{"$f":"S110*ABS(1/(Vout/(SQRT(2)*$C$25*SIN($Q110))))","v":0.0733045797705069},{"$f":"T110*ABS(1/(Vout/(SQRT(2)*$C$25*SIN($Q110))))","v":0.0723068450632338},{"$f":"U110*ABS(1/(Vout/(SQRT(2)*$C$25*SIN($Q110))))","v":0.0725338521765225},{"$f":"V110*ABS(1/(Vout/(SQRT(2)*$C$25*SIN($Q110))))","v":0.108800778264784},{"$f":"W110*ABS(1/(Vout/(SQRT(2)*$C$25*SIN($Q110))))","v":0.145067704353045},null,{"$f":"1/(0.0000128*(R110+Y110+$G$23))","v":40183.2515916575},{"$f":"1/(0.0000128*(S110+Z110+$H$23))","v":85242.236738405},{"$f":"1/(0.0000128*(T110+AA110+$I$23))","v":110378.858780978},{"$f":"1/(0.0000128*(U110+AB110+$J$23))","v":227860.975221446},{"$f":"1/(0.0000128*(V110+AC110+$K$23))","v":151907.316814297},{"$f":"1/(0.0000128*(W110+AD110+$L$23))","v":113930.487610723}]
[null,null,null,null,null,null,null,null,null,null,null,null,null,null,null,null,{"$f":"Q110+0.01","v":1.05},{"$f":"(G$5*((90/$G$18)*(90/$G$18))/2)*(1+(SQRT(1+(4/(G$5*((90/$G$18)*(90/$G$18))))*$G$23*(1-(SQRT(2)*Vin_rms_min*(SIN($Q111)/Vout))))))","v":0.279015622354352},{"$f":"(H$5*((90/$G$18)*(90/$G$18))/2)*(1+(SQRT(1+(4/(H$5*((90/$G$18)*(90/$G$18))))*$H$23*(1-(SQRT(2)*Vin_rms_min*(SIN($Q111)/Vout))))))","v":0.272981455289147},{"$f":"(I$5*((90/$G$18)*(90/$G$18))/2)*(1+(SQRT(1+(4/(I$5*((90/$G$18)*(90/$G$18))))*$I$23*(1-(SQRT(2)*Vin_rms_min*(SIN($Q111)/Vout))))))","v":0.269291282081557},{"$f":"(J$5*((90/$G$18)*(90/$G$18))/2)*(1+(SQRT(1+(4/(J$5*((90/$G$18)*(90/$G$18))))*$J$23*(1-(SQRT(2)*Vin_rms_min*(SIN($Q111)/Vout))))))","v":0.270328719723183},{"$f":"(K$5*((90/$G$18)*(90/$G$18))/2)*(1+(SQRT(1+(4/(K$5*((90/$G$18)*(90/$G$18))))*$K$23*(1-(SQRT(2)*Vin_rms_min*(SIN($Q111)/Vout))))))","v":0.405493079584775},{"$f":"(L$5*((90/$G$18)*(90/$G$18))/2)*(1+(SQRT(1+(4/(L$5*((90/$G$18)*(90/$G$18))))*$L$23*(1-(SQRT(2)*Vin_rms_min*(SIN($Q111)/Vout))))))","v":0.540657439446367},null,{"$f":"R111*ABS(1/(Vout/(SQRT(2)*$C$25*SIN($Q111))))","v":0.0753003934710879},{"$f":"S111*ABS(1/(Vout/(SQRT(2)*$C$25*SIN($Q111))))","v":0.0736718998747575},{"$f":"T111*ABS(1/(Vout/(SQRT(2)*$C$25*SIN($Q111))))","v":0.0726760004618024},{"$f":"U111*ABS(1/(Vout/(SQRT(2)*$C$25*SIN($Q111))))","v":0.0729559828583328},{"$f":"V111*ABS(1/(Vout/(SQRT(2)*$C$25*SIN($Q111))))","v":0.109433974287499},{"$f":"W111*ABS(1/(Vout/(SQRT(2)*$C$25*SIN($Q111))))","v":0.145911965716666},null,{"$f":"1/(0.0000128*(R111+Y111+$G$23))","v":40181.2253584883},{"$f":"1/(0.0000128*(S111+Z111+$H$23))","v":85228.5103849652},{"$f":"1/(0.0000128*(T111+AA111+$I$23))","v":110351.144645184},{"$f":"1/(0.0000128*(U111+AB111+$J$23))","v":227580.778905953},{"$f":"1/(0.0000128*(V111+AC111+$K$23))","v":151720.519270636},{"$f":"1/(0.0000128*(W111+AD111+$L$23))","v":113790.389452977}]
["BOOST DIODE:",null,null,null,null,null,null,null,null,null,null,null,null,null,null,null,{"$f":"Q111+0.01","v":1.06},{"$f":"(G$5*((90/$G$18)*(90/$G$18))/2)*(1+(SQRT(1+(4/(G$5*((90/$G$18)*(90/$G$18))))*$G$23*(1-(SQRT(2)*Vin_rms_min*(SIN($Q112)/Vout))))))","v":0.278753727115869},{"$f":"(H$5*((90/$G$18)*(90/$G$18))/2)*(1+(SQRT(1+(4/(H$5*((90/$G$18)*(90/$G$18))))*$H$23*(1-(SQRT(2)*Vin_rms_min*(SIN($Q112)/Vout))))))","v":0.272765323872372},{"$f":"(I$5*((90/$G$18)*(90/$G$18))/2)*(1+(SQRT(1+(4/(I$5*((90/$G$18)*(90/$G$18))))*$I$23*(1-(SQRT(2)*Vin_rms_min*(SIN($Q112)/Vout))))))","v":0.269103015228428},{"$f":"(J$5*((90/$G$18)*(90/$G$18))/2)*(1+(SQRT(1+(4/(J$5*((90/$G$18)*(90/$G$18))))*$J$23*(1-(SQRT(2)*Vin_rms_min*(SIN($Q112)/Vout))))))","v":0.270328719723183},{"$f":"(K$5*((90/$G$18)*(90/$G$18))/2)*(1+(SQRT(1+(4/(K$5*((90/$G$18)*(90/$G$18))))*$K$23*(1-(SQRT(2)*Vin_rms_min*(SIN($Q112)/Vout))))))","v":0.405493079584775},{"$f":"(L$5*((90/$G$18)*(90/$G$18))/2)*(1+(SQRT(1+(4/(L$5*((90/$G$18)*(90/$G$18))))*$L$23*(1-(SQRT(2)*Vin_rms_min*(SIN($Q112)/Vout))))))","v":0.540657439446367},null,{"$f":"R112*ABS(1/(Vout/(SQRT(2)*$C$25*SIN($Q112))))","v":0.0756574773140014},{"$f":"S112*ABS(1/(Vout/(SQRT(2)*$C$25*SIN($Q112))))","v":0.0740321448485681},{"$f":"T112*ABS(1/(Vout/(SQRT(2)*$C$25*SIN($Q112))))","v":0.0730381454641909},{"$f":"U112*ABS(1/(Vout/(SQRT(2)*$C$25*SIN($Q112))))","v":0.0733708180026537},{"$f":"V112*ABS(1/(Vout/(SQRT(2)*$C$25*SIN($Q112))))","v":0.110056227003981},{"$f":"W112*ABS(1/(Vout/(SQRT(2)*$C$25*SIN($Q112))))","v":0.146741636005307},null,{"$f":"1/(0.0000128*(R112+Y112+$G$23))","v":40179.2582875531},{"$f":"1/(0.0000128*(S112+Z112+$H$23))","v":85215.1131143449},{"$f":"1/(0.0000128*(T112+AA112+$I$23))","v":110324.048843012},{"$f":"1/(0.0000128*(U112+AB112+$J$23))","v":227306.095658234},{"$f":"1/(0.0000128*(V112+AC112+$K$23))","v":151537.39710549},{"$f":"1/(0.0000128*(W112+AD112+$L$23))","v":113653.047829117}]
["Forward Voltage Drop, at IL_PEAK(max),125°C:","VF",1.25,"V",null,null,null,null,null,null,null,null,null,null,null,null,{"$f":"Q112+0.01","v":1.07},{"$f":"(G$5*((90/$G$18)*(90/$G$18))/2)*(1+(SQRT(1+(4/(G$5*((90/$G$18)*(90/$G$18))))*$G$23*(1-(SQRT(2)*Vin_rms_min*(SIN($Q113)/Vout))))))","v":0.278496198345918},{"$f":"(H$5*((90/$G$18)*(90/$G$18))/2)*(1+(SQRT(1+(4/(H$5*((90/$G$18)*(90/$G$18))))*$H$23*(1-(SQRT(2)*Vin_rms_min*(SIN($Q113)/Vout))))))","v":0.272552806921767},{"$f":"(I$5*((90/$G$18)*(90/$G$18))/2)*(1+(SQRT(1+(4/(I$5*((90/$G$18)*(90/$G$18))))*$I$23*(1-(SQRT(2)*Vin_rms_min*(SIN($Q113)/Vout))))))","v":0.268917906771377},{"$f":"(J$5*((90/$G$18)*(90/$G$18))/2)*(1+(SQRT(1+(4/(J$5*((90/$G$18)*(90/$G$18))))*$J$23*(1-(SQRT(2)*Vin_rms_min*(SIN($Q113)/Vout))))))","v":0.270328719723183},{"$f":"(K$5*((90/$G$18)*(90/$G$18))/2)*(1+(SQRT(1+(4/(K$5*((90/$G$18)*(90/$G$18))))*$K$23*(1-(SQRT(2)*Vin_rms_min*(SIN($Q113)/Vout))))))","v":0.405493079584775},{"$f":"(L$5*((90/$G$18)*(90/$G$18))/2)*(1+(SQRT(1+(4/(L$5*((90/$G$18)*(90/$G$18))))*$L$23*(1-(SQRT(2)*Vin_rms_min*(SIN($Q113)/Vout))))))","v":0.540657439446367},null,{"$f":"R113*ABS(1/(Vout/(SQRT(2)*$C$25*SIN($Q113))))","v":0.0760073904932579},{"$f":"S113*ABS(1/(Vout/(SQRT(2)*$C$25*SIN($Q113))))","v":0.0743853156659794},{"$f":"T113*ABS(1/(Vout/(SQRT(2)*$C$25*SIN($Q113))))","v":0.0733932760016118},{"$f":"U113*ABS(1/(Vout/(SQRT(2)*$C$25*SIN($Q113))))","v":0.0737783161263165},{"$f":"V113*ABS(1/(Vout/(SQRT(2)*$C$25*SIN($Q113))))","v":0.110667474189475},{"$f":"W113*ABS(1/(Vout/(SQRT(2)*$C$25*SIN($Q113))))","v":0.147556632252633},null,{"$f":"1/(0.0000128*(R113+Y113+$G$23))","v":40177.3493494239},{"$f":"1/(0.0000128*(S113+Z113+$H$23))","v":85202.0415287334},{"$f":"1/(0.0000128*(T113+AA113+$I$23))","v":110297.566804107},{"$f":"1/(0.0000128*(U113+AB113+$J$23))","v":227036.915438628},{"$f":"1/(0.0000128*(V113+AC113+$K$23))","v":151357.943625752},{"$f":"1/(0.0000128*(W113+AD113+$L$23))","v":113518.457719314}]
["Boost Diode Maximum Junction Temperature:","TJ(max)",125,"°C",null,null,null,null,null,null,null,null,null,null,null,null,{"$f":"Q113+0.01","v":1.08},{"$f":"(G$5*((90/$G$18)*(90/$G$18))/2)*(1+(SQRT(1+(4/(G$5*((90/$G$18)*(90/$G$18))))*$G$23*(1-(SQRT(2)*Vin_rms_min*(SIN($Q114)/Vout))))))","v":0.278243075265203},{"$f":"(H$5*((90/$G$18)*(90/$G$18))/2)*(1+(SQRT(1+(4/(H$5*((90/$G$18)*(90/$G$18))))*$H$23*(1-(SQRT(2)*Vin_rms_min*(SIN($Q114)/Vout))))))","v":0.272343936276732},{"$f":"(I$5*((90/$G$18)*(90/$G$18))/2)*(1+(SQRT(1+(4/(I$5*((90/$G$18)*(90/$G$18))))*$I$23*(1-(SQRT(2)*Vin_rms_min*(SIN($Q114)/Vout))))))","v":0.26873598396574},{"$f":"(J$5*((90/$G$18)*(90/$G$18))/2)*(1+(SQRT(1+(4/(J$5*((90/$G$18)*(90/$G$18))))*$J$23*(1-(SQRT(2)*Vin_rms_min*(SIN($Q114)/Vout))))))","v":0.270328719723183},{"$f":"(K$5*((90/$G$18)*(90/$G$18))/2)*(1+(SQRT(1+(4/(K$5*((90/$G$18)*(90/$G$18))))*$K$23*(1-(SQRT(2)*Vin_rms_min*(SIN($Q114)/Vout))))))","v":0.405493079584775},{"$f":"(L$5*((90/$G$18)*(90/$G$18))/2)*(1+(SQRT(1+(4/(L$5*((90/$G$18)*(90/$G$18))))*$L$23*(1-(SQRT(2)*Vin_rms_min*(SIN($Q114)/Vout))))))","v":0.540657439446367},null,{"$f":"R114*ABS(1/(Vout/(SQRT(2)*$C$25*SIN($Q114))))","v":0.0763501425436872},{"$f":"S114*ABS(1/(Vout/(SQRT(2)*$C$25*SIN($Q114))))","v":0.0747314136598671},{"$f":"T114*ABS(1/(Vout/(SQRT(2)*$C$25*SIN($Q114))))","v":0.0737413883987801},{"$f":"U114*ABS(1/(Vout/(SQRT(2)*$C$25*SIN($Q114))))","v":0.0741784364798484},{"$f":"V114*ABS(1/(Vout/(SQRT(2)*$C$25*SIN($Q114))))","v":0.111267654719773},{"$f":"W114*ABS(1/(Vout/(SQRT(2)*$C$25*SIN($Q114))))","v":0.148356872959697},null,{"$f":"1/(0.0000128*(R114+Y114+$G$23))","v":40175.4975202623},{"$f":"1/(0.0000128*(S114+Z114+$H$23))","v":85189.2922488878},{"$f":"1/(0.0000128*(T114+AA114+$I$23))","v":110271.693984044},{"$f":"1/(0.0000128*(U114+AB114+$J$23))","v":226773.228344661},{"$f":"1/(0.0000128*(V114+AC114+$K$23))","v":151182.152229774},{"$f":"1/(0.0000128*(W114+AD114+$L$23))","v":113386.614172331}]
["Boost Diode Thermal Resistance, Junction to Case:","RqJC(Diode)",28,"°C/W",null,null,null,null,null,null,null,null,null,null,null,null,{"$f":"Q114+0.01","v":1.09},{"$f":"(G$5*((90/$G$18)*(90/$G$18))/2)*(1+(SQRT(1+(4/(G$5*((90/$G$18)*(90/$G$18))))*$G$23*(1-(SQRT(2)*Vin_rms_min*(SIN($Q115)/Vout))))))","v":0.277994396554578},{"$f":"(H$5*((90/$G$18)*(90/$G$18))/2)*(1+(SQRT(1+(4/(H$5*((90/$G$18)*(90/$G$18))))*$H$23*(1-(SQRT(2)*Vin_rms_min*(SIN($Q115)/Vout))))))","v":0.272138743331126},{"$f":"(I$5*((90/$G$18)*(90/$G$18))/2)*(1+(SQRT(1+(4/(I$5*((90/$G$18)*(90/$G$18))))*$I$23*(1-(SQRT(2)*Vin_rms_min*(SIN($Q115)/Vout))))))","v":0.268557273679021},{"$f":"(J$5*((90/$G$18)*(90/$G$18))/2)*(1+(SQRT(1+(4/(J$5*((90/$G$18)*(90/$G$18))))*$J$23*(1-(SQRT(2)*Vin_rms_min*(SIN($Q115)/Vout))))))","v":0.270328719723183},{"$f":"(K$5*((90/$G$18)*(90/$G$18))/2)*(1+(SQRT(1+(4/(K$5*((90/$G$18)*(90/$G$18))))*$K$23*(1-(SQRT(2)*Vin_rms_min*(SIN($Q115)/Vout))))))","v":0.405493079584775},{"$f":"(L$5*((90/$G$18)*(90/$G$18))/2)*(1+(SQRT(1+(4/(L$5*((90/$G$18)*(90/$G$18))))*$L$23*(1-(SQRT(2)*Vin_rms_min*(SIN($Q115)/Vout))))))","v":0.540657439446367},null,{"$f":"R115*ABS(1/(Vout/(SQRT(2)*$C$25*SIN($Q115))))","v":0.0766857432767423},{"$f":"S115*ABS(1/(Vout/(SQRT(2)*$C$25*SIN($Q115))))","v":0.0750704405031015},{"$f":"T115*ABS(1/(Vout/(SQRT(2)*$C$25*SIN($Q115))))","v":0.0740824793582052},{"$f":"U115*ABS(1/(Vout/(SQRT(2)*$C$25*SIN($Q115))))","v":0.0745711390515475},{"$f":"V115*ABS(1/(Vout/(SQRT(2)*$C$25*SIN($Q115))))","v":0.111856708577321},{"$f":"W115*ABS(1/(Vout/(SQRT(2)*$C$25*SIN($Q115))))","v":0.149142278103095},null,{"$f":"1/(0.0000128*(R115+Y115+$G$23))","v":40173.701782534},{"$f":"1/(0.0000128*(S115+Z115+$H$23))","v":85176.8619165069},{"$f":"1/(0.0000128*(T115+AA115+$I$23))","v":110246.425867525},{"$f":"1/(0.0000128*(U115+AB115+$J$23))","v":226515.024614802},{"$f":"1/(0.0000128*(V115+AC115+$K$23))","v":151010.016409868},{"$f":"1/(0.0000128*(W115+AD115+$L$23))","v":113257.512307401}]
["Boost Diode Thermal Resistance, Case to Heatsink:","RqCHS(Diode)",0.32,"°C/W",null,null,null,null,null,null,null,null,null,null,null,null,{"$f":"Q115+0.01","v":1.1},{"$f":"(G$5*((90/$G$18)*(90/$G$18))/2)*(1+(SQRT(1+(4/(G$5*((90/$G$18)*(90/$G$18))))*$G$23*(1-(SQRT(2)*Vin_rms_min*(SIN($Q116)/Vout))))))","v":0.27775020034296},{"$f":"(H$5*((90/$G$18)*(90/$G$18))/2)*(1+(SQRT(1+(4/(H$5*((90/$G$18)*(90/$G$18))))*$H$23*(1-(SQRT(2)*Vin_rms_min*(SIN($Q116)/Vout))))))","v":0.271937259023764},{"$f":"(I$5*((90/$G$18)*(90/$G$18))/2)*(1+(SQRT(1+(4/(I$5*((90/$G$18)*(90/$G$18))))*$I$23*(1-(SQRT(2)*Vin_rms_min*(SIN($Q116)/Vout))))))","v":0.268381802383029},{"$f":"(J$5*((90/$G$18)*(90/$G$18))/2)*(1+(SQRT(1+(4/(J$5*((90/$G$18)*(90/$G$18))))*$J$23*(1-(SQRT(2)*Vin_rms_min*(SIN($Q116)/Vout))))))","v":0.270328719723183},{"$f":"(K$5*((90/$G$18)*(90/$G$18))/2)*(1+(SQRT(1+(4/(K$5*((90/$G$18)*(90/$G$18))))*$K$23*(1-(SQRT(2)*Vin_rms_min*(SIN($Q116)/Vout))))))","v":0.405493079584775},{"$f":"(L$5*((90/$G$18)*(90/$G$18))/2)*(1+(SQRT(1+(4/(L$5*((90/$G$18)*(90/$G$18))))*$L$23*(1-(SQRT(2)*Vin_rms_min*(SIN($Q116)/Vout))))))","v":0.540657439446367},null,{"$f":"R116*ABS(1/(Vout/(SQRT(2)*$C$25*SIN($Q116))))","v":0.077014202756675},{"$f":"S116*ABS(1/(Vout/(SQRT(2)*$C$25*SIN($Q116))))","v":0.0754023981897784},{"$f":"T116*ABS(1/(Vout/(SQRT(2)*$C$25*SIN($Q116))))","v":0.074416545944545},{"$f":"U116*ABS(1/(Vout/(SQRT(2)*$C$25*SIN($Q116))))","v":0.0749563845714838},{"$f":"V116*ABS(1/(Vout/(SQRT(2)*$C$25*SIN($Q116))))","v":0.112434576857226},{"$f":"W116*ABS(1/(Vout/(SQRT(2)*$C$25*SIN($Q116))))","v":0.149912769142968},null,{"$f":"1/(0.0000128*(R116+Y116+$G$23))","v":40171.9611257187},{"$f":"1/(0.0000128*(S116+Z116+$H$23))","v":85164.7471965923},{"$f":"1/(0.0000128*(T116+AA116+$I$23))","v":110221.757971555},{"$f":"1/(0.0000128*(U116+AB116+$J$23))","v":226262.294632113},{"$f":"1/(0.0000128*(V116+AC116+$K$23))","v":150841.529754742},{"$f":"1/(0.0000128*(W116+AD116+$L$23))","v":113131.147316057}]
["Total Boost Diode Losses:","PDIODE",{"$f":"Vf*Iout","v":0.125},"W",null,null,null,null,null,null,null,null,null,null,null,null,{"$f":"Q116+0.01","v":1.11},{"$f":"(G$5*((90/$G$18)*(90/$G$18))/2)*(1+(SQRT(1+(4/(G$5*((90/$G$18)*(90/$G$18))))*$G$23*(1-(SQRT(2)*Vin_rms_min*(SIN($Q117)/Vout))))))","v":0.277510524195303},{"$f":"(H$5*((90/$G$18)*(90/$G$18))/2)*(1+(SQRT(1+(4/(H$5*((90/$G$18)*(90/$G$18))))*$H$23*(1-(SQRT(2)*Vin_rms_min*(SIN($Q117)/Vout))))))","v":0.271739513828965},{"$f":"(I$5*((90/$G$18)*(90/$G$18))/2)*(1+(SQRT(1+(4/(I$5*((90/$G$18)*(90/$G$18))))*$I$23*(1-(SQRT(2)*Vin_rms_min*(SIN($Q117)/Vout))))))","v":0.268209596146073},{"$f":"(J$5*((90/$G$18)*(90/$G$18))/2)*(1+(SQRT(1+(4/(J$5*((90/$G$18)*(90/$G$18))))*$J$23*(1-(SQRT(2)*Vin_rms_min*(SIN($Q117)/Vout))))))","v":0.270328719723183},{"$f":"(K$5*((90/$G$18)*(90/$G$18))/2)*(1+(SQRT(1+(4/(K$5*((90/$G$18)*(90/$G$18))))*$K$23*(1-(SQRT(2)*Vin_rms_min*(SIN($Q117)/Vout))))))","v":0.405493079584775},{"$f":"(L$5*((90/$G$18)*(90/$G$18))/2)*(1+(SQRT(1+(4/(L$5*((90/$G$18)*(90/$G$18))))*$L$23*(1-(SQRT(2)*Vin_rms_min*(SIN($Q117)/Vout))))))","v":0.540657439446367},null,{"$f":"R117*ABS(1/(Vout/(SQRT(2)*$C$25*SIN($Q117))))","v":0.0773355312768219},{"$f":"S117*ABS(1/(Vout/(SQRT(2)*$C$25*SIN($Q117))))","v":0.0757272890165367},{"$f":"T117*ABS(1/(Vout/(SQRT(2)*$C$25*SIN($Q117))))","v":0.0747435855690314},{"$f":"U117*ABS(1/(Vout/(SQRT(2)*$C$25*SIN($Q117))))","v":0.0753341345154264},{"$f":"V117*ABS(1/(Vout/(SQRT(2)*$C$25*SIN($Q117))))","v":0.11300120177314},{"$f":"W117*ABS(1/(Vout/(SQRT(2)*$C$25*SIN($Q117))))","v":0.150668269030853},null,{"$f":"1/(0.0000128*(R117+Y117+$G$23))","v":40170.2745470179},{"$f":"1/(0.0000128*(S117+Z117+$H$23))","v":85152.9447797971},{"$f":"1/(0.0000128*(T117+AA117+$I$23))","v":110197.685848591},{"$f":"1/(0.0000128*(U117+AB117+$J$23))","v":226015.028927785},{"$f":"1/(0.0000128*(V117+AC117+$K$23))","v":150676.685951856},{"$f":"1/(0.0000128*(W117+AD117+$L$23))","v":113007.514463892}]
["Required Heat Sink Thermal Impedance:","RqHS_AMB(Diode)",{"$f":"((Tj_diode-Tamb)/Pdiode)-Rth_diode-Rth_case_hs","v":571.68},"°C/W",null,null,null,null,null,null,null,null,null,null,null,null,{"$f":"Q117+0.01","v":1.12},{"$f":"(G$5*((90/$G$18)*(90/$G$18))/2)*(1+(SQRT(1+(4/(G$5*((90/$G$18)*(90/$G$18))))*$G$23*(1-(SQRT(2)*Vin_rms_min*(SIN($Q118)/Vout))))))","v":0.277275405100639},{"$f":"(H$5*((90/$G$18)*(90/$G$18))/2)*(1+(SQRT(1+(4/(H$5*((90/$G$18)*(90/$G$18))))*$H$23*(1-(SQRT(2)*Vin_rms_min*(SIN($Q118)/Vout))))))","v":0.271545537747165},{"$f":"(I$5*((90/$G$18)*(90/$G$18))/2)*(1+(SQRT(1+(4/(I$5*((90/$G$18)*(90/$G$18))))*$I$23*(1-(SQRT(2)*Vin_rms_min*(SIN($Q118)/Vout))))))","v":0.268040680625203},{"$f":"(J$5*((90/$G$18)*(90/$G$18))/2)*(1+(SQRT(1+(4/(J$5*((90/$G$18)*(90/$G$18))))*$J$23*(1-(SQRT(2)*Vin_rms_min*(SIN($Q118)/Vout))))))","v":0.270328719723183},{"$f":"(K$5*((90/$G$18)*(90/$G$18))/2)*(1+(SQRT(1+(4/(K$5*((90/$G$18)*(90/$G$18))))*$K$23*(1-(SQRT(2)*Vin_rms_min*(SIN($Q118)/Vout))))))","v":0.405493079584775},{"$f":"(L$5*((90/$G$18)*(90/$G$18))/2)*(1+(SQRT(1+(4/(L$5*((90/$G$18)*(90/$G$18))))*$L$23*(1-(SQRT(2)*Vin_rms_min*(SIN($Q118)/Vout))))))","v":0.540657439446367},null,{"$f":"R118*ABS(1/(Vout/(SQRT(2)*$C$25*SIN($Q118))))","v":0.077649739336018},{"$f":"S118*ABS(1/(Vout/(SQRT(2)*$C$25*SIN($Q118))))","v":0.0760451155639753},{"$f":"T118*ABS(1/(Vout/(SQRT(2)*$C$25*SIN($Q118))))","v":0.0750635959739795},{"$f":"U118*ABS(1/(Vout/(SQRT(2)*$C$25*SIN($Q118))))","v":0.0757043511086958},{"$f":"V118*ABS(1/(Vout/(SQRT(2)*$C$25*SIN($Q118))))","v":0.113556526663044},{"$f":"W118*ABS(1/(Vout/(SQRT(2)*$C$25*SIN($Q118))))","v":0.151408702217392},null,{"$f":"1/(0.0000128*(R118+Y118+$G$23))","v":40168.641052059},{"$f":"1/(0.0000128*(S118+Z118+$H$23))","v":85141.4513847594},{"$f":"1/(0.0000128*(T118+AA118+$I$23))","v":110174.205089669},{"$f":"1/(0.0000128*(U118+AB118+$J$23))","v":225773.218184562},{"$f":"1/(0.0000128*(V118+AC118+$K$23))","v":150515.478789708},{"$f":"1/(0.0000128*(W118+AD118+$L$23))","v":112886.609092281}]
["Maximum Diode RMS Current","IDIODE_RMS(max)",{"$f":"(4/3)*Iin_rms_max*SQRT(2/pi*(Vin_pk_min/Vout))","v":0.299397637919734},"A",null,null,null,null,null,null,null,null,null,null,null,null,{"$f":"Q118+0.01","v":1.13},{"$f":"(G$5*((90/$G$18)*(90/$G$18))/2)*(1+(SQRT(1+(4/(G$5*((90/$G$18)*(90/$G$18))))*$G$23*(1-(SQRT(2)*Vin_rms_min*(SIN($Q119)/Vout))))))","v":0.277044879460204},{"$f":"(H$5*((90/$G$18)*(90/$G$18))/2)*(1+(SQRT(1+(4/(H$5*((90/$G$18)*(90/$G$18))))*$H$23*(1-(SQRT(2)*Vin_rms_min*(SIN($Q119)/Vout))))))","v":0.271355360295594},{"$f":"(I$5*((90/$G$18)*(90/$G$18))/2)*(1+(SQRT(1+(4/(I$5*((90/$G$18)*(90/$G$18))))*$I$23*(1-(SQRT(2)*Vin_rms_min*(SIN($Q119)/Vout))))))","v":0.267875081058524},{"$f":"(J$5*((90/$G$18)*(90/$G$18))/2)*(1+(SQRT(1+(4/(J$5*((90/$G$18)*(90/$G$18))))*$J$23*(1-(SQRT(2)*Vin_rms_min*(SIN($Q119)/Vout))))))","v":0.270328719723183},{"$f":"(K$5*((90/$G$18)*(90/$G$18))/2)*(1+(SQRT(1+(4/(K$5*((90/$G$18)*(90/$G$18))))*$K$23*(1-(SQRT(2)*Vin_rms_min*(SIN($Q119)/Vout))))))","v":0.405493079584775},{"$f":"(L$5*((90/$G$18)*(90/$G$18))/2)*(1+(SQRT(1+(4/(L$5*((90/$G$18)*(90/$G$18))))*$L$23*(1-(SQRT(2)*Vin_rms_min*(SIN($Q119)/Vout))))))","v":0.540657439446367},null,{"$f":"R119*ABS(1/(Vout/(SQRT(2)*$C$25*SIN($Q119))))","v":0.0779568376151559},{"$f":"S119*ABS(1/(Vout/(SQRT(2)*$C$25*SIN($Q119))))","v":0.0763558806781858},{"$f":"T119*ABS(1/(Vout/(SQRT(2)*$C$25*SIN($Q119))))","v":0.0753765752173944},{"$f":"U119*ABS(1/(Vout/(SQRT(2)*$C$25*SIN($Q119))))","v":0.076066997329941},{"$f":"V119*ABS(1/(Vout/(SQRT(2)*$C$25*SIN($Q119))))","v":0.114100495994911},{"$f":"W119*ABS(1/(Vout/(SQRT(2)*$C$25*SIN($Q119))))","v":0.152133994659882},null,{"$f":"1/(0.0000128*(R119+Y119+$G$23))","v":40167.0596555946},{"$f":"1/(0.0000128*(S119+Z119+$H$23))","v":85130.2637604197},{"$f":"1/(0.0000128*(T119+AA119+$I$23))","v":110151.311327509},{"$f":"1/(0.0000128*(U119+AB119+$J$23))","v":225536.853240072},{"$f":"1/(0.0000128*(V119+AC119+$K$23))","v":150357.902160048},{"$f":"1/(0.0000128*(W119+AD119+$L$23))","v":112768.426620036}]
["Maximum Diode Average Current","IDIODE_AVG(max)",{"$f":"Iout","v":0.1},"A",null,null,null,null,null,null,null,null,null,null,null,null,{"$f":"Q119+0.01","v":1.14},{"$f":"(G$5*((90/$G$18)*(90/$G$18))/2)*(1+(SQRT(1+(4/(G$5*((90/$G$18)*(90/$G$18))))*$G$23*(1-(SQRT(2)*Vin_rms_min*(SIN($Q120)/Vout))))))","v":0.276818983075647},{"$f":"(H$5*((90/$G$18)*(90/$G$18))/2)*(1+(SQRT(1+(4/(H$5*((90/$G$18)*(90/$G$18))))*$H$23*(1-(SQRT(2)*Vin_rms_min*(SIN($Q120)/Vout))))))","v":0.271169010499032},{"$f":"(I$5*((90/$G$18)*(90/$G$18))/2)*(1+(SQRT(1+(4/(I$5*((90/$G$18)*(90/$G$18))))*$I$23*(1-(SQRT(2)*Vin_rms_min*(SIN($Q120)/Vout))))))","v":0.267712822257564},{"$f":"(J$5*((90/$G$18)*(90/$G$18))/2)*(1+(SQRT(1+(4/(J$5*((90/$G$18)*(90/$G$18))))*$J$23*(1-(SQRT(2)*Vin_rms_min*(SIN($Q120)/Vout))))))","v":0.270328719723183},{"$f":"(K$5*((90/$G$18)*(90/$G$18))/2)*(1+(SQRT(1+(4/(K$5*((90/$G$18)*(90/$G$18))))*$K$23*(1-(SQRT(2)*Vin_rms_min*(SIN($Q120)/Vout))))))","v":0.405493079584775},{"$f":"(L$5*((90/$G$18)*(90/$G$18))/2)*(1+(SQRT(1+(4/(L$5*((90/$G$18)*(90/$G$18))))*$L$23*(1-(SQRT(2)*Vin_rms_min*(SIN($Q120)/Vout))))))","v":0.540657439446367},null,{"$f":"R120*ABS(1/(Vout/(SQRT(2)*$C$25*SIN($Q120))))","v":0.078256836953909},{"$f":"S120*ABS(1/(Vout/(SQRT(2)*$C$25*SIN($Q120))))","v":0.0766595874524131},{"$f":"T120*ABS(1/(Vout/(SQRT(2)*$C$25*SIN($Q120))))","v":0.0756825216576852},{"$f":"U120*ABS(1/(Vout/(SQRT(2)*$C$25*SIN($Q120))))","v":0.0764220369148421},{"$f":"V120*ABS(1/(Vout/(SQRT(2)*$C$25*SIN($Q120))))","v":0.114633055372263},{"$f":"W120*ABS(1/(Vout/(SQRT(2)*$C$25*SIN($Q120))))","v":0.152844073829684},null,{"$f":"1/(0.0000128*(R120+Y120+$G$23))","v":40165.529382198},{"$f":"1/(0.0000128*(S120+Z120+$H$23))","v":85119.3786883212},{"$f":"1/(0.0000128*(T120+AA120+$I$23))","v":110129.000239581},{"$f":"1/(0.0000128*(U120+AB120+$J$23))","v":225305.925090035},{"$f":"1/(0.0000128*(V120+AC120+$K$23))","v":150203.950060024},{"$f":"1/(0.0000128*(W120+AD120+$L$23))","v":112652.962545018}]
["Required Diode Rated Average Current","IDIODE_RATED",{"$f":"CEILING(MAX(3*(Id_avg_max),2*Id_rms_max),1)","v":1},"A",null,null,null,null,null,null,null,null,null,null,null,null,{"$f":"Q120+0.01","v":1.15},{"$f":"(G$5*((90/$G$18)*(90/$G$18))/2)*(1+(SQRT(1+(4/(G$5*((90/$G$18)*(90/$G$18))))*$G$23*(1-(SQRT(2)*Vin_rms_min*(SIN($Q121)/Vout))))))","v":0.276597751137332},{"$f":"(H$5*((90/$G$18)*(90/$G$18))/2)*(1+(SQRT(1+(4/(H$5*((90/$G$18)*(90/$G$18))))*$H$23*(1-(SQRT(2)*Vin_rms_min*(SIN($Q121)/Vout))))))","v":0.270986516880639},{"$f":"(I$5*((90/$G$18)*(90/$G$18))/2)*(1+(SQRT(1+(4/(I$5*((90/$G$18)*(90/$G$18))))*$I$23*(1-(SQRT(2)*Vin_rms_min*(SIN($Q121)/Vout))))))","v":0.267553928599725},{"$f":"(J$5*((90/$G$18)*(90/$G$18))/2)*(1+(SQRT(1+(4/(J$5*((90/$G$18)*(90/$G$18))))*$J$23*(1-(SQRT(2)*Vin_rms_min*(SIN($Q121)/Vout))))))","v":0.270328719723183},{"$f":"(K$5*((90/$G$18)*(90/$G$18))/2)*(1+(SQRT(1+(4/(K$5*((90/$G$18)*(90/$G$18))))*$K$23*(1-(SQRT(2)*Vin_rms_min*(SIN($Q121)/Vout))))))","v":0.405493079584775},{"$f":"(L$5*((90/$G$18)*(90/$G$18))/2)*(1+(SQRT(1+(4/(L$5*((90/$G$18)*(90/$G$18))))*$L$23*(1-(SQRT(2)*Vin_rms_min*(SIN($Q121)/Vout))))))","v":0.540657439446367},null,{"$f":"R121*ABS(1/(Vout/(SQRT(2)*$C$25*SIN($Q121))))","v":0.0785497483276362},{"$f":"S121*ABS(1/(Vout/(SQRT(2)*$C$25*SIN($Q121))))","v":0.076956239208859},{"$f":"T121*ABS(1/(Vout/(SQRT(2)*$C$25*SIN($Q121))))","v":0.0759814339384995},{"$f":"U121*ABS(1/(Vout/(SQRT(2)*$C$25*SIN($Q121))))","v":0.0767694343597366},{"$f":"V121*ABS(1/(Vout/(SQRT(2)*$C$25*SIN($Q121))))","v":0.115154151539605},{"$f":"W121*ABS(1/(Vout/(SQRT(2)*$C$25*SIN($Q121))))","v":0.153538868719473},null,{"$f":"1/(0.0000128*(R121+Y121+$G$23))","v":40164.0492669523},{"$f":"1/(0.0000128*(S121+Z121+$H$23))","v":85108.7929848895},{"$f":"1/(0.0000128*(T121+AA121+$I$23))","v":110107.267551152},{"$f":"1/(0.0000128*(U121+AB121+$J$23))","v":225080.424891388},{"$f":"1/(0.0000128*(V121+AC121+$K$23))","v":150053.616594259},{"$f":"1/(0.0000128*(W121+AD121+$L$23))","v":112540.212445694}]
["Required Diode Blocking Voltage:","VBLOCKING",{"$f":"Vovp2","v":""},"V",null,null,null,null,null,null,null,null,null,null,null,null,{"$f":"Q121+0.01","v":1.16},{"$f":"(G$5*((90/$G$18)*(90/$G$18))/2)*(1+(SQRT(1+(4/(G$5*((90/$G$18)*(90/$G$18))))*$G$23*(1-(SQRT(2)*Vin_rms_min*(SIN($Q122)/Vout))))))","v":0.276381218212754},{"$f":"(H$5*((90/$G$18)*(90/$G$18))/2)*(1+(SQRT(1+(4/(H$5*((90/$G$18)*(90/$G$18))))*$H$23*(1-(SQRT(2)*Vin_rms_min*(SIN($Q122)/Vout))))))","v":0.27080790745288},{"$f":"(I$5*((90/$G$18)*(90/$G$18))/2)*(1+(SQRT(1+(4/(I$5*((90/$G$18)*(90/$G$18))))*$I$23*(1-(SQRT(2)*Vin_rms_min*(SIN($Q122)/Vout))))))","v":0.267398424020797},{"$f":"(J$5*((90/$G$18)*(90/$G$18))/2)*(1+(SQRT(1+(4/(J$5*((90/$G$18)*(90/$G$18))))*$J$23*(1-(SQRT(2)*Vin_rms_min*(SIN($Q122)/Vout))))))","v":0.270328719723183},{"$f":"(K$5*((90/$G$18)*(90/$G$18))/2)*(1+(SQRT(1+(4/(K$5*((90/$G$18)*(90/$G$18))))*$K$23*(1-(SQRT(2)*Vin_rms_min*(SIN($Q122)/Vout))))))","v":0.405493079584775},{"$f":"(L$5*((90/$G$18)*(90/$G$18))/2)*(1+(SQRT(1+(4/(L$5*((90/$G$18)*(90/$G$18))))*$L$23*(1-(SQRT(2)*Vin_rms_min*(SIN($Q122)/Vout))))))","v":0.540657439446367},null,{"$f":"R122*ABS(1/(Vout/(SQRT(2)*$C$25*SIN($Q122))))","v":0.0788355828244861},{"$f":"S122*ABS(1/(Vout/(SQRT(2)*$C$25*SIN($Q122))))","v":0.0772458394806443},{"$f":"T122*ABS(1/(Vout/(SQRT(2)*$C$25*SIN($Q122))))","v":0.0762733109736898},{"$f":"U122*ABS(1/(Vout/(SQRT(2)*$C$25*SIN($Q122))))","v":0.0771091549251695},{"$f":"V122*ABS(1/(Vout/(SQRT(2)*$C$25*SIN($Q122))))","v":0.115663732387754},{"$f":"W122*ABS(1/(Vout/(SQRT(2)*$C$25*SIN($Q122))))","v":0.154218309850339},null,{"$f":"1/(0.0000128*(R122+Y122+$G$23))","v":40162.6183561348},{"$f":"1/(0.0000128*(S122+Z122+$H$23))","v":85098.5035036919},{"$f":"1/(0.0000128*(T122+AA122+$I$23))","v":110086.109038296},{"$f":"1/(0.0000128*(U122+AB122+$J$23))","v":224860.343965296},{"$f":"1/(0.0000128*(V122+AC122+$K$23))","v":149906.895976864},{"$f":"1/(0.0000128*(W122+AD122+$L$23))","v":112430.171982648}]
[null,null,null,null,null,null,null,null,null,null,null,null,null,null,null,null,{"$f":"Q122+0.01","v":1.17},{"$f":"(G$5*((90/$G$18)*(90/$G$18))/2)*(1+(SQRT(1+(4/(G$5*((90/$G$18)*(90/$G$18))))*$G$23*(1-(SQRT(2)*Vin_rms_min*(SIN($Q123)/Vout))))))","v":0.276169418235056},{"$f":"(H$5*((90/$G$18)*(90/$G$18))/2)*(1+(SQRT(1+(4/(H$5*((90/$G$18)*(90/$G$18))))*$H$23*(1-(SQRT(2)*Vin_rms_min*(SIN($Q123)/Vout))))))","v":0.270633209708535},{"$f":"(I$5*((90/$G$18)*(90/$G$18))/2)*(1+(SQRT(1+(4/(I$5*((90/$G$18)*(90/$G$18))))*$I$23*(1-(SQRT(2)*Vin_rms_min*(SIN($Q123)/Vout))))))","v":0.267246332007569},{"$f":"(J$5*((90/$G$18)*(90/$G$18))/2)*(1+(SQRT(1+(4/(J$5*((90/$G$18)*(90/$G$18))))*$J$23*(1-(SQRT(2)*Vin_rms_min*(SIN($Q123)/Vout))))))","v":0.270328719723183},{"$f":"(K$5*((90/$G$18)*(90/$G$18))/2)*(1+(SQRT(1+(4/(K$5*((90/$G$18)*(90/$G$18))))*$K$23*(1-(SQRT(2)*Vin_rms_min*(SIN($Q123)/Vout))))))","v":0.405493079584775},{"$f":"(L$5*((90/$G$18)*(90/$G$18))/2)*(1+(SQRT(1+(4/(L$5*((90/$G$18)*(90/$G$18))))*$L$23*(1-(SQRT(2)*Vin_rms_min*(SIN($Q123)/Vout))))))","v":0.540657439446367},null,{"$f":"R123*ABS(1/(Vout/(SQRT(2)*$C$25*SIN($Q123))))","v":0.0791143516227185},{"$f":"S123*ABS(1/(Vout/(SQRT(2)*$C$25*SIN($Q123))))","v":0.0775283919939404},{"$f":"T123*ABS(1/(Vout/(SQRT(2)*$C$25*SIN($Q123))))","v":0.076558151932424},{"$f":"U123*ABS(1/(Vout/(SQRT(2)*$C$25*SIN($Q123))))","v":0.0774411646393672},{"$f":"V123*ABS(1/(Vout/(SQRT(2)*$C$25*SIN($Q123))))","v":0.116161746959051},{"$f":"W123*ABS(1/(Vout/(SQRT(2)*$C$25*SIN($Q123))))","v":0.154882329278734},null,{"$f":"1/(0.0000128*(R123+Y123+$G$23))","v":40161.2357078947},{"$f":"1/(0.0000128*(S123+Z123+$H$23))","v":85088.5071376748},{"$f":"1/(0.0000128*(T123+AA123+$I$23))","v":110065.520530869},{"$f":"1/(0.0000128*(U123+AB123+$J$23))","v":224645.673800077},{"$f":"1/(0.0000128*(V123+AC123+$K$23))","v":149763.782533385},{"$f":"1/(0.0000128*(W123+AD123+$L$23))","v":112322.836900038}]
[null,null,null,null,{"$f":"IF(VCC<12,\"Bias voltage should be >12V\",\"\")","v":""},null,null,null,null,null,null,null,null,null,null,null,{"$f":"Q123+0.01","v":1.18},{"$f":"(G$5*((90/$G$18)*(90/$G$18))/2)*(1+(SQRT(1+(4/(G$5*((90/$G$18)*(90/$G$18))))*$G$23*(1-(SQRT(2)*Vin_rms_min*(SIN($Q124)/Vout))))))","v":0.275962384491674},{"$f":"(H$5*((90/$G$18)*(90/$G$18))/2)*(1+(SQRT(1+(4/(H$5*((90/$G$18)*(90/$G$18))))*$H$23*(1-(SQRT(2)*Vin_rms_min*(SIN($Q124)/Vout))))))","v":0.270462450611813},{"$f":"(I$5*((90/$G$18)*(90/$G$18))/2)*(1+(SQRT(1+(4/(I$5*((90/$G$18)*(90/$G$18))))*$I$23*(1-(SQRT(2)*Vin_rms_min*(SIN($Q124)/Vout))))))","v":0.267097675590511},{"$f":"(J$5*((90/$G$18)*(90/$G$18))/2)*(1+(SQRT(1+(4/(J$5*((90/$G$18)*(90/$G$18))))*$J$23*(1-(SQRT(2)*Vin_rms_min*(SIN($Q124)/Vout))))))","v":0.270328719723183},{"$f":"(K$5*((90/$G$18)*(90/$G$18))/2)*(1+(SQRT(1+(4/(K$5*((90/$G$18)*(90/$G$18))))*$K$23*(1-(SQRT(2)*Vin_rms_min*(SIN($Q124)/Vout))))))","v":0.405493079584775},{"$f":"(L$5*((90/$G$18)*(90/$G$18))/2)*(1+(SQRT(1+(4/(L$5*((90/$G$18)*(90/$G$18))))*$L$23*(1-(SQRT(2)*Vin_rms_min*(SIN($Q124)/Vout))))))","v":0.540657439446367},null,{"$f":"R124*ABS(1/(Vout/(SQRT(2)*$C$25*SIN($Q124))))","v":0.0793860659682615},{"$f":"S124*ABS(1/(Vout/(SQRT(2)*$C$25*SIN($Q124))))","v":0.077803900650289},{"$f":"T124*ABS(1/(Vout/(SQRT(2)*$C$25*SIN($Q124))))","v":0.0768359562244518},{"$f":"U124*ABS(1/(Vout/(SQRT(2)*$C$25*SIN($Q124))))","v":0.077765430301635},{"$f":"V124*ABS(1/(Vout/(SQRT(2)*$C$25*SIN($Q124))))","v":0.116648145452453},{"$f":"W124*ABS(1/(Vout/(SQRT(2)*$C$25*SIN($Q124))))","v":0.15553086060327},null,{"$f":"1/(0.0000128*(R124+Y124+$G$23))","v":40159.900392924},{"$f":"1/(0.0000128*(S124+Z124+$H$23))","v":85078.8008213759},{"$f":"1/(0.0000128*(T124+AA124+$I$23))","v":110045.497915448},{"$f":"1/(0.0000128*(U124+AB124+$J$23))","v":224436.406054023},{"$f":"1/(0.0000128*(V124+AC124+$K$23))","v":149624.270702682},{"$f":"1/(0.0000128*(W124+AD124+$L$23))","v":112218.203027011}]
["SWITCHING ELEMENT:",null,null,null,null,null,null,null,null,null,null,null,null,null,null,null,{"$f":"Q124+0.01","v":1.19},{"$f":"(G$5*((90/$G$18)*(90/$G$18))/2)*(1+(SQRT(1+(4/(G$5*((90/$G$18)*(90/$G$18))))*$G$23*(1-(SQRT(2)*Vin_rms_min*(SIN($Q125)/Vout))))))","v":0.275760149613109},{"$f":"(H$5*((90/$G$18)*(90/$G$18))/2)*(1+(SQRT(1+(4/(H$5*((90/$G$18)*(90/$G$18))))*$H$23*(1-(SQRT(2)*Vin_rms_min*(SIN($Q125)/Vout))))))","v":0.270295656589577},{"$f":"(I$5*((90/$G$18)*(90/$G$18))/2)*(1+(SQRT(1+(4/(I$5*((90/$G$18)*(90/$G$18))))*$I$23*(1-(SQRT(2)*Vin_rms_min*(SIN($Q125)/Vout))))))","v":0.266952477336558},{"$f":"(J$5*((90/$G$18)*(90/$G$18))/2)*(1+(SQRT(1+(4/(J$5*((90/$G$18)*(90/$G$18))))*$J$23*(1-(SQRT(2)*Vin_rms_min*(SIN($Q125)/Vout))))))","v":0.270328719723183},{"$f":"(K$5*((90/$G$18)*(90/$G$18))/2)*(1+(SQRT(1+(4/(K$5*((90/$G$18)*(90/$G$18))))*$K$23*(1-(SQRT(2)*Vin_rms_min*(SIN($Q125)/Vout))))))","v":0.405493079584775},{"$f":"(L$5*((90/$G$18)*(90/$G$18))/2)*(1+(SQRT(1+(4/(L$5*((90/$G$18)*(90/$G$18))))*$L$23*(1-(SQRT(2)*Vin_rms_min*(SIN($Q125)/Vout))))))","v":0.540657439446367},null,{"$f":"R125*ABS(1/(Vout/(SQRT(2)*$C$25*SIN($Q125))))","v":0.0796507371525218},{"$f":"S125*ABS(1/(Vout/(SQRT(2)*$C$25*SIN($Q125))))","v":0.0780723695091195},{"$f":"T125*ABS(1/(Vout/(SQRT(2)*$C$25*SIN($Q125))))","v":0.0771067234855386},{"$f":"U125*ABS(1/(Vout/(SQRT(2)*$C$25*SIN($Q125))))","v":0.0780819194856771},{"$f":"V125*ABS(1/(Vout/(SQRT(2)*$C$25*SIN($Q125))))","v":0.117122879228516},{"$f":"W125*ABS(1/(Vout/(SQRT(2)*$C$25*SIN($Q125))))","v":0.156163838971354},null,{"$f":"1/(0.0000128*(R125+Y125+$G$23))","v":40158.6114951211},{"$f":"1/(0.0000128*(S125+Z125+$H$23))","v":85069.381533111},{"$f":"1/(0.0000128*(T125+AA125+$I$23))","v":110026.037138239},{"$f":"1/(0.0000128*(U125+AB125+$J$23))","v":224232.532558131},{"$f":"1/(0.0000128*(V125+AC125+$K$23))","v":149488.355038754},{"$f":"1/(0.0000128*(W125+AD125+$L$23))","v":112116.266279065}]
["VCC Bias Voltage to the UCC28056:","VCC",15,"V",null,null,null,null,null,null,null,null,null,null,null,null,{"$f":"Q125+0.01","v":1.2},{"$f":"(G$5*((90/$G$18)*(90/$G$18))/2)*(1+(SQRT(1+(4/(G$5*((90/$G$18)*(90/$G$18))))*$G$23*(1-(SQRT(2)*Vin_rms_min*(SIN($Q126)/Vout))))))","v":0.275562745561835},{"$f":"(H$5*((90/$G$18)*(90/$G$18))/2)*(1+(SQRT(1+(4/(H$5*((90/$G$18)*(90/$G$18))))*$H$23*(1-(SQRT(2)*Vin_rms_min*(SIN($Q126)/Vout))))))","v":0.270132853522669},{"$f":"(I$5*((90/$G$18)*(90/$G$18))/2)*(1+(SQRT(1+(4/(I$5*((90/$G$18)*(90/$G$18))))*$I$23*(1-(SQRT(2)*Vin_rms_min*(SIN($Q126)/Vout))))))","v":0.266810759341988},{"$f":"(J$5*((90/$G$18)*(90/$G$18))/2)*(1+(SQRT(1+(4/(J$5*((90/$G$18)*(90/$G$18))))*$J$23*(1-(SQRT(2)*Vin_rms_min*(SIN($Q126)/Vout))))))","v":0.270328719723183},{"$f":"(K$5*((90/$G$18)*(90/$G$18))/2)*(1+(SQRT(1+(4/(K$5*((90/$G$18)*(90/$G$18))))*$K$23*(1-(SQRT(2)*Vin_rms_min*(SIN($Q126)/Vout))))))","v":0.405493079584775},{"$f":"(L$5*((90/$G$18)*(90/$G$18))/2)*(1+(SQRT(1+(4/(L$5*((90/$G$18)*(90/$G$18))))*$L$23*(1-(SQRT(2)*Vin_rms_min*(SIN($Q126)/Vout))))))","v":0.540657439446367},null,{"$f":"R126*ABS(1/(Vout/(SQRT(2)*$C$25*SIN($Q126))))","v":0.0799083764904657},{"$f":"S126*ABS(1/(Vout/(SQRT(2)*$C$25*SIN($Q126))))","v":0.0783338027704818},{"$f":"T126*ABS(1/(Vout/(SQRT(2)*$C$25*SIN($Q126))))","v":0.0773704535630791},{"$f":"U126*ABS(1/(Vout/(SQRT(2)*$C$25*SIN($Q126))))","v":0.0783906005428386},{"$f":"V126*ABS(1/(Vout/(SQRT(2)*$C$25*SIN($Q126))))","v":0.117585900814258},{"$f":"W126*ABS(1/(Vout/(SQRT(2)*$C$25*SIN($Q126))))","v":0.156781201085677},null,{"$f":"1/(0.0000128*(R126+Y126+$G$23))","v":40157.3681122468},{"$f":"1/(0.0000128*(S126+Z126+$H$23))","v":85060.2462971334},{"$f":"1/(0.0000128*(T126+AA126+$I$23))","v":110007.134207933},{"$f":"1/(0.0000128*(U126+AB126+$J$23))","v":224034.045318745},{"$f":"1/(0.0000128*(V126+AC126+$K$23))","v":149356.030212497},{"$f":"1/(0.0000128*(W126+AD126+$L$23))","v":112017.022659373}]
["Gate-Source Voltage:","VGS",{"$f":"IF(VCC>=15,15,VCC)","v":15},"V",null,null,null,null,null,null,null,null,null,null,null,null,{"$f":"Q126+0.01","v":1.21},{"$f":"(G$5*((90/$G$18)*(90/$G$18))/2)*(1+(SQRT(1+(4/(G$5*((90/$G$18)*(90/$G$18))))*$G$23*(1-(SQRT(2)*Vin_rms_min*(SIN($Q127)/Vout))))))","v":0.275370203621364},{"$f":"(H$5*((90/$G$18)*(90/$G$18))/2)*(1+(SQRT(1+(4/(H$5*((90/$G$18)*(90/$G$18))))*$H$23*(1-(SQRT(2)*Vin_rms_min*(SIN($Q127)/Vout))))))","v":0.26997406673737},{"$f":"(I$5*((90/$G$18)*(90/$G$18))/2)*(1+(SQRT(1+(4/(I$5*((90/$G$18)*(90/$G$18))))*$I$23*(1-(SQRT(2)*Vin_rms_min*(SIN($Q127)/Vout))))))","v":0.266672543225397},{"$f":"(J$5*((90/$G$18)*(90/$G$18))/2)*(1+(SQRT(1+(4/(J$5*((90/$G$18)*(90/$G$18))))*$J$23*(1-(SQRT(2)*Vin_rms_min*(SIN($Q127)/Vout))))))","v":0.270328719723183},{"$f":"(K$5*((90/$G$18)*(90/$G$18))/2)*(1+(SQRT(1+(4/(K$5*((90/$G$18)*(90/$G$18))))*$K$23*(1-(SQRT(2)*Vin_rms_min*(SIN($Q127)/Vout))))))","v":0.405493079584775},{"$f":"(L$5*((90/$G$18)*(90/$G$18))/2)*(1+(SQRT(1+(4/(L$5*((90/$G$18)*(90/$G$18))))*$L$23*(1-(SQRT(2)*Vin_rms_min*(SIN($Q127)/Vout))))))","v":0.540657439446367},null,{"$f":"R127*ABS(1/(Vout/(SQRT(2)*$C$25*SIN($Q127))))","v":0.0801589952989889},{"$f":"S127*ABS(1/(Vout/(SQRT(2)*$C$25*SIN($Q127))))","v":0.0785882047580068},{"$f":"T127*ABS(1/(Vout/(SQRT(2)*$C$25*SIN($Q127))))","v":0.0776271465019015},{"$f":"U127*ABS(1/(Vout/(SQRT(2)*$C$25*SIN($Q127))))","v":0.0786914426052711},{"$f":"V127*ABS(1/(Vout/(SQRT(2)*$C$25*SIN($Q127))))","v":0.118037163907907},{"$f":"W127*ABS(1/(Vout/(SQRT(2)*$C$25*SIN($Q127))))","v":0.157382885210542},null,{"$f":"1/(0.0000128*(R127+Y127+$G$23))","v":40156.1693565712},{"$f":"1/(0.0000128*(S127+Z127+$H$23))","v":85051.3921857645},{"$f":"1/(0.0000128*(T127+AA127+$I$23))","v":109988.785198532},{"$f":"1/(0.0000128*(U127+AB127+$J$23))","v":223840.936520104},{"$f":"1/(0.0000128*(V127+AC127+$K$23))","v":149227.291013403},{"$f":"1/(0.0000128*(W127+AD127+$L$23))","v":111920.468260052}]
["Drain-Source RMS Current:","IDS_RMS(max)",{"$f":"(Vin_rms_min/Rin_min)*SQRT(4/3-32*Vin_pk_min/(9*pi*Vout))","v":0.494785342103382},"A",null,null,null,null,null,null,null,null,null,null,null,null,{"$f":"Q127+0.01","v":1.22},{"$f":"(G$5*((90/$G$18)*(90/$G$18))/2)*(1+(SQRT(1+(4/(G$5*((90/$G$18)*(90/$G$18))))*$G$23*(1-(SQRT(2)*Vin_rms_min*(SIN($Q128)/Vout))))))","v":0.275182554385446},{"$f":"(H$5*((90/$G$18)*(90/$G$18))/2)*(1+(SQRT(1+(4/(H$5*((90/$G$18)*(90/$G$18))))*$H$23*(1-(SQRT(2)*Vin_rms_min*(SIN($Q128)/Vout))))))","v":0.269819320996968},{"$f":"(I$5*((90/$G$18)*(90/$G$18))/2)*(1+(SQRT(1+(4/(I$5*((90/$G$18)*(90/$G$18))))*$I$23*(1-(SQRT(2)*Vin_rms_min*(SIN($Q128)/Vout))))))","v":0.266537850120792},{"$f":"(J$5*((90/$G$18)*(90/$G$18))/2)*(1+(SQRT(1+(4/(J$5*((90/$G$18)*(90/$G$18))))*$J$23*(1-(SQRT(2)*Vin_rms_min*(SIN($Q128)/Vout))))))","v":0.270328719723183},{"$f":"(K$5*((90/$G$18)*(90/$G$18))/2)*(1+(SQRT(1+(4/(K$5*((90/$G$18)*(90/$G$18))))*$K$23*(1-(SQRT(2)*Vin_rms_min*(SIN($Q128)/Vout))))))","v":0.405493079584775},{"$f":"(L$5*((90/$G$18)*(90/$G$18))/2)*(1+(SQRT(1+(4/(L$5*((90/$G$18)*(90/$G$18))))*$L$23*(1-(SQRT(2)*Vin_rms_min*(SIN($Q128)/Vout))))))","v":0.540657439446367},null,{"$f":"R128*ABS(1/(Vout/(SQRT(2)*$C$25*SIN($Q128))))","v":0.0804026048755924},{"$f":"S128*ABS(1/(Vout/(SQRT(2)*$C$25*SIN($Q128))))","v":0.0788355799021077},{"$f":"T128*ABS(1/(Vout/(SQRT(2)*$C$25*SIN($Q128))))","v":0.0778768025302746},{"$f":"U128*ABS(1/(Vout/(SQRT(2)*$C$25*SIN($Q128))))","v":0.078984415589019},{"$f":"V128*ABS(1/(Vout/(SQRT(2)*$C$25*SIN($Q128))))","v":0.118476623383529},{"$f":"W128*ABS(1/(Vout/(SQRT(2)*$C$25*SIN($Q128))))","v":0.157968831178038},null,{"$f":"1/(0.0000128*(R128+Y128+$G$23))","v":40155.014355513},{"$f":"1/(0.0000128*(S128+Z128+$H$23))","v":85042.8163214936},{"$f":"1/(0.0000128*(T128+AA128+$I$23))","v":109970.986252127},{"$f":"1/(0.0000128*(U128+AB128+$J$23))","v":223653.198526803},{"$f":"1/(0.0000128*(V128+AC128+$K$23))","v":149102.132351202},{"$f":"1/(0.0000128*(W128+AD128+$L$23))","v":111826.599263402}]
["FET On-Resistance at TJ = 125°C: ","RDSon",0.2,"W",null,null,null,null,null,null,null,null,null,null,null,null,{"$f":"Q128+0.01","v":1.23},{"$f":"(G$5*((90/$G$18)*(90/$G$18))/2)*(1+(SQRT(1+(4/(G$5*((90/$G$18)*(90/$G$18))))*$G$23*(1-(SQRT(2)*Vin_rms_min*(SIN($Q129)/Vout))))))","v":0.274999827747456},{"$f":"(H$5*((90/$G$18)*(90/$G$18))/2)*(1+(SQRT(1+(4/(H$5*((90/$G$18)*(90/$G$18))))*$H$23*(1-(SQRT(2)*Vin_rms_min*(SIN($Q129)/Vout))))))","v":0.269668640493478},{"$f":"(I$5*((90/$G$18)*(90/$G$18))/2)*(1+(SQRT(1+(4/(I$5*((90/$G$18)*(90/$G$18))))*$I$23*(1-(SQRT(2)*Vin_rms_min*(SIN($Q129)/Vout))))))","v":0.266406700670781},{"$f":"(J$5*((90/$G$18)*(90/$G$18))/2)*(1+(SQRT(1+(4/(J$5*((90/$G$18)*(90/$G$18))))*$J$23*(1-(SQRT(2)*Vin_rms_min*(SIN($Q129)/Vout))))))","v":0.270328719723183},{"$f":"(K$5*((90/$G$18)*(90/$G$18))/2)*(1+(SQRT(1+(4/(K$5*((90/$G$18)*(90/$G$18))))*$K$23*(1-(SQRT(2)*Vin_rms_min*(SIN($Q129)/Vout))))))","v":0.405493079584775},{"$f":"(L$5*((90/$G$18)*(90/$G$18))/2)*(1+(SQRT(1+(4/(L$5*((90/$G$18)*(90/$G$18))))*$L$23*(1-(SQRT(2)*Vin_rms_min*(SIN($Q129)/Vout))))))","v":0.540657439446367},null,{"$f":"R129*ABS(1/(Vout/(SQRT(2)*$C$25*SIN($Q129))))","v":0.0806392164773824},{"$f":"S129*ABS(1/(Vout/(SQRT(2)*$C$25*SIN($Q129))))","v":0.0790759327234384},{"$f":"T129*ABS(1/(Vout/(SQRT(2)*$C$25*SIN($Q129))))","v":0.0781194220461292},{"$f":"U129*ABS(1/(Vout/(SQRT(2)*$C$25*SIN($Q129))))","v":0.0792694901970282},{"$f":"V129*ABS(1/(Vout/(SQRT(2)*$C$25*SIN($Q129))))","v":0.118904235295542},{"$f":"W129*ABS(1/(Vout/(SQRT(2)*$C$25*SIN($Q129))))","v":0.158538980394056},null,{"$f":"1/(0.0000128*(R129+Y129+$G$23))","v":40153.9022522678},{"$f":"1/(0.0000128*(S129+Z129+$H$23))","v":85034.5158790447},{"$f":"1/(0.0000128*(T129+AA129+$I$23))","v":109953.733581625},{"$f":"1/(0.0000128*(U129+AB129+$J$23))","v":223470.82388617},{"$f":"1/(0.0000128*(V129+AC129+$K$23))","v":148980.549257447},{"$f":"1/(0.0000128*(W129+AD129+$L$23))","v":111735.411943085}]
["FET Gate Charge at VGS:","Qg",29,"nC",null,null,null,null,null,null,null,null,null,null,null,null,{"$f":"Q129+0.01","v":1.24},{"$f":"(G$5*((90/$G$18)*(90/$G$18))/2)*(1+(SQRT(1+(4/(G$5*((90/$G$18)*(90/$G$18))))*$G$23*(1-(SQRT(2)*Vin_rms_min*(SIN($Q130)/Vout))))))","v":0.274822052889936},{"$f":"(H$5*((90/$G$18)*(90/$G$18))/2)*(1+(SQRT(1+(4/(H$5*((90/$G$18)*(90/$G$18))))*$H$23*(1-(SQRT(2)*Vin_rms_min*(SIN($Q130)/Vout))))))","v":0.26952204883948},{"$f":"(I$5*((90/$G$18)*(90/$G$18))/2)*(1+(SQRT(1+(4/(I$5*((90/$G$18)*(90/$G$18))))*$I$23*(1-(SQRT(2)*Vin_rms_min*(SIN($Q130)/Vout))))))","v":0.266279115019894},{"$f":"(J$5*((90/$G$18)*(90/$G$18))/2)*(1+(SQRT(1+(4/(J$5*((90/$G$18)*(90/$G$18))))*$J$23*(1-(SQRT(2)*Vin_rms_min*(SIN($Q130)/Vout))))))","v":0.270328719723183},{"$f":"(K$5*((90/$G$18)*(90/$G$18))/2)*(1+(SQRT(1+(4/(K$5*((90/$G$18)*(90/$G$18))))*$K$23*(1-(SQRT(2)*Vin_rms_min*(SIN($Q130)/Vout))))))","v":0.405493079584775},{"$f":"(L$5*((90/$G$18)*(90/$G$18))/2)*(1+(SQRT(1+(4/(L$5*((90/$G$18)*(90/$G$18))))*$L$23*(1-(SQRT(2)*Vin_rms_min*(SIN($Q130)/Vout))))))","v":0.540657439446367},null,{"$f":"R130*ABS(1/(Vout/(SQRT(2)*$C$25*SIN($Q130))))","v":0.0808688413004104},{"$f":"S130*ABS(1/(Vout/(SQRT(2)*$C$25*SIN($Q130))))","v":0.0793092678166203},{"$f":"T130*ABS(1/(Vout/(SQRT(2)*$C$25*SIN($Q130))))","v":0.0783550056035043},{"$f":"U130*ABS(1/(Vout/(SQRT(2)*$C$25*SIN($Q130))))","v":0.0795466379220754},{"$f":"V130*ABS(1/(Vout/(SQRT(2)*$C$25*SIN($Q130))))","v":0.119319956883113},{"$f":"W130*ABS(1/(Vout/(SQRT(2)*$C$25*SIN($Q130))))","v":0.159093275844151},null,{"$f":"1/(0.0000128*(R130+Y130+$G$23))","v":40152.8322064281},{"$f":"1/(0.0000128*(S130+Z130+$H$23))","v":85026.4880874109},{"$f":"1/(0.0000128*(T130+AA130+$I$23))","v":109937.023473437},{"$f":"1/(0.0000128*(U130+AB130+$J$23))","v":223293.805330559},{"$f":"1/(0.0000128*(V130+AC130+$K$23))","v":148862.536887039},{"$f":"1/(0.0000128*(W130+AD130+$L$23))","v":111646.902665279}]
["FET Rise Time:","tr",5,"ns",null,null,null,null,null,null,null,null,null,null,null,null,{"$f":"Q130+0.01","v":1.25},{"$f":"(G$5*((90/$G$18)*(90/$G$18))/2)*(1+(SQRT(1+(4/(G$5*((90/$G$18)*(90/$G$18))))*$G$23*(1-(SQRT(2)*Vin_rms_min*(SIN($Q131)/Vout))))))","v":0.274649258274326},{"$f":"(H$5*((90/$G$18)*(90/$G$18))/2)*(1+(SQRT(1+(4/(H$5*((90/$G$18)*(90/$G$18))))*$H$23*(1-(SQRT(2)*Vin_rms_min*(SIN($Q131)/Vout))))))","v":0.269379569060117},{"$f":"(I$5*((90/$G$18)*(90/$G$18))/2)*(1+(SQRT(1+(4/(I$5*((90/$G$18)*(90/$G$18))))*$I$23*(1-(SQRT(2)*Vin_rms_min*(SIN($Q131)/Vout))))))","v":0.266155112808015},{"$f":"(J$5*((90/$G$18)*(90/$G$18))/2)*(1+(SQRT(1+(4/(J$5*((90/$G$18)*(90/$G$18))))*$J$23*(1-(SQRT(2)*Vin_rms_min*(SIN($Q131)/Vout))))))","v":0.270328719723183},{"$f":"(K$5*((90/$G$18)*(90/$G$18))/2)*(1+(SQRT(1+(4/(K$5*((90/$G$18)*(90/$G$18))))*$K$23*(1-(SQRT(2)*Vin_rms_min*(SIN($Q131)/Vout))))))","v":0.405493079584775},{"$f":"(L$5*((90/$G$18)*(90/$G$18))/2)*(1+(SQRT(1+(4/(L$5*((90/$G$18)*(90/$G$18))))*$L$23*(1-(SQRT(2)*Vin_rms_min*(SIN($Q131)/Vout))))))","v":0.540657439446367},null,{"$f":"R131*ABS(1/(Vout/(SQRT(2)*$C$25*SIN($Q131))))","v":0.0810914904593721},{"$f":"S131*ABS(1/(Vout/(SQRT(2)*$C$25*SIN($Q131))))","v":0.0795355898342517},{"$f":"T131*ABS(1/(Vout/(SQRT(2)*$C$25*SIN($Q131))))","v":0.0785835538992308},{"$f":"U131*ABS(1/(Vout/(SQRT(2)*$C$25*SIN($Q131))))","v":0.079815831049619},{"$f":"V131*ABS(1/(Vout/(SQRT(2)*$C$25*SIN($Q131))))","v":0.119723746574429},{"$f":"W131*ABS(1/(Vout/(SQRT(2)*$C$25*SIN($Q131))))","v":0.159631662099238},null,{"$f":"1/(0.0000128*(R131+Y131+$G$23))","v":40151.8033945911},{"$f":"1/(0.0000128*(S131+Z131+$H$23))","v":85018.7302318523},{"$f":"1/(0.0000128*(T131+AA131+$I$23))","v":109920.852290114},{"$f":"1/(0.0000128*(U131+AB131+$J$23))","v":223122.135779554},{"$f":"1/(0.0000128*(V131+AC131+$K$23))","v":148748.090519702},{"$f":"1/(0.0000128*(W131+AD131+$L$23))","v":111561.067889777}]
["FET Fall Time:","tf",4.5,"ns",null,null,null,null,null,null,null,null,null,null,null,null,{"$f":"Q131+0.01","v":1.26},{"$f":"(G$5*((90/$G$18)*(90/$G$18))/2)*(1+(SQRT(1+(4/(G$5*((90/$G$18)*(90/$G$18))))*$G$23*(1-(SQRT(2)*Vin_rms_min*(SIN($Q132)/Vout))))))","v":0.274481471630879},{"$f":"(H$5*((90/$G$18)*(90/$G$18))/2)*(1+(SQRT(1+(4/(H$5*((90/$G$18)*(90/$G$18))))*$H$23*(1-(SQRT(2)*Vin_rms_min*(SIN($Q132)/Vout))))))","v":0.269241223585238},{"$f":"(I$5*((90/$G$18)*(90/$G$18))/2)*(1+(SQRT(1+(4/(I$5*((90/$G$18)*(90/$G$18))))*$I$23*(1-(SQRT(2)*Vin_rms_min*(SIN($Q132)/Vout))))))","v":0.266034713163951},{"$f":"(J$5*((90/$G$18)*(90/$G$18))/2)*(1+(SQRT(1+(4/(J$5*((90/$G$18)*(90/$G$18))))*$J$23*(1-(SQRT(2)*Vin_rms_min*(SIN($Q132)/Vout))))))","v":0.270328719723183},{"$f":"(K$5*((90/$G$18)*(90/$G$18))/2)*(1+(SQRT(1+(4/(K$5*((90/$G$18)*(90/$G$18))))*$K$23*(1-(SQRT(2)*Vin_rms_min*(SIN($Q132)/Vout))))))","v":0.405493079584775},{"$f":"(L$5*((90/$G$18)*(90/$G$18))/2)*(1+(SQRT(1+(4/(L$5*((90/$G$18)*(90/$G$18))))*$L$23*(1-(SQRT(2)*Vin_rms_min*(SIN($Q132)/Vout))))))","v":0.540657439446367},null,{"$f":"R132*ABS(1/(Vout/(SQRT(2)*$C$25*SIN($Q132))))","v":0.0813071749676811},{"$f":"S132*ABS(1/(Vout/(SQRT(2)*$C$25*SIN($Q132))))","v":0.0797549034712139},{"$f":"T132*ABS(1/(Vout/(SQRT(2)*$C$25*SIN($Q132))))","v":0.0788050677598627},{"$f":"U132*ABS(1/(Vout/(SQRT(2)*$C$25*SIN($Q132))))","v":0.0800770426605706},{"$f":"V132*ABS(1/(Vout/(SQRT(2)*$C$25*SIN($Q132))))","v":0.120115563990856},{"$f":"W132*ABS(1/(Vout/(SQRT(2)*$C$25*SIN($Q132))))","v":0.160154085321141},null,{"$f":"1/(0.0000128*(R132+Y132+$G$23))","v":40150.8150109574},{"$f":"1/(0.0000128*(S132+Z132+$H$23))","v":85011.2396558565},{"$f":"1/(0.0000128*(T132+AA132+$I$23))","v":109905.216472927},{"$f":"1/(0.0000128*(U132+AB132+$J$23))","v":222955.808342101},{"$f":"1/(0.0000128*(V132+AC132+$K$23))","v":148637.205561401},{"$f":"1/(0.0000128*(W132+AD132+$L$23))","v":111477.90417105}]
["FET Output Capacitance:","COSS",56,"pF",null,null,null,null,null,null,null,null,null,null,null,null,{"$f":"Q132+0.01","v":1.27},{"$f":"(G$5*((90/$G$18)*(90/$G$18))/2)*(1+(SQRT(1+(4/(G$5*((90/$G$18)*(90/$G$18))))*$G$23*(1-(SQRT(2)*Vin_rms_min*(SIN($Q133)/Vout))))))","v":0.274318719948777},{"$f":"(H$5*((90/$G$18)*(90/$G$18))/2)*(1+(SQRT(1+(4/(H$5*((90/$G$18)*(90/$G$18))))*$H$23*(1-(SQRT(2)*Vin_rms_min*(SIN($Q133)/Vout))))))","v":0.269107034241695},{"$f":"(I$5*((90/$G$18)*(90/$G$18))/2)*(1+(SQRT(1+(4/(I$5*((90/$G$18)*(90/$G$18))))*$I$23*(1-(SQRT(2)*Vin_rms_min*(SIN($Q133)/Vout))))))","v":0.265917934699122},{"$f":"(J$5*((90/$G$18)*(90/$G$18))/2)*(1+(SQRT(1+(4/(J$5*((90/$G$18)*(90/$G$18))))*$J$23*(1-(SQRT(2)*Vin_rms_min*(SIN($Q133)/Vout))))))","v":0.270328719723183},{"$f":"(K$5*((90/$G$18)*(90/$G$18))/2)*(1+(SQRT(1+(4/(K$5*((90/$G$18)*(90/$G$18))))*$K$23*(1-(SQRT(2)*Vin_rms_min*(SIN($Q133)/Vout))))))","v":0.405493079584775},{"$f":"(L$5*((90/$G$18)*(90/$G$18))/2)*(1+(SQRT(1+(4/(L$5*((90/$G$18)*(90/$G$18))))*$L$23*(1-(SQRT(2)*Vin_rms_min*(SIN($Q133)/Vout))))))","v":0.540657439446367},null,{"$f":"R133*ABS(1/(Vout/(SQRT(2)*$C$25*SIN($Q133))))","v":0.0815159057179341},{"$f":"S133*ABS(1/(Vout/(SQRT(2)*$C$25*SIN($Q133))))","v":0.0799672134492864},{"$f":"T133*ABS(1/(Vout/(SQRT(2)*$C$25*SIN($Q133))))","v":0.0790195481288661},{"$f":"U133*ABS(1/(Vout/(SQRT(2)*$C$25*SIN($Q133))))","v":0.0803302466339869},{"$f":"V133*ABS(1/(Vout/(SQRT(2)*$C$25*SIN($Q133))))","v":0.12049536995098},{"$f":"W133*ABS(1/(Vout/(SQRT(2)*$C$25*SIN($Q133))))","v":0.160660493267974},null,{"$f":"1/(0.0000128*(R133+Y133+$G$23))","v":40149.8662679166},{"$f":"1/(0.0000128*(S133+Z133+$H$23))","v":85004.0137630619},{"$f":"1/(0.0000128*(T133+AA133+$I$23))","v":109890.1125444},{"$f":"1/(0.0000128*(U133+AB133+$J$23))","v":222794.816318555},{"$f":"1/(0.0000128*(V133+AC133+$K$23))","v":148529.877545703},{"$f":"1/(0.0000128*(W133+AD133+$L$23))","v":111397.408159277}]
["FET Maximum Junction Temperature:","TJ(max)",125,"°C",null,null,null,null,null,null,null,null,null,null,null,null,{"$f":"Q133+0.01","v":1.28},{"$f":"(G$5*((90/$G$18)*(90/$G$18))/2)*(1+(SQRT(1+(4/(G$5*((90/$G$18)*(90/$G$18))))*$G$23*(1-(SQRT(2)*Vin_rms_min*(SIN($Q134)/Vout))))))","v":0.274161029466452},{"$f":"(H$5*((90/$G$18)*(90/$G$18))/2)*(1+(SQRT(1+(4/(H$5*((90/$G$18)*(90/$G$18))))*$H$23*(1-(SQRT(2)*Vin_rms_min*(SIN($Q134)/Vout))))))","v":0.268977022245813},{"$f":"(I$5*((90/$G$18)*(90/$G$18))/2)*(1+(SQRT(1+(4/(I$5*((90/$G$18)*(90/$G$18))))*$I$23*(1-(SQRT(2)*Vin_rms_min*(SIN($Q134)/Vout))))))","v":0.265804795501394},{"$f":"(J$5*((90/$G$18)*(90/$G$18))/2)*(1+(SQRT(1+(4/(J$5*((90/$G$18)*(90/$G$18))))*$J$23*(1-(SQRT(2)*Vin_rms_min*(SIN($Q134)/Vout))))))","v":0.270328719723183},{"$f":"(K$5*((90/$G$18)*(90/$G$18))/2)*(1+(SQRT(1+(4/(K$5*((90/$G$18)*(90/$G$18))))*$K$23*(1-(SQRT(2)*Vin_rms_min*(SIN($Q134)/Vout))))))","v":0.405493079584775},{"$f":"(L$5*((90/$G$18)*(90/$G$18))/2)*(1+(SQRT(1+(4/(L$5*((90/$G$18)*(90/$G$18))))*$L$23*(1-(SQRT(2)*Vin_rms_min*(SIN($Q134)/Vout))))))","v":0.540657439446367},null,{"$f":"R134*ABS(1/(Vout/(SQRT(2)*$C$25*SIN($Q134))))","v":0.081717693462784},{"$f":"S134*ABS(1/(Vout/(SQRT(2)*$C$25*SIN($Q134))))","v":0.0801725245020842},{"$f":"T134*ABS(1/(Vout/(SQRT(2)*$C$25*SIN($Q134))))","v":0.0792269960540794},{"$f":"U134*ABS(1/(Vout/(SQRT(2)*$C$25*SIN($Q134))))","v":0.0805754176496813},{"$f":"V134*ABS(1/(Vout/(SQRT(2)*$C$25*SIN($Q134))))","v":0.120863126474522},{"$f":"W134*ABS(1/(Vout/(SQRT(2)*$C$25*SIN($Q134))))","v":0.161150835299363},null,{"$f":"1/(0.0000128*(R134+Y134+$G$23))","v":40148.9563966218},{"$f":"1/(0.0000128*(S134+Z134+$H$23))","v":84997.0500191391},{"$f":"1/(0.0000128*(T134+AA134+$I$23))","v":109875.537110783},{"$f":"1/(0.0000128*(U134+AB134+$J$23))","v":222639.153202647},{"$f":"1/(0.0000128*(V134+AC134+$K$23))","v":148426.102135098},{"$f":"1/(0.0000128*(W134+AD134+$L$23))","v":111319.576601324}]
["FET Thermal Resistance, Junction to Case:","RqJC(FET)",4.2,"°C/W",null,null,null,null,null,null,null,null,null,null,null,null,{"$f":"Q134+0.01","v":1.29},{"$f":"(G$5*((90/$G$18)*(90/$G$18))/2)*(1+(SQRT(1+(4/(G$5*((90/$G$18)*(90/$G$18))))*$G$23*(1-(SQRT(2)*Vin_rms_min*(SIN($Q135)/Vout))))))","v":0.274008425662119},{"$f":"(H$5*((90/$G$18)*(90/$G$18))/2)*(1+(SQRT(1+(4/(H$5*((90/$G$18)*(90/$G$18))))*$H$23*(1-(SQRT(2)*Vin_rms_min*(SIN($Q135)/Vout))))))","v":0.268851208196015},{"$f":"(I$5*((90/$G$18)*(90/$G$18))/2)*(1+(SQRT(1+(4/(I$5*((90/$G$18)*(90/$G$18))))*$I$23*(1-(SQRT(2)*Vin_rms_min*(SIN($Q135)/Vout))))))","v":0.265695313129058},{"$f":"(J$5*((90/$G$18)*(90/$G$18))/2)*(1+(SQRT(1+(4/(J$5*((90/$G$18)*(90/$G$18))))*$J$23*(1-(SQRT(2)*Vin_rms_min*(SIN($Q135)/Vout))))))","v":0.270328719723183},{"$f":"(K$5*((90/$G$18)*(90/$G$18))/2)*(1+(SQRT(1+(4/(K$5*((90/$G$18)*(90/$G$18))))*$K$23*(1-(SQRT(2)*Vin_rms_min*(SIN($Q135)/Vout))))))","v":0.405493079584775},{"$f":"(L$5*((90/$G$18)*(90/$G$18))/2)*(1+(SQRT(1+(4/(L$5*((90/$G$18)*(90/$G$18))))*$L$23*(1-(SQRT(2)*Vin_rms_min*(SIN($Q135)/Vout))))))","v":0.540657439446367},null,{"$f":"R135*ABS(1/(Vout/(SQRT(2)*$C$25*SIN($Q135))))","v":0.0819125487962392},{"$f":"S135*ABS(1/(Vout/(SQRT(2)*$C$25*SIN($Q135))))","v":0.0803708413603302},{"$f":"T135*ABS(1/(Vout/(SQRT(2)*$C$25*SIN($Q135))))","v":0.0794274126754521},{"$f":"U135*ABS(1/(Vout/(SQRT(2)*$C$25*SIN($Q135))))","v":0.0808125311907568},{"$f":"V135*ABS(1/(Vout/(SQRT(2)*$C$25*SIN($Q135))))","v":0.121218796786135},{"$f":"W135*ABS(1/(Vout/(SQRT(2)*$C$25*SIN($Q135))))","v":0.161625062381514},null,{"$f":"1/(0.0000128*(R135+Y135+$G$23))","v":40148.0846475515},{"$f":"1/(0.0000128*(S135+Z135+$H$23))","v":84990.3459536315},{"$f":"1/(0.0000128*(T135+AA135+$I$23))","v":109861.486864472},{"$f":"1/(0.0000128*(U135+AB135+$J$23))","v":222488.812683382},{"$f":"1/(0.0000128*(V135+AC135+$K$23))","v":148325.875122255},{"$f":"1/(0.0000128*(W135+AD135+$L$23))","v":111244.406341691}]
["FET Thermal Resistance, Case to Heatsink:","RqCHS(FET)",0.32,"°C/W",null,null,null,null,null,null,null,null,null,null,null,null,{"$f":"Q135+0.01","v":1.3},{"$f":"(G$5*((90/$G$18)*(90/$G$18))/2)*(1+(SQRT(1+(4/(G$5*((90/$G$18)*(90/$G$18))))*$G$23*(1-(SQRT(2)*Vin_rms_min*(SIN($Q136)/Vout))))))","v":0.273860933244529},{"$f":"(H$5*((90/$G$18)*(90/$G$18))/2)*(1+(SQRT(1+(4/(H$5*((90/$G$18)*(90/$G$18))))*$H$23*(1-(SQRT(2)*Vin_rms_min*(SIN($Q136)/Vout))))))","v":0.268729612065641},{"$f":"(I$5*((90/$G$18)*(90/$G$18))/2)*(1+(SQRT(1+(4/(I$5*((90/$G$18)*(90/$G$18))))*$I$23*(1-(SQRT(2)*Vin_rms_min*(SIN($Q136)/Vout))))))","v":0.265589504604942},{"$f":"(J$5*((90/$G$18)*(90/$G$18))/2)*(1+(SQRT(1+(4/(J$5*((90/$G$18)*(90/$G$18))))*$J$23*(1-(SQRT(2)*Vin_rms_min*(SIN($Q136)/Vout))))))","v":0.270328719723183},{"$f":"(K$5*((90/$G$18)*(90/$G$18))/2)*(1+(SQRT(1+(4/(K$5*((90/$G$18)*(90/$G$18))))*$K$23*(1-(SQRT(2)*Vin_rms_min*(SIN($Q136)/Vout))))))","v":0.405493079584775},{"$f":"(L$5*((90/$G$18)*(90/$G$18))/2)*(1+(SQRT(1+(4/(L$5*((90/$G$18)*(90/$G$18))))*$L$23*(1-(SQRT(2)*Vin_rms_min*(SIN($Q136)/Vout))))))","v":0.540657439446367},null,{"$f":"R136*ABS(1/(Vout/(SQRT(2)*$C$25*SIN($Q136))))","v":0.0821004821354003},{"$f":"S136*ABS(1/(Vout/(SQRT(2)*$C$25*SIN($Q136))))","v":0.0805621687374754},{"$f":"T136*ABS(1/(Vout/(SQRT(2)*$C$25*SIN($Q136))))","v":0.0796207992130746},{"$f":"U136*ABS(1/(Vout/(SQRT(2)*$C$25*SIN($Q136))))","v":0.0810415635460567},{"$f":"V136*ABS(1/(Vout/(SQRT(2)*$C$25*SIN($Q136))))","v":0.121562345319085},{"$f":"W136*ABS(1/(Vout/(SQRT(2)*$C$25*SIN($Q136))))","v":0.162083127092113},null,{"$f":"1/(0.0000128*(R136+Y136+$G$23))","v":40147.2502910583},{"$f":"1/(0.0000128*(S136+Z136+$H$23))","v":84983.8991617526},{"$f":"1/(0.0000128*(T136+AA136+$I$23))","v":109847.958586368},{"$f":"1/(0.0000128*(U136+AB136+$J$23))","v":222343.788646851},{"$f":"1/(0.0000128*(V136+AC136+$K$23))","v":148229.192431234},{"$f":"1/(0.0000128*(W136+AD136+$L$23))","v":111171.894323425}]
["Gate Drive Losses (actually dissipated in the gate drive circuitry):","PGATE",{"$f":"Vgs*Qg*(nC)*fsw*kHz","v":0.0485228476510694},"W",null,null,null,null,null,null,null,null,null,null,null,null,{"$f":"Q136+0.01","v":1.31},{"$f":"(G$5*((90/$G$18)*(90/$G$18))/2)*(1+(SQRT(1+(4/(G$5*((90/$G$18)*(90/$G$18))))*$G$23*(1-(SQRT(2)*Vin_rms_min*(SIN($Q137)/Vout))))))","v":0.273718576143957},{"$f":"(H$5*((90/$G$18)*(90/$G$18))/2)*(1+(SQRT(1+(4/(H$5*((90/$G$18)*(90/$G$18))))*$H$23*(1-(SQRT(2)*Vin_rms_min*(SIN($Q137)/Vout))))))","v":0.268612253195928},{"$f":"(I$5*((90/$G$18)*(90/$G$18))/2)*(1+(SQRT(1+(4/(I$5*((90/$G$18)*(90/$G$18))))*$I$23*(1-(SQRT(2)*Vin_rms_min*(SIN($Q137)/Vout))))))","v":0.265487386410683},{"$f":"(J$5*((90/$G$18)*(90/$G$18))/2)*(1+(SQRT(1+(4/(J$5*((90/$G$18)*(90/$G$18))))*$J$23*(1-(SQRT(2)*Vin_rms_min*(SIN($Q137)/Vout))))))","v":0.270328719723183},{"$f":"(K$5*((90/$G$18)*(90/$G$18))/2)*(1+(SQRT(1+(4/(K$5*((90/$G$18)*(90/$G$18))))*$K$23*(1-(SQRT(2)*Vin_rms_min*(SIN($Q137)/Vout))))))","v":0.405493079584775},{"$f":"(L$5*((90/$G$18)*(90/$G$18))/2)*(1+(SQRT(1+(4/(L$5*((90/$G$18)*(90/$G$18))))*$L$23*(1-(SQRT(2)*Vin_rms_min*(SIN($Q137)/Vout))))))","v":0.540657439446367},null,{"$f":"R137*ABS(1/(Vout/(SQRT(2)*$C$25*SIN($Q137))))","v":0.0822815037026564},{"$f":"S137*ABS(1/(Vout/(SQRT(2)*$C$25*SIN($Q137))))","v":0.0807465113156791},{"$f":"T137*ABS(1/(Vout/(SQRT(2)*$C$25*SIN($Q137))))","v":0.0798071569555088},{"$f":"U137*ABS(1/(Vout/(SQRT(2)*$C$25*SIN($Q137))))","v":0.0812624918125364},{"$f":"V137*ABS(1/(Vout/(SQRT(2)*$C$25*SIN($Q137))))","v":0.121893737718805},{"$f":"W137*ABS(1/(Vout/(SQRT(2)*$C$25*SIN($Q137))))","v":0.162524983625073},null,{"$f":"1/(0.0000128*(R137+Y137+$G$23))","v":40146.4526179043},{"$f":"1/(0.0000128*(S137+Z137+$H$23))","v":84977.707306138},{"$f":"1/(0.0000128*(T137+AA137+$I$23))","v":109834.949148175},{"$f":"1/(0.0000128*(U137+AB137+$J$23))","v":222204.07517798},{"$f":"1/(0.0000128*(V137+AC137+$K$23))","v":148136.050118653},{"$f":"1/(0.0000128*(W137+AD137+$L$23))","v":111102.03758899}]
["FET Conduction Losses:","PCOND",{"$f":"(Ids_rms_max^2)*(Rds_on)","v":0.0489625069520721},"W",null,null,null,null,null,null,null,null,null,null,null,null,{"$f":"Q137+0.01","v":1.32},{"$f":"(G$5*((90/$G$18)*(90/$G$18))/2)*(1+(SQRT(1+(4/(G$5*((90/$G$18)*(90/$G$18))))*$G$23*(1-(SQRT(2)*Vin_rms_min*(SIN($Q138)/Vout))))))","v":0.273581377503425},{"$f":"(H$5*((90/$G$18)*(90/$G$18))/2)*(1+(SQRT(1+(4/(H$5*((90/$G$18)*(90/$G$18))))*$H$23*(1-(SQRT(2)*Vin_rms_min*(SIN($Q138)/Vout))))))","v":0.268499150289195},{"$f":"(I$5*((90/$G$18)*(90/$G$18))/2)*(1+(SQRT(1+(4/(I$5*((90/$G$18)*(90/$G$18))))*$I$23*(1-(SQRT(2)*Vin_rms_min*(SIN($Q138)/Vout))))))","v":0.265388974481157},{"$f":"(J$5*((90/$G$18)*(90/$G$18))/2)*(1+(SQRT(1+(4/(J$5*((90/$G$18)*(90/$G$18))))*$J$23*(1-(SQRT(2)*Vin_rms_min*(SIN($Q138)/Vout))))))","v":0.270328719723183},{"$f":"(K$5*((90/$G$18)*(90/$G$18))/2)*(1+(SQRT(1+(4/(K$5*((90/$G$18)*(90/$G$18))))*$K$23*(1-(SQRT(2)*Vin_rms_min*(SIN($Q138)/Vout))))))","v":0.405493079584775},{"$f":"(L$5*((90/$G$18)*(90/$G$18))/2)*(1+(SQRT(1+(4/(L$5*((90/$G$18)*(90/$G$18))))*$L$23*(1-(SQRT(2)*Vin_rms_min*(SIN($Q138)/Vout))))))","v":0.540657439446367},null,{"$f":"R138*ABS(1/(Vout/(SQRT(2)*$C$25*SIN($Q138))))","v":0.0824556235083499},{"$f":"S138*ABS(1/(Vout/(SQRT(2)*$C$25*SIN($Q138))))","v":0.0809238737321607},{"$f":"T138*ABS(1/(Vout/(SQRT(2)*$C$25*SIN($Q138))))","v":0.0799864872484291},{"$f":"U138*ABS(1/(Vout/(SQRT(2)*$C$25*SIN($Q138))))","v":0.0814752938975534},{"$f":"V138*ABS(1/(Vout/(SQRT(2)*$C$25*SIN($Q138))))","v":0.12221294084633},{"$f":"W138*ABS(1/(Vout/(SQRT(2)*$C$25*SIN($Q138))))","v":0.162950587795107},null,{"$f":"1/(0.0000128*(R138+Y138+$G$23))","v":40145.6909397825},{"$f":"1/(0.0000128*(S138+Z138+$H$23))","v":84971.7681185514},{"$f":"1/(0.0000128*(T138+AA138+$I$23))","v":109822.455514634},{"$f":"1/(0.0000128*(U138+AB138+$J$23))","v":222069.666562198},{"$f":"1/(0.0000128*(V138+AC138+$K$23))","v":148046.444374799},{"$f":"1/(0.0000128*(W138+AD138+$L$23))","v":111034.833281099}]
["FET Switching Losses:","PSW",{"$f":"((fsw*kHz)/2)*((tf_FET*ns*Vout*IL_rms_max)+(Coss*picoF*Vout^2))","v":0.930845187957223},"W",null,null,null,null,null,null,null,null,null,null,null,null,{"$f":"Q138+0.01","v":1.33},{"$f":"(G$5*((90/$G$18)*(90/$G$18))/2)*(1+(SQRT(1+(4/(G$5*((90/$G$18)*(90/$G$18))))*$G$23*(1-(SQRT(2)*Vin_rms_min*(SIN($Q139)/Vout))))))","v":0.273449359670162},{"$f":"(H$5*((90/$G$18)*(90/$G$18))/2)*(1+(SQRT(1+(4/(H$5*((90/$G$18)*(90/$G$18))))*$H$23*(1-(SQRT(2)*Vin_rms_min*(SIN($Q139)/Vout))))))","v":0.26839032140221},{"$f":"(I$5*((90/$G$18)*(90/$G$18))/2)*(1+(SQRT(1+(4/(I$5*((90/$G$18)*(90/$G$18))))*$I$23*(1-(SQRT(2)*Vin_rms_min*(SIN($Q139)/Vout))))))","v":0.265294284199058},{"$f":"(J$5*((90/$G$18)*(90/$G$18))/2)*(1+(SQRT(1+(4/(J$5*((90/$G$18)*(90/$G$18))))*$J$23*(1-(SQRT(2)*Vin_rms_min*(SIN($Q139)/Vout))))))","v":0.270328719723183},{"$f":"(K$5*((90/$G$18)*(90/$G$18))/2)*(1+(SQRT(1+(4/(K$5*((90/$G$18)*(90/$G$18))))*$K$23*(1-(SQRT(2)*Vin_rms_min*(SIN($Q139)/Vout))))))","v":0.405493079584775},{"$f":"(L$5*((90/$G$18)*(90/$G$18))/2)*(1+(SQRT(1+(4/(L$5*((90/$G$18)*(90/$G$18))))*$L$23*(1-(SQRT(2)*Vin_rms_min*(SIN($Q139)/Vout))))))","v":0.540657439446367},null,{"$f":"R139*ABS(1/(Vout/(SQRT(2)*$C$25*SIN($Q139))))","v":0.08262285133393},{"$f":"S139*ABS(1/(Vout/(SQRT(2)*$C$25*SIN($Q139))))","v":0.081094260565936},{"$f":"T139*ABS(1/(Vout/(SQRT(2)*$C$25*SIN($Q139))))","v":0.080158791483584},{"$f":"U139*ABS(1/(Vout/(SQRT(2)*$C$25*SIN($Q139))))","v":0.0816799485210765},{"$f":"V139*ABS(1/(Vout/(SQRT(2)*$C$25*SIN($Q139))))","v":0.122519922781615},{"$f":"W139*ABS(1/(Vout/(SQRT(2)*$C$25*SIN($Q139))))","v":0.163359897042153},null,{"$f":"1/(0.0000128*(R139+Y139+$G$23))","v":40144.9645898241},{"$f":"1/(0.0000128*(S139+Z139+$H$23))","v":84966.0794015429},{"$f":"1/(0.0000128*(T139+AA139+$I$23))","v":109810.474745701},{"$f":"1/(0.0000128*(U139+AB139+$J$23))","v":221940.557287041},{"$f":"1/(0.0000128*(V139+AC139+$K$23))","v":147960.371524694},{"$f":"1/(0.0000128*(W139+AD139+$L$23))","v":110970.27864352}]
["FET Losses, Total:","PFET",{"$f":"P_FETcond+P_FETsw+P_FETgate","v":1.02833054256036},"W",null,null,null,null,null,null,null,null,null,null,null,null,{"$f":"Q139+0.01","v":1.34},{"$f":"(G$5*((90/$G$18)*(90/$G$18))/2)*(1+(SQRT(1+(4/(G$5*((90/$G$18)*(90/$G$18))))*$G$23*(1-(SQRT(2)*Vin_rms_min*(SIN($Q140)/Vout))))))","v":0.273322544187333},{"$f":"(H$5*((90/$G$18)*(90/$G$18))/2)*(1+(SQRT(1+(4/(H$5*((90/$G$18)*(90/$G$18))))*$H$23*(1-(SQRT(2)*Vin_rms_min*(SIN($Q140)/Vout))))))","v":0.268285783939758},{"$f":"(I$5*((90/$G$18)*(90/$G$18))/2)*(1+(SQRT(1+(4/(I$5*((90/$G$18)*(90/$G$18))))*$I$23*(1-(SQRT(2)*Vin_rms_min*(SIN($Q140)/Vout))))))","v":0.26520333038965},{"$f":"(J$5*((90/$G$18)*(90/$G$18))/2)*(1+(SQRT(1+(4/(J$5*((90/$G$18)*(90/$G$18))))*$J$23*(1-(SQRT(2)*Vin_rms_min*(SIN($Q140)/Vout))))))","v":0.270328719723183},{"$f":"(K$5*((90/$G$18)*(90/$G$18))/2)*(1+(SQRT(1+(4/(K$5*((90/$G$18)*(90/$G$18))))*$K$23*(1-(SQRT(2)*Vin_rms_min*(SIN($Q140)/Vout))))))","v":0.405493079584775},{"$f":"(L$5*((90/$G$18)*(90/$G$18))/2)*(1+(SQRT(1+(4/(L$5*((90/$G$18)*(90/$G$18))))*$L$23*(1-(SQRT(2)*Vin_rms_min*(SIN($Q140)/Vout))))))","v":0.540657439446367},null,{"$f":"R140*ABS(1/(Vout/(SQRT(2)*$C$25*SIN($Q140))))","v":0.082783196715606},{"$f":"S140*ABS(1/(Vout/(SQRT(2)*$C$25*SIN($Q140))))","v":0.0812576763249479},{"$f":"T140*ABS(1/(Vout/(SQRT(2)*$C$25*SIN($Q140))))","v":0.0803240710880876},{"$f":"U140*ABS(1/(Vout/(SQRT(2)*$C$25*SIN($Q140))))","v":0.0818764352178139},{"$f":"V140*ABS(1/(Vout/(SQRT(2)*$C$25*SIN($Q140))))","v":0.122814652826721},{"$f":"W140*ABS(1/(Vout/(SQRT(2)*$C$25*SIN($Q140))))","v":0.163752870435628},null,{"$f":"1/(0.0000128*(R140+Y140+$G$23))","v":40144.2729230901},{"$f":"1/(0.0000128*(S140+Z140+$H$23))","v":84960.6390300579},{"$f":"1/(0.0000128*(T140+AA140+$I$23))","v":109799.003998646},{"$f":"1/(0.0000128*(U140+AB140+$J$23))","v":221816.742043676},{"$f":"1/(0.0000128*(V140+AC140+$K$23))","v":147877.828029117},{"$f":"1/(0.0000128*(W140+AD140+$L$23))","v":110908.371021838}]
["Required Heat Sink Thermal Impedance:","RqHS_AMB(FET)",{"$f":"((Tj_FET-Tamb)/P_FET)-Rth_jc_FET-Rth_CHS_FET","v":68.4137473661562},"°C/W",null,null,null,null,null,null,null,null,null,null,null,null,{"$f":"Q140+0.01","v":1.35},{"$f":"(G$5*((90/$G$18)*(90/$G$18))/2)*(1+(SQRT(1+(4/(G$5*((90/$G$18)*(90/$G$18))))*$G$23*(1-(SQRT(2)*Vin_rms_min*(SIN($Q141)/Vout))))))","v":0.273200951786009},{"$f":"(H$5*((90/$G$18)*(90/$G$18))/2)*(1+(SQRT(1+(4/(H$5*((90/$G$18)*(90/$G$18))))*$H$23*(1-(SQRT(2)*Vin_rms_min*(SIN($Q141)/Vout))))))","v":0.268185554648414},{"$f":"(I$5*((90/$G$18)*(90/$G$18))/2)*(1+(SQRT(1+(4/(I$5*((90/$G$18)*(90/$G$18))))*$I$23*(1-(SQRT(2)*Vin_rms_min*(SIN($Q141)/Vout))))))","v":0.265116127315686},{"$f":"(J$5*((90/$G$18)*(90/$G$18))/2)*(1+(SQRT(1+(4/(J$5*((90/$G$18)*(90/$G$18))))*$J$23*(1-(SQRT(2)*Vin_rms_min*(SIN($Q141)/Vout))))))","v":0.270328719723183},{"$f":"(K$5*((90/$G$18)*(90/$G$18))/2)*(1+(SQRT(1+(4/(K$5*((90/$G$18)*(90/$G$18))))*$K$23*(1-(SQRT(2)*Vin_rms_min*(SIN($Q141)/Vout))))))","v":0.405493079584775},{"$f":"(L$5*((90/$G$18)*(90/$G$18))/2)*(1+(SQRT(1+(4/(L$5*((90/$G$18)*(90/$G$18))))*$L$23*(1-(SQRT(2)*Vin_rms_min*(SIN($Q141)/Vout))))))","v":0.540657439446367},null,{"$f":"R141*ABS(1/(Vout/(SQRT(2)*$C$25*SIN($Q141))))","v":0.0829366689285176},{"$f":"S141*ABS(1/(Vout/(SQRT(2)*$C$25*SIN($Q141))))","v":0.0814141254336051},{"$f":"T141*ABS(1/(Vout/(SQRT(2)*$C$25*SIN($Q141))))","v":0.0804823275140501},{"$f":"U141*ABS(1/(Vout/(SQRT(2)*$C$25*SIN($Q141))))","v":0.0820647343392596},{"$f":"V141*ABS(1/(Vout/(SQRT(2)*$C$25*SIN($Q141))))","v":0.123097101508889},{"$f":"W141*ABS(1/(Vout/(SQRT(2)*$C$25*SIN($Q141))))","v":0.164129468678519},null,{"$f":"1/(0.0000128*(R141+Y141+$G$23))","v":40143.6153170485},{"$f":"1/(0.0000128*(S141+Z141+$H$23))","v":84955.4449529952},{"$f":"1/(0.0000128*(T141+AA141+$I$23))","v":109788.040530095},{"$f":"1/(0.0000128*(U141+AB141+$J$23))","v":221698.215728367},{"$f":"1/(0.0000128*(V141+AC141+$K$23))","v":147798.810485578},{"$f":"1/(0.0000128*(W141+AD141+$L$23))","v":110849.107864184}]
[null,null,null,null,null,null,null,null,null,null,null,null,null,null,null,null,{"$f":"Q141+0.01","v":1.36},{"$f":"(G$5*((90/$G$18)*(90/$G$18))/2)*(1+(SQRT(1+(4/(G$5*((90/$G$18)*(90/$G$18))))*$G$23*(1-(SQRT(2)*Vin_rms_min*(SIN($Q142)/Vout))))))","v":0.27308460237742},{"$f":"(H$5*((90/$G$18)*(90/$G$18))/2)*(1+(SQRT(1+(4/(H$5*((90/$G$18)*(90/$G$18))))*$H$23*(1-(SQRT(2)*Vin_rms_min*(SIN($Q142)/Vout))))))","v":0.268089649610529},{"$f":"(I$5*((90/$G$18)*(90/$G$18))/2)*(1+(SQRT(1+(4/(I$5*((90/$G$18)*(90/$G$18))))*$I$23*(1-(SQRT(2)*Vin_rms_min*(SIN($Q142)/Vout))))))","v":0.265032688672494},{"$f":"(J$5*((90/$G$18)*(90/$G$18))/2)*(1+(SQRT(1+(4/(J$5*((90/$G$18)*(90/$G$18))))*$J$23*(1-(SQRT(2)*Vin_rms_min*(SIN($Q142)/Vout))))))","v":0.270328719723183},{"$f":"(K$5*((90/$G$18)*(90/$G$18))/2)*(1+(SQRT(1+(4/(K$5*((90/$G$18)*(90/$G$18))))*$K$23*(1-(SQRT(2)*Vin_rms_min*(SIN($Q142)/Vout))))))","v":0.405493079584775},{"$f":"(L$5*((90/$G$18)*(90/$G$18))/2)*(1+(SQRT(1+(4/(L$5*((90/$G$18)*(90/$G$18))))*$L$23*(1-(SQRT(2)*Vin_rms_min*(SIN($Q142)/Vout))))))","v":0.540657439446367},null,{"$f":"R142*ABS(1/(Vout/(SQRT(2)*$C$25*SIN($Q142))))","v":0.0830832769714331},{"$f":"S142*ABS(1/(Vout/(SQRT(2)*$C$25*SIN($Q142))))","v":0.081563612220737},{"$f":"T142*ABS(1/(Vout/(SQRT(2)*$C$25*SIN($Q142))))","v":0.080633562228557},{"$f":"U142*ABS(1/(Vout/(SQRT(2)*$C$25*SIN($Q142))))","v":0.0822448270556585},{"$f":"V142*ABS(1/(Vout/(SQRT(2)*$C$25*SIN($Q142))))","v":0.123367240583488},{"$f":"W142*ABS(1/(Vout/(SQRT(2)*$C$25*SIN($Q142))))","v":0.164489654111317},null,{"$f":"1/(0.0000128*(R142+Y142+$G$23))","v":40142.9911720355},{"$f":"1/(0.0000128*(S142+Z142+$H$23))","v":84950.495194714},{"$f":"1/(0.0000128*(T142+AA142+$I$23))","v":109777.581698001},{"$f":"1/(0.0000128*(U142+AB142+$J$23))","v":221584.973443868},{"$f":"1/(0.0000128*(V142+AC142+$K$23))","v":147723.315629245},{"$f":"1/(0.0000128*(W142+AD142+$L$23))","v":110792.486721934}]
[null,null,null,null,{"$f":"IF(Vout_holdup>Vout,\"ENTER A LOWER VALUE FOR THE MINIMUM HOLDUP VOLTAGE\",\"\")","v":""},null,null,null,null,null,null,null,null,null,null,null,{"$f":"Q142+0.01","v":1.37},{"$f":"(G$5*((90/$G$18)*(90/$G$18))/2)*(1+(SQRT(1+(4/(G$5*((90/$G$18)*(90/$G$18))))*$G$23*(1-(SQRT(2)*Vin_rms_min*(SIN($Q143)/Vout))))))","v":0.27297351504547},{"$f":"(H$5*((90/$G$18)*(90/$G$18))/2)*(1+(SQRT(1+(4/(H$5*((90/$G$18)*(90/$G$18))))*$H$23*(1-(SQRT(2)*Vin_rms_min*(SIN($Q143)/Vout))))))","v":0.267998084238418},{"$f":"(I$5*((90/$G$18)*(90/$G$18))/2)*(1+(SQRT(1+(4/(I$5*((90/$G$18)*(90/$G$18))))*$I$23*(1-(SQRT(2)*Vin_rms_min*(SIN($Q143)/Vout))))))","v":0.264953027583248},{"$f":"(J$5*((90/$G$18)*(90/$G$18))/2)*(1+(SQRT(1+(4/(J$5*((90/$G$18)*(90/$G$18))))*$J$23*(1-(SQRT(2)*Vin_rms_min*(SIN($Q143)/Vout))))))","v":0.270328719723183},{"$f":"(K$5*((90/$G$18)*(90/$G$18))/2)*(1+(SQRT(1+(4/(K$5*((90/$G$18)*(90/$G$18))))*$K$23*(1-(SQRT(2)*Vin_rms_min*(SIN($Q143)/Vout))))))","v":0.405493079584775},{"$f":"(L$5*((90/$G$18)*(90/$G$18))/2)*(1+(SQRT(1+(4/(L$5*((90/$G$18)*(90/$G$18))))*$L$23*(1-(SQRT(2)*Vin_rms_min*(SIN($Q143)/Vout))))))","v":0.540657439446367},null,{"$f":"R143*ABS(1/(Vout/(SQRT(2)*$C$25*SIN($Q143))))","v":0.0832230295519918},{"$f":"S143*ABS(1/(Vout/(SQRT(2)*$C$25*SIN($Q143))))","v":0.0817061409079773},{"$f":"T143*ABS(1/(Vout/(SQRT(2)*$C$25*SIN($Q143))))","v":0.080777776704005},{"$f":"U143*ABS(1/(Vout/(SQRT(2)*$C$25*SIN($Q143))))","v":0.0824166953578889},{"$f":"V143*ABS(1/(Vout/(SQRT(2)*$C$25*SIN($Q143))))","v":0.123625043036833},{"$f":"W143*ABS(1/(Vout/(SQRT(2)*$C$25*SIN($Q143))))","v":0.164833390715778},null,{"$f":"1/(0.0000128*(R143+Y143+$G$23))","v":40142.3999117},{"$f":"1/(0.0000128*(S143+Z143+$H$23))","v":84945.7878564865},{"$f":"1/(0.0000128*(T143+AA143+$I$23))","v":109767.624963537},{"$f":"1/(0.0000128*(U143+AB143+$J$23))","v":221477.010500744},{"$f":"1/(0.0000128*(V143+AC143+$K$23))","v":147651.34033383},{"$f":"1/(0.0000128*(W143+AD143+$L$23))","v":110738.505250372}]
["OUTPUT CAPACITOR:",null,null,null,null,null,null,null,null,null,null,null,null,null,null,null,{"$f":"Q143+0.01","v":1.38},{"$f":"(G$5*((90/$G$18)*(90/$G$18))/2)*(1+(SQRT(1+(4/(G$5*((90/$G$18)*(90/$G$18))))*$G$23*(1-(SQRT(2)*Vin_rms_min*(SIN($Q144)/Vout))))))","v":0.272867708039541},{"$f":"(H$5*((90/$G$18)*(90/$G$18))/2)*(1+(SQRT(1+(4/(H$5*((90/$G$18)*(90/$G$18))))*$H$23*(1-(SQRT(2)*Vin_rms_min*(SIN($Q144)/Vout))))))","v":0.267910873268783},{"$f":"(I$5*((90/$G$18)*(90/$G$18))/2)*(1+(SQRT(1+(4/(I$5*((90/$G$18)*(90/$G$18))))*$I$23*(1-(SQRT(2)*Vin_rms_min*(SIN($Q144)/Vout))))))","v":0.264877156594409},{"$f":"(J$5*((90/$G$18)*(90/$G$18))/2)*(1+(SQRT(1+(4/(J$5*((90/$G$18)*(90/$G$18))))*$J$23*(1-(SQRT(2)*Vin_rms_min*(SIN($Q144)/Vout))))))","v":0.270328719723183},{"$f":"(K$5*((90/$G$18)*(90/$G$18))/2)*(1+(SQRT(1+(4/(K$5*((90/$G$18)*(90/$G$18))))*$K$23*(1-(SQRT(2)*Vin_rms_min*(SIN($Q144)/Vout))))))","v":0.405493079584775},{"$f":"(L$5*((90/$G$18)*(90/$G$18))/2)*(1+(SQRT(1+(4/(L$5*((90/$G$18)*(90/$G$18))))*$L$23*(1-(SQRT(2)*Vin_rms_min*(SIN($Q144)/Vout))))))","v":0.540657439446367},null,{"$f":"R144*ABS(1/(Vout/(SQRT(2)*$C$25*SIN($Q144))))","v":0.0833559350725028},{"$f":"S144*ABS(1/(Vout/(SQRT(2)*$C$25*SIN($Q144))))","v":0.0818417155985862},{"$f":"T144*ABS(1/(Vout/(SQRT(2)*$C$25*SIN($Q144))))","v":0.0809149724088028},{"$f":"U144*ABS(1/(Vout/(SQRT(2)*$C$25*SIN($Q144))))","v":0.0825803220592639},{"$f":"V144*ABS(1/(Vout/(SQRT(2)*$C$25*SIN($Q144))))","v":0.123870483088896},{"$f":"W144*ABS(1/(Vout/(SQRT(2)*$C$25*SIN($Q144))))","v":0.165160644118528},null,{"$f":"1/(0.0000128*(R144+Y144+$G$23))","v":40141.8409834323},{"$f":"1/(0.0000128*(S144+Z144+$H$23))","v":84941.3211178967},{"$f":"1/(0.0000128*(T144+AA144+$I$23))","v":109758.167892929},{"$f":"1/(0.0000128*(U144+AB144+$J$23))","v":221374.322418638},{"$f":"1/(0.0000128*(V144+AC144+$K$23))","v":147582.881612425},{"$f":"1/(0.0000128*(W144+AD144+$L$23))","v":110687.161209319}]
["Required Minimum Output Voltage:","VOUT_HOLDUP(min)",450,"V",null,null,null,null,null,null,null,null,null,null,null,null,{"$f":"Q144+0.01","v":1.39},{"$f":"(G$5*((90/$G$18)*(90/$G$18))/2)*(1+(SQRT(1+(4/(G$5*((90/$G$18)*(90/$G$18))))*$G$23*(1-(SQRT(2)*Vin_rms_min*(SIN($Q145)/Vout))))))","v":0.272767198767576},{"$f":"(H$5*((90/$G$18)*(90/$G$18))/2)*(1+(SQRT(1+(4/(H$5*((90/$G$18)*(90/$G$18))))*$H$23*(1-(SQRT(2)*Vin_rms_min*(SIN($Q145)/Vout))))))","v":0.267828030757348},{"$f":"(I$5*((90/$G$18)*(90/$G$18))/2)*(1+(SQRT(1+(4/(I$5*((90/$G$18)*(90/$G$18))))*$I$23*(1-(SQRT(2)*Vin_rms_min*(SIN($Q145)/Vout))))))","v":0.264805087671363},{"$f":"(J$5*((90/$G$18)*(90/$G$18))/2)*(1+(SQRT(1+(4/(J$5*((90/$G$18)*(90/$G$18))))*$J$23*(1-(SQRT(2)*Vin_rms_min*(SIN($Q145)/Vout))))))","v":0.270328719723183},{"$f":"(K$5*((90/$G$18)*(90/$G$18))/2)*(1+(SQRT(1+(4/(K$5*((90/$G$18)*(90/$G$18))))*$K$23*(1-(SQRT(2)*Vin_rms_min*(SIN($Q145)/Vout))))))","v":0.405493079584775},{"$f":"(L$5*((90/$G$18)*(90/$G$18))/2)*(1+(SQRT(1+(4/(L$5*((90/$G$18)*(90/$G$18))))*$L$23*(1-(SQRT(2)*Vin_rms_min*(SIN($Q145)/Vout))))))","v":0.540657439446367},null,{"$f":"R145*ABS(1/(Vout/(SQRT(2)*$C$25*SIN($Q145))))","v":0.0834820016163112},{"$f":"S145*ABS(1/(Vout/(SQRT(2)*$C$25*SIN($Q145))))","v":0.0819703402667203},{"$f":"T145*ABS(1/(Vout/(SQRT(2)*$C$25*SIN($Q145))))","v":0.0810451507984469},{"$f":"U145*ABS(1/(Vout/(SQRT(2)*$C$25*SIN($Q145))))","v":0.0827356907972496},{"$f":"V145*ABS(1/(Vout/(SQRT(2)*$C$25*SIN($Q145))))","v":0.124103536195874},{"$f":"W145*ABS(1/(Vout/(SQRT(2)*$C$25*SIN($Q145))))","v":0.165471381594499},null,{"$f":"1/(0.0000128*(R145+Y145+$G$23))","v":40141.3138587753},{"$f":"1/(0.0000128*(S145+Z145+$H$23))","v":84937.0932381829},{"$f":"1/(0.0000128*(T145+AA145+$I$23))","v":109749.208159201},{"$f":"1/(0.0000128*(U145+AB145+$J$23))","v":221276.904927461},{"$f":"1/(0.0000128*(V145+AC145+$K$23))","v":147517.936618308},{"$f":"1/(0.0000128*(W145+AD145+$L$23))","v":110638.452463731}]
["Minimum Output Voltage Holdup Time:","tHold_UP(min)",10,"ms",{"$f":"IF(Cout<C147,\"INCREASE OUTPUT CAPACITANCE TO AT LEAST MINIMUM RECOMMENDED VALUE\",\"\")","v":""},null,null,null,null,null,null,null,null,null,null,null,{"$f":"Q145+0.01","v":1.4},{"$f":"(G$5*((90/$G$18)*(90/$G$18))/2)*(1+(SQRT(1+(4/(G$5*((90/$G$18)*(90/$G$18))))*$G$23*(1-(SQRT(2)*Vin_rms_min*(SIN($Q146)/Vout))))))","v":0.272672003789465},{"$f":"(H$5*((90/$G$18)*(90/$G$18))/2)*(1+(SQRT(1+(4/(H$5*((90/$G$18)*(90/$G$18))))*$H$23*(1-(SQRT(2)*Vin_rms_min*(SIN($Q146)/Vout))))))","v":0.267749570073732},{"$f":"(I$5*((90/$G$18)*(90/$G$18))/2)*(1+(SQRT(1+(4/(I$5*((90/$G$18)*(90/$G$18))))*$I$23*(1-(SQRT(2)*Vin_rms_min*(SIN($Q146)/Vout))))))","v":0.264736832194234},{"$f":"(J$5*((90/$G$18)*(90/$G$18))/2)*(1+(SQRT(1+(4/(J$5*((90/$G$18)*(90/$G$18))))*$J$23*(1-(SQRT(2)*Vin_rms_min*(SIN($Q146)/Vout))))))","v":0.270328719723183},{"$f":"(K$5*((90/$G$18)*(90/$G$18))/2)*(1+(SQRT(1+(4/(K$5*((90/$G$18)*(90/$G$18))))*$K$23*(1-(SQRT(2)*Vin_rms_min*(SIN($Q146)/Vout))))))","v":0.405493079584775},{"$f":"(L$5*((90/$G$18)*(90/$G$18))/2)*(1+(SQRT(1+(4/(L$5*((90/$G$18)*(90/$G$18))))*$L$23*(1-(SQRT(2)*Vin_rms_min*(SIN($Q146)/Vout))))))","v":0.540657439446367},null,{"$f":"R146*ABS(1/(Vout/(SQRT(2)*$C$25*SIN($Q146))))","v":0.0836012369347472},{"$f":"S146*ABS(1/(Vout/(SQRT(2)*$C$25*SIN($Q146))))","v":0.0820920187471613},{"$f":"T146*ABS(1/(Vout/(SQRT(2)*$C$25*SIN($Q146))))","v":0.0811683133069773},{"$f":"U146*ABS(1/(Vout/(SQRT(2)*$C$25*SIN($Q146))))","v":0.0828827860351018},{"$f":"V146*ABS(1/(Vout/(SQRT(2)*$C$25*SIN($Q146))))","v":0.124324179052653},{"$f":"W146*ABS(1/(Vout/(SQRT(2)*$C$25*SIN($Q146))))","v":0.165765572070204},null,{"$f":"1/(0.0000128*(R146+Y146+$G$23))","v":40140.8180338181},{"$f":"1/(0.0000128*(S146+Z146+$H$23))","v":84933.1025575231},{"$f":"1/(0.0000128*(T146+AA146+$I$23))","v":109740.743543856},{"$f":"1/(0.0000128*(U146+AB146+$J$23))","v":221184.753968529},{"$f":"1/(0.0000128*(V146+AC146+$K$23))","v":147456.502645686},{"$f":"1/(0.0000128*(W146+AD146+$L$23))","v":110592.376984265}]
["Recommended Minimum Output Capacitor Value:","COUT(recommended)",{"$f":"(((2*Pout*t_holdup*ms)/((Vout^2)-(Vout_holdup^2))))/uF","v":21.0526315789474},"\u009dµF",null,null,null,null,null,null,null,null,null,null,null,null,{"$f":"Q146+0.01","v":1.41},{"$f":"(G$5*((90/$G$18)*(90/$G$18))/2)*(1+(SQRT(1+(4/(G$5*((90/$G$18)*(90/$G$18))))*$G$23*(1-(SQRT(2)*Vin_rms_min*(SIN($Q147)/Vout))))))","v":0.27258213881072},{"$f":"(H$5*((90/$G$18)*(90/$G$18))/2)*(1+(SQRT(1+(4/(H$5*((90/$G$18)*(90/$G$18))))*$H$23*(1-(SQRT(2)*Vin_rms_min*(SIN($Q147)/Vout))))))","v":0.267675503896548},{"$f":"(I$5*((90/$G$18)*(90/$G$18))/2)*(1+(SQRT(1+(4/(I$5*((90/$G$18)*(90/$G$18))))*$I$23*(1-(SQRT(2)*Vin_rms_min*(SIN($Q147)/Vout))))))","v":0.264672400953898},{"$f":"(J$5*((90/$G$18)*(90/$G$18))/2)*(1+(SQRT(1+(4/(J$5*((90/$G$18)*(90/$G$18))))*$J$23*(1-(SQRT(2)*Vin_rms_min*(SIN($Q147)/Vout))))))","v":0.270328719723183},{"$f":"(K$5*((90/$G$18)*(90/$G$18))/2)*(1+(SQRT(1+(4/(K$5*((90/$G$18)*(90/$G$18))))*$K$23*(1-(SQRT(2)*Vin_rms_min*(SIN($Q147)/Vout))))))","v":0.405493079584775},{"$f":"(L$5*((90/$G$18)*(90/$G$18))/2)*(1+(SQRT(1+(4/(L$5*((90/$G$18)*(90/$G$18))))*$L$23*(1-(SQRT(2)*Vin_rms_min*(SIN($Q147)/Vout))))))","v":0.540657439446367},null,{"$f":"R147*ABS(1/(Vout/(SQRT(2)*$C$25*SIN($Q147))))","v":0.0837136484346666},{"$f":"S147*ABS(1/(Vout/(SQRT(2)*$C$25*SIN($Q147))))","v":0.0822067547255102},{"$f":"T147*ABS(1/(Vout/(SQRT(2)*$C$25*SIN($Q147))))","v":0.0812844613388232},{"$f":"U147*ABS(1/(Vout/(SQRT(2)*$C$25*SIN($Q147))))","v":0.0830215930634193},{"$f":"V147*ABS(1/(Vout/(SQRT(2)*$C$25*SIN($Q147))))","v":0.124532389595129},{"$f":"W147*ABS(1/(Vout/(SQRT(2)*$C$25*SIN($Q147))))","v":0.166043186126839},null,{"$f":"1/(0.0000128*(R147+Y147+$G$23))","v":40140.3530295727},{"$f":"1/(0.0000128*(S147+Z147+$H$23))","v":84929.3474982632},{"$f":"1/(0.0000128*(T147+AA147+$I$23))","v":109732.771938476},{"$f":"1/(0.0000128*(U147+AB147+$J$23))","v":221097.865695627},{"$f":"1/(0.0000128*(V147+AC147+$K$23))","v":147398.577130418},{"$f":"1/(0.0000128*(W147+AD147+$L$23))","v":110548.932847813}]
["Actual Output Capacitor Value:","COUT",22,"\u009dµF",null,null,null,null,null,null,null,null,null,null,null,null,{"$f":"Q147+0.01","v":1.42},{"$f":"(G$5*((90/$G$18)*(90/$G$18))/2)*(1+(SQRT(1+(4/(G$5*((90/$G$18)*(90/$G$18))))*$G$23*(1-(SQRT(2)*Vin_rms_min*(SIN($Q148)/Vout))))))","v":0.272497618676464},{"$f":"(H$5*((90/$G$18)*(90/$G$18))/2)*(1+(SQRT(1+(4/(H$5*((90/$G$18)*(90/$G$18))))*$H$23*(1-(SQRT(2)*Vin_rms_min*(SIN($Q148)/Vout))))))","v":0.267605844208743},{"$f":"(I$5*((90/$G$18)*(90/$G$18))/2)*(1+(SQRT(1+(4/(I$5*((90/$G$18)*(90/$G$18))))*$I$23*(1-(SQRT(2)*Vin_rms_min*(SIN($Q148)/Vout))))))","v":0.264611804148185},{"$f":"(J$5*((90/$G$18)*(90/$G$18))/2)*(1+(SQRT(1+(4/(J$5*((90/$G$18)*(90/$G$18))))*$J$23*(1-(SQRT(2)*Vin_rms_min*(SIN($Q148)/Vout))))))","v":0.270328719723183},{"$f":"(K$5*((90/$G$18)*(90/$G$18))/2)*(1+(SQRT(1+(4/(K$5*((90/$G$18)*(90/$G$18))))*$K$23*(1-(SQRT(2)*Vin_rms_min*(SIN($Q148)/Vout))))))","v":0.405493079584775},{"$f":"(L$5*((90/$G$18)*(90/$G$18))/2)*(1+(SQRT(1+(4/(L$5*((90/$G$18)*(90/$G$18))))*$L$23*(1-(SQRT(2)*Vin_rms_min*(SIN($Q148)/Vout))))))","v":0.540657439446367},null,{"$f":"R148*ABS(1/(Vout/(SQRT(2)*$C$25*SIN($Q148))))","v":0.0838192431665958},{"$f":"S148*ABS(1/(Vout/(SQRT(2)*$C$25*SIN($Q148))))","v":0.0823145517288593},{"$f":"T148*ABS(1/(Vout/(SQRT(2)*$C$25*SIN($Q148))))","v":0.081393596261045},{"$f":"U148*ABS(1/(Vout/(SQRT(2)*$C$25*SIN($Q148))))","v":0.0831520980016148},{"$f":"V148*ABS(1/(Vout/(SQRT(2)*$C$25*SIN($Q148))))","v":0.124728147002422},{"$f":"W148*ABS(1/(Vout/(SQRT(2)*$C$25*SIN($Q148))))","v":0.16630419600323},null,{"$f":"1/(0.0000128*(R148+Y148+$G$23))","v":40139.9183923319},{"$f":"1/(0.0000128*(S148+Z148+$H$23))","v":84925.8265660838},{"$f":"1/(0.0000128*(T148+AA148+$I$23))","v":109725.291346241},{"$f":"1/(0.0000128*(U148+AB148+$J$23))","v":221016.236476017},{"$f":"1/(0.0000128*(V148+AC148+$K$23))","v":147344.157650678},{"$f":"1/(0.0000128*(W148+AD148+$L$23))","v":110508.118238009}]
["Output Voltage Peak to Peak Ripple:","VOUT_RIPPLEpp",{"$f":"Iout/(2*2*pi*fline_min*Cout*uF)","v":6.34589087288259},"V",null,null,null,null,null,null,null,null,null,null,null,null,{"$f":"Q148+0.01","v":1.43},{"$f":"(G$5*((90/$G$18)*(90/$G$18))/2)*(1+(SQRT(1+(4/(G$5*((90/$G$18)*(90/$G$18))))*$G$23*(1-(SQRT(2)*Vin_rms_min*(SIN($Q149)/Vout))))))","v":0.272418457365726},{"$f":"(H$5*((90/$G$18)*(90/$G$18))/2)*(1+(SQRT(1+(4/(H$5*((90/$G$18)*(90/$G$18))))*$H$23*(1-(SQRT(2)*Vin_rms_min*(SIN($Q149)/Vout))))))","v":0.267540602293182},{"$f":"(I$5*((90/$G$18)*(90/$G$18))/2)*(1+(SQRT(1+(4/(I$5*((90/$G$18)*(90/$G$18))))*$I$23*(1-(SQRT(2)*Vin_rms_min*(SIN($Q149)/Vout))))))","v":0.264555051378283},{"$f":"(J$5*((90/$G$18)*(90/$G$18))/2)*(1+(SQRT(1+(4/(J$5*((90/$G$18)*(90/$G$18))))*$J$23*(1-(SQRT(2)*Vin_rms_min*(SIN($Q149)/Vout))))))","v":0.270328719723183},{"$f":"(K$5*((90/$G$18)*(90/$G$18))/2)*(1+(SQRT(1+(4/(K$5*((90/$G$18)*(90/$G$18))))*$K$23*(1-(SQRT(2)*Vin_rms_min*(SIN($Q149)/Vout))))))","v":0.405493079584775},{"$f":"(L$5*((90/$G$18)*(90/$G$18))/2)*(1+(SQRT(1+(4/(L$5*((90/$G$18)*(90/$G$18))))*$L$23*(1-(SQRT(2)*Vin_rms_min*(SIN($Q149)/Vout))))))","v":0.540657439446367},null,{"$f":"R149*ABS(1/(Vout/(SQRT(2)*$C$25*SIN($Q149))))","v":0.083918027813492},{"$f":"S149*ABS(1/(Vout/(SQRT(2)*$C$25*SIN($Q149))))","v":0.0824154131169467},{"$f":"T149*ABS(1/(Vout/(SQRT(2)*$C$25*SIN($Q149))))","v":0.0814957193959786},{"$f":"U149*ABS(1/(Vout/(SQRT(2)*$C$25*SIN($Q149))))","v":0.0832742877993034},{"$f":"V149*ABS(1/(Vout/(SQRT(2)*$C$25*SIN($Q149))))","v":0.124911431698955},{"$f":"W149*ABS(1/(Vout/(SQRT(2)*$C$25*SIN($Q149))))","v":0.166548575598607},null,{"$f":"1/(0.0000128*(R149+Y149+$G$23))","v":40139.5136940087},{"$f":"1/(0.0000128*(S149+Z149+$H$23))","v":84922.5383511089},{"$f":"1/(0.0000128*(T149+AA149+$I$23))","v":109718.299883377},{"$f":"1/(0.0000128*(U149+AB149+$J$23))","v":220939.862891386},{"$f":"1/(0.0000128*(V149+AC149+$K$23))","v":147293.241927591},{"$f":"1/(0.0000128*(W149+AD149+$L$23))","v":110469.931445693}]
[{"$f":"IF(Vout_ripplepp>0.05*Vout,\"OUTPUT CAPACITOR must be sized larger so non-linear gain is not triggered\",\"Good! Output voltage peak-peak ripple is less than 5% VOUT\")","v":"Good! Output voltage peak-peak ripple is less than 5% VOUT"},null,null,null,null,null,null,null,null,null,null,null,null,null,null,null,{"$f":"Q149+0.01","v":1.44},{"$f":"(G$5*((90/$G$18)*(90/$G$18))/2)*(1+(SQRT(1+(4/(G$5*((90/$G$18)*(90/$G$18))))*$G$23*(1-(SQRT(2)*Vin_rms_min*(SIN($Q150)/Vout))))))","v":0.272344667986055},{"$f":"(H$5*((90/$G$18)*(90/$G$18))/2)*(1+(SQRT(1+(4/(H$5*((90/$G$18)*(90/$G$18))))*$H$23*(1-(SQRT(2)*Vin_rms_min*(SIN($Q150)/Vout))))))","v":0.267479788728476},{"$f":"(I$5*((90/$G$18)*(90/$G$18))/2)*(1+(SQRT(1+(4/(I$5*((90/$G$18)*(90/$G$18))))*$I$23*(1-(SQRT(2)*Vin_rms_min*(SIN($Q150)/Vout))))))","v":0.264502151645345},{"$f":"(J$5*((90/$G$18)*(90/$G$18))/2)*(1+(SQRT(1+(4/(J$5*((90/$G$18)*(90/$G$18))))*$J$23*(1-(SQRT(2)*Vin_rms_min*(SIN($Q150)/Vout))))))","v":0.270328719723183},{"$f":"(K$5*((90/$G$18)*(90/$G$18))/2)*(1+(SQRT(1+(4/(K$5*((90/$G$18)*(90/$G$18))))*$K$23*(1-(SQRT(2)*Vin_rms_min*(SIN($Q150)/Vout))))))","v":0.405493079584775},{"$f":"(L$5*((90/$G$18)*(90/$G$18))/2)*(1+(SQRT(1+(4/(L$5*((90/$G$18)*(90/$G$18))))*$L$23*(1-(SQRT(2)*Vin_rms_min*(SIN($Q150)/Vout))))))","v":0.540657439446367},null,{"$f":"R150*ABS(1/(Vout/(SQRT(2)*$C$25*SIN($Q150))))","v":0.0840100086801274},{"$f":"S150*ABS(1/(Vout/(SQRT(2)*$C$25*SIN($Q150))))","v":0.0825093420738036},{"$f":"T150*ABS(1/(Vout/(SQRT(2)*$C$25*SIN($Q150))))","v":0.0815908320142901},{"$f":"U150*ABS(1/(Vout/(SQRT(2)*$C$25*SIN($Q150))))","v":0.0833881502376071},{"$f":"V150*ABS(1/(Vout/(SQRT(2)*$C$25*SIN($Q150))))","v":0.125082225356411},{"$f":"W150*ABS(1/(Vout/(SQRT(2)*$C$25*SIN($Q150))))","v":0.166776300475214},null,{"$f":"1/(0.0000128*(R150+Y150+$G$23))","v":40139.1385324573},{"$f":"1/(0.0000128*(S150+Z150+$H$23))","v":84919.4815289512},{"$f":"1/(0.0000128*(T150+AA150+$I$23))","v":109711.79578051},{"$f":"1/(0.0000128*(U150+AB150+$J$23))","v":220868.741738725},{"$f":"1/(0.0000128*(V150+AC150+$K$23))","v":147245.827825817},{"$f":"1/(0.0000128*(W150+AD150+$L$23))","v":110434.370869363}]
["Output Capacitor Ripple Current at Twice Line Frequency:","ICout_2fline",{"$f":"Iout/SQRT(2)","v":0.0707106781186548},"ARMS",null,null,null,null,null,null,null,null,null,null,null,null,{"$f":"Q150+0.01","v":1.45},{"$f":"(G$5*((90/$G$18)*(90/$G$18))/2)*(1+(SQRT(1+(4/(G$5*((90/$G$18)*(90/$G$18))))*$G$23*(1-(SQRT(2)*Vin_rms_min*(SIN($Q151)/Vout))))))","v":0.27227626276845},{"$f":"(H$5*((90/$G$18)*(90/$G$18))/2)*(1+(SQRT(1+(4/(H$5*((90/$G$18)*(90/$G$18))))*$H$23*(1-(SQRT(2)*Vin_rms_min*(SIN($Q151)/Vout))))))","v":0.267423413385055},{"$f":"(I$5*((90/$G$18)*(90/$G$18))/2)*(1+(SQRT(1+(4/(I$5*((90/$G$18)*(90/$G$18))))*$I$23*(1-(SQRT(2)*Vin_rms_min*(SIN($Q151)/Vout))))))","v":0.264453113347291},{"$f":"(J$5*((90/$G$18)*(90/$G$18))/2)*(1+(SQRT(1+(4/(J$5*((90/$G$18)*(90/$G$18))))*$J$23*(1-(SQRT(2)*Vin_rms_min*(SIN($Q151)/Vout))))))","v":0.270328719723183},{"$f":"(K$5*((90/$G$18)*(90/$G$18))/2)*(1+(SQRT(1+(4/(K$5*((90/$G$18)*(90/$G$18))))*$K$23*(1-(SQRT(2)*Vin_rms_min*(SIN($Q151)/Vout))))))","v":0.405493079584775},{"$f":"(L$5*((90/$G$18)*(90/$G$18))/2)*(1+(SQRT(1+(4/(L$5*((90/$G$18)*(90/$G$18))))*$L$23*(1-(SQRT(2)*Vin_rms_min*(SIN($Q151)/Vout))))))","v":0.540657439446367},null,{"$f":"R151*ABS(1/(Vout/(SQRT(2)*$C$25*SIN($Q151))))","v":0.0840951916831091},{"$f":"S151*ABS(1/(Vout/(SQRT(2)*$C$25*SIN($Q151))))","v":0.0825963415999019},{"$f":"T151*ABS(1/(Vout/(SQRT(2)*$C$25*SIN($Q151))))","v":0.0816789353284468},{"$f":"U151*ABS(1/(Vout/(SQRT(2)*$C$25*SIN($Q151))))","v":0.0834936739303769},{"$f":"V151*ABS(1/(Vout/(SQRT(2)*$C$25*SIN($Q151))))","v":0.125240510895565},{"$f":"W151*ABS(1/(Vout/(SQRT(2)*$C$25*SIN($Q151))))","v":0.166987347860754},null,{"$f":"1/(0.0000128*(R151+Y151+$G$23))","v":40138.7925317748},{"$f":"1/(0.0000128*(S151+Z151+$H$23))","v":84916.6548616963},{"$f":"1/(0.0000128*(T151+AA151+$I$23))","v":109705.777383955},{"$f":"1/(0.0000128*(U151+AB151+$J$23))","v":220802.870031157},{"$f":"1/(0.0000128*(V151+AC151+$K$23))","v":147201.913354105},{"$f":"1/(0.0000128*(W151+AD151+$L$23))","v":110401.435015579}]
["Output Capacitor High Frequency Ripple Current:","ICout_HF",{"$f":"SQRT(SQRT(32*SQRT(2)/(9*pi)*(Pin/SQRT(Vin_rms_min*Vout))))","v":0.782537151821732},"ARMS",null,null,null,null,null,null,null,null,null,null,null,null,{"$f":"Q151+0.01","v":1.46},{"$f":"(G$5*((90/$G$18)*(90/$G$18))/2)*(1+(SQRT(1+(4/(G$5*((90/$G$18)*(90/$G$18))))*$G$23*(1-(SQRT(2)*Vin_rms_min*(SIN($Q152)/Vout))))))","v":0.272213253062626},{"$f":"(H$5*((90/$G$18)*(90/$G$18))/2)*(1+(SQRT(1+(4/(H$5*((90/$G$18)*(90/$G$18))))*$H$23*(1-(SQRT(2)*Vin_rms_min*(SIN($Q152)/Vout))))))","v":0.267371485421507},{"$f":"(I$5*((90/$G$18)*(90/$G$18))/2)*(1+(SQRT(1+(4/(I$5*((90/$G$18)*(90/$G$18))))*$I$23*(1-(SQRT(2)*Vin_rms_min*(SIN($Q152)/Vout))))))","v":0.264407944275826},{"$f":"(J$5*((90/$G$18)*(90/$G$18))/2)*(1+(SQRT(1+(4/(J$5*((90/$G$18)*(90/$G$18))))*$J$23*(1-(SQRT(2)*Vin_rms_min*(SIN($Q152)/Vout))))))","v":0.270328719723183},{"$f":"(K$5*((90/$G$18)*(90/$G$18))/2)*(1+(SQRT(1+(4/(K$5*((90/$G$18)*(90/$G$18))))*$K$23*(1-(SQRT(2)*Vin_rms_min*(SIN($Q152)/Vout))))))","v":0.405493079584775},{"$f":"(L$5*((90/$G$18)*(90/$G$18))/2)*(1+(SQRT(1+(4/(L$5*((90/$G$18)*(90/$G$18))))*$L$23*(1-(SQRT(2)*Vin_rms_min*(SIN($Q152)/Vout))))))","v":0.540657439446367},null,{"$f":"R152*ABS(1/(Vout/(SQRT(2)*$C$25*SIN($Q152))))","v":0.0841735823415422},{"$f":"S152*ABS(1/(Vout/(SQRT(2)*$C$25*SIN($Q152))))","v":0.0826764145048071},{"$f":"T152*ABS(1/(Vout/(SQRT(2)*$C$25*SIN($Q152))))","v":0.0817600304866083},{"$f":"U152*ABS(1/(Vout/(SQRT(2)*$C$25*SIN($Q152))))","v":0.0835908483253314},{"$f":"V152*ABS(1/(Vout/(SQRT(2)*$C$25*SIN($Q152))))","v":0.125386272487997},{"$f":"W152*ABS(1/(Vout/(SQRT(2)*$C$25*SIN($Q152))))","v":0.167181696650663},null,{"$f":"1/(0.0000128*(R152+Y152+$G$23))","v":40138.4753425838},{"$f":"1/(0.0000128*(S152+Z152+$H$23))","v":84914.057198823},{"$f":"1/(0.0000128*(T152+AA152+$I$23))","v":109700.243156906},{"$f":"1/(0.0000128*(U152+AB152+$J$23))","v":220742.244998702},{"$f":"1/(0.0000128*(V152+AC152+$K$23))","v":147161.496665801},{"$f":"1/(0.0000128*(W152+AD152+$L$23))","v":110371.122499351}]
["Total Output Capacitor Ripple Current:","ICout_RMS(total)",{"$f":"SQRT((Icout_2fline^2)+(Icout_HF^2))","v":0.78572539349398},"ARMS",null,null,null,null,null,null,null,null,null,null,null,null,{"$f":"Q152+0.01","v":1.47},{"$f":"(G$5*((90/$G$18)*(90/$G$18))/2)*(1+(SQRT(1+(4/(G$5*((90/$G$18)*(90/$G$18))))*$G$23*(1-(SQRT(2)*Vin_rms_min*(SIN($Q153)/Vout))))))","v":0.2721556493326},{"$f":"(H$5*((90/$G$18)*(90/$G$18))/2)*(1+(SQRT(1+(4/(H$5*((90/$G$18)*(90/$G$18))))*$H$23*(1-(SQRT(2)*Vin_rms_min*(SIN($Q153)/Vout))))))","v":0.267324013281155},{"$f":"(I$5*((90/$G$18)*(90/$G$18))/2)*(1+(SQRT(1+(4/(I$5*((90/$G$18)*(90/$G$18))))*$I$23*(1-(SQRT(2)*Vin_rms_min*(SIN($Q153)/Vout))))))","v":0.264366651613664},{"$f":"(J$5*((90/$G$18)*(90/$G$18))/2)*(1+(SQRT(1+(4/(J$5*((90/$G$18)*(90/$G$18))))*$J$23*(1-(SQRT(2)*Vin_rms_min*(SIN($Q153)/Vout))))))","v":0.270328719723183},{"$f":"(K$5*((90/$G$18)*(90/$G$18))/2)*(1+(SQRT(1+(4/(K$5*((90/$G$18)*(90/$G$18))))*$K$23*(1-(SQRT(2)*Vin_rms_min*(SIN($Q153)/Vout))))))","v":0.405493079584775},{"$f":"(L$5*((90/$G$18)*(90/$G$18))/2)*(1+(SQRT(1+(4/(L$5*((90/$G$18)*(90/$G$18))))*$L$23*(1-(SQRT(2)*Vin_rms_min*(SIN($Q153)/Vout))))))","v":0.540657439446367},null,{"$f":"R153*ABS(1/(Vout/(SQRT(2)*$C$25*SIN($Q153))))","v":0.084245185768345},{"$f":"S153*ABS(1/(Vout/(SQRT(2)*$C$25*SIN($Q153))))","v":0.0827495634003465},{"$f":"T153*ABS(1/(Vout/(SQRT(2)*$C$25*SIN($Q153))))","v":0.081834118566947},{"$f":"U153*ABS(1/(Vout/(SQRT(2)*$C$25*SIN($Q153))))","v":0.0836796637051123},{"$f":"V153*ABS(1/(Vout/(SQRT(2)*$C$25*SIN($Q153))))","v":0.125519495557668},{"$f":"W153*ABS(1/(Vout/(SQRT(2)*$C$25*SIN($Q153))))","v":0.167359327410225},null,{"$f":"1/(0.0000128*(R153+Y153+$G$23))","v":40138.1866422947},{"$f":"1/(0.0000128*(S153+Z153+$H$23))","v":84911.6874780594},{"$f":"1/(0.0000128*(T153+AA153+$I$23))","v":109695.191680554},{"$f":"1/(0.0000128*(U153+AB153+$J$23))","v":220686.864088981},{"$f":"1/(0.0000128*(V153+AC153+$K$23))","v":147124.57605932},{"$f":"1/(0.0000128*(W153+AD153+$L$23))","v":110343.43204449}]
[{"$f":"IF(Vout_ripplepp>0.04*Vout,\"OUTPUT CAPACITOR MUST BE INCREASED TO PREVENT ABNORMAL OPERATING\",\"\")","v":""},null,null,null,null,null,null,null,null,null,null,null,null,null,null,null,{"$f":"Q153+0.01","v":1.48},{"$f":"(G$5*((90/$G$18)*(90/$G$18))/2)*(1+(SQRT(1+(4/(G$5*((90/$G$18)*(90/$G$18))))*$G$23*(1-(SQRT(2)*Vin_rms_min*(SIN($Q154)/Vout))))))","v":0.272103461152617},{"$f":"(H$5*((90/$G$18)*(90/$G$18))/2)*(1+(SQRT(1+(4/(H$5*((90/$G$18)*(90/$G$18))))*$H$23*(1-(SQRT(2)*Vin_rms_min*(SIN($Q154)/Vout))))))","v":0.267281004688915},{"$f":"(I$5*((90/$G$18)*(90/$G$18))/2)*(1+(SQRT(1+(4/(I$5*((90/$G$18)*(90/$G$18))))*$I$23*(1-(SQRT(2)*Vin_rms_min*(SIN($Q154)/Vout))))))","v":0.264329241931961},{"$f":"(J$5*((90/$G$18)*(90/$G$18))/2)*(1+(SQRT(1+(4/(J$5*((90/$G$18)*(90/$G$18))))*$J$23*(1-(SQRT(2)*Vin_rms_min*(SIN($Q154)/Vout))))))","v":0.270328719723183},{"$f":"(K$5*((90/$G$18)*(90/$G$18))/2)*(1+(SQRT(1+(4/(K$5*((90/$G$18)*(90/$G$18))))*$K$23*(1-(SQRT(2)*Vin_rms_min*(SIN($Q154)/Vout))))))","v":0.405493079584775},{"$f":"(L$5*((90/$G$18)*(90/$G$18))/2)*(1+(SQRT(1+(4/(L$5*((90/$G$18)*(90/$G$18))))*$L$23*(1-(SQRT(2)*Vin_rms_min*(SIN($Q154)/Vout))))))","v":0.540657439446367},null,{"$f":"R154*ABS(1/(Vout/(SQRT(2)*$C$25*SIN($Q154))))","v":0.0843100066622251},{"$f":"S154*ABS(1/(Vout/(SQRT(2)*$C$25*SIN($Q154))))","v":0.0828157906942959},{"$f":"T154*ABS(1/(Vout/(SQRT(2)*$C$25*SIN($Q154))))","v":0.0819012005723991},{"$f":"U154*ABS(1/(Vout/(SQRT(2)*$C$25*SIN($Q154))))","v":0.0837601111882554},{"$f":"V154*ABS(1/(Vout/(SQRT(2)*$C$25*SIN($Q154))))","v":0.125640166782383},{"$f":"W154*ABS(1/(Vout/(SQRT(2)*$C$25*SIN($Q154))))","v":0.167520222376511},null,{"$f":"1/(0.0000128*(R154+Y154+$G$23))","v":40137.9261353487},{"$f":"1/(0.0000128*(S154+Z154+$H$23))","v":84909.5447261739},{"$f":"1/(0.0000128*(T154+AA154+$I$23))","v":109690.621655114},{"$f":"1/(0.0000128*(U154+AB154+$J$23))","v":220636.724967865},{"$f":"1/(0.0000128*(V154+AC154+$K$23))","v":147091.149978577},{"$f":"1/(0.0000128*(W154+AD154+$L$23))","v":110318.362483933}]
[null,null,null,null,null,null,null,null,null,null,null,null,null,null,null,null,{"$f":"Q154+0.01","v":1.49},{"$f":"(G$5*((90/$G$18)*(90/$G$18))/2)*(1+(SQRT(1+(4/(G$5*((90/$G$18)*(90/$G$18))))*$G$23*(1-(SQRT(2)*Vin_rms_min*(SIN($Q155)/Vout))))))","v":0.272056697203414},{"$f":"(H$5*((90/$G$18)*(90/$G$18))/2)*(1+(SQRT(1+(4/(H$5*((90/$G$18)*(90/$G$18))))*$H$23*(1-(SQRT(2)*Vin_rms_min*(SIN($Q155)/Vout))))))","v":0.267242466648394},{"$f":"(I$5*((90/$G$18)*(90/$G$18))/2)*(1+(SQRT(1+(4/(I$5*((90/$G$18)*(90/$G$18))))*$I$23*(1-(SQRT(2)*Vin_rms_min*(SIN($Q155)/Vout))))))","v":0.264295721187966},{"$f":"(J$5*((90/$G$18)*(90/$G$18))/2)*(1+(SQRT(1+(4/(J$5*((90/$G$18)*(90/$G$18))))*$J$23*(1-(SQRT(2)*Vin_rms_min*(SIN($Q155)/Vout))))))","v":0.270328719723183},{"$f":"(K$5*((90/$G$18)*(90/$G$18))/2)*(1+(SQRT(1+(4/(K$5*((90/$G$18)*(90/$G$18))))*$K$23*(1-(SQRT(2)*Vin_rms_min*(SIN($Q155)/Vout))))))","v":0.405493079584775},{"$f":"(L$5*((90/$G$18)*(90/$G$18))/2)*(1+(SQRT(1+(4/(L$5*((90/$G$18)*(90/$G$18))))*$L$23*(1-(SQRT(2)*Vin_rms_min*(SIN($Q155)/Vout))))))","v":0.540657439446367},null,{"$f":"R155*ABS(1/(Vout/(SQRT(2)*$C$25*SIN($Q155))))","v":0.0843680493003225},{"$f":"S155*ABS(1/(Vout/(SQRT(2)*$C$25*SIN($Q155))))","v":0.0828750985845921},{"$f":"T155*ABS(1/(Vout/(SQRT(2)*$C$25*SIN($Q155))))","v":0.081961277425854},{"$f":"U155*ABS(1/(Vout/(SQRT(2)*$C$25*SIN($Q155))))","v":0.0838321827300796},{"$f":"V155*ABS(1/(Vout/(SQRT(2)*$C$25*SIN($Q155))))","v":0.125748274095119},{"$f":"W155*ABS(1/(Vout/(SQRT(2)*$C$25*SIN($Q155))))","v":0.167664365460159},null,{"$f":"1/(0.0000128*(R155+Y155+$G$23))","v":40137.6935534405},{"$f":"1/(0.0000128*(S155+Z155+$H$23))","v":84907.6280597009},{"$f":"1/(0.0000128*(T155+AA155+$I$23))","v":109686.531900768},{"$f":"1/(0.0000128*(U155+AB155+$J$23))","v":220591.825520068},{"$f":"1/(0.0000128*(V155+AC155+$K$23))","v":147061.217013379},{"$f":"1/(0.0000128*(W155+AD155+$L$23))","v":110295.912760034}]
["OUTPUT VOLTAGE SET POINT:",null,null,null,null,null,null,null,null,null,null,null,null,null,null,null,{"$f":"Q155+0.01","v":1.5},{"$f":"(G$5*((90/$G$18)*(90/$G$18))/2)*(1+(SQRT(1+(4/(G$5*((90/$G$18)*(90/$G$18))))*$G$23*(1-(SQRT(2)*Vin_rms_min*(SIN($Q156)/Vout))))))","v":0.272015365268827},{"$f":"(H$5*((90/$G$18)*(90/$G$18))/2)*(1+(SQRT(1+(4/(H$5*((90/$G$18)*(90/$G$18))))*$H$23*(1-(SQRT(2)*Vin_rms_min*(SIN($Q156)/Vout))))))","v":0.267208405439273},{"$f":"(I$5*((90/$G$18)*(90/$G$18))/2)*(1+(SQRT(1+(4/(I$5*((90/$G$18)*(90/$G$18))))*$I$23*(1-(SQRT(2)*Vin_rms_min*(SIN($Q156)/Vout))))))","v":0.264266094722886},{"$f":"(J$5*((90/$G$18)*(90/$G$18))/2)*(1+(SQRT(1+(4/(J$5*((90/$G$18)*(90/$G$18))))*$J$23*(1-(SQRT(2)*Vin_rms_min*(SIN($Q156)/Vout))))))","v":0.270328719723183},{"$f":"(K$5*((90/$G$18)*(90/$G$18))/2)*(1+(SQRT(1+(4/(K$5*((90/$G$18)*(90/$G$18))))*$K$23*(1-(SQRT(2)*Vin_rms_min*(SIN($Q156)/Vout))))))","v":0.405493079584775},{"$f":"(L$5*((90/$G$18)*(90/$G$18))/2)*(1+(SQRT(1+(4/(L$5*((90/$G$18)*(90/$G$18))))*$L$23*(1-(SQRT(2)*Vin_rms_min*(SIN($Q156)/Vout))))))","v":0.540657439446367},null,{"$f":"R156*ABS(1/(Vout/(SQRT(2)*$C$25*SIN($Q156))))","v":0.0844193175315278},{"$f":"S156*ABS(1/(Vout/(SQRT(2)*$C$25*SIN($Q156))))","v":0.082927489054076},{"$f":"T156*ABS(1/(Vout/(SQRT(2)*$C$25*SIN($Q156))))","v":0.0820143499657838},{"$f":"U156*ABS(1/(Vout/(SQRT(2)*$C$25*SIN($Q156))))","v":0.0838958711234907},{"$f":"V156*ABS(1/(Vout/(SQRT(2)*$C$25*SIN($Q156))))","v":0.125843806685236},{"$f":"W156*ABS(1/(Vout/(SQRT(2)*$C$25*SIN($Q156))))","v":0.167791742246981},null,{"$f":"1/(0.0000128*(R156+Y156+$G$23))","v":40137.4886557204},{"$f":"1/(0.0000128*(S156+Z156+$H$23))","v":84905.9366855998},{"$f":"1/(0.0000128*(T156+AA156+$I$23))","v":109682.921358521},{"$f":"1/(0.0000128*(U156+AB156+$J$23))","v":220552.163849676},{"$f":"1/(0.0000128*(V156+AC156+$K$23))","v":147034.775899784},{"$f":"1/(0.0000128*(W156+AD156+$L$23))","v":110276.081924838}]
["Feedback Voltage Reference","VOSReg",2.5,"V",null,null,null,null,null,null,null,null,null,null,null,null,{"$f":"Q156+0.01","v":1.51},{"$f":"(G$5*((90/$G$18)*(90/$G$18))/2)*(1+(SQRT(1+(4/(G$5*((90/$G$18)*(90/$G$18))))*$G$23*(1-(SQRT(2)*Vin_rms_min*(SIN($Q157)/Vout))))))","v":0.27197947223274},{"$f":"(H$5*((90/$G$18)*(90/$G$18))/2)*(1+(SQRT(1+(4/(H$5*((90/$G$18)*(90/$G$18))))*$H$23*(1-(SQRT(2)*Vin_rms_min*(SIN($Q157)/Vout))))))","v":0.267178826614943},{"$f":"(I$5*((90/$G$18)*(90/$G$18))/2)*(1+(SQRT(1+(4/(I$5*((90/$G$18)*(90/$G$18))))*$I$23*(1-(SQRT(2)*Vin_rms_min*(SIN($Q157)/Vout))))))","v":0.264240367259967},{"$f":"(J$5*((90/$G$18)*(90/$G$18))/2)*(1+(SQRT(1+(4/(J$5*((90/$G$18)*(90/$G$18))))*$J$23*(1-(SQRT(2)*Vin_rms_min*(SIN($Q157)/Vout))))))","v":0.270328719723183},{"$f":"(K$5*((90/$G$18)*(90/$G$18))/2)*(1+(SQRT(1+(4/(K$5*((90/$G$18)*(90/$G$18))))*$K$23*(1-(SQRT(2)*Vin_rms_min*(SIN($Q157)/Vout))))))","v":0.405493079584775},{"$f":"(L$5*((90/$G$18)*(90/$G$18))/2)*(1+(SQRT(1+(4/(L$5*((90/$G$18)*(90/$G$18))))*$L$23*(1-(SQRT(2)*Vin_rms_min*(SIN($Q157)/Vout))))))","v":0.540657439446367},null,{"$f":"R157*ABS(1/(Vout/(SQRT(2)*$C$25*SIN($Q157))))","v":0.0844638147704805},{"$f":"S157*ABS(1/(Vout/(SQRT(2)*$C$25*SIN($Q157))))","v":0.082972963865772},{"$f":"T157*ABS(1/(Vout/(SQRT(2)*$C$25*SIN($Q157))))","v":0.0820604189423196},{"$f":"U157*ABS(1/(Vout/(SQRT(2)*$C$25*SIN($Q157))))","v":0.0839511699997025},{"$f":"V157*ABS(1/(Vout/(SQRT(2)*$C$25*SIN($Q157))))","v":0.125926754999554},{"$f":"W157*ABS(1/(Vout/(SQRT(2)*$C$25*SIN($Q157))))","v":0.167902339999405},null,{"$f":"1/(0.0000128*(R157+Y157+$G$23))","v":40137.3112289764},{"$f":"1/(0.0000128*(S157+Z157+$H$23))","v":84904.4699018465},{"$f":"1/(0.0000128*(T157+AA157+$I$23))","v":109679.789090971},{"$f":"1/(0.0000128*(U157+AB157+$J$23))","v":220517.738280625},{"$f":"1/(0.0000128*(V157+AC157+$K$23))","v":147011.825520417},{"$f":"1/(0.0000128*(W157+AD157+$L$23))","v":110258.869140312}]
["VOSNS Voltage Divider Ratio","KOS",{"$f":"Vout/Vosreg","v":200},null,null,null,null,null,null,null,null,null,null,null,null,null,{"$f":"Q157+0.01","v":1.52},{"$f":"(G$5*((90/$G$18)*(90/$G$18))/2)*(1+(SQRT(1+(4/(G$5*((90/$G$18)*(90/$G$18))))*$G$23*(1-(SQRT(2)*Vin_rms_min*(SIN($Q158)/Vout))))))","v":0.271949024076385},{"$f":"(H$5*((90/$G$18)*(90/$G$18))/2)*(1+(SQRT(1+(4/(H$5*((90/$G$18)*(90/$G$18))))*$H$23*(1-(SQRT(2)*Vin_rms_min*(SIN($Q158)/Vout))))))","v":0.26715373500042},{"$f":"(I$5*((90/$G$18)*(90/$G$18))/2)*(1+(SQRT(1+(4/(I$5*((90/$G$18)*(90/$G$18))))*$I$23*(1-(SQRT(2)*Vin_rms_min*(SIN($Q158)/Vout))))))","v":0.264218542902799},{"$f":"(J$5*((90/$G$18)*(90/$G$18))/2)*(1+(SQRT(1+(4/(J$5*((90/$G$18)*(90/$G$18))))*$J$23*(1-(SQRT(2)*Vin_rms_min*(SIN($Q158)/Vout))))))","v":0.270328719723183},{"$f":"(K$5*((90/$G$18)*(90/$G$18))/2)*(1+(SQRT(1+(4/(K$5*((90/$G$18)*(90/$G$18))))*$K$23*(1-(SQRT(2)*Vin_rms_min*(SIN($Q158)/Vout))))))","v":0.405493079584775},{"$f":"(L$5*((90/$G$18)*(90/$G$18))/2)*(1+(SQRT(1+(4/(L$5*((90/$G$18)*(90/$G$18))))*$L$23*(1-(SQRT(2)*Vin_rms_min*(SIN($Q158)/Vout))))))","v":0.540657439446367},null,{"$f":"R158*ABS(1/(Vout/(SQRT(2)*$C$25*SIN($Q158))))","v":0.0845015439922539},{"$f":"S158*ABS(1/(Vout/(SQRT(2)*$C$25*SIN($Q158))))","v":0.083011524558706},{"$f":"T158*ABS(1/(Vout/(SQRT(2)*$C$25*SIN($Q158))))","v":0.0820994850137755},{"$f":"U158*ABS(1/(Vout/(SQRT(2)*$C$25*SIN($Q158))))","v":0.0839980738288734},{"$f":"V158*ABS(1/(Vout/(SQRT(2)*$C$25*SIN($Q158))))","v":0.12599711074331},{"$f":"W158*ABS(1/(Vout/(SQRT(2)*$C$25*SIN($Q158))))","v":0.167996147657747},null,{"$f":"1/(0.0000128*(R158+Y158+$G$23))","v":40137.1610877945},{"$f":"1/(0.0000128*(S158+Z158+$H$23))","v":84903.227097958},{"$f":"1/(0.0000128*(T158+AA158+$I$23))","v":109677.134282989},{"$f":"1/(0.0000128*(U158+AB158+$J$23))","v":220488.547357122},{"$f":"1/(0.0000128*(V158+AC158+$K$23))","v":146992.364904748},{"$f":"1/(0.0000128*(W158+AD158+$L$23))","v":110244.273678561}]
["BLK Pin Start Threshold of UCC256301","VBLKpinstart",3.05,"V",null,null,null,null,null,null,null,null,null,null,null,null,{"$f":"Q158+0.01","v":1.53},{"$f":"(G$5*((90/$G$18)*(90/$G$18))/2)*(1+(SQRT(1+(4/(G$5*((90/$G$18)*(90/$G$18))))*$G$23*(1-(SQRT(2)*Vin_rms_min*(SIN($Q159)/Vout))))))","v":0.271924025875995},{"$f":"(H$5*((90/$G$18)*(90/$G$18))/2)*(1+(SQRT(1+(4/(H$5*((90/$G$18)*(90/$G$18))))*$H$23*(1-(SQRT(2)*Vin_rms_min*(SIN($Q159)/Vout))))))","v":0.267133134690528},{"$f":"(I$5*((90/$G$18)*(90/$G$18))/2)*(1+(SQRT(1+(4/(I$5*((90/$G$18)*(90/$G$18))))*$I$23*(1-(SQRT(2)*Vin_rms_min*(SIN($Q159)/Vout))))))","v":0.264200625133835},{"$f":"(J$5*((90/$G$18)*(90/$G$18))/2)*(1+(SQRT(1+(4/(J$5*((90/$G$18)*(90/$G$18))))*$J$23*(1-(SQRT(2)*Vin_rms_min*(SIN($Q159)/Vout))))))","v":0.270328719723183},{"$f":"(K$5*((90/$G$18)*(90/$G$18))/2)*(1+(SQRT(1+(4/(K$5*((90/$G$18)*(90/$G$18))))*$K$23*(1-(SQRT(2)*Vin_rms_min*(SIN($Q159)/Vout))))))","v":0.405493079584775},{"$f":"(L$5*((90/$G$18)*(90/$G$18))/2)*(1+(SQRT(1+(4/(L$5*((90/$G$18)*(90/$G$18))))*$L$23*(1-(SQRT(2)*Vin_rms_min*(SIN($Q159)/Vout))))))","v":0.540657439446367},null,{"$f":"R159*ABS(1/(Vout/(SQRT(2)*$C$25*SIN($Q159))))","v":0.0845325077277305},{"$f":"S159*ABS(1/(Vout/(SQRT(2)*$C$25*SIN($Q159))))","v":0.0830431724442684},{"$f":"T159*ABS(1/(Vout/(SQRT(2)*$C$25*SIN($Q159))))","v":0.0821315487436252},{"$f":"U159*ABS(1/(Vout/(SQRT(2)*$C$25*SIN($Q159))))","v":0.0840365779206595},{"$f":"V159*ABS(1/(Vout/(SQRT(2)*$C$25*SIN($Q159))))","v":0.126054866880989},{"$f":"W159*ABS(1/(Vout/(SQRT(2)*$C$25*SIN($Q159))))","v":0.168073155841319},null,{"$f":"1/(0.0000128*(R159+Y159+$G$23))","v":40137.0380746993},{"$f":"1/(0.0000128*(S159+Z159+$H$23))","v":84902.2077554486},{"$f":"1/(0.0000128*(T159+AA159+$I$23))","v":109674.95624231},{"$f":"1/(0.0000128*(U159+AB159+$J$23))","v":220464.589844009},{"$f":"1/(0.0000128*(V159+AC159+$K$23))","v":146976.393229339},{"$f":"1/(0.0000128*(W159+AD159+$L$23))","v":110232.294922005}]
["Desired Bulk Start Voltage of UCC256301","VBLKStart",330,"V",null,null,null,null,null,null,null,null,null,null,null,null,{"$f":"Q159+0.01","v":1.54},{"$f":"(G$5*((90/$G$18)*(90/$G$18))/2)*(1+(SQRT(1+(4/(G$5*((90/$G$18)*(90/$G$18))))*$G$23*(1-(SQRT(2)*Vin_rms_min*(SIN($Q160)/Vout))))))","v":0.271904481800805},{"$f":"(H$5*((90/$G$18)*(90/$G$18))/2)*(1+(SQRT(1+(4/(H$5*((90/$G$18)*(90/$G$18))))*$H$23*(1-(SQRT(2)*Vin_rms_min*(SIN($Q160)/Vout))))))","v":0.267117029048353},{"$f":"(I$5*((90/$G$18)*(90/$G$18))/2)*(1+(SQRT(1+(4/(I$5*((90/$G$18)*(90/$G$18))))*$I$23*(1-(SQRT(2)*Vin_rms_min*(SIN($Q160)/Vout))))))","v":0.264186616813141},{"$f":"(J$5*((90/$G$18)*(90/$G$18))/2)*(1+(SQRT(1+(4/(J$5*((90/$G$18)*(90/$G$18))))*$J$23*(1-(SQRT(2)*Vin_rms_min*(SIN($Q160)/Vout))))))","v":0.270328719723183},{"$f":"(K$5*((90/$G$18)*(90/$G$18))/2)*(1+(SQRT(1+(4/(K$5*((90/$G$18)*(90/$G$18))))*$K$23*(1-(SQRT(2)*Vin_rms_min*(SIN($Q160)/Vout))))))","v":0.405493079584775},{"$f":"(L$5*((90/$G$18)*(90/$G$18))/2)*(1+(SQRT(1+(4/(L$5*((90/$G$18)*(90/$G$18))))*$L$23*(1-(SQRT(2)*Vin_rms_min*(SIN($Q160)/Vout))))))","v":0.540657439446367},null,{"$f":"R160*ABS(1/(Vout/(SQRT(2)*$C$25*SIN($Q160))))","v":0.0845567080596737},{"$f":"S160*ABS(1/(Vout/(SQRT(2)*$C$25*SIN($Q160))))","v":0.0830679086031235},{"$f":"T160*ABS(1/(Vout/(SQRT(2)*$C$25*SIN($Q160))))","v":0.0821566105979334},{"$f":"U160*ABS(1/(Vout/(SQRT(2)*$C$25*SIN($Q160))))","v":0.0840666784246838},{"$f":"V160*ABS(1/(Vout/(SQRT(2)*$C$25*SIN($Q160))))","v":0.126100017637026},{"$f":"W160*ABS(1/(Vout/(SQRT(2)*$C$25*SIN($Q160))))","v":0.168133356849368},null,{"$f":"1/(0.0000128*(R160+Y160+$G$23))","v":40136.942060273},{"$f":"1/(0.0000128*(S160+Z160+$H$23))","v":84901.4114482171},{"$f":"1/(0.0000128*(T160+AA160+$I$23))","v":109673.25440004},{"$f":"1/(0.0000128*(U160+AB160+$J$23))","v":220445.864727068},{"$f":"1/(0.0000128*(V160+AC160+$K$23))","v":146963.909818045},{"$f":"1/(0.0000128*(W160+AD160+$L$23))","v":110222.932363534}]
["BLK Pin Voltage Divider Ratio of UCC256301","KBLK",{"$f":"C160/C159","v":108.196721311475},null,{"$f":"IF(Ros1>10,\"RECOMMENDED VALUE IS LESS THAN OR EQUAL TO 10Meg\",\"\")","v":""},null,null,null,null,null,null,null,null,null,null,null,{"$f":"Q160+0.01","v":1.55},{"$f":"(G$5*((90/$G$18)*(90/$G$18))/2)*(1+(SQRT(1+(4/(G$5*((90/$G$18)*(90/$G$18))))*$G$23*(1-(SQRT(2)*Vin_rms_min*(SIN($Q161)/Vout))))))","v":0.271890395111411},{"$f":"(H$5*((90/$G$18)*(90/$G$18))/2)*(1+(SQRT(1+(4/(H$5*((90/$G$18)*(90/$G$18))))*$H$23*(1-(SQRT(2)*Vin_rms_min*(SIN($Q161)/Vout))))))","v":0.267105420703974},{"$f":"(I$5*((90/$G$18)*(90/$G$18))/2)*(1+(SQRT(1+(4/(I$5*((90/$G$18)*(90/$G$18))))*$I$23*(1-(SQRT(2)*Vin_rms_min*(SIN($Q161)/Vout))))))","v":0.264176520177362},{"$f":"(J$5*((90/$G$18)*(90/$G$18))/2)*(1+(SQRT(1+(4/(J$5*((90/$G$18)*(90/$G$18))))*$J$23*(1-(SQRT(2)*Vin_rms_min*(SIN($Q161)/Vout))))))","v":0.270328719723183},{"$f":"(K$5*((90/$G$18)*(90/$G$18))/2)*(1+(SQRT(1+(4/(K$5*((90/$G$18)*(90/$G$18))))*$K$23*(1-(SQRT(2)*Vin_rms_min*(SIN($Q161)/Vout))))))","v":0.405493079584775},{"$f":"(L$5*((90/$G$18)*(90/$G$18))/2)*(1+(SQRT(1+(4/(L$5*((90/$G$18)*(90/$G$18))))*$L$23*(1-(SQRT(2)*Vin_rms_min*(SIN($Q161)/Vout))))))","v":0.540657439446367},null,{"$f":"R161*ABS(1/(Vout/(SQRT(2)*$C$25*SIN($Q161))))","v":0.0845741466194974},{"$f":"S161*ABS(1/(Vout/(SQRT(2)*$C$25*SIN($Q161))))","v":0.083085733882669},{"$f":"T161*ABS(1/(Vout/(SQRT(2)*$C$25*SIN($Q161))))","v":0.082174670943244},{"$f":"U161*ABS(1/(Vout/(SQRT(2)*$C$25*SIN($Q161))))","v":0.084088372330921},{"$f":"V161*ABS(1/(Vout/(SQRT(2)*$C$25*SIN($Q161))))","v":0.126132558496381},{"$f":"W161*ABS(1/(Vout/(SQRT(2)*$C$25*SIN($Q161))))","v":0.168176744661842},null,{"$f":"1/(0.0000128*(R161+Y161+$G$23))","v":40136.8729432527},{"$f":"1/(0.0000128*(S161+Z161+$H$23))","v":84900.8378428658},{"$f":"1/(0.0000128*(T161+AA161+$I$23))","v":109672.028311065},{"$f":"1/(0.0000128*(U161+AB161+$J$23))","v":220432.371213276},{"$f":"1/(0.0000128*(V161+AC161+$K$23))","v":146954.914142184},{"$f":"1/(0.0000128*(W161+AD161+$L$23))","v":110216.185606638}]
["Recommended Value for the Top Divider Resistor:","ROS1(recommended)",10,"MW",null,null,null,null,null,null,null,null,null,null,null,null,{"$f":"Q161+0.01","v":1.56},{"$f":"(G$5*((90/$G$18)*(90/$G$18))/2)*(1+(SQRT(1+(4/(G$5*((90/$G$18)*(90/$G$18))))*$G$23*(1-(SQRT(2)*Vin_rms_min*(SIN($Q162)/Vout))))))","v":0.271881768158486},{"$f":"(H$5*((90/$G$18)*(90/$G$18))/2)*(1+(SQRT(1+(4/(H$5*((90/$G$18)*(90/$G$18))))*$H$23*(1-(SQRT(2)*Vin_rms_min*(SIN($Q162)/Vout))))))","v":0.267098311553472},{"$f":"(I$5*((90/$G$18)*(90/$G$18))/2)*(1+(SQRT(1+(4/(I$5*((90/$G$18)*(90/$G$18))))*$I$23*(1-(SQRT(2)*Vin_rms_min*(SIN($Q162)/Vout))))))","v":0.264170336838915},{"$f":"(J$5*((90/$G$18)*(90/$G$18))/2)*(1+(SQRT(1+(4/(J$5*((90/$G$18)*(90/$G$18))))*$J$23*(1-(SQRT(2)*Vin_rms_min*(SIN($Q162)/Vout))))))","v":0.270328719723183},{"$f":"(K$5*((90/$G$18)*(90/$G$18))/2)*(1+(SQRT(1+(4/(K$5*((90/$G$18)*(90/$G$18))))*$K$23*(1-(SQRT(2)*Vin_rms_min*(SIN($Q162)/Vout))))))","v":0.405493079584775},{"$f":"(L$5*((90/$G$18)*(90/$G$18))/2)*(1+(SQRT(1+(4/(L$5*((90/$G$18)*(90/$G$18))))*$L$23*(1-(SQRT(2)*Vin_rms_min*(SIN($Q162)/Vout))))))","v":0.540657439446367},null,{"$f":"R162*ABS(1/(Vout/(SQRT(2)*$C$25*SIN($Q162))))","v":0.0845848245847389},{"$f":"S162*ABS(1/(Vout/(SQRT(2)*$C$25*SIN($Q162))))","v":0.0830966488950475},{"$f":"T162*ABS(1/(Vout/(SQRT(2)*$C$25*SIN($Q162))))","v":0.082185730044928},{"$f":"U162*ABS(1/(Vout/(SQRT(2)*$C$25*SIN($Q162))))","v":0.0841016574699984},{"$f":"V162*ABS(1/(Vout/(SQRT(2)*$C$25*SIN($Q162))))","v":0.126152486204998},{"$f":"W162*ABS(1/(Vout/(SQRT(2)*$C$25*SIN($Q162))))","v":0.168203314939997},null,{"$f":"1/(0.0000128*(R162+Y162+$G$23))","v":40136.8306506076},{"$f":"1/(0.0000128*(S162+Z162+$H$23))","v":84900.4866989496},{"$f":"1/(0.0000128*(T162+AA162+$I$23))","v":109671.27765438},{"$f":"1/(0.0000128*(U162+AB162+$J$23))","v":220424.108731002},{"$f":"1/(0.0000128*(V162+AC162+$K$23))","v":146949.405820668},{"$f":"1/(0.0000128*(W162+AD162+$L$23))","v":110212.054365501},null,null,"UCC28056"]
["Actual Value of the Top Divider Resistor:","ROS1(actual)",10,"MW",null,null,null,null,null,null,null,null,null,null,null,null,{"$f":"Q162+0.01","v":1.57},{"$f":"(G$5*((90/$G$18)*(90/$G$18))/2)*(1+(SQRT(1+(4/(G$5*((90/$G$18)*(90/$G$18))))*$G$23*(1-(SQRT(2)*Vin_rms_min*(SIN($Q163)/Vout))))))","v":0.271878602381853},{"$f":"(H$5*((90/$G$18)*(90/$G$18))/2)*(1+(SQRT(1+(4/(H$5*((90/$G$18)*(90/$G$18))))*$H$23*(1-(SQRT(2)*Vin_rms_min*(SIN($Q163)/Vout))))))","v":0.267095702758214},{"$f":"(I$5*((90/$G$18)*(90/$G$18))/2)*(1+(SQRT(1+(4/(I$5*((90/$G$18)*(90/$G$18))))*$I$23*(1-(SQRT(2)*Vin_rms_min*(SIN($Q163)/Vout))))))","v":0.264168067785408},{"$f":"(J$5*((90/$G$18)*(90/$G$18))/2)*(1+(SQRT(1+(4/(J$5*((90/$G$18)*(90/$G$18))))*$J$23*(1-(SQRT(2)*Vin_rms_min*(SIN($Q163)/Vout))))))","v":0.270328719723183},{"$f":"(K$5*((90/$G$18)*(90/$G$18))/2)*(1+(SQRT(1+(4/(K$5*((90/$G$18)*(90/$G$18))))*$K$23*(1-(SQRT(2)*Vin_rms_min*(SIN($Q163)/Vout))))))","v":0.405493079584775},{"$f":"(L$5*((90/$G$18)*(90/$G$18))/2)*(1+(SQRT(1+(4/(L$5*((90/$G$18)*(90/$G$18))))*$L$23*(1-(SQRT(2)*Vin_rms_min*(SIN($Q163)/Vout))))))","v":0.540657439446367},null,{"$f":"R163*ABS(1/(Vout/(SQRT(2)*$C$25*SIN($Q163))))","v":0.084588742677235},{"$f":"S163*ABS(1/(Vout/(SQRT(2)*$C$25*SIN($Q163))))","v":0.0831006540157124},{"$f":"T163*ABS(1/(Vout/(SQRT(2)*$C$25*SIN($Q163))))","v":0.0821897880659908},{"$f":"U163*ABS(1/(Vout/(SQRT(2)*$C$25*SIN($Q163))))","v":0.0841065325134134},{"$f":"V163*ABS(1/(Vout/(SQRT(2)*$C$25*SIN($Q163))))","v":0.12615979877012},{"$f":"W163*ABS(1/(Vout/(SQRT(2)*$C$25*SIN($Q163))))","v":0.168213065026827},null,{"$f":"1/(0.0000128*(R163+Y163+$G$23))","v":40136.815137594},{"$f":"1/(0.0000128*(S163+Z163+$H$23))","v":84900.3578691561},{"$f":"1/(0.0000128*(T163+AA163+$I$23))","v":109671.002233317},{"$f":"1/(0.0000128*(U163+AB163+$J$23))","v":220421.07693015},{"$f":"1/(0.0000128*(V163+AC163+$K$23))","v":146947.3846201},{"$f":"1/(0.0000128*(W163+AD163+$L$23))","v":110210.538465075},null,null,"UCC28056A"]
["Recommended Value for the Middle Divider Resistor:","ROS2(recommended)",{"$f":"((Kos-1)/(Kblk-1)-1)*Ros1/Kos*kΩ","v":42.8200030585716},"kW",null,null,null,null,null,null,null,null,null,null,null,null,{"$f":"Q163+0.01","v":1.58},{"$f":"(G$5*((90/$G$18)*(90/$G$18))/2)*(1+(SQRT(1+(4/(G$5*((90/$G$18)*(90/$G$18))))*$G$23*(1-(SQRT(2)*Vin_rms_min*(SIN($Q164)/Vout))))))","v":0.271880898309919},{"$f":"(H$5*((90/$G$18)*(90/$G$18))/2)*(1+(SQRT(1+(4/(H$5*((90/$G$18)*(90/$G$18))))*$H$23*(1-(SQRT(2)*Vin_rms_min*(SIN($Q164)/Vout))))))","v":0.26709759474441},{"$f":"(I$5*((90/$G$18)*(90/$G$18))/2)*(1+(SQRT(1+(4/(I$5*((90/$G$18)*(90/$G$18))))*$I$23*(1-(SQRT(2)*Vin_rms_min*(SIN($Q164)/Vout))))))","v":0.264169713379283},{"$f":"(J$5*((90/$G$18)*(90/$G$18))/2)*(1+(SQRT(1+(4/(J$5*((90/$G$18)*(90/$G$18))))*$J$23*(1-(SQRT(2)*Vin_rms_min*(SIN($Q164)/Vout))))))","v":0.270328719723183},{"$f":"(K$5*((90/$G$18)*(90/$G$18))/2)*(1+(SQRT(1+(4/(K$5*((90/$G$18)*(90/$G$18))))*$K$23*(1-(SQRT(2)*Vin_rms_min*(SIN($Q164)/Vout))))))","v":0.405493079584775},{"$f":"(L$5*((90/$G$18)*(90/$G$18))/2)*(1+(SQRT(1+(4/(L$5*((90/$G$18)*(90/$G$18))))*$L$23*(1-(SQRT(2)*Vin_rms_min*(SIN($Q164)/Vout))))))","v":0.540657439446367},null,{"$f":"R164*ABS(1/(Vout/(SQRT(2)*$C$25*SIN($Q164))))","v":0.0845859011620052},{"$f":"S164*ABS(1/(Vout/(SQRT(2)*$C$25*SIN($Q164))))","v":0.0830977493825493},{"$f":"T164*ABS(1/(Vout/(SQRT(2)*$C$25*SIN($Q164))))","v":0.0821868450663425},{"$f":"U164*ABS(1/(Vout/(SQRT(2)*$C$25*SIN($Q164))))","v":0.0841029969736656},{"$f":"V164*ABS(1/(Vout/(SQRT(2)*$C$25*SIN($Q164))))","v":0.126154495460498},{"$f":"W164*ABS(1/(Vout/(SQRT(2)*$C$25*SIN($Q164))))","v":0.168205993947331},null,{"$f":"1/(0.0000128*(R164+Y164+$G$23))","v":40136.826387789},{"$f":"1/(0.0000128*(S164+Z164+$H$23))","v":84900.4512994157},{"$f":"1/(0.0000128*(T164+AA164+$I$23))","v":109671.201975693},{"$f":"1/(0.0000128*(U164+AB164+$J$23))","v":220423.275682243},{"$f":"1/(0.0000128*(V164+AC164+$K$23))","v":146948.850454828},{"$f":"1/(0.0000128*(W164+AD164+$L$23))","v":110211.637841121},null,null,"UCC28056B"]
["Actual Value of the Middle Divider Resistor:","ROS2(actual)",0,"kW",null,null,null,null,null,null,null,null,null,null,null,null,{"$f":"Q164+0.01","v":1.59},{"$f":"(G$5*((90/$G$18)*(90/$G$18))/2)*(1+(SQRT(1+(4/(G$5*((90/$G$18)*(90/$G$18))))*$G$23*(1-(SQRT(2)*Vin_rms_min*(SIN($Q165)/Vout))))))","v":0.271888655559463},{"$f":"(H$5*((90/$G$18)*(90/$G$18))/2)*(1+(SQRT(1+(4/(H$5*((90/$G$18)*(90/$G$18))))*$H$23*(1-(SQRT(2)*Vin_rms_min*(SIN($Q165)/Vout))))))","v":0.267103987202956},{"$f":"(I$5*((90/$G$18)*(90/$G$18))/2)*(1+(SQRT(1+(4/(I$5*((90/$G$18)*(90/$G$18))))*$I$23*(1-(SQRT(2)*Vin_rms_min*(SIN($Q165)/Vout))))))","v":0.264175273357684},{"$f":"(J$5*((90/$G$18)*(90/$G$18))/2)*(1+(SQRT(1+(4/(J$5*((90/$G$18)*(90/$G$18))))*$J$23*(1-(SQRT(2)*Vin_rms_min*(SIN($Q165)/Vout))))))","v":0.270328719723183},{"$f":"(K$5*((90/$G$18)*(90/$G$18))/2)*(1+(SQRT(1+(4/(K$5*((90/$G$18)*(90/$G$18))))*$K$23*(1-(SQRT(2)*Vin_rms_min*(SIN($Q165)/Vout))))))","v":0.405493079584775},{"$f":"(L$5*((90/$G$18)*(90/$G$18))/2)*(1+(SQRT(1+(4/(L$5*((90/$G$18)*(90/$G$18))))*$L$23*(1-(SQRT(2)*Vin_rms_min*(SIN($Q165)/Vout))))))","v":0.540657439446367},null,{"$f":"R165*ABS(1/(Vout/(SQRT(2)*$C$25*SIN($Q165))))","v":0.0845762998468416},{"$f":"S165*ABS(1/(Vout/(SQRT(2)*$C$25*SIN($Q165))))","v":0.0830879348955532},{"$f":"T165*ABS(1/(Vout/(SQRT(2)*$C$25*SIN($Q165))))","v":0.0821769010025292},{"$f":"U165*ABS(1/(Vout/(SQRT(2)*$C$25*SIN($Q165))))","v":0.084091051204306},{"$f":"V165*ABS(1/(Vout/(SQRT(2)*$C$25*SIN($Q165))))","v":0.126136576806459},{"$f":"W165*ABS(1/(Vout/(SQRT(2)*$C$25*SIN($Q165))))","v":0.168182102408612},null,{"$f":"1/(0.0000128*(R165+Y165+$G$23))","v":40136.8644131033},{"$f":"1/(0.0000128*(S165+Z165+$H$23))","v":84900.7670289421},{"$f":"1/(0.0000128*(T165+AA165+$I$23))","v":109671.876933859},{"$f":"1/(0.0000128*(U165+AB165+$J$23))","v":220430.705080456},{"$f":"1/(0.0000128*(V165+AC165+$K$23))","v":146953.80338697},{"$f":"1/(0.0000128*(W165+AD165+$L$23))","v":110215.352540228},null,null,"UCC28056C"]
["Actual Value of the Bottom Divider Resistor:","ROS3(recommended)",{"$f":"(Ros1*MegΩ+Ros2*kΩ)/(Kos-1)/kΩ","v":50.251256281407},"kW",{"$f":"IF(Vout<Vin_pk_max,\"DO NOT PROCEED WITHOUT ADJUSTING THE RESISTOR DIVIDER IN ORDER TO ACHIEVE THE DESIRED OUTPUT VOLTAGE\",IF(Vout_nom>1.05*Vout,\"ADJUST BOTTOM DIVIDER RESISTOR FOR DESIRED OUTPUT VOLTAGE\",\"\"))","v":""},null,null,null,null,null,null,null,null,null,null,null,{"$f":"Q165+0.01","v":1.6},{"$f":"(G$5*((90/$G$18)*(90/$G$18))/2)*(1+(SQRT(1+(4/(G$5*((90/$G$18)*(90/$G$18))))*$G$23*(1-(SQRT(2)*Vin_rms_min*(SIN($Q166)/Vout))))))","v":0.271901872835791},{"$f":"(H$5*((90/$G$18)*(90/$G$18))/2)*(1+(SQRT(1+(4/(H$5*((90/$G$18)*(90/$G$18))))*$H$23*(1-(SQRT(2)*Vin_rms_min*(SIN($Q166)/Vout))))))","v":0.267114879089549},{"$f":"(I$5*((90/$G$18)*(90/$G$18))/2)*(1+(SQRT(1+(4/(I$5*((90/$G$18)*(90/$G$18))))*$I$23*(1-(SQRT(2)*Vin_rms_min*(SIN($Q166)/Vout))))))","v":0.264184746832551},{"$f":"(J$5*((90/$G$18)*(90/$G$18))/2)*(1+(SQRT(1+(4/(J$5*((90/$G$18)*(90/$G$18))))*$J$23*(1-(SQRT(2)*Vin_rms_min*(SIN($Q166)/Vout))))))","v":0.270328719723183},{"$f":"(K$5*((90/$G$18)*(90/$G$18))/2)*(1+(SQRT(1+(4/(K$5*((90/$G$18)*(90/$G$18))))*$K$23*(1-(SQRT(2)*Vin_rms_min*(SIN($Q166)/Vout))))))","v":0.405493079584775},{"$f":"(L$5*((90/$G$18)*(90/$G$18))/2)*(1+(SQRT(1+(4/(L$5*((90/$G$18)*(90/$G$18))))*$L$23*(1-(SQRT(2)*Vin_rms_min*(SIN($Q166)/Vout))))))","v":0.540657439446367},null,{"$f":"R166*ABS(1/(Vout/(SQRT(2)*$C$25*SIN($Q166))))","v":0.0845599380826056},{"$f":"S166*ABS(1/(Vout/(SQRT(2)*$C$25*SIN($Q166))))","v":0.0830712102170625},{"$f":"T166*ABS(1/(Vout/(SQRT(2)*$C$25*SIN($Q166))))","v":0.0821599557279282},{"$f":"U166*ABS(1/(Vout/(SQRT(2)*$C$25*SIN($Q166))))","v":0.0840706963999016},{"$f":"V166*ABS(1/(Vout/(SQRT(2)*$C$25*SIN($Q166))))","v":0.126106044599852},{"$f":"W166*ABS(1/(Vout/(SQRT(2)*$C$25*SIN($Q166))))","v":0.168141392799803},null,{"$f":"1/(0.0000128*(R166+Y166+$G$23))","v":40136.9292537717},{"$f":"1/(0.0000128*(S166+Z166+$H$23))","v":84901.305190203},{"$f":"1/(0.0000128*(T166+AA166+$I$23))","v":109673.027284662},{"$f":"1/(0.0000128*(U166+AB166+$J$23))","v":220443.365439594},{"$f":"1/(0.0000128*(V166+AC166+$K$23))","v":146962.243626396},{"$f":"1/(0.0000128*(W166+AD166+$L$23))","v":110221.682719797}]
["Actual Value of the Bottom Divider Resistor:","ROS3(actual)",50,"kW",null,null,null,null,null,null,null,null,null,null,null,null,{"$f":"Q166+0.01","v":1.61},{"$f":"(G$5*((90/$G$18)*(90/$G$18))/2)*(1+(SQRT(1+(4/(G$5*((90/$G$18)*(90/$G$18))))*$G$23*(1-(SQRT(2)*Vin_rms_min*(SIN($Q167)/Vout))))))","v":0.271920547933243},{"$f":"(H$5*((90/$G$18)*(90/$G$18))/2)*(1+(SQRT(1+(4/(H$5*((90/$G$18)*(90/$G$18))))*$H$23*(1-(SQRT(2)*Vin_rms_min*(SIN($Q167)/Vout))))))","v":0.267130268625082},{"$f":"(I$5*((90/$G$18)*(90/$G$18))/2)*(1+(SQRT(1+(4/(I$5*((90/$G$18)*(90/$G$18))))*$I$23*(1-(SQRT(2)*Vin_rms_min*(SIN($Q167)/Vout))))))","v":0.264198132290945},{"$f":"(J$5*((90/$G$18)*(90/$G$18))/2)*(1+(SQRT(1+(4/(J$5*((90/$G$18)*(90/$G$18))))*$J$23*(1-(SQRT(2)*Vin_rms_min*(SIN($Q167)/Vout))))))","v":0.270328719723183},{"$f":"(K$5*((90/$G$18)*(90/$G$18))/2)*(1+(SQRT(1+(4/(K$5*((90/$G$18)*(90/$G$18))))*$K$23*(1-(SQRT(2)*Vin_rms_min*(SIN($Q167)/Vout))))))","v":0.405493079584775},{"$f":"(L$5*((90/$G$18)*(90/$G$18))/2)*(1+(SQRT(1+(4/(L$5*((90/$G$18)*(90/$G$18))))*$L$23*(1-(SQRT(2)*Vin_rms_min*(SIN($Q167)/Vout))))))","v":0.540657439446367},null,{"$f":"R167*ABS(1/(Vout/(SQRT(2)*$C$25*SIN($Q167))))","v":0.0845368147642338},{"$f":"S167*ABS(1/(Vout/(SQRT(2)*$C$25*SIN($Q167))))","v":0.0830475747725492},{"$f":"T167*ABS(1/(Vout/(SQRT(2)*$C$25*SIN($Q167))))","v":0.0821360089934039},{"$f":"U167*ABS(1/(Vout/(SQRT(2)*$C$25*SIN($Q167))))","v":0.0840419345959159},{"$f":"V167*ABS(1/(Vout/(SQRT(2)*$C$25*SIN($Q167))))","v":0.126062901893874},{"$f":"W167*ABS(1/(Vout/(SQRT(2)*$C$25*SIN($Q167))))","v":0.168083869191832},null,{"$f":"1/(0.0000128*(R167+Y167+$G$23))","v":40137.0209783231},{"$f":"1/(0.0000128*(S167+Z167+$H$23))","v":84902.0660088208},{"$f":"1/(0.0000128*(T167+AA167+$I$23))","v":109674.65332932},{"$f":"1/(0.0000128*(U167+AB167+$J$23))","v":220461.257296015},{"$f":"1/(0.0000128*(V167+AC167+$K$23))","v":146974.171530676},{"$f":"1/(0.0000128*(W167+AD167+$L$23))","v":110230.628648007}]
["Actual Nominal Output Voltage:","VOUT",{"$f":"Vosreg*(Ros1*1000+Ros2+Ros3)/Ros3","v":502.5},"V",null,null,null,null,null,null,null,null,null,null,null,null,{"$f":"Q167+0.01","v":1.62},{"$f":"(G$5*((90/$G$18)*(90/$G$18))/2)*(1+(SQRT(1+(4/(G$5*((90/$G$18)*(90/$G$18))))*$G$23*(1-(SQRT(2)*Vin_rms_min*(SIN($Q168)/Vout))))))","v":0.271944677736065},{"$f":"(H$5*((90/$G$18)*(90/$G$18))/2)*(1+(SQRT(1+(4/(H$5*((90/$G$18)*(90/$G$18))))*$H$23*(1-(SQRT(2)*Vin_rms_min*(SIN($Q168)/Vout))))))","v":0.267150153296315},{"$f":"(I$5*((90/$G$18)*(90/$G$18))/2)*(1+(SQRT(1+(4/(I$5*((90/$G$18)*(90/$G$18))))*$I$23*(1-(SQRT(2)*Vin_rms_min*(SIN($Q168)/Vout))))))","v":0.264215427595591},{"$f":"(J$5*((90/$G$18)*(90/$G$18))/2)*(1+(SQRT(1+(4/(J$5*((90/$G$18)*(90/$G$18))))*$J$23*(1-(SQRT(2)*Vin_rms_min*(SIN($Q168)/Vout))))))","v":0.270328719723183},{"$f":"(K$5*((90/$G$18)*(90/$G$18))/2)*(1+(SQRT(1+(4/(K$5*((90/$G$18)*(90/$G$18))))*$K$23*(1-(SQRT(2)*Vin_rms_min*(SIN($Q168)/Vout))))))","v":0.405493079584775},{"$f":"(L$5*((90/$G$18)*(90/$G$18))/2)*(1+(SQRT(1+(4/(L$5*((90/$G$18)*(90/$G$18))))*$L$23*(1-(SQRT(2)*Vin_rms_min*(SIN($Q168)/Vout))))))","v":0.540657439446367},null,{"$f":"R168*ABS(1/(Vout/(SQRT(2)*$C$25*SIN($Q168))))","v":0.0845069283324478},{"$f":"S168*ABS(1/(Vout/(SQRT(2)*$C$25*SIN($Q168))))","v":0.083017027751965},{"$f":"T168*ABS(1/(Vout/(SQRT(2)*$C$25*SIN($Q168))))","v":0.0821050604484269},{"$f":"U168*ABS(1/(Vout/(SQRT(2)*$C$25*SIN($Q168))))","v":0.0840047686685054},{"$f":"V168*ABS(1/(Vout/(SQRT(2)*$C$25*SIN($Q168))))","v":0.126007153002758},{"$f":"W168*ABS(1/(Vout/(SQRT(2)*$C$25*SIN($Q168))))","v":0.168009537337011},null,{"$f":"1/(0.0000128*(R168+Y168+$G$23))","v":40137.1396835283},{"$f":"1/(0.0000128*(S168+Z168+$H$23))","v":84903.049803404},{"$f":"1/(0.0000128*(T168+AA168+$I$23))","v":109676.755493199},{"$f":"1/(0.0000128*(U168+AB168+$J$23))","v":220484.381407491},{"$f":"1/(0.0000128*(V168+AC168+$K$23))","v":146989.587604994},{"$f":"1/(0.0000128*(W168+AD168+$L$23))","v":110242.190703746}]
["OVP Set Point: Typical DC Output Voltage to Trigger OVP1:","VOVP1",{"$f":"2.75*(Ros1*1000+Ros2+Ros3)/Ros3","v":552.75},"V",null,null,null,null,null,null,null,null,null,null,null,null,{"$f":"Q168+0.01","v":1.63},{"$f":"(G$5*((90/$G$18)*(90/$G$18))/2)*(1+(SQRT(1+(4/(G$5*((90/$G$18)*(90/$G$18))))*$G$23*(1-(SQRT(2)*Vin_rms_min*(SIN($Q169)/Vout))))))","v":0.271974258219638},{"$f":"(H$5*((90/$G$18)*(90/$G$18))/2)*(1+(SQRT(1+(4/(H$5*((90/$G$18)*(90/$G$18))))*$H$23*(1-(SQRT(2)*Vin_rms_min*(SIN($Q169)/Vout))))))","v":0.267174529856828},{"$f":"(I$5*((90/$G$18)*(90/$G$18))/2)*(1+(SQRT(1+(4/(I$5*((90/$G$18)*(90/$G$18))))*$I$23*(1-(SQRT(2)*Vin_rms_min*(SIN($Q169)/Vout))))))","v":0.264236629985649},{"$f":"(J$5*((90/$G$18)*(90/$G$18))/2)*(1+(SQRT(1+(4/(J$5*((90/$G$18)*(90/$G$18))))*$J$23*(1-(SQRT(2)*Vin_rms_min*(SIN($Q169)/Vout))))))","v":0.270328719723183},{"$f":"(K$5*((90/$G$18)*(90/$G$18))/2)*(1+(SQRT(1+(4/(K$5*((90/$G$18)*(90/$G$18))))*$K$23*(1-(SQRT(2)*Vin_rms_min*(SIN($Q169)/Vout))))))","v":0.405493079584775},{"$f":"(L$5*((90/$G$18)*(90/$G$18))/2)*(1+(SQRT(1+(4/(L$5*((90/$G$18)*(90/$G$18))))*$L$23*(1-(SQRT(2)*Vin_rms_min*(SIN($Q169)/Vout))))))","v":0.540657439446367},null,{"$f":"R169*ABS(1/(Vout/(SQRT(2)*$C$25*SIN($Q169))))","v":0.0844702767761705},{"$f":"S169*ABS(1/(Vout/(SQRT(2)*$C$25*SIN($Q169))))","v":0.082979568111641},{"$f":"T169*ABS(1/(Vout/(SQRT(2)*$C$25*SIN($Q169))))","v":0.0820671096426533},{"$f":"U169*ABS(1/(Vout/(SQRT(2)*$C$25*SIN($Q169))))","v":0.0839592023342317},{"$f":"V169*ABS(1/(Vout/(SQRT(2)*$C$25*SIN($Q169))))","v":0.125938803501348},{"$f":"W169*ABS(1/(Vout/(SQRT(2)*$C$25*SIN($Q169))))","v":0.167918404668463},null,{"$f":"1/(0.0000128*(R169+Y169+$G$23))","v":40137.2854943274},{"$f":"1/(0.0000128*(S169+Z169+$H$23))","v":84904.2569853089},{"$f":"1/(0.0000128*(T169+AA169+$I$23))","v":109679.334325505},{"$f":"1/(0.0000128*(U169+AB169+$J$23))","v":220512.738753028},{"$f":"1/(0.0000128*(V169+AC169+$K$23))","v":147008.492502019},{"$f":"1/(0.0000128*(W169+AD169+$L$23))","v":110256.369376514}]
["Recommended Value for Filter Capacitor on VSENSE:","CVOSNS(recommended)",{"$f":"(Ros1*MegΩ+Ros2*kΩ+Ros3*kΩ)/(150*fline_min*(Ros1*MegΩ+Ros2*kΩ)*Ros3*kΩ)/picoF","v":2350.87719298246},"pF",null,null,null,null,null,null,null,null,null,null,null,null,{"$f":"Q169+0.01","v":1.64},{"$f":"(G$5*((90/$G$18)*(90/$G$18))/2)*(1+(SQRT(1+(4/(G$5*((90/$G$18)*(90/$G$18))))*$G$23*(1-(SQRT(2)*Vin_rms_min*(SIN($Q170)/Vout))))))","v":0.272009284452056},{"$f":"(H$5*((90/$G$18)*(90/$G$18))/2)*(1+(SQRT(1+(4/(H$5*((90/$G$18)*(90/$G$18))))*$H$23*(1-(SQRT(2)*Vin_rms_min*(SIN($Q170)/Vout))))))","v":0.267203394328241},{"$f":"(I$5*((90/$G$18)*(90/$G$18))/2)*(1+(SQRT(1+(4/(I$5*((90/$G$18)*(90/$G$18))))*$I$23*(1-(SQRT(2)*Vin_rms_min*(SIN($Q170)/Vout))))))","v":0.264261736077711},{"$f":"(J$5*((90/$G$18)*(90/$G$18))/2)*(1+(SQRT(1+(4/(J$5*((90/$G$18)*(90/$G$18))))*$J$23*(1-(SQRT(2)*Vin_rms_min*(SIN($Q170)/Vout))))))","v":0.270328719723183},{"$f":"(K$5*((90/$G$18)*(90/$G$18))/2)*(1+(SQRT(1+(4/(K$5*((90/$G$18)*(90/$G$18))))*$K$23*(1-(SQRT(2)*Vin_rms_min*(SIN($Q170)/Vout))))))","v":0.405493079584775},{"$f":"(L$5*((90/$G$18)*(90/$G$18))/2)*(1+(SQRT(1+(4/(L$5*((90/$G$18)*(90/$G$18))))*$L$23*(1-(SQRT(2)*Vin_rms_min*(SIN($Q170)/Vout))))))","v":0.540657439446367},null,{"$f":"R170*ABS(1/(Vout/(SQRT(2)*$C$25*SIN($Q170))))","v":0.0844268576356443},{"$f":"S170*ABS(1/(Vout/(SQRT(2)*$C$25*SIN($Q170))))","v":0.0829351945767408},{"$f":"T170*ABS(1/(Vout/(SQRT(2)*$C$25*SIN($Q170))))","v":0.0820221560279631},{"$f":"U170*ABS(1/(Vout/(SQRT(2)*$C$25*SIN($Q170))))","v":0.0839052401496903},{"$f":"V170*ABS(1/(Vout/(SQRT(2)*$C$25*SIN($Q170))))","v":0.125857860224536},{"$f":"W170*ABS(1/(Vout/(SQRT(2)*$C$25*SIN($Q170))))","v":0.167810480299381},null,{"$f":"1/(0.0000128*(R170+Y170+$G$23))","v":40137.4585637343},{"$f":"1/(0.0000128*(S170+Z170+$H$23))","v":84905.6880583318},{"$f":"1/(0.0000128*(T170+AA170+$I$23))","v":109682.390498885},{"$f":"1/(0.0000128*(U170+AB170+$J$23))","v":220546.330532615},{"$f":"1/(0.0000128*(V170+AC170+$K$23))","v":147030.887021744},{"$f":"1/(0.0000128*(W170+AD170+$L$23))","v":110273.165266308}]
["Recommended Value for Filter Capacitor on VSENSE:","CVOSNS(actual)",3000,"pF",null,null,null,null,null,null,null,null,null,null,null,null,{"$f":"Q170+0.01","v":1.65},{"$f":"(G$5*((90/$G$18)*(90/$G$18))/2)*(1+(SQRT(1+(4/(G$5*((90/$G$18)*(90/$G$18))))*$G$23*(1-(SQRT(2)*Vin_rms_min*(SIN($Q171)/Vout))))))","v":0.272049750596075},{"$f":"(H$5*((90/$G$18)*(90/$G$18))/2)*(1+(SQRT(1+(4/(H$5*((90/$G$18)*(90/$G$18))))*$H$23*(1-(SQRT(2)*Vin_rms_min*(SIN($Q171)/Vout))))))","v":0.267236742001718},{"$f":"(I$5*((90/$G$18)*(90/$G$18))/2)*(1+(SQRT(1+(4/(I$5*((90/$G$18)*(90/$G$18))))*$I$23*(1-(SQRT(2)*Vin_rms_min*(SIN($Q171)/Vout))))))","v":0.264290741867022},{"$f":"(J$5*((90/$G$18)*(90/$G$18))/2)*(1+(SQRT(1+(4/(J$5*((90/$G$18)*(90/$G$18))))*$J$23*(1-(SQRT(2)*Vin_rms_min*(SIN($Q171)/Vout))))))","v":0.270328719723183},{"$f":"(K$5*((90/$G$18)*(90/$G$18))/2)*(1+(SQRT(1+(4/(K$5*((90/$G$18)*(90/$G$18))))*$K$23*(1-(SQRT(2)*Vin_rms_min*(SIN($Q171)/Vout))))))","v":0.405493079584775},{"$f":"(L$5*((90/$G$18)*(90/$G$18))/2)*(1+(SQRT(1+(4/(L$5*((90/$G$18)*(90/$G$18))))*$L$23*(1-(SQRT(2)*Vin_rms_min*(SIN($Q171)/Vout))))))","v":0.540657439446367},null,{"$f":"R171*ABS(1/(Vout/(SQRT(2)*$C$25*SIN($Q171))))","v":0.0843766680062485},{"$f":"S171*ABS(1/(Vout/(SQRT(2)*$C$25*SIN($Q171))))","v":0.0828839056442634},{"$f":"T171*ABS(1/(Vout/(SQRT(2)*$C$25*SIN($Q171))))","v":0.0819701989609563},{"$f":"U171*ABS(1/(Vout/(SQRT(2)*$C$25*SIN($Q171))))","v":0.0838428875110548},{"$f":"V171*ABS(1/(Vout/(SQRT(2)*$C$25*SIN($Q171))))","v":0.125764331266582},{"$f":"W171*ABS(1/(Vout/(SQRT(2)*$C$25*SIN($Q171))))","v":0.16768577502211},null,{"$f":"1/(0.0000128*(R171+Y171+$G$23))","v":40137.6590727223},{"$f":"1/(0.0000128*(S171+Z171+$H$23))","v":84907.3436183325},{"$f":"1/(0.0000128*(T171+AA171+$I$23))","v":109685.924808937},{"$f":"1/(0.0000128*(U171+AB171+$J$23))","v":220585.158166929},{"$f":"1/(0.0000128*(V171+AC171+$K$23))","v":147056.772111286},{"$f":"1/(0.0000128*(W171+AD171+$L$23))","v":110292.579083465}]
["Power Dissipated in Output Voltage Divider:","PRFB1+RFB2",{"$f":"(Vout_nom^2)/((Ros1*MegΩ)+(Ros2*kΩ)+(Ros3*kΩ))","v":0.025125},"W",null,null,null,null,null,null,null,null,null,null,null,null,{"$f":"Q171+0.01","v":1.66},{"$f":"(G$5*((90/$G$18)*(90/$G$18))/2)*(1+(SQRT(1+(4/(G$5*((90/$G$18)*(90/$G$18))))*$G$23*(1-(SQRT(2)*Vin_rms_min*(SIN($Q172)/Vout))))))","v":0.272095649911399},{"$f":"(H$5*((90/$G$18)*(90/$G$18))/2)*(1+(SQRT(1+(4/(H$5*((90/$G$18)*(90/$G$18))))*$H$23*(1-(SQRT(2)*Vin_rms_min*(SIN($Q172)/Vout))))))","v":0.267274567439741},{"$f":"(I$5*((90/$G$18)*(90/$G$18))/2)*(1+(SQRT(1+(4/(I$5*((90/$G$18)*(90/$G$18))))*$I$23*(1-(SQRT(2)*Vin_rms_min*(SIN($Q172)/Vout))))))","v":0.264323642728915},{"$f":"(J$5*((90/$G$18)*(90/$G$18))/2)*(1+(SQRT(1+(4/(J$5*((90/$G$18)*(90/$G$18))))*$J$23*(1-(SQRT(2)*Vin_rms_min*(SIN($Q172)/Vout))))))","v":0.270328719723183},{"$f":"(K$5*((90/$G$18)*(90/$G$18))/2)*(1+(SQRT(1+(4/(K$5*((90/$G$18)*(90/$G$18))))*$K$23*(1-(SQRT(2)*Vin_rms_min*(SIN($Q172)/Vout))))))","v":0.405493079584775},{"$f":"(L$5*((90/$G$18)*(90/$G$18))/2)*(1+(SQRT(1+(4/(L$5*((90/$G$18)*(90/$G$18))))*$L$23*(1-(SQRT(2)*Vin_rms_min*(SIN($Q172)/Vout))))))","v":0.540657439446367},null,{"$f":"R172*ABS(1/(Vout/(SQRT(2)*$C$25*SIN($Q172))))","v":0.0843197045430131},{"$f":"S172*ABS(1/(Vout/(SQRT(2)*$C$25*SIN($Q172))))","v":0.0828256995865938},{"$f":"T172*ABS(1/(Vout/(SQRT(2)*$C$25*SIN($Q172))))","v":0.081911237705904},{"$f":"U172*ABS(1/(Vout/(SQRT(2)*$C$25*SIN($Q172))))","v":0.0837721506535371},{"$f":"V172*ABS(1/(Vout/(SQRT(2)*$C$25*SIN($Q172))))","v":0.125658225980306},{"$f":"W172*ABS(1/(Vout/(SQRT(2)*$C$25*SIN($Q172))))","v":0.167544301307074},null,{"$f":"1/(0.0000128*(R172+Y172+$G$23))","v":40137.8872300865},{"$f":"1/(0.0000128*(S172+Z172+$H$23))","v":84909.2243527889},{"$f":"1/(0.0000128*(T172+AA172+$I$23))","v":109689.938173633},{"$f":"1/(0.0000128*(U172+AB172+$J$23))","v":220629.223296979},{"$f":"1/(0.0000128*(V172+AC172+$K$23))","v":147086.148864653},{"$f":"1/(0.0000128*(W172+AD172+$L$23))","v":110314.611648489}]
[{"$f":"IF(Vout_nom<Vin_pk_max,\"DO NOT PROCEED UNTIL RFB2 IS DECREASED SO MINIMUM OUTPUT VOLTAGE > MAXIMUM RECTIFIED INPUT VOLTAGE\",\"\")","v":""},null,null,null,null,null,null,null,null,null,null,null,null,null,null,null,{"$f":"Q172+0.01","v":1.67},{"$f":"(G$5*((90/$G$18)*(90/$G$18))/2)*(1+(SQRT(1+(4/(G$5*((90/$G$18)*(90/$G$18))))*$G$23*(1-(SQRT(2)*Vin_rms_min*(SIN($Q173)/Vout))))))","v":0.27214697475733},{"$f":"(H$5*((90/$G$18)*(90/$G$18))/2)*(1+(SQRT(1+(4/(H$5*((90/$G$18)*(90/$G$18))))*$H$23*(1-(SQRT(2)*Vin_rms_min*(SIN($Q173)/Vout))))))","v":0.267316864478149},{"$f":"(I$5*((90/$G$18)*(90/$G$18))/2)*(1+(SQRT(1+(4/(I$5*((90/$G$18)*(90/$G$18))))*$I$23*(1-(SQRT(2)*Vin_rms_min*(SIN($Q173)/Vout))))))","v":0.264360433420482},{"$f":"(J$5*((90/$G$18)*(90/$G$18))/2)*(1+(SQRT(1+(4/(J$5*((90/$G$18)*(90/$G$18))))*$J$23*(1-(SQRT(2)*Vin_rms_min*(SIN($Q173)/Vout))))))","v":0.270328719723183},{"$f":"(K$5*((90/$G$18)*(90/$G$18))/2)*(1+(SQRT(1+(4/(K$5*((90/$G$18)*(90/$G$18))))*$K$23*(1-(SQRT(2)*Vin_rms_min*(SIN($Q173)/Vout))))))","v":0.405493079584775},{"$f":"(L$5*((90/$G$18)*(90/$G$18))/2)*(1+(SQRT(1+(4/(L$5*((90/$G$18)*(90/$G$18))))*$L$23*(1-(SQRT(2)*Vin_rms_min*(SIN($Q173)/Vout))))))","v":0.540657439446367},null,{"$f":"R173*ABS(1/(Vout/(SQRT(2)*$C$25*SIN($Q173))))","v":0.0842559634658247},{"$f":"S173*ABS(1/(Vout/(SQRT(2)*$C$25*SIN($Q173))))","v":0.082760574455598},{"$f":"T173*ABS(1/(Vout/(SQRT(2)*$C$25*SIN($Q173))))","v":0.0818452714381527},{"$f":"U173*ABS(1/(Vout/(SQRT(2)*$C$25*SIN($Q173))))","v":0.0836930366507639},{"$f":"V173*ABS(1/(Vout/(SQRT(2)*$C$25*SIN($Q173))))","v":0.125539554976146},{"$f":"W173*ABS(1/(Vout/(SQRT(2)*$C$25*SIN($Q173))))","v":0.167386073301528},null,{"$f":"1/(0.0000128*(R173+Y173+$G$23))","v":40138.1432722863},{"$f":"1/(0.0000128*(S173+Z173+$H$23))","v":84911.3310402839},{"$f":"1/(0.0000128*(T173+AA173+$I$23))","v":109694.431632652},{"$f":"1/(0.0000128*(U173+AB173+$J$23))","v":220678.527783693},{"$f":"1/(0.0000128*(V173+AC173+$K$23))","v":147119.018522462},{"$f":"1/(0.0000128*(W173+AD173+$L$23))","v":110339.263891847}]
[null,null,null,null,null,null,null,null,null,null,null,null,null,null,null,null,{"$f":"Q173+0.01","v":1.68},{"$f":"(G$5*((90/$G$18)*(90/$G$18))/2)*(1+(SQRT(1+(4/(G$5*((90/$G$18)*(90/$G$18))))*$G$23*(1-(SQRT(2)*Vin_rms_min*(SIN($Q174)/Vout))))))","v":0.272203716595756},{"$f":"(H$5*((90/$G$18)*(90/$G$18))/2)*(1+(SQRT(1+(4/(H$5*((90/$G$18)*(90/$G$18))))*$H$23*(1-(SQRT(2)*Vin_rms_min*(SIN($Q174)/Vout))))))","v":0.267363626228463},{"$f":"(I$5*((90/$G$18)*(90/$G$18))/2)*(1+(SQRT(1+(4/(I$5*((90/$G$18)*(90/$G$18))))*$I$23*(1-(SQRT(2)*Vin_rms_min*(SIN($Q174)/Vout))))))","v":0.264401108082451},{"$f":"(J$5*((90/$G$18)*(90/$G$18))/2)*(1+(SQRT(1+(4/(J$5*((90/$G$18)*(90/$G$18))))*$J$23*(1-(SQRT(2)*Vin_rms_min*(SIN($Q174)/Vout))))))","v":0.270328719723183},{"$f":"(K$5*((90/$G$18)*(90/$G$18))/2)*(1+(SQRT(1+(4/(K$5*((90/$G$18)*(90/$G$18))))*$K$23*(1-(SQRT(2)*Vin_rms_min*(SIN($Q174)/Vout))))))","v":0.405493079584775},{"$f":"(L$5*((90/$G$18)*(90/$G$18))/2)*(1+(SQRT(1+(4/(L$5*((90/$G$18)*(90/$G$18))))*$L$23*(1-(SQRT(2)*Vin_rms_min*(SIN($Q174)/Vout))))))","v":0.540657439446367},null,{"$f":"R174*ABS(1/(Vout/(SQRT(2)*$C$25*SIN($Q174))))","v":0.0841854405653187},{"$f":"S174*ABS(1/(Vout/(SQRT(2)*$C$25*SIN($Q174))))","v":0.0826885280872584},{"$f":"T174*ABS(1/(Vout/(SQRT(2)*$C$25*SIN($Q174))))","v":0.0817722992479764},{"$f":"U174*ABS(1/(Vout/(SQRT(2)*$C$25*SIN($Q174))))","v":0.0836055534140695},{"$f":"V174*ABS(1/(Vout/(SQRT(2)*$C$25*SIN($Q174))))","v":0.125408330121104},{"$f":"W174*ABS(1/(Vout/(SQRT(2)*$C$25*SIN($Q174))))","v":0.167211106828139},null,{"$f":"1/(0.0000128*(R174+Y174+$G$23))","v":40138.4274632674},{"$f":"1/(0.0000128*(S174+Z174+$H$23))","v":84913.6645499239},{"$f":"1/(0.0000128*(T174+AA174+$I$23))","v":109699.406346624},{"$f":"1/(0.0000128*(U174+AB174+$J$23))","v":220733.073707456},{"$f":"1/(0.0000128*(V174+AC174+$K$23))","v":147155.382471637},{"$f":"1/(0.0000128*(W174+AD174+$L$23))","v":110366.536853728}]
["COMPENSATION:",null,null,null,null,null,null,null,null,null,null,null,null,null,null,null,{"$f":"Q174+0.01","v":1.69},{"$f":"(G$5*((90/$G$18)*(90/$G$18))/2)*(1+(SQRT(1+(4/(G$5*((90/$G$18)*(90/$G$18))))*$G$23*(1-(SQRT(2)*Vin_rms_min*(SIN($Q175)/Vout))))))","v":0.272265865994497},{"$f":"(H$5*((90/$G$18)*(90/$G$18))/2)*(1+(SQRT(1+(4/(H$5*((90/$G$18)*(90/$G$18))))*$H$23*(1-(SQRT(2)*Vin_rms_min*(SIN($Q175)/Vout))))))","v":0.267414845080461},{"$f":"(I$5*((90/$G$18)*(90/$G$18))/2)*(1+(SQRT(1+(4/(I$5*((90/$G$18)*(90/$G$18))))*$I$23*(1-(SQRT(2)*Vin_rms_min*(SIN($Q175)/Vout))))))","v":0.264445660241287},{"$f":"(J$5*((90/$G$18)*(90/$G$18))/2)*(1+(SQRT(1+(4/(J$5*((90/$G$18)*(90/$G$18))))*$J$23*(1-(SQRT(2)*Vin_rms_min*(SIN($Q175)/Vout))))))","v":0.270328719723183},{"$f":"(K$5*((90/$G$18)*(90/$G$18))/2)*(1+(SQRT(1+(4/(K$5*((90/$G$18)*(90/$G$18))))*$K$23*(1-(SQRT(2)*Vin_rms_min*(SIN($Q175)/Vout))))))","v":0.405493079584775},{"$f":"(L$5*((90/$G$18)*(90/$G$18))/2)*(1+(SQRT(1+(4/(L$5*((90/$G$18)*(90/$G$18))))*$L$23*(1-(SQRT(2)*Vin_rms_min*(SIN($Q175)/Vout))))))","v":0.540657439446367},null,{"$f":"R175*ABS(1/(Vout/(SQRT(2)*$C$25*SIN($Q175))))","v":0.0841081312094534},{"$f":"S175*ABS(1/(Vout/(SQRT(2)*$C$25*SIN($Q175))))","v":0.0826095581068456},{"$f":"T175*ABS(1/(Vout/(SQRT(2)*$C$25*SIN($Q175))))","v":0.0816923201448772},{"$f":"U175*ABS(1/(Vout/(SQRT(2)*$C$25*SIN($Q175))))","v":0.0835097096917048},{"$f":"V175*ABS(1/(Vout/(SQRT(2)*$C$25*SIN($Q175))))","v":0.125264564537557},{"$f":"W175*ABS(1/(Vout/(SQRT(2)*$C$25*SIN($Q175))))","v":0.16701941938341},null,{"$f":"1/(0.0000128*(R175+Y175+$G$23))","v":40138.7400942624},{"$f":"1/(0.0000128*(S175+Z175+$H$23))","v":84916.2258406907},{"$f":"1/(0.0000128*(T175+AA175+$I$23))","v":109704.863596288},{"$f":"1/(0.0000128*(U175+AB175+$J$23))","v":220792.863367579},{"$f":"1/(0.0000128*(V175+AC175+$K$23))","v":147195.242245052},{"$f":"1/(0.0000128*(W175+AD175+$L$23))","v":110396.431683789}]
["The Loop will be Optimized at a Selected Specific Line Voltage.  For a Wide Input Range, Optimization is Recommended at the Mean of Min and Max Input.  For a Design with a Specific Nominal Line Voltage, Optimize at that Nominal Voltage. VCOMP at Any Line Voltage or as a Function of Load is Shown at Right",null,null,null,null,null,null,null,null,null,null,null,null,null,null,null,{"$f":"Q175+0.01","v":1.7},{"$f":"(G$5*((90/$G$18)*(90/$G$18))/2)*(1+(SQRT(1+(4/(G$5*((90/$G$18)*(90/$G$18))))*$G$23*(1-(SQRT(2)*Vin_rms_min*(SIN($Q176)/Vout))))))","v":0.272333412630981},{"$f":"(H$5*((90/$G$18)*(90/$G$18))/2)*(1+(SQRT(1+(4/(H$5*((90/$G$18)*(90/$G$18))))*$H$23*(1-(SQRT(2)*Vin_rms_min*(SIN($Q176)/Vout))))))","v":0.267470512705031},{"$f":"(I$5*((90/$G$18)*(90/$G$18))/2)*(1+(SQRT(1+(4/(I$5*((90/$G$18)*(90/$G$18))))*$I$23*(1-(SQRT(2)*Vin_rms_min*(SIN($Q176)/Vout))))))","v":0.26449408281151},{"$f":"(J$5*((90/$G$18)*(90/$G$18))/2)*(1+(SQRT(1+(4/(J$5*((90/$G$18)*(90/$G$18))))*$J$23*(1-(SQRT(2)*Vin_rms_min*(SIN($Q176)/Vout))))))","v":0.270328719723183},{"$f":"(K$5*((90/$G$18)*(90/$G$18))/2)*(1+(SQRT(1+(4/(K$5*((90/$G$18)*(90/$G$18))))*$K$23*(1-(SQRT(2)*Vin_rms_min*(SIN($Q176)/Vout))))))","v":0.405493079584775},{"$f":"(L$5*((90/$G$18)*(90/$G$18))/2)*(1+(SQRT(1+(4/(L$5*((90/$G$18)*(90/$G$18))))*$L$23*(1-(SQRT(2)*Vin_rms_min*(SIN($Q176)/Vout))))))","v":0.540657439446367},null,{"$f":"R176*ABS(1/(Vout/(SQRT(2)*$C$25*SIN($Q176))))","v":0.0840240303507599},{"$f":"S176*ABS(1/(Vout/(SQRT(2)*$C$25*SIN($Q176))))","v":0.0825236619346215},{"$f":"T176*ABS(1/(Vout/(SQRT(2)*$C$25*SIN($Q176))))","v":0.0816053330623249},{"$f":"U176*ABS(1/(Vout/(SQRT(2)*$C$25*SIN($Q176))))","v":0.0834055150679622},{"$f":"V176*ABS(1/(Vout/(SQRT(2)*$C$25*SIN($Q176))))","v":0.125108272601943},{"$f":"W176*ABS(1/(Vout/(SQRT(2)*$C$25*SIN($Q176))))","v":0.166811030135924},null,{"$f":"1/(0.0000128*(R176+Y176+$G$23))","v":40139.0814835715},{"$f":"1/(0.0000128*(S176+Z176+$H$23))","v":84919.0159607264},{"$f":"1/(0.0000128*(T176+AA176+$I$23))","v":109710.804781564},{"$f":"1/(0.0000128*(U176+AB176+$J$23))","v":220857.899281722},{"$f":"1/(0.0000128*(V176+AC176+$K$23))","v":147238.599521148},{"$f":"1/(0.0000128*(W176+AD176+$L$23))","v":110428.949640861}]
["PWM to Power Stage Pole:","fPOLE",{"$f":"1/(pi*Rload*Cout*uF)","v":2.89372623803446},"Hz",null,null,null,null,null,null,null,null,null,null,null,null,{"$f":"Q176+0.01","v":1.71},{"$f":"(G$5*((90/$G$18)*(90/$G$18))/2)*(1+(SQRT(1+(4/(G$5*((90/$G$18)*(90/$G$18))))*$G$23*(1-(SQRT(2)*Vin_rms_min*(SIN($Q177)/Vout))))))","v":0.272406345296268},{"$f":"(H$5*((90/$G$18)*(90/$G$18))/2)*(1+(SQRT(1+(4/(H$5*((90/$G$18)*(90/$G$18))))*$H$23*(1-(SQRT(2)*Vin_rms_min*(SIN($Q177)/Vout))))))","v":0.267530620057283},{"$f":"(I$5*((90/$G$18)*(90/$G$18))/2)*(1+(SQRT(1+(4/(I$5*((90/$G$18)*(90/$G$18))))*$I$23*(1-(SQRT(2)*Vin_rms_min*(SIN($Q177)/Vout))))))","v":0.264546368098227},{"$f":"(J$5*((90/$G$18)*(90/$G$18))/2)*(1+(SQRT(1+(4/(J$5*((90/$G$18)*(90/$G$18))))*$J$23*(1-(SQRT(2)*Vin_rms_min*(SIN($Q177)/Vout))))))","v":0.270328719723183},{"$f":"(K$5*((90/$G$18)*(90/$G$18))/2)*(1+(SQRT(1+(4/(K$5*((90/$G$18)*(90/$G$18))))*$K$23*(1-(SQRT(2)*Vin_rms_min*(SIN($Q177)/Vout))))))","v":0.405493079584775},{"$f":"(L$5*((90/$G$18)*(90/$G$18))/2)*(1+(SQRT(1+(4/(L$5*((90/$G$18)*(90/$G$18))))*$L$23*(1-(SQRT(2)*Vin_rms_min*(SIN($Q177)/Vout))))))","v":0.540657439446367},null,{"$f":"R177*ABS(1/(Vout/(SQRT(2)*$C$25*SIN($Q177))))","v":0.0839331325342602},{"$f":"S177*ABS(1/(Vout/(SQRT(2)*$C$25*SIN($Q177))))","v":0.0824308367920692},{"$f":"T177*ABS(1/(Vout/(SQRT(2)*$C$25*SIN($Q177))))","v":0.0815113368629372},{"$f":"U177*ABS(1/(Vout/(SQRT(2)*$C$25*SIN($Q177))))","v":0.083292979962217},{"$f":"V177*ABS(1/(Vout/(SQRT(2)*$C$25*SIN($Q177))))","v":0.124939469943326},{"$f":"W177*ABS(1/(Vout/(SQRT(2)*$C$25*SIN($Q177))))","v":0.166585959924434},null,{"$f":"1/(0.0000128*(R177+Y177+$G$23))","v":40139.451976323},{"$f":"1/(0.0000128*(S177+Z177+$H$23))","v":84922.0360465529},{"$f":"1/(0.0000128*(T177+AA177+$I$23))","v":109717.231420536},{"$f":"1/(0.0000128*(U177+AB177+$J$23))","v":220928.184185258},{"$f":"1/(0.0000128*(V177+AC177+$K$23))","v":147285.456123505},{"$f":"1/(0.0000128*(W177+AD177+$L$23))","v":110464.092092629}]
["PWM Gain","KPWM",{"$f":"5/Ton_max0/us","v":390625},null,null,null,null,null,null,null,null,null,null,null,null,null,{"$f":"Q177+0.01","v":1.72},{"$f":"(G$5*((90/$G$18)*(90/$G$18))/2)*(1+(SQRT(1+(4/(G$5*((90/$G$18)*(90/$G$18))))*$G$23*(1-(SQRT(2)*Vin_rms_min*(SIN($Q178)/Vout))))))","v":0.272484651899408},{"$f":"(H$5*((90/$G$18)*(90/$G$18))/2)*(1+(SQRT(1+(4/(H$5*((90/$G$18)*(90/$G$18))))*$H$23*(1-(SQRT(2)*Vin_rms_min*(SIN($Q178)/Vout))))))","v":0.267595157379917},{"$f":"(I$5*((90/$G$18)*(90/$G$18))/2)*(1+(SQRT(1+(4/(I$5*((90/$G$18)*(90/$G$18))))*$I$23*(1-(SQRT(2)*Vin_rms_min*(SIN($Q178)/Vout))))))","v":0.264602507799871},{"$f":"(J$5*((90/$G$18)*(90/$G$18))/2)*(1+(SQRT(1+(4/(J$5*((90/$G$18)*(90/$G$18))))*$J$23*(1-(SQRT(2)*Vin_rms_min*(SIN($Q178)/Vout))))))","v":0.270328719723183},{"$f":"(K$5*((90/$G$18)*(90/$G$18))/2)*(1+(SQRT(1+(4/(K$5*((90/$G$18)*(90/$G$18))))*$K$23*(1-(SQRT(2)*Vin_rms_min*(SIN($Q178)/Vout))))))","v":0.405493079584775},{"$f":"(L$5*((90/$G$18)*(90/$G$18))/2)*(1+(SQRT(1+(4/(L$5*((90/$G$18)*(90/$G$18))))*$L$23*(1-(SQRT(2)*Vin_rms_min*(SIN($Q178)/Vout))))))","v":0.540657439446367},null,{"$f":"R178*ABS(1/(Vout/(SQRT(2)*$C$25*SIN($Q178))))","v":0.0838354319060472},{"$f":"S178*ABS(1/(Vout/(SQRT(2)*$C$25*SIN($Q178))))","v":0.0823310797086431},{"$f":"T178*ABS(1/(Vout/(SQRT(2)*$C$25*SIN($Q178))))","v":0.081410330344091},{"$f":"U178*ABS(1/(Vout/(SQRT(2)*$C$25*SIN($Q178))))","v":0.0831721156278863},{"$f":"V178*ABS(1/(Vout/(SQRT(2)*$C$25*SIN($Q178))))","v":0.124758173441829},{"$f":"W178*ABS(1/(Vout/(SQRT(2)*$C$25*SIN($Q178))))","v":0.166344231255773},null,{"$f":"1/(0.0000128*(R178+Y178+$G$23))","v":40139.8519442134},{"$f":"1/(0.0000128*(S178+Z178+$H$23))","v":84925.2873222258},{"$f":"1/(0.0000128*(T178+AA178+$I$23))","v":109724.145148355},{"$f":"1/(0.0000128*(U178+AB178+$J$23))","v":221003.721030566},{"$f":"1/(0.0000128*(V178+AC178+$K$23))","v":147335.814020378},{"$f":"1/(0.0000128*(W178+AD178+$L$23))","v":110501.860515283}]
["DC gain of the Control To Output transfer function","K0",{"$f":"Vin_rms_min^2*Rload/(4*Kpwm*Lbst*uH*Vout_nom)","v":113.315774070822},null,null,null,null,null,null,null,null,null,null,null,null,null,{"$f":"Q178+0.01","v":1.73},{"$f":"(G$5*((90/$G$18)*(90/$G$18))/2)*(1+(SQRT(1+(4/(G$5*((90/$G$18)*(90/$G$18))))*$G$23*(1-(SQRT(2)*Vin_rms_min*(SIN($Q179)/Vout))))))","v":0.272568319472124},{"$f":"(H$5*((90/$G$18)*(90/$G$18))/2)*(1+(SQRT(1+(4/(H$5*((90/$G$18)*(90/$G$18))))*$H$23*(1-(SQRT(2)*Vin_rms_min*(SIN($Q179)/Vout))))))","v":0.267664114206855},{"$f":"(I$5*((90/$G$18)*(90/$G$18))/2)*(1+(SQRT(1+(4/(I$5*((90/$G$18)*(90/$G$18))))*$I$23*(1-(SQRT(2)*Vin_rms_min*(SIN($Q179)/Vout))))))","v":0.264662493011156},{"$f":"(J$5*((90/$G$18)*(90/$G$18))/2)*(1+(SQRT(1+(4/(J$5*((90/$G$18)*(90/$G$18))))*$J$23*(1-(SQRT(2)*Vin_rms_min*(SIN($Q179)/Vout))))))","v":0.270328719723183},{"$f":"(K$5*((90/$G$18)*(90/$G$18))/2)*(1+(SQRT(1+(4/(K$5*((90/$G$18)*(90/$G$18))))*$K$23*(1-(SQRT(2)*Vin_rms_min*(SIN($Q179)/Vout))))))","v":0.405493079584775},{"$f":"(L$5*((90/$G$18)*(90/$G$18))/2)*(1+(SQRT(1+(4/(L$5*((90/$G$18)*(90/$G$18))))*$L$23*(1-(SQRT(2)*Vin_rms_min*(SIN($Q179)/Vout))))))","v":0.540657439446367},null,{"$f":"R179*ABS(1/(Vout/(SQRT(2)*$C$25*SIN($Q179))))","v":0.0837309222225183},{"$f":"S179*ABS(1/(Vout/(SQRT(2)*$C$25*SIN($Q179))))","v":0.082224387529034},{"$f":"T179*ABS(1/(Vout/(SQRT(2)*$C$25*SIN($Q179))))","v":0.0813023122439629},{"$f":"U179*ABS(1/(Vout/(SQRT(2)*$C$25*SIN($Q179))))","v":0.0830429341513027},{"$f":"V179*ABS(1/(Vout/(SQRT(2)*$C$25*SIN($Q179))))","v":0.124564401226954},{"$f":"W179*ABS(1/(Vout/(SQRT(2)*$C$25*SIN($Q179))))","v":0.166085868302605},null,{"$f":"1/(0.0000128*(R179+Y179+$G$23))","v":40140.2817852288},{"$f":"1/(0.0000128*(S179+Z179+$H$23))","v":84928.7710984245},{"$f":"1/(0.0000128*(T179+AA179+$I$23))","v":109731.54771605},{"$f":"1/(0.0000128*(U179+AB179+$J$23))","v":221084.512986288},{"$f":"1/(0.0000128*(V179+AC179+$K$23))","v":147389.675324192},{"$f":"1/(0.0000128*(W179+AD179+$L$23))","v":110542.256493144}]
["Error Amplifier Transconductance Gain","gM",50,"\u009dµS",null,null,null,null,null,null,null,null,null,null,null,null,{"$f":"Q179+0.01","v":1.74},{"$f":"(G$5*((90/$G$18)*(90/$G$18))/2)*(1+(SQRT(1+(4/(G$5*((90/$G$18)*(90/$G$18))))*$G$23*(1-(SQRT(2)*Vin_rms_min*(SIN($Q180)/Vout))))))","v":0.272657334173833},{"$f":"(H$5*((90/$G$18)*(90/$G$18))/2)*(1+(SQRT(1+(4/(H$5*((90/$G$18)*(90/$G$18))))*$H$23*(1-(SQRT(2)*Vin_rms_min*(SIN($Q180)/Vout))))))","v":0.267737479367124},{"$f":"(I$5*((90/$G$18)*(90/$G$18))/2)*(1+(SQRT(1+(4/(I$5*((90/$G$18)*(90/$G$18))))*$I$23*(1-(SQRT(2)*Vin_rms_min*(SIN($Q180)/Vout))))))","v":0.264726314226236},{"$f":"(J$5*((90/$G$18)*(90/$G$18))/2)*(1+(SQRT(1+(4/(J$5*((90/$G$18)*(90/$G$18))))*$J$23*(1-(SQRT(2)*Vin_rms_min*(SIN($Q180)/Vout))))))","v":0.270328719723183},{"$f":"(K$5*((90/$G$18)*(90/$G$18))/2)*(1+(SQRT(1+(4/(K$5*((90/$G$18)*(90/$G$18))))*$K$23*(1-(SQRT(2)*Vin_rms_min*(SIN($Q180)/Vout))))))","v":0.405493079584775},{"$f":"(L$5*((90/$G$18)*(90/$G$18))/2)*(1+(SQRT(1+(4/(L$5*((90/$G$18)*(90/$G$18))))*$L$23*(1-(SQRT(2)*Vin_rms_min*(SIN($Q180)/Vout))))))","v":0.540657439446367},null,{"$f":"R180*ABS(1/(Vout/(SQRT(2)*$C$25*SIN($Q180))))","v":0.0836195968602537},{"$f":"S180*ABS(1/(Vout/(SQRT(2)*$C$25*SIN($Q180))))","v":0.0821107569209411},{"$f":"T180*ABS(1/(Vout/(SQRT(2)*$C$25*SIN($Q180))))","v":0.0811872812479919},{"$f":"U180*ABS(1/(Vout/(SQRT(2)*$C$25*SIN($Q180))))","v":0.0829054484505061},{"$f":"V180*ABS(1/(Vout/(SQRT(2)*$C$25*SIN($Q180))))","v":0.124358172675759},{"$f":"W180*ABS(1/(Vout/(SQRT(2)*$C$25*SIN($Q180))))","v":0.165810896901012},null,{"$f":"1/(0.0000128*(R180+Y180+$G$23))","v":40140.7419233454},{"$f":"1/(0.0000128*(S180+Z180+$H$23))","v":84932.488771478},{"$f":"1/(0.0000128*(T180+AA180+$I$23))","v":109739.440989266},{"$f":"1/(0.0000128*(U180+AB180+$J$23))","v":221170.563436505},{"$f":"1/(0.0000128*(V180+AC180+$K$23))","v":147447.042291003},{"$f":"1/(0.0000128*(W180+AD180+$L$23))","v":110585.281718252}]
["Desired Voltage Loop Crossover Frequency ( fCO < 20Hz):","fCO",20,"Hz",{"$f":"IF(fpole>50,\"POLE MUST BE < 50Hz\",\"\")","v":""},null,null,null,null,null,null,null,null,null,null,null,{"$f":"Q180+0.01","v":1.75},{"$f":"(G$5*((90/$G$18)*(90/$G$18))/2)*(1+(SQRT(1+(4/(G$5*((90/$G$18)*(90/$G$18))))*$G$23*(1-(SQRT(2)*Vin_rms_min*(SIN($Q181)/Vout))))))","v":0.272751681296976},{"$f":"(H$5*((90/$G$18)*(90/$G$18))/2)*(1+(SQRT(1+(4/(H$5*((90/$G$18)*(90/$G$18))))*$H$23*(1-(SQRT(2)*Vin_rms_min*(SIN($Q181)/Vout))))))","v":0.267815240988985},{"$f":"(I$5*((90/$G$18)*(90/$G$18))/2)*(1+(SQRT(1+(4/(I$5*((90/$G$18)*(90/$G$18))))*$I$23*(1-(SQRT(2)*Vin_rms_min*(SIN($Q181)/Vout))))))","v":0.264793961342069},{"$f":"(J$5*((90/$G$18)*(90/$G$18))/2)*(1+(SQRT(1+(4/(J$5*((90/$G$18)*(90/$G$18))))*$J$23*(1-(SQRT(2)*Vin_rms_min*(SIN($Q181)/Vout))))))","v":0.270328719723183},{"$f":"(K$5*((90/$G$18)*(90/$G$18))/2)*(1+(SQRT(1+(4/(K$5*((90/$G$18)*(90/$G$18))))*$K$23*(1-(SQRT(2)*Vin_rms_min*(SIN($Q181)/Vout))))))","v":0.405493079584775},{"$f":"(L$5*((90/$G$18)*(90/$G$18))/2)*(1+(SQRT(1+(4/(L$5*((90/$G$18)*(90/$G$18))))*$L$23*(1-(SQRT(2)*Vin_rms_min*(SIN($Q181)/Vout))))))","v":0.540657439446367},null,{"$f":"R181*ABS(1/(Vout/(SQRT(2)*$C$25*SIN($Q181))))","v":0.0835014488265314},{"$f":"S181*ABS(1/(Vout/(SQRT(2)*$C$25*SIN($Q181))))","v":0.0819901843833468},{"$f":"T181*ABS(1/(Vout/(SQRT(2)*$C$25*SIN($Q181))))","v":0.0810652359957587},{"$f":"U181*ABS(1/(Vout/(SQRT(2)*$C$25*SIN($Q181))))","v":0.0827596722739521},{"$f":"V181*ABS(1/(Vout/(SQRT(2)*$C$25*SIN($Q181))))","v":0.124139508410928},{"$f":"W181*ABS(1/(Vout/(SQRT(2)*$C$25*SIN($Q181))))","v":0.165519344547904},null,{"$f":"1/(0.0000128*(R181+Y181+$G$23))","v":40141.2328082125},{"$f":"1/(0.0000128*(S181+Z181+$H$23))","v":84936.4418223294},{"$f":"1/(0.0000128*(T181+AA181+$I$23))","v":109747.826946913},{"$f":"1/(0.0000128*(U181+AB181+$J$23))","v":221261.875979865},{"$f":"1/(0.0000128*(V181+AC181+$K$23))","v":147507.91731991},{"$f":"1/(0.0000128*(W181+AD181+$L$23))","v":110630.937989932}]
["Desired Phase Margin at Low Line:","фm",60,"°",{"$f":"IF(Cp<C183*0.75,\"USE LARGER PARALLEL CAPACITOR ON VCOMP\",IF(Cp>1.25*C183,\"USE SMALLER PARALLEL CAPACITOR ON VCOMP\",\"\"))","v":""},null,null,null,null,null,null,null,null,null,null,null,{"$f":"Q181+0.01","v":1.76},{"$f":"(G$5*((90/$G$18)*(90/$G$18))/2)*(1+(SQRT(1+(4/(G$5*((90/$G$18)*(90/$G$18))))*$G$23*(1-(SQRT(2)*Vin_rms_min*(SIN($Q182)/Vout))))))","v":0.272851345272676},{"$f":"(H$5*((90/$G$18)*(90/$G$18))/2)*(1+(SQRT(1+(4/(H$5*((90/$G$18)*(90/$G$18))))*$H$23*(1-(SQRT(2)*Vin_rms_min*(SIN($Q182)/Vout))))))","v":0.267897386504314},{"$f":"(I$5*((90/$G$18)*(90/$G$18))/2)*(1+(SQRT(1+(4/(I$5*((90/$G$18)*(90/$G$18))))*$I$23*(1-(SQRT(2)*Vin_rms_min*(SIN($Q182)/Vout))))))","v":0.264865423661983},{"$f":"(J$5*((90/$G$18)*(90/$G$18))/2)*(1+(SQRT(1+(4/(J$5*((90/$G$18)*(90/$G$18))))*$J$23*(1-(SQRT(2)*Vin_rms_min*(SIN($Q182)/Vout))))))","v":0.270328719723183},{"$f":"(K$5*((90/$G$18)*(90/$G$18))/2)*(1+(SQRT(1+(4/(K$5*((90/$G$18)*(90/$G$18))))*$K$23*(1-(SQRT(2)*Vin_rms_min*(SIN($Q182)/Vout))))))","v":0.405493079584775},{"$f":"(L$5*((90/$G$18)*(90/$G$18))/2)*(1+(SQRT(1+(4/(L$5*((90/$G$18)*(90/$G$18))))*$L$23*(1-(SQRT(2)*Vin_rms_min*(SIN($Q182)/Vout))))))","v":0.540657439446367},null,{"$f":"R182*ABS(1/(Vout/(SQRT(2)*$C$25*SIN($Q182))))","v":0.0833764707704687},{"$f":"S182*ABS(1/(Vout/(SQRT(2)*$C$25*SIN($Q182))))","v":0.0818626662552824},{"$f":"T182*ABS(1/(Vout/(SQRT(2)*$C$25*SIN($Q182))))","v":0.0809361750882767},{"$f":"U182*ABS(1/(Vout/(SQRT(2)*$C$25*SIN($Q182))))","v":0.0826056201991369},{"$f":"V182*ABS(1/(Vout/(SQRT(2)*$C$25*SIN($Q182))))","v":0.123908430298705},{"$f":"W182*ABS(1/(Vout/(SQRT(2)*$C$25*SIN($Q182))))","v":0.165211240398274},null,{"$f":"1/(0.0000128*(R182+Y182+$G$23))","v":40141.7549148152},{"$f":"1/(0.0000128*(S182+Z182+$H$23))","v":84940.6318154372},{"$f":"1/(0.0000128*(T182+AA182+$I$23))","v":109756.707679735},{"$f":"1/(0.0000128*(U182+AB182+$J$23))","v":221358.454428648},{"$f":"1/(0.0000128*(V182+AC182+$K$23))","v":147572.302952432},{"$f":"1/(0.0000128*(W182+AD182+$L$23))","v":110679.227214324}]
["Recommended Value for the Parallel Voltage Compensation Capacitor:","CP(recommended)",{"$f":"K0*TAN(0.5*pi-фm*pi/180)/(2*pi^2*fco^2*Rload*Cout*uF*Vout_nom/(Vosreg*gm*µS))/uF","v":0.0187379153153072},"\u009dµF",null,null,null,null,null,null,null,null,null,null,null,null,{"$f":"Q182+0.01","v":1.77},{"$f":"(G$5*((90/$G$18)*(90/$G$18))/2)*(1+(SQRT(1+(4/(G$5*((90/$G$18)*(90/$G$18))))*$G$23*(1-(SQRT(2)*Vin_rms_min*(SIN($Q183)/Vout))))))","v":0.272956309676702},{"$f":"(H$5*((90/$G$18)*(90/$G$18))/2)*(1+(SQRT(1+(4/(H$5*((90/$G$18)*(90/$G$18))))*$H$23*(1-(SQRT(2)*Vin_rms_min*(SIN($Q183)/Vout))))))","v":0.267983902653225},{"$f":"(I$5*((90/$G$18)*(90/$G$18))/2)*(1+(SQRT(1+(4/(I$5*((90/$G$18)*(90/$G$18))))*$I$23*(1-(SQRT(2)*Vin_rms_min*(SIN($Q183)/Vout))))))","v":0.264940689899438},{"$f":"(J$5*((90/$G$18)*(90/$G$18))/2)*(1+(SQRT(1+(4/(J$5*((90/$G$18)*(90/$G$18))))*$J$23*(1-(SQRT(2)*Vin_rms_min*(SIN($Q183)/Vout))))))","v":0.270328719723183},{"$f":"(K$5*((90/$G$18)*(90/$G$18))/2)*(1+(SQRT(1+(4/(K$5*((90/$G$18)*(90/$G$18))))*$K$23*(1-(SQRT(2)*Vin_rms_min*(SIN($Q183)/Vout))))))","v":0.405493079584775},{"$f":"(L$5*((90/$G$18)*(90/$G$18))/2)*(1+(SQRT(1+(4/(L$5*((90/$G$18)*(90/$G$18))))*$L$23*(1-(SQRT(2)*Vin_rms_min*(SIN($Q183)/Vout))))))","v":0.540657439446367},null,{"$f":"R183*ABS(1/(Vout/(SQRT(2)*$C$25*SIN($Q183))))","v":0.0832446549947797},{"$f":"S183*ABS(1/(Vout/(SQRT(2)*$C$25*SIN($Q183))))","v":0.0817281987250816},{"$f":"T183*ABS(1/(Vout/(SQRT(2)*$C$25*SIN($Q183))))","v":0.0808000970956859},{"$f":"U183*ABS(1/(Vout/(SQRT(2)*$C$25*SIN($Q183))))","v":0.0824433076311396},{"$f":"V183*ABS(1/(Vout/(SQRT(2)*$C$25*SIN($Q183))))","v":0.123664961446709},{"$f":"W183*ABS(1/(Vout/(SQRT(2)*$C$25*SIN($Q183))))","v":0.164886615262279},null,{"$f":"1/(0.0000128*(R183+Y183+$G$23))","v":40142.3087431197},{"$f":"1/(0.0000128*(S183+Z183+$H$23))","v":84945.0603976175},{"$f":"1/(0.0000128*(T183+AA183+$I$23))","v":109766.085388802},{"$f":"1/(0.0000128*(U183+AB183+$J$23))","v":221460.302807772},{"$f":"1/(0.0000128*(V183+AC183+$K$23))","v":147640.201871848},{"$f":"1/(0.0000128*(W183+AD183+$L$23))","v":110730.151403886}]
["Actual Value for the Parallel Voltage Compensation Capacitor:","CP(actual)",0.02,"\u009dµF",null,null,null,null,null,null,null,null,null,null,null,null,{"$f":"Q183+0.01","v":1.78},{"$f":"(G$5*((90/$G$18)*(90/$G$18))/2)*(1+(SQRT(1+(4/(G$5*((90/$G$18)*(90/$G$18))))*$G$23*(1-(SQRT(2)*Vin_rms_min*(SIN($Q184)/Vout))))))","v":0.273066557235739},{"$f":"(H$5*((90/$G$18)*(90/$G$18))/2)*(1+(SQRT(1+(4/(H$5*((90/$G$18)*(90/$G$18))))*$H$23*(1-(SQRT(2)*Vin_rms_min*(SIN($Q184)/Vout))))))","v":0.26807477548893},{"$f":"(I$5*((90/$G$18)*(90/$G$18))/2)*(1+(SQRT(1+(4/(I$5*((90/$G$18)*(90/$G$18))))*$I$23*(1-(SQRT(2)*Vin_rms_min*(SIN($Q184)/Vout))))))","v":0.265019748181985},{"$f":"(J$5*((90/$G$18)*(90/$G$18))/2)*(1+(SQRT(1+(4/(J$5*((90/$G$18)*(90/$G$18))))*$J$23*(1-(SQRT(2)*Vin_rms_min*(SIN($Q184)/Vout))))))","v":0.270328719723183},{"$f":"(K$5*((90/$G$18)*(90/$G$18))/2)*(1+(SQRT(1+(4/(K$5*((90/$G$18)*(90/$G$18))))*$K$23*(1-(SQRT(2)*Vin_rms_min*(SIN($Q184)/Vout))))))","v":0.405493079584775},{"$f":"(L$5*((90/$G$18)*(90/$G$18))/2)*(1+(SQRT(1+(4/(L$5*((90/$G$18)*(90/$G$18))))*$L$23*(1-(SQRT(2)*Vin_rms_min*(SIN($Q184)/Vout))))))","v":0.540657439446367},null,{"$f":"R184*ABS(1/(Vout/(SQRT(2)*$C$25*SIN($Q184))))","v":0.0831059934681391},{"$f":"S184*ABS(1/(Vout/(SQRT(2)*$C$25*SIN($Q184))))","v":0.0815867778401096},{"$f":"T184*ABS(1/(Vout/(SQRT(2)*$C$25*SIN($Q184))))","v":0.0806570005653453},{"$f":"U184*ABS(1/(Vout/(SQRT(2)*$C$25*SIN($Q184))))","v":0.0822727508010816},{"$f":"V184*ABS(1/(Vout/(SQRT(2)*$C$25*SIN($Q184))))","v":0.123409126201622},{"$f":"W184*ABS(1/(Vout/(SQRT(2)*$C$25*SIN($Q184))))","v":0.164545501602163},null,{"$f":"1/(0.0000128*(R184+Y184+$G$23))","v":40142.8948176996},{"$f":"1/(0.0000128*(S184+Z184+$H$23))","v":84949.7292968256},{"$f":"1/(0.0000128*(T184+AA184+$I$23))","v":109775.962383924},{"$f":"1/(0.0000128*(U184+AB184+$J$23))","v":221567.425353729},{"$f":"1/(0.0000128*(V184+AC184+$K$23))","v":147711.616902486},{"$f":"1/(0.0000128*(W184+AD184+$L$23))","v":110783.712676864}]
["Recommended Value for the Voltage Compensation Capacitor:","CZ(recommended)",{"$f":"K0*(Vosreg*gm*µS)/(Vout_nom*2*pi*fco)/uF-Cp","v":0.20431300464746},"\u009dµF",null,null,null,null,null,null,null,null,null,null,null,null,{"$f":"Q184+0.01","v":1.79},{"$f":"(G$5*((90/$G$18)*(90/$G$18))/2)*(1+(SQRT(1+(4/(G$5*((90/$G$18)*(90/$G$18))))*$G$23*(1-(SQRT(2)*Vin_rms_min*(SIN($Q185)/Vout))))))","v":0.273182069833964},{"$f":"(H$5*((90/$G$18)*(90/$G$18))/2)*(1+(SQRT(1+(4/(H$5*((90/$G$18)*(90/$G$18))))*$H$23*(1-(SQRT(2)*Vin_rms_min*(SIN($Q185)/Vout))))))","v":0.268169990382828},{"$f":"(I$5*((90/$G$18)*(90/$G$18))/2)*(1+(SQRT(1+(4/(I$5*((90/$G$18)*(90/$G$18))))*$I$23*(1-(SQRT(2)*Vin_rms_min*(SIN($Q185)/Vout))))))","v":0.265102586055421},{"$f":"(J$5*((90/$G$18)*(90/$G$18))/2)*(1+(SQRT(1+(4/(J$5*((90/$G$18)*(90/$G$18))))*$J$23*(1-(SQRT(2)*Vin_rms_min*(SIN($Q185)/Vout))))))","v":0.270328719723183},{"$f":"(K$5*((90/$G$18)*(90/$G$18))/2)*(1+(SQRT(1+(4/(K$5*((90/$G$18)*(90/$G$18))))*$K$23*(1-(SQRT(2)*Vin_rms_min*(SIN($Q185)/Vout))))))","v":0.405493079584775},{"$f":"(L$5*((90/$G$18)*(90/$G$18))/2)*(1+(SQRT(1+(4/(L$5*((90/$G$18)*(90/$G$18))))*$L$23*(1-(SQRT(2)*Vin_rms_min*(SIN($Q185)/Vout))))))","v":0.540657439446367},null,{"$f":"R185*ABS(1/(Vout/(SQRT(2)*$C$25*SIN($Q185))))","v":0.0829604778381399},{"$f":"S185*ABS(1/(Vout/(SQRT(2)*$C$25*SIN($Q185))))","v":0.0814383995169613},{"$f":"T185*ABS(1/(Vout/(SQRT(2)*$C$25*SIN($Q185))))","v":0.0805068840303148},{"$f":"U185*ABS(1/(Vout/(SQRT(2)*$C$25*SIN($Q185))))","v":0.082093966764504},{"$f":"V185*ABS(1/(Vout/(SQRT(2)*$C$25*SIN($Q185))))","v":0.123140950146756},{"$f":"W185*ABS(1/(Vout/(SQRT(2)*$C$25*SIN($Q185))))","v":0.164187933529008},null,{"$f":"1/(0.0000128*(R185+Y185+$G$23))","v":40143.5136873452},{"$f":"1/(0.0000128*(S185+Z185+$H$23))","v":84954.6403208798},{"$f":"1/(0.0000128*(T185+AA185+$I$23))","v":109786.341081981},{"$f":"1/(0.0000128*(U185+AB185+$J$23))","v":221679.826513466},{"$f":"1/(0.0000128*(V185+AC185+$K$23))","v":147786.551008977},{"$f":"1/(0.0000128*(W185+AD185+$L$23))","v":110839.913256733}]
["Actual Value Used for CZ Capacitor:","CZ(actual)",0.2,"\u009dµF",{"$f":"IF(Rz>1.1*C187,\"USE A SMALLER VALUE FOR VCOMP RESISTOR\",IF(Rz<0.9*C187,\"USE A LARGER VALUE FOR VCOMP RESISTOR\",\"\"))","v":""},null,null,null,null,null,null,null,null,null,null,null,{"$f":"Q185+0.01","v":1.8},{"$f":"(G$5*((90/$G$18)*(90/$G$18))/2)*(1+(SQRT(1+(4/(G$5*((90/$G$18)*(90/$G$18))))*$G$23*(1-(SQRT(2)*Vin_rms_min*(SIN($Q186)/Vout))))))","v":0.273302828519908},{"$f":"(H$5*((90/$G$18)*(90/$G$18))/2)*(1+(SQRT(1+(4/(H$5*((90/$G$18)*(90/$G$18))))*$H$23*(1-(SQRT(2)*Vin_rms_min*(SIN($Q186)/Vout))))))","v":0.268269532029838},{"$f":"(I$5*((90/$G$18)*(90/$G$18))/2)*(1+(SQRT(1+(4/(I$5*((90/$G$18)*(90/$G$18))))*$I$23*(1-(SQRT(2)*Vin_rms_min*(SIN($Q186)/Vout))))))","v":0.265189190488121},{"$f":"(J$5*((90/$G$18)*(90/$G$18))/2)*(1+(SQRT(1+(4/(J$5*((90/$G$18)*(90/$G$18))))*$J$23*(1-(SQRT(2)*Vin_rms_min*(SIN($Q186)/Vout))))))","v":0.270328719723183},{"$f":"(K$5*((90/$G$18)*(90/$G$18))/2)*(1+(SQRT(1+(4/(K$5*((90/$G$18)*(90/$G$18))))*$K$23*(1-(SQRT(2)*Vin_rms_min*(SIN($Q186)/Vout))))))","v":0.405493079584775},{"$f":"(L$5*((90/$G$18)*(90/$G$18))/2)*(1+(SQRT(1+(4/(L$5*((90/$G$18)*(90/$G$18))))*$L$23*(1-(SQRT(2)*Vin_rms_min*(SIN($Q186)/Vout))))))","v":0.540657439446367},null,{"$f":"R186*ABS(1/(Vout/(SQRT(2)*$C$25*SIN($Q186))))","v":0.0828080994448351},{"$f":"S186*ABS(1/(Vout/(SQRT(2)*$C$25*SIN($Q186))))","v":0.0812830595521189},{"$f":"T186*ABS(1/(Vout/(SQRT(2)*$C$25*SIN($Q186))))","v":0.0803497460182197},{"$f":"U186*ABS(1/(Vout/(SQRT(2)*$C$25*SIN($Q186))))","v":0.0819069733996613},{"$f":"V186*ABS(1/(Vout/(SQRT(2)*$C$25*SIN($Q186))))","v":0.122860460099492},{"$f":"W186*ABS(1/(Vout/(SQRT(2)*$C$25*SIN($Q186))))","v":0.163813946799323},null,{"$f":"1/(0.0000128*(R186+Y186+$G$23))","v":40144.1659246545},{"$f":"1/(0.0000128*(S186+Z186+$H$23))","v":84959.7953561277},{"$f":"1/(0.0000128*(T186+AA186+$I$23))","v":109797.224005188},{"$f":"1/(0.0000128*(U186+AB186+$J$23))","v":221797.510943201},{"$f":"1/(0.0000128*(V186+AC186+$K$23))","v":147865.007295467},{"$f":"1/(0.0000128*(W186+AD186+$L$23))","v":110898.7554716}]
["Recommended Value for the Voltage Compensation Resistor:","RZ(recommended)",{"$f":"Rload*Cout/(2*Cz)/kΩ","v":275},"kW",null,null,null,null,null,null,null,null,null,null,null,null,{"$f":"Q186+0.01","v":1.81},{"$f":"(G$5*((90/$G$18)*(90/$G$18))/2)*(1+(SQRT(1+(4/(G$5*((90/$G$18)*(90/$G$18))))*$G$23*(1-(SQRT(2)*Vin_rms_min*(SIN($Q187)/Vout))))))","v":0.273428813513612},{"$f":"(H$5*((90/$G$18)*(90/$G$18))/2)*(1+(SQRT(1+(4/(H$5*((90/$G$18)*(90/$G$18))))*$H$23*(1-(SQRT(2)*Vin_rms_min*(SIN($Q187)/Vout))))))","v":0.268373384453941},{"$f":"(I$5*((90/$G$18)*(90/$G$18))/2)*(1+(SQRT(1+(4/(I$5*((90/$G$18)*(90/$G$18))))*$I$23*(1-(SQRT(2)*Vin_rms_min*(SIN($Q187)/Vout))))))","v":0.265279547875571},{"$f":"(J$5*((90/$G$18)*(90/$G$18))/2)*(1+(SQRT(1+(4/(J$5*((90/$G$18)*(90/$G$18))))*$J$23*(1-(SQRT(2)*Vin_rms_min*(SIN($Q187)/Vout))))))","v":0.270328719723183},{"$f":"(K$5*((90/$G$18)*(90/$G$18))/2)*(1+(SQRT(1+(4/(K$5*((90/$G$18)*(90/$G$18))))*$K$23*(1-(SQRT(2)*Vin_rms_min*(SIN($Q187)/Vout))))))","v":0.405493079584775},{"$f":"(L$5*((90/$G$18)*(90/$G$18))/2)*(1+(SQRT(1+(4/(L$5*((90/$G$18)*(90/$G$18))))*$L$23*(1-(SQRT(2)*Vin_rms_min*(SIN($Q187)/Vout))))))","v":0.540657439446367},null,{"$f":"R187*ABS(1/(Vout/(SQRT(2)*$C$25*SIN($Q187))))","v":0.0826488493348492},{"$f":"S187*ABS(1/(Vout/(SQRT(2)*$C$25*SIN($Q187))))","v":0.081120753633059},{"$f":"T187*ABS(1/(Vout/(SQRT(2)*$C$25*SIN($Q187))))","v":0.0801855850604913},{"$f":"U187*ABS(1/(Vout/(SQRT(2)*$C$25*SIN($Q187))))","v":0.0817117894057343},{"$f":"V187*ABS(1/(Vout/(SQRT(2)*$C$25*SIN($Q187))))","v":0.122567684108601},{"$f":"W187*ABS(1/(Vout/(SQRT(2)*$C$25*SIN($Q187))))","v":0.163423578811469},null,{"$f":"1/(0.0000128*(R187+Y187+$G$23))","v":40144.8521256078},{"$f":"1/(0.0000128*(S187+Z187+$H$23))","v":84965.1963660566},{"$f":"1/(0.0000128*(T187+AA187+$I$23))","v":109808.61377928},{"$f":"1/(0.0000128*(U187+AB187+$J$23))","v":221920.483507171},{"$f":"1/(0.0000128*(V187+AC187+$K$23))","v":147946.989004781},{"$f":"1/(0.0000128*(W187+AD187+$L$23))","v":110960.241753585}]
["Actual Value Used for RZ Resistor:","RZ(actual)",275,"kW",null,null,null,null,null,null,null,null,null,null,null,null,{"$f":"Q187+0.01","v":1.82},{"$f":"(G$5*((90/$G$18)*(90/$G$18))/2)*(1+(SQRT(1+(4/(G$5*((90/$G$18)*(90/$G$18))))*$G$23*(1-(SQRT(2)*Vin_rms_min*(SIN($Q188)/Vout))))))","v":0.273560004214064},{"$f":"(H$5*((90/$G$18)*(90/$G$18))/2)*(1+(SQRT(1+(4/(H$5*((90/$G$18)*(90/$G$18))))*$H$23*(1-(SQRT(2)*Vin_rms_min*(SIN($Q188)/Vout))))))","v":0.268481531013952},{"$f":"(I$5*((90/$G$18)*(90/$G$18))/2)*(1+(SQRT(1+(4/(I$5*((90/$G$18)*(90/$G$18))))*$I$23*(1-(SQRT(2)*Vin_rms_min*(SIN($Q188)/Vout))))))","v":0.265373644045063},{"$f":"(J$5*((90/$G$18)*(90/$G$18))/2)*(1+(SQRT(1+(4/(J$5*((90/$G$18)*(90/$G$18))))*$J$23*(1-(SQRT(2)*Vin_rms_min*(SIN($Q188)/Vout))))))","v":0.270328719723183},{"$f":"(K$5*((90/$G$18)*(90/$G$18))/2)*(1+(SQRT(1+(4/(K$5*((90/$G$18)*(90/$G$18))))*$K$23*(1-(SQRT(2)*Vin_rms_min*(SIN($Q188)/Vout))))))","v":0.405493079584775},{"$f":"(L$5*((90/$G$18)*(90/$G$18))/2)*(1+(SQRT(1+(4/(L$5*((90/$G$18)*(90/$G$18))))*$L$23*(1-(SQRT(2)*Vin_rms_min*(SIN($Q188)/Vout))))))","v":0.540657439446367},null,{"$f":"R188*ABS(1/(Vout/(SQRT(2)*$C$25*SIN($Q188))))","v":0.0824827182760486},{"$f":"S188*ABS(1/(Vout/(SQRT(2)*$C$25*SIN($Q188))))","v":0.0809514773498002},{"$f":"T188*ABS(1/(Vout/(SQRT(2)*$C$25*SIN($Q188))))","v":0.0800143997019723},{"$f":"U188*ABS(1/(Vout/(SQRT(2)*$C$25*SIN($Q188))))","v":0.0815084343009596},{"$f":"V188*ABS(1/(Vout/(SQRT(2)*$C$25*SIN($Q188))))","v":0.122262651451439},{"$f":"W188*ABS(1/(Vout/(SQRT(2)*$C$25*SIN($Q188))))","v":0.163016868601919},null,{"$f":"1/(0.0000128*(R188+Y188+$G$23))","v":40145.5729091256},{"$f":"1/(0.0000128*(S188+Z188+$H$23))","v":84970.8453898488},{"$f":"1/(0.0000128*(T188+AA188+$I$23))","v":109820.513131622},{"$f":"1/(0.0000128*(U188+AB188+$J$23))","v":222048.749276317},{"$f":"1/(0.0000128*(V188+AC188+$K$23))","v":148032.499517545},{"$f":"1/(0.0000128*(W188+AD188+$L$23))","v":111024.374638159}]
["Resultant Value of Voltage Compensation Zero:","fZERO",{"$f":"1/(2*pi*(Rz*kΩ)*(Cz*uF))","v":2.89372623803446},"Hz",null,null,null,null,null,null,null,null,null,null,null,null,{"$f":"Q188+0.01","v":1.83},{"$f":"(G$5*((90/$G$18)*(90/$G$18))/2)*(1+(SQRT(1+(4/(G$5*((90/$G$18)*(90/$G$18))))*$G$23*(1-(SQRT(2)*Vin_rms_min*(SIN($Q189)/Vout))))))","v":0.273696379206908},{"$f":"(H$5*((90/$G$18)*(90/$G$18))/2)*(1+(SQRT(1+(4/(H$5*((90/$G$18)*(90/$G$18))))*$H$23*(1-(SQRT(2)*Vin_rms_min*(SIN($Q189)/Vout))))))","v":0.268593954409503},{"$f":"(I$5*((90/$G$18)*(90/$G$18))/2)*(1+(SQRT(1+(4/(I$5*((90/$G$18)*(90/$G$18))))*$I$23*(1-(SQRT(2)*Vin_rms_min*(SIN($Q189)/Vout))))))","v":0.265471464260587},{"$f":"(J$5*((90/$G$18)*(90/$G$18))/2)*(1+(SQRT(1+(4/(J$5*((90/$G$18)*(90/$G$18))))*$J$23*(1-(SQRT(2)*Vin_rms_min*(SIN($Q189)/Vout))))))","v":0.270328719723183},{"$f":"(K$5*((90/$G$18)*(90/$G$18))/2)*(1+(SQRT(1+(4/(K$5*((90/$G$18)*(90/$G$18))))*$K$23*(1-(SQRT(2)*Vin_rms_min*(SIN($Q189)/Vout))))))","v":0.405493079584775},{"$f":"(L$5*((90/$G$18)*(90/$G$18))/2)*(1+(SQRT(1+(4/(L$5*((90/$G$18)*(90/$G$18))))*$L$23*(1-(SQRT(2)*Vin_rms_min*(SIN($Q189)/Vout))))))","v":0.540657439446367},null,{"$f":"R189*ABS(1/(Vout/(SQRT(2)*$C$25*SIN($Q189))))","v":0.0823096967727568},{"$f":"S189*ABS(1/(Vout/(SQRT(2)*$C$25*SIN($Q189))))","v":0.0807752262068797},{"$f":"T189*ABS(1/(Vout/(SQRT(2)*$C$25*SIN($Q189))))","v":0.0798361885108825},{"$f":"U189*ABS(1/(Vout/(SQRT(2)*$C$25*SIN($Q189))))","v":0.0812969284206782},{"$f":"V189*ABS(1/(Vout/(SQRT(2)*$C$25*SIN($Q189))))","v":0.121945392631017},{"$f":"W189*ABS(1/(Vout/(SQRT(2)*$C$25*SIN($Q189))))","v":0.162593856841356},null,{"$f":"1/(0.0000128*(R189+Y189+$G$23))","v":40146.3289166094},{"$f":"1/(0.0000128*(S189+Z189+$H$23))","v":84976.7445408837},{"$f":"1/(0.0000128*(T189+AA189+$I$23))","v":109832.924889254},{"$f":"1/(0.0000128*(U189+AB189+$J$23))","v":222182.313526903},{"$f":"1/(0.0000128*(V189+AC189+$K$23))","v":148121.542351269},{"$f":"1/(0.0000128*(W189+AD189+$L$23))","v":111091.156763452}]
["Resultant Value of Voltage Compensation Pole:","fPOLE",{"$f":"(Cp+Cz)*uF/(2*pi*Rz*kΩ*Cz*uF*Cp*uF)","v":31.8309886183791},"Hz",null,null,null,null,null,null,null,null,null,null,null,null,{"$f":"Q189+0.01","v":1.84},{"$f":"(G$5*((90/$G$18)*(90/$G$18))/2)*(1+(SQRT(1+(4/(G$5*((90/$G$18)*(90/$G$18))))*$G$23*(1-(SQRT(2)*Vin_rms_min*(SIN($Q190)/Vout))))))","v":0.273837916272426},{"$f":"(H$5*((90/$G$18)*(90/$G$18))/2)*(1+(SQRT(1+(4/(H$5*((90/$G$18)*(90/$G$18))))*$H$23*(1-(SQRT(2)*Vin_rms_min*(SIN($Q190)/Vout))))))","v":0.268710636687241},{"$f":"(I$5*((90/$G$18)*(90/$G$18))/2)*(1+(SQRT(1+(4/(I$5*((90/$G$18)*(90/$G$18))))*$I$23*(1-(SQRT(2)*Vin_rms_min*(SIN($Q190)/Vout))))))","v":0.26557299322788},{"$f":"(J$5*((90/$G$18)*(90/$G$18))/2)*(1+(SQRT(1+(4/(J$5*((90/$G$18)*(90/$G$18))))*$J$23*(1-(SQRT(2)*Vin_rms_min*(SIN($Q190)/Vout))))))","v":0.270328719723183},{"$f":"(K$5*((90/$G$18)*(90/$G$18))/2)*(1+(SQRT(1+(4/(K$5*((90/$G$18)*(90/$G$18))))*$K$23*(1-(SQRT(2)*Vin_rms_min*(SIN($Q190)/Vout))))))","v":0.405493079584775},{"$f":"(L$5*((90/$G$18)*(90/$G$18))/2)*(1+(SQRT(1+(4/(L$5*((90/$G$18)*(90/$G$18))))*$L$23*(1-(SQRT(2)*Vin_rms_min*(SIN($Q190)/Vout))))))","v":0.540657439446367},null,{"$f":"R190*ABS(1/(Vout/(SQRT(2)*$C$25*SIN($Q190))))","v":0.0821297750815019},{"$f":"S190*ABS(1/(Vout/(SQRT(2)*$C$25*SIN($Q190))))","v":0.0805919956357502},{"$f":"T190*ABS(1/(Vout/(SQRT(2)*$C$25*SIN($Q190))))","v":0.0796509500891324},{"$f":"U190*ABS(1/(Vout/(SQRT(2)*$C$25*SIN($Q190))))","v":0.0810772929153021},{"$f":"V190*ABS(1/(Vout/(SQRT(2)*$C$25*SIN($Q190))))","v":0.121615939372953},{"$f":"W190*ABS(1/(Vout/(SQRT(2)*$C$25*SIN($Q190))))","v":0.162154585830604},null,{"$f":"1/(0.0000128*(R190+Y190+$G$23))","v":40147.1208114682},{"$f":"1/(0.0000128*(S190+Z190+$H$23))","v":84982.8960051877},{"$f":"1/(0.0000128*(T190+AA190+$I$23))","v":109845.851976861},{"$f":"1/(0.0000128*(U190+AB190+$J$23))","v":222321.181739062},{"$f":"1/(0.0000128*(V190+AC190+$K$23))","v":148214.121159375},{"$f":"1/(0.0000128*(W190+AD190+$L$23))","v":111160.590869531}]
[null,null,null,null,null,null,null,null,null,null,null,null,null,null,null,null,{"$f":"Q190+0.01","v":1.85},{"$f":"(G$5*((90/$G$18)*(90/$G$18))/2)*(1+(SQRT(1+(4/(G$5*((90/$G$18)*(90/$G$18))))*$G$23*(1-(SQRT(2)*Vin_rms_min*(SIN($Q191)/Vout))))))","v":0.273984592393774},{"$f":"(H$5*((90/$G$18)*(90/$G$18))/2)*(1+(SQRT(1+(4/(H$5*((90/$G$18)*(90/$G$18))))*$H$23*(1-(SQRT(2)*Vin_rms_min*(SIN($Q191)/Vout))))))","v":0.26883155924722},{"$f":"(I$5*((90/$G$18)*(90/$G$18))/2)*(1+(SQRT(1+(4/(I$5*((90/$G$18)*(90/$G$18))))*$I$23*(1-(SQRT(2)*Vin_rms_min*(SIN($Q191)/Vout))))))","v":0.265678215099652},{"$f":"(J$5*((90/$G$18)*(90/$G$18))/2)*(1+(SQRT(1+(4/(J$5*((90/$G$18)*(90/$G$18))))*$J$23*(1-(SQRT(2)*Vin_rms_min*(SIN($Q191)/Vout))))))","v":0.270328719723183},{"$f":"(K$5*((90/$G$18)*(90/$G$18))/2)*(1+(SQRT(1+(4/(K$5*((90/$G$18)*(90/$G$18))))*$K$23*(1-(SQRT(2)*Vin_rms_min*(SIN($Q191)/Vout))))))","v":0.405493079584775},{"$f":"(L$5*((90/$G$18)*(90/$G$18))/2)*(1+(SQRT(1+(4/(L$5*((90/$G$18)*(90/$G$18))))*$L$23*(1-(SQRT(2)*Vin_rms_min*(SIN($Q191)/Vout))))))","v":0.540657439446367},null,{"$f":"R191*ABS(1/(Vout/(SQRT(2)*$C$25*SIN($Q191))))","v":0.0819429432272809},{"$f":"S191*ABS(1/(Vout/(SQRT(2)*$C$25*SIN($Q191))))","v":0.080401781007584},{"$f":"T191*ABS(1/(Vout/(SQRT(2)*$C$25*SIN($Q191))))","v":0.0794586830829791},{"$f":"U191*ABS(1/(Vout/(SQRT(2)*$C$25*SIN($Q191))))","v":0.0808495497481985},{"$f":"V191*ABS(1/(Vout/(SQRT(2)*$C$25*SIN($Q191))))","v":0.121274324622298},{"$f":"W191*ABS(1/(Vout/(SQRT(2)*$C$25*SIN($Q191))))","v":0.161699099496397},null,{"$f":"1/(0.0000128*(R191+Y191+$G$23))","v":40147.9492786282},{"$f":"1/(0.0000128*(S191+Z191+$H$23))","v":84989.3020398328},{"$f":"1/(0.0000128*(T191+AA191+$I$23))","v":109859.297414682},{"$f":"1/(0.0000128*(U191+AB191+$J$23))","v":222465.359595283},{"$f":"1/(0.0000128*(V191+AC191+$K$23))","v":148310.239730188},{"$f":"1/(0.0000128*(W191+AD191+$L$23))","v":111232.679797641}]
[null,null,null,null,null,null,null,null,null,null,null,null,null,null,null,null,{"$f":"Q191+0.01","v":1.86},{"$f":"(G$5*((90/$G$18)*(90/$G$18))/2)*(1+(SQRT(1+(4/(G$5*((90/$G$18)*(90/$G$18))))*$G$23*(1-(SQRT(2)*Vin_rms_min*(SIN($Q192)/Vout))))))","v":0.274136383765479},{"$f":"(H$5*((90/$G$18)*(90/$G$18))/2)*(1+(SQRT(1+(4/(H$5*((90/$G$18)*(90/$G$18))))*$H$23*(1-(SQRT(2)*Vin_rms_min*(SIN($Q192)/Vout))))))","v":0.26895670284951},{"$f":"(I$5*((90/$G$18)*(90/$G$18))/2)*(1+(SQRT(1+(4/(I$5*((90/$G$18)*(90/$G$18))))*$I$23*(1-(SQRT(2)*Vin_rms_min*(SIN($Q192)/Vout))))))","v":0.265787113480976},{"$f":"(J$5*((90/$G$18)*(90/$G$18))/2)*(1+(SQRT(1+(4/(J$5*((90/$G$18)*(90/$G$18))))*$J$23*(1-(SQRT(2)*Vin_rms_min*(SIN($Q192)/Vout))))))","v":0.270328719723183},{"$f":"(K$5*((90/$G$18)*(90/$G$18))/2)*(1+(SQRT(1+(4/(K$5*((90/$G$18)*(90/$G$18))))*$K$23*(1-(SQRT(2)*Vin_rms_min*(SIN($Q192)/Vout))))))","v":0.405493079584775},{"$f":"(L$5*((90/$G$18)*(90/$G$18))/2)*(1+(SQRT(1+(4/(L$5*((90/$G$18)*(90/$G$18))))*$L$23*(1-(SQRT(2)*Vin_rms_min*(SIN($Q192)/Vout))))))","v":0.540657439446367},null,{"$f":"R192*ABS(1/(Vout/(SQRT(2)*$C$25*SIN($Q192))))","v":0.0817491910203285},{"$f":"S192*ABS(1/(Vout/(SQRT(2)*$C$25*SIN($Q192))))","v":0.0802045776464754},{"$f":"T192*ABS(1/(Vout/(SQRT(2)*$C$25*SIN($Q192))))","v":0.0792593861940123},{"$f":"U192*ABS(1/(Vout/(SQRT(2)*$C$25*SIN($Q192))))","v":0.0806137216934946},{"$f":"V192*ABS(1/(Vout/(SQRT(2)*$C$25*SIN($Q192))))","v":0.120920582540242},{"$f":"W192*ABS(1/(Vout/(SQRT(2)*$C$25*SIN($Q192))))","v":0.161227443386989},null,{"$f":"1/(0.0000128*(R192+Y192+$G$23))","v":40148.8150240281},{"$f":"1/(0.0000128*(S192+Z192+$H$23))","v":84995.9649712869},{"$f":"1/(0.0000128*(T192+AA192+$I$23))","v":109873.264316342},{"$f":"1/(0.0000128*(U192+AB192+$J$23))","v":222614.852978815},{"$f":"1/(0.0000128*(V192+AC192+$K$23))","v":148409.901985876},{"$f":"1/(0.0000128*(W192+AD192+$L$23))","v":111307.426489407}]
[null,null,null,null,null,null,null,null,null,null,null,null,null,null,null,null,{"$f":"Q192+0.01","v":1.87},{"$f":"(G$5*((90/$G$18)*(90/$G$18))/2)*(1+(SQRT(1+(4/(G$5*((90/$G$18)*(90/$G$18))))*$G$23*(1-(SQRT(2)*Vin_rms_min*(SIN($Q193)/Vout))))))","v":0.274293265802175},{"$f":"(H$5*((90/$G$18)*(90/$G$18))/2)*(1+(SQRT(1+(4/(H$5*((90/$G$18)*(90/$G$18))))*$H$23*(1-(SQRT(2)*Vin_rms_min*(SIN($Q193)/Vout))))))","v":0.269086047620979},{"$f":"(I$5*((90/$G$18)*(90/$G$18))/2)*(1+(SQRT(1+(4/(I$5*((90/$G$18)*(90/$G$18))))*$I$23*(1-(SQRT(2)*Vin_rms_min*(SIN($Q193)/Vout))))))","v":0.265899671434838},{"$f":"(J$5*((90/$G$18)*(90/$G$18))/2)*(1+(SQRT(1+(4/(J$5*((90/$G$18)*(90/$G$18))))*$J$23*(1-(SQRT(2)*Vin_rms_min*(SIN($Q193)/Vout))))))","v":0.270328719723183},{"$f":"(K$5*((90/$G$18)*(90/$G$18))/2)*(1+(SQRT(1+(4/(K$5*((90/$G$18)*(90/$G$18))))*$K$23*(1-(SQRT(2)*Vin_rms_min*(SIN($Q193)/Vout))))))","v":0.405493079584775},{"$f":"(L$5*((90/$G$18)*(90/$G$18))/2)*(1+(SQRT(1+(4/(L$5*((90/$G$18)*(90/$G$18))))*$L$23*(1-(SQRT(2)*Vin_rms_min*(SIN($Q193)/Vout))))))","v":0.540657439446367},null,{"$f":"R193*ABS(1/(Vout/(SQRT(2)*$C$25*SIN($Q193))))","v":0.0815485080733746},{"$f":"S193*ABS(1/(Vout/(SQRT(2)*$C$25*SIN($Q193))))","v":0.0800003808430279},{"$f":"T193*ABS(1/(Vout/(SQRT(2)*$C$25*SIN($Q193))))","v":0.0790530581904631},{"$f":"U193*ABS(1/(Vout/(SQRT(2)*$C$25*SIN($Q193))))","v":0.0803698323337992},{"$f":"V193*ABS(1/(Vout/(SQRT(2)*$C$25*SIN($Q193))))","v":0.120554748500699},{"$f":"W193*ABS(1/(Vout/(SQRT(2)*$C$25*SIN($Q193))))","v":0.160739664667598},null,{"$f":"1/(0.0000128*(R193+Y193+$G$23))","v":40149.7187741004},{"$f":"1/(0.0000128*(S193+Z193+$H$23))","v":85002.8871937145},{"$f":"1/(0.0000128*(T193+AA193+$I$23))","v":109887.755886632},{"$f":"1/(0.0000128*(U193+AB193+$J$23))","v":222769.667972014},{"$f":"1/(0.0000128*(V193+AC193+$K$23))","v":148513.111981343},{"$f":"1/(0.0000128*(W193+AD193+$L$23))","v":111384.833986007}]
[null,null,null,null,null,null,null,null,null,null,null,null,null,null,null,null,{"$f":"Q193+0.01","v":1.88},{"$f":"(G$5*((90/$G$18)*(90/$G$18))/2)*(1+(SQRT(1+(4/(G$5*((90/$G$18)*(90/$G$18))))*$G$23*(1-(SQRT(2)*Vin_rms_min*(SIN($Q194)/Vout))))))","v":0.274455213147584},{"$f":"(H$5*((90/$G$18)*(90/$G$18))/2)*(1+(SQRT(1+(4/(H$5*((90/$G$18)*(90/$G$18))))*$H$23*(1-(SQRT(2)*Vin_rms_min*(SIN($Q194)/Vout))))))","v":0.26921957306228},{"$f":"(I$5*((90/$G$18)*(90/$G$18))/2)*(1+(SQRT(1+(4/(I$5*((90/$G$18)*(90/$G$18))))*$I$23*(1-(SQRT(2)*Vin_rms_min*(SIN($Q194)/Vout))))))","v":0.266015871487838},{"$f":"(J$5*((90/$G$18)*(90/$G$18))/2)*(1+(SQRT(1+(4/(J$5*((90/$G$18)*(90/$G$18))))*$J$23*(1-(SQRT(2)*Vin_rms_min*(SIN($Q194)/Vout))))))","v":0.270328719723183},{"$f":"(K$5*((90/$G$18)*(90/$G$18))/2)*(1+(SQRT(1+(4/(K$5*((90/$G$18)*(90/$G$18))))*$K$23*(1-(SQRT(2)*Vin_rms_min*(SIN($Q194)/Vout))))))","v":0.405493079584775},{"$f":"(L$5*((90/$G$18)*(90/$G$18))/2)*(1+(SQRT(1+(4/(L$5*((90/$G$18)*(90/$G$18))))*$L$23*(1-(SQRT(2)*Vin_rms_min*(SIN($Q194)/Vout))))))","v":0.540657439446367},null,{"$f":"R194*ABS(1/(Vout/(SQRT(2)*$C$25*SIN($Q194))))","v":0.0813408838193753},{"$f":"S194*ABS(1/(Vout/(SQRT(2)*$C$25*SIN($Q194))))","v":0.0797891858683157},{"$f":"T194*ABS(1/(Vout/(SQRT(2)*$C$25*SIN($Q194))))","v":0.0788396979188246},{"$f":"U194*ABS(1/(Vout/(SQRT(2)*$C$25*SIN($Q194))))","v":0.080117906057845},{"$f":"V194*ABS(1/(Vout/(SQRT(2)*$C$25*SIN($Q194))))","v":0.120176859086768},{"$f":"W194*ABS(1/(Vout/(SQRT(2)*$C$25*SIN($Q194))))","v":0.16023581211569},null,{"$f":"1/(0.0000128*(R194+Y194+$G$23))","v":40150.6612752377},{"$f":"1/(0.0000128*(S194+Z194+$H$23))","v":85010.0711672325},{"$f":"1/(0.0000128*(T194+AA194+$I$23))","v":109902.775419217},{"$f":"1/(0.0000128*(U194+AB194+$J$23))","v":222929.810854607},{"$f":"1/(0.0000128*(V194+AC194+$K$23))","v":148619.873903072},{"$f":"1/(0.0000128*(W194+AD194+$L$23))","v":111464.905427304}]
[null,null,null,null,null,null,null,null,null,null,null,null,null,null,null,null,{"$f":"Q194+0.01","v":1.89},{"$f":"(G$5*((90/$G$18)*(90/$G$18))/2)*(1+(SQRT(1+(4/(G$5*((90/$G$18)*(90/$G$18))))*$G$23*(1-(SQRT(2)*Vin_rms_min*(SIN($Q195)/Vout))))))","v":0.274622199683721},{"$f":"(H$5*((90/$G$18)*(90/$G$18))/2)*(1+(SQRT(1+(4/(H$5*((90/$G$18)*(90/$G$18))))*$H$23*(1-(SQRT(2)*Vin_rms_min*(SIN($Q195)/Vout))))))","v":0.269357258055011},{"$f":"(I$5*((90/$G$18)*(90/$G$18))/2)*(1+(SQRT(1+(4/(I$5*((90/$G$18)*(90/$G$18))))*$I$23*(1-(SQRT(2)*Vin_rms_min*(SIN($Q195)/Vout))))))","v":0.266135695636053},{"$f":"(J$5*((90/$G$18)*(90/$G$18))/2)*(1+(SQRT(1+(4/(J$5*((90/$G$18)*(90/$G$18))))*$J$23*(1-(SQRT(2)*Vin_rms_min*(SIN($Q195)/Vout))))))","v":0.270328719723183},{"$f":"(K$5*((90/$G$18)*(90/$G$18))/2)*(1+(SQRT(1+(4/(K$5*((90/$G$18)*(90/$G$18))))*$K$23*(1-(SQRT(2)*Vin_rms_min*(SIN($Q195)/Vout))))))","v":0.405493079584775},{"$f":"(L$5*((90/$G$18)*(90/$G$18))/2)*(1+(SQRT(1+(4/(L$5*((90/$G$18)*(90/$G$18))))*$L$23*(1-(SQRT(2)*Vin_rms_min*(SIN($Q195)/Vout))))))","v":0.540657439446367},null,{"$f":"R195*ABS(1/(Vout/(SQRT(2)*$C$25*SIN($Q195))))","v":0.0811263075297033},{"$f":"S195*ABS(1/(Vout/(SQRT(2)*$C$25*SIN($Q195))))","v":0.0795709879882075},{"$f":"T195*ABS(1/(Vout/(SQRT(2)*$C$25*SIN($Q195))))","v":0.078619304315775},{"$f":"U195*ABS(1/(Vout/(SQRT(2)*$C$25*SIN($Q195))))","v":0.0798579680580498},{"$f":"V195*ABS(1/(Vout/(SQRT(2)*$C$25*SIN($Q195))))","v":0.119786952087075},{"$f":"W195*ABS(1/(Vout/(SQRT(2)*$C$25*SIN($Q195))))","v":0.1597159361161},null,{"$f":"1/(0.0000128*(R195+Y195+$G$23))","v":40151.6432932464},{"$f":"1/(0.0000128*(S195+Z195+$H$23))","v":85017.5194161195},{"$f":"1/(0.0000128*(T195+AA195+$I$23))","v":109918.326294286},{"$f":"1/(0.0000128*(U195+AB195+$J$23))","v":223095.288101888},{"$f":"1/(0.0000128*(V195+AC195+$K$23))","v":148730.192067925},{"$f":"1/(0.0000128*(W195+AD195+$L$23))","v":111547.644050944}]
[null,null,null,null,null,null,null,null,null,null,null,null,null,null,null,null,{"$f":"Q195+0.01","v":1.9},{"$f":"(G$5*((90/$G$18)*(90/$G$18))/2)*(1+(SQRT(1+(4/(G$5*((90/$G$18)*(90/$G$18))))*$G$23*(1-(SQRT(2)*Vin_rms_min*(SIN($Q196)/Vout))))))","v":0.27479419854033},{"$f":"(H$5*((90/$G$18)*(90/$G$18))/2)*(1+(SQRT(1+(4/(H$5*((90/$G$18)*(90/$G$18))))*$H$23*(1-(SQRT(2)*Vin_rms_min*(SIN($Q196)/Vout))))))","v":0.269499080869054},{"$f":"(I$5*((90/$G$18)*(90/$G$18))/2)*(1+(SQRT(1+(4/(I$5*((90/$G$18)*(90/$G$18))))*$I$23*(1-(SQRT(2)*Vin_rms_min*(SIN($Q196)/Vout))))))","v":0.266259125351037},{"$f":"(J$5*((90/$G$18)*(90/$G$18))/2)*(1+(SQRT(1+(4/(J$5*((90/$G$18)*(90/$G$18))))*$J$23*(1-(SQRT(2)*Vin_rms_min*(SIN($Q196)/Vout))))))","v":0.270328719723183},{"$f":"(K$5*((90/$G$18)*(90/$G$18))/2)*(1+(SQRT(1+(4/(K$5*((90/$G$18)*(90/$G$18))))*$K$23*(1-(SQRT(2)*Vin_rms_min*(SIN($Q196)/Vout))))))","v":0.405493079584775},{"$f":"(L$5*((90/$G$18)*(90/$G$18))/2)*(1+(SQRT(1+(4/(L$5*((90/$G$18)*(90/$G$18))))*$L$23*(1-(SQRT(2)*Vin_rms_min*(SIN($Q196)/Vout))))))","v":0.540657439446367},null,{"$f":"R196*ABS(1/(Vout/(SQRT(2)*$C$25*SIN($Q196))))","v":0.0809047683327803},{"$f":"S196*ABS(1/(Vout/(SQRT(2)*$C$25*SIN($Q196))))","v":0.0793457824780388},{"$f":"T196*ABS(1/(Vout/(SQRT(2)*$C$25*SIN($Q196))))","v":0.0783918764203925},{"$f":"U196*ABS(1/(Vout/(SQRT(2)*$C$25*SIN($Q196))))","v":0.0795900443279968},{"$f":"V196*ABS(1/(Vout/(SQRT(2)*$C$25*SIN($Q196))))","v":0.119385066491995},{"$f":"W196*ABS(1/(Vout/(SQRT(2)*$C$25*SIN($Q196))))","v":0.159180088655994},null,{"$f":"1/(0.0000128*(R196+Y196+$G$23))","v":40152.6656127864},{"$f":"1/(0.0000128*(S196+Z196+$H$23))","v":85025.2345269828},{"$f":"1/(0.0000128*(T196+AA196+$I$23))","v":109934.411976144},{"$f":"1/(0.0000128*(U196+AB196+$J$23))","v":223266.106382832},{"$f":"1/(0.0000128*(V196+AC196+$K$23))","v":148844.070921888},{"$f":"1/(0.0000128*(W196+AD196+$L$23))","v":111633.053191416}]
[null,null,null,null,null,null,null,null,null,null,null,null,null,null,null,null,{"$f":"Q196+0.01","v":1.91},{"$f":"(G$5*((90/$G$18)*(90/$G$18))/2)*(1+(SQRT(1+(4/(G$5*((90/$G$18)*(90/$G$18))))*$G$23*(1-(SQRT(2)*Vin_rms_min*(SIN($Q197)/Vout))))))","v":0.274971182104529},{"$f":"(H$5*((90/$G$18)*(90/$G$18))/2)*(1+(SQRT(1+(4/(H$5*((90/$G$18)*(90/$G$18))))*$H$23*(1-(SQRT(2)*Vin_rms_min*(SIN($Q197)/Vout))))))","v":0.269645019170086},{"$f":"(I$5*((90/$G$18)*(90/$G$18))/2)*(1+(SQRT(1+(4/(I$5*((90/$G$18)*(90/$G$18))))*$I$23*(1-(SQRT(2)*Vin_rms_min*(SIN($Q197)/Vout))))))","v":0.266386141585968},{"$f":"(J$5*((90/$G$18)*(90/$G$18))/2)*(1+(SQRT(1+(4/(J$5*((90/$G$18)*(90/$G$18))))*$J$23*(1-(SQRT(2)*Vin_rms_min*(SIN($Q197)/Vout))))))","v":0.270328719723183},{"$f":"(K$5*((90/$G$18)*(90/$G$18))/2)*(1+(SQRT(1+(4/(K$5*((90/$G$18)*(90/$G$18))))*$K$23*(1-(SQRT(2)*Vin_rms_min*(SIN($Q197)/Vout))))))","v":0.405493079584775},{"$f":"(L$5*((90/$G$18)*(90/$G$18))/2)*(1+(SQRT(1+(4/(L$5*((90/$G$18)*(90/$G$18))))*$L$23*(1-(SQRT(2)*Vin_rms_min*(SIN($Q197)/Vout))))))","v":0.540657439446367},null,{"$f":"R197*ABS(1/(Vout/(SQRT(2)*$C$25*SIN($Q197))))","v":0.0806762552331373},{"$f":"S197*ABS(1/(Vout/(SQRT(2)*$C$25*SIN($Q197))))","v":0.0791135646376224},{"$f":"T197*ABS(1/(Vout/(SQRT(2)*$C$25*SIN($Q197))))","v":0.0781574133866525},{"$f":"U197*ABS(1/(Vout/(SQRT(2)*$C$25*SIN($Q197))))","v":0.0793141616598359},{"$f":"V197*ABS(1/(Vout/(SQRT(2)*$C$25*SIN($Q197))))","v":0.118971242489754},{"$f":"W197*ABS(1/(Vout/(SQRT(2)*$C$25*SIN($Q197))))","v":0.158628323319672},null,{"$f":"1/(0.0000128*(R197+Y197+$G$23))","v":40153.7290367995},{"$f":"1/(0.0000128*(S197+Z197+$H$23))","v":85033.2191468821},{"$f":"1/(0.0000128*(T197+AA197+$I$23))","v":109951.036010749},{"$f":"1/(0.0000128*(U197+AB197+$J$23))","v":223442.272558146},{"$f":"1/(0.0000128*(V197+AC197+$K$23))","v":148961.515038764},{"$f":"1/(0.0000128*(W197+AD197+$L$23))","v":111721.136279073}]
[null,null,null,null,null,null,null,null,null,null,null,null,null,null,null,null,{"$f":"Q197+0.01","v":1.92},{"$f":"(G$5*((90/$G$18)*(90/$G$18))/2)*(1+(SQRT(1+(4/(G$5*((90/$G$18)*(90/$G$18))))*$G$23*(1-(SQRT(2)*Vin_rms_min*(SIN($Q198)/Vout))))))","v":0.27515312203066},{"$f":"(H$5*((90/$G$18)*(90/$G$18))/2)*(1+(SQRT(1+(4/(H$5*((90/$G$18)*(90/$G$18))))*$H$23*(1-(SQRT(2)*Vin_rms_min*(SIN($Q198)/Vout))))))","v":0.269795050027253},{"$f":"(I$5*((90/$G$18)*(90/$G$18))/2)*(1+(SQRT(1+(4/(I$5*((90/$G$18)*(90/$G$18))))*$I$23*(1-(SQRT(2)*Vin_rms_min*(SIN($Q198)/Vout))))))","v":0.266516724781929},{"$f":"(J$5*((90/$G$18)*(90/$G$18))/2)*(1+(SQRT(1+(4/(J$5*((90/$G$18)*(90/$G$18))))*$J$23*(1-(SQRT(2)*Vin_rms_min*(SIN($Q198)/Vout))))))","v":0.270328719723183},{"$f":"(K$5*((90/$G$18)*(90/$G$18))/2)*(1+(SQRT(1+(4/(K$5*((90/$G$18)*(90/$G$18))))*$K$23*(1-(SQRT(2)*Vin_rms_min*(SIN($Q198)/Vout))))))","v":0.405493079584775},{"$f":"(L$5*((90/$G$18)*(90/$G$18))/2)*(1+(SQRT(1+(4/(L$5*((90/$G$18)*(90/$G$18))))*$L$23*(1-(SQRT(2)*Vin_rms_min*(SIN($Q198)/Vout))))))","v":0.540657439446367},null,{"$f":"R198*ABS(1/(Vout/(SQRT(2)*$C$25*SIN($Q198))))","v":0.0804407571308851},{"$f":"S198*ABS(1/(Vout/(SQRT(2)*$C$25*SIN($Q198))))","v":0.078874329806583},{"$f":"T198*ABS(1/(Vout/(SQRT(2)*$C$25*SIN($Q198))))","v":0.0779159144961953},{"$f":"U198*ABS(1/(Vout/(SQRT(2)*$C$25*SIN($Q198))))","v":0.0790303476416038},{"$f":"V198*ABS(1/(Vout/(SQRT(2)*$C$25*SIN($Q198))))","v":0.118545521462406},{"$f":"W198*ABS(1/(Vout/(SQRT(2)*$C$25*SIN($Q198))))","v":0.158060695283208},null,{"$f":"1/(0.0000128*(R198+Y198+$G$23))","v":40154.8343859244},{"$f":"1/(0.0000128*(S198+Z198+$H$23))","v":85041.4759814144},{"$f":"1/(0.0000128*(T198+AA198+$I$23))","v":109968.202023183},{"$f":"1/(0.0000128*(U198+AB198+$J$23))","v":223623.793678224},{"$f":"1/(0.0000128*(V198+AC198+$K$23))","v":149082.529118816},{"$f":"1/(0.0000128*(W198+AD198+$L$23))","v":111811.896839112}]
[null,null,null,null,null,null,null,null,null,null,null,null,null,null,null,null,{"$f":"Q198+0.01","v":1.93},{"$f":"(G$5*((90/$G$18)*(90/$G$18))/2)*(1+(SQRT(1+(4/(G$5*((90/$G$18)*(90/$G$18))))*$G$23*(1-(SQRT(2)*Vin_rms_min*(SIN($Q199)/Vout))))))","v":0.275339989250345},{"$f":"(H$5*((90/$G$18)*(90/$G$18))/2)*(1+(SQRT(1+(4/(H$5*((90/$G$18)*(90/$G$18))))*$H$23*(1-(SQRT(2)*Vin_rms_min*(SIN($Q199)/Vout))))))","v":0.269949149920998},{"$f":"(I$5*((90/$G$18)*(90/$G$18))/2)*(1+(SQRT(1+(4/(I$5*((90/$G$18)*(90/$G$18))))*$I$23*(1-(SQRT(2)*Vin_rms_min*(SIN($Q199)/Vout))))))","v":0.266650854874328},{"$f":"(J$5*((90/$G$18)*(90/$G$18))/2)*(1+(SQRT(1+(4/(J$5*((90/$G$18)*(90/$G$18))))*$J$23*(1-(SQRT(2)*Vin_rms_min*(SIN($Q199)/Vout))))))","v":0.270328719723183},{"$f":"(K$5*((90/$G$18)*(90/$G$18))/2)*(1+(SQRT(1+(4/(K$5*((90/$G$18)*(90/$G$18))))*$K$23*(1-(SQRT(2)*Vin_rms_min*(SIN($Q199)/Vout))))))","v":0.405493079584775},{"$f":"(L$5*((90/$G$18)*(90/$G$18))/2)*(1+(SQRT(1+(4/(L$5*((90/$G$18)*(90/$G$18))))*$L$23*(1-(SQRT(2)*Vin_rms_min*(SIN($Q199)/Vout))))))","v":0.540657439446367},null,{"$f":"R199*ABS(1/(Vout/(SQRT(2)*$C$25*SIN($Q199))))","v":0.0801982628415797},{"$f":"S199*ABS(1/(Vout/(SQRT(2)*$C$25*SIN($Q199))))","v":0.0786280733800025},{"$f":"T199*ABS(1/(Vout/(SQRT(2)*$C$25*SIN($Q199))))","v":0.0776673791713547},{"$f":"U199*ABS(1/(Vout/(SQRT(2)*$C$25*SIN($Q199))))","v":0.0787386306544661},{"$f":"V199*ABS(1/(Vout/(SQRT(2)*$C$25*SIN($Q199))))","v":0.118107945981699},{"$f":"W199*ABS(1/(Vout/(SQRT(2)*$C$25*SIN($Q199))))","v":0.157477261308932},null,{"$f":"1/(0.0000128*(R199+Y199+$G$23))","v":40155.9824979009},{"$f":"1/(0.0000128*(S199+Z199+$H$23))","v":85050.0077927579},{"$f":"1/(0.0000128*(T199+AA199+$I$23))","v":109985.913715085},{"$f":"1/(0.0000128*(U199+AB199+$J$23))","v":223810.676981041},{"$f":"1/(0.0000128*(V199+AC199+$K$23))","v":149207.117987361},{"$f":"1/(0.0000128*(W199+AD199+$L$23))","v":111905.338490521}]
[null,null,null,null,null,null,null,null,null,null,null,null,null,null,null,null,{"$f":"Q199+0.01","v":1.94},{"$f":"(G$5*((90/$G$18)*(90/$G$18))/2)*(1+(SQRT(1+(4/(G$5*((90/$G$18)*(90/$G$18))))*$G$23*(1-(SQRT(2)*Vin_rms_min*(SIN($Q200)/Vout))))))","v":0.275531753982727},{"$f":"(H$5*((90/$G$18)*(90/$G$18))/2)*(1+(SQRT(1+(4/(H$5*((90/$G$18)*(90/$G$18))))*$H$23*(1-(SQRT(2)*Vin_rms_min*(SIN($Q200)/Vout))))))","v":0.270107294751051},{"$f":"(I$5*((90/$G$18)*(90/$G$18))/2)*(1+(SQRT(1+(4/(I$5*((90/$G$18)*(90/$G$18))))*$I$23*(1-(SQRT(2)*Vin_rms_min*(SIN($Q200)/Vout))))))","v":0.266788511299438},{"$f":"(J$5*((90/$G$18)*(90/$G$18))/2)*(1+(SQRT(1+(4/(J$5*((90/$G$18)*(90/$G$18))))*$J$23*(1-(SQRT(2)*Vin_rms_min*(SIN($Q200)/Vout))))))","v":0.270328719723183},{"$f":"(K$5*((90/$G$18)*(90/$G$18))/2)*(1+(SQRT(1+(4/(K$5*((90/$G$18)*(90/$G$18))))*$K$23*(1-(SQRT(2)*Vin_rms_min*(SIN($Q200)/Vout))))))","v":0.405493079584775},{"$f":"(L$5*((90/$G$18)*(90/$G$18))/2)*(1+(SQRT(1+(4/(L$5*((90/$G$18)*(90/$G$18))))*$L$23*(1-(SQRT(2)*Vin_rms_min*(SIN($Q200)/Vout))))))","v":0.540657439446367},null,{"$f":"R200*ABS(1/(Vout/(SQRT(2)*$C$25*SIN($Q200))))","v":0.0799487611164648},{"$f":"S200*ABS(1/(Vout/(SQRT(2)*$C$25*SIN($Q200))))","v":0.0783747908243641},{"$f":"T200*ABS(1/(Vout/(SQRT(2)*$C$25*SIN($Q200))))","v":0.0774118069884359},{"$f":"U200*ABS(1/(Vout/(SQRT(2)*$C$25*SIN($Q200))))","v":0.0784390398698781},{"$f":"V200*ABS(1/(Vout/(SQRT(2)*$C$25*SIN($Q200))))","v":0.117658559804817},{"$f":"W200*ABS(1/(Vout/(SQRT(2)*$C$25*SIN($Q200))))","v":0.156878079739756},null,{"$f":"1/(0.0000128*(R200+Y200+$G$23))","v":40157.174226963},{"$f":"1/(0.0000128*(S200+Z200+$H$23))","v":85058.8173976805},{"$f":"1/(0.0000128*(T200+AA200+$I$23))","v":110004.174862018},{"$f":"1/(0.0000128*(U200+AB200+$J$23))","v":224002.929889951},{"$f":"1/(0.0000128*(V200+AC200+$K$23))","v":149335.286593301},{"$f":"1/(0.0000128*(W200+AD200+$L$23))","v":112001.464944976}]
[null,null,null,null,null,null,null,null,null,null,null,null,null,null,null,null,{"$f":"Q200+0.01","v":1.95},{"$f":"(G$5*((90/$G$18)*(90/$G$18))/2)*(1+(SQRT(1+(4/(G$5*((90/$G$18)*(90/$G$18))))*$G$23*(1-(SQRT(2)*Vin_rms_min*(SIN($Q201)/Vout))))))","v":0.27572838574489},{"$f":"(H$5*((90/$G$18)*(90/$G$18))/2)*(1+(SQRT(1+(4/(H$5*((90/$G$18)*(90/$G$18))))*$H$23*(1-(SQRT(2)*Vin_rms_min*(SIN($Q201)/Vout))))))","v":0.270269459844554},{"$f":"(I$5*((90/$G$18)*(90/$G$18))/2)*(1+(SQRT(1+(4/(I$5*((90/$G$18)*(90/$G$18))))*$I$23*(1-(SQRT(2)*Vin_rms_min*(SIN($Q201)/Vout))))))","v":0.266929673001064},{"$f":"(J$5*((90/$G$18)*(90/$G$18))/2)*(1+(SQRT(1+(4/(J$5*((90/$G$18)*(90/$G$18))))*$J$23*(1-(SQRT(2)*Vin_rms_min*(SIN($Q201)/Vout))))))","v":0.270328719723183},{"$f":"(K$5*((90/$G$18)*(90/$G$18))/2)*(1+(SQRT(1+(4/(K$5*((90/$G$18)*(90/$G$18))))*$K$23*(1-(SQRT(2)*Vin_rms_min*(SIN($Q201)/Vout))))))","v":0.405493079584775},{"$f":"(L$5*((90/$G$18)*(90/$G$18))/2)*(1+(SQRT(1+(4/(L$5*((90/$G$18)*(90/$G$18))))*$L$23*(1-(SQRT(2)*Vin_rms_min*(SIN($Q201)/Vout))))))","v":0.540657439446367},null,{"$f":"R201*ABS(1/(Vout/(SQRT(2)*$C$25*SIN($Q201))))","v":0.0796922406630754},{"$f":"S201*ABS(1/(Vout/(SQRT(2)*$C$25*SIN($Q201))))","v":0.0781144776937816},{"$f":"T201*ABS(1/(Vout/(SQRT(2)*$C$25*SIN($Q201))))","v":0.0771491976912321},{"$f":"U201*ABS(1/(Vout/(SQRT(2)*$C$25*SIN($Q201))))","v":0.0781316052466689},{"$f":"V201*ABS(1/(Vout/(SQRT(2)*$C$25*SIN($Q201))))","v":0.117197407870003},{"$f":"W201*ABS(1/(Vout/(SQRT(2)*$C$25*SIN($Q201))))","v":0.156263210493338},null,{"$f":"1/(0.0000128*(R201+Y201+$G$23))","v":40158.4104432214},{"$f":"1/(0.0000128*(S201+Z201+$H$23))","v":85067.9076655114},{"$f":"1/(0.0000128*(T201+AA201+$I$23))","v":110022.989310795},{"$f":"1/(0.0000128*(U201+AB201+$J$23))","v":224200.560011413},{"$f":"1/(0.0000128*(V201+AC201+$K$23))","v":149467.040007609},{"$f":"1/(0.0000128*(W201+AD201+$L$23))","v":112100.280005707}]
[null,null,null,null,null,null,null,null,null,null,null,null,null,null,null,null,{"$f":"Q201+0.01","v":1.96},{"$f":"(G$5*((90/$G$18)*(90/$G$18))/2)*(1+(SQRT(1+(4/(G$5*((90/$G$18)*(90/$G$18))))*$G$23*(1-(SQRT(2)*Vin_rms_min*(SIN($Q202)/Vout))))))","v":0.275929853362463},{"$f":"(H$5*((90/$G$18)*(90/$G$18))/2)*(1+(SQRT(1+(4/(H$5*((90/$G$18)*(90/$G$18))))*$H$23*(1-(SQRT(2)*Vin_rms_min*(SIN($Q202)/Vout))))))","v":0.270435619964333},{"$f":"(I$5*((90/$G$18)*(90/$G$18))/2)*(1+(SQRT(1+(4/(I$5*((90/$G$18)*(90/$G$18))))*$I$23*(1-(SQRT(2)*Vin_rms_min*(SIN($Q202)/Vout))))))","v":0.267074318437327},{"$f":"(J$5*((90/$G$18)*(90/$G$18))/2)*(1+(SQRT(1+(4/(J$5*((90/$G$18)*(90/$G$18))))*$J$23*(1-(SQRT(2)*Vin_rms_min*(SIN($Q202)/Vout))))))","v":0.270328719723183},{"$f":"(K$5*((90/$G$18)*(90/$G$18))/2)*(1+(SQRT(1+(4/(K$5*((90/$G$18)*(90/$G$18))))*$K$23*(1-(SQRT(2)*Vin_rms_min*(SIN($Q202)/Vout))))))","v":0.405493079584775},{"$f":"(L$5*((90/$G$18)*(90/$G$18))/2)*(1+(SQRT(1+(4/(L$5*((90/$G$18)*(90/$G$18))))*$L$23*(1-(SQRT(2)*Vin_rms_min*(SIN($Q202)/Vout))))))","v":0.540657439446367},null,{"$f":"R202*ABS(1/(Vout/(SQRT(2)*$C$25*SIN($Q202))))","v":0.0794286901661853},{"$f":"S202*ABS(1/(Vout/(SQRT(2)*$C$25*SIN($Q202))))","v":0.0778471296464995},{"$f":"T202*ABS(1/(Vout/(SQRT(2)*$C$25*SIN($Q202))))","v":0.0768795512047678},{"$f":"U202*ABS(1/(Vout/(SQRT(2)*$C$25*SIN($Q202))))","v":0.0778163575280444},{"$f":"V202*ABS(1/(Vout/(SQRT(2)*$C$25*SIN($Q202))))","v":0.116724536292067},{"$f":"W202*ABS(1/(Vout/(SQRT(2)*$C$25*SIN($Q202))))","v":0.155632715056089},null,{"$f":"1/(0.0000128*(R202+Y202+$G$23))","v":40159.6920320357},{"$f":"1/(0.0000128*(S202+Z202+$H$23))","v":85077.2815160792},{"$f":"1/(0.0000128*(T202+AA202+$I$23))","v":110042.360976756},{"$f":"1/(0.0000128*(U202+AB202+$J$23))","v":224403.575132627},{"$f":"1/(0.0000128*(V202+AC202+$K$23))","v":149602.383421751},{"$f":"1/(0.0000128*(W202+AD202+$L$23))","v":112201.787566313}]
[null,null,null,null,null,null,null,null,null,null,null,null,null,null,null,null,{"$f":"Q202+0.01","v":1.97},{"$f":"(G$5*((90/$G$18)*(90/$G$18))/2)*(1+(SQRT(1+(4/(G$5*((90/$G$18)*(90/$G$18))))*$G$23*(1-(SQRT(2)*Vin_rms_min*(SIN($Q203)/Vout))))))","v":0.276136124980377},{"$f":"(H$5*((90/$G$18)*(90/$G$18))/2)*(1+(SQRT(1+(4/(H$5*((90/$G$18)*(90/$G$18))))*$H$23*(1-(SQRT(2)*Vin_rms_min*(SIN($Q203)/Vout))))))","v":0.270605749317297},{"$f":"(I$5*((90/$G$18)*(90/$G$18))/2)*(1+(SQRT(1+(4/(I$5*((90/$G$18)*(90/$G$18))))*$I$23*(1-(SQRT(2)*Vin_rms_min*(SIN($Q203)/Vout))))))","v":0.26722242558756},{"$f":"(J$5*((90/$G$18)*(90/$G$18))/2)*(1+(SQRT(1+(4/(J$5*((90/$G$18)*(90/$G$18))))*$J$23*(1-(SQRT(2)*Vin_rms_min*(SIN($Q203)/Vout))))))","v":0.270328719723183},{"$f":"(K$5*((90/$G$18)*(90/$G$18))/2)*(1+(SQRT(1+(4/(K$5*((90/$G$18)*(90/$G$18))))*$K$23*(1-(SQRT(2)*Vin_rms_min*(SIN($Q203)/Vout))))))","v":0.405493079584775},{"$f":"(L$5*((90/$G$18)*(90/$G$18))/2)*(1+(SQRT(1+(4/(L$5*((90/$G$18)*(90/$G$18))))*$L$23*(1-(SQRT(2)*Vin_rms_min*(SIN($Q203)/Vout))))))","v":0.540657439446367},null,{"$f":"R203*ABS(1/(Vout/(SQRT(2)*$C$25*SIN($Q203))))","v":0.0791580983090805},{"$f":"S203*ABS(1/(Vout/(SQRT(2)*$C$25*SIN($Q203))))","v":0.0775727424616508},{"$f":"T203*ABS(1/(Vout/(SQRT(2)*$C$25*SIN($Q203))))","v":0.0766028676492589},{"$f":"U203*ABS(1/(Vout/(SQRT(2)*$C$25*SIN($Q203))))","v":0.0774933282385139},{"$f":"V203*ABS(1/(Vout/(SQRT(2)*$C$25*SIN($Q203))))","v":0.116239992357771},{"$f":"W203*ABS(1/(Vout/(SQRT(2)*$C$25*SIN($Q203))))","v":0.154986656477028},null,{"$f":"1/(0.0000128*(R203+Y203+$G$23))","v":40161.0198933774},{"$f":"1/(0.0000128*(S203+Z203+$H$23))","v":85086.9419176165},{"$f":"1/(0.0000128*(T203+AA203+$I$23))","v":110062.293840993},{"$f":"1/(0.0000128*(U203+AB203+$J$23))","v":224611.983219083},{"$f":"1/(0.0000128*(V203+AC203+$K$23))","v":149741.322146056},{"$f":"1/(0.0000128*(W203+AD203+$L$23))","v":112305.991609542}]
[null,null,null,null,null,null,null,null,null,null,null,null,null,null,null,null,{"$f":"Q203+0.01","v":1.98},{"$f":"(G$5*((90/$G$18)*(90/$G$18))/2)*(1+(SQRT(1+(4/(G$5*((90/$G$18)*(90/$G$18))))*$G$23*(1-(SQRT(2)*Vin_rms_min*(SIN($Q204)/Vout))))))","v":0.276347168073785},{"$f":"(H$5*((90/$G$18)*(90/$G$18))/2)*(1+(SQRT(1+(4/(H$5*((90/$G$18)*(90/$G$18))))*$H$23*(1-(SQRT(2)*Vin_rms_min*(SIN($Q204)/Vout))))))","v":0.27077982156297},{"$f":"(I$5*((90/$G$18)*(90/$G$18))/2)*(1+(SQRT(1+(4/(I$5*((90/$G$18)*(90/$G$18))))*$I$23*(1-(SQRT(2)*Vin_rms_min*(SIN($Q204)/Vout))))))","v":0.267373971959313},{"$f":"(J$5*((90/$G$18)*(90/$G$18))/2)*(1+(SQRT(1+(4/(J$5*((90/$G$18)*(90/$G$18))))*$J$23*(1-(SQRT(2)*Vin_rms_min*(SIN($Q204)/Vout))))))","v":0.270328719723183},{"$f":"(K$5*((90/$G$18)*(90/$G$18))/2)*(1+(SQRT(1+(4/(K$5*((90/$G$18)*(90/$G$18))))*$K$23*(1-(SQRT(2)*Vin_rms_min*(SIN($Q204)/Vout))))))","v":0.405493079584775},{"$f":"(L$5*((90/$G$18)*(90/$G$18))/2)*(1+(SQRT(1+(4/(L$5*((90/$G$18)*(90/$G$18))))*$L$23*(1-(SQRT(2)*Vin_rms_min*(SIN($Q204)/Vout))))))","v":0.540657439446367},null,{"$f":"R204*ABS(1/(Vout/(SQRT(2)*$C$25*SIN($Q204))))","v":0.0788804537951418},{"$f":"S204*ABS(1/(Vout/(SQRT(2)*$C$25*SIN($Q204))))","v":0.0772913120562598},{"$f":"T204*ABS(1/(Vout/(SQRT(2)*$C$25*SIN($Q204))))","v":0.0763191473542762},{"$f":"U204*ABS(1/(Vout/(SQRT(2)*$C$25*SIN($Q204))))","v":0.0771625496807371},{"$f":"V204*ABS(1/(Vout/(SQRT(2)*$C$25*SIN($Q204))))","v":0.115743824521106},{"$f":"W204*ABS(1/(Vout/(SQRT(2)*$C$25*SIN($Q204))))","v":0.154325099361474},null,{"$f":"1/(0.0000128*(R204+Y204+$G$23))","v":40162.394941184},{"$f":"1/(0.0000128*(S204+Z204+$H$23))","v":85096.8918846352},{"$f":"1/(0.0000128*(T204+AA204+$I$23))","v":110082.791947542},{"$f":"1/(0.0000128*(U204+AB204+$J$23))","v":224825.792412034},{"$f":"1/(0.0000128*(V204+AC204+$K$23))","v":149883.861608023},{"$f":"1/(0.0000128*(W204+AD204+$L$23))","v":112412.896206017}]
[null,null,null,null,null,null,null,null,null,null,null,null,null,null,null,null,{"$f":"Q204+0.01","v":1.99},{"$f":"(G$5*((90/$G$18)*(90/$G$18))/2)*(1+(SQRT(1+(4/(G$5*((90/$G$18)*(90/$G$18))))*$G$23*(1-(SQRT(2)*Vin_rms_min*(SIN($Q205)/Vout))))))","v":0.276562949459131},{"$f":"(H$5*((90/$G$18)*(90/$G$18))/2)*(1+(SQRT(1+(4/(H$5*((90/$G$18)*(90/$G$18))))*$H$23*(1-(SQRT(2)*Vin_rms_min*(SIN($Q205)/Vout))))))","v":0.270957809822137},{"$f":"(I$5*((90/$G$18)*(90/$G$18))/2)*(1+(SQRT(1+(4/(I$5*((90/$G$18)*(90/$G$18))))*$I$23*(1-(SQRT(2)*Vin_rms_min*(SIN($Q205)/Vout))))))","v":0.267528934595459},{"$f":"(J$5*((90/$G$18)*(90/$G$18))/2)*(1+(SQRT(1+(4/(J$5*((90/$G$18)*(90/$G$18))))*$J$23*(1-(SQRT(2)*Vin_rms_min*(SIN($Q205)/Vout))))))","v":0.270328719723183},{"$f":"(K$5*((90/$G$18)*(90/$G$18))/2)*(1+(SQRT(1+(4/(K$5*((90/$G$18)*(90/$G$18))))*$K$23*(1-(SQRT(2)*Vin_rms_min*(SIN($Q205)/Vout))))))","v":0.405493079584775},{"$f":"(L$5*((90/$G$18)*(90/$G$18))/2)*(1+(SQRT(1+(4/(L$5*((90/$G$18)*(90/$G$18))))*$L$23*(1-(SQRT(2)*Vin_rms_min*(SIN($Q205)/Vout))))))","v":0.540657439446367},null,{"$f":"R205*ABS(1/(Vout/(SQRT(2)*$C$25*SIN($Q205))))","v":0.0785957453697193},{"$f":"S205*ABS(1/(Vout/(SQRT(2)*$C$25*SIN($Q205))))","v":0.0770028345024739},{"$f":"T205*ABS(1/(Vout/(SQRT(2)*$C$25*SIN($Q205))))","v":0.076028390873103},{"$f":"U205*ABS(1/(Vout/(SQRT(2)*$C$25*SIN($Q205))))","v":0.0768240549322941},{"$f":"V205*ABS(1/(Vout/(SQRT(2)*$C$25*SIN($Q205))))","v":0.115236082398441},{"$f":"W205*ABS(1/(Vout/(SQRT(2)*$C$25*SIN($Q205))))","v":0.153648109864588},null,{"$f":"1/(0.0000128*(R205+Y205+$G$23))","v":40163.8181027045},{"$f":"1/(0.0000128*(S205+Z205+$H$23))","v":85107.134475771},{"$f":"1/(0.0000128*(T205+AA205+$I$23))","v":110103.859400521},{"$f":"1/(0.0000128*(U205+AB205+$J$23))","v":225045.011025861},{"$f":"1/(0.0000128*(V205+AC205+$K$23))","v":150030.007350574},{"$f":"1/(0.0000128*(W205+AD205+$L$23))","v":112522.50551293}]
[null,null,null,null,null,null,null,null,null,null,null,null,null,null,null,null,{"$f":"Q205+0.01","v":2},{"$f":"(G$5*((90/$G$18)*(90/$G$18))/2)*(1+(SQRT(1+(4/(G$5*((90/$G$18)*(90/$G$18))))*$G$23*(1-(SQRT(2)*Vin_rms_min*(SIN($Q206)/Vout))))))","v":0.276783435305353},{"$f":"(H$5*((90/$G$18)*(90/$G$18))/2)*(1+(SQRT(1+(4/(H$5*((90/$G$18)*(90/$G$18))))*$H$23*(1-(SQRT(2)*Vin_rms_min*(SIN($Q206)/Vout))))))","v":0.271139686685608},{"$f":"(I$5*((90/$G$18)*(90/$G$18))/2)*(1+(SQRT(1+(4/(I$5*((90/$G$18)*(90/$G$18))))*$I$23*(1-(SQRT(2)*Vin_rms_min*(SIN($Q206)/Vout))))))","v":0.267687290081401},{"$f":"(J$5*((90/$G$18)*(90/$G$18))/2)*(1+(SQRT(1+(4/(J$5*((90/$G$18)*(90/$G$18))))*$J$23*(1-(SQRT(2)*Vin_rms_min*(SIN($Q206)/Vout))))))","v":0.270328719723183},{"$f":"(K$5*((90/$G$18)*(90/$G$18))/2)*(1+(SQRT(1+(4/(K$5*((90/$G$18)*(90/$G$18))))*$K$23*(1-(SQRT(2)*Vin_rms_min*(SIN($Q206)/Vout))))))","v":0.405493079584775},{"$f":"(L$5*((90/$G$18)*(90/$G$18))/2)*(1+(SQRT(1+(4/(L$5*((90/$G$18)*(90/$G$18))))*$L$23*(1-(SQRT(2)*Vin_rms_min*(SIN($Q206)/Vout))))))","v":0.540657439446367},null,{"$f":"R206*ABS(1/(Vout/(SQRT(2)*$C$25*SIN($Q206))))","v":0.0783039618422795},{"$f":"S206*ABS(1/(Vout/(SQRT(2)*$C$25*SIN($Q206))))","v":0.0767073060450122},{"$f":"T206*ABS(1/(Vout/(SQRT(2)*$C$25*SIN($Q206))))","v":0.0757305989972727},{"$f":"U206*ABS(1/(Vout/(SQRT(2)*$C$25*SIN($Q206))))","v":0.0764778778423777},{"$f":"V206*ABS(1/(Vout/(SQRT(2)*$C$25*SIN($Q206))))","v":0.114716816763567},{"$f":"W206*ABS(1/(Vout/(SQRT(2)*$C$25*SIN($Q206))))","v":0.152955755684755},null,{"$f":"1/(0.0000128*(R206+Y206+$G$23))","v":40165.2903178367},{"$f":"1/(0.0000128*(S206+Z206+$H$23))","v":85117.6727916011},{"$f":"1/(0.0000128*(T206+AA206+$I$23))","v":110125.500361235},{"$f":"1/(0.0000128*(U206+AB206+$J$23))","v":225269.647545362},{"$f":"1/(0.0000128*(V206+AC206+$K$23))","v":150179.765030241},{"$f":"1/(0.0000128*(W206+AD206+$L$23))","v":112634.823772681}]
[null,null,null,null,null,null,null,null,null,null,null,null,null,null,null,null,{"$f":"Q206+0.01","v":2.01},{"$f":"(G$5*((90/$G$18)*(90/$G$18))/2)*(1+(SQRT(1+(4/(G$5*((90/$G$18)*(90/$G$18))))*$G$23*(1-(SQRT(2)*Vin_rms_min*(SIN($Q207)/Vout))))))","v":0.277008591145222},{"$f":"(H$5*((90/$G$18)*(90/$G$18))/2)*(1+(SQRT(1+(4/(H$5*((90/$G$18)*(90/$G$18))))*$H$23*(1-(SQRT(2)*Vin_rms_min*(SIN($Q207)/Vout))))))","v":0.27132542422309},{"$f":"(I$5*((90/$G$18)*(90/$G$18))/2)*(1+(SQRT(1+(4/(I$5*((90/$G$18)*(90/$G$18))))*$I$23*(1-(SQRT(2)*Vin_rms_min*(SIN($Q207)/Vout))))))","v":0.267849014552363},{"$f":"(J$5*((90/$G$18)*(90/$G$18))/2)*(1+(SQRT(1+(4/(J$5*((90/$G$18)*(90/$G$18))))*$J$23*(1-(SQRT(2)*Vin_rms_min*(SIN($Q207)/Vout))))))","v":0.270328719723183},{"$f":"(K$5*((90/$G$18)*(90/$G$18))/2)*(1+(SQRT(1+(4/(K$5*((90/$G$18)*(90/$G$18))))*$K$23*(1-(SQRT(2)*Vin_rms_min*(SIN($Q207)/Vout))))))","v":0.405493079584775},{"$f":"(L$5*((90/$G$18)*(90/$G$18))/2)*(1+(SQRT(1+(4/(L$5*((90/$G$18)*(90/$G$18))))*$L$23*(1-(SQRT(2)*Vin_rms_min*(SIN($Q207)/Vout))))))","v":0.540657439446367},null,{"$f":"R207*ABS(1/(Vout/(SQRT(2)*$C$25*SIN($Q207))))","v":0.0780050921088099},{"$f":"S207*ABS(1/(Vout/(SQRT(2)*$C$25*SIN($Q207))))","v":0.0764047231188163},{"$f":"T207*ABS(1/(Vout/(SQRT(2)*$C$25*SIN($Q207))))","v":0.075425772771277},{"$f":"U207*ABS(1/(Vout/(SQRT(2)*$C$25*SIN($Q207))))","v":0.0761240530284085},{"$f":"V207*ABS(1/(Vout/(SQRT(2)*$C$25*SIN($Q207))))","v":0.114186079542613},{"$f":"W207*ABS(1/(Vout/(SQRT(2)*$C$25*SIN($Q207))))","v":0.152248106056817},null,{"$f":"1/(0.0000128*(R207+Y207+$G$23))","v":40166.8125384578},{"$f":"1/(0.0000128*(S207+Z207+$H$23))","v":85128.5099724353},{"$f":"1/(0.0000128*(T207+AA207+$I$23))","v":110147.719045245},{"$f":"1/(0.0000128*(U207+AB207+$J$23))","v":225499.710622942},{"$f":"1/(0.0000128*(V207+AC207+$K$23))","v":150333.140415295},{"$f":"1/(0.0000128*(W207+AD207+$L$23))","v":112749.855311471}]
[null,null,null,null,null,null,null,null,null,null,null,null,null,null,null,null,{"$f":"Q207+0.01","v":2.02},{"$f":"(G$5*((90/$G$18)*(90/$G$18))/2)*(1+(SQRT(1+(4/(G$5*((90/$G$18)*(90/$G$18))))*$G$23*(1-(SQRT(2)*Vin_rms_min*(SIN($Q208)/Vout))))))","v":0.2772383818868},{"$f":"(H$5*((90/$G$18)*(90/$G$18))/2)*(1+(SQRT(1+(4/(H$5*((90/$G$18)*(90/$G$18))))*$H$23*(1-(SQRT(2)*Vin_rms_min*(SIN($Q208)/Vout))))))","v":0.271514993992151},{"$f":"(I$5*((90/$G$18)*(90/$G$18))/2)*(1+(SQRT(1+(4/(I$5*((90/$G$18)*(90/$G$18))))*$I$23*(1-(SQRT(2)*Vin_rms_min*(SIN($Q208)/Vout))))))","v":0.26801408370078},{"$f":"(J$5*((90/$G$18)*(90/$G$18))/2)*(1+(SQRT(1+(4/(J$5*((90/$G$18)*(90/$G$18))))*$J$23*(1-(SQRT(2)*Vin_rms_min*(SIN($Q208)/Vout))))))","v":0.270328719723183},{"$f":"(K$5*((90/$G$18)*(90/$G$18))/2)*(1+(SQRT(1+(4/(K$5*((90/$G$18)*(90/$G$18))))*$K$23*(1-(SQRT(2)*Vin_rms_min*(SIN($Q208)/Vout))))))","v":0.405493079584775},{"$f":"(L$5*((90/$G$18)*(90/$G$18))/2)*(1+(SQRT(1+(4/(L$5*((90/$G$18)*(90/$G$18))))*$L$23*(1-(SQRT(2)*Vin_rms_min*(SIN($Q208)/Vout))))))","v":0.540657439446367},null,{"$f":"R208*ABS(1/(Vout/(SQRT(2)*$C$25*SIN($Q208))))","v":0.0776991251744607},{"$f":"S208*ABS(1/(Vout/(SQRT(2)*$C$25*SIN($Q208))))","v":0.0760950823668888},{"$f":"T208*ABS(1/(Vout/(SQRT(2)*$C$25*SIN($Q208))))","v":0.0751139135074312},{"$f":"U208*ABS(1/(Vout/(SQRT(2)*$C$25*SIN($Q208))))","v":0.0757626158725729},{"$f":"V208*ABS(1/(Vout/(SQRT(2)*$C$25*SIN($Q208))))","v":0.113643923808859},{"$f":"W208*ABS(1/(Vout/(SQRT(2)*$C$25*SIN($Q208))))","v":0.151525231745146},null,{"$f":"1/(0.0000128*(R208+Y208+$G$23))","v":40168.3857277473},{"$f":"1/(0.0000128*(S208+Z208+$H$23))","v":85139.6491960835},{"$f":"1/(0.0000128*(T208+AA208+$I$23))","v":110170.519719392},{"$f":"1/(0.0000128*(U208+AB208+$J$23))","v":225735.209075711},{"$f":"1/(0.0000128*(V208+AC208+$K$23))","v":150490.139383807},{"$f":"1/(0.0000128*(W208+AD208+$L$23))","v":112867.604537855}]
[null,null,null,null,null,null,null,null,null,null,null,null,null,null,null,null,{"$f":"Q208+0.01","v":2.03},{"$f":"(G$5*((90/$G$18)*(90/$G$18))/2)*(1+(SQRT(1+(4/(G$5*((90/$G$18)*(90/$G$18))))*$G$23*(1-(SQRT(2)*Vin_rms_min*(SIN($Q209)/Vout))))))","v":0.277472771825016},{"$f":"(H$5*((90/$G$18)*(90/$G$18))/2)*(1+(SQRT(1+(4/(H$5*((90/$G$18)*(90/$G$18))))*$H$23*(1-(SQRT(2)*Vin_rms_min*(SIN($Q209)/Vout))))))","v":0.27170836704729},{"$f":"(I$5*((90/$G$18)*(90/$G$18))/2)*(1+(SQRT(1+(4/(I$5*((90/$G$18)*(90/$G$18))))*$I$23*(1-(SQRT(2)*Vin_rms_min*(SIN($Q209)/Vout))))))","v":0.26818247278376},{"$f":"(J$5*((90/$G$18)*(90/$G$18))/2)*(1+(SQRT(1+(4/(J$5*((90/$G$18)*(90/$G$18))))*$J$23*(1-(SQRT(2)*Vin_rms_min*(SIN($Q209)/Vout))))))","v":0.270328719723183},{"$f":"(K$5*((90/$G$18)*(90/$G$18))/2)*(1+(SQRT(1+(4/(K$5*((90/$G$18)*(90/$G$18))))*$K$23*(1-(SQRT(2)*Vin_rms_min*(SIN($Q209)/Vout))))))","v":0.405493079584775},{"$f":"(L$5*((90/$G$18)*(90/$G$18))/2)*(1+(SQRT(1+(4/(L$5*((90/$G$18)*(90/$G$18))))*$L$23*(1-(SQRT(2)*Vin_rms_min*(SIN($Q209)/Vout))))))","v":0.540657439446367},null,{"$f":"R209*ABS(1/(Vout/(SQRT(2)*$C$25*SIN($Q209))))","v":0.0773860501764071},{"$f":"S209*ABS(1/(Vout/(SQRT(2)*$C$25*SIN($Q209))))","v":0.0757783806583056},{"$f":"T209*ABS(1/(Vout/(SQRT(2)*$C$25*SIN($Q209))))","v":0.0747950228008854},{"$f":"U209*ABS(1/(Vout/(SQRT(2)*$C$25*SIN($Q209))))","v":0.0753936025182853},{"$f":"V209*ABS(1/(Vout/(SQRT(2)*$C$25*SIN($Q209))))","v":0.113090403777428},{"$f":"W209*ABS(1/(Vout/(SQRT(2)*$C$25*SIN($Q209))))","v":0.150787205036571},null,{"$f":"1/(0.0000128*(R209+Y209+$G$23))","v":40170.0108595043},{"$f":"1/(0.0000128*(S209+Z209+$H$23))","v":85151.0936755991},{"$f":"1/(0.0000128*(T209+AA209+$I$23))","v":110193.906698795},{"$f":"1/(0.0000128*(U209+AB209+$J$23))","v":225976.151882475},{"$f":"1/(0.0000128*(V209+AC209+$K$23))","v":150650.76792165},{"$f":"1/(0.0000128*(W209+AD209+$L$23))","v":112988.075941237}]
[null,null,null,null,null,null,null,null,null,null,null,null,null,null,null,null,{"$f":"Q209+0.01","v":2.04},{"$f":"(G$5*((90/$G$18)*(90/$G$18))/2)*(1+(SQRT(1+(4/(G$5*((90/$G$18)*(90/$G$18))))*$G$23*(1-(SQRT(2)*Vin_rms_min*(SIN($Q210)/Vout))))))","v":0.27771172465334},{"$f":"(H$5*((90/$G$18)*(90/$G$18))/2)*(1+(SQRT(1+(4/(H$5*((90/$G$18)*(90/$G$18))))*$H$23*(1-(SQRT(2)*Vin_rms_min*(SIN($Q210)/Vout))))))","v":0.271905513949092},{"$f":"(I$5*((90/$G$18)*(90/$G$18))/2)*(1+(SQRT(1+(4/(I$5*((90/$G$18)*(90/$G$18))))*$I$23*(1-(SQRT(2)*Vin_rms_min*(SIN($Q210)/Vout))))))","v":0.268354156630628},{"$f":"(J$5*((90/$G$18)*(90/$G$18))/2)*(1+(SQRT(1+(4/(J$5*((90/$G$18)*(90/$G$18))))*$J$23*(1-(SQRT(2)*Vin_rms_min*(SIN($Q210)/Vout))))))","v":0.270328719723183},{"$f":"(K$5*((90/$G$18)*(90/$G$18))/2)*(1+(SQRT(1+(4/(K$5*((90/$G$18)*(90/$G$18))))*$K$23*(1-(SQRT(2)*Vin_rms_min*(SIN($Q210)/Vout))))))","v":0.405493079584775},{"$f":"(L$5*((90/$G$18)*(90/$G$18))/2)*(1+(SQRT(1+(4/(L$5*((90/$G$18)*(90/$G$18))))*$L$23*(1-(SQRT(2)*Vin_rms_min*(SIN($Q210)/Vout))))))","v":0.540657439446367},null,{"$f":"R210*ABS(1/(Vout/(SQRT(2)*$C$25*SIN($Q210))))","v":0.0770658564069143},{"$f":"S210*ABS(1/(Vout/(SQRT(2)*$C$25*SIN($Q210))))","v":0.0754546151063879},{"$f":"T210*ABS(1/(Vout/(SQRT(2)*$C$25*SIN($Q210))))","v":0.0744691025447702},{"$f":"U210*ABS(1/(Vout/(SQRT(2)*$C$25*SIN($Q210))))","v":0.0750170498665737},{"$f":"V210*ABS(1/(Vout/(SQRT(2)*$C$25*SIN($Q210))))","v":0.112525574799861},{"$f":"W210*ABS(1/(Vout/(SQRT(2)*$C$25*SIN($Q210))))","v":0.150034099733147},null,{"$f":"1/(0.0000128*(R210+Y210+$G$23))","v":40171.6889174585},{"$f":"1/(0.0000128*(S210+Z210+$H$23))","v":85162.8466570027},{"$f":"1/(0.0000128*(T210+AA210+$I$23))","v":110217.884343815},{"$f":"1/(0.0000128*(U210+AB210+$J$23))","v":226222.548180643},{"$f":"1/(0.0000128*(V210+AC210+$K$23))","v":150815.032120429},{"$f":"1/(0.0000128*(W210+AD210+$L$23))","v":113111.274090321}]
[null,null,null,null,null,null,null,null,null,null,null,null,null,null,null,null,{"$f":"Q210+0.01","v":2.05},{"$f":"(G$5*((90/$G$18)*(90/$G$18))/2)*(1+(SQRT(1+(4/(G$5*((90/$G$18)*(90/$G$18))))*$G$23*(1-(SQRT(2)*Vin_rms_min*(SIN($Q211)/Vout))))))","v":0.277955203475563},{"$f":"(H$5*((90/$G$18)*(90/$G$18))/2)*(1+(SQRT(1+(4/(H$5*((90/$G$18)*(90/$G$18))))*$H$23*(1-(SQRT(2)*Vin_rms_min*(SIN($Q211)/Vout))))))","v":0.272106404773455},{"$f":"(I$5*((90/$G$18)*(90/$G$18))/2)*(1+(SQRT(1+(4/(I$5*((90/$G$18)*(90/$G$18))))*$I$23*(1-(SQRT(2)*Vin_rms_min*(SIN($Q211)/Vout))))))","v":0.268529109650545},{"$f":"(J$5*((90/$G$18)*(90/$G$18))/2)*(1+(SQRT(1+(4/(J$5*((90/$G$18)*(90/$G$18))))*$J$23*(1-(SQRT(2)*Vin_rms_min*(SIN($Q211)/Vout))))))","v":0.270328719723183},{"$f":"(K$5*((90/$G$18)*(90/$G$18))/2)*(1+(SQRT(1+(4/(K$5*((90/$G$18)*(90/$G$18))))*$K$23*(1-(SQRT(2)*Vin_rms_min*(SIN($Q211)/Vout))))))","v":0.405493079584775},{"$f":"(L$5*((90/$G$18)*(90/$G$18))/2)*(1+(SQRT(1+(4/(L$5*((90/$G$18)*(90/$G$18))))*$L$23*(1-(SQRT(2)*Vin_rms_min*(SIN($Q211)/Vout))))))","v":0.540657439446367},null,{"$f":"R211*ABS(1/(Vout/(SQRT(2)*$C$25*SIN($Q211))))","v":0.0767385333365867},{"$f":"S211*ABS(1/(Vout/(SQRT(2)*$C$25*SIN($Q211))))","v":0.0751237830870195},{"$f":"T211*ABS(1/(Vout/(SQRT(2)*$C$25*SIN($Q211))))","v":0.0741361549454639},{"$f":"U211*ABS(1/(Vout/(SQRT(2)*$C$25*SIN($Q211))))","v":0.0746329955723895},{"$f":"V211*ABS(1/(Vout/(SQRT(2)*$C$25*SIN($Q211))))","v":0.111949493358584},{"$f":"W211*ABS(1/(Vout/(SQRT(2)*$C$25*SIN($Q211))))","v":0.149265991144779},null,{"$f":"1/(0.0000128*(R211+Y211+$G$23))","v":40173.4208945759},{"$f":"1/(0.0000128*(S211+Z211+$H$23))","v":85174.9114169845},{"$f":"1/(0.0000128*(T211+AA211+$I$23))","v":110242.457056982},{"$f":"1/(0.0000128*(U211+AB211+$J$23))","v":226474.407263021},{"$f":"1/(0.0000128*(V211+AC211+$K$23))","v":150982.938175348},{"$f":"1/(0.0000128*(W211+AD211+$L$23))","v":113237.203631511}]
[null,null,null,null,null,null,null,null,null,null,null,null,null,null,null,null,{"$f":"Q211+0.01","v":2.06},{"$f":"(G$5*((90/$G$18)*(90/$G$18))/2)*(1+(SQRT(1+(4/(G$5*((90/$G$18)*(90/$G$18))))*$G$23*(1-(SQRT(2)*Vin_rms_min*(SIN($Q212)/Vout))))))","v":0.278203170817656},{"$f":"(H$5*((90/$G$18)*(90/$G$18))/2)*(1+(SQRT(1+(4/(H$5*((90/$G$18)*(90/$G$18))))*$H$23*(1-(SQRT(2)*Vin_rms_min*(SIN($Q212)/Vout))))))","v":0.272311009120908},{"$f":"(I$5*((90/$G$18)*(90/$G$18))/2)*(1+(SQRT(1+(4/(I$5*((90/$G$18)*(90/$G$18))))*$I$23*(1-(SQRT(2)*Vin_rms_min*(SIN($Q212)/Vout))))))","v":0.268707305840183},{"$f":"(J$5*((90/$G$18)*(90/$G$18))/2)*(1+(SQRT(1+(4/(J$5*((90/$G$18)*(90/$G$18))))*$J$23*(1-(SQRT(2)*Vin_rms_min*(SIN($Q212)/Vout))))))","v":0.270328719723183},{"$f":"(K$5*((90/$G$18)*(90/$G$18))/2)*(1+(SQRT(1+(4/(K$5*((90/$G$18)*(90/$G$18))))*$K$23*(1-(SQRT(2)*Vin_rms_min*(SIN($Q212)/Vout))))))","v":0.405493079584775},{"$f":"(L$5*((90/$G$18)*(90/$G$18))/2)*(1+(SQRT(1+(4/(L$5*((90/$G$18)*(90/$G$18))))*$L$23*(1-(SQRT(2)*Vin_rms_min*(SIN($Q212)/Vout))))))","v":0.540657439446367},null,{"$f":"R212*ABS(1/(Vout/(SQRT(2)*$C$25*SIN($Q212))))","v":0.0764040706377834},{"$f":"S212*ABS(1/(Vout/(SQRT(2)*$C$25*SIN($Q212))))","v":0.0747858822570957},{"$f":"T212*ABS(1/(Vout/(SQRT(2)*$C$25*SIN($Q212))))","v":0.07379618253797},{"$f":"U212*ABS(1/(Vout/(SQRT(2)*$C$25*SIN($Q212))))","v":0.074241478040842},{"$f":"V212*ABS(1/(Vout/(SQRT(2)*$C$25*SIN($Q212))))","v":0.111362217061263},{"$f":"W212*ABS(1/(Vout/(SQRT(2)*$C$25*SIN($Q212))))","v":0.148482956081684},null,{"$f":"1/(0.0000128*(R212+Y212+$G$23))","v":40175.2077923599},{"$f":"1/(0.0000128*(S212+Z212+$H$23))","v":85187.2912605904},{"$f":"1/(0.0000128*(T212+AA212+$I$23))","v":110267.629279903},{"$f":"1/(0.0000128*(U212+AB212+$J$23))","v":226731.738574509},{"$f":"1/(0.0000128*(V212+AC212+$K$23))","v":151154.492383006},{"$f":"1/(0.0000128*(W212+AD212+$L$23))","v":113365.869287255}]
[null,null,null,null,null,null,null,null,null,null,null,null,null,null,null,null,{"$f":"Q212+0.01","v":2.07},{"$f":"(G$5*((90/$G$18)*(90/$G$18))/2)*(1+(SQRT(1+(4/(G$5*((90/$G$18)*(90/$G$18))))*$G$23*(1-(SQRT(2)*Vin_rms_min*(SIN($Q213)/Vout))))))","v":0.278455588639719},{"$f":"(H$5*((90/$G$18)*(90/$G$18))/2)*(1+(SQRT(1+(4/(H$5*((90/$G$18)*(90/$G$18))))*$H$23*(1-(SQRT(2)*Vin_rms_min*(SIN($Q213)/Vout))))))","v":0.272519296125981},{"$f":"(I$5*((90/$G$18)*(90/$G$18))/2)*(1+(SQRT(1+(4/(I$5*((90/$G$18)*(90/$G$18))))*$I$23*(1-(SQRT(2)*Vin_rms_min*(SIN($Q213)/Vout))))))","v":0.268888718791476},{"$f":"(J$5*((90/$G$18)*(90/$G$18))/2)*(1+(SQRT(1+(4/(J$5*((90/$G$18)*(90/$G$18))))*$J$23*(1-(SQRT(2)*Vin_rms_min*(SIN($Q213)/Vout))))))","v":0.270328719723183},{"$f":"(K$5*((90/$G$18)*(90/$G$18))/2)*(1+(SQRT(1+(4/(K$5*((90/$G$18)*(90/$G$18))))*$K$23*(1-(SQRT(2)*Vin_rms_min*(SIN($Q213)/Vout))))))","v":0.405493079584775},{"$f":"(L$5*((90/$G$18)*(90/$G$18))/2)*(1+(SQRT(1+(4/(L$5*((90/$G$18)*(90/$G$18))))*$L$23*(1-(SQRT(2)*Vin_rms_min*(SIN($Q213)/Vout))))))","v":0.540657439446367},null,{"$f":"R213*ABS(1/(Vout/(SQRT(2)*$C$25*SIN($Q213))))","v":0.0760624582081824},{"$f":"S213*ABS(1/(Vout/(SQRT(2)*$C$25*SIN($Q213))))","v":0.0744409105730871},{"$f":"T213*ABS(1/(Vout/(SQRT(2)*$C$25*SIN($Q213))))","v":0.0734491882013927},{"$f":"U213*ABS(1/(Vout/(SQRT(2)*$C$25*SIN($Q213))))","v":0.0738425364233581},{"$f":"V213*ABS(1/(Vout/(SQRT(2)*$C$25*SIN($Q213))))","v":0.110763804635037},{"$f":"W213*ABS(1/(Vout/(SQRT(2)*$C$25*SIN($Q213))))","v":0.147685072846716},null,{"$f":"1/(0.0000128*(R213+Y213+$G$23))","v":40177.0506201483},{"$f":"1/(0.0000128*(S213+Z213+$H$23))","v":85199.9895188902},{"$f":"1/(0.0000128*(T213+AA213+$I$23))","v":110293.405490138},{"$f":"1/(0.0000128*(U213+AB213+$J$23))","v":226994.551708687},{"$f":"1/(0.0000128*(V213+AC213+$K$23))","v":151329.701139125},{"$f":"1/(0.0000128*(W213+AD213+$L$23))","v":113497.275854344}]
[null,null,null,null,null,null,null,null,null,null,null,null,null,null,null,null,{"$f":"Q213+0.01","v":2.08},{"$f":"(G$5*((90/$G$18)*(90/$G$18))/2)*(1+(SQRT(1+(4/(G$5*((90/$G$18)*(90/$G$18))))*$G$23*(1-(SQRT(2)*Vin_rms_min*(SIN($Q214)/Vout))))))","v":0.278712418347995},{"$f":"(H$5*((90/$G$18)*(90/$G$18))/2)*(1+(SQRT(1+(4/(H$5*((90/$G$18)*(90/$G$18))))*$H$23*(1-(SQRT(2)*Vin_rms_min*(SIN($Q214)/Vout))))))","v":0.272731234466653},{"$f":"(I$5*((90/$G$18)*(90/$G$18))/2)*(1+(SQRT(1+(4/(I$5*((90/$G$18)*(90/$G$18))))*$I$23*(1-(SQRT(2)*Vin_rms_min*(SIN($Q214)/Vout))))))","v":0.269073321699415},{"$f":"(J$5*((90/$G$18)*(90/$G$18))/2)*(1+(SQRT(1+(4/(J$5*((90/$G$18)*(90/$G$18))))*$J$23*(1-(SQRT(2)*Vin_rms_min*(SIN($Q214)/Vout))))))","v":0.270328719723183},{"$f":"(K$5*((90/$G$18)*(90/$G$18))/2)*(1+(SQRT(1+(4/(K$5*((90/$G$18)*(90/$G$18))))*$K$23*(1-(SQRT(2)*Vin_rms_min*(SIN($Q214)/Vout))))))","v":0.405493079584775},{"$f":"(L$5*((90/$G$18)*(90/$G$18))/2)*(1+(SQRT(1+(4/(L$5*((90/$G$18)*(90/$G$18))))*$L$23*(1-(SQRT(2)*Vin_rms_min*(SIN($Q214)/Vout))))))","v":0.540657439446367},null,{"$f":"R214*ABS(1/(Vout/(SQRT(2)*$C$25*SIN($Q214))))","v":0.0757136861944765},{"$f":"S214*ABS(1/(Vout/(SQRT(2)*$C$25*SIN($Q214))))","v":0.0740888663097093},{"$f":"T214*ABS(1/(Vout/(SQRT(2)*$C$25*SIN($Q214))))","v":0.073095175174499},{"$f":"U214*ABS(1/(Vout/(SQRT(2)*$C$25*SIN($Q214))))","v":0.0734362106137671},{"$f":"V214*ABS(1/(Vout/(SQRT(2)*$C$25*SIN($Q214))))","v":0.110154315920651},{"$f":"W214*ABS(1/(Vout/(SQRT(2)*$C$25*SIN($Q214))))","v":0.146872421227534},null,{"$f":"1/(0.0000128*(R214+Y214+$G$23))","v":40178.950394406},{"$f":"1/(0.0000128*(S214+Z214+$H$23))","v":85213.0095466317},{"$f":"1/(0.0000128*(T214+AA214+$I$23))","v":110319.790198052},{"$f":"1/(0.0000128*(U214+AB214+$J$23))","v":227262.856404298},{"$f":"1/(0.0000128*(V214+AC214+$K$23))","v":151508.570936199},{"$f":"1/(0.0000128*(W214+AD214+$L$23))","v":113631.428202149}]
[null,null,null,null,null,null,null,null,null,null,null,null,null,null,null,null,{"$f":"Q214+0.01","v":2.09},{"$f":"(G$5*((90/$G$18)*(90/$G$18))/2)*(1+(SQRT(1+(4/(G$5*((90/$G$18)*(90/$G$18))))*$G$23*(1-(SQRT(2)*Vin_rms_min*(SIN($Q215)/Vout))))))","v":0.278973620806946},{"$f":"(H$5*((90/$G$18)*(90/$G$18))/2)*(1+(SQRT(1+(4/(H$5*((90/$G$18)*(90/$G$18))))*$H$23*(1-(SQRT(2)*Vin_rms_min*(SIN($Q215)/Vout))))))","v":0.272946792373846},{"$f":"(I$5*((90/$G$18)*(90/$G$18))/2)*(1+(SQRT(1+(4/(I$5*((90/$G$18)*(90/$G$18))))*$I$23*(1-(SQRT(2)*Vin_rms_min*(SIN($Q215)/Vout))))))","v":0.269261087369903},{"$f":"(J$5*((90/$G$18)*(90/$G$18))/2)*(1+(SQRT(1+(4/(J$5*((90/$G$18)*(90/$G$18))))*$J$23*(1-(SQRT(2)*Vin_rms_min*(SIN($Q215)/Vout))))))","v":0.270328719723183},{"$f":"(K$5*((90/$G$18)*(90/$G$18))/2)*(1+(SQRT(1+(4/(K$5*((90/$G$18)*(90/$G$18))))*$K$23*(1-(SQRT(2)*Vin_rms_min*(SIN($Q215)/Vout))))))","v":0.405493079584775},{"$f":"(L$5*((90/$G$18)*(90/$G$18))/2)*(1+(SQRT(1+(4/(L$5*((90/$G$18)*(90/$G$18))))*$L$23*(1-(SQRT(2)*Vin_rms_min*(SIN($Q215)/Vout))))))","v":0.540657439446367},null,{"$f":"R215*ABS(1/(Vout/(SQRT(2)*$C$25*SIN($Q215))))","v":0.0753577450161802},{"$f":"S215*ABS(1/(Vout/(SQRT(2)*$C$25*SIN($Q215))))","v":0.0737297480786772},{"$f":"T215*ABS(1/(Vout/(SQRT(2)*$C$25*SIN($Q215))))","v":0.0727341470713541},{"$f":"U215*ABS(1/(Vout/(SQRT(2)*$C$25*SIN($Q215))))","v":0.0730225412443113},{"$f":"V215*ABS(1/(Vout/(SQRT(2)*$C$25*SIN($Q215))))","v":0.109533811866467},{"$f":"W215*ABS(1/(Vout/(SQRT(2)*$C$25*SIN($Q215))))","v":0.146045082488623},null,{"$f":"1/(0.0000128*(R215+Y215+$G$23))","v":40180.9081380149},{"$f":"1/(0.0000128*(S215+Z215+$H$23))","v":85226.3547198809},{"$f":"1/(0.0000128*(T215+AA215+$I$23))","v":110346.787943644},{"$f":"1/(0.0000128*(U215+AB215+$J$23))","v":227536.662541618},{"$f":"1/(0.0000128*(V215+AC215+$K$23))","v":151691.108361079},{"$f":"1/(0.0000128*(W215+AD215+$L$23))","v":113768.331270809}]
[null,null,null,null,null,null,null,null,null,null,null,null,null,null,null,null,{"$f":"Q215+0.01","v":2.1},{"$f":"(G$5*((90/$G$18)*(90/$G$18))/2)*(1+(SQRT(1+(4/(G$5*((90/$G$18)*(90/$G$18))))*$G$23*(1-(SQRT(2)*Vin_rms_min*(SIN($Q216)/Vout))))))","v":0.279239156351397},{"$f":"(H$5*((90/$G$18)*(90/$G$18))/2)*(1+(SQRT(1+(4/(H$5*((90/$G$18)*(90/$G$18))))*$H$23*(1-(SQRT(2)*Vin_rms_min*(SIN($Q216)/Vout))))))","v":0.273165937640973},{"$f":"(I$5*((90/$G$18)*(90/$G$18))/2)*(1+(SQRT(1+(4/(I$5*((90/$G$18)*(90/$G$18))))*$I$23*(1-(SQRT(2)*Vin_rms_min*(SIN($Q216)/Vout))))))","v":0.269451988227657},{"$f":"(J$5*((90/$G$18)*(90/$G$18))/2)*(1+(SQRT(1+(4/(J$5*((90/$G$18)*(90/$G$18))))*$J$23*(1-(SQRT(2)*Vin_rms_min*(SIN($Q216)/Vout))))))","v":0.270328719723183},{"$f":"(K$5*((90/$G$18)*(90/$G$18))/2)*(1+(SQRT(1+(4/(K$5*((90/$G$18)*(90/$G$18))))*$K$23*(1-(SQRT(2)*Vin_rms_min*(SIN($Q216)/Vout))))))","v":0.405493079584775},{"$f":"(L$5*((90/$G$18)*(90/$G$18))/2)*(1+(SQRT(1+(4/(L$5*((90/$G$18)*(90/$G$18))))*$L$23*(1-(SQRT(2)*Vin_rms_min*(SIN($Q216)/Vout))))))","v":0.540657439446367},null,{"$f":"R216*ABS(1/(Vout/(SQRT(2)*$C$25*SIN($Q216))))","v":0.0749946253895338},{"$f":"S216*ABS(1/(Vout/(SQRT(2)*$C$25*SIN($Q216))))","v":0.0733635548475363},{"$f":"T216*ABS(1/(Vout/(SQRT(2)*$C$25*SIN($Q216))))","v":0.0723661078970205},{"$f":"U216*ABS(1/(Vout/(SQRT(2)*$C$25*SIN($Q216))))","v":0.0726015696815831},{"$f":"V216*ABS(1/(Vout/(SQRT(2)*$C$25*SIN($Q216))))","v":0.108902354522375},{"$f":"W216*ABS(1/(Vout/(SQRT(2)*$C$25*SIN($Q216))))","v":0.145203139363166},null,{"$f":"1/(0.0000128*(R216+Y216+$G$23))","v":40182.9248795607},{"$f":"1/(0.0000128*(S216+Z216+$H$23))","v":85240.0284336508},{"$f":"1/(0.0000128*(T216+AA216+$I$23))","v":110374.403293355},{"$f":"1/(0.0000128*(U216+AB216+$J$23))","v":227815.980138715},{"$f":"1/(0.0000128*(V216+AC216+$K$23))","v":151877.320092477},{"$f":"1/(0.0000128*(W216+AD216+$L$23))","v":113907.990069357}]
[null,null,null,null,null,null,null,null,null,null,null,null,null,null,null,null,{"$f":"Q216+0.01","v":2.11},{"$f":"(G$5*((90/$G$18)*(90/$G$18))/2)*(1+(SQRT(1+(4/(G$5*((90/$G$18)*(90/$G$18))))*$G$23*(1-(SQRT(2)*Vin_rms_min*(SIN($Q217)/Vout))))))","v":0.27950898479871},{"$f":"(H$5*((90/$G$18)*(90/$G$18))/2)*(1+(SQRT(1+(4/(H$5*((90/$G$18)*(90/$G$18))))*$H$23*(1-(SQRT(2)*Vin_rms_min*(SIN($Q217)/Vout))))))","v":0.273388637633527},{"$f":"(I$5*((90/$G$18)*(90/$G$18))/2)*(1+(SQRT(1+(4/(I$5*((90/$G$18)*(90/$G$18))))*$I$23*(1-(SQRT(2)*Vin_rms_min*(SIN($Q217)/Vout))))))","v":0.269645996324142},{"$f":"(J$5*((90/$G$18)*(90/$G$18))/2)*(1+(SQRT(1+(4/(J$5*((90/$G$18)*(90/$G$18))))*$J$23*(1-(SQRT(2)*Vin_rms_min*(SIN($Q217)/Vout))))))","v":0.270328719723183},{"$f":"(K$5*((90/$G$18)*(90/$G$18))/2)*(1+(SQRT(1+(4/(K$5*((90/$G$18)*(90/$G$18))))*$K$23*(1-(SQRT(2)*Vin_rms_min*(SIN($Q217)/Vout))))))","v":0.405493079584775},{"$f":"(L$5*((90/$G$18)*(90/$G$18))/2)*(1+(SQRT(1+(4/(L$5*((90/$G$18)*(90/$G$18))))*$L$23*(1-(SQRT(2)*Vin_rms_min*(SIN($Q217)/Vout))))))","v":0.540657439446367},null,{"$f":"R217*ABS(1/(Vout/(SQRT(2)*$C$25*SIN($Q217))))","v":0.0746243183514832},{"$f":"S217*ABS(1/(Vout/(SQRT(2)*$C$25*SIN($Q217))))","v":0.0729902859585529},{"$f":"T217*ABS(1/(Vout/(SQRT(2)*$C$25*SIN($Q217))))","v":0.0719910620633064},{"$f":"U217*ABS(1/(Vout/(SQRT(2)*$C$25*SIN($Q217))))","v":0.0721733380223877},{"$f":"V217*ABS(1/(Vout/(SQRT(2)*$C$25*SIN($Q217))))","v":0.108260007033582},{"$f":"W217*ABS(1/(Vout/(SQRT(2)*$C$25*SIN($Q217))))","v":0.144346676044775},null,{"$f":"1/(0.0000128*(R217+Y217+$G$23))","v":40185.0016526179},{"$f":"1/(0.0000128*(S217+Z217+$H$23))","v":85254.0340995193},{"$f":"1/(0.0000128*(T217+AA217+$I$23))","v":110402.640836858},{"$f":"1/(0.0000128*(U217+AB217+$J$23))","v":228100.819347589},{"$f":"1/(0.0000128*(V217+AC217+$K$23))","v":152067.212898393},{"$f":"1/(0.0000128*(W217+AD217+$L$23))","v":114050.409673795}]
[null,null,null,null,null,null,null,null,null,null,null,null,null,null,null,null,{"$f":"Q217+0.01","v":2.12},{"$f":"(G$5*((90/$G$18)*(90/$G$18))/2)*(1+(SQRT(1+(4/(G$5*((90/$G$18)*(90/$G$18))))*$G$23*(1-(SQRT(2)*Vin_rms_min*(SIN($Q218)/Vout))))))","v":0.279783065461012},{"$f":"(H$5*((90/$G$18)*(90/$G$18))/2)*(1+(SQRT(1+(4/(H$5*((90/$G$18)*(90/$G$18))))*$H$23*(1-(SQRT(2)*Vin_rms_min*(SIN($Q218)/Vout))))))","v":0.273614859298716},{"$f":"(I$5*((90/$G$18)*(90/$G$18))/2)*(1+(SQRT(1+(4/(I$5*((90/$G$18)*(90/$G$18))))*$I$23*(1-(SQRT(2)*Vin_rms_min*(SIN($Q218)/Vout))))))","v":0.269843083345559},{"$f":"(J$5*((90/$G$18)*(90/$G$18))/2)*(1+(SQRT(1+(4/(J$5*((90/$G$18)*(90/$G$18))))*$J$23*(1-(SQRT(2)*Vin_rms_min*(SIN($Q218)/Vout))))))","v":0.270328719723183},{"$f":"(K$5*((90/$G$18)*(90/$G$18))/2)*(1+(SQRT(1+(4/(K$5*((90/$G$18)*(90/$G$18))))*$K$23*(1-(SQRT(2)*Vin_rms_min*(SIN($Q218)/Vout))))))","v":0.405493079584775},{"$f":"(L$5*((90/$G$18)*(90/$G$18))/2)*(1+(SQRT(1+(4/(L$5*((90/$G$18)*(90/$G$18))))*$L$23*(1-(SQRT(2)*Vin_rms_min*(SIN($Q218)/Vout))))))","v":0.540657439446367},null,{"$f":"R218*ABS(1/(Vout/(SQRT(2)*$C$25*SIN($Q218))))","v":0.0742468152837212},{"$f":"S218*ABS(1/(Vout/(SQRT(2)*$C$25*SIN($Q218))))","v":0.0726099411476499},{"$f":"T218*ABS(1/(Vout/(SQRT(2)*$C$25*SIN($Q218))))","v":0.0716090144045527},{"$f":"U218*ABS(1/(Vout/(SQRT(2)*$C$25*SIN($Q218))))","v":0.0717378890895344},{"$f":"V218*ABS(1/(Vout/(SQRT(2)*$C$25*SIN($Q218))))","v":0.107606833634302},{"$f":"W218*ABS(1/(Vout/(SQRT(2)*$C$25*SIN($Q218))))","v":0.143475778179069},null,{"$f":"1/(0.0000128*(R218+Y218+$G$23))","v":40187.1394950325},{"$f":"1/(0.0000128*(S218+Z218+$H$23))","v":85268.375143239},{"$f":"1/(0.0000128*(T218+AA218+$I$23))","v":110431.505183826},{"$f":"1/(0.0000128*(U218+AB218+$J$23))","v":228391.190450202},{"$f":"1/(0.0000128*(V218+AC218+$K$23))","v":152260.793633468},{"$f":"1/(0.0000128*(W218+AD218+$L$23))","v":114195.595225101}]
[null,null,null,null,null,null,null,null,null,null,null,null,null,null,null,null,{"$f":"Q218+0.01","v":2.13},{"$f":"(G$5*((90/$G$18)*(90/$G$18))/2)*(1+(SQRT(1+(4/(G$5*((90/$G$18)*(90/$G$18))))*$G$23*(1-(SQRT(2)*Vin_rms_min*(SIN($Q219)/Vout))))))","v":0.280061357157449},{"$f":"(H$5*((90/$G$18)*(90/$G$18))/2)*(1+(SQRT(1+(4/(H$5*((90/$G$18)*(90/$G$18))))*$H$23*(1-(SQRT(2)*Vin_rms_min*(SIN($Q219)/Vout))))))","v":0.273844569175118},{"$f":"(I$5*((90/$G$18)*(90/$G$18))/2)*(1+(SQRT(1+(4/(I$5*((90/$G$18)*(90/$G$18))))*$I$23*(1-(SQRT(2)*Vin_rms_min*(SIN($Q219)/Vout))))))","v":0.270043220620847},{"$f":"(J$5*((90/$G$18)*(90/$G$18))/2)*(1+(SQRT(1+(4/(J$5*((90/$G$18)*(90/$G$18))))*$J$23*(1-(SQRT(2)*Vin_rms_min*(SIN($Q219)/Vout))))))","v":0.270328719723183},{"$f":"(K$5*((90/$G$18)*(90/$G$18))/2)*(1+(SQRT(1+(4/(K$5*((90/$G$18)*(90/$G$18))))*$K$23*(1-(SQRT(2)*Vin_rms_min*(SIN($Q219)/Vout))))))","v":0.405493079584775},{"$f":"(L$5*((90/$G$18)*(90/$G$18))/2)*(1+(SQRT(1+(4/(L$5*((90/$G$18)*(90/$G$18))))*$L$23*(1-(SQRT(2)*Vin_rms_min*(SIN($Q219)/Vout))))))","v":0.540657439446367},null,{"$f":"R219*ABS(1/(Vout/(SQRT(2)*$C$25*SIN($Q219))))","v":0.0738621079367699},{"$f":"S219*ABS(1/(Vout/(SQRT(2)*$C$25*SIN($Q219))))","v":0.0722225205633759},{"$f":"T219*ABS(1/(Vout/(SQRT(2)*$C$25*SIN($Q219))))","v":0.0712199701934475},{"$f":"U219*ABS(1/(Vout/(SQRT(2)*$C$25*SIN($Q219))))","v":0.0712952664275535},{"$f":"V219*ABS(1/(Vout/(SQRT(2)*$C$25*SIN($Q219))))","v":0.10694289964133},{"$f":"W219*ABS(1/(Vout/(SQRT(2)*$C$25*SIN($Q219))))","v":0.142590532855107},null,{"$f":"1/(0.0000128*(R219+Y219+$G$23))","v":40189.3394482037},{"$f":"1/(0.0000128*(S219+Z219+$H$23))","v":85283.0550023383},{"$f":"1/(0.0000128*(T219+AA219+$I$23))","v":110461.000960692},{"$f":"1/(0.0000128*(U219+AB219+$J$23))","v":228687.103854378},{"$f":"1/(0.0000128*(V219+AC219+$K$23))","v":152458.069236252},{"$f":"1/(0.0000128*(W219+AD219+$L$23))","v":114343.551927189}]
[null,null,null,null,null,null,null,null,null,null,null,null,null,null,null,null,{"$f":"Q219+0.01","v":2.14},{"$f":"(G$5*((90/$G$18)*(90/$G$18))/2)*(1+(SQRT(1+(4/(G$5*((90/$G$18)*(90/$G$18))))*$G$23*(1-(SQRT(2)*Vin_rms_min*(SIN($Q220)/Vout))))))","v":0.280343818226465},{"$f":"(H$5*((90/$G$18)*(90/$G$18))/2)*(1+(SQRT(1+(4/(H$5*((90/$G$18)*(90/$G$18))))*$H$23*(1-(SQRT(2)*Vin_rms_min*(SIN($Q220)/Vout))))))","v":0.274077733402372},{"$f":"(I$5*((90/$G$18)*(90/$G$18))/2)*(1+(SQRT(1+(4/(I$5*((90/$G$18)*(90/$G$18))))*$I$23*(1-(SQRT(2)*Vin_rms_min*(SIN($Q220)/Vout))))))","v":0.270246379129728},{"$f":"(J$5*((90/$G$18)*(90/$G$18))/2)*(1+(SQRT(1+(4/(J$5*((90/$G$18)*(90/$G$18))))*$J$23*(1-(SQRT(2)*Vin_rms_min*(SIN($Q220)/Vout))))))","v":0.270328719723183},{"$f":"(K$5*((90/$G$18)*(90/$G$18))/2)*(1+(SQRT(1+(4/(K$5*((90/$G$18)*(90/$G$18))))*$K$23*(1-(SQRT(2)*Vin_rms_min*(SIN($Q220)/Vout))))))","v":0.405493079584775},{"$f":"(L$5*((90/$G$18)*(90/$G$18))/2)*(1+(SQRT(1+(4/(L$5*((90/$G$18)*(90/$G$18))))*$L$23*(1-(SQRT(2)*Vin_rms_min*(SIN($Q220)/Vout))))))","v":0.540657439446367},null,{"$f":"R220*ABS(1/(Vout/(SQRT(2)*$C$25*SIN($Q220))))","v":0.0734701884540892},{"$f":"S220*ABS(1/(Vout/(SQRT(2)*$C$25*SIN($Q220))))","v":0.0718280247858912},{"$f":"T220*ABS(1/(Vout/(SQRT(2)*$C$25*SIN($Q220))))","v":0.0708239351568551},{"$f":"U220*ABS(1/(Vout/(SQRT(2)*$C$25*SIN($Q220))))","v":0.0708455142983424},{"$f":"V220*ABS(1/(Vout/(SQRT(2)*$C$25*SIN($Q220))))","v":0.106268271447514},{"$f":"W220*ABS(1/(Vout/(SQRT(2)*$C$25*SIN($Q220))))","v":0.141691028596685},null,{"$f":"1/(0.0000128*(R220+Y220+$G$23))","v":40191.6025563649},{"$f":"1/(0.0000128*(S220+Z220+$H$23))","v":85298.0771237181},{"$f":"1/(0.0000128*(T220+AA220+$I$23))","v":110491.132807387},{"$f":"1/(0.0000128*(U220+AB220+$J$23))","v":228988.570089589},{"$f":"1/(0.0000128*(V220+AC220+$K$23))","v":152659.046726393},{"$f":"1/(0.0000128*(W220+AD220+$L$23))","v":114494.285044795}]
[null,null,null,null,null,null,null,null,null,null,null,null,null,null,null,null,{"$f":"Q220+0.01","v":2.15},{"$f":"(G$5*((90/$G$18)*(90/$G$18))/2)*(1+(SQRT(1+(4/(G$5*((90/$G$18)*(90/$G$18))))*$G$23*(1-(SQRT(2)*Vin_rms_min*(SIN($Q221)/Vout))))))","v":0.280630406538096},{"$f":"(H$5*((90/$G$18)*(90/$G$18))/2)*(1+(SQRT(1+(4/(H$5*((90/$G$18)*(90/$G$18))))*$H$23*(1-(SQRT(2)*Vin_rms_min*(SIN($Q221)/Vout))))))","v":0.274314317730885},{"$f":"(I$5*((90/$G$18)*(90/$G$18))/2)*(1+(SQRT(1+(4/(I$5*((90/$G$18)*(90/$G$18))))*$I$23*(1-(SQRT(2)*Vin_rms_min*(SIN($Q221)/Vout))))))","v":0.270452529510762},{"$f":"(J$5*((90/$G$18)*(90/$G$18))/2)*(1+(SQRT(1+(4/(J$5*((90/$G$18)*(90/$G$18))))*$J$23*(1-(SQRT(2)*Vin_rms_min*(SIN($Q221)/Vout))))))","v":0.270328719723183},{"$f":"(K$5*((90/$G$18)*(90/$G$18))/2)*(1+(SQRT(1+(4/(K$5*((90/$G$18)*(90/$G$18))))*$K$23*(1-(SQRT(2)*Vin_rms_min*(SIN($Q221)/Vout))))))","v":0.405493079584775},{"$f":"(L$5*((90/$G$18)*(90/$G$18))/2)*(1+(SQRT(1+(4/(L$5*((90/$G$18)*(90/$G$18))))*$L$23*(1-(SQRT(2)*Vin_rms_min*(SIN($Q221)/Vout))))))","v":0.540657439446367},null,{"$f":"R221*ABS(1/(Vout/(SQRT(2)*$C$25*SIN($Q221))))","v":0.073071049396193},{"$f":"S221*ABS(1/(Vout/(SQRT(2)*$C$25*SIN($Q221))))","v":0.071426454845959},{"$f":"T221*ABS(1/(Vout/(SQRT(2)*$C$25*SIN($Q221))))","v":0.0704209154916485},{"$f":"U221*ABS(1/(Vout/(SQRT(2)*$C$25*SIN($Q221))))","v":0.0703886776767392},{"$f":"V221*ABS(1/(Vout/(SQRT(2)*$C$25*SIN($Q221))))","v":0.105583016515109},{"$f":"W221*ABS(1/(Vout/(SQRT(2)*$C$25*SIN($Q221))))","v":0.140777355353478},null,{"$f":"1/(0.0000128*(R221+Y221+$G$23))","v":40193.9298658637},{"$f":"1/(0.0000128*(S221+Z221+$H$23))","v":85313.4449612423},{"$f":"1/(0.0000128*(T221+AA221+$I$23))","v":110521.905374071},{"$f":"1/(0.0000128*(U221+AB221+$J$23))","v":229295.599802612},{"$f":"1/(0.0000128*(V221+AC221+$K$23))","v":152863.733201741},{"$f":"1/(0.0000128*(W221+AD221+$L$23))","v":114647.799901306}]
[null,null,null,null,null,null,null,null,null,null,null,null,null,null,null,null,{"$f":"Q221+0.01","v":2.16},{"$f":"(G$5*((90/$G$18)*(90/$G$18))/2)*(1+(SQRT(1+(4/(G$5*((90/$G$18)*(90/$G$18))))*$G$23*(1-(SQRT(2)*Vin_rms_min*(SIN($Q222)/Vout))))))","v":0.28092107950628},{"$f":"(H$5*((90/$G$18)*(90/$G$18))/2)*(1+(SQRT(1+(4/(H$5*((90/$G$18)*(90/$G$18))))*$H$23*(1-(SQRT(2)*Vin_rms_min*(SIN($Q222)/Vout))))))","v":0.274554287531552},{"$f":"(I$5*((90/$G$18)*(90/$G$18))/2)*(1+(SQRT(1+(4/(I$5*((90/$G$18)*(90/$G$18))))*$I$23*(1-(SQRT(2)*Vin_rms_min*(SIN($Q222)/Vout))))))","v":0.270661642069433},{"$f":"(J$5*((90/$G$18)*(90/$G$18))/2)*(1+(SQRT(1+(4/(J$5*((90/$G$18)*(90/$G$18))))*$J$23*(1-(SQRT(2)*Vin_rms_min*(SIN($Q222)/Vout))))))","v":0.270328719723183},{"$f":"(K$5*((90/$G$18)*(90/$G$18))/2)*(1+(SQRT(1+(4/(K$5*((90/$G$18)*(90/$G$18))))*$K$23*(1-(SQRT(2)*Vin_rms_min*(SIN($Q222)/Vout))))))","v":0.405493079584775},{"$f":"(L$5*((90/$G$18)*(90/$G$18))/2)*(1+(SQRT(1+(4/(L$5*((90/$G$18)*(90/$G$18))))*$L$23*(1-(SQRT(2)*Vin_rms_min*(SIN($Q222)/Vout))))))","v":0.540657439446367},null,{"$f":"R222*ABS(1/(Vout/(SQRT(2)*$C$25*SIN($Q222))))","v":0.0726646837647564},{"$f":"S222*ABS(1/(Vout/(SQRT(2)*$C$25*SIN($Q222))))","v":0.0710178122439269},{"$f":"T222*ABS(1/(Vout/(SQRT(2)*$C$25*SIN($Q222))))","v":0.0700109178805338},{"$f":"U222*ABS(1/(Vout/(SQRT(2)*$C$25*SIN($Q222))))","v":0.0699248022460254},{"$f":"V222*ABS(1/(Vout/(SQRT(2)*$C$25*SIN($Q222))))","v":0.104887203369038},{"$f":"W222*ABS(1/(Vout/(SQRT(2)*$C$25*SIN($Q222))))","v":0.139849604492051},null,{"$f":"1/(0.0000128*(R222+Y222+$G$23))","v":40196.3224244431},{"$f":"1/(0.0000128*(S222+Z222+$H$23))","v":85329.161973326},{"$f":"1/(0.0000128*(T222+AA222+$I$23))","v":110553.323317848},{"$f":"1/(0.0000128*(U222+AB222+$J$23))","v":229608.203753053},{"$f":"1/(0.0000128*(V222+AC222+$K$23))","v":153072.135835369},{"$f":"1/(0.0000128*(W222+AD222+$L$23))","v":114804.101876527}]
[null,null,null,null,null,null,null,null,null,null,null,null,null,null,null,null,{"$f":"Q222+0.01","v":2.17},{"$f":"(G$5*((90/$G$18)*(90/$G$18))/2)*(1+(SQRT(1+(4/(G$5*((90/$G$18)*(90/$G$18))))*$G$23*(1-(SQRT(2)*Vin_rms_min*(SIN($Q223)/Vout))))))","v":0.281215794101159},{"$f":"(H$5*((90/$G$18)*(90/$G$18))/2)*(1+(SQRT(1+(4/(H$5*((90/$G$18)*(90/$G$18))))*$H$23*(1-(SQRT(2)*Vin_rms_min*(SIN($Q223)/Vout))))))","v":0.274797607805492},{"$f":"(I$5*((90/$G$18)*(90/$G$18))/2)*(1+(SQRT(1+(4/(I$5*((90/$G$18)*(90/$G$18))))*$I$23*(1-(SQRT(2)*Vin_rms_min*(SIN($Q223)/Vout))))))","v":0.270873686786239},{"$f":"(J$5*((90/$G$18)*(90/$G$18))/2)*(1+(SQRT(1+(4/(J$5*((90/$G$18)*(90/$G$18))))*$J$23*(1-(SQRT(2)*Vin_rms_min*(SIN($Q223)/Vout))))))","v":0.270328719723183},{"$f":"(K$5*((90/$G$18)*(90/$G$18))/2)*(1+(SQRT(1+(4/(K$5*((90/$G$18)*(90/$G$18))))*$K$23*(1-(SQRT(2)*Vin_rms_min*(SIN($Q223)/Vout))))))","v":0.405493079584775},{"$f":"(L$5*((90/$G$18)*(90/$G$18))/2)*(1+(SQRT(1+(4/(L$5*((90/$G$18)*(90/$G$18))))*$L$23*(1-(SQRT(2)*Vin_rms_min*(SIN($Q223)/Vout))))))","v":0.540657439446367},null,{"$f":"R223*ABS(1/(Vout/(SQRT(2)*$C$25*SIN($Q223))))","v":0.0722510850266968},{"$f":"S223*ABS(1/(Vout/(SQRT(2)*$C$25*SIN($Q223))))","v":0.0706020989686855},{"$f":"T223*ABS(1/(Vout/(SQRT(2)*$C$25*SIN($Q223))))","v":0.0695939495078548},{"$f":"U223*ABS(1/(Vout/(SQRT(2)*$C$25*SIN($Q223))))","v":0.0694539343933574},{"$f":"V223*ABS(1/(Vout/(SQRT(2)*$C$25*SIN($Q223))))","v":0.104180901590036},{"$f":"W223*ABS(1/(Vout/(SQRT(2)*$C$25*SIN($Q223))))","v":0.138907868786715},null,{"$f":"1/(0.0000128*(R223+Y223+$G$23))","v":40198.7812805223},{"$f":"1/(0.0000128*(S223+Z223+$H$23))","v":85345.2316205219},{"$f":"1/(0.0000128*(T223+AA223+$I$23))","v":110585.391299478},{"$f":"1/(0.0000128*(U223+AB223+$J$23))","v":229926.392808752},{"$f":"1/(0.0000128*(V223+AC223+$K$23))","v":153284.261872501},{"$f":"1/(0.0000128*(W223+AD223+$L$23))","v":114963.196404376}]
[null,null,null,null,null,null,null,null,null,null,null,null,null,null,null,null,{"$f":"Q223+0.01","v":2.18},{"$f":"(G$5*((90/$G$18)*(90/$G$18))/2)*(1+(SQRT(1+(4/(G$5*((90/$G$18)*(90/$G$18))))*$G$23*(1-(SQRT(2)*Vin_rms_min*(SIN($Q224)/Vout))))))","v":0.281514506861387},{"$f":"(H$5*((90/$G$18)*(90/$G$18))/2)*(1+(SQRT(1+(4/(H$5*((90/$G$18)*(90/$G$18))))*$H$23*(1-(SQRT(2)*Vin_rms_min*(SIN($Q224)/Vout))))))","v":0.27504424319378},{"$f":"(I$5*((90/$G$18)*(90/$G$18))/2)*(1+(SQRT(1+(4/(I$5*((90/$G$18)*(90/$G$18))))*$I$23*(1-(SQRT(2)*Vin_rms_min*(SIN($Q224)/Vout))))))","v":0.271088633324792},{"$f":"(J$5*((90/$G$18)*(90/$G$18))/2)*(1+(SQRT(1+(4/(J$5*((90/$G$18)*(90/$G$18))))*$J$23*(1-(SQRT(2)*Vin_rms_min*(SIN($Q224)/Vout))))))","v":0.270328719723183},{"$f":"(K$5*((90/$G$18)*(90/$G$18))/2)*(1+(SQRT(1+(4/(K$5*((90/$G$18)*(90/$G$18))))*$K$23*(1-(SQRT(2)*Vin_rms_min*(SIN($Q224)/Vout))))))","v":0.405493079584775},{"$f":"(L$5*((90/$G$18)*(90/$G$18))/2)*(1+(SQRT(1+(4/(L$5*((90/$G$18)*(90/$G$18))))*$L$23*(1-(SQRT(2)*Vin_rms_min*(SIN($Q224)/Vout))))))","v":0.540657439446367},null,{"$f":"R224*ABS(1/(Vout/(SQRT(2)*$C$25*SIN($Q224))))","v":0.0718302471382128},{"$f":"S224*ABS(1/(Vout/(SQRT(2)*$C$25*SIN($Q224))))","v":0.0701793175165913},{"$f":"T224*ABS(1/(Vout/(SQRT(2)*$C$25*SIN($Q224))))","v":0.0691700180753668},{"$f":"U224*ABS(1/(Vout/(SQRT(2)*$C$25*SIN($Q224))))","v":0.0689761212051281},{"$f":"V224*ABS(1/(Vout/(SQRT(2)*$C$25*SIN($Q224))))","v":0.103464181807692},{"$f":"W224*ABS(1/(Vout/(SQRT(2)*$C$25*SIN($Q224))))","v":0.137952242410256},null,{"$f":"1/(0.0000128*(R224+Y224+$G$23))","v":40201.3074824788},{"$f":"1/(0.0000128*(S224+Z224+$H$23))","v":85361.6573631054},{"$f":"1/(0.0000128*(T224+AA224+$I$23))","v":110618.11398008},{"$f":"1/(0.0000128*(U224+AB224+$J$23))","v":230250.17794104},{"$f":"1/(0.0000128*(V224+AC224+$K$23))","v":153500.11862736},{"$f":"1/(0.0000128*(W224+AD224+$L$23))","v":115125.08897052}]
[null,null,null,null,null,null,null,null,null,null,null,null,null,null,null,null,{"$f":"Q224+0.01","v":2.19},{"$f":"(G$5*((90/$G$18)*(90/$G$18))/2)*(1+(SQRT(1+(4/(G$5*((90/$G$18)*(90/$G$18))))*$G$23*(1-(SQRT(2)*Vin_rms_min*(SIN($Q225)/Vout))))))","v":0.281817173906417},{"$f":"(H$5*((90/$G$18)*(90/$G$18))/2)*(1+(SQRT(1+(4/(H$5*((90/$G$18)*(90/$G$18))))*$H$23*(1-(SQRT(2)*Vin_rms_min*(SIN($Q225)/Vout))))))","v":0.275294157987178},{"$f":"(I$5*((90/$G$18)*(90/$G$18))/2)*(1+(SQRT(1+(4/(I$5*((90/$G$18)*(90/$G$18))))*$I$23*(1-(SQRT(2)*Vin_rms_min*(SIN($Q225)/Vout))))))","v":0.271306451039929},{"$f":"(J$5*((90/$G$18)*(90/$G$18))/2)*(1+(SQRT(1+(4/(J$5*((90/$G$18)*(90/$G$18))))*$J$23*(1-(SQRT(2)*Vin_rms_min*(SIN($Q225)/Vout))))))","v":0.270328719723183},{"$f":"(K$5*((90/$G$18)*(90/$G$18))/2)*(1+(SQRT(1+(4/(K$5*((90/$G$18)*(90/$G$18))))*$K$23*(1-(SQRT(2)*Vin_rms_min*(SIN($Q225)/Vout))))))","v":0.405493079584775},{"$f":"(L$5*((90/$G$18)*(90/$G$18))/2)*(1+(SQRT(1+(4/(L$5*((90/$G$18)*(90/$G$18))))*$L$23*(1-(SQRT(2)*Vin_rms_min*(SIN($Q225)/Vout))))))","v":0.540657439446367},null,{"$f":"R225*ABS(1/(Vout/(SQRT(2)*$C$25*SIN($Q225))))","v":0.0714021645687641},{"$f":"S225*ABS(1/(Vout/(SQRT(2)*$C$25*SIN($Q225))))","v":0.0697494709103398},{"$f":"T225*ABS(1/(Vout/(SQRT(2)*$C$25*SIN($Q225))))","v":0.0687391318179679},{"$f":"U225*ABS(1/(Vout/(SQRT(2)*$C$25*SIN($Q225))))","v":0.0684914104622583},{"$f":"V225*ABS(1/(Vout/(SQRT(2)*$C$25*SIN($Q225))))","v":0.102737115693387},{"$f":"W225*ABS(1/(Vout/(SQRT(2)*$C$25*SIN($Q225))))","v":0.136982820924517},null,{"$f":"1/(0.0000128*(R225+Y225+$G$23))","v":40203.902077932},{"$f":"1/(0.0000128*(S225+Z225+$H$23))","v":85378.4426586613},{"$f":"1/(0.0000128*(T225+AA225+$I$23))","v":110651.49601782},{"$f":"1/(0.0000128*(U225+AB225+$J$23))","v":230579.570219871},{"$f":"1/(0.0000128*(V225+AC225+$K$23))","v":153719.713479914},{"$f":"1/(0.0000128*(W225+AD225+$L$23))","v":115289.785109936}]
[null,null,null,null,null,null,null,null,null,null,null,null,null,null,null,null,{"$f":"Q225+0.01","v":2.2},{"$f":"(G$5*((90/$G$18)*(90/$G$18))/2)*(1+(SQRT(1+(4/(G$5*((90/$G$18)*(90/$G$18))))*$G$23*(1-(SQRT(2)*Vin_rms_min*(SIN($Q226)/Vout))))))","v":0.282123750948775},{"$f":"(H$5*((90/$G$18)*(90/$G$18))/2)*(1+(SQRT(1+(4/(H$5*((90/$G$18)*(90/$G$18))))*$H$23*(1-(SQRT(2)*Vin_rms_min*(SIN($Q226)/Vout))))))","v":0.275547316135863},{"$f":"(I$5*((90/$G$18)*(90/$G$18))/2)*(1+(SQRT(1+(4/(I$5*((90/$G$18)*(90/$G$18))))*$I$23*(1-(SQRT(2)*Vin_rms_min*(SIN($Q226)/Vout))))))","v":0.271527108985822},{"$f":"(J$5*((90/$G$18)*(90/$G$18))/2)*(1+(SQRT(1+(4/(J$5*((90/$G$18)*(90/$G$18))))*$J$23*(1-(SQRT(2)*Vin_rms_min*(SIN($Q226)/Vout))))))","v":0.270328719723183},{"$f":"(K$5*((90/$G$18)*(90/$G$18))/2)*(1+(SQRT(1+(4/(K$5*((90/$G$18)*(90/$G$18))))*$K$23*(1-(SQRT(2)*Vin_rms_min*(SIN($Q226)/Vout))))))","v":0.405493079584775},{"$f":"(L$5*((90/$G$18)*(90/$G$18))/2)*(1+(SQRT(1+(4/(L$5*((90/$G$18)*(90/$G$18))))*$L$23*(1-(SQRT(2)*Vin_rms_min*(SIN($Q226)/Vout))))))","v":0.540657439446367},null,{"$f":"R226*ABS(1/(Vout/(SQRT(2)*$C$25*SIN($Q226))))","v":0.0709668323249761},{"$f":"S226*ABS(1/(Vout/(SQRT(2)*$C$25*SIN($Q226))))","v":0.0693125627177754},{"$f":"T226*ABS(1/(Vout/(SQRT(2)*$C$25*SIN($Q226))))","v":0.0683012995193768},{"$f":"U226*ABS(1/(Vout/(SQRT(2)*$C$25*SIN($Q226))))","v":0.0679998506354182},{"$f":"V226*ABS(1/(Vout/(SQRT(2)*$C$25*SIN($Q226))))","v":0.101999775953127},{"$f":"W226*ABS(1/(Vout/(SQRT(2)*$C$25*SIN($Q226))))","v":0.135999701270836},null,{"$f":"1/(0.0000128*(R226+Y226+$G$23))","v":40206.5661130289},{"$f":"1/(0.0000128*(S226+Z226+$H$23))","v":85395.5909596716},{"$f":"1/(0.0000128*(T226+AA226+$I$23))","v":110685.542064612},{"$f":"1/(0.0000128*(U226+AB226+$J$23))","v":230914.580808809},{"$f":"1/(0.0000128*(V226+AC226+$K$23))","v":153943.053872539},{"$f":"1/(0.0000128*(W226+AD226+$L$23))","v":115457.290404404}]
[null,null,null,null,null,null,null,null,null,null,null,null,null,null,null,null,{"$f":"Q226+0.01","v":2.21},{"$f":"(G$5*((90/$G$18)*(90/$G$18))/2)*(1+(SQRT(1+(4/(G$5*((90/$G$18)*(90/$G$18))))*$G$23*(1-(SQRT(2)*Vin_rms_min*(SIN($Q227)/Vout))))))","v":0.282434193306305},{"$f":"(H$5*((90/$G$18)*(90/$G$18))/2)*(1+(SQRT(1+(4/(H$5*((90/$G$18)*(90/$G$18))))*$H$23*(1-(SQRT(2)*Vin_rms_min*(SIN($Q227)/Vout))))))","v":0.275803681259142},{"$f":"(I$5*((90/$G$18)*(90/$G$18))/2)*(1+(SQRT(1+(4/(I$5*((90/$G$18)*(90/$G$18))))*$I$23*(1-(SQRT(2)*Vin_rms_min*(SIN($Q227)/Vout))))))","v":0.271750575924074},{"$f":"(J$5*((90/$G$18)*(90/$G$18))/2)*(1+(SQRT(1+(4/(J$5*((90/$G$18)*(90/$G$18))))*$J$23*(1-(SQRT(2)*Vin_rms_min*(SIN($Q227)/Vout))))))","v":0.270328719723183},{"$f":"(K$5*((90/$G$18)*(90/$G$18))/2)*(1+(SQRT(1+(4/(K$5*((90/$G$18)*(90/$G$18))))*$K$23*(1-(SQRT(2)*Vin_rms_min*(SIN($Q227)/Vout))))))","v":0.405493079584775},{"$f":"(L$5*((90/$G$18)*(90/$G$18))/2)*(1+(SQRT(1+(4/(L$5*((90/$G$18)*(90/$G$18))))*$L$23*(1-(SQRT(2)*Vin_rms_min*(SIN($Q227)/Vout))))))","v":0.540657439446367},null,{"$f":"R227*ABS(1/(Vout/(SQRT(2)*$C$25*SIN($Q227))))","v":0.0705242459744534},{"$f":"S227*ABS(1/(Vout/(SQRT(2)*$C$25*SIN($Q227))))","v":0.0688685970706268},{"$f":"T227*ABS(1/(Vout/(SQRT(2)*$C$25*SIN($Q227))))","v":0.0678565305277464},{"$f":"U227*ABS(1/(Vout/(SQRT(2)*$C$25*SIN($Q227))))","v":0.067501490880181},{"$f":"V227*ABS(1/(Vout/(SQRT(2)*$C$25*SIN($Q227))))","v":0.101252236320271},{"$f":"W227*ABS(1/(Vout/(SQRT(2)*$C$25*SIN($Q227))))","v":0.135002981760362},null,{"$f":"1/(0.0000128*(R227+Y227+$G$23))","v":40209.3006317316},{"$f":"1/(0.0000128*(S227+Z227+$H$23))","v":85413.1057111074},{"$f":"1/(0.0000128*(T227+AA227+$I$23))","v":110720.256762797},{"$f":"1/(0.0000128*(U227+AB227+$J$23))","v":231255.220959869},{"$f":"1/(0.0000128*(V227+AC227+$K$23))","v":154170.147306579},{"$f":"1/(0.0000128*(W227+AD227+$L$23))","v":115627.610479934}]
[null,null,null,null,null,null,null,null,null,null,null,null,null,null,null,null,{"$f":"Q227+0.01","v":2.22},{"$f":"(G$5*((90/$G$18)*(90/$G$18))/2)*(1+(SQRT(1+(4/(G$5*((90/$G$18)*(90/$G$18))))*$G$23*(1-(SQRT(2)*Vin_rms_min*(SIN($Q228)/Vout))))))","v":0.282748455914389},{"$f":"(H$5*((90/$G$18)*(90/$G$18))/2)*(1+(SQRT(1+(4/(H$5*((90/$G$18)*(90/$G$18))))*$H$23*(1-(SQRT(2)*Vin_rms_min*(SIN($Q228)/Vout))))))","v":0.276063216655144},{"$f":"(I$5*((90/$G$18)*(90/$G$18))/2)*(1+(SQRT(1+(4/(I$5*((90/$G$18)*(90/$G$18))))*$I$23*(1-(SQRT(2)*Vin_rms_min*(SIN($Q228)/Vout))))))","v":0.271976820331824},{"$f":"(J$5*((90/$G$18)*(90/$G$18))/2)*(1+(SQRT(1+(4/(J$5*((90/$G$18)*(90/$G$18))))*$J$23*(1-(SQRT(2)*Vin_rms_min*(SIN($Q228)/Vout))))))","v":0.270328719723183},{"$f":"(K$5*((90/$G$18)*(90/$G$18))/2)*(1+(SQRT(1+(4/(K$5*((90/$G$18)*(90/$G$18))))*$K$23*(1-(SQRT(2)*Vin_rms_min*(SIN($Q228)/Vout))))))","v":0.405493079584775},{"$f":"(L$5*((90/$G$18)*(90/$G$18))/2)*(1+(SQRT(1+(4/(L$5*((90/$G$18)*(90/$G$18))))*$L$23*(1-(SQRT(2)*Vin_rms_min*(SIN($Q228)/Vout))))))","v":0.540657439446367},null,{"$f":"R228*ABS(1/(Vout/(SQRT(2)*$C$25*SIN($Q228))))","v":0.0700744016694859},{"$f":"S228*ABS(1/(Vout/(SQRT(2)*$C$25*SIN($Q228))))","v":0.0684175786831536},{"$f":"T228*ABS(1/(Vout/(SQRT(2)*$C$25*SIN($Q228))))","v":0.0674048347712018},{"$f":"U228*ABS(1/(Vout/(SQRT(2)*$C$25*SIN($Q228))))","v":0.0669963810321067},{"$f":"V228*ABS(1/(Vout/(SQRT(2)*$C$25*SIN($Q228))))","v":0.10049457154816},{"$f":"W228*ABS(1/(Vout/(SQRT(2)*$C$25*SIN($Q228))))","v":0.133992762064213},null,{"$f":"1/(0.0000128*(R228+Y228+$G$23))","v":40212.1066751075},{"$f":"1/(0.0000128*(S228+Z228+$H$23))","v":85430.9903480246},{"$f":"1/(0.0000128*(T228+AA228+$I$23))","v":110755.644741837},{"$f":"1/(0.0000128*(U228+AB228+$J$23))","v":231601.502008222},{"$f":"1/(0.0000128*(V228+AC228+$K$23))","v":154401.001338815},{"$f":"1/(0.0000128*(W228+AD228+$L$23))","v":115800.751004111}]
[null,null,null,null,null,null,null,null,null,null,null,null,null,null,null,null,{"$f":"Q228+0.01","v":2.23},{"$f":"(G$5*((90/$G$18)*(90/$G$18))/2)*(1+(SQRT(1+(4/(G$5*((90/$G$18)*(90/$G$18))))*$G$23*(1-(SQRT(2)*Vin_rms_min*(SIN($Q229)/Vout))))))","v":0.283066493338116},{"$f":"(H$5*((90/$G$18)*(90/$G$18))/2)*(1+(SQRT(1+(4/(H$5*((90/$G$18)*(90/$G$18))))*$H$23*(1-(SQRT(2)*Vin_rms_min*(SIN($Q229)/Vout))))))","v":0.276325885310496},{"$f":"(I$5*((90/$G$18)*(90/$G$18))/2)*(1+(SQRT(1+(4/(I$5*((90/$G$18)*(90/$G$18))))*$I$23*(1-(SQRT(2)*Vin_rms_min*(SIN($Q229)/Vout))))))","v":0.272205810409827},{"$f":"(J$5*((90/$G$18)*(90/$G$18))/2)*(1+(SQRT(1+(4/(J$5*((90/$G$18)*(90/$G$18))))*$J$23*(1-(SQRT(2)*Vin_rms_min*(SIN($Q229)/Vout))))))","v":0.270328719723183},{"$f":"(K$5*((90/$G$18)*(90/$G$18))/2)*(1+(SQRT(1+(4/(K$5*((90/$G$18)*(90/$G$18))))*$K$23*(1-(SQRT(2)*Vin_rms_min*(SIN($Q229)/Vout))))))","v":0.405493079584775},{"$f":"(L$5*((90/$G$18)*(90/$G$18))/2)*(1+(SQRT(1+(4/(L$5*((90/$G$18)*(90/$G$18))))*$L$23*(1-(SQRT(2)*Vin_rms_min*(SIN($Q229)/Vout))))))","v":0.540657439446367},null,{"$f":"R229*ABS(1/(Vout/(SQRT(2)*$C$25*SIN($Q229))))","v":0.0696172961706331},{"$f":"S229*ABS(1/(Vout/(SQRT(2)*$C$25*SIN($Q229))))","v":0.0679595128706915},{"$f":"T229*ABS(1/(Vout/(SQRT(2)*$C$25*SIN($Q229))))","v":0.0669462227732922},{"$f":"U229*ABS(1/(Vout/(SQRT(2)*$C$25*SIN($Q229))))","v":0.0664845716017594},{"$f":"V229*ABS(1/(Vout/(SQRT(2)*$C$25*SIN($Q229))))","v":0.0997268574026391},{"$f":"W229*ABS(1/(Vout/(SQRT(2)*$C$25*SIN($Q229))))","v":0.132969143203519},null,{"$f":"1/(0.0000128*(R229+Y229+$G$23))","v":40214.9852806234},{"$f":"1/(0.0000128*(S229+Z229+$H$23))","v":85449.2482931655},{"$f":"1/(0.0000128*(T229+AA229+$I$23))","v":110791.710614996},{"$f":"1/(0.0000128*(U229+AB229+$J$23))","v":231953.435366743},{"$f":"1/(0.0000128*(V229+AC229+$K$23))","v":154635.623577829},{"$f":"1/(0.0000128*(W229+AD229+$L$23))","v":115976.717683371}]
[null,null,null,null,null,null,null,null,null,null,null,null,null,null,null,null,{"$f":"Q229+0.01","v":2.24},{"$f":"(G$5*((90/$G$18)*(90/$G$18))/2)*(1+(SQRT(1+(4/(G$5*((90/$G$18)*(90/$G$18))))*$G$23*(1-(SQRT(2)*Vin_rms_min*(SIN($Q230)/Vout))))))","v":0.283388259784421},{"$f":"(H$5*((90/$G$18)*(90/$G$18))/2)*(1+(SQRT(1+(4/(H$5*((90/$G$18)*(90/$G$18))))*$H$23*(1-(SQRT(2)*Vin_rms_min*(SIN($Q230)/Vout))))))","v":0.276591649909968},{"$f":"(I$5*((90/$G$18)*(90/$G$18))/2)*(1+(SQRT(1+(4/(I$5*((90/$G$18)*(90/$G$18))))*$I$23*(1-(SQRT(2)*Vin_rms_min*(SIN($Q230)/Vout))))))","v":0.272437514090524},{"$f":"(J$5*((90/$G$18)*(90/$G$18))/2)*(1+(SQRT(1+(4/(J$5*((90/$G$18)*(90/$G$18))))*$J$23*(1-(SQRT(2)*Vin_rms_min*(SIN($Q230)/Vout))))))","v":0.270328719723183},{"$f":"(K$5*((90/$G$18)*(90/$G$18))/2)*(1+(SQRT(1+(4/(K$5*((90/$G$18)*(90/$G$18))))*$K$23*(1-(SQRT(2)*Vin_rms_min*(SIN($Q230)/Vout))))))","v":0.405493079584775},{"$f":"(L$5*((90/$G$18)*(90/$G$18))/2)*(1+(SQRT(1+(4/(L$5*((90/$G$18)*(90/$G$18))))*$L$23*(1-(SQRT(2)*Vin_rms_min*(SIN($Q230)/Vout))))))","v":0.540657439446367},null,{"$f":"R230*ABS(1/(Vout/(SQRT(2)*$C$25*SIN($Q230))))","v":0.0691529268701694},{"$f":"S230*ABS(1/(Vout/(SQRT(2)*$C$25*SIN($Q230))))","v":0.0674944055680848},{"$f":"T230*ABS(1/(Vout/(SQRT(2)*$C$25*SIN($Q230))))","v":0.0664807056683457},{"$f":"U230*ABS(1/(Vout/(SQRT(2)*$C$25*SIN($Q230))))","v":0.0659661137696556},{"$f":"V230*ABS(1/(Vout/(SQRT(2)*$C$25*SIN($Q230))))","v":0.0989491706544833},{"$f":"W230*ABS(1/(Vout/(SQRT(2)*$C$25*SIN($Q230))))","v":0.131932227539311},null,{"$f":"1/(0.0000128*(R230+Y230+$G$23))","v":40217.9374814418},{"$f":"1/(0.0000128*(S230+Z230+$H$23))","v":85467.882954567},{"$f":"1/(0.0000128*(T230+AA230+$I$23))","v":110828.458976027},{"$f":"1/(0.0000128*(U230+AB230+$J$23))","v":232311.032520408},{"$f":"1/(0.0000128*(V230+AC230+$K$23))","v":154874.021680272},{"$f":"1/(0.0000128*(W230+AD230+$L$23))","v":116155.516260204}]
[null,null,null,null,null,null,null,null,null,null,null,null,null,null,null,null,{"$f":"Q230+0.01","v":2.25},{"$f":"(G$5*((90/$G$18)*(90/$G$18))/2)*(1+(SQRT(1+(4/(G$5*((90/$G$18)*(90/$G$18))))*$G$23*(1-(SQRT(2)*Vin_rms_min*(SIN($Q231)/Vout))))))","v":0.283713709114166},{"$f":"(H$5*((90/$G$18)*(90/$G$18))/2)*(1+(SQRT(1+(4/(H$5*((90/$G$18)*(90/$G$18))))*$H$23*(1-(SQRT(2)*Vin_rms_min*(SIN($Q231)/Vout))))))","v":0.276860472846089},{"$f":"(I$5*((90/$G$18)*(90/$G$18))/2)*(1+(SQRT(1+(4/(I$5*((90/$G$18)*(90/$G$18))))*$I$23*(1-(SQRT(2)*Vin_rms_min*(SIN($Q231)/Vout))))))","v":0.272671899046092},{"$f":"(J$5*((90/$G$18)*(90/$G$18))/2)*(1+(SQRT(1+(4/(J$5*((90/$G$18)*(90/$G$18))))*$J$23*(1-(SQRT(2)*Vin_rms_min*(SIN($Q231)/Vout))))))","v":0.270328719723183},{"$f":"(K$5*((90/$G$18)*(90/$G$18))/2)*(1+(SQRT(1+(4/(K$5*((90/$G$18)*(90/$G$18))))*$K$23*(1-(SQRT(2)*Vin_rms_min*(SIN($Q231)/Vout))))))","v":0.405493079584775},{"$f":"(L$5*((90/$G$18)*(90/$G$18))/2)*(1+(SQRT(1+(4/(L$5*((90/$G$18)*(90/$G$18))))*$L$23*(1-(SQRT(2)*Vin_rms_min*(SIN($Q231)/Vout))))))","v":0.540657439446367},null,{"$f":"R231*ABS(1/(Vout/(SQRT(2)*$C$25*SIN($Q231))))","v":0.0686812918153776},{"$f":"S231*ABS(1/(Vout/(SQRT(2)*$C$25*SIN($Q231))))","v":0.0670222633479936},{"$f":"T231*ABS(1/(Vout/(SQRT(2)*$C$25*SIN($Q231))))","v":0.0660082952167179},{"$f":"U231*ABS(1/(Vout/(SQRT(2)*$C$25*SIN($Q231))))","v":0.0654410593811463},{"$f":"V231*ABS(1/(Vout/(SQRT(2)*$C$25*SIN($Q231))))","v":0.0981615890717195},{"$f":"W231*ABS(1/(Vout/(SQRT(2)*$C$25*SIN($Q231))))","v":0.130882118762293},null,{"$f":"1/(0.0000128*(R231+Y231+$G$23))","v":40220.964305722},{"$f":"1/(0.0000128*(S231+Z231+$H$23))","v":85486.8977231763},{"$f":"1/(0.0000128*(T231+AA231+$I$23))","v":110865.894395867},{"$f":"1/(0.0000128*(U231+AB231+$J$23))","v":232674.30502054},{"$f":"1/(0.0000128*(V231+AC231+$K$23))","v":155116.203347026},{"$f":"1/(0.0000128*(W231+AD231+$L$23))","v":116337.15251027}]
[null,null,null,null,null,null,null,null,null,null,null,null,null,null,null,null,{"$f":"Q231+0.01","v":2.26},{"$f":"(G$5*((90/$G$18)*(90/$G$18))/2)*(1+(SQRT(1+(4/(G$5*((90/$G$18)*(90/$G$18))))*$G$23*(1-(SQRT(2)*Vin_rms_min*(SIN($Q232)/Vout))))))","v":0.284042794854163},{"$f":"(H$5*((90/$G$18)*(90/$G$18))/2)*(1+(SQRT(1+(4/(H$5*((90/$G$18)*(90/$G$18))))*$H$23*(1-(SQRT(2)*Vin_rms_min*(SIN($Q232)/Vout))))))","v":0.277132316228723},{"$f":"(I$5*((90/$G$18)*(90/$G$18))/2)*(1+(SQRT(1+(4/(I$5*((90/$G$18)*(90/$G$18))))*$I$23*(1-(SQRT(2)*Vin_rms_min*(SIN($Q232)/Vout))))))","v":0.272908932696468},{"$f":"(J$5*((90/$G$18)*(90/$G$18))/2)*(1+(SQRT(1+(4/(J$5*((90/$G$18)*(90/$G$18))))*$J$23*(1-(SQRT(2)*Vin_rms_min*(SIN($Q232)/Vout))))))","v":0.270328719723183},{"$f":"(K$5*((90/$G$18)*(90/$G$18))/2)*(1+(SQRT(1+(4/(K$5*((90/$G$18)*(90/$G$18))))*$K$23*(1-(SQRT(2)*Vin_rms_min*(SIN($Q232)/Vout))))))","v":0.405493079584775},{"$f":"(L$5*((90/$G$18)*(90/$G$18))/2)*(1+(SQRT(1+(4/(L$5*((90/$G$18)*(90/$G$18))))*$L$23*(1-(SQRT(2)*Vin_rms_min*(SIN($Q232)/Vout))))))","v":0.540657439446367},null,{"$f":"R232*ABS(1/(Vout/(SQRT(2)*$C$25*SIN($Q232))))","v":0.0682023897316739},{"$f":"S232*ABS(1/(Vout/(SQRT(2)*$C$25*SIN($Q232))))","v":0.0665430934390619},{"$f":"T232*ABS(1/(Vout/(SQRT(2)*$C$25*SIN($Q232))))","v":0.0655290038199215},{"$f":"U232*ABS(1/(Vout/(SQRT(2)*$C$25*SIN($Q232))))","v":0.064909460941233},{"$f":"V232*ABS(1/(Vout/(SQRT(2)*$C$25*SIN($Q232))))","v":0.0973641914118495},{"$f":"W232*ABS(1/(Vout/(SQRT(2)*$C$25*SIN($Q232))))","v":0.129818921882466},null,{"$f":"1/(0.0000128*(R232+Y232+$G$23))","v":40224.0667759253},{"$f":"1/(0.0000128*(S232+Z232+$H$23))","v":85506.2959704765},{"$f":"1/(0.0000128*(T232+AA232+$I$23))","v":110904.021419327},{"$f":"1/(0.0000128*(U232+AB232+$J$23))","v":233043.264478892},{"$f":"1/(0.0000128*(V232+AC232+$K$23))","v":155362.176319261},{"$f":"1/(0.0000128*(W232+AD232+$L$23))","v":116521.632239446}]
[null,null,null,null,null,null,null,null,null,null,null,null,null,null,null,null,{"$f":"Q232+0.01","v":2.27},{"$f":"(G$5*((90/$G$18)*(90/$G$18))/2)*(1+(SQRT(1+(4/(G$5*((90/$G$18)*(90/$G$18))))*$G$23*(1-(SQRT(2)*Vin_rms_min*(SIN($Q233)/Vout))))))","v":0.284375470209146},{"$f":"(H$5*((90/$G$18)*(90/$G$18))/2)*(1+(SQRT(1+(4/(H$5*((90/$G$18)*(90/$G$18))))*$H$23*(1-(SQRT(2)*Vin_rms_min*(SIN($Q233)/Vout))))))","v":0.277407141894611},{"$f":"(I$5*((90/$G$18)*(90/$G$18))/2)*(1+(SQRT(1+(4/(I$5*((90/$G$18)*(90/$G$18))))*$I$23*(1-(SQRT(2)*Vin_rms_min*(SIN($Q233)/Vout))))))","v":0.273148582217347},{"$f":"(J$5*((90/$G$18)*(90/$G$18))/2)*(1+(SQRT(1+(4/(J$5*((90/$G$18)*(90/$G$18))))*$J$23*(1-(SQRT(2)*Vin_rms_min*(SIN($Q233)/Vout))))))","v":0.270328719723183},{"$f":"(K$5*((90/$G$18)*(90/$G$18))/2)*(1+(SQRT(1+(4/(K$5*((90/$G$18)*(90/$G$18))))*$K$23*(1-(SQRT(2)*Vin_rms_min*(SIN($Q233)/Vout))))))","v":0.405493079584775},{"$f":"(L$5*((90/$G$18)*(90/$G$18))/2)*(1+(SQRT(1+(4/(L$5*((90/$G$18)*(90/$G$18))))*$L$23*(1-(SQRT(2)*Vin_rms_min*(SIN($Q233)/Vout))))))","v":0.540657439446367},null,{"$f":"R233*ABS(1/(Vout/(SQRT(2)*$C$25*SIN($Q233))))","v":0.0677162200455507},{"$f":"S233*ABS(1/(Vout/(SQRT(2)*$C$25*SIN($Q233))))","v":0.0660569037439383},{"$f":"T233*ABS(1/(Vout/(SQRT(2)*$C$25*SIN($Q233))))","v":0.0650428445356296},{"$f":"U233*ABS(1/(Vout/(SQRT(2)*$C$25*SIN($Q233))))","v":0.0643713716093166},{"$f":"V233*ABS(1/(Vout/(SQRT(2)*$C$25*SIN($Q233))))","v":0.0965570574139749},{"$f":"W233*ABS(1/(Vout/(SQRT(2)*$C$25*SIN($Q233))))","v":0.128742743218633},null,{"$f":"1/(0.0000128*(R233+Y233+$G$23))","v":40227.2459081241},{"$f":"1/(0.0000128*(S233+Z233+$H$23))","v":85526.0810461209},{"$f":"1/(0.0000128*(T233+AA233+$I$23))","v":110942.844561789},{"$f":"1/(0.0000128*(U233+AB233+$J$23))","v":233417.92256157},{"$f":"1/(0.0000128*(V233+AC233+$K$23))","v":155611.94837438},{"$f":"1/(0.0000128*(W233+AD233+$L$23))","v":116708.961280785}]
[null,null,null,null,null,null,null,null,null,null,null,null,null,null,null,null,{"$f":"Q233+0.01","v":2.28},{"$f":"(G$5*((90/$G$18)*(90/$G$18))/2)*(1+(SQRT(1+(4/(G$5*((90/$G$18)*(90/$G$18))))*$G$23*(1-(SQRT(2)*Vin_rms_min*(SIN($Q234)/Vout))))))","v":0.284711688073661},{"$f":"(H$5*((90/$G$18)*(90/$G$18))/2)*(1+(SQRT(1+(4/(H$5*((90/$G$18)*(90/$G$18))))*$H$23*(1-(SQRT(2)*Vin_rms_min*(SIN($Q234)/Vout))))))","v":0.277684911416854},{"$f":"(I$5*((90/$G$18)*(90/$G$18))/2)*(1+(SQRT(1+(4/(I$5*((90/$G$18)*(90/$G$18))))*$I$23*(1-(SQRT(2)*Vin_rms_min*(SIN($Q234)/Vout))))))","v":0.273390814548152},{"$f":"(J$5*((90/$G$18)*(90/$G$18))/2)*(1+(SQRT(1+(4/(J$5*((90/$G$18)*(90/$G$18))))*$J$23*(1-(SQRT(2)*Vin_rms_min*(SIN($Q234)/Vout))))))","v":0.270328719723183},{"$f":"(K$5*((90/$G$18)*(90/$G$18))/2)*(1+(SQRT(1+(4/(K$5*((90/$G$18)*(90/$G$18))))*$K$23*(1-(SQRT(2)*Vin_rms_min*(SIN($Q234)/Vout))))))","v":0.405493079584775},{"$f":"(L$5*((90/$G$18)*(90/$G$18))/2)*(1+(SQRT(1+(4/(L$5*((90/$G$18)*(90/$G$18))))*$L$23*(1-(SQRT(2)*Vin_rms_min*(SIN($Q234)/Vout))))))","v":0.540657439446367},null,{"$f":"R234*ABS(1/(Vout/(SQRT(2)*$C$25*SIN($Q234))))","v":0.0672227829073239},{"$f":"S234*ABS(1/(Vout/(SQRT(2)*$C$25*SIN($Q234))))","v":0.0655637028571344},{"$f":"T234*ABS(1/(Vout/(SQRT(2)*$C$25*SIN($Q234))))","v":0.0645498310925405},{"$f":"U234*ABS(1/(Vout/(SQRT(2)*$C$25*SIN($Q234))))","v":0.0638268451938819},{"$f":"V234*ABS(1/(Vout/(SQRT(2)*$C$25*SIN($Q234))))","v":0.0957402677908228},{"$f":"W234*ABS(1/(Vout/(SQRT(2)*$C$25*SIN($Q234))))","v":0.127653690387764},null,{"$f":"1/(0.0000128*(R234+Y234+$G$23))","v":40230.5027113168},{"$f":"1/(0.0000128*(S234+Z234+$H$23))","v":85546.256275579},{"$f":"1/(0.0000128*(T234+AA234+$I$23))","v":110982.368305916},{"$f":"1/(0.0000128*(U234+AB234+$J$23))","v":233798.290982794},{"$f":"1/(0.0000128*(V234+AC234+$K$23))","v":155865.527321863},{"$f":"1/(0.0000128*(W234+AD234+$L$23))","v":116899.145491397}]
[null,null,null,null,null,null,null,null,null,null,null,null,null,null,null,null,{"$f":"Q234+0.01","v":2.29},{"$f":"(G$5*((90/$G$18)*(90/$G$18))/2)*(1+(SQRT(1+(4/(G$5*((90/$G$18)*(90/$G$18))))*$G$23*(1-(SQRT(2)*Vin_rms_min*(SIN($Q235)/Vout))))))","v":0.285051401043897},{"$f":"(H$5*((90/$G$18)*(90/$G$18))/2)*(1+(SQRT(1+(4/(H$5*((90/$G$18)*(90/$G$18))))*$H$23*(1-(SQRT(2)*Vin_rms_min*(SIN($Q235)/Vout))))))","v":0.277965586114367},{"$f":"(I$5*((90/$G$18)*(90/$G$18))/2)*(1+(SQRT(1+(4/(I$5*((90/$G$18)*(90/$G$18))))*$I$23*(1-(SQRT(2)*Vin_rms_min*(SIN($Q235)/Vout))))))","v":0.273635596399969},{"$f":"(J$5*((90/$G$18)*(90/$G$18))/2)*(1+(SQRT(1+(4/(J$5*((90/$G$18)*(90/$G$18))))*$J$23*(1-(SQRT(2)*Vin_rms_min*(SIN($Q235)/Vout))))))","v":0.270328719723183},{"$f":"(K$5*((90/$G$18)*(90/$G$18))/2)*(1+(SQRT(1+(4/(K$5*((90/$G$18)*(90/$G$18))))*$K$23*(1-(SQRT(2)*Vin_rms_min*(SIN($Q235)/Vout))))))","v":0.405493079584775},{"$f":"(L$5*((90/$G$18)*(90/$G$18))/2)*(1+(SQRT(1+(4/(L$5*((90/$G$18)*(90/$G$18))))*$L$23*(1-(SQRT(2)*Vin_rms_min*(SIN($Q235)/Vout))))))","v":0.540657439446367},null,{"$f":"R235*ABS(1/(Vout/(SQRT(2)*$C$25*SIN($Q235))))","v":0.0667220792136682},{"$f":"S235*ABS(1/(Vout/(SQRT(2)*$C$25*SIN($Q235))))","v":0.0650635000827112},{"$f":"T235*ABS(1/(Vout/(SQRT(2)*$C$25*SIN($Q235))))","v":0.0640499779050955},{"$f":"U235*ABS(1/(Vout/(SQRT(2)*$C$25*SIN($Q235))))","v":0.0632759361471166},{"$f":"V235*ABS(1/(Vout/(SQRT(2)*$C$25*SIN($Q235))))","v":0.094913904220675},{"$f":"W235*ABS(1/(Vout/(SQRT(2)*$C$25*SIN($Q235))))","v":0.126551872294233},null,{"$f":"1/(0.0000128*(R235+Y235+$G$23))","v":40233.8381867473},{"$f":"1/(0.0000128*(S235+Z235+$H$23))","v":85566.824957794},{"$f":"1/(0.0000128*(T235+AA235+$I$23))","v":111022.597098361},{"$f":"1/(0.0000128*(U235+AB235+$J$23))","v":234184.381498482},{"$f":"1/(0.0000128*(V235+AC235+$K$23))","v":156122.920998988},{"$f":"1/(0.0000128*(W235+AD235+$L$23))","v":117092.190749241}]
[null,null,null,null,null,null,null,null,null,null,null,null,null,null,null,null,{"$f":"Q235+0.01","v":2.29999999999999},{"$f":"(G$5*((90/$G$18)*(90/$G$18))/2)*(1+(SQRT(1+(4/(G$5*((90/$G$18)*(90/$G$18))))*$G$23*(1-(SQRT(2)*Vin_rms_min*(SIN($Q236)/Vout))))))","v":0.285394561429431},{"$f":"(H$5*((90/$G$18)*(90/$G$18))/2)*(1+(SQRT(1+(4/(H$5*((90/$G$18)*(90/$G$18))))*$H$23*(1-(SQRT(2)*Vin_rms_min*(SIN($Q236)/Vout))))))","v":0.278249127061259},{"$f":"(I$5*((90/$G$18)*(90/$G$18))/2)*(1+(SQRT(1+(4/(I$5*((90/$G$18)*(90/$G$18))))*$I$23*(1-(SQRT(2)*Vin_rms_min*(SIN($Q236)/Vout))))))","v":0.273882894263439},{"$f":"(J$5*((90/$G$18)*(90/$G$18))/2)*(1+(SQRT(1+(4/(J$5*((90/$G$18)*(90/$G$18))))*$J$23*(1-(SQRT(2)*Vin_rms_min*(SIN($Q236)/Vout))))))","v":0.270328719723183},{"$f":"(K$5*((90/$G$18)*(90/$G$18))/2)*(1+(SQRT(1+(4/(K$5*((90/$G$18)*(90/$G$18))))*$K$23*(1-(SQRT(2)*Vin_rms_min*(SIN($Q236)/Vout))))))","v":0.405493079584775},{"$f":"(L$5*((90/$G$18)*(90/$G$18))/2)*(1+(SQRT(1+(4/(L$5*((90/$G$18)*(90/$G$18))))*$L$23*(1-(SQRT(2)*Vin_rms_min*(SIN($Q236)/Vout))))))","v":0.540657439446367},null,{"$f":"R236*ABS(1/(Vout/(SQRT(2)*$C$25*SIN($Q236))))","v":0.06621411062993},{"$f":"S236*ABS(1/(Vout/(SQRT(2)*$C$25*SIN($Q236))))","v":0.0645563054517818},{"$f":"T236*ABS(1/(Vout/(SQRT(2)*$C$25*SIN($Q236))))","v":0.0635433000880394},{"$f":"U236*ABS(1/(Vout/(SQRT(2)*$C$25*SIN($Q236))))","v":0.0627186995594665},{"$f":"V236*ABS(1/(Vout/(SQRT(2)*$C$25*SIN($Q236))))","v":0.0940780493391997},{"$f":"W236*ABS(1/(Vout/(SQRT(2)*$C$25*SIN($Q236))))","v":0.125437399118933},null,{"$f":"1/(0.0000128*(R236+Y236+$G$23))","v":40237.2533272304},{"$f":"1/(0.0000128*(S236+Z236+$H$23))","v":85587.7903628535},{"$f":"1/(0.0000128*(T236+AA236+$I$23))","v":111063.535346487},{"$f":"1/(0.0000128*(U236+AB236+$J$23))","v":234576.205899668},{"$f":"1/(0.0000128*(V236+AC236+$K$23))","v":156384.137266446},{"$f":"1/(0.0000128*(W236+AD236+$L$23))","v":117288.102949834}]
[null,null,null,null,null,null,null,null,null,null,null,null,null,null,null,null,{"$f":"Q236+0.01","v":2.30999999999999},{"$f":"(G$5*((90/$G$18)*(90/$G$18))/2)*(1+(SQRT(1+(4/(G$5*((90/$G$18)*(90/$G$18))))*$G$23*(1-(SQRT(2)*Vin_rms_min*(SIN($Q237)/Vout))))))","v":0.285741121264899},{"$f":"(H$5*((90/$G$18)*(90/$G$18))/2)*(1+(SQRT(1+(4/(H$5*((90/$G$18)*(90/$G$18))))*$H$23*(1-(SQRT(2)*Vin_rms_min*(SIN($Q237)/Vout))))))","v":0.278535495096172},{"$f":"(I$5*((90/$G$18)*(90/$G$18))/2)*(1+(SQRT(1+(4/(I$5*((90/$G$18)*(90/$G$18))))*$I$23*(1-(SQRT(2)*Vin_rms_min*(SIN($Q237)/Vout))))))","v":0.274132674416614},{"$f":"(J$5*((90/$G$18)*(90/$G$18))/2)*(1+(SQRT(1+(4/(J$5*((90/$G$18)*(90/$G$18))))*$J$23*(1-(SQRT(2)*Vin_rms_min*(SIN($Q237)/Vout))))))","v":0.270328719723183},{"$f":"(K$5*((90/$G$18)*(90/$G$18))/2)*(1+(SQRT(1+(4/(K$5*((90/$G$18)*(90/$G$18))))*$K$23*(1-(SQRT(2)*Vin_rms_min*(SIN($Q237)/Vout))))))","v":0.405493079584775},{"$f":"(L$5*((90/$G$18)*(90/$G$18))/2)*(1+(SQRT(1+(4/(L$5*((90/$G$18)*(90/$G$18))))*$L$23*(1-(SQRT(2)*Vin_rms_min*(SIN($Q237)/Vout))))))","v":0.540657439446367},null,{"$f":"R237*ABS(1/(Vout/(SQRT(2)*$C$25*SIN($Q237))))","v":0.0656988796122017},{"$f":"S237*ABS(1/(Vout/(SQRT(2)*$C$25*SIN($Q237))))","v":0.0640421297398203},{"$f":"T237*ABS(1/(Vout/(SQRT(2)*$C$25*SIN($Q237))))","v":0.0630298134708146},{"$f":"U237*ABS(1/(Vout/(SQRT(2)*$C$25*SIN($Q237))))","v":0.0621551911541257},{"$f":"V237*ABS(1/(Vout/(SQRT(2)*$C$25*SIN($Q237))))","v":0.0932327867311886},{"$f":"W237*ABS(1/(Vout/(SQRT(2)*$C$25*SIN($Q237))))","v":0.124310382308251},null,{"$f":"1/(0.0000128*(R237+Y237+$G$23))","v":40240.749116483},{"$f":"1/(0.0000128*(S237+Z237+$H$23))","v":85609.1557296735},{"$f":"1/(0.0000128*(T237+AA237+$I$23))","v":111105.187415099},{"$f":"1/(0.0000128*(U237+AB237+$J$23))","v":234973.776005748},{"$f":"1/(0.0000128*(V237+AC237+$K$23))","v":156649.184003832},{"$f":"1/(0.0000128*(W237+AD237+$L$23))","v":117486.888002874}]
[null,null,null,null,null,null,null,null,null,null,null,null,null,null,null,null,{"$f":"Q237+0.01","v":2.31999999999999},{"$f":"(G$5*((90/$G$18)*(90/$G$18))/2)*(1+(SQRT(1+(4/(G$5*((90/$G$18)*(90/$G$18))))*$G$23*(1-(SQRT(2)*Vin_rms_min*(SIN($Q238)/Vout))))))","v":0.286091032321569},{"$f":"(H$5*((90/$G$18)*(90/$G$18))/2)*(1+(SQRT(1+(4/(H$5*((90/$G$18)*(90/$G$18))))*$H$23*(1-(SQRT(2)*Vin_rms_min*(SIN($Q238)/Vout))))))","v":0.278824650831547},{"$f":"(I$5*((90/$G$18)*(90/$G$18))/2)*(1+(SQRT(1+(4/(I$5*((90/$G$18)*(90/$G$18))))*$I$23*(1-(SQRT(2)*Vin_rms_min*(SIN($Q238)/Vout))))))","v":0.274384902932774},{"$f":"(J$5*((90/$G$18)*(90/$G$18))/2)*(1+(SQRT(1+(4/(J$5*((90/$G$18)*(90/$G$18))))*$J$23*(1-(SQRT(2)*Vin_rms_min*(SIN($Q238)/Vout))))))","v":0.270328719723183},{"$f":"(K$5*((90/$G$18)*(90/$G$18))/2)*(1+(SQRT(1+(4/(K$5*((90/$G$18)*(90/$G$18))))*$K$23*(1-(SQRT(2)*Vin_rms_min*(SIN($Q238)/Vout))))))","v":0.405493079584775},{"$f":"(L$5*((90/$G$18)*(90/$G$18))/2)*(1+(SQRT(1+(4/(L$5*((90/$G$18)*(90/$G$18))))*$L$23*(1-(SQRT(2)*Vin_rms_min*(SIN($Q238)/Vout))))))","v":0.540657439446367},null,{"$f":"R238*ABS(1/(Vout/(SQRT(2)*$C$25*SIN($Q238))))","v":0.065176389429146},{"$f":"S238*ABS(1/(Vout/(SQRT(2)*$C$25*SIN($Q238))))","v":0.0635209844837645},{"$f":"T238*ABS(1/(Vout/(SQRT(2)*$C$25*SIN($Q238))))","v":0.0625095346117797},{"$f":"U238*ABS(1/(Vout/(SQRT(2)*$C$25*SIN($Q238))))","v":0.0615854672814654},{"$f":"V238*ABS(1/(Vout/(SQRT(2)*$C$25*SIN($Q238))))","v":0.0923782009221982},{"$f":"W238*ABS(1/(Vout/(SQRT(2)*$C$25*SIN($Q238))))","v":0.123170934562931},null,{"$f":"1/(0.0000128*(R238+Y238+$G$23))","v":40244.3265284613},{"$f":"1/(0.0000128*(S238+Z238+$H$23))","v":85630.9242636971},{"$f":"1/(0.0000128*(T238+AA238+$I$23))","v":111147.557623186},{"$f":"1/(0.0000128*(U238+AB238+$J$23))","v":235377.103657536},{"$f":"1/(0.0000128*(V238+AC238+$K$23))","v":156918.069105024},{"$f":"1/(0.0000128*(W238+AD238+$L$23))","v":117688.551828768}]
[null,null,null,null,null,null,null,null,null,null,null,null,null,null,null,null,{"$f":"Q238+0.01","v":2.32999999999999},{"$f":"(G$5*((90/$G$18)*(90/$G$18))/2)*(1+(SQRT(1+(4/(G$5*((90/$G$18)*(90/$G$18))))*$G$23*(1-(SQRT(2)*Vin_rms_min*(SIN($Q239)/Vout))))))","v":0.286444246118834},{"$f":"(H$5*((90/$G$18)*(90/$G$18))/2)*(1+(SQRT(1+(4/(H$5*((90/$G$18)*(90/$G$18))))*$H$23*(1-(SQRT(2)*Vin_rms_min*(SIN($Q239)/Vout))))))","v":0.279116554662834},{"$f":"(I$5*((90/$G$18)*(90/$G$18))/2)*(1+(SQRT(1+(4/(I$5*((90/$G$18)*(90/$G$18))))*$I$23*(1-(SQRT(2)*Vin_rms_min*(SIN($Q239)/Vout))))))","v":0.274639545688185},{"$f":"(J$5*((90/$G$18)*(90/$G$18))/2)*(1+(SQRT(1+(4/(J$5*((90/$G$18)*(90/$G$18))))*$J$23*(1-(SQRT(2)*Vin_rms_min*(SIN($Q239)/Vout))))))","v":0.270328719723183},{"$f":"(K$5*((90/$G$18)*(90/$G$18))/2)*(1+(SQRT(1+(4/(K$5*((90/$G$18)*(90/$G$18))))*$K$23*(1-(SQRT(2)*Vin_rms_min*(SIN($Q239)/Vout))))))","v":0.405493079584775},{"$f":"(L$5*((90/$G$18)*(90/$G$18))/2)*(1+(SQRT(1+(4/(L$5*((90/$G$18)*(90/$G$18))))*$L$23*(1-(SQRT(2)*Vin_rms_min*(SIN($Q239)/Vout))))))","v":0.540657439446367},null,{"$f":"R239*ABS(1/(Vout/(SQRT(2)*$C$25*SIN($Q239))))","v":0.0646466441835575},{"$f":"S239*ABS(1/(Vout/(SQRT(2)*$C$25*SIN($Q239))))","v":0.0629928819989041},{"$f":"T239*ABS(1/(Vout/(SQRT(2)*$C$25*SIN($Q239))))","v":0.0619824808122428},{"$f":"U239*ABS(1/(Vout/(SQRT(2)*$C$25*SIN($Q239))))","v":0.061009584913398},{"$f":"V239*ABS(1/(Vout/(SQRT(2)*$C$25*SIN($Q239))))","v":0.091514377370097},{"$f":"W239*ABS(1/(Vout/(SQRT(2)*$C$25*SIN($Q239))))","v":0.122019169826796},null,{"$f":"1/(0.0000128*(R239+Y239+$G$23))","v":40247.9865267048},{"$f":"1/(0.0000128*(S239+Z239+$H$23))","v":85653.0991346087},{"$f":"1/(0.0000128*(T239+AA239+$I$23))","v":111190.65024067},{"$f":"1/(0.0000128*(U239+AB239+$J$23))","v":235786.200710145},{"$f":"1/(0.0000128*(V239+AC239+$K$23))","v":157190.80047343},{"$f":"1/(0.0000128*(W239+AD239+$L$23))","v":117893.100355072}]
[null,null,null,null,null,null,null,null,null,null,null,null,null,null,null,null,{"$f":"Q239+0.01","v":2.33999999999999},{"$f":"(G$5*((90/$G$18)*(90/$G$18))/2)*(1+(SQRT(1+(4/(G$5*((90/$G$18)*(90/$G$18))))*$G$23*(1-(SQRT(2)*Vin_rms_min*(SIN($Q240)/Vout))))))","v":0.286800713935602},{"$f":"(H$5*((90/$G$18)*(90/$G$18))/2)*(1+(SQRT(1+(4/(H$5*((90/$G$18)*(90/$G$18))))*$H$23*(1-(SQRT(2)*Vin_rms_min*(SIN($Q240)/Vout))))))","v":0.279411166777632},{"$f":"(I$5*((90/$G$18)*(90/$G$18))/2)*(1+(SQRT(1+(4/(I$5*((90/$G$18)*(90/$G$18))))*$I$23*(1-(SQRT(2)*Vin_rms_min*(SIN($Q240)/Vout))))))","v":0.274896568369817},{"$f":"(J$5*((90/$G$18)*(90/$G$18))/2)*(1+(SQRT(1+(4/(J$5*((90/$G$18)*(90/$G$18))))*$J$23*(1-(SQRT(2)*Vin_rms_min*(SIN($Q240)/Vout))))))","v":0.270328719723183},{"$f":"(K$5*((90/$G$18)*(90/$G$18))/2)*(1+(SQRT(1+(4/(K$5*((90/$G$18)*(90/$G$18))))*$K$23*(1-(SQRT(2)*Vin_rms_min*(SIN($Q240)/Vout))))))","v":0.405493079584775},{"$f":"(L$5*((90/$G$18)*(90/$G$18))/2)*(1+(SQRT(1+(4/(L$5*((90/$G$18)*(90/$G$18))))*$L$23*(1-(SQRT(2)*Vin_rms_min*(SIN($Q240)/Vout))))))","v":0.540657439446367},null,{"$f":"R240*ABS(1/(Vout/(SQRT(2)*$C$25*SIN($Q240))))","v":0.0641096488336479},{"$f":"S240*ABS(1/(Vout/(SQRT(2)*$C$25*SIN($Q240))))","v":0.0624578353955423},{"$f":"T240*ABS(1/(Vout/(SQRT(2)*$C$25*SIN($Q240))))","v":0.0614486701303018},{"$f":"U240*ABS(1/(Vout/(SQRT(2)*$C$25*SIN($Q240))))","v":0.0604276016376804},{"$f":"V240*ABS(1/(Vout/(SQRT(2)*$C$25*SIN($Q240))))","v":0.0906414024565206},{"$f":"W240*ABS(1/(Vout/(SQRT(2)*$C$25*SIN($Q240))))","v":0.120855203275361},null,{"$f":"1/(0.0000128*(R240+Y240+$G$23))","v":40251.7300636867},{"$f":"1/(0.0000128*(S240+Z240+$H$23))","v":85675.6834740646},{"$f":"1/(0.0000128*(T240+AA240+$I$23))","v":111234.469485176},{"$f":"1/(0.0000128*(U240+AB240+$J$23))","v":236201.079025678},{"$f":"1/(0.0000128*(V240+AC240+$K$23))","v":157467.386017119},{"$f":"1/(0.0000128*(W240+AD240+$L$23))","v":118100.539512839}]
[null,null,null,null,null,null,null,null,null,null,null,null,null,null,null,null,{"$f":"Q240+0.01","v":2.34999999999999},{"$f":"(G$5*((90/$G$18)*(90/$G$18))/2)*(1+(SQRT(1+(4/(G$5*((90/$G$18)*(90/$G$18))))*$G$23*(1-(SQRT(2)*Vin_rms_min*(SIN($Q241)/Vout))))))","v":0.287160386821591},{"$f":"(H$5*((90/$G$18)*(90/$G$18))/2)*(1+(SQRT(1+(4/(H$5*((90/$G$18)*(90/$G$18))))*$H$23*(1-(SQRT(2)*Vin_rms_min*(SIN($Q241)/Vout))))))","v":0.279708447164753},{"$f":"(I$5*((90/$G$18)*(90/$G$18))/2)*(1+(SQRT(1+(4/(I$5*((90/$G$18)*(90/$G$18))))*$I$23*(1-(SQRT(2)*Vin_rms_min*(SIN($Q241)/Vout))))))","v":0.275155936483007},{"$f":"(J$5*((90/$G$18)*(90/$G$18))/2)*(1+(SQRT(1+(4/(J$5*((90/$G$18)*(90/$G$18))))*$J$23*(1-(SQRT(2)*Vin_rms_min*(SIN($Q241)/Vout))))))","v":0.270328719723183},{"$f":"(K$5*((90/$G$18)*(90/$G$18))/2)*(1+(SQRT(1+(4/(K$5*((90/$G$18)*(90/$G$18))))*$K$23*(1-(SQRT(2)*Vin_rms_min*(SIN($Q241)/Vout))))))","v":0.405493079584775},{"$f":"(L$5*((90/$G$18)*(90/$G$18))/2)*(1+(SQRT(1+(4/(L$5*((90/$G$18)*(90/$G$18))))*$L$23*(1-(SQRT(2)*Vin_rms_min*(SIN($Q241)/Vout))))))","v":0.540657439446367},null,{"$f":"R241*ABS(1/(Vout/(SQRT(2)*$C$25*SIN($Q241))))","v":0.0635654092140441},{"$f":"S241*ABS(1/(Vout/(SQRT(2)*$C$25*SIN($Q241))))","v":0.061915858595422},{"$f":"T241*ABS(1/(Vout/(SQRT(2)*$C$25*SIN($Q241))))","v":0.0609081213944819},{"$f":"U241*ABS(1/(Vout/(SQRT(2)*$C$25*SIN($Q241))))","v":0.0598395756521553},{"$f":"V241*ABS(1/(Vout/(SQRT(2)*$C$25*SIN($Q241))))","v":0.0897593634782329},{"$f":"W241*ABS(1/(Vout/(SQRT(2)*$C$25*SIN($Q241))))","v":0.119679151304311},null,{"$f":"1/(0.0000128*(R241+Y241+$G$23))","v":40255.5580801717},{"$f":"1/(0.0000128*(S241+Z241+$H$23))","v":85698.6803734396},{"$f":"1/(0.0000128*(T241+AA241+$I$23))","v":111279.019518804},{"$f":"1/(0.0000128*(U241+AB241+$J$23))","v":236621.750465734},{"$f":"1/(0.0000128*(V241+AC241+$K$23))","v":157747.833643822},{"$f":"1/(0.0000128*(W241+AD241+$L$23))","v":118310.875232867}]
[null,null,null,null,null,null,null,null,null,null,null,null,null,null,null,null,{"$f":"Q241+0.01","v":2.35999999999999},{"$f":"(G$5*((90/$G$18)*(90/$G$18))/2)*(1+(SQRT(1+(4/(G$5*((90/$G$18)*(90/$G$18))))*$G$23*(1-(SQRT(2)*Vin_rms_min*(SIN($Q242)/Vout))))))","v":0.287523215608515},{"$f":"(H$5*((90/$G$18)*(90/$G$18))/2)*(1+(SQRT(1+(4/(H$5*((90/$G$18)*(90/$G$18))))*$H$23*(1-(SQRT(2)*Vin_rms_min*(SIN($Q242)/Vout))))))","v":0.280008355623214},{"$f":"(I$5*((90/$G$18)*(90/$G$18))/2)*(1+(SQRT(1+(4/(I$5*((90/$G$18)*(90/$G$18))))*$I$23*(1-(SQRT(2)*Vin_rms_min*(SIN($Q242)/Vout))))))","v":0.275417615359061},{"$f":"(J$5*((90/$G$18)*(90/$G$18))/2)*(1+(SQRT(1+(4/(J$5*((90/$G$18)*(90/$G$18))))*$J$23*(1-(SQRT(2)*Vin_rms_min*(SIN($Q242)/Vout))))))","v":0.270328719723183},{"$f":"(K$5*((90/$G$18)*(90/$G$18))/2)*(1+(SQRT(1+(4/(K$5*((90/$G$18)*(90/$G$18))))*$K$23*(1-(SQRT(2)*Vin_rms_min*(SIN($Q242)/Vout))))))","v":0.405493079584775},{"$f":"(L$5*((90/$G$18)*(90/$G$18))/2)*(1+(SQRT(1+(4/(L$5*((90/$G$18)*(90/$G$18))))*$L$23*(1-(SQRT(2)*Vin_rms_min*(SIN($Q242)/Vout))))))","v":0.540657439446367},null,{"$f":"R242*ABS(1/(Vout/(SQRT(2)*$C$25*SIN($Q242))))","v":0.0630139320564863},{"$f":"S242*ABS(1/(Vout/(SQRT(2)*$C$25*SIN($Q242))))","v":0.0613669663479067},{"$f":"T242*ABS(1/(Vout/(SQRT(2)*$C$25*SIN($Q242))))","v":0.0603608542171624},{"$f":"U242*ABS(1/(Vout/(SQRT(2)*$C$25*SIN($Q242))))","v":0.059245565758931},{"$f":"V242*ABS(1/(Vout/(SQRT(2)*$C$25*SIN($Q242))))","v":0.0888683486383965},{"$f":"W242*ABS(1/(Vout/(SQRT(2)*$C$25*SIN($Q242))))","v":0.118491131517862},null,{"$f":"1/(0.0000128*(R242+Y242+$G$23))","v":40259.471504581},{"$f":"1/(0.0000128*(S242+Z242+$H$23))","v":85722.0928815928},{"$f":"1/(0.0000128*(T242+AA242+$I$23))","v":111324.304444929},{"$f":"1/(0.0000128*(U242+AB242+$J$23))","v":237048.226883707},{"$f":"1/(0.0000128*(V242+AC242+$K$23))","v":158032.151255805},{"$f":"1/(0.0000128*(W242+AD242+$L$23))","v":118524.113441854}]
[null,null,null,null,null,null,null,null,null,null,null,null,null,null,null,null,{"$f":"Q242+0.01","v":2.36999999999999},{"$f":"(G$5*((90/$G$18)*(90/$G$18))/2)*(1+(SQRT(1+(4/(G$5*((90/$G$18)*(90/$G$18))))*$G$23*(1-(SQRT(2)*Vin_rms_min*(SIN($Q243)/Vout))))))","v":0.287889150921169},{"$f":"(H$5*((90/$G$18)*(90/$G$18))/2)*(1+(SQRT(1+(4/(H$5*((90/$G$18)*(90/$G$18))))*$H$23*(1-(SQRT(2)*Vin_rms_min*(SIN($Q243)/Vout))))))","v":0.280310851771158},{"$f":"(I$5*((90/$G$18)*(90/$G$18))/2)*(1+(SQRT(1+(4/(I$5*((90/$G$18)*(90/$G$18))))*$I$23*(1-(SQRT(2)*Vin_rms_min*(SIN($Q243)/Vout))))))","v":0.275681570162808},{"$f":"(J$5*((90/$G$18)*(90/$G$18))/2)*(1+(SQRT(1+(4/(J$5*((90/$G$18)*(90/$G$18))))*$J$23*(1-(SQRT(2)*Vin_rms_min*(SIN($Q243)/Vout))))))","v":0.270328719723183},{"$f":"(K$5*((90/$G$18)*(90/$G$18))/2)*(1+(SQRT(1+(4/(K$5*((90/$G$18)*(90/$G$18))))*$K$23*(1-(SQRT(2)*Vin_rms_min*(SIN($Q243)/Vout))))))","v":0.405493079584775},{"$f":"(L$5*((90/$G$18)*(90/$G$18))/2)*(1+(SQRT(1+(4/(L$5*((90/$G$18)*(90/$G$18))))*$L$23*(1-(SQRT(2)*Vin_rms_min*(SIN($Q243)/Vout))))))","v":0.540657439446367},null,{"$f":"R243*ABS(1/(Vout/(SQRT(2)*$C$25*SIN($Q243))))","v":0.0624552250102159},{"$f":"S243*ABS(1/(Vout/(SQRT(2)*$C$25*SIN($Q243))))","v":0.0608111742459055},{"$f":"T243*ABS(1/(Vout/(SQRT(2)*$C$25*SIN($Q243))))","v":0.0598068890077849},{"$f":"U243*ABS(1/(Vout/(SQRT(2)*$C$25*SIN($Q243))))","v":0.058645631358502},{"$f":"V243*ABS(1/(Vout/(SQRT(2)*$C$25*SIN($Q243))))","v":0.087968447037753},{"$f":"W243*ABS(1/(Vout/(SQRT(2)*$C$25*SIN($Q243))))","v":0.117291262717004},null,{"$f":"1/(0.0000128*(R243+Y243+$G$23))","v":40263.4712523643},{"$f":"1/(0.0000128*(S243+Z243+$H$23))","v":85745.9240026504},{"$f":"1/(0.0000128*(T243+AA243+$I$23))","v":111370.328305004},{"$f":"1/(0.0000128*(U243+AB243+$J$23))","v":237480.520116905},{"$f":"1/(0.0000128*(V243+AC243+$K$23))","v":158320.346744603},{"$f":"1/(0.0000128*(W243+AD243+$L$23))","v":118740.260058453}]
[null,null,null,null,null,null,null,null,null,null,null,null,null,null,null,null,{"$f":"Q243+0.01","v":2.37999999999999},{"$f":"(G$5*((90/$G$18)*(90/$G$18))/2)*(1+(SQRT(1+(4/(G$5*((90/$G$18)*(90/$G$18))))*$G$23*(1-(SQRT(2)*Vin_rms_min*(SIN($Q244)/Vout))))))","v":0.288258143188395},{"$f":"(H$5*((90/$G$18)*(90/$G$18))/2)*(1+(SQRT(1+(4/(H$5*((90/$G$18)*(90/$G$18))))*$H$23*(1-(SQRT(2)*Vin_rms_min*(SIN($Q244)/Vout))))))","v":0.280615895054682},{"$f":"(I$5*((90/$G$18)*(90/$G$18))/2)*(1+(SQRT(1+(4/(I$5*((90/$G$18)*(90/$G$18))))*$I$23*(1-(SQRT(2)*Vin_rms_min*(SIN($Q244)/Vout))))))","v":0.275947765900082},{"$f":"(J$5*((90/$G$18)*(90/$G$18))/2)*(1+(SQRT(1+(4/(J$5*((90/$G$18)*(90/$G$18))))*$J$23*(1-(SQRT(2)*Vin_rms_min*(SIN($Q244)/Vout))))))","v":0.270328719723183},{"$f":"(K$5*((90/$G$18)*(90/$G$18))/2)*(1+(SQRT(1+(4/(K$5*((90/$G$18)*(90/$G$18))))*$K$23*(1-(SQRT(2)*Vin_rms_min*(SIN($Q244)/Vout))))))","v":0.405493079584775},{"$f":"(L$5*((90/$G$18)*(90/$G$18))/2)*(1+(SQRT(1+(4/(L$5*((90/$G$18)*(90/$G$18))))*$L$23*(1-(SQRT(2)*Vin_rms_min*(SIN($Q244)/Vout))))))","v":0.540657439446367},null,{"$f":"R244*ABS(1/(Vout/(SQRT(2)*$C$25*SIN($Q244))))","v":0.0618892966620408},{"$f":"S244*ABS(1/(Vout/(SQRT(2)*$C$25*SIN($Q244))))","v":0.0602484987415353},{"$f":"T244*ABS(1/(Vout/(SQRT(2)*$C$25*SIN($Q244))))","v":0.059246246985834},{"$f":"U244*ABS(1/(Vout/(SQRT(2)*$C$25*SIN($Q244))))","v":0.0580398324438083},{"$f":"V244*ABS(1/(Vout/(SQRT(2)*$C$25*SIN($Q244))))","v":0.0870597486657124},{"$f":"W244*ABS(1/(Vout/(SQRT(2)*$C$25*SIN($Q244))))","v":0.116079664887617},null,{"$f":"1/(0.0000128*(R244+Y244+$G$23))","v":40267.5582253803},{"$f":"1/(0.0000128*(S244+Z244+$H$23))","v":85770.1766938081},{"$f":"1/(0.0000128*(T244+AA244+$I$23))","v":111417.095075384},{"$f":"1/(0.0000128*(U244+AB244+$J$23))","v":237918.641978449},{"$f":"1/(0.0000128*(V244+AC244+$K$23))","v":158612.427985632},{"$f":"1/(0.0000128*(W244+AD244+$L$23))","v":118959.320989224}]
[null,null,null,null,null,null,null,null,null,null,null,null,null,null,null,null,{"$f":"Q244+0.01","v":2.38999999999999},{"$f":"(G$5*((90/$G$18)*(90/$G$18))/2)*(1+(SQRT(1+(4/(G$5*((90/$G$18)*(90/$G$18))))*$G$23*(1-(SQRT(2)*Vin_rms_min*(SIN($Q245)/Vout))))))","v":0.288630142653946},{"$f":"(H$5*((90/$G$18)*(90/$G$18))/2)*(1+(SQRT(1+(4/(H$5*((90/$G$18)*(90/$G$18))))*$H$23*(1-(SQRT(2)*Vin_rms_min*(SIN($Q245)/Vout))))))","v":0.280923444756593},{"$f":"(I$5*((90/$G$18)*(90/$G$18))/2)*(1+(SQRT(1+(4/(I$5*((90/$G$18)*(90/$G$18))))*$I$23*(1-(SQRT(2)*Vin_rms_min*(SIN($Q245)/Vout))))))","v":0.276216167425153},{"$f":"(J$5*((90/$G$18)*(90/$G$18))/2)*(1+(SQRT(1+(4/(J$5*((90/$G$18)*(90/$G$18))))*$J$23*(1-(SQRT(2)*Vin_rms_min*(SIN($Q245)/Vout))))))","v":0.270328719723183},{"$f":"(K$5*((90/$G$18)*(90/$G$18))/2)*(1+(SQRT(1+(4/(K$5*((90/$G$18)*(90/$G$18))))*$K$23*(1-(SQRT(2)*Vin_rms_min*(SIN($Q245)/Vout))))))","v":0.405493079584775},{"$f":"(L$5*((90/$G$18)*(90/$G$18))/2)*(1+(SQRT(1+(4/(L$5*((90/$G$18)*(90/$G$18))))*$L$23*(1-(SQRT(2)*Vin_rms_min*(SIN($Q245)/Vout))))))","v":0.540657439446367},null,{"$f":"R245*ABS(1/(Vout/(SQRT(2)*$C$25*SIN($Q245))))","v":0.0613161565560678},{"$f":"S245*ABS(1/(Vout/(SQRT(2)*$C$25*SIN($Q245))))","v":0.059678957161509},{"$f":"T245*ABS(1/(Vout/(SQRT(2)*$C$25*SIN($Q245))))","v":0.0586789501935833},{"$f":"U245*ABS(1/(Vout/(SQRT(2)*$C$25*SIN($Q245))))","v":0.0574282295942366},{"$f":"V245*ABS(1/(Vout/(SQRT(2)*$C$25*SIN($Q245))))","v":0.0861423443913549},{"$f":"W245*ABS(1/(Vout/(SQRT(2)*$C$25*SIN($Q245))))","v":0.114856459188473},null,{"$f":"1/(0.0000128*(R245+Y245+$G$23))","v":40271.733311285},{"$f":"1/(0.0000128*(S245+Z245+$H$23))","v":85794.8538631534},{"$f":"1/(0.0000128*(T245+AA245+$I$23))","v":111464.60866417},{"$f":"1/(0.0000128*(U245+AB245+$J$23))","v":238362.604248976},{"$f":"1/(0.0000128*(V245+AC245+$K$23))","v":158908.402832651},{"$f":"1/(0.0000128*(W245+AD245+$L$23))","v":119181.302124488}]
[null,null,null,null,null,null,null,null,null,null,null,null,null,null,null,null,{"$f":"Q245+0.01","v":2.39999999999999},{"$f":"(G$5*((90/$G$18)*(90/$G$18))/2)*(1+(SQRT(1+(4/(G$5*((90/$G$18)*(90/$G$18))))*$G$23*(1-(SQRT(2)*Vin_rms_min*(SIN($Q246)/Vout))))))","v":0.289005099387217},{"$f":"(H$5*((90/$G$18)*(90/$G$18))/2)*(1+(SQRT(1+(4/(H$5*((90/$G$18)*(90/$G$18))))*$H$23*(1-(SQRT(2)*Vin_rms_min*(SIN($Q246)/Vout))))))","v":0.281233460005068},{"$f":"(I$5*((90/$G$18)*(90/$G$18))/2)*(1+(SQRT(1+(4/(I$5*((90/$G$18)*(90/$G$18))))*$I$23*(1-(SQRT(2)*Vin_rms_min*(SIN($Q246)/Vout))))))","v":0.276486739448081},{"$f":"(J$5*((90/$G$18)*(90/$G$18))/2)*(1+(SQRT(1+(4/(J$5*((90/$G$18)*(90/$G$18))))*$J$23*(1-(SQRT(2)*Vin_rms_min*(SIN($Q246)/Vout))))))","v":0.270328719723183},{"$f":"(K$5*((90/$G$18)*(90/$G$18))/2)*(1+(SQRT(1+(4/(K$5*((90/$G$18)*(90/$G$18))))*$K$23*(1-(SQRT(2)*Vin_rms_min*(SIN($Q246)/Vout))))))","v":0.405493079584775},{"$f":"(L$5*((90/$G$18)*(90/$G$18))/2)*(1+(SQRT(1+(4/(L$5*((90/$G$18)*(90/$G$18))))*$L$23*(1-(SQRT(2)*Vin_rms_min*(SIN($Q246)/Vout))))))","v":0.540657439446367},null,{"$f":"R246*ABS(1/(Vout/(SQRT(2)*$C$25*SIN($Q246))))","v":0.0607358152130919},{"$f":"S246*ABS(1/(Vout/(SQRT(2)*$C$25*SIN($Q246))))","v":0.059102567722242},{"$f":"T246*ABS(1/(Vout/(SQRT(2)*$C$25*SIN($Q246))))","v":0.0581050215085988},{"$f":"U246*ABS(1/(Vout/(SQRT(2)*$C$25*SIN($Q246))))","v":0.0568108839695622},{"$f":"V246*ABS(1/(Vout/(SQRT(2)*$C$25*SIN($Q246))))","v":0.0852163259543433},{"$f":"W246*ABS(1/(Vout/(SQRT(2)*$C$25*SIN($Q246))))","v":0.113621767939124},null,{"$f":"1/(0.0000128*(R246+Y246+$G$23))","v":40275.9973829278},{"$f":"1/(0.0000128*(S246+Z246+$H$23))","v":85819.9583675076},{"$f":"1/(0.0000128*(T246+AA246+$I$23))","v":111512.872908065},{"$f":"1/(0.0000128*(U246+AB246+$J$23))","v":238812.418668136},{"$f":"1/(0.0000128*(V246+AC246+$K$23))","v":159208.279112091},{"$f":"1/(0.0000128*(W246+AD246+$L$23))","v":119406.209334068}]
[null,null,null,null,null,null,null,null,null,null,null,null,null,null,null,null,{"$f":"Q246+0.01","v":2.40999999999999},{"$f":"(G$5*((90/$G$18)*(90/$G$18))/2)*(1+(SQRT(1+(4/(G$5*((90/$G$18)*(90/$G$18))))*$G$23*(1-(SQRT(2)*Vin_rms_min*(SIN($Q247)/Vout))))))","v":0.289382963293867},{"$f":"(H$5*((90/$G$18)*(90/$G$18))/2)*(1+(SQRT(1+(4/(H$5*((90/$G$18)*(90/$G$18))))*$H$23*(1-(SQRT(2)*Vin_rms_min*(SIN($Q247)/Vout))))))","v":0.281545899782237},{"$f":"(I$5*((90/$G$18)*(90/$G$18))/2)*(1+(SQRT(1+(4/(I$5*((90/$G$18)*(90/$G$18))))*$I$23*(1-(SQRT(2)*Vin_rms_min*(SIN($Q247)/Vout))))))","v":0.276759446542011},{"$f":"(J$5*((90/$G$18)*(90/$G$18))/2)*(1+(SQRT(1+(4/(J$5*((90/$G$18)*(90/$G$18))))*$J$23*(1-(SQRT(2)*Vin_rms_min*(SIN($Q247)/Vout))))))","v":0.270328719723183},{"$f":"(K$5*((90/$G$18)*(90/$G$18))/2)*(1+(SQRT(1+(4/(K$5*((90/$G$18)*(90/$G$18))))*$K$23*(1-(SQRT(2)*Vin_rms_min*(SIN($Q247)/Vout))))))","v":0.405493079584775},{"$f":"(L$5*((90/$G$18)*(90/$G$18))/2)*(1+(SQRT(1+(4/(L$5*((90/$G$18)*(90/$G$18))))*$L$23*(1-(SQRT(2)*Vin_rms_min*(SIN($Q247)/Vout))))))","v":0.540657439446367},null,{"$f":"R247*ABS(1/(Vout/(SQRT(2)*$C$25*SIN($Q247))))","v":0.0601482841496318},{"$f":"S247*ABS(1/(Vout/(SQRT(2)*$C$25*SIN($Q247))))","v":0.0585193495446683},{"$f":"T247*ABS(1/(Vout/(SQRT(2)*$C$25*SIN($Q247))))","v":0.0575244846559925},{"$f":"U247*ABS(1/(Vout/(SQRT(2)*$C$25*SIN($Q247))))","v":0.0561878573038331},{"$f":"V247*ABS(1/(Vout/(SQRT(2)*$C$25*SIN($Q247))))","v":0.0842817859557496},{"$f":"W247*ABS(1/(Vout/(SQRT(2)*$C$25*SIN($Q247))))","v":0.112375714607666},null,{"$f":"1/(0.0000128*(R247+Y247+$G$23))","v":40280.3512977565},{"$f":"1/(0.0000128*(S247+Z247+$H$23))","v":85845.4930102893},{"$f":"1/(0.0000128*(T247+AA247+$I$23))","v":111561.89156925},{"$f":"1/(0.0000128*(U247+AB247+$J$23))","v":239268.096925859},{"$f":"1/(0.0000128*(V247+AC247+$K$23))","v":159512.06461724},{"$f":"1/(0.0000128*(W247+AD247+$L$23))","v":119634.04846293}]
[null,null,null,null,null,null,null,null,null,null,null,null,null,null,null,null,{"$f":"Q247+0.01","v":2.41999999999999},{"$f":"(G$5*((90/$G$18)*(90/$G$18))/2)*(1+(SQRT(1+(4/(G$5*((90/$G$18)*(90/$G$18))))*$G$23*(1-(SQRT(2)*Vin_rms_min*(SIN($Q248)/Vout))))))","v":0.289763684126317},{"$f":"(H$5*((90/$G$18)*(90/$G$18))/2)*(1+(SQRT(1+(4/(H$5*((90/$G$18)*(90/$G$18))))*$H$23*(1-(SQRT(2)*Vin_rms_min*(SIN($Q248)/Vout))))))","v":0.281860722932664},{"$f":"(I$5*((90/$G$18)*(90/$G$18))/2)*(1+(SQRT(1+(4/(I$5*((90/$G$18)*(90/$G$18))))*$I$23*(1-(SQRT(2)*Vin_rms_min*(SIN($Q248)/Vout))))))","v":0.277034253150394},{"$f":"(J$5*((90/$G$18)*(90/$G$18))/2)*(1+(SQRT(1+(4/(J$5*((90/$G$18)*(90/$G$18))))*$J$23*(1-(SQRT(2)*Vin_rms_min*(SIN($Q248)/Vout))))))","v":0.270328719723183},{"$f":"(K$5*((90/$G$18)*(90/$G$18))/2)*(1+(SQRT(1+(4/(K$5*((90/$G$18)*(90/$G$18))))*$K$23*(1-(SQRT(2)*Vin_rms_min*(SIN($Q248)/Vout))))))","v":0.405493079584775},{"$f":"(L$5*((90/$G$18)*(90/$G$18))/2)*(1+(SQRT(1+(4/(L$5*((90/$G$18)*(90/$G$18))))*$L$23*(1-(SQRT(2)*Vin_rms_min*(SIN($Q248)/Vout))))))","v":0.540657439446367},null,{"$f":"R248*ABS(1/(Vout/(SQRT(2)*$C$25*SIN($Q248))))","v":0.0595535758966022},{"$f":"S248*ABS(1/(Vout/(SQRT(2)*$C$25*SIN($Q248))))","v":0.0579293226687585},{"$f":"T248*ABS(1/(Vout/(SQRT(2)*$C$25*SIN($Q248))))","v":0.056937364220419},{"$f":"U248*ABS(1/(Vout/(SQRT(2)*$C$25*SIN($Q248))))","v":0.0555592118991967},{"$f":"V248*ABS(1/(Vout/(SQRT(2)*$C$25*SIN($Q248))))","v":0.083338817848795},{"$f":"W248*ABS(1/(Vout/(SQRT(2)*$C$25*SIN($Q248))))","v":0.111118423798393},null,{"$f":"1/(0.0000128*(R248+Y248+$G$23))","v":40284.7958972307},{"$f":"1/(0.0000128*(S248+Z248+$H$23))","v":85871.4605393983},{"$f":"1/(0.0000128*(T248+AA248+$I$23))","v":111611.668332279},{"$f":"1/(0.0000128*(U248+AB248+$J$23))","v":239729.650653424},{"$f":"1/(0.0000128*(V248+AC248+$K$23))","v":159819.767102283},{"$f":"1/(0.0000128*(W248+AD248+$L$23))","v":119864.825326712}]
[null,null,null,null,null,null,null,null,null,null,null,null,null,null,null,null,{"$f":"Q248+0.01","v":2.42999999999999},{"$f":"(G$5*((90/$G$18)*(90/$G$18))/2)*(1+(SQRT(1+(4/(G$5*((90/$G$18)*(90/$G$18))))*$G$23*(1-(SQRT(2)*Vin_rms_min*(SIN($Q249)/Vout))))))","v":0.290147211494111},{"$f":"(H$5*((90/$G$18)*(90/$G$18))/2)*(1+(SQRT(1+(4/(H$5*((90/$G$18)*(90/$G$18))))*$H$23*(1-(SQRT(2)*Vin_rms_min*(SIN($Q249)/Vout))))))","v":0.282177888171743},{"$f":"(I$5*((90/$G$18)*(90/$G$18))/2)*(1+(SQRT(1+(4/(I$5*((90/$G$18)*(90/$G$18))))*$I$23*(1-(SQRT(2)*Vin_rms_min*(SIN($Q249)/Vout))))))","v":0.277311123594138},{"$f":"(J$5*((90/$G$18)*(90/$G$18))/2)*(1+(SQRT(1+(4/(J$5*((90/$G$18)*(90/$G$18))))*$J$23*(1-(SQRT(2)*Vin_rms_min*(SIN($Q249)/Vout))))))","v":0.270328719723183},{"$f":"(K$5*((90/$G$18)*(90/$G$18))/2)*(1+(SQRT(1+(4/(K$5*((90/$G$18)*(90/$G$18))))*$K$23*(1-(SQRT(2)*Vin_rms_min*(SIN($Q249)/Vout))))))","v":0.405493079584775},{"$f":"(L$5*((90/$G$18)*(90/$G$18))/2)*(1+(SQRT(1+(4/(L$5*((90/$G$18)*(90/$G$18))))*$L$23*(1-(SQRT(2)*Vin_rms_min*(SIN($Q249)/Vout))))))","v":0.540657439446367},null,{"$f":"R249*ABS(1/(Vout/(SQRT(2)*$C$25*SIN($Q249))))","v":0.0589517040176136},{"$f":"S249*ABS(1/(Vout/(SQRT(2)*$C$25*SIN($Q249))))","v":0.0573325080677313},{"$f":"T249*ABS(1/(Vout/(SQRT(2)*$C$25*SIN($Q249))))","v":0.0563436856578073},{"$f":"U249*ABS(1/(Vout/(SQRT(2)*$C$25*SIN($Q249))))","v":0.0549250106196695},{"$f":"V249*ABS(1/(Vout/(SQRT(2)*$C$25*SIN($Q249))))","v":0.0823875159295042},{"$f":"W249*ABS(1/(Vout/(SQRT(2)*$C$25*SIN($Q249))))","v":0.109850021239339},null,{"$f":"1/(0.0000128*(R249+Y249+$G$23))","v":40289.3320062442},{"$f":"1/(0.0000128*(S249+Z249+$H$23))","v":85897.8636451228},{"$f":"1/(0.0000128*(T249+AA249+$I$23))","v":111662.206800993},{"$f":"1/(0.0000128*(U249+AB249+$J$23))","v":240197.091414287},{"$f":"1/(0.0000128*(V249+AC249+$K$23))","v":160131.394276191},{"$f":"1/(0.0000128*(W249+AD249+$L$23))","v":120098.545707143}]
[null,null,null,null,null,null,null,null,null,null,null,null,null,null,null,null,{"$f":"Q249+0.01","v":2.43999999999999},{"$f":"(G$5*((90/$G$18)*(90/$G$18))/2)*(1+(SQRT(1+(4/(G$5*((90/$G$18)*(90/$G$18))))*$G$23*(1-(SQRT(2)*Vin_rms_min*(SIN($Q250)/Vout))))))","v":0.290533494874165},{"$f":"(H$5*((90/$G$18)*(90/$G$18))/2)*(1+(SQRT(1+(4/(H$5*((90/$G$18)*(90/$G$18))))*$H$23*(1-(SQRT(2)*Vin_rms_min*(SIN($Q250)/Vout))))))","v":0.282497354093991},{"$f":"(I$5*((90/$G$18)*(90/$G$18))/2)*(1+(SQRT(1+(4/(I$5*((90/$G$18)*(90/$G$18))))*$I$23*(1-(SQRT(2)*Vin_rms_min*(SIN($Q250)/Vout))))))","v":0.277590022078686},{"$f":"(J$5*((90/$G$18)*(90/$G$18))/2)*(1+(SQRT(1+(4/(J$5*((90/$G$18)*(90/$G$18))))*$J$23*(1-(SQRT(2)*Vin_rms_min*(SIN($Q250)/Vout))))))","v":0.270328719723183},{"$f":"(K$5*((90/$G$18)*(90/$G$18))/2)*(1+(SQRT(1+(4/(K$5*((90/$G$18)*(90/$G$18))))*$K$23*(1-(SQRT(2)*Vin_rms_min*(SIN($Q250)/Vout))))))","v":0.405493079584775},{"$f":"(L$5*((90/$G$18)*(90/$G$18))/2)*(1+(SQRT(1+(4/(L$5*((90/$G$18)*(90/$G$18))))*$L$23*(1-(SQRT(2)*Vin_rms_min*(SIN($Q250)/Vout))))))","v":0.540657439446367},null,{"$f":"R250*ABS(1/(Vout/(SQRT(2)*$C$25*SIN($Q250))))","v":0.0583426831268892},{"$f":"S250*ABS(1/(Vout/(SQRT(2)*$C$25*SIN($Q250))))","v":0.056728927661951},{"$f":"T250*ABS(1/(Vout/(SQRT(2)*$C$25*SIN($Q250))))","v":0.0557434753068227},{"$f":"U250*ABS(1/(Vout/(SQRT(2)*$C$25*SIN($Q250))))","v":0.054285316884851},{"$f":"V250*ABS(1/(Vout/(SQRT(2)*$C$25*SIN($Q250))))","v":0.0814279753272765},{"$f":"W250*ABS(1/(Vout/(SQRT(2)*$C$25*SIN($Q250))))","v":0.108570633769702},null,{"$f":"1/(0.0000128*(R250+Y250+$G$23))","v":40293.960432556},{"$f":"1/(0.0000128*(S250+Z250+$H$23))","v":85924.7049580674},{"$f":"1/(0.0000128*(T250+AA250+$I$23))","v":111713.510495456},{"$f":"1/(0.0000128*(U250+AB250+$J$23))","v":240670.430694698},{"$f":"1/(0.0000128*(V250+AC250+$K$23))","v":160446.953796465},{"$f":"1/(0.0000128*(W250+AD250+$L$23))","v":120335.215347349}]
[null,null,null,null,null,null,null,null,null,null,null,null,null,null,null,null,{"$f":"Q250+0.01","v":2.44999999999999},{"$f":"(G$5*((90/$G$18)*(90/$G$18))/2)*(1+(SQRT(1+(4/(G$5*((90/$G$18)*(90/$G$18))))*$G$23*(1-(SQRT(2)*Vin_rms_min*(SIN($Q251)/Vout))))))","v":0.290922483620873},{"$f":"(H$5*((90/$G$18)*(90/$G$18))/2)*(1+(SQRT(1+(4/(H$5*((90/$G$18)*(90/$G$18))))*$H$23*(1-(SQRT(2)*Vin_rms_min*(SIN($Q251)/Vout))))))","v":0.282819079181254},{"$f":"(I$5*((90/$G$18)*(90/$G$18))/2)*(1+(SQRT(1+(4/(I$5*((90/$G$18)*(90/$G$18))))*$I$23*(1-(SQRT(2)*Vin_rms_min*(SIN($Q251)/Vout))))))","v":0.277870912701017},{"$f":"(J$5*((90/$G$18)*(90/$G$18))/2)*(1+(SQRT(1+(4/(J$5*((90/$G$18)*(90/$G$18))))*$J$23*(1-(SQRT(2)*Vin_rms_min*(SIN($Q251)/Vout))))))","v":0.270328719723183},{"$f":"(K$5*((90/$G$18)*(90/$G$18))/2)*(1+(SQRT(1+(4/(K$5*((90/$G$18)*(90/$G$18))))*$K$23*(1-(SQRT(2)*Vin_rms_min*(SIN($Q251)/Vout))))))","v":0.405493079584775},{"$f":"(L$5*((90/$G$18)*(90/$G$18))/2)*(1+(SQRT(1+(4/(L$5*((90/$G$18)*(90/$G$18))))*$L$23*(1-(SQRT(2)*Vin_rms_min*(SIN($Q251)/Vout))))))","v":0.540657439446367},null,{"$f":"R251*ABS(1/(Vout/(SQRT(2)*$C$25*SIN($Q251))))","v":0.0577265289067916},{"$f":"S251*ABS(1/(Vout/(SQRT(2)*$C$25*SIN($Q251))))","v":0.0561186043325029},{"$f":"T251*ABS(1/(Vout/(SQRT(2)*$C$25*SIN($Q251))))","v":0.0551367604000509},{"$f":"U251*ABS(1/(Vout/(SQRT(2)*$C$25*SIN($Q251))))","v":0.0536401946635817},{"$f":"V251*ABS(1/(Vout/(SQRT(2)*$C$25*SIN($Q251))))","v":0.0804602919953726},{"$f":"W251*ABS(1/(Vout/(SQRT(2)*$C$25*SIN($Q251))))","v":0.107280389327163},null,{"$f":"1/(0.0000128*(R251+Y251+$G$23))","v":40298.6819662309},{"$f":"1/(0.0000128*(S251+Z251+$H$23))","v":85951.9870471049},{"$f":"1/(0.0000128*(T251+AA251+$I$23))","v":111765.582848908},{"$f":"1/(0.0000128*(U251+AB251+$J$23))","v":241149.679894077},{"$f":"1/(0.0000128*(V251+AC251+$K$23))","v":160766.453262718},{"$f":"1/(0.0000128*(W251+AD251+$L$23))","v":120574.839947038}]
[null,null,null,null,null,null,null,null,null,null,null,null,null,null,null,null,{"$f":"Q251+0.01","v":2.45999999999999},{"$f":"(G$5*((90/$G$18)*(90/$G$18))/2)*(1+(SQRT(1+(4/(G$5*((90/$G$18)*(90/$G$18))))*$G$23*(1-(SQRT(2)*Vin_rms_min*(SIN($Q252)/Vout))))))","v":0.291314126976082},{"$f":"(H$5*((90/$G$18)*(90/$G$18))/2)*(1+(SQRT(1+(4/(H$5*((90/$G$18)*(90/$G$18))))*$H$23*(1-(SQRT(2)*Vin_rms_min*(SIN($Q252)/Vout))))))","v":0.283143021810802},{"$f":"(I$5*((90/$G$18)*(90/$G$18))/2)*(1+(SQRT(1+(4/(I$5*((90/$G$18)*(90/$G$18))))*$I$23*(1-(SQRT(2)*Vin_rms_min*(SIN($Q252)/Vout))))))","v":0.278153759456572},{"$f":"(J$5*((90/$G$18)*(90/$G$18))/2)*(1+(SQRT(1+(4/(J$5*((90/$G$18)*(90/$G$18))))*$J$23*(1-(SQRT(2)*Vin_rms_min*(SIN($Q252)/Vout))))))","v":0.270328719723183},{"$f":"(K$5*((90/$G$18)*(90/$G$18))/2)*(1+(SQRT(1+(4/(K$5*((90/$G$18)*(90/$G$18))))*$K$23*(1-(SQRT(2)*Vin_rms_min*(SIN($Q252)/Vout))))))","v":0.405493079584775},{"$f":"(L$5*((90/$G$18)*(90/$G$18))/2)*(1+(SQRT(1+(4/(L$5*((90/$G$18)*(90/$G$18))))*$L$23*(1-(SQRT(2)*Vin_rms_min*(SIN($Q252)/Vout))))))","v":0.540657439446367},null,{"$f":"R252*ABS(1/(Vout/(SQRT(2)*$C$25*SIN($Q252))))","v":0.0571032581249503},{"$f":"S252*ABS(1/(Vout/(SQRT(2)*$C$25*SIN($Q252))))","v":0.0555015619344411},{"$f":"T252*ABS(1/(Vout/(SQRT(2)*$C$25*SIN($Q252))))","v":0.0545235690748977},{"$f":"U252*ABS(1/(Vout/(SQRT(2)*$C$25*SIN($Q252))))","v":0.0529897084675461},{"$f":"V252*ABS(1/(Vout/(SQRT(2)*$C$25*SIN($Q252))))","v":0.0794845627013191},{"$f":"W252*ABS(1/(Vout/(SQRT(2)*$C$25*SIN($Q252))))","v":0.105979416935092},null,{"$f":"1/(0.0000128*(R252+Y252+$G$23))","v":40303.497379089},{"$f":"1/(0.0000128*(S252+Z252+$H$23))","v":85979.7124173514},{"$f":"1/(0.0000128*(T252+AA252+$I$23))","v":111818.427204742},{"$f":"1/(0.0000128*(U252+AB252+$J$23))","v":241634.850315161},{"$f":"1/(0.0000128*(V252+AC252+$K$23))","v":161089.900210107},{"$f":"1/(0.0000128*(W252+AD252+$L$23))","v":120817.42515758}]
[null,null,null,null,null,null,null,null,null,null,null,null,null,null,null,null,{"$f":"Q252+0.01","v":2.46999999999999},{"$f":"(G$5*((90/$G$18)*(90/$G$18))/2)*(1+(SQRT(1+(4/(G$5*((90/$G$18)*(90/$G$18))))*$G$23*(1-(SQRT(2)*Vin_rms_min*(SIN($Q253)/Vout))))))","v":0.291708374078937},{"$f":"(H$5*((90/$G$18)*(90/$G$18))/2)*(1+(SQRT(1+(4/(H$5*((90/$G$18)*(90/$G$18))))*$H$23*(1-(SQRT(2)*Vin_rms_min*(SIN($Q253)/Vout))))))","v":0.283469140263334},{"$f":"(I$5*((90/$G$18)*(90/$G$18))/2)*(1+(SQRT(1+(4/(I$5*((90/$G$18)*(90/$G$18))))*$I$23*(1-(SQRT(2)*Vin_rms_min*(SIN($Q253)/Vout))))))","v":0.278438526246098},{"$f":"(J$5*((90/$G$18)*(90/$G$18))/2)*(1+(SQRT(1+(4/(J$5*((90/$G$18)*(90/$G$18))))*$J$23*(1-(SQRT(2)*Vin_rms_min*(SIN($Q253)/Vout))))))","v":0.270328719723183},{"$f":"(K$5*((90/$G$18)*(90/$G$18))/2)*(1+(SQRT(1+(4/(K$5*((90/$G$18)*(90/$G$18))))*$K$23*(1-(SQRT(2)*Vin_rms_min*(SIN($Q253)/Vout))))))","v":0.405493079584775},{"$f":"(L$5*((90/$G$18)*(90/$G$18))/2)*(1+(SQRT(1+(4/(L$5*((90/$G$18)*(90/$G$18))))*$L$23*(1-(SQRT(2)*Vin_rms_min*(SIN($Q253)/Vout))))))","v":0.540657439446367},null,{"$f":"R253*ABS(1/(Vout/(SQRT(2)*$C$25*SIN($Q253))))","v":0.0564728886509812},{"$f":"S253*ABS(1/(Vout/(SQRT(2)*$C$25*SIN($Q253))))","v":0.0548778253097004},{"$f":"T253*ABS(1/(Vout/(SQRT(2)*$C$25*SIN($Q253))))","v":0.0539039303842},{"$f":"U253*ABS(1/(Vout/(SQRT(2)*$C$25*SIN($Q253))))","v":0.0523339233448216},{"$f":"V253*ABS(1/(Vout/(SQRT(2)*$C$25*SIN($Q253))))","v":0.0785008850172324},{"$f":"W253*ABS(1/(Vout/(SQRT(2)*$C$25*SIN($Q253))))","v":0.104667846689643},null,{"$f":"1/(0.0000128*(R253+Y253+$G$23))","v":40308.4074241649},{"$f":"1/(0.0000128*(S253+Z253+$H$23))","v":86007.8835081642},{"$f":"1/(0.0000128*(T253+AA253+$I$23))","v":111872.046813501},{"$f":"1/(0.0000128*(U253+AB253+$J$23))","v":242125.953153908},{"$f":"1/(0.0000128*(V253+AC253+$K$23))","v":161417.302102606},{"$f":"1/(0.0000128*(W253+AD253+$L$23))","v":121062.976576954}]
[null,null,null,null,null,null,null,null,null,null,null,null,null,null,null,null,{"$f":"Q253+0.01","v":2.47999999999999},{"$f":"(G$5*((90/$G$18)*(90/$G$18))/2)*(1+(SQRT(1+(4/(G$5*((90/$G$18)*(90/$G$18))))*$G$23*(1-(SQRT(2)*Vin_rms_min*(SIN($Q254)/Vout))))))","v":0.292105173975585},{"$f":"(H$5*((90/$G$18)*(90/$G$18))/2)*(1+(SQRT(1+(4/(H$5*((90/$G$18)*(90/$G$18))))*$H$23*(1-(SQRT(2)*Vin_rms_min*(SIN($Q254)/Vout))))))","v":0.283797392730875},{"$f":"(I$5*((90/$G$18)*(90/$G$18))/2)*(1+(SQRT(1+(4/(I$5*((90/$G$18)*(90/$G$18))))*$I$23*(1-(SQRT(2)*Vin_rms_min*(SIN($Q254)/Vout))))))","v":0.27872517688242},{"$f":"(J$5*((90/$G$18)*(90/$G$18))/2)*(1+(SQRT(1+(4/(J$5*((90/$G$18)*(90/$G$18))))*$J$23*(1-(SQRT(2)*Vin_rms_min*(SIN($Q254)/Vout))))))","v":0.270328719723183},{"$f":"(K$5*((90/$G$18)*(90/$G$18))/2)*(1+(SQRT(1+(4/(K$5*((90/$G$18)*(90/$G$18))))*$K$23*(1-(SQRT(2)*Vin_rms_min*(SIN($Q254)/Vout))))))","v":0.405493079584775},{"$f":"(L$5*((90/$G$18)*(90/$G$18))/2)*(1+(SQRT(1+(4/(L$5*((90/$G$18)*(90/$G$18))))*$L$23*(1-(SQRT(2)*Vin_rms_min*(SIN($Q254)/Vout))))))","v":0.540657439446367},null,{"$f":"R254*ABS(1/(Vout/(SQRT(2)*$C$25*SIN($Q254))))","v":0.0558354394727907},{"$f":"S254*ABS(1/(Vout/(SQRT(2)*$C$25*SIN($Q254))))","v":0.0542474202996658},{"$f":"T254*ABS(1/(Vout/(SQRT(2)*$C$25*SIN($Q254))))","v":0.05327787430654},{"$f":"U254*ABS(1/(Vout/(SQRT(2)*$C$25*SIN($Q254))))","v":0.0516729048733741},{"$f":"V254*ABS(1/(Vout/(SQRT(2)*$C$25*SIN($Q254))))","v":0.0775093573100611},{"$f":"W254*ABS(1/(Vout/(SQRT(2)*$C$25*SIN($Q254))))","v":0.103345809746748},null,{"$f":"1/(0.0000128*(R254+Y254+$G$23))","v":40313.4128351767},{"$f":"1/(0.0000128*(S254+Z254+$H$23))","v":86036.5026911644},{"$f":"1/(0.0000128*(T254+AA254+$I$23))","v":111926.444829896},{"$f":"1/(0.0000128*(U254+AB254+$J$23))","v":242622.999489162},{"$f":"1/(0.0000128*(V254+AC254+$K$23))","v":161748.666326108},{"$f":"1/(0.0000128*(W254+AD254+$L$23))","v":121311.499744581}]
[null,null,null,null,null,null,null,null,null,null,null,null,null,null,null,null,{"$f":"Q254+0.01","v":2.48999999999999},{"$f":"(G$5*((90/$G$18)*(90/$G$18))/2)*(1+(SQRT(1+(4/(G$5*((90/$G$18)*(90/$G$18))))*$G$23*(1-(SQRT(2)*Vin_rms_min*(SIN($Q255)/Vout))))))","v":0.292504475628742},{"$f":"(H$5*((90/$G$18)*(90/$G$18))/2)*(1+(SQRT(1+(4/(H$5*((90/$G$18)*(90/$G$18))))*$H$23*(1-(SQRT(2)*Vin_rms_min*(SIN($Q255)/Vout))))))","v":0.284127737324566},{"$f":"(I$5*((90/$G$18)*(90/$G$18))/2)*(1+(SQRT(1+(4/(I$5*((90/$G$18)*(90/$G$18))))*$I$23*(1-(SQRT(2)*Vin_rms_min*(SIN($Q255)/Vout))))))","v":0.27901367509712},{"$f":"(J$5*((90/$G$18)*(90/$G$18))/2)*(1+(SQRT(1+(4/(J$5*((90/$G$18)*(90/$G$18))))*$J$23*(1-(SQRT(2)*Vin_rms_min*(SIN($Q255)/Vout))))))","v":0.270328719723183},{"$f":"(K$5*((90/$G$18)*(90/$G$18))/2)*(1+(SQRT(1+(4/(K$5*((90/$G$18)*(90/$G$18))))*$K$23*(1-(SQRT(2)*Vin_rms_min*(SIN($Q255)/Vout))))))","v":0.405493079584775},{"$f":"(L$5*((90/$G$18)*(90/$G$18))/2)*(1+(SQRT(1+(4/(L$5*((90/$G$18)*(90/$G$18))))*$L$23*(1-(SQRT(2)*Vin_rms_min*(SIN($Q255)/Vout))))))","v":0.540657439446367},null,{"$f":"R255*ABS(1/(Vout/(SQRT(2)*$C$25*SIN($Q255))))","v":0.0551909307124572},{"$f":"S255*ABS(1/(Vout/(SQRT(2)*$C$25*SIN($Q255))))","v":0.053610373757394},{"$f":"T255*ABS(1/(Vout/(SQRT(2)*$C$25*SIN($Q255))))","v":0.0526454317562589},{"$f":"U255*ABS(1/(Vout/(SQRT(2)*$C$25*SIN($Q255))))","v":0.0510067191544998},{"$f":"V255*ABS(1/(Vout/(SQRT(2)*$C$25*SIN($Q255))))","v":0.0765100787317498},{"$f":"W255*ABS(1/(Vout/(SQRT(2)*$C$25*SIN($Q255))))","v":0.102013438309},null,{"$f":"1/(0.0000128*(R255+Y255+$G$23))","v":40318.5143260041},{"$f":"1/(0.0000128*(S255+Z255+$H$23))","v":86065.5722682839},{"$f":"1/(0.0000128*(T255+AA255+$I$23))","v":111981.624309849},{"$f":"1/(0.0000128*(U255+AB255+$J$23))","v":243126.000272066},{"$f":"1/(0.0000128*(V255+AC255+$K$23))","v":162084.000181377},{"$f":"1/(0.0000128*(W255+AD255+$L$23))","v":121563.000136033}]
[null,null,null,null,null,null,null,null,null,null,null,null,null,null,null,null,{"$f":"Q255+0.01","v":2.49999999999999},{"$f":"(G$5*((90/$G$18)*(90/$G$18))/2)*(1+(SQRT(1+(4/(G$5*((90/$G$18)*(90/$G$18))))*$G$23*(1-(SQRT(2)*Vin_rms_min*(SIN($Q256)/Vout))))))","v":0.292906227927118},{"$f":"(H$5*((90/$G$18)*(90/$G$18))/2)*(1+(SQRT(1+(4/(H$5*((90/$G$18)*(90/$G$18))))*$H$23*(1-(SQRT(2)*Vin_rms_min*(SIN($Q256)/Vout))))))","v":0.284460132082359},{"$f":"(I$5*((90/$G$18)*(90/$G$18))/2)*(1+(SQRT(1+(4/(I$5*((90/$G$18)*(90/$G$18))))*$I$23*(1-(SQRT(2)*Vin_rms_min*(SIN($Q256)/Vout))))))","v":0.279303984547145},{"$f":"(J$5*((90/$G$18)*(90/$G$18))/2)*(1+(SQRT(1+(4/(J$5*((90/$G$18)*(90/$G$18))))*$J$23*(1-(SQRT(2)*Vin_rms_min*(SIN($Q256)/Vout))))))","v":0.270328719723183},{"$f":"(K$5*((90/$G$18)*(90/$G$18))/2)*(1+(SQRT(1+(4/(K$5*((90/$G$18)*(90/$G$18))))*$K$23*(1-(SQRT(2)*Vin_rms_min*(SIN($Q256)/Vout))))))","v":0.405493079584775},{"$f":"(L$5*((90/$G$18)*(90/$G$18))/2)*(1+(SQRT(1+(4/(L$5*((90/$G$18)*(90/$G$18))))*$L$23*(1-(SQRT(2)*Vin_rms_min*(SIN($Q256)/Vout))))))","v":0.540657439446367},null,{"$f":"R256*ABS(1/(Vout/(SQRT(2)*$C$25*SIN($Q256))))","v":0.0545393836416824},{"$f":"S256*ABS(1/(Vout/(SQRT(2)*$C$25*SIN($Q256))))","v":0.0529667135594801},{"$f":"T256*ABS(1/(Vout/(SQRT(2)*$C$25*SIN($Q256))))","v":0.0520066345931628},{"$f":"U256*ABS(1/(Vout/(SQRT(2)*$C$25*SIN($Q256))))","v":0.0503354328062156},{"$f":"V256*ABS(1/(Vout/(SQRT(2)*$C$25*SIN($Q256))))","v":0.0755031492093234},{"$f":"W256*ABS(1/(Vout/(SQRT(2)*$C$25*SIN($Q256))))","v":0.100670865612431},null,{"$f":"1/(0.0000128*(R256+Y256+$G$23))","v":40323.712590177},{"$f":"1/(0.0000128*(S256+Z256+$H$23))","v":86095.0944698366},{"$f":"1/(0.0000128*(T256+AA256+$I$23))","v":112037.588207559},{"$f":"1/(0.0000128*(U256+AB256+$J$23))","v":243634.966315224},{"$f":"1/(0.0000128*(V256+AC256+$K$23))","v":162423.310876816},{"$f":"1/(0.0000128*(W256+AD256+$L$23))","v":121817.483157612}]
[null,null,null,null,null,null,null,null,null,null,null,null,null,null,null,null,{"$f":"Q256+0.01","v":2.50999999999999},{"$f":"(G$5*((90/$G$18)*(90/$G$18))/2)*(1+(SQRT(1+(4/(G$5*((90/$G$18)*(90/$G$18))))*$G$23*(1-(SQRT(2)*Vin_rms_min*(SIN($Q257)/Vout))))))","v":0.293310379694706},{"$f":"(H$5*((90/$G$18)*(90/$G$18))/2)*(1+(SQRT(1+(4/(H$5*((90/$G$18)*(90/$G$18))))*$H$23*(1-(SQRT(2)*Vin_rms_min*(SIN($Q257)/Vout))))))","v":0.284794534976594},{"$f":"(I$5*((90/$G$18)*(90/$G$18))/2)*(1+(SQRT(1+(4/(I$5*((90/$G$18)*(90/$G$18))))*$I$23*(1-(SQRT(2)*Vin_rms_min*(SIN($Q257)/Vout))))))","v":0.279596068821321},{"$f":"(J$5*((90/$G$18)*(90/$G$18))/2)*(1+(SQRT(1+(4/(J$5*((90/$G$18)*(90/$G$18))))*$J$23*(1-(SQRT(2)*Vin_rms_min*(SIN($Q257)/Vout))))))","v":0.270328719723183},{"$f":"(K$5*((90/$G$18)*(90/$G$18))/2)*(1+(SQRT(1+(4/(K$5*((90/$G$18)*(90/$G$18))))*$K$23*(1-(SQRT(2)*Vin_rms_min*(SIN($Q257)/Vout))))))","v":0.405493079584775},{"$f":"(L$5*((90/$G$18)*(90/$G$18))/2)*(1+(SQRT(1+(4/(L$5*((90/$G$18)*(90/$G$18))))*$L$23*(1-(SQRT(2)*Vin_rms_min*(SIN($Q257)/Vout))))))","v":0.540657439446367},null,{"$f":"R257*ABS(1/(Vout/(SQRT(2)*$C$25*SIN($Q257))))","v":0.0538808206968051},{"$f":"S257*ABS(1/(Vout/(SQRT(2)*$C$25*SIN($Q257))))","v":0.052316468617564},{"$f":"T257*ABS(1/(Vout/(SQRT(2)*$C$25*SIN($Q257))))","v":0.051361515631917},{"$f":"U257*ABS(1/(Vout/(SQRT(2)*$C$25*SIN($Q257))))","v":0.0496591129565968},{"$f":"V257*ABS(1/(Vout/(SQRT(2)*$C$25*SIN($Q257))))","v":0.0744886694348953},{"$f":"W257*ABS(1/(Vout/(SQRT(2)*$C$25*SIN($Q257))))","v":0.0993182259131937},null,{"$f":"1/(0.0000128*(R257+Y257+$G$23))","v":40329.0083003736},{"$f":"1/(0.0000128*(S257+Z257+$H$23))","v":86125.0714526148},{"$f":"1/(0.0000128*(T257+AA257+$I$23))","v":112094.339372587},{"$f":"1/(0.0000128*(U257+AB257+$J$23))","v":244149.908281612},{"$f":"1/(0.0000128*(V257+AC257+$K$23))","v":162766.605521074},{"$f":"1/(0.0000128*(W257+AD257+$L$23))","v":122074.954140806}]
[null,null,null,null,null,null,null,null,null,null,null,null,null,null,null,null,{"$f":"Q257+0.01","v":2.51999999999999},{"$f":"(G$5*((90/$G$18)*(90/$G$18))/2)*(1+(SQRT(1+(4/(G$5*((90/$G$18)*(90/$G$18))))*$G$23*(1-(SQRT(2)*Vin_rms_min*(SIN($Q258)/Vout))))))","v":0.293716879699924},{"$f":"(H$5*((90/$G$18)*(90/$G$18))/2)*(1+(SQRT(1+(4/(H$5*((90/$G$18)*(90/$G$18))))*$H$23*(1-(SQRT(2)*Vin_rms_min*(SIN($Q258)/Vout))))))","v":0.285130903921475},{"$f":"(I$5*((90/$G$18)*(90/$G$18))/2)*(1+(SQRT(1+(4/(I$5*((90/$G$18)*(90/$G$18))))*$I$23*(1-(SQRT(2)*Vin_rms_min*(SIN($Q258)/Vout))))))","v":0.279889891446789},{"$f":"(J$5*((90/$G$18)*(90/$G$18))/2)*(1+(SQRT(1+(4/(J$5*((90/$G$18)*(90/$G$18))))*$J$23*(1-(SQRT(2)*Vin_rms_min*(SIN($Q258)/Vout))))))","v":0.270328719723183},{"$f":"(K$5*((90/$G$18)*(90/$G$18))/2)*(1+(SQRT(1+(4/(K$5*((90/$G$18)*(90/$G$18))))*$K$23*(1-(SQRT(2)*Vin_rms_min*(SIN($Q258)/Vout))))))","v":0.405493079584775},{"$f":"(L$5*((90/$G$18)*(90/$G$18))/2)*(1+(SQRT(1+(4/(L$5*((90/$G$18)*(90/$G$18))))*$L$23*(1-(SQRT(2)*Vin_rms_min*(SIN($Q258)/Vout))))))","v":0.540657439446367},null,{"$f":"R258*ABS(1/(Vout/(SQRT(2)*$C$25*SIN($Q258))))","v":0.0532152654933723},{"$f":"S258*ABS(1/(Vout/(SQRT(2)*$C$25*SIN($Q258))))","v":0.0516596688894706},{"$f":"T258*ABS(1/(Vout/(SQRT(2)*$C$25*SIN($Q258))))","v":0.0507101086511232},{"$f":"U258*ABS(1/(Vout/(SQRT(2)*$C$25*SIN($Q258))))","v":0.0489778272370648},{"$f":"V258*ABS(1/(Vout/(SQRT(2)*$C$25*SIN($Q258))))","v":0.0734667408555973},{"$f":"W258*ABS(1/(Vout/(SQRT(2)*$C$25*SIN($Q258))))","v":0.0979556544741297},null,{"$f":"1/(0.0000128*(R258+Y258+$G$23))","v":40334.402107929},{"$f":"1/(0.0000128*(S258+Z258+$H$23))","v":86155.5052980111},{"$f":"1/(0.0000128*(T258+AA258+$I$23))","v":112151.88054697},{"$f":"1/(0.0000128*(U258+AB258+$J$23))","v":244670.836673218},{"$f":"1/(0.0000128*(V258+AC258+$K$23))","v":163113.891115478},{"$f":"1/(0.0000128*(W258+AD258+$L$23))","v":122335.418336609}]
[null,null,null,null,null,null,null,null,null,null,null,null,null,null,null,null,{"$f":"Q258+0.01","v":2.52999999999999},{"$f":"(G$5*((90/$G$18)*(90/$G$18))/2)*(1+(SQRT(1+(4/(G$5*((90/$G$18)*(90/$G$18))))*$G$23*(1-(SQRT(2)*Vin_rms_min*(SIN($Q259)/Vout))))))","v":0.294125676664612},{"$f":"(H$5*((90/$G$18)*(90/$G$18))/2)*(1+(SQRT(1+(4/(H$5*((90/$G$18)*(90/$G$18))))*$H$23*(1-(SQRT(2)*Vin_rms_min*(SIN($Q259)/Vout))))))","v":0.285469196780437},{"$f":"(I$5*((90/$G$18)*(90/$G$18))/2)*(1+(SQRT(1+(4/(I$5*((90/$G$18)*(90/$G$18))))*$I$23*(1-(SQRT(2)*Vin_rms_min*(SIN($Q259)/Vout))))))","v":0.280185415895355},{"$f":"(J$5*((90/$G$18)*(90/$G$18))/2)*(1+(SQRT(1+(4/(J$5*((90/$G$18)*(90/$G$18))))*$J$23*(1-(SQRT(2)*Vin_rms_min*(SIN($Q259)/Vout))))))","v":0.270328719723183},{"$f":"(K$5*((90/$G$18)*(90/$G$18))/2)*(1+(SQRT(1+(4/(K$5*((90/$G$18)*(90/$G$18))))*$K$23*(1-(SQRT(2)*Vin_rms_min*(SIN($Q259)/Vout))))))","v":0.405493079584775},{"$f":"(L$5*((90/$G$18)*(90/$G$18))/2)*(1+(SQRT(1+(4/(L$5*((90/$G$18)*(90/$G$18))))*$L$23*(1-(SQRT(2)*Vin_rms_min*(SIN($Q259)/Vout))))))","v":0.540657439446367},null,{"$f":"R259*ABS(1/(Vout/(SQRT(2)*$C$25*SIN($Q259))))","v":0.0525427428402593},{"$f":"S259*ABS(1/(Vout/(SQRT(2)*$C$25*SIN($Q259))))","v":0.0509963453899792},{"$f":"T259*ABS(1/(Vout/(SQRT(2)*$C$25*SIN($Q259))))","v":0.0500524484020745},{"$f":"U259*ABS(1/(Vout/(SQRT(2)*$C$25*SIN($Q259))))","v":0.0482916437756239},{"$f":"V259*ABS(1/(Vout/(SQRT(2)*$C$25*SIN($Q259))))","v":0.0724374656634358},{"$f":"W259*ABS(1/(Vout/(SQRT(2)*$C$25*SIN($Q259))))","v":0.0965832875512477},null,{"$f":"1/(0.0000128*(R259+Y259+$G$23))","v":40339.8946423536},{"$f":"1/(0.0000128*(S259+Z259+$H$23))","v":86186.3980101655},{"$f":"1/(0.0000128*(T259+AA259+$I$23))","v":112210.214362351},{"$f":"1/(0.0000128*(U259+AB259+$J$23))","v":245197.761819428},{"$f":"1/(0.0000128*(V259+AC259+$K$23))","v":163465.174546285},{"$f":"1/(0.0000128*(W259+AD259+$L$23))","v":122598.880909714}]
[null,null,null,null,null,null,null,null,null,null,null,null,null,null,null,null,{"$f":"Q259+0.01","v":2.53999999999999},{"$f":"(G$5*((90/$G$18)*(90/$G$18))/2)*(1+(SQRT(1+(4/(G$5*((90/$G$18)*(90/$G$18))))*$G$23*(1-(SQRT(2)*Vin_rms_min*(SIN($Q260)/Vout))))))","v":0.294536719272892},{"$f":"(H$5*((90/$G$18)*(90/$G$18))/2)*(1+(SQRT(1+(4/(H$5*((90/$G$18)*(90/$G$18))))*$H$23*(1-(SQRT(2)*Vin_rms_min*(SIN($Q260)/Vout))))))","v":0.285809371373401},{"$f":"(I$5*((90/$G$18)*(90/$G$18))/2)*(1+(SQRT(1+(4/(I$5*((90/$G$18)*(90/$G$18))))*$I$23*(1-(SQRT(2)*Vin_rms_min*(SIN($Q260)/Vout))))))","v":0.280482605589746},{"$f":"(J$5*((90/$G$18)*(90/$G$18))/2)*(1+(SQRT(1+(4/(J$5*((90/$G$18)*(90/$G$18))))*$J$23*(1-(SQRT(2)*Vin_rms_min*(SIN($Q260)/Vout))))))","v":0.270328719723183},{"$f":"(K$5*((90/$G$18)*(90/$G$18))/2)*(1+(SQRT(1+(4/(K$5*((90/$G$18)*(90/$G$18))))*$K$23*(1-(SQRT(2)*Vin_rms_min*(SIN($Q260)/Vout))))))","v":0.405493079584775},{"$f":"(L$5*((90/$G$18)*(90/$G$18))/2)*(1+(SQRT(1+(4/(L$5*((90/$G$18)*(90/$G$18))))*$L$23*(1-(SQRT(2)*Vin_rms_min*(SIN($Q260)/Vout))))))","v":0.540657439446367},null,{"$f":"R260*ABS(1/(Vout/(SQRT(2)*$C$25*SIN($Q260))))","v":0.0518632787533353},{"$f":"S260*ABS(1/(Vout/(SQRT(2)*$C$25*SIN($Q260))))","v":0.0503265302012158},{"$f":"T260*ABS(1/(Vout/(SQRT(2)*$C$25*SIN($Q260))))","v":0.0493885706171836},{"$f":"U260*ABS(1/(Vout/(SQRT(2)*$C$25*SIN($Q260))))","v":0.0476006311900482},{"$f":"V260*ABS(1/(Vout/(SQRT(2)*$C$25*SIN($Q260))))","v":0.0714009467850723},{"$f":"W260*ABS(1/(Vout/(SQRT(2)*$C$25*SIN($Q260))))","v":0.0952012623800965},null,{"$f":"1/(0.0000128*(R260+Y260+$G$23))","v":40345.4865108618},{"$f":"1/(0.0000128*(S260+Z260+$H$23))","v":86217.7515141383},{"$f":"1/(0.0000128*(T260+AA260+$I$23))","v":112269.343337147},{"$f":"1/(0.0000128*(U260+AB260+$J$23))","v":245730.693865134},{"$f":"1/(0.0000128*(V260+AC260+$K$23))","v":163820.462576756},{"$f":"1/(0.0000128*(W260+AD260+$L$23))","v":122865.346932567}]
[null,null,null,null,null,null,null,null,null,null,null,null,null,null,null,null,{"$f":"Q260+0.01","v":2.54999999999999},{"$f":"(G$5*((90/$G$18)*(90/$G$18))/2)*(1+(SQRT(1+(4/(G$5*((90/$G$18)*(90/$G$18))))*$G$23*(1-(SQRT(2)*Vin_rms_min*(SIN($Q261)/Vout))))))","v":0.294949956179876},{"$f":"(H$5*((90/$G$18)*(90/$G$18))/2)*(1+(SQRT(1+(4/(H$5*((90/$G$18)*(90/$G$18))))*$H$23*(1-(SQRT(2)*Vin_rms_min*(SIN($Q261)/Vout))))))","v":0.286151385483919},{"$f":"(I$5*((90/$G$18)*(90/$G$18))/2)*(1+(SQRT(1+(4/(I$5*((90/$G$18)*(90/$G$18))))*$I$23*(1-(SQRT(2)*Vin_rms_min*(SIN($Q261)/Vout))))))","v":0.280781423909789},{"$f":"(J$5*((90/$G$18)*(90/$G$18))/2)*(1+(SQRT(1+(4/(J$5*((90/$G$18)*(90/$G$18))))*$J$23*(1-(SQRT(2)*Vin_rms_min*(SIN($Q261)/Vout))))))","v":0.270328719723183},{"$f":"(K$5*((90/$G$18)*(90/$G$18))/2)*(1+(SQRT(1+(4/(K$5*((90/$G$18)*(90/$G$18))))*$K$23*(1-(SQRT(2)*Vin_rms_min*(SIN($Q261)/Vout))))))","v":0.405493079584775},{"$f":"(L$5*((90/$G$18)*(90/$G$18))/2)*(1+(SQRT(1+(4/(L$5*((90/$G$18)*(90/$G$18))))*$L$23*(1-(SQRT(2)*Vin_rms_min*(SIN($Q261)/Vout))))))","v":0.540657439446367},null,{"$f":"R261*ABS(1/(Vout/(SQRT(2)*$C$25*SIN($Q261))))","v":0.0511769004686662},{"$f":"S261*ABS(1/(Vout/(SQRT(2)*$C$25*SIN($Q261))))","v":0.0496502564826643},{"$f":"T261*ABS(1/(Vout/(SQRT(2)*$C$25*SIN($Q261))))","v":0.0487185120180807},{"$f":"U261*ABS(1/(Vout/(SQRT(2)*$C$25*SIN($Q261))))","v":0.0469048585810207},{"$f":"V261*ABS(1/(Vout/(SQRT(2)*$C$25*SIN($Q261))))","v":0.070357287871531},{"$f":"W261*ABS(1/(Vout/(SQRT(2)*$C$25*SIN($Q261))))","v":0.0938097171620413},null,{"$f":"1/(0.0000128*(R261+Y261+$G$23))","v":40351.1782979114},{"$f":"1/(0.0000128*(S261+Z261+$H$23))","v":86249.5676541092},{"$f":"1/(0.0000128*(T261+AA261+$I$23))","v":112329.269873725},{"$f":"1/(0.0000128*(U261+AB261+$J$23))","v":246269.642758573},{"$f":"1/(0.0000128*(V261+AC261+$K$23))","v":164179.761839048},{"$f":"1/(0.0000128*(W261+AD261+$L$23))","v":123134.821379286}]
[null,null,null,null,null,null,null,null,null,null,null,null,null,null,null,null,{"$f":"Q261+0.01","v":2.55999999999999},{"$f":"(G$5*((90/$G$18)*(90/$G$18))/2)*(1+(SQRT(1+(4/(G$5*((90/$G$18)*(90/$G$18))))*$G$23*(1-(SQRT(2)*Vin_rms_min*(SIN($Q262)/Vout))))))","v":0.295365336020229},{"$f":"(H$5*((90/$G$18)*(90/$G$18))/2)*(1+(SQRT(1+(4/(H$5*((90/$G$18)*(90/$G$18))))*$H$23*(1-(SQRT(2)*Vin_rms_min*(SIN($Q262)/Vout))))))","v":0.286495196866211},{"$f":"(I$5*((90/$G$18)*(90/$G$18))/2)*(1+(SQRT(1+(4/(I$5*((90/$G$18)*(90/$G$18))))*$I$23*(1-(SQRT(2)*Vin_rms_min*(SIN($Q262)/Vout))))))","v":0.281081834198491},{"$f":"(J$5*((90/$G$18)*(90/$G$18))/2)*(1+(SQRT(1+(4/(J$5*((90/$G$18)*(90/$G$18))))*$J$23*(1-(SQRT(2)*Vin_rms_min*(SIN($Q262)/Vout))))))","v":0.270328719723183},{"$f":"(K$5*((90/$G$18)*(90/$G$18))/2)*(1+(SQRT(1+(4/(K$5*((90/$G$18)*(90/$G$18))))*$K$23*(1-(SQRT(2)*Vin_rms_min*(SIN($Q262)/Vout))))))","v":0.405493079584775},{"$f":"(L$5*((90/$G$18)*(90/$G$18))/2)*(1+(SQRT(1+(4/(L$5*((90/$G$18)*(90/$G$18))))*$L$23*(1-(SQRT(2)*Vin_rms_min*(SIN($Q262)/Vout))))))","v":0.540657439446367},null,{"$f":"R262*ABS(1/(Vout/(SQRT(2)*$C$25*SIN($Q262))))","v":0.0504836364552518},{"$f":"S262*ABS(1/(Vout/(SQRT(2)*$C$25*SIN($Q262))))","v":0.0489675584807927},{"$f":"T262*ABS(1/(Vout/(SQRT(2)*$C$25*SIN($Q262))))","v":0.0480423103233757},{"$f":"U262*ABS(1/(Vout/(SQRT(2)*$C$25*SIN($Q262))))","v":0.0462043955252222},{"$f":"V262*ABS(1/(Vout/(SQRT(2)*$C$25*SIN($Q262))))","v":0.0693065932878333},{"$f":"W262*ABS(1/(Vout/(SQRT(2)*$C$25*SIN($Q262))))","v":0.0924087910504445},null,{"$f":"1/(0.0000128*(R262+Y262+$G$23))","v":40356.9705647528},{"$f":"1/(0.0000128*(S262+Z262+$H$23))","v":86281.8481916022},{"$f":"1/(0.0000128*(T262+AA262+$I$23))","v":112389.996255615},{"$f":"1/(0.0000128*(U262+AB262+$J$23))","v":246814.618238884},{"$f":"1/(0.0000128*(V262+AC262+$K$23))","v":164543.078825923},{"$f":"1/(0.0000128*(W262+AD262+$L$23))","v":123407.309119442}]
[null,null,null,null,null,null,null,null,null,null,null,null,null,null,null,null,{"$f":"Q262+0.01","v":2.56999999999999},{"$f":"(G$5*((90/$G$18)*(90/$G$18))/2)*(1+(SQRT(1+(4/(G$5*((90/$G$18)*(90/$G$18))))*$G$23*(1-(SQRT(2)*Vin_rms_min*(SIN($Q263)/Vout))))))","v":0.295782807416591},{"$f":"(H$5*((90/$G$18)*(90/$G$18))/2)*(1+(SQRT(1+(4/(H$5*((90/$G$18)*(90/$G$18))))*$H$23*(1-(SQRT(2)*Vin_rms_min*(SIN($Q263)/Vout))))))","v":0.286840763252086},{"$f":"(I$5*((90/$G$18)*(90/$G$18))/2)*(1+(SQRT(1+(4/(I$5*((90/$G$18)*(90/$G$18))))*$I$23*(1-(SQRT(2)*Vin_rms_min*(SIN($Q263)/Vout))))))","v":0.281383799768038},{"$f":"(J$5*((90/$G$18)*(90/$G$18))/2)*(1+(SQRT(1+(4/(J$5*((90/$G$18)*(90/$G$18))))*$J$23*(1-(SQRT(2)*Vin_rms_min*(SIN($Q263)/Vout))))))","v":0.270328719723183},{"$f":"(K$5*((90/$G$18)*(90/$G$18))/2)*(1+(SQRT(1+(4/(K$5*((90/$G$18)*(90/$G$18))))*$K$23*(1-(SQRT(2)*Vin_rms_min*(SIN($Q263)/Vout))))))","v":0.405493079584775},{"$f":"(L$5*((90/$G$18)*(90/$G$18))/2)*(1+(SQRT(1+(4/(L$5*((90/$G$18)*(90/$G$18))))*$L$23*(1-(SQRT(2)*Vin_rms_min*(SIN($Q263)/Vout))))))","v":0.540657439446367},null,{"$f":"R263*ABS(1/(Vout/(SQRT(2)*$C$25*SIN($Q263))))","v":0.0497835164272904},{"$f":"S263*ABS(1/(Vout/(SQRT(2)*$C$25*SIN($Q263))))","v":0.0482784715382877},{"$f":"T263*ABS(1/(Vout/(SQRT(2)*$C$25*SIN($Q263))))","v":0.0473600042560815},{"$f":"U263*ABS(1/(Vout/(SQRT(2)*$C$25*SIN($Q263))))","v":0.0454993120683748},{"$f":"V263*ABS(1/(Vout/(SQRT(2)*$C$25*SIN($Q263))))","v":0.0682489681025622},{"$f":"W263*ABS(1/(Vout/(SQRT(2)*$C$25*SIN($Q263))))","v":0.0909986241367496},null,{"$f":"1/(0.0000128*(R263+Y263+$G$23))","v":40362.8638489897},{"$f":"1/(0.0000128*(S263+Z263+$H$23))","v":86314.5948037374},{"$f":"1/(0.0000128*(T263+AA263+$I$23))","v":112451.524644742},{"$f":"1/(0.0000128*(U263+AB263+$J$23))","v":247365.629823389},{"$f":"1/(0.0000128*(V263+AC263+$K$23))","v":164910.419882259},{"$f":"1/(0.0000128*(W263+AD263+$L$23))","v":123682.814911694}]
[null,null,null,null,null,null,null,null,null,null,null,null,null,null,null,null,{"$f":"Q263+0.01","v":2.57999999999999},{"$f":"(G$5*((90/$G$18)*(90/$G$18))/2)*(1+(SQRT(1+(4/(G$5*((90/$G$18)*(90/$G$18))))*$G$23*(1-(SQRT(2)*Vin_rms_min*(SIN($Q264)/Vout))))))","v":0.296202318987846},{"$f":"(H$5*((90/$G$18)*(90/$G$18))/2)*(1+(SQRT(1+(4/(H$5*((90/$G$18)*(90/$G$18))))*$H$23*(1-(SQRT(2)*Vin_rms_min*(SIN($Q264)/Vout))))))","v":0.287188042357755},{"$f":"(I$5*((90/$G$18)*(90/$G$18))/2)*(1+(SQRT(1+(4/(I$5*((90/$G$18)*(90/$G$18))))*$I$23*(1-(SQRT(2)*Vin_rms_min*(SIN($Q264)/Vout))))))","v":0.281687283905698},{"$f":"(J$5*((90/$G$18)*(90/$G$18))/2)*(1+(SQRT(1+(4/(J$5*((90/$G$18)*(90/$G$18))))*$J$23*(1-(SQRT(2)*Vin_rms_min*(SIN($Q264)/Vout))))))","v":0.270328719723183},{"$f":"(K$5*((90/$G$18)*(90/$G$18))/2)*(1+(SQRT(1+(4/(K$5*((90/$G$18)*(90/$G$18))))*$K$23*(1-(SQRT(2)*Vin_rms_min*(SIN($Q264)/Vout))))))","v":0.405493079584775},{"$f":"(L$5*((90/$G$18)*(90/$G$18))/2)*(1+(SQRT(1+(4/(L$5*((90/$G$18)*(90/$G$18))))*$L$23*(1-(SQRT(2)*Vin_rms_min*(SIN($Q264)/Vout))))))","v":0.540657439446367},null,{"$f":"R264*ABS(1/(Vout/(SQRT(2)*$C$25*SIN($Q264))))","v":0.0490765713559678},{"$f":"S264*ABS(1/(Vout/(SQRT(2)*$C$25*SIN($Q264))))","v":0.0475830321028965},{"$f":"T264*ABS(1/(Vout/(SQRT(2)*$C$25*SIN($Q264))))","v":0.0466716335506948},{"$f":"U264*ABS(1/(Vout/(SQRT(2)*$C$25*SIN($Q264))))","v":0.0447896787182365},{"$f":"V264*ABS(1/(Vout/(SQRT(2)*$C$25*SIN($Q264))))","v":0.0671845180773548},{"$f":"W264*ABS(1/(Vout/(SQRT(2)*$C$25*SIN($Q264))))","v":0.089579357436473},null,{"$f":"1/(0.0000128*(R264+Y264+$G$23))","v":40368.8586641487},{"$f":"1/(0.0000128*(S264+Z264+$H$23))","v":86347.8090815089},{"$f":"1/(0.0000128*(T264+AA264+$I$23))","v":112513.857078686},{"$f":"1/(0.0000128*(U264+AB264+$J$23))","v":247922.686794574},{"$f":"1/(0.0000128*(V264+AC264+$K$23))","v":165281.791196383},{"$f":"1/(0.0000128*(W264+AD264+$L$23))","v":123961.343397287}]
[null,null,null,null,null,null,null,null,null,null,null,null,null,null,null,null,{"$f":"Q264+0.01","v":2.58999999999999},{"$f":"(G$5*((90/$G$18)*(90/$G$18))/2)*(1+(SQRT(1+(4/(G$5*((90/$G$18)*(90/$G$18))))*$G$23*(1-(SQRT(2)*Vin_rms_min*(SIN($Q265)/Vout))))))","v":0.296623819357246},{"$f":"(H$5*((90/$G$18)*(90/$G$18))/2)*(1+(SQRT(1+(4/(H$5*((90/$G$18)*(90/$G$18))))*$H$23*(1-(SQRT(2)*Vin_rms_min*(SIN($Q265)/Vout))))))","v":0.287536991890527},{"$f":"(I$5*((90/$G$18)*(90/$G$18))/2)*(1+(SQRT(1+(4/(I$5*((90/$G$18)*(90/$G$18))))*$I$23*(1-(SQRT(2)*Vin_rms_min*(SIN($Q265)/Vout))))))","v":0.281992249879642},{"$f":"(J$5*((90/$G$18)*(90/$G$18))/2)*(1+(SQRT(1+(4/(J$5*((90/$G$18)*(90/$G$18))))*$J$23*(1-(SQRT(2)*Vin_rms_min*(SIN($Q265)/Vout))))))","v":0.270328719723183},{"$f":"(K$5*((90/$G$18)*(90/$G$18))/2)*(1+(SQRT(1+(4/(K$5*((90/$G$18)*(90/$G$18))))*$K$23*(1-(SQRT(2)*Vin_rms_min*(SIN($Q265)/Vout))))))","v":0.405493079584775},{"$f":"(L$5*((90/$G$18)*(90/$G$18))/2)*(1+(SQRT(1+(4/(L$5*((90/$G$18)*(90/$G$18))))*$L$23*(1-(SQRT(2)*Vin_rms_min*(SIN($Q265)/Vout))))))","v":0.540657439446367},null,{"$f":"R265*ABS(1/(Vout/(SQRT(2)*$C$25*SIN($Q265))))","v":0.0483628334807639},{"$f":"S265*ABS(1/(Vout/(SQRT(2)*$C$25*SIN($Q265))))","v":0.0468812777358691},{"$f":"T265*ABS(1/(Vout/(SQRT(2)*$C$25*SIN($Q265))))","v":0.0459772389599297},{"$f":"U265*ABS(1/(Vout/(SQRT(2)*$C$25*SIN($Q265))))","v":0.044075566437551},{"$f":"V265*ABS(1/(Vout/(SQRT(2)*$C$25*SIN($Q265))))","v":0.0661133496563265},{"$f":"W265*ABS(1/(Vout/(SQRT(2)*$C$25*SIN($Q265))))","v":0.088151132875102},null,{"$f":"1/(0.0000128*(R265+Y265+$G$23))","v":40374.9554992617},{"$f":"1/(0.0000128*(S265+Z265+$H$23))","v":86381.4925280894},{"$f":"1/(0.0000128*(T265+AA265+$I$23))","v":112576.995467967},{"$f":"1/(0.0000128*(U265+AB265+$J$23))","v":248485.798186796},{"$f":"1/(0.0000128*(V265+AC265+$K$23))","v":165657.198791198},{"$f":"1/(0.0000128*(W265+AD265+$L$23))","v":124242.899093398}]
[null,null,null,null,null,null,null,null,null,null,null,null,null,null,null,null,{"$f":"Q265+0.01","v":2.59999999999999},{"$f":"(G$5*((90/$G$18)*(90/$G$18))/2)*(1+(SQRT(1+(4/(G$5*((90/$G$18)*(90/$G$18))))*$G$23*(1-(SQRT(2)*Vin_rms_min*(SIN($Q266)/Vout))))))","v":0.297047257160392},{"$f":"(H$5*((90/$G$18)*(90/$G$18))/2)*(1+(SQRT(1+(4/(H$5*((90/$G$18)*(90/$G$18))))*$H$23*(1-(SQRT(2)*Vin_rms_min*(SIN($Q266)/Vout))))))","v":0.287887569555395},{"$f":"(I$5*((90/$G$18)*(90/$G$18))/2)*(1+(SQRT(1+(4/(I$5*((90/$G$18)*(90/$G$18))))*$I$23*(1-(SQRT(2)*Vin_rms_min*(SIN($Q266)/Vout))))))","v":0.282298660944664},{"$f":"(J$5*((90/$G$18)*(90/$G$18))/2)*(1+(SQRT(1+(4/(J$5*((90/$G$18)*(90/$G$18))))*$J$23*(1-(SQRT(2)*Vin_rms_min*(SIN($Q266)/Vout))))))","v":0.270328719723183},{"$f":"(K$5*((90/$G$18)*(90/$G$18))/2)*(1+(SQRT(1+(4/(K$5*((90/$G$18)*(90/$G$18))))*$K$23*(1-(SQRT(2)*Vin_rms_min*(SIN($Q266)/Vout))))))","v":0.405493079584775},{"$f":"(L$5*((90/$G$18)*(90/$G$18))/2)*(1+(SQRT(1+(4/(L$5*((90/$G$18)*(90/$G$18))))*$L$23*(1-(SQRT(2)*Vin_rms_min*(SIN($Q266)/Vout))))))","v":0.540657439446367},null,{"$f":"R266*ABS(1/(Vout/(SQRT(2)*$C$25*SIN($Q266))))","v":0.0476423363202762},{"$f":"S266*ABS(1/(Vout/(SQRT(2)*$C$25*SIN($Q266))))","v":0.0461732471200002},{"$f":"T266*ABS(1/(Vout/(SQRT(2)*$C$25*SIN($Q266))))","v":0.0452768622611023},{"$f":"U266*ABS(1/(Vout/(SQRT(2)*$C$25*SIN($Q266))))","v":0.0433570466369513},{"$f":"V266*ABS(1/(Vout/(SQRT(2)*$C$25*SIN($Q266))))","v":0.0650355699554269},{"$f":"W266*ABS(1/(Vout/(SQRT(2)*$C$25*SIN($Q266))))","v":0.0867140932739025},null,{"$f":"1/(0.0000128*(R266+Y266+$G$23))","v":40381.1548184567},{"$f":"1/(0.0000128*(S266+Z266+$H$23))","v":86415.6465571618},{"$f":"1/(0.0000128*(T266+AA266+$I$23))","v":112640.941593353},{"$f":"1/(0.0000128*(U266+AB266+$J$23))","v":249054.972772678},{"$f":"1/(0.0000128*(V266+AC266+$K$23))","v":166036.648515119},{"$f":"1/(0.0000128*(W266+AD266+$L$23))","v":124527.486386339}]
[null,null,null,null,null,null,null,null,null,null,null,null,null,null,null,null,{"$f":"Q266+0.01","v":2.60999999999999},{"$f":"(G$5*((90/$G$18)*(90/$G$18))/2)*(1+(SQRT(1+(4/(G$5*((90/$G$18)*(90/$G$18))))*$G$23*(1-(SQRT(2)*Vin_rms_min*(SIN($Q267)/Vout))))))","v":0.297472581053063},{"$f":"(H$5*((90/$G$18)*(90/$G$18))/2)*(1+(SQRT(1+(4/(H$5*((90/$G$18)*(90/$G$18))))*$H$23*(1-(SQRT(2)*Vin_rms_min*(SIN($Q267)/Vout))))))","v":0.288239733061511},{"$f":"(I$5*((90/$G$18)*(90/$G$18))/2)*(1+(SQRT(1+(4/(I$5*((90/$G$18)*(90/$G$18))))*$I$23*(1-(SQRT(2)*Vin_rms_min*(SIN($Q267)/Vout))))))","v":0.282606480347819},{"$f":"(J$5*((90/$G$18)*(90/$G$18))/2)*(1+(SQRT(1+(4/(J$5*((90/$G$18)*(90/$G$18))))*$J$23*(1-(SQRT(2)*Vin_rms_min*(SIN($Q267)/Vout))))))","v":0.270328719723183},{"$f":"(K$5*((90/$G$18)*(90/$G$18))/2)*(1+(SQRT(1+(4/(K$5*((90/$G$18)*(90/$G$18))))*$K$23*(1-(SQRT(2)*Vin_rms_min*(SIN($Q267)/Vout))))))","v":0.405493079584775},{"$f":"(L$5*((90/$G$18)*(90/$G$18))/2)*(1+(SQRT(1+(4/(L$5*((90/$G$18)*(90/$G$18))))*$L$23*(1-(SQRT(2)*Vin_rms_min*(SIN($Q267)/Vout))))))","v":0.540657439446367},null,{"$f":"R267*ABS(1/(Vout/(SQRT(2)*$C$25*SIN($Q267))))","v":0.0469151146825523},{"$f":"S267*ABS(1/(Vout/(SQRT(2)*$C$25*SIN($Q267))))","v":0.0454589800672651},{"$f":"T267*ABS(1/(Vout/(SQRT(2)*$C$25*SIN($Q267))))","v":0.0445705462621624},{"$f":"U267*ABS(1/(Vout/(SQRT(2)*$C$25*SIN($Q267))))","v":0.0426341911678186},{"$f":"V267*ABS(1/(Vout/(SQRT(2)*$C$25*SIN($Q267))))","v":0.0639512867517279},{"$f":"W267*ABS(1/(Vout/(SQRT(2)*$C$25*SIN($Q267))))","v":0.0852683823356372},null,{"$f":"1/(0.0000128*(R267+Y267+$G$23))","v":40387.4570605612},{"$f":"1/(0.0000128*(S267+Z267+$H$23))","v":86450.272491278},{"$f":"1/(0.0000128*(T267+AA267+$I$23))","v":112705.697103198},{"$f":"1/(0.0000128*(U267+AB267+$J$23))","v":249630.219049213},{"$f":"1/(0.0000128*(V267+AC267+$K$23))","v":166420.146032808},{"$f":"1/(0.0000128*(W267+AD267+$L$23))","v":124815.109524606}]
[null,null,null,null,null,null,null,null,null,null,null,null,null,null,null,null,{"$f":"Q267+0.01","v":2.61999999999999},{"$f":"(G$5*((90/$G$18)*(90/$G$18))/2)*(1+(SQRT(1+(4/(G$5*((90/$G$18)*(90/$G$18))))*$G$23*(1-(SQRT(2)*Vin_rms_min*(SIN($Q268)/Vout))))))","v":0.297899739718898},{"$f":"(H$5*((90/$G$18)*(90/$G$18))/2)*(1+(SQRT(1+(4/(H$5*((90/$G$18)*(90/$G$18))))*$H$23*(1-(SQRT(2)*Vin_rms_min*(SIN($Q268)/Vout))))))","v":0.288593440128543},{"$f":"(I$5*((90/$G$18)*(90/$G$18))/2)*(1+(SQRT(1+(4/(I$5*((90/$G$18)*(90/$G$18))))*$I$23*(1-(SQRT(2)*Vin_rms_min*(SIN($Q268)/Vout))))))","v":0.282915671333964},{"$f":"(J$5*((90/$G$18)*(90/$G$18))/2)*(1+(SQRT(1+(4/(J$5*((90/$G$18)*(90/$G$18))))*$J$23*(1-(SQRT(2)*Vin_rms_min*(SIN($Q268)/Vout))))))","v":0.270328719723183},{"$f":"(K$5*((90/$G$18)*(90/$G$18))/2)*(1+(SQRT(1+(4/(K$5*((90/$G$18)*(90/$G$18))))*$K$23*(1-(SQRT(2)*Vin_rms_min*(SIN($Q268)/Vout))))))","v":0.405493079584775},{"$f":"(L$5*((90/$G$18)*(90/$G$18))/2)*(1+(SQRT(1+(4/(L$5*((90/$G$18)*(90/$G$18))))*$L$23*(1-(SQRT(2)*Vin_rms_min*(SIN($Q268)/Vout))))))","v":0.540657439446367},null,{"$f":"R268*ABS(1/(Vout/(SQRT(2)*$C$25*SIN($Q268))))","v":0.0461812046749317},{"$f":"S268*ABS(1/(Vout/(SQRT(2)*$C$25*SIN($Q268))))","v":0.0447385175260474},{"$f":"T268*ABS(1/(Vout/(SQRT(2)*$C$25*SIN($Q268))))","v":0.0438583348073689},{"$f":"U268*ABS(1/(Vout/(SQRT(2)*$C$25*SIN($Q268))))","v":0.0419070723150975},{"$f":"V268*ABS(1/(Vout/(SQRT(2)*$C$25*SIN($Q268))))","v":0.0628606084726462},{"$f":"W268*ABS(1/(Vout/(SQRT(2)*$C$25*SIN($Q268))))","v":0.083814144630195},null,{"$f":"1/(0.0000128*(R268+Y268+$G$23))","v":40393.8626387147},{"$f":"1/(0.0000128*(S268+Z268+$H$23))","v":86485.3715602442},{"$f":"1/(0.0000128*(T268+AA268+$I$23))","v":112771.263510805},{"$f":"1/(0.0000128*(U268+AB268+$J$23))","v":250211.545223559},{"$f":"1/(0.0000128*(V268+AC268+$K$23))","v":166807.696815706},{"$f":"1/(0.0000128*(W268+AD268+$L$23))","v":125105.772611779}]
[null,null,null,null,null,null,null,null,null,null,null,null,null,null,null,null,{"$f":"Q268+0.01","v":2.62999999999999},{"$f":"(G$5*((90/$G$18)*(90/$G$18))/2)*(1+(SQRT(1+(4/(G$5*((90/$G$18)*(90/$G$18))))*$G$23*(1-(SQRT(2)*Vin_rms_min*(SIN($Q269)/Vout))))))","v":0.298328681876936},{"$f":"(H$5*((90/$G$18)*(90/$G$18))/2)*(1+(SQRT(1+(4/(H$5*((90/$G$18)*(90/$G$18))))*$H$23*(1-(SQRT(2)*Vin_rms_min*(SIN($Q269)/Vout))))))","v":0.288948648492919},{"$f":"(I$5*((90/$G$18)*(90/$G$18))/2)*(1+(SQRT(1+(4/(I$5*((90/$G$18)*(90/$G$18))))*$I$23*(1-(SQRT(2)*Vin_rms_min*(SIN($Q269)/Vout))))))","v":0.283226197151211},{"$f":"(J$5*((90/$G$18)*(90/$G$18))/2)*(1+(SQRT(1+(4/(J$5*((90/$G$18)*(90/$G$18))))*$J$23*(1-(SQRT(2)*Vin_rms_min*(SIN($Q269)/Vout))))))","v":0.270328719723183},{"$f":"(K$5*((90/$G$18)*(90/$G$18))/2)*(1+(SQRT(1+(4/(K$5*((90/$G$18)*(90/$G$18))))*$K$23*(1-(SQRT(2)*Vin_rms_min*(SIN($Q269)/Vout))))))","v":0.405493079584775},{"$f":"(L$5*((90/$G$18)*(90/$G$18))/2)*(1+(SQRT(1+(4/(L$5*((90/$G$18)*(90/$G$18))))*$L$23*(1-(SQRT(2)*Vin_rms_min*(SIN($Q269)/Vout))))))","v":0.540657439446367},null,{"$f":"R269*ABS(1/(Vout/(SQRT(2)*$C$25*SIN($Q269))))","v":0.0454406437133906},{"$f":"S269*ABS(1/(Vout/(SQRT(2)*$C$25*SIN($Q269))))","v":0.0440119015879563},{"$f":"T269*ABS(1/(Vout/(SQRT(2)*$C$25*SIN($Q269))))","v":0.0431402727826072},{"$f":"U269*ABS(1/(Vout/(SQRT(2)*$C$25*SIN($Q269))))","v":0.0411757627900673},{"$f":"V269*ABS(1/(Vout/(SQRT(2)*$C$25*SIN($Q269))))","v":0.061763644185101},{"$f":"W269*ABS(1/(Vout/(SQRT(2)*$C$25*SIN($Q269))))","v":0.0823515255801346},null,{"$f":"1/(0.0000128*(R269+Y269+$G$23))","v":40400.3719399937},{"$f":"1/(0.0000128*(S269+Z269+$H$23))","v":86520.9448995337},{"$f":"1/(0.0000128*(T269+AA269+$I$23))","v":112837.642191812},{"$f":"1/(0.0000128*(U269+AB269+$J$23))","v":250798.95919853},{"$f":"1/(0.0000128*(V269+AC269+$K$23))","v":167199.306132353},{"$f":"1/(0.0000128*(W269+AD269+$L$23))","v":125399.479599265}]
[null,null,null,null,null,null,null,null,null,null,null,null,null,null,null,null,{"$f":"Q269+0.01","v":2.63999999999999},{"$f":"(G$5*((90/$G$18)*(90/$G$18))/2)*(1+(SQRT(1+(4/(G$5*((90/$G$18)*(90/$G$18))))*$G$23*(1-(SQRT(2)*Vin_rms_min*(SIN($Q270)/Vout))))))","v":0.298759356289007},{"$f":"(H$5*((90/$G$18)*(90/$G$18))/2)*(1+(SQRT(1+(4/(H$5*((90/$G$18)*(90/$G$18))))*$H$23*(1-(SQRT(2)*Vin_rms_min*(SIN($Q270)/Vout))))))","v":0.289305315913965},{"$f":"(I$5*((90/$G$18)*(90/$G$18))/2)*(1+(SQRT(1+(4/(I$5*((90/$G$18)*(90/$G$18))))*$I$23*(1-(SQRT(2)*Vin_rms_min*(SIN($Q270)/Vout))))))","v":0.283538021056288},{"$f":"(J$5*((90/$G$18)*(90/$G$18))/2)*(1+(SQRT(1+(4/(J$5*((90/$G$18)*(90/$G$18))))*$J$23*(1-(SQRT(2)*Vin_rms_min*(SIN($Q270)/Vout))))))","v":0.270328719723183},{"$f":"(K$5*((90/$G$18)*(90/$G$18))/2)*(1+(SQRT(1+(4/(K$5*((90/$G$18)*(90/$G$18))))*$K$23*(1-(SQRT(2)*Vin_rms_min*(SIN($Q270)/Vout))))))","v":0.405493079584775},{"$f":"(L$5*((90/$G$18)*(90/$G$18))/2)*(1+(SQRT(1+(4/(L$5*((90/$G$18)*(90/$G$18))))*$L$23*(1-(SQRT(2)*Vin_rms_min*(SIN($Q270)/Vout))))))","v":0.540657439446367},null,{"$f":"R270*ABS(1/(Vout/(SQRT(2)*$C$25*SIN($Q270))))","v":0.0446934705313884},{"$f":"S270*ABS(1/(Vout/(SQRT(2)*$C$25*SIN($Q270))))","v":0.043279175494229},{"$f":"T270*ABS(1/(Vout/(SQRT(2)*$C$25*SIN($Q270))))","v":0.0424164061203452},{"$f":"U270*ABS(1/(Vout/(SQRT(2)*$C$25*SIN($Q270))))","v":0.0404403357230712},{"$f":"V270*ABS(1/(Vout/(SQRT(2)*$C$25*SIN($Q270))))","v":0.0606605035846068},{"$f":"W270*ABS(1/(Vout/(SQRT(2)*$C$25*SIN($Q270))))","v":0.0808806714461423},null,{"$f":"1/(0.0000128*(R270+Y270+$G$23))","v":40406.9853250458},{"$f":"1/(0.0000128*(S270+Z270+$H$23))","v":86556.9935487269},{"$f":"1/(0.0000128*(T270+AA270+$I$23))","v":112904.834381611},{"$f":"1/(0.0000128*(U270+AB270+$J$23))","v":251392.468557769},{"$f":"1/(0.0000128*(V270+AC270+$K$23))","v":167594.979038512},{"$f":"1/(0.0000128*(W270+AD270+$L$23))","v":125696.234278884}]
[null,null,null,null,null,null,null,null,null,null,null,null,null,null,null,null,{"$f":"Q270+0.01","v":2.64999999999999},{"$f":"(G$5*((90/$G$18)*(90/$G$18))/2)*(1+(SQRT(1+(4/(G$5*((90/$G$18)*(90/$G$18))))*$G$23*(1-(SQRT(2)*Vin_rms_min*(SIN($Q271)/Vout))))))","v":0.299191711766971},{"$f":"(H$5*((90/$G$18)*(90/$G$18))/2)*(1+(SQRT(1+(4/(H$5*((90/$G$18)*(90/$G$18))))*$H$23*(1-(SQRT(2)*Vin_rms_min*(SIN($Q271)/Vout))))))","v":0.28966340017992},{"$f":"(I$5*((90/$G$18)*(90/$G$18))/2)*(1+(SQRT(1+(4/(I$5*((90/$G$18)*(90/$G$18))))*$I$23*(1-(SQRT(2)*Vin_rms_min*(SIN($Q271)/Vout))))))","v":0.283851106319808},{"$f":"(J$5*((90/$G$18)*(90/$G$18))/2)*(1+(SQRT(1+(4/(J$5*((90/$G$18)*(90/$G$18))))*$J$23*(1-(SQRT(2)*Vin_rms_min*(SIN($Q271)/Vout))))))","v":0.270328719723183},{"$f":"(K$5*((90/$G$18)*(90/$G$18))/2)*(1+(SQRT(1+(4/(K$5*((90/$G$18)*(90/$G$18))))*$K$23*(1-(SQRT(2)*Vin_rms_min*(SIN($Q271)/Vout))))))","v":0.405493079584775},{"$f":"(L$5*((90/$G$18)*(90/$G$18))/2)*(1+(SQRT(1+(4/(L$5*((90/$G$18)*(90/$G$18))))*$L$23*(1-(SQRT(2)*Vin_rms_min*(SIN($Q271)/Vout))))))","v":0.540657439446367},null,{"$f":"R271*ABS(1/(Vout/(SQRT(2)*$C$25*SIN($Q271))))","v":0.0439397251882132},{"$f":"S271*ABS(1/(Vout/(SQRT(2)*$C$25*SIN($Q271))))","v":0.0425403836417175},{"$f":"T271*ABS(1/(Vout/(SQRT(2)*$C$25*SIN($Q271))))","v":0.0416867818042261},{"$f":"U271*ABS(1/(Vout/(SQRT(2)*$C$25*SIN($Q271))))","v":0.0397008646562029},{"$f":"V271*ABS(1/(Vout/(SQRT(2)*$C$25*SIN($Q271))))","v":0.0595512969843044},{"$f":"W271*ABS(1/(Vout/(SQRT(2)*$C$25*SIN($Q271))))","v":0.0794017293124058},null,{"$f":"1/(0.0000128*(R271+Y271+$G$23))","v":40413.7031277357},{"$f":"1/(0.0000128*(S271+Z271+$H$23))","v":86593.5184499792},{"$f":"1/(0.0000128*(T271+AA271+$I$23))","v":112972.841172786},{"$f":"1/(0.0000128*(U271+AB271+$J$23))","v":251992.080550602},{"$f":"1/(0.0000128*(V271+AC271+$K$23))","v":167994.720367068},{"$f":"1/(0.0000128*(W271+AD271+$L$23))","v":125996.040275301}]
[null,null,null,null,null,null,null,null,null,null,null,null,null,null,null,null,{"$f":"Q271+0.01","v":2.65999999999999},{"$f":"(G$5*((90/$G$18)*(90/$G$18))/2)*(1+(SQRT(1+(4/(G$5*((90/$G$18)*(90/$G$18))))*$G$23*(1-(SQRT(2)*Vin_rms_min*(SIN($Q272)/Vout))))))","v":0.299625697179826},{"$f":"(H$5*((90/$G$18)*(90/$G$18))/2)*(1+(SQRT(1+(4/(H$5*((90/$G$18)*(90/$G$18))))*$H$23*(1-(SQRT(2)*Vin_rms_min*(SIN($Q272)/Vout))))))","v":0.290022859113846},{"$f":"(I$5*((90/$G$18)*(90/$G$18))/2)*(1+(SQRT(1+(4/(I$5*((90/$G$18)*(90/$G$18))))*$I$23*(1-(SQRT(2)*Vin_rms_min*(SIN($Q272)/Vout))))))","v":0.284165416231442},{"$f":"(J$5*((90/$G$18)*(90/$G$18))/2)*(1+(SQRT(1+(4/(J$5*((90/$G$18)*(90/$G$18))))*$J$23*(1-(SQRT(2)*Vin_rms_min*(SIN($Q272)/Vout))))))","v":0.270328719723183},{"$f":"(K$5*((90/$G$18)*(90/$G$18))/2)*(1+(SQRT(1+(4/(K$5*((90/$G$18)*(90/$G$18))))*$K$23*(1-(SQRT(2)*Vin_rms_min*(SIN($Q272)/Vout))))))","v":0.405493079584775},{"$f":"(L$5*((90/$G$18)*(90/$G$18))/2)*(1+(SQRT(1+(4/(L$5*((90/$G$18)*(90/$G$18))))*$L$23*(1-(SQRT(2)*Vin_rms_min*(SIN($Q272)/Vout))))))","v":0.540657439446367},null,{"$f":"R272*ABS(1/(Vout/(SQRT(2)*$C$25*SIN($Q272))))","v":0.043179449076822},{"$f":"S272*ABS(1/(Vout/(SQRT(2)*$C$25*SIN($Q272))))","v":0.0417955715884565},{"$f":"T272*ABS(1/(Vout/(SQRT(2)*$C$25*SIN($Q272))))","v":0.0409514478732955},{"$f":"U272*ABS(1/(Vout/(SQRT(2)*$C$25*SIN($Q272))))","v":0.0389574235359529},{"$f":"V272*ABS(1/(Vout/(SQRT(2)*$C$25*SIN($Q272))))","v":0.0584361353039294},{"$f":"W272*ABS(1/(Vout/(SQRT(2)*$C$25*SIN($Q272))))","v":0.0779148470719059},null,{"$f":"1/(0.0000128*(R272+Y272+$G$23))","v":40420.5256548019},{"$f":"1/(0.0000128*(S272+Z272+$H$23))","v":86630.5204465151},{"$f":"1/(0.0000128*(T272+AA272+$I$23))","v":113041.663512584},{"$f":"1/(0.0000128*(U272+AB272+$J$23))","v":252597.80207658},{"$f":"1/(0.0000128*(V272+AC272+$K$23))","v":168398.53471772},{"$f":"1/(0.0000128*(W272+AD272+$L$23))","v":126298.90103829}]
[null,null,null,null,null,null,null,null,null,null,null,null,null,null,null,null,{"$f":"Q272+0.01","v":2.66999999999999},{"$f":"(G$5*((90/$G$18)*(90/$G$18))/2)*(1+(SQRT(1+(4/(G$5*((90/$G$18)*(90/$G$18))))*$G$23*(1-(SQRT(2)*Vin_rms_min*(SIN($Q273)/Vout))))))","v":0.300061261460656},{"$f":"(H$5*((90/$G$18)*(90/$G$18))/2)*(1+(SQRT(1+(4/(H$5*((90/$G$18)*(90/$G$18))))*$H$23*(1-(SQRT(2)*Vin_rms_min*(SIN($Q273)/Vout))))))","v":0.290383650579422},{"$f":"(I$5*((90/$G$18)*(90/$G$18))/2)*(1+(SQRT(1+(4/(I$5*((90/$G$18)*(90/$G$18))))*$I$23*(1-(SQRT(2)*Vin_rms_min*(SIN($Q273)/Vout))))))","v":0.284480914105012},{"$f":"(J$5*((90/$G$18)*(90/$G$18))/2)*(1+(SQRT(1+(4/(J$5*((90/$G$18)*(90/$G$18))))*$J$23*(1-(SQRT(2)*Vin_rms_min*(SIN($Q273)/Vout))))))","v":0.270328719723183},{"$f":"(K$5*((90/$G$18)*(90/$G$18))/2)*(1+(SQRT(1+(4/(K$5*((90/$G$18)*(90/$G$18))))*$K$23*(1-(SQRT(2)*Vin_rms_min*(SIN($Q273)/Vout))))))","v":0.405493079584775},{"$f":"(L$5*((90/$G$18)*(90/$G$18))/2)*(1+(SQRT(1+(4/(L$5*((90/$G$18)*(90/$G$18))))*$L$23*(1-(SQRT(2)*Vin_rms_min*(SIN($Q273)/Vout))))))","v":0.540657439446367},null,{"$f":"R273*ABS(1/(Vout/(SQRT(2)*$C$25*SIN($Q273))))","v":0.0424126849311759},{"$f":"S273*ABS(1/(Vout/(SQRT(2)*$C$25*SIN($Q273))))","v":0.0410447860588115},{"$f":"T273*ABS(1/(Vout/(SQRT(2)*$C$25*SIN($Q273))))","v":0.0402104534258609},{"$f":"U273*ABS(1/(Vout/(SQRT(2)*$C$25*SIN($Q273))))","v":0.0382100867058138},{"$f":"V273*ABS(1/(Vout/(SQRT(2)*$C$25*SIN($Q273))))","v":0.0573151300587207},{"$f":"W273*ABS(1/(Vout/(SQRT(2)*$C$25*SIN($Q273))))","v":0.0764201734116276},null,{"$f":"1/(0.0000128*(R273+Y273+$G$23))","v":40427.4531855237},{"$f":"1/(0.0000128*(S273+Z273+$H$23))","v":86668.0002811511},{"$f":"1/(0.0000128*(T273+AA273+$I$23))","v":113111.302200412},{"$f":"1/(0.0000128*(U273+AB273+$J$23))","v":253209.639669682},{"$f":"1/(0.0000128*(V273+AC273+$K$23))","v":168806.426446454},{"$f":"1/(0.0000128*(W273+AD273+$L$23))","v":126604.819834841}]
[null,null,null,null,null,null,null,null,null,null,null,null,null,null,null,null,{"$f":"Q273+0.01","v":2.67999999999999},{"$f":"(G$5*((90/$G$18)*(90/$G$18))/2)*(1+(SQRT(1+(4/(G$5*((90/$G$18)*(90/$G$18))))*$G$23*(1-(SQRT(2)*Vin_rms_min*(SIN($Q274)/Vout))))))","v":0.300498353613441},{"$f":"(H$5*((90/$G$18)*(90/$G$18))/2)*(1+(SQRT(1+(4/(H$5*((90/$G$18)*(90/$G$18))))*$H$23*(1-(SQRT(2)*Vin_rms_min*(SIN($Q274)/Vout))))))","v":0.290745732486626},{"$f":"(I$5*((90/$G$18)*(90/$G$18))/2)*(1+(SQRT(1+(4/(I$5*((90/$G$18)*(90/$G$18))))*$I$23*(1-(SQRT(2)*Vin_rms_min*(SIN($Q274)/Vout))))))","v":0.284797563283477},{"$f":"(J$5*((90/$G$18)*(90/$G$18))/2)*(1+(SQRT(1+(4/(J$5*((90/$G$18)*(90/$G$18))))*$J$23*(1-(SQRT(2)*Vin_rms_min*(SIN($Q274)/Vout))))))","v":0.270328719723183},{"$f":"(K$5*((90/$G$18)*(90/$G$18))/2)*(1+(SQRT(1+(4/(K$5*((90/$G$18)*(90/$G$18))))*$K$23*(1-(SQRT(2)*Vin_rms_min*(SIN($Q274)/Vout))))))","v":0.405493079584775},{"$f":"(L$5*((90/$G$18)*(90/$G$18))/2)*(1+(SQRT(1+(4/(L$5*((90/$G$18)*(90/$G$18))))*$L$23*(1-(SQRT(2)*Vin_rms_min*(SIN($Q274)/Vout))))))","v":0.540657439446367},null,{"$f":"R274*ABS(1/(Vout/(SQRT(2)*$C$25*SIN($Q274))))","v":0.0416394768330667},{"$f":"S274*ABS(1/(Vout/(SQRT(2)*$C$25*SIN($Q274))))","v":0.0402880749482028},{"$f":"T274*ABS(1/(Vout/(SQRT(2)*$C$25*SIN($Q274))))","v":0.0394638486229821},{"$f":"U274*ABS(1/(Vout/(SQRT(2)*$C$25*SIN($Q274))))","v":0.0374589288988457},{"$f":"V274*ABS(1/(Vout/(SQRT(2)*$C$25*SIN($Q274))))","v":0.0561883933482685},{"$f":"W274*ABS(1/(Vout/(SQRT(2)*$C$25*SIN($Q274))))","v":0.0749178577976914},null,{"$f":"1/(0.0000128*(R274+Y274+$G$23))","v":40434.4859713997},{"$f":"1/(0.0000128*(S274+Z274+$H$23))","v":86705.9585948453},{"$f":"1/(0.0000128*(T274+AA274+$I$23))","v":113181.757885355},{"$f":"1/(0.0000128*(U274+AB274+$J$23))","v":253827.599482198},{"$f":"1/(0.0000128*(V274+AC274+$K$23))","v":169218.399654799},{"$f":"1/(0.0000128*(W274+AD274+$L$23))","v":126913.799741099}]
[null,null,null,null,null,null,null,null,null,null,null,null,null,null,null,null,{"$f":"Q274+0.01","v":2.68999999999999},{"$f":"(G$5*((90/$G$18)*(90/$G$18))/2)*(1+(SQRT(1+(4/(G$5*((90/$G$18)*(90/$G$18))))*$G$23*(1-(SQRT(2)*Vin_rms_min*(SIN($Q275)/Vout))))))","v":0.300936922719728},{"$f":"(H$5*((90/$G$18)*(90/$G$18))/2)*(1+(SQRT(1+(4/(H$5*((90/$G$18)*(90/$G$18))))*$H$23*(1-(SQRT(2)*Vin_rms_min*(SIN($Q275)/Vout))))))","v":0.291109062797302},{"$f":"(I$5*((90/$G$18)*(90/$G$18))/2)*(1+(SQRT(1+(4/(I$5*((90/$G$18)*(90/$G$18))))*$I$23*(1-(SQRT(2)*Vin_rms_min*(SIN($Q275)/Vout))))))","v":0.285115327143844},{"$f":"(J$5*((90/$G$18)*(90/$G$18))/2)*(1+(SQRT(1+(4/(J$5*((90/$G$18)*(90/$G$18))))*$J$23*(1-(SQRT(2)*Vin_rms_min*(SIN($Q275)/Vout))))))","v":0.270328719723183},{"$f":"(K$5*((90/$G$18)*(90/$G$18))/2)*(1+(SQRT(1+(4/(K$5*((90/$G$18)*(90/$G$18))))*$K$23*(1-(SQRT(2)*Vin_rms_min*(SIN($Q275)/Vout))))))","v":0.405493079584775},{"$f":"(L$5*((90/$G$18)*(90/$G$18))/2)*(1+(SQRT(1+(4/(L$5*((90/$G$18)*(90/$G$18))))*$L$23*(1-(SQRT(2)*Vin_rms_min*(SIN($Q275)/Vout))))))","v":0.540657439446367},null,{"$f":"R275*ABS(1/(Vout/(SQRT(2)*$C$25*SIN($Q275))))","v":0.0408598702184339},{"$f":"S275*ABS(1/(Vout/(SQRT(2)*$C$25*SIN($Q275))))","v":0.0395254873274077},{"$f":"T275*ABS(1/(Vout/(SQRT(2)*$C$25*SIN($Q275))))","v":0.038711684691591},{"$f":"U275*ABS(1/(Vout/(SQRT(2)*$C$25*SIN($Q275))))","v":0.0367040252302034},{"$f":"V275*ABS(1/(Vout/(SQRT(2)*$C$25*SIN($Q275))))","v":0.0550560378453051},{"$f":"W275*ABS(1/(Vout/(SQRT(2)*$C$25*SIN($Q275))))","v":0.0734080504604068},null,{"$f":"1/(0.0000128*(R275+Y275+$G$23))","v":40441.6242358369},{"$f":"1/(0.0000128*(S275+Z275+$H$23))","v":86744.3959252753},{"$f":"1/(0.0000128*(T275+AA275+$I$23))","v":113253.031063732},{"$f":"1/(0.0000128*(U275+AB275+$J$23))","v":254451.687268278},{"$f":"1/(0.0000128*(V275+AC275+$K$23))","v":169634.458178852},{"$f":"1/(0.0000128*(W275+AD275+$L$23))","v":127225.843634139}]
[null,null,null,null,null,null,null,null,null,null,null,null,null,null,null,null,{"$f":"Q275+0.01","v":2.69999999999999},{"$f":"(G$5*((90/$G$18)*(90/$G$18))/2)*(1+(SQRT(1+(4/(G$5*((90/$G$18)*(90/$G$18))))*$G$23*(1-(SQRT(2)*Vin_rms_min*(SIN($Q276)/Vout))))))","v":0.30137691794515},{"$f":"(H$5*((90/$G$18)*(90/$G$18))/2)*(1+(SQRT(1+(4/(H$5*((90/$G$18)*(90/$G$18))))*$H$23*(1-(SQRT(2)*Vin_rms_min*(SIN($Q276)/Vout))))))","v":0.291473599530627},{"$f":"(I$5*((90/$G$18)*(90/$G$18))/2)*(1+(SQRT(1+(4/(I$5*((90/$G$18)*(90/$G$18))))*$I$23*(1-(SQRT(2)*Vin_rms_min*(SIN($Q276)/Vout))))))","v":0.285434169101975},{"$f":"(J$5*((90/$G$18)*(90/$G$18))/2)*(1+(SQRT(1+(4/(J$5*((90/$G$18)*(90/$G$18))))*$J$23*(1-(SQRT(2)*Vin_rms_min*(SIN($Q276)/Vout))))))","v":0.270328719723183},{"$f":"(K$5*((90/$G$18)*(90/$G$18))/2)*(1+(SQRT(1+(4/(K$5*((90/$G$18)*(90/$G$18))))*$K$23*(1-(SQRT(2)*Vin_rms_min*(SIN($Q276)/Vout))))))","v":0.405493079584775},{"$f":"(L$5*((90/$G$18)*(90/$G$18))/2)*(1+(SQRT(1+(4/(L$5*((90/$G$18)*(90/$G$18))))*$L$23*(1-(SQRT(2)*Vin_rms_min*(SIN($Q276)/Vout))))))","v":0.540657439446367},null,{"$f":"R276*ABS(1/(Vout/(SQRT(2)*$C$25*SIN($Q276))))","v":0.0400739118831697},{"$f":"S276*ABS(1/(Vout/(SQRT(2)*$C$25*SIN($Q276))))","v":0.0387570734464357},{"$f":"T276*ABS(1/(Vout/(SQRT(2)*$C$25*SIN($Q276))))","v":0.037954013927238},{"$f":"U276*ABS(1/(Vout/(SQRT(2)*$C$25*SIN($Q276))))","v":0.0359454511896247},{"$f":"V276*ABS(1/(Vout/(SQRT(2)*$C$25*SIN($Q276))))","v":0.053918176784437},{"$f":"W276*ABS(1/(Vout/(SQRT(2)*$C$25*SIN($Q276))))","v":0.0718909023792493},null,{"$f":"1/(0.0000128*(R276+Y276+$G$23))","v":40448.8681738506},{"$f":"1/(0.0000128*(S276+Z276+$H$23))","v":86783.3127054432},{"$f":"1/(0.0000128*(T276+AA276+$I$23))","v":113325.122076671},{"$f":"1/(0.0000128*(U276+AB276+$J$23))","v":255081.908367131},{"$f":"1/(0.0000128*(V276+AC276+$K$23))","v":170054.605578088},{"$f":"1/(0.0000128*(W276+AD276+$L$23))","v":127540.954183566}]
[null,null,null,null,null,null,null,null,null,null,null,null,null,null,null,null,{"$f":"Q276+0.01","v":2.70999999999999},{"$f":"(G$5*((90/$G$18)*(90/$G$18))/2)*(1+(SQRT(1+(4/(G$5*((90/$G$18)*(90/$G$18))))*$G$23*(1-(SQRT(2)*Vin_rms_min*(SIN($Q277)/Vout))))))","v":0.301818288545814},{"$f":"(H$5*((90/$G$18)*(90/$G$18))/2)*(1+(SQRT(1+(4/(H$5*((90/$G$18)*(90/$G$18))))*$H$23*(1-(SQRT(2)*Vin_rms_min*(SIN($Q277)/Vout))))))","v":0.291839300768451},{"$f":"(I$5*((90/$G$18)*(90/$G$18))/2)*(1+(SQRT(1+(4/(I$5*((90/$G$18)*(90/$G$18))))*$I$23*(1-(SQRT(2)*Vin_rms_min*(SIN($Q277)/Vout))))))","v":0.28575405261731},{"$f":"(J$5*((90/$G$18)*(90/$G$18))/2)*(1+(SQRT(1+(4/(J$5*((90/$G$18)*(90/$G$18))))*$J$23*(1-(SQRT(2)*Vin_rms_min*(SIN($Q277)/Vout))))))","v":0.270328719723183},{"$f":"(K$5*((90/$G$18)*(90/$G$18))/2)*(1+(SQRT(1+(4/(K$5*((90/$G$18)*(90/$G$18))))*$K$23*(1-(SQRT(2)*Vin_rms_min*(SIN($Q277)/Vout))))))","v":0.405493079584775},{"$f":"(L$5*((90/$G$18)*(90/$G$18))/2)*(1+(SQRT(1+(4/(L$5*((90/$G$18)*(90/$G$18))))*$L$23*(1-(SQRT(2)*Vin_rms_min*(SIN($Q277)/Vout))))))","v":0.540657439446367},null,{"$f":"R277*ABS(1/(Vout/(SQRT(2)*$C$25*SIN($Q277))))","v":0.0392816499884125},{"$f":"S277*ABS(1/(Vout/(SQRT(2)*$C$25*SIN($Q277))))","v":0.0379828847379777},{"$f":"T277*ABS(1/(Vout/(SQRT(2)*$C$25*SIN($Q277))))","v":0.0371908896964662},{"$f":"U277*ABS(1/(Vout/(SQRT(2)*$C$25*SIN($Q277))))","v":0.0351832826338814},{"$f":"V277*ABS(1/(Vout/(SQRT(2)*$C$25*SIN($Q277))))","v":0.0527749239508221},{"$f":"W277*ABS(1/(Vout/(SQRT(2)*$C$25*SIN($Q277))))","v":0.0703665652677628},null,{"$f":"1/(0.0000128*(R277+Y277+$G$23))","v":40456.217951775},{"$f":"1/(0.0000128*(S277+Z277+$H$23))","v":86822.7092623088},{"$f":"1/(0.0000128*(T277+AA277+$I$23))","v":113398.031107714},{"$f":"1/(0.0000128*(U277+AB277+$J$23))","v":255718.267685903},{"$f":"1/(0.0000128*(V277+AC277+$K$23))","v":170478.845123935},{"$f":"1/(0.0000128*(W277+AD277+$L$23))","v":127859.133842951}]
[null,null,null,null,null,null,null,null,null,null,null,null,null,null,null,null,{"$f":"Q277+0.01","v":2.71999999999999},{"$f":"(G$5*((90/$G$18)*(90/$G$18))/2)*(1+(SQRT(1+(4/(G$5*((90/$G$18)*(90/$G$18))))*$G$23*(1-(SQRT(2)*Vin_rms_min*(SIN($Q278)/Vout))))))","v":0.302260983874537},{"$f":"(H$5*((90/$G$18)*(90/$G$18))/2)*(1+(SQRT(1+(4/(H$5*((90/$G$18)*(90/$G$18))))*$H$23*(1-(SQRT(2)*Vin_rms_min*(SIN($Q278)/Vout))))))","v":0.292206124660543},{"$f":"(I$5*((90/$G$18)*(90/$G$18))/2)*(1+(SQRT(1+(4/(I$5*((90/$G$18)*(90/$G$18))))*$I$23*(1-(SQRT(2)*Vin_rms_min*(SIN($Q278)/Vout))))))","v":0.286074941197499},{"$f":"(J$5*((90/$G$18)*(90/$G$18))/2)*(1+(SQRT(1+(4/(J$5*((90/$G$18)*(90/$G$18))))*$J$23*(1-(SQRT(2)*Vin_rms_min*(SIN($Q278)/Vout))))))","v":0.270328719723183},{"$f":"(K$5*((90/$G$18)*(90/$G$18))/2)*(1+(SQRT(1+(4/(K$5*((90/$G$18)*(90/$G$18))))*$K$23*(1-(SQRT(2)*Vin_rms_min*(SIN($Q278)/Vout))))))","v":0.405493079584775},{"$f":"(L$5*((90/$G$18)*(90/$G$18))/2)*(1+(SQRT(1+(4/(L$5*((90/$G$18)*(90/$G$18))))*$L$23*(1-(SQRT(2)*Vin_rms_min*(SIN($Q278)/Vout))))))","v":0.540657439446367},null,{"$f":"R278*ABS(1/(Vout/(SQRT(2)*$C$25*SIN($Q278))))","v":0.0384831340653264},{"$f":"S278*ABS(1/(Vout/(SQRT(2)*$C$25*SIN($Q278))))","v":0.0372029738204277},{"$f":"T278*ABS(1/(Vout/(SQRT(2)*$C$25*SIN($Q278))))","v":0.0364223664388103},{"$f":"U278*ABS(1/(Vout/(SQRT(2)*$C$25*SIN($Q278))))","v":0.034417595779194},{"$f":"V278*ABS(1/(Vout/(SQRT(2)*$C$25*SIN($Q278))))","v":0.0516263936687911},{"$f":"W278*ABS(1/(Vout/(SQRT(2)*$C$25*SIN($Q278))))","v":0.0688351915583881},null,{"$f":"1/(0.0000128*(R278+Y278+$G$23))","v":40463.6737069854},{"$f":"1/(0.0000128*(S278+Z278+$H$23))","v":86862.5858154502},{"$f":"1/(0.0000128*(T278+AA278+$I$23))","v":113471.758180453},{"$f":"1/(0.0000128*(U278+AB278+$J$23))","v":256360.769682187},{"$f":"1/(0.0000128*(V278+AC278+$K$23))","v":170907.179788125},{"$f":"1/(0.0000128*(W278+AD278+$L$23))","v":128180.384841093}]
[null,null,null,null,null,null,null,null,null,null,null,null,null,null,null,null,{"$f":"Q278+0.01","v":2.72999999999999},{"$f":"(G$5*((90/$G$18)*(90/$G$18))/2)*(1+(SQRT(1+(4/(G$5*((90/$G$18)*(90/$G$18))))*$G$23*(1-(SQRT(2)*Vin_rms_min*(SIN($Q279)/Vout))))))","v":0.302704953386951},{"$f":"(H$5*((90/$G$18)*(90/$G$18))/2)*(1+(SQRT(1+(4/(H$5*((90/$G$18)*(90/$G$18))))*$H$23*(1-(SQRT(2)*Vin_rms_min*(SIN($Q279)/Vout))))))","v":0.292574029429711},{"$f":"(I$5*((90/$G$18)*(90/$G$18))/2)*(1+(SQRT(1+(4/(I$5*((90/$G$18)*(90/$G$18))))*$I$23*(1-(SQRT(2)*Vin_rms_min*(SIN($Q279)/Vout))))))","v":0.286396798402941},{"$f":"(J$5*((90/$G$18)*(90/$G$18))/2)*(1+(SQRT(1+(4/(J$5*((90/$G$18)*(90/$G$18))))*$J$23*(1-(SQRT(2)*Vin_rms_min*(SIN($Q279)/Vout))))))","v":0.270328719723183},{"$f":"(K$5*((90/$G$18)*(90/$G$18))/2)*(1+(SQRT(1+(4/(K$5*((90/$G$18)*(90/$G$18))))*$K$23*(1-(SQRT(2)*Vin_rms_min*(SIN($Q279)/Vout))))))","v":0.405493079584775},{"$f":"(L$5*((90/$G$18)*(90/$G$18))/2)*(1+(SQRT(1+(4/(L$5*((90/$G$18)*(90/$G$18))))*$L$23*(1-(SQRT(2)*Vin_rms_min*(SIN($Q279)/Vout))))))","v":0.540657439446367},null,{"$f":"R279*ABS(1/(Vout/(SQRT(2)*$C$25*SIN($Q279))))","v":0.0376784150193664},{"$f":"S279*ABS(1/(Vout/(SQRT(2)*$C$25*SIN($Q279))))","v":0.0364173945004765},{"$f":"T279*ABS(1/(Vout/(SQRT(2)*$C$25*SIN($Q279))))","v":0.03564849966842},{"$f":"U279*ABS(1/(Vout/(SQRT(2)*$C$25*SIN($Q279))))","v":0.03364846719361},{"$f":"V279*ABS(1/(Vout/(SQRT(2)*$C$25*SIN($Q279))))","v":0.050472700790415},{"$f":"W279*ABS(1/(Vout/(SQRT(2)*$C$25*SIN($Q279))))","v":0.06729693438722},null,{"$f":"1/(0.0000128*(R279+Y279+$G$23))","v":40471.2355476303},{"$f":"1/(0.0000128*(S279+Z279+$H$23))","v":86902.9424757526},{"$f":"1/(0.0000128*(T279+AA279+$I$23))","v":113546.303156187},{"$f":"1/(0.0000128*(U279+AB279+$J$23))","v":257009.418346203},{"$f":"1/(0.0000128*(V279+AC279+$K$23))","v":171339.612230802},{"$f":"1/(0.0000128*(W279+AD279+$L$23))","v":128504.709173101}]
[null,null,null,null,null,null,null,null,null,null,null,null,null,null,null,null,{"$f":"Q279+0.01","v":2.73999999999999},{"$f":"(G$5*((90/$G$18)*(90/$G$18))/2)*(1+(SQRT(1+(4/(G$5*((90/$G$18)*(90/$G$18))))*$G$23*(1-(SQRT(2)*Vin_rms_min*(SIN($Q280)/Vout))))))","v":0.303150146647467},{"$f":"(H$5*((90/$G$18)*(90/$G$18))/2)*(1+(SQRT(1+(4/(H$5*((90/$G$18)*(90/$G$18))))*$H$23*(1-(SQRT(2)*Vin_rms_min*(SIN($Q280)/Vout))))))","v":0.292942973376832},{"$f":"(I$5*((90/$G$18)*(90/$G$18))/2)*(1+(SQRT(1+(4/(I$5*((90/$G$18)*(90/$G$18))))*$I$23*(1-(SQRT(2)*Vin_rms_min*(SIN($Q280)/Vout))))))","v":0.286719587851239},{"$f":"(J$5*((90/$G$18)*(90/$G$18))/2)*(1+(SQRT(1+(4/(J$5*((90/$G$18)*(90/$G$18))))*$J$23*(1-(SQRT(2)*Vin_rms_min*(SIN($Q280)/Vout))))))","v":0.270328719723183},{"$f":"(K$5*((90/$G$18)*(90/$G$18))/2)*(1+(SQRT(1+(4/(K$5*((90/$G$18)*(90/$G$18))))*$K$23*(1-(SQRT(2)*Vin_rms_min*(SIN($Q280)/Vout))))))","v":0.405493079584775},{"$f":"(L$5*((90/$G$18)*(90/$G$18))/2)*(1+(SQRT(1+(4/(L$5*((90/$G$18)*(90/$G$18))))*$L$23*(1-(SQRT(2)*Vin_rms_min*(SIN($Q280)/Vout))))))","v":0.540657439446367},null,{"$f":"R280*ABS(1/(Vout/(SQRT(2)*$C$25*SIN($Q280))))","v":0.0368675451340293},{"$f":"S280*ABS(1/(Vout/(SQRT(2)*$C$25*SIN($Q280))))","v":0.0356262017752757},{"$f":"T280*ABS(1/(Vout/(SQRT(2)*$C$25*SIN($Q280))))","v":0.0348693459753077},{"$f":"U280*ABS(1/(Vout/(SQRT(2)*$C$25*SIN($Q280))))","v":0.0328759737893469},{"$f":"V280*ABS(1/(Vout/(SQRT(2)*$C$25*SIN($Q280))))","v":0.0493139606840204},{"$f":"W280*ABS(1/(Vout/(SQRT(2)*$C$25*SIN($Q280))))","v":0.0657519475786938},null,{"$f":"1/(0.0000128*(R280+Y280+$G$23))","v":40478.9035523747},{"$f":"1/(0.0000128*(S280+Z280+$H$23))","v":86943.7792441246},{"$f":"1/(0.0000128*(T280+AA280+$I$23))","v":113621.665731619},{"$f":"1/(0.0000128*(U280+AB280+$J$23))","v":257664.217182612},{"$f":"1/(0.0000128*(V280+AC280+$K$23))","v":171776.144788408},{"$f":"1/(0.0000128*(W280+AD280+$L$23))","v":128832.108591306}]
[null,null,null,null,null,null,null,null,null,null,null,null,null,null,null,null,{"$f":"Q280+0.01","v":2.74999999999999},{"$f":"(G$5*((90/$G$18)*(90/$G$18))/2)*(1+(SQRT(1+(4/(G$5*((90/$G$18)*(90/$G$18))))*$G$23*(1-(SQRT(2)*Vin_rms_min*(SIN($Q281)/Vout))))))","v":0.303596513335101},{"$f":"(H$5*((90/$G$18)*(90/$G$18))/2)*(1+(SQRT(1+(4/(H$5*((90/$G$18)*(90/$G$18))))*$H$23*(1-(SQRT(2)*Vin_rms_min*(SIN($Q281)/Vout))))))","v":0.293312914885757},{"$f":"(I$5*((90/$G$18)*(90/$G$18))/2)*(1+(SQRT(1+(4/(I$5*((90/$G$18)*(90/$G$18))))*$I$23*(1-(SQRT(2)*Vin_rms_min*(SIN($Q281)/Vout))))))","v":0.28704327322156},{"$f":"(J$5*((90/$G$18)*(90/$G$18))/2)*(1+(SQRT(1+(4/(J$5*((90/$G$18)*(90/$G$18))))*$J$23*(1-(SQRT(2)*Vin_rms_min*(SIN($Q281)/Vout))))))","v":0.270328719723183},{"$f":"(K$5*((90/$G$18)*(90/$G$18))/2)*(1+(SQRT(1+(4/(K$5*((90/$G$18)*(90/$G$18))))*$K$23*(1-(SQRT(2)*Vin_rms_min*(SIN($Q281)/Vout))))))","v":0.405493079584775},{"$f":"(L$5*((90/$G$18)*(90/$G$18))/2)*(1+(SQRT(1+(4/(L$5*((90/$G$18)*(90/$G$18))))*$L$23*(1-(SQRT(2)*Vin_rms_min*(SIN($Q281)/Vout))))))","v":0.540657439446367},null,{"$f":"R281*ABS(1/(Vout/(SQRT(2)*$C$25*SIN($Q281))))","v":0.0360505780740894},{"$f":"S281*ABS(1/(Vout/(SQRT(2)*$C$25*SIN($Q281))))","v":0.0348294518341729},{"$f":"T281*ABS(1/(Vout/(SQRT(2)*$C$25*SIN($Q281))))","v":0.0340849630262193},{"$f":"U281*ABS(1/(Vout/(SQRT(2)*$C$25*SIN($Q281))))","v":0.0321001928151014},{"$f":"V281*ABS(1/(Vout/(SQRT(2)*$C$25*SIN($Q281))))","v":0.0481502892226522},{"$f":"W281*ABS(1/(Vout/(SQRT(2)*$C$25*SIN($Q281))))","v":0.0642003856302029},null,{"$f":"1/(0.0000128*(R281+Y281+$G$23))","v":40486.6777701546},{"$f":"1/(0.0000128*(S281+Z281+$H$23))","v":86985.096010243},{"$f":"1/(0.0000128*(T281+AA281+$I$23))","v":113697.845436566},{"$f":"1/(0.0000128*(U281+AB281+$J$23))","v":258325.169191983},{"$f":"1/(0.0000128*(V281+AC281+$K$23))","v":172216.779461322},{"$f":"1/(0.0000128*(W281+AD281+$L$23))","v":129162.584595992}]
[null,null,null,null,null,null,null,null,null,null,null,null,null,null,null,null,{"$f":"Q281+0.01","v":2.75999999999999},{"$f":"(G$5*((90/$G$18)*(90/$G$18))/2)*(1+(SQRT(1+(4/(G$5*((90/$G$18)*(90/$G$18))))*$G$23*(1-(SQRT(2)*Vin_rms_min*(SIN($Q282)/Vout))))))","v":0.304044003249162},{"$f":"(H$5*((90/$G$18)*(90/$G$18))/2)*(1+(SQRT(1+(4/(H$5*((90/$G$18)*(90/$G$18))))*$H$23*(1-(SQRT(2)*Vin_rms_min*(SIN($Q282)/Vout))))))","v":0.293683812428119},{"$f":"(I$5*((90/$G$18)*(90/$G$18))/2)*(1+(SQRT(1+(4/(I$5*((90/$G$18)*(90/$G$18))))*$I$23*(1-(SQRT(2)*Vin_rms_min*(SIN($Q282)/Vout))))))","v":0.287367818258912},{"$f":"(J$5*((90/$G$18)*(90/$G$18))/2)*(1+(SQRT(1+(4/(J$5*((90/$G$18)*(90/$G$18))))*$J$23*(1-(SQRT(2)*Vin_rms_min*(SIN($Q282)/Vout))))))","v":0.270328719723183},{"$f":"(K$5*((90/$G$18)*(90/$G$18))/2)*(1+(SQRT(1+(4/(K$5*((90/$G$18)*(90/$G$18))))*$K$23*(1-(SQRT(2)*Vin_rms_min*(SIN($Q282)/Vout))))))","v":0.405493079584775},{"$f":"(L$5*((90/$G$18)*(90/$G$18))/2)*(1+(SQRT(1+(4/(L$5*((90/$G$18)*(90/$G$18))))*$L$23*(1-(SQRT(2)*Vin_rms_min*(SIN($Q282)/Vout))))))","v":0.540657439446367},null,{"$f":"R282*ABS(1/(Vout/(SQRT(2)*$C$25*SIN($Q282))))","v":0.0352275688883195},{"$f":"S282*ABS(1/(Vout/(SQRT(2)*$C$25*SIN($Q282))))","v":0.0340272020600175},{"$f":"T282*ABS(1/(Vout/(SQRT(2)*$C$25*SIN($Q282))))","v":0.0332954095651278},{"$f":"U282*ABS(1/(Vout/(SQRT(2)*$C$25*SIN($Q282))))","v":0.0313212018483245},{"$f":"V282*ABS(1/(Vout/(SQRT(2)*$C$25*SIN($Q282))))","v":0.0469818027724868},{"$f":"W282*ABS(1/(Vout/(SQRT(2)*$C$25*SIN($Q282))))","v":0.062642403696649},null,{"$f":"1/(0.0000128*(R282+Y282+$G$23))","v":40494.5582199419},{"$f":"1/(0.0000128*(S282+Z282+$H$23))","v":87026.892551325},{"$f":"1/(0.0000128*(T282+AA282+$I$23))","v":113774.841631712},{"$f":"1/(0.0000128*(U282+AB282+$J$23))","v":258992.276851894},{"$f":"1/(0.0000128*(V282+AC282+$K$23))","v":172661.517901263},{"$f":"1/(0.0000128*(W282+AD282+$L$23))","v":129496.138425947}]
[null,null,null,null,null,null,null,null,null,null,null,null,null,null,null,null,{"$f":"Q282+0.01","v":2.76999999999998},{"$f":"(G$5*((90/$G$18)*(90/$G$18))/2)*(1+(SQRT(1+(4/(G$5*((90/$G$18)*(90/$G$18))))*$G$23*(1-(SQRT(2)*Vin_rms_min*(SIN($Q283)/Vout))))))","v":0.304492566314813},{"$f":"(H$5*((90/$G$18)*(90/$G$18))/2)*(1+(SQRT(1+(4/(H$5*((90/$G$18)*(90/$G$18))))*$H$23*(1-(SQRT(2)*Vin_rms_min*(SIN($Q283)/Vout))))))","v":0.294055624568031},{"$f":"(I$5*((90/$G$18)*(90/$G$18))/2)*(1+(SQRT(1+(4/(I$5*((90/$G$18)*(90/$G$18))))*$I$23*(1-(SQRT(2)*Vin_rms_min*(SIN($Q283)/Vout))))))","v":0.28769318677833},{"$f":"(J$5*((90/$G$18)*(90/$G$18))/2)*(1+(SQRT(1+(4/(J$5*((90/$G$18)*(90/$G$18))))*$J$23*(1-(SQRT(2)*Vin_rms_min*(SIN($Q283)/Vout))))))","v":0.270328719723183},{"$f":"(K$5*((90/$G$18)*(90/$G$18))/2)*(1+(SQRT(1+(4/(K$5*((90/$G$18)*(90/$G$18))))*$K$23*(1-(SQRT(2)*Vin_rms_min*(SIN($Q283)/Vout))))))","v":0.405493079584775},{"$f":"(L$5*((90/$G$18)*(90/$G$18))/2)*(1+(SQRT(1+(4/(L$5*((90/$G$18)*(90/$G$18))))*$L$23*(1-(SQRT(2)*Vin_rms_min*(SIN($Q283)/Vout))))))","v":0.540657439446367},null,{"$f":"R283*ABS(1/(Vout/(SQRT(2)*$C$25*SIN($Q283))))","v":0.0343985740116965},{"$f":"S283*ABS(1/(Vout/(SQRT(2)*$C$25*SIN($Q283))))","v":0.0332195110300365},{"$f":"T283*ABS(1/(Vout/(SQRT(2)*$C$25*SIN($Q283))))","v":0.0325007454133496},{"$f":"U283*ABS(1/(Vout/(SQRT(2)*$C$25*SIN($Q283))))","v":0.0305390787874637},{"$f":"V283*ABS(1/(Vout/(SQRT(2)*$C$25*SIN($Q283))))","v":0.0458086181811955},{"$f":"W283*ABS(1/(Vout/(SQRT(2)*$C$25*SIN($Q283))))","v":0.0610781575749274},null,{"$f":"1/(0.0000128*(R283+Y283+$G$23))","v":40502.5448905196},{"$f":"1/(0.0000128*(S283+Z283+$H$23))","v":87069.1685309286},{"$f":"1/(0.0000128*(T283+AA283+$I$23))","v":113852.65350638},{"$f":"1/(0.0000128*(U283+AB283+$J$23))","v":259665.542097671},{"$f":"1/(0.0000128*(V283+AC283+$K$23))","v":173110.361398447},{"$f":"1/(0.0000128*(W283+AD283+$L$23))","v":129832.771048835}]
[null,null,null,null,null,null,null,null,null,null,null,null,null,null,null,null,{"$f":"Q283+0.01","v":2.77999999999998},{"$f":"(G$5*((90/$G$18)*(90/$G$18))/2)*(1+(SQRT(1+(4/(G$5*((90/$G$18)*(90/$G$18))))*$G$23*(1-(SQRT(2)*Vin_rms_min*(SIN($Q284)/Vout))))))","v":0.304942152588488},{"$f":"(H$5*((90/$G$18)*(90/$G$18))/2)*(1+(SQRT(1+(4/(H$5*((90/$G$18)*(90/$G$18))))*$H$23*(1-(SQRT(2)*Vin_rms_min*(SIN($Q284)/Vout))))))","v":0.29442830996668},{"$f":"(I$5*((90/$G$18)*(90/$G$18))/2)*(1+(SQRT(1+(4/(I$5*((90/$G$18)*(90/$G$18))))*$I$23*(1-(SQRT(2)*Vin_rms_min*(SIN($Q284)/Vout))))))","v":0.288019342668972},{"$f":"(J$5*((90/$G$18)*(90/$G$18))/2)*(1+(SQRT(1+(4/(J$5*((90/$G$18)*(90/$G$18))))*$J$23*(1-(SQRT(2)*Vin_rms_min*(SIN($Q284)/Vout))))))","v":0.270328719723183},{"$f":"(K$5*((90/$G$18)*(90/$G$18))/2)*(1+(SQRT(1+(4/(K$5*((90/$G$18)*(90/$G$18))))*$K$23*(1-(SQRT(2)*Vin_rms_min*(SIN($Q284)/Vout))))))","v":0.405493079584775},{"$f":"(L$5*((90/$G$18)*(90/$G$18))/2)*(1+(SQRT(1+(4/(L$5*((90/$G$18)*(90/$G$18))))*$L$23*(1-(SQRT(2)*Vin_rms_min*(SIN($Q284)/Vout))))))","v":0.540657439446367},null,{"$f":"R284*ABS(1/(Vout/(SQRT(2)*$C$25*SIN($Q284))))","v":0.0335636512670935},{"$f":"S284*ABS(1/(Vout/(SQRT(2)*$C$25*SIN($Q284))))","v":0.0324064385162815},{"$f":"T284*ABS(1/(Vout/(SQRT(2)*$C$25*SIN($Q284))))","v":0.0317010314692841},{"$f":"U284*ABS(1/(Vout/(SQRT(2)*$C$25*SIN($Q284))))","v":0.0297539018441733},{"$f":"V284*ABS(1/(Vout/(SQRT(2)*$C$25*SIN($Q284))))","v":0.0446308527662599},{"$f":"W284*ABS(1/(Vout/(SQRT(2)*$C$25*SIN($Q284))))","v":0.0595078036883465},null,{"$f":"1/(0.0000128*(R284+Y284+$G$23))","v":40510.6377402691},{"$f":"1/(0.0000128*(S284+Z284+$H$23))","v":87111.9234977816},{"$f":"1/(0.0000128*(T284+AA284+$I$23))","v":113931.280076342},{"$f":"1/(0.0000128*(U284+AB284+$J$23))","v":260344.966302769},{"$f":"1/(0.0000128*(V284+AC284+$K$23))","v":173563.310868513},{"$f":"1/(0.0000128*(W284+AD284+$L$23))","v":130172.483151384}]
[null,null,null,null,null,null,null,null,null,null,null,null,null,null,null,null,{"$f":"Q284+0.01","v":2.78999999999998},{"$f":"(G$5*((90/$G$18)*(90/$G$18))/2)*(1+(SQRT(1+(4/(G$5*((90/$G$18)*(90/$G$18))))*$G$23*(1-(SQRT(2)*Vin_rms_min*(SIN($Q285)/Vout))))))","v":0.305392712263186},{"$f":"(H$5*((90/$G$18)*(90/$G$18))/2)*(1+(SQRT(1+(4/(H$5*((90/$G$18)*(90/$G$18))))*$H$23*(1-(SQRT(2)*Vin_rms_min*(SIN($Q285)/Vout))))))","v":0.294801827386817},{"$f":"(I$5*((90/$G$18)*(90/$G$18))/2)*(1+(SQRT(1+(4/(I$5*((90/$G$18)*(90/$G$18))))*$I$23*(1-(SQRT(2)*Vin_rms_min*(SIN($Q285)/Vout))))))","v":0.288346249898138},{"$f":"(J$5*((90/$G$18)*(90/$G$18))/2)*(1+(SQRT(1+(4/(J$5*((90/$G$18)*(90/$G$18))))*$J$23*(1-(SQRT(2)*Vin_rms_min*(SIN($Q285)/Vout))))))","v":0.270328719723183},{"$f":"(K$5*((90/$G$18)*(90/$G$18))/2)*(1+(SQRT(1+(4/(K$5*((90/$G$18)*(90/$G$18))))*$K$23*(1-(SQRT(2)*Vin_rms_min*(SIN($Q285)/Vout))))))","v":0.405493079584775},{"$f":"(L$5*((90/$G$18)*(90/$G$18))/2)*(1+(SQRT(1+(4/(L$5*((90/$G$18)*(90/$G$18))))*$L$23*(1-(SQRT(2)*Vin_rms_min*(SIN($Q285)/Vout))))))","v":0.540657439446367},null,{"$f":"R285*ABS(1/(Vout/(SQRT(2)*$C$25*SIN($Q285))))","v":0.0327228598664568},{"$f":"S285*ABS(1/(Vout/(SQRT(2)*$C$25*SIN($Q285))))","v":0.0315880454856456},{"$f":"T285*ABS(1/(Vout/(SQRT(2)*$C$25*SIN($Q285))))","v":0.0308963297077752},{"$f":"U285*ABS(1/(Vout/(SQRT(2)*$C$25*SIN($Q285))))","v":0.0289657495354932},{"$f":"V285*ABS(1/(Vout/(SQRT(2)*$C$25*SIN($Q285))))","v":0.0434486243032399},{"$f":"W285*ABS(1/(Vout/(SQRT(2)*$C$25*SIN($Q285))))","v":0.0579314990709865},null,{"$f":"1/(0.0000128*(R285+Y285+$G$23))","v":40518.836696967},{"$f":"1/(0.0000128*(S285+Z285+$H$23))","v":87155.1568846378},{"$f":"1/(0.0000128*(T285+AA285+$I$23))","v":114010.720181647},{"$f":"1/(0.0000128*(U285+AB285+$J$23))","v":261030.550258774},{"$f":"1/(0.0000128*(V285+AC285+$K$23))","v":174020.366839183},{"$f":"1/(0.0000128*(W285+AD285+$L$23))","v":130515.275129387}]
[null,null,null,null,null,null,null,null,null,null,null,null,null,null,null,null,{"$f":"Q285+0.01","v":2.79999999999998},{"$f":"(G$5*((90/$G$18)*(90/$G$18))/2)*(1+(SQRT(1+(4/(G$5*((90/$G$18)*(90/$G$18))))*$G$23*(1-(SQRT(2)*Vin_rms_min*(SIN($Q286)/Vout))))))","v":0.305844195673629},{"$f":"(H$5*((90/$G$18)*(90/$G$18))/2)*(1+(SQRT(1+(4/(H$5*((90/$G$18)*(90/$G$18))))*$H$23*(1-(SQRT(2)*Vin_rms_min*(SIN($Q286)/Vout))))))","v":0.295176135697139},{"$f":"(I$5*((90/$G$18)*(90/$G$18))/2)*(1+(SQRT(1+(4/(I$5*((90/$G$18)*(90/$G$18))))*$I$23*(1-(SQRT(2)*Vin_rms_min*(SIN($Q286)/Vout))))))","v":0.288673872515193},{"$f":"(J$5*((90/$G$18)*(90/$G$18))/2)*(1+(SQRT(1+(4/(J$5*((90/$G$18)*(90/$G$18))))*$J$23*(1-(SQRT(2)*Vin_rms_min*(SIN($Q286)/Vout))))))","v":0.270328719723183},{"$f":"(K$5*((90/$G$18)*(90/$G$18))/2)*(1+(SQRT(1+(4/(K$5*((90/$G$18)*(90/$G$18))))*$K$23*(1-(SQRT(2)*Vin_rms_min*(SIN($Q286)/Vout))))))","v":0.405493079584775},{"$f":"(L$5*((90/$G$18)*(90/$G$18))/2)*(1+(SQRT(1+(4/(L$5*((90/$G$18)*(90/$G$18))))*$L$23*(1-(SQRT(2)*Vin_rms_min*(SIN($Q286)/Vout))))))","v":0.540657439446367},null,{"$f":"R286*ABS(1/(Vout/(SQRT(2)*$C$25*SIN($Q286))))","v":0.0318762604114711},{"$f":"S286*ABS(1/(Vout/(SQRT(2)*$C$25*SIN($Q286))))","v":0.030764394099453},{"$f":"T286*ABS(1/(Vout/(SQRT(2)*$C$25*SIN($Q286))))","v":0.0300867031790969},{"$f":"U286*ABS(1/(Vout/(SQRT(2)*$C$25*SIN($Q286))))","v":0.0281747006759977},{"$f":"V286*ABS(1/(Vout/(SQRT(2)*$C$25*SIN($Q286))))","v":0.0422620510139966},{"$f":"W286*ABS(1/(Vout/(SQRT(2)*$C$25*SIN($Q286))))","v":0.0563494013519955},null,{"$f":"1/(0.0000128*(R286+Y286+$G$23))","v":40527.1416575927},{"$f":"1/(0.0000128*(S286+Z286+$H$23))","v":87198.8680071622},{"$f":"1/(0.0000128*(T286+AA286+$I$23))","v":114090.972484489},{"$f":"1/(0.0000128*(U286+AB286+$J$23))","v":261722.29415504},{"$f":"1/(0.0000128*(V286+AC286+$K$23))","v":174481.529436693},{"$f":"1/(0.0000128*(W286+AD286+$L$23))","v":130861.14707752}]
[null,null,null,null,null,null,null,null,null,null,null,null,null,null,null,null,{"$f":"Q286+0.01","v":2.80999999999998},{"$f":"(G$5*((90/$G$18)*(90/$G$18))/2)*(1+(SQRT(1+(4/(G$5*((90/$G$18)*(90/$G$18))))*$G$23*(1-(SQRT(2)*Vin_rms_min*(SIN($Q287)/Vout))))))","v":0.306296553301294},{"$f":"(H$5*((90/$G$18)*(90/$G$18))/2)*(1+(SQRT(1+(4/(H$5*((90/$G$18)*(90/$G$18))))*$H$23*(1-(SQRT(2)*Vin_rms_min*(SIN($Q287)/Vout))))))","v":0.295551193876579},{"$f":"(I$5*((90/$G$18)*(90/$G$18))/2)*(1+(SQRT(1+(4/(I$5*((90/$G$18)*(90/$G$18))))*$I$23*(1-(SQRT(2)*Vin_rms_min*(SIN($Q287)/Vout))))))","v":0.289002174655407},{"$f":"(J$5*((90/$G$18)*(90/$G$18))/2)*(1+(SQRT(1+(4/(J$5*((90/$G$18)*(90/$G$18))))*$J$23*(1-(SQRT(2)*Vin_rms_min*(SIN($Q287)/Vout))))))","v":0.270328719723183},{"$f":"(K$5*((90/$G$18)*(90/$G$18))/2)*(1+(SQRT(1+(4/(K$5*((90/$G$18)*(90/$G$18))))*$K$23*(1-(SQRT(2)*Vin_rms_min*(SIN($Q287)/Vout))))))","v":0.405493079584775},{"$f":"(L$5*((90/$G$18)*(90/$G$18))/2)*(1+(SQRT(1+(4/(L$5*((90/$G$18)*(90/$G$18))))*$L$23*(1-(SQRT(2)*Vin_rms_min*(SIN($Q287)/Vout))))))","v":0.540657439446367},null,{"$f":"R287*ABS(1/(Vout/(SQRT(2)*$C$25*SIN($Q287))))","v":0.0310239148937117},{"$f":"S287*ABS(1/(Vout/(SQRT(2)*$C$25*SIN($Q287))))","v":0.0299355477126198},{"$f":"T287*ABS(1/(Vout/(SQRT(2)*$C$25*SIN($Q287))))","v":0.0292722160075612},{"$f":"U287*ABS(1/(Vout/(SQRT(2)*$C$25*SIN($Q287))))","v":0.0273808343699135},{"$f":"V287*ABS(1/(Vout/(SQRT(2)*$C$25*SIN($Q287))))","v":0.0410712515548702},{"$f":"W287*ABS(1/(Vout/(SQRT(2)*$C$25*SIN($Q287))))","v":0.0547616687398269},null,{"$f":"1/(0.0000128*(R287+Y287+$G$23))","v":40535.5524881477},{"$f":"1/(0.0000128*(S287+Z287+$H$23))","v":87243.0560628441},{"$f":"1/(0.0000128*(T287+AA287+$I$23))","v":114172.035467099},{"$f":"1/(0.0000128*(U287+AB287+$J$23))","v":262420.197557951},{"$f":"1/(0.0000128*(V287+AC287+$K$23))","v":174946.798371967},{"$f":"1/(0.0000128*(W287+AD287+$L$23))","v":131210.098778976}]
[null,null,null,null,null,null,null,null,null,null,null,null,null,null,null,null,{"$f":"Q287+0.01","v":2.81999999999998},{"$f":"(G$5*((90/$G$18)*(90/$G$18))/2)*(1+(SQRT(1+(4/(G$5*((90/$G$18)*(90/$G$18))))*$G$23*(1-(SQRT(2)*Vin_rms_min*(SIN($Q288)/Vout))))))","v":0.306749735779318},{"$f":"(H$5*((90/$G$18)*(90/$G$18))/2)*(1+(SQRT(1+(4/(H$5*((90/$G$18)*(90/$G$18))))*$H$23*(1-(SQRT(2)*Vin_rms_min*(SIN($Q288)/Vout))))))","v":0.295926961018481},{"$f":"(I$5*((90/$G$18)*(90/$G$18))/2)*(1+(SQRT(1+(4/(I$5*((90/$G$18)*(90/$G$18))))*$I$23*(1-(SQRT(2)*Vin_rms_min*(SIN($Q288)/Vout))))))","v":0.289331120543719},{"$f":"(J$5*((90/$G$18)*(90/$G$18))/2)*(1+(SQRT(1+(4/(J$5*((90/$G$18)*(90/$G$18))))*$J$23*(1-(SQRT(2)*Vin_rms_min*(SIN($Q288)/Vout))))))","v":0.270328719723183},{"$f":"(K$5*((90/$G$18)*(90/$G$18))/2)*(1+(SQRT(1+(4/(K$5*((90/$G$18)*(90/$G$18))))*$K$23*(1-(SQRT(2)*Vin_rms_min*(SIN($Q288)/Vout))))))","v":0.405493079584775},{"$f":"(L$5*((90/$G$18)*(90/$G$18))/2)*(1+(SQRT(1+(4/(L$5*((90/$G$18)*(90/$G$18))))*$L$23*(1-(SQRT(2)*Vin_rms_min*(SIN($Q288)/Vout))))))","v":0.540657439446367},null,{"$f":"R288*ABS(1/(Vout/(SQRT(2)*$C$25*SIN($Q288))))","v":0.0301658866942866},{"$f":"S288*ABS(1/(Vout/(SQRT(2)*$C$25*SIN($Q288))))","v":0.0291015708723879},{"$f":"T288*ABS(1/(Vout/(SQRT(2)*$C$25*SIN($Q288))))","v":0.0284529333897515},{"$f":"U288*ABS(1/(Vout/(SQRT(2)*$C$25*SIN($Q288))))","v":0.0265842300032095},{"$f":"V288*ABS(1/(Vout/(SQRT(2)*$C$25*SIN($Q288))))","v":0.0398763450048142},{"$f":"W288*ABS(1/(Vout/(SQRT(2)*$C$25*SIN($Q288))))","v":0.0531684600064189},null,{"$f":"1/(0.0000128*(R288+Y288+$G$23))","v":40544.0690234843},{"$f":"1/(0.0000128*(S288+Z288+$H$23))","v":87287.7201299386},{"$f":"1/(0.0000128*(T288+AA288+$I$23))","v":114253.907429671},{"$f":"1/(0.0000128*(U288+AB288+$J$23))","v":263124.259389807},{"$f":"1/(0.0000128*(V288+AC288+$K$23))","v":175416.172926538},{"$f":"1/(0.0000128*(W288+AD288+$L$23))","v":131562.129694903}]
[null,null,null,null,null,null,null,null,null,null,null,null,null,null,null,null,{"$f":"Q288+0.01","v":2.82999999999998},{"$f":"(G$5*((90/$G$18)*(90/$G$18))/2)*(1+(SQRT(1+(4/(G$5*((90/$G$18)*(90/$G$18))))*$G$23*(1-(SQRT(2)*Vin_rms_min*(SIN($Q289)/Vout))))))","v":0.307203693897273},{"$f":"(H$5*((90/$G$18)*(90/$G$18))/2)*(1+(SQRT(1+(4/(H$5*((90/$G$18)*(90/$G$18))))*$H$23*(1-(SQRT(2)*Vin_rms_min*(SIN($Q289)/Vout))))))","v":0.296303396334687},{"$f":"(I$5*((90/$G$18)*(90/$G$18))/2)*(1+(SQRT(1+(4/(I$5*((90/$G$18)*(90/$G$18))))*$I$23*(1-(SQRT(2)*Vin_rms_min*(SIN($Q289)/Vout))))))","v":0.289660674498405},{"$f":"(J$5*((90/$G$18)*(90/$G$18))/2)*(1+(SQRT(1+(4/(J$5*((90/$G$18)*(90/$G$18))))*$J$23*(1-(SQRT(2)*Vin_rms_min*(SIN($Q289)/Vout))))))","v":0.270328719723183},{"$f":"(K$5*((90/$G$18)*(90/$G$18))/2)*(1+(SQRT(1+(4/(K$5*((90/$G$18)*(90/$G$18))))*$K$23*(1-(SQRT(2)*Vin_rms_min*(SIN($Q289)/Vout))))))","v":0.405493079584775},{"$f":"(L$5*((90/$G$18)*(90/$G$18))/2)*(1+(SQRT(1+(4/(L$5*((90/$G$18)*(90/$G$18))))*$L$23*(1-(SQRT(2)*Vin_rms_min*(SIN($Q289)/Vout))))))","v":0.540657439446367},null,{"$f":"R289*ABS(1/(Vout/(SQRT(2)*$C$25*SIN($Q289))))","v":0.0293022405829681},{"$f":"S289*ABS(1/(Vout/(SQRT(2)*$C$25*SIN($Q289))))","v":0.0282625293166327},{"$f":"T289*ABS(1/(Vout/(SQRT(2)*$C$25*SIN($Q289))))","v":0.0276289215923794},{"$f":"U289*ABS(1/(Vout/(SQRT(2)*$C$25*SIN($Q289))))","v":0.0257849672356586},{"$f":"V289*ABS(1/(Vout/(SQRT(2)*$C$25*SIN($Q289))))","v":0.0386774508534879},{"$f":"W289*ABS(1/(Vout/(SQRT(2)*$C$25*SIN($Q289))))","v":0.0515699344713172},null,{"$f":"1/(0.0000128*(R289+Y289+$G$23))","v":40552.6910671457},{"$f":"1/(0.0000128*(S289+Z289+$H$23))","v":87332.859166437},{"$f":"1/(0.0000128*(T289+AA289+$I$23))","v":114336.586488315},{"$f":"1/(0.0000128*(U289+AB289+$J$23))","v":263834.477907328},{"$f":"1/(0.0000128*(V289+AC289+$K$23))","v":175889.651938219},{"$f":"1/(0.0000128*(W289+AD289+$L$23))","v":131917.238953664}]
[null,null,null,null,null,null,null,null,null,null,null,null,null,null,null,null,{"$f":"Q289+0.01","v":2.83999999999998},{"$f":"(G$5*((90/$G$18)*(90/$G$18))/2)*(1+(SQRT(1+(4/(G$5*((90/$G$18)*(90/$G$18))))*$G$23*(1-(SQRT(2)*Vin_rms_min*(SIN($Q290)/Vout))))))","v":0.307658378605822},{"$f":"(H$5*((90/$G$18)*(90/$G$18))/2)*(1+(SQRT(1+(4/(H$5*((90/$G$18)*(90/$G$18))))*$H$23*(1-(SQRT(2)*Vin_rms_min*(SIN($Q290)/Vout))))))","v":0.296680459159518},{"$f":"(I$5*((90/$G$18)*(90/$G$18))/2)*(1+(SQRT(1+(4/(I$5*((90/$G$18)*(90/$G$18))))*$I$23*(1-(SQRT(2)*Vin_rms_min*(SIN($Q290)/Vout))))))","v":0.289990800934671},{"$f":"(J$5*((90/$G$18)*(90/$G$18))/2)*(1+(SQRT(1+(4/(J$5*((90/$G$18)*(90/$G$18))))*$J$23*(1-(SQRT(2)*Vin_rms_min*(SIN($Q290)/Vout))))))","v":0.270328719723183},{"$f":"(K$5*((90/$G$18)*(90/$G$18))/2)*(1+(SQRT(1+(4/(K$5*((90/$G$18)*(90/$G$18))))*$K$23*(1-(SQRT(2)*Vin_rms_min*(SIN($Q290)/Vout))))))","v":0.405493079584775},{"$f":"(L$5*((90/$G$18)*(90/$G$18))/2)*(1+(SQRT(1+(4/(L$5*((90/$G$18)*(90/$G$18))))*$L$23*(1-(SQRT(2)*Vin_rms_min*(SIN($Q290)/Vout))))))","v":0.540657439446367},null,{"$f":"R290*ABS(1/(Vout/(SQRT(2)*$C$25*SIN($Q290))))","v":0.0284330427168175},{"$f":"S290*ABS(1/(Vout/(SQRT(2)*$C$25*SIN($Q290))))","v":0.0274184899717468},{"$f":"T290*ABS(1/(Vout/(SQRT(2)*$C$25*SIN($Q290))))","v":0.026800247949768},{"$f":"U290*ABS(1/(Vout/(SQRT(2)*$C$25*SIN($Q290))))","v":0.0249831259928716},{"$f":"V290*ABS(1/(Vout/(SQRT(2)*$C$25*SIN($Q290))))","v":0.0374746889893074},{"$f":"W290*ABS(1/(Vout/(SQRT(2)*$C$25*SIN($Q290))))","v":0.0499662519857432},null,{"$f":"1/(0.0000128*(R290+Y290+$G$23))","v":40561.4183912163},{"$f":"1/(0.0000128*(S290+Z290+$H$23))","v":87378.4720090642},{"$f":"1/(0.0000128*(T290+AA290+$I$23))","v":114420.070573044},{"$f":"1/(0.0000128*(U290+AB290+$J$23))","v":264550.850679786},{"$f":"1/(0.0000128*(V290+AC290+$K$23))","v":176367.233786524},{"$f":"1/(0.0000128*(W290+AD290+$L$23))","v":132275.425339893}]
[null,null,null,null,null,null,null,null,null,null,null,null,null,null,null,null,{"$f":"Q290+0.01","v":2.84999999999998},{"$f":"(G$5*((90/$G$18)*(90/$G$18))/2)*(1+(SQRT(1+(4/(G$5*((90/$G$18)*(90/$G$18))))*$G$23*(1-(SQRT(2)*Vin_rms_min*(SIN($Q291)/Vout))))))","v":0.308113741021251},{"$f":"(H$5*((90/$G$18)*(90/$G$18))/2)*(1+(SQRT(1+(4/(H$5*((90/$G$18)*(90/$G$18))))*$H$23*(1-(SQRT(2)*Vin_rms_min*(SIN($Q291)/Vout))))))","v":0.297058108953662},{"$f":"(I$5*((90/$G$18)*(90/$G$18))/2)*(1+(SQRT(1+(4/(I$5*((90/$G$18)*(90/$G$18))))*$I$23*(1-(SQRT(2)*Vin_rms_min*(SIN($Q291)/Vout))))))","v":0.290321464368165},{"$f":"(J$5*((90/$G$18)*(90/$G$18))/2)*(1+(SQRT(1+(4/(J$5*((90/$G$18)*(90/$G$18))))*$J$23*(1-(SQRT(2)*Vin_rms_min*(SIN($Q291)/Vout))))))","v":0.270328719723183},{"$f":"(K$5*((90/$G$18)*(90/$G$18))/2)*(1+(SQRT(1+(4/(K$5*((90/$G$18)*(90/$G$18))))*$K$23*(1-(SQRT(2)*Vin_rms_min*(SIN($Q291)/Vout))))))","v":0.405493079584775},{"$f":"(L$5*((90/$G$18)*(90/$G$18))/2)*(1+(SQRT(1+(4/(L$5*((90/$G$18)*(90/$G$18))))*$L$23*(1-(SQRT(2)*Vin_rms_min*(SIN($Q291)/Vout))))))","v":0.540657439446367},null,{"$f":"R291*ABS(1/(Vout/(SQRT(2)*$C$25*SIN($Q291))))","v":0.0275583606383028},{"$f":"S291*ABS(1/(Vout/(SQRT(2)*$C$25*SIN($Q291))))","v":0.0265695209500982},{"$f":"T291*ABS(1/(Vout/(SQRT(2)*$C$25*SIN($Q291))))","v":0.0259669808609615},{"$f":"U291*ABS(1/(Vout/(SQRT(2)*$C$25*SIN($Q291))))","v":0.0241787864583045},{"$f":"V291*ABS(1/(Vout/(SQRT(2)*$C$25*SIN($Q291))))","v":0.0362681796874567},{"$f":"W291*ABS(1/(Vout/(SQRT(2)*$C$25*SIN($Q291))))","v":0.048357572916609},null,{"$f":"1/(0.0000128*(R291+Y291+$G$23))","v":40570.2507361827},{"$f":"1/(0.0000128*(S291+Z291+$H$23))","v":87424.557372307},{"$f":"1/(0.0000128*(T291+AA291+$I$23))","v":114504.357425786},{"$f":"1/(0.0000128*(U291+AB291+$J$23))","v":265273.374566746},{"$f":"1/(0.0000128*(V291+AC291+$K$23))","v":176848.91637783},{"$f":"1/(0.0000128*(W291+AD291+$L$23))","v":132636.687283373}]
[null,null,null,null,null,null,null,null,null,null,null,null,null,null,null,null,{"$f":"Q291+0.01","v":2.85999999999998},{"$f":"(G$5*((90/$G$18)*(90/$G$18))/2)*(1+(SQRT(1+(4/(G$5*((90/$G$18)*(90/$G$18))))*$G$23*(1-(SQRT(2)*Vin_rms_min*(SIN($Q292)/Vout))))))","v":0.308569732429875},{"$f":"(H$5*((90/$G$18)*(90/$G$18))/2)*(1+(SQRT(1+(4/(H$5*((90/$G$18)*(90/$G$18))))*$H$23*(1-(SQRT(2)*Vin_rms_min*(SIN($Q292)/Vout))))))","v":0.297436305307958},{"$f":"(I$5*((90/$G$18)*(90/$G$18))/2)*(1+(SQRT(1+(4/(I$5*((90/$G$18)*(90/$G$18))))*$I$23*(1-(SQRT(2)*Vin_rms_min*(SIN($Q292)/Vout))))))","v":0.290652629418401},{"$f":"(J$5*((90/$G$18)*(90/$G$18))/2)*(1+(SQRT(1+(4/(J$5*((90/$G$18)*(90/$G$18))))*$J$23*(1-(SQRT(2)*Vin_rms_min*(SIN($Q292)/Vout))))))","v":0.270328719723183},{"$f":"(K$5*((90/$G$18)*(90/$G$18))/2)*(1+(SQRT(1+(4/(K$5*((90/$G$18)*(90/$G$18))))*$K$23*(1-(SQRT(2)*Vin_rms_min*(SIN($Q292)/Vout))))))","v":0.405493079584775},{"$f":"(L$5*((90/$G$18)*(90/$G$18))/2)*(1+(SQRT(1+(4/(L$5*((90/$G$18)*(90/$G$18))))*$L$23*(1-(SQRT(2)*Vin_rms_min*(SIN($Q292)/Vout))))))","v":0.540657439446367},null,{"$f":"R292*ABS(1/(Vout/(SQRT(2)*$C$25*SIN($Q292))))","v":0.0266782632729127},{"$f":"S292*ABS(1/(Vout/(SQRT(2)*$C$25*SIN($Q292))))","v":0.0257156915470685},{"$f":"T292*ABS(1/(Vout/(SQRT(2)*$C$25*SIN($Q292))))","v":0.025129189786463},{"$f":"U292*ABS(1/(Vout/(SQRT(2)*$C$25*SIN($Q292))))","v":0.0233720290652405},{"$f":"V292*ABS(1/(Vout/(SQRT(2)*$C$25*SIN($Q292))))","v":0.0350580435978607},{"$f":"W292*ABS(1/(Vout/(SQRT(2)*$C$25*SIN($Q292))))","v":0.046744058130481},null,{"$f":"1/(0.0000128*(R292+Y292+$G$23))","v":40579.1878108054},{"$f":"1/(0.0000128*(S292+Z292+$H$23))","v":87471.1138474687},{"$f":"1/(0.0000128*(T292+AA292+$I$23))","v":114589.444598441},{"$f":"1/(0.0000128*(U292+AB292+$J$23))","v":266002.045695429},{"$f":"1/(0.0000128*(V292+AC292+$K$23))","v":177334.697130286},{"$f":"1/(0.0000128*(W292+AD292+$L$23))","v":133001.022847714}]
[null,null,null,null,null,null,null,null,null,null,null,null,null,null,null,null,{"$f":"Q292+0.01","v":2.86999999999998},{"$f":"(G$5*((90/$G$18)*(90/$G$18))/2)*(1+(SQRT(1+(4/(G$5*((90/$G$18)*(90/$G$18))))*$G$23*(1-(SQRT(2)*Vin_rms_min*(SIN($Q293)/Vout))))))","v":0.309026304292333},{"$f":"(H$5*((90/$G$18)*(90/$G$18))/2)*(1+(SQRT(1+(4/(H$5*((90/$G$18)*(90/$G$18))))*$H$23*(1-(SQRT(2)*Vin_rms_min*(SIN($Q293)/Vout))))))","v":0.297815007947092},{"$f":"(I$5*((90/$G$18)*(90/$G$18))/2)*(1+(SQRT(1+(4/(I$5*((90/$G$18)*(90/$G$18))))*$I$23*(1-(SQRT(2)*Vin_rms_min*(SIN($Q293)/Vout))))))","v":0.290984260812108},{"$f":"(J$5*((90/$G$18)*(90/$G$18))/2)*(1+(SQRT(1+(4/(J$5*((90/$G$18)*(90/$G$18))))*$J$23*(1-(SQRT(2)*Vin_rms_min*(SIN($Q293)/Vout))))))","v":0.270328719723183},{"$f":"(K$5*((90/$G$18)*(90/$G$18))/2)*(1+(SQRT(1+(4/(K$5*((90/$G$18)*(90/$G$18))))*$K$23*(1-(SQRT(2)*Vin_rms_min*(SIN($Q293)/Vout))))))","v":0.405493079584775},{"$f":"(L$5*((90/$G$18)*(90/$G$18))/2)*(1+(SQRT(1+(4/(L$5*((90/$G$18)*(90/$G$18))))*$L$23*(1-(SQRT(2)*Vin_rms_min*(SIN($Q293)/Vout))))))","v":0.540657439446367},null,{"$f":"R293*ABS(1/(Vout/(SQRT(2)*$C$25*SIN($Q293))))","v":0.0257928209262681},{"$f":"S293*ABS(1/(Vout/(SQRT(2)*$C$25*SIN($Q293))))","v":0.0248570722376691},{"$f":"T293*ABS(1/(Vout/(SQRT(2)*$C$25*SIN($Q293))))","v":0.0242869452446006},{"$f":"U293*ABS(1/(Vout/(SQRT(2)*$C$25*SIN($Q293))))","v":0.0225629344887466},{"$f":"V293*ABS(1/(Vout/(SQRT(2)*$C$25*SIN($Q293))))","v":0.0338444017331199},{"$f":"W293*ABS(1/(Vout/(SQRT(2)*$C$25*SIN($Q293))))","v":0.0451258689774932},null,{"$f":"1/(0.0000128*(R293+Y293+$G$23))","v":40588.2292920003},{"$f":"1/(0.0000128*(S293+Z293+$H$23))","v":87518.1399017544},{"$f":"1/(0.0000128*(T293+AA293+$I$23))","v":114675.329450951},{"$f":"1/(0.0000128*(U293+AB293+$J$23))","v":266736.85943769},{"$f":"1/(0.0000128*(V293+AC293+$K$23))","v":177824.57295846},{"$f":"1/(0.0000128*(W293+AD293+$L$23))","v":133368.429718845}]
[null,null,null,null,null,null,null,null,null,null,null,null,null,null,null,null,{"$f":"Q293+0.01","v":2.87999999999998},{"$f":"(G$5*((90/$G$18)*(90/$G$18))/2)*(1+(SQRT(1+(4/(G$5*((90/$G$18)*(90/$G$18))))*$G$23*(1-(SQRT(2)*Vin_rms_min*(SIN($Q294)/Vout))))))","v":0.309483408247761},{"$f":"(H$5*((90/$G$18)*(90/$G$18))/2)*(1+(SQRT(1+(4/(H$5*((90/$G$18)*(90/$G$18))))*$H$23*(1-(SQRT(2)*Vin_rms_min*(SIN($Q294)/Vout))))))","v":0.298194176733197},{"$f":"(I$5*((90/$G$18)*(90/$G$18))/2)*(1+(SQRT(1+(4/(I$5*((90/$G$18)*(90/$G$18))))*$I$23*(1-(SQRT(2)*Vin_rms_min*(SIN($Q294)/Vout))))))","v":0.291316323386503},{"$f":"(J$5*((90/$G$18)*(90/$G$18))/2)*(1+(SQRT(1+(4/(J$5*((90/$G$18)*(90/$G$18))))*$J$23*(1-(SQRT(2)*Vin_rms_min*(SIN($Q294)/Vout))))))","v":0.270328719723183},{"$f":"(K$5*((90/$G$18)*(90/$G$18))/2)*(1+(SQRT(1+(4/(K$5*((90/$G$18)*(90/$G$18))))*$K$23*(1-(SQRT(2)*Vin_rms_min*(SIN($Q294)/Vout))))))","v":0.405493079584775},{"$f":"(L$5*((90/$G$18)*(90/$G$18))/2)*(1+(SQRT(1+(4/(L$5*((90/$G$18)*(90/$G$18))))*$L$23*(1-(SQRT(2)*Vin_rms_min*(SIN($Q294)/Vout))))))","v":0.540657439446367},null,{"$f":"R294*ABS(1/(Vout/(SQRT(2)*$C$25*SIN($Q294))))","v":0.0249021052807334},{"$f":"S294*ABS(1/(Vout/(SQRT(2)*$C$25*SIN($Q294))))","v":0.0239937346727389},{"$f":"T294*ABS(1/(Vout/(SQRT(2)*$C$25*SIN($Q294))))","v":0.0234403188075249},{"$f":"U294*ABS(1/(Vout/(SQRT(2)*$C$25*SIN($Q294))))","v":0.0217515836376062},{"$f":"V294*ABS(1/(Vout/(SQRT(2)*$C$25*SIN($Q294))))","v":0.0326273754564093},{"$f":"W294*ABS(1/(Vout/(SQRT(2)*$C$25*SIN($Q294))))","v":0.0435031672752123},null,{"$f":"1/(0.0000128*(R294+Y294+$G$23))","v":40597.3748247317},{"$f":"1/(0.0000128*(S294+Z294+$H$23))","v":87565.6338773839},{"$f":"1/(0.0000128*(T294+AA294+$I$23))","v":114762.009149421},{"$f":"1/(0.0000128*(U294+AB294+$J$23))","v":267477.810386607},{"$f":"1/(0.0000128*(V294+AC294+$K$23))","v":178318.540257738},{"$f":"1/(0.0000128*(W294+AD294+$L$23))","v":133738.905193304}]
[null,null,null,null,null,null,null,null,null,null,null,null,null,null,null,null,{"$f":"Q294+0.01","v":2.88999999999998},{"$f":"(G$5*((90/$G$18)*(90/$G$18))/2)*(1+(SQRT(1+(4/(G$5*((90/$G$18)*(90/$G$18))))*$G$23*(1-(SQRT(2)*Vin_rms_min*(SIN($Q295)/Vout))))))","v":0.30994099611785},{"$f":"(H$5*((90/$G$18)*(90/$G$18))/2)*(1+(SQRT(1+(4/(H$5*((90/$G$18)*(90/$G$18))))*$H$23*(1-(SQRT(2)*Vin_rms_min*(SIN($Q295)/Vout))))))","v":0.298573771669357},{"$f":"(I$5*((90/$G$18)*(90/$G$18))/2)*(1+(SQRT(1+(4/(I$5*((90/$G$18)*(90/$G$18))))*$I$23*(1-(SQRT(2)*Vin_rms_min*(SIN($Q295)/Vout))))))","v":0.291648782092477},{"$f":"(J$5*((90/$G$18)*(90/$G$18))/2)*(1+(SQRT(1+(4/(J$5*((90/$G$18)*(90/$G$18))))*$J$23*(1-(SQRT(2)*Vin_rms_min*(SIN($Q295)/Vout))))))","v":0.270328719723183},{"$f":"(K$5*((90/$G$18)*(90/$G$18))/2)*(1+(SQRT(1+(4/(K$5*((90/$G$18)*(90/$G$18))))*$K$23*(1-(SQRT(2)*Vin_rms_min*(SIN($Q295)/Vout))))))","v":0.405493079584775},{"$f":"(L$5*((90/$G$18)*(90/$G$18))/2)*(1+(SQRT(1+(4/(L$5*((90/$G$18)*(90/$G$18))))*$L$23*(1-(SQRT(2)*Vin_rms_min*(SIN($Q295)/Vout))))))","v":0.540657439446367},null,{"$f":"R295*ABS(1/(Vout/(SQRT(2)*$C$25*SIN($Q295))))","v":0.0240061893915314},{"$f":"S295*ABS(1/(Vout/(SQRT(2)*$C$25*SIN($Q295))))","v":0.0231257516747255},{"$f":"T295*ABS(1/(Vout/(SQRT(2)*$C$25*SIN($Q295))))","v":0.0225893830968373},{"$f":"U295*ABS(1/(Vout/(SQRT(2)*$C$25*SIN($Q295))))","v":0.0209380576462283},{"$f":"V295*ABS(1/(Vout/(SQRT(2)*$C$25*SIN($Q295))))","v":0.0314070864693424},{"$f":"W295*ABS(1/(Vout/(SQRT(2)*$C$25*SIN($Q295))))","v":0.0418761152924566},null,{"$f":"1/(0.0000128*(R295+Y295+$G$23))","v":40606.6240219145},{"$f":"1/(0.0000128*(S295+Z295+$H$23))","v":87613.5939907345},{"$f":"1/(0.0000128*(T295+AA295+$I$23))","v":114849.480664257},{"$f":"1/(0.0000128*(U295+AB295+$J$23))","v":268224.89233269},{"$f":"1/(0.0000128*(V295+AC295+$K$23))","v":178816.59488846},{"$f":"1/(0.0000128*(W295+AD295+$L$23))","v":134112.446166345}]
[null,null,null,null,null,null,null,null,null,null,null,null,null,null,null,null,{"$f":"Q295+0.01","v":2.89999999999998},{"$f":"(G$5*((90/$G$18)*(90/$G$18))/2)*(1+(SQRT(1+(4/(G$5*((90/$G$18)*(90/$G$18))))*$G$23*(1-(SQRT(2)*Vin_rms_min*(SIN($Q296)/Vout))))))","v":0.310399019910787},{"$f":"(H$5*((90/$G$18)*(90/$G$18))/2)*(1+(SQRT(1+(4/(H$5*((90/$G$18)*(90/$G$18))))*$H$23*(1-(SQRT(2)*Vin_rms_min*(SIN($Q296)/Vout))))))","v":0.298953752903024},{"$f":"(I$5*((90/$G$18)*(90/$G$18))/2)*(1+(SQRT(1+(4/(I$5*((90/$G$18)*(90/$G$18))))*$I$23*(1-(SQRT(2)*Vin_rms_min*(SIN($Q296)/Vout))))))","v":0.29198160199771},{"$f":"(J$5*((90/$G$18)*(90/$G$18))/2)*(1+(SQRT(1+(4/(J$5*((90/$G$18)*(90/$G$18))))*$J$23*(1-(SQRT(2)*Vin_rms_min*(SIN($Q296)/Vout))))))","v":0.270328719723183},{"$f":"(K$5*((90/$G$18)*(90/$G$18))/2)*(1+(SQRT(1+(4/(K$5*((90/$G$18)*(90/$G$18))))*$K$23*(1-(SQRT(2)*Vin_rms_min*(SIN($Q296)/Vout))))))","v":0.405493079584775},{"$f":"(L$5*((90/$G$18)*(90/$G$18))/2)*(1+(SQRT(1+(4/(L$5*((90/$G$18)*(90/$G$18))))*$L$23*(1-(SQRT(2)*Vin_rms_min*(SIN($Q296)/Vout))))))","v":0.540657439446367},null,{"$f":"R296*ABS(1/(Vout/(SQRT(2)*$C$25*SIN($Q296))))","v":0.0231051476823616},{"$f":"S296*ABS(1/(Vout/(SQRT(2)*$C$25*SIN($Q296))))","v":0.0222531972330514},{"$f":"T296*ABS(1/(Vout/(SQRT(2)*$C$25*SIN($Q296))))","v":0.0217342117788535},{"$f":"U296*ABS(1/(Vout/(SQRT(2)*$C$25*SIN($Q296))))","v":0.0201224378665341},{"$f":"V296*ABS(1/(Vout/(SQRT(2)*$C$25*SIN($Q296))))","v":0.0301836567998011},{"$f":"W296*ABS(1/(Vout/(SQRT(2)*$C$25*SIN($Q296))))","v":0.0402448757330681},null,{"$f":"1/(0.0000128*(R296+Y296+$G$23))","v":40615.9764643279},{"$f":"1/(0.0000128*(S296+Z296+$H$23))","v":87662.0183315125},{"$f":"1/(0.0000128*(T296+AA296+$I$23))","v":114937.740768352},{"$f":"1/(0.0000128*(U296+AB296+$J$23))","v":268978.098239695},{"$f":"1/(0.0000128*(V296+AC296+$K$23))","v":179318.732159796},{"$f":"1/(0.0000128*(W296+AD296+$L$23))","v":134489.049119847}]
[null,null,null,null,null,null,null,null,null,null,null,null,null,null,null,null,{"$f":"Q296+0.01","v":2.90999999999998},{"$f":"(G$5*((90/$G$18)*(90/$G$18))/2)*(1+(SQRT(1+(4/(G$5*((90/$G$18)*(90/$G$18))))*$G$23*(1-(SQRT(2)*Vin_rms_min*(SIN($Q297)/Vout))))))","v":0.310857431825092},{"$f":"(H$5*((90/$G$18)*(90/$G$18))/2)*(1+(SQRT(1+(4/(H$5*((90/$G$18)*(90/$G$18))))*$H$23*(1-(SQRT(2)*Vin_rms_min*(SIN($Q297)/Vout))))))","v":0.299334080729338},{"$f":"(I$5*((90/$G$18)*(90/$G$18))/2)*(1+(SQRT(1+(4/(I$5*((90/$G$18)*(90/$G$18))))*$I$23*(1-(SQRT(2)*Vin_rms_min*(SIN($Q297)/Vout))))))","v":0.292314748289709},{"$f":"(J$5*((90/$G$18)*(90/$G$18))/2)*(1+(SQRT(1+(4/(J$5*((90/$G$18)*(90/$G$18))))*$J$23*(1-(SQRT(2)*Vin_rms_min*(SIN($Q297)/Vout))))))","v":0.270328719723183},{"$f":"(K$5*((90/$G$18)*(90/$G$18))/2)*(1+(SQRT(1+(4/(K$5*((90/$G$18)*(90/$G$18))))*$K$23*(1-(SQRT(2)*Vin_rms_min*(SIN($Q297)/Vout))))))","v":0.405493079584775},{"$f":"(L$5*((90/$G$18)*(90/$G$18))/2)*(1+(SQRT(1+(4/(L$5*((90/$G$18)*(90/$G$18))))*$L$23*(1-(SQRT(2)*Vin_rms_min*(SIN($Q297)/Vout))))))","v":0.540657439446367},null,{"$f":"R297*ABS(1/(Vout/(SQRT(2)*$C$25*SIN($Q297))))","v":0.0221990559405278},{"$f":"S297*ABS(1/(Vout/(SQRT(2)*$C$25*SIN($Q297))))","v":0.0213761464990674},{"$f":"T297*ABS(1/(Vout/(SQRT(2)*$C$25*SIN($Q297))))","v":0.0208748795595009},{"$f":"U297*ABS(1/(Vout/(SQRT(2)*$C$25*SIN($Q297))))","v":0.0193048058598219},{"$f":"V297*ABS(1/(Vout/(SQRT(2)*$C$25*SIN($Q297))))","v":0.0289572087897328},{"$f":"W297*ABS(1/(Vout/(SQRT(2)*$C$25*SIN($Q297))))","v":0.0386096117196437},null,{"$f":"1/(0.0000128*(R297+Y297+$G$23))","v":40625.4317005387},{"$f":"1/(0.0000128*(S297+Z297+$H$23))","v":87710.9048619539},{"$f":"1/(0.0000128*(T297+AA297+$I$23))","v":115026.786035291},{"$f":"1/(0.0000128*(U297+AB297+$J$23))","v":269737.420220058},{"$f":"1/(0.0000128*(V297+AC297+$K$23))","v":179824.946813372},{"$f":"1/(0.0000128*(W297+AD297+$L$23))","v":134868.710110029}]
[null,null,null,null,null,null,null,null,null,null,null,null,null,null,null,null,{"$f":"Q297+0.01","v":2.91999999999998},{"$f":"(G$5*((90/$G$18)*(90/$G$18))/2)*(1+(SQRT(1+(4/(G$5*((90/$G$18)*(90/$G$18))))*$G$23*(1-(SQRT(2)*Vin_rms_min*(SIN($Q298)/Vout))))))","v":0.311316184253335},{"$f":"(H$5*((90/$G$18)*(90/$G$18))/2)*(1+(SQRT(1+(4/(H$5*((90/$G$18)*(90/$G$18))))*$H$23*(1-(SQRT(2)*Vin_rms_min*(SIN($Q298)/Vout))))))","v":0.299714715594366},{"$f":"(I$5*((90/$G$18)*(90/$G$18))/2)*(1+(SQRT(1+(4/(I$5*((90/$G$18)*(90/$G$18))))*$I$23*(1-(SQRT(2)*Vin_rms_min*(SIN($Q298)/Vout))))))","v":0.292648186278767},{"$f":"(J$5*((90/$G$18)*(90/$G$18))/2)*(1+(SQRT(1+(4/(J$5*((90/$G$18)*(90/$G$18))))*$J$23*(1-(SQRT(2)*Vin_rms_min*(SIN($Q298)/Vout))))))","v":0.270328719723183},{"$f":"(K$5*((90/$G$18)*(90/$G$18))/2)*(1+(SQRT(1+(4/(K$5*((90/$G$18)*(90/$G$18))))*$K$23*(1-(SQRT(2)*Vin_rms_min*(SIN($Q298)/Vout))))))","v":0.405493079584775},{"$f":"(L$5*((90/$G$18)*(90/$G$18))/2)*(1+(SQRT(1+(4/(L$5*((90/$G$18)*(90/$G$18))))*$L$23*(1-(SQRT(2)*Vin_rms_min*(SIN($Q298)/Vout))))))","v":0.540657439446367},null,{"$f":"R298*ABS(1/(Vout/(SQRT(2)*$C$25*SIN($Q298))))","v":0.0212879913115758},{"$f":"S298*ABS(1/(Vout/(SQRT(2)*$C$25*SIN($Q298))))","v":0.0204946757805957},{"$f":"T298*ABS(1/(Vout/(SQRT(2)*$C$25*SIN($Q298))))","v":0.0200114621788542},{"$f":"U298*ABS(1/(Vout/(SQRT(2)*$C$25*SIN($Q298))))","v":0.018485243388611},{"$f":"V298*ABS(1/(Vout/(SQRT(2)*$C$25*SIN($Q298))))","v":0.0277278650829164},{"$f":"W298*ABS(1/(Vout/(SQRT(2)*$C$25*SIN($Q298))))","v":0.0369704867772219},null,{"$f":"1/(0.0000128*(R298+Y298+$G$23))","v":40634.9892468349},{"$f":"1/(0.0000128*(S298+Z298+$H$23))","v":87760.2514160551},{"$f":"1/(0.0000128*(T298+AA298+$I$23))","v":115116.612837603},{"$f":"1/(0.0000128*(U298+AB298+$J$23))","v":270502.849509943},{"$f":"1/(0.0000128*(V298+AC298+$K$23))","v":180335.233006629},{"$f":"1/(0.0000128*(W298+AD298+$L$23))","v":135251.424754972}]
[null,null,null,null,null,null,null,null,null,null,null,null,null,null,null,null,{"$f":"Q298+0.01","v":2.92999999999998},{"$f":"(G$5*((90/$G$18)*(90/$G$18))/2)*(1+(SQRT(1+(4/(G$5*((90/$G$18)*(90/$G$18))))*$G$23*(1-(SQRT(2)*Vin_rms_min*(SIN($Q299)/Vout))))))","v":0.311775229785749},{"$f":"(H$5*((90/$G$18)*(90/$G$18))/2)*(1+(SQRT(1+(4/(H$5*((90/$G$18)*(90/$G$18))))*$H$23*(1-(SQRT(2)*Vin_rms_min*(SIN($Q299)/Vout))))))","v":0.30009561809825},{"$f":"(I$5*((90/$G$18)*(90/$G$18))/2)*(1+(SQRT(1+(4/(I$5*((90/$G$18)*(90/$G$18))))*$I$23*(1-(SQRT(2)*Vin_rms_min*(SIN($Q299)/Vout))))))","v":0.292981881400855},{"$f":"(J$5*((90/$G$18)*(90/$G$18))/2)*(1+(SQRT(1+(4/(J$5*((90/$G$18)*(90/$G$18))))*$J$23*(1-(SQRT(2)*Vin_rms_min*(SIN($Q299)/Vout))))))","v":0.270328719723183},{"$f":"(K$5*((90/$G$18)*(90/$G$18))/2)*(1+(SQRT(1+(4/(K$5*((90/$G$18)*(90/$G$18))))*$K$23*(1-(SQRT(2)*Vin_rms_min*(SIN($Q299)/Vout))))))","v":0.405493079584775},{"$f":"(L$5*((90/$G$18)*(90/$G$18))/2)*(1+(SQRT(1+(4/(L$5*((90/$G$18)*(90/$G$18))))*$L$23*(1-(SQRT(2)*Vin_rms_min*(SIN($Q299)/Vout))))))","v":0.540657439446367},null,{"$f":"R299*ABS(1/(Vout/(SQRT(2)*$C$25*SIN($Q299))))","v":0.0203720322934449},{"$f":"S299*ABS(1/(Vout/(SQRT(2)*$C$25*SIN($Q299))))","v":0.019608862536065},{"$f":"T299*ABS(1/(Vout/(SQRT(2)*$C$25*SIN($Q299))))","v":0.0191440364053106},{"$f":"U299*ABS(1/(Vout/(SQRT(2)*$C$25*SIN($Q299))))","v":0.0176638324084655},{"$f":"V299*ABS(1/(Vout/(SQRT(2)*$C$25*SIN($Q299))))","v":0.0264957486126982},{"$f":"W299*ABS(1/(Vout/(SQRT(2)*$C$25*SIN($Q299))))","v":0.035327664816931},null,{"$f":"1/(0.0000128*(R299+Y299+$G$23))","v":40644.6485871701},{"$f":"1/(0.0000128*(S299+Z299+$H$23))","v":87810.0556988325},{"$f":"1/(0.0000128*(T299+AA299+$I$23))","v":115207.217345041},{"$f":"1/(0.0000128*(U299+AB299+$J$23))","v":271274.376443899},{"$f":"1/(0.0000128*(V299+AC299+$K$23))","v":180849.584295932},{"$f":"1/(0.0000128*(W299+AD299+$L$23))","v":135637.188221949}]
[null,null,null,null,null,null,null,null,null,null,null,null,null,null,null,null,{"$f":"Q299+0.01","v":2.93999999999998},{"$f":"(G$5*((90/$G$18)*(90/$G$18))/2)*(1+(SQRT(1+(4/(G$5*((90/$G$18)*(90/$G$18))))*$G$23*(1-(SQRT(2)*Vin_rms_min*(SIN($Q300)/Vout))))))","v":0.312234521213742},{"$f":"(H$5*((90/$G$18)*(90/$G$18))/2)*(1+(SQRT(1+(4/(H$5*((90/$G$18)*(90/$G$18))))*$H$23*(1-(SQRT(2)*Vin_rms_min*(SIN($Q300)/Vout))))))","v":0.300476748998264},{"$f":"(I$5*((90/$G$18)*(90/$G$18))/2)*(1+(SQRT(1+(4/(I$5*((90/$G$18)*(90/$G$18))))*$I$23*(1-(SQRT(2)*Vin_rms_min*(SIN($Q300)/Vout))))))","v":0.293315799220431},{"$f":"(J$5*((90/$G$18)*(90/$G$18))/2)*(1+(SQRT(1+(4/(J$5*((90/$G$18)*(90/$G$18))))*$J$23*(1-(SQRT(2)*Vin_rms_min*(SIN($Q300)/Vout))))))","v":0.270328719723183},{"$f":"(K$5*((90/$G$18)*(90/$G$18))/2)*(1+(SQRT(1+(4/(K$5*((90/$G$18)*(90/$G$18))))*$K$23*(1-(SQRT(2)*Vin_rms_min*(SIN($Q300)/Vout))))))","v":0.405493079584775},{"$f":"(L$5*((90/$G$18)*(90/$G$18))/2)*(1+(SQRT(1+(4/(L$5*((90/$G$18)*(90/$G$18))))*$L$23*(1-(SQRT(2)*Vin_rms_min*(SIN($Q300)/Vout))))))","v":0.540657439446367},null,{"$f":"R300*ABS(1/(Vout/(SQRT(2)*$C$25*SIN($Q300))))","v":0.0194512587301362},{"$f":"S300*ABS(1/(Vout/(SQRT(2)*$C$25*SIN($Q300))))","v":0.0187187853682407},{"$f":"T300*ABS(1/(Vout/(SQRT(2)*$C$25*SIN($Q300))))","v":0.0182726800294054},{"$f":"U300*ABS(1/(Vout/(SQRT(2)*$C$25*SIN($Q300))))","v":0.016840655059799},{"$f":"V300*ABS(1/(Vout/(SQRT(2)*$C$25*SIN($Q300))))","v":0.0252609825896985},{"$f":"W300*ABS(1/(Vout/(SQRT(2)*$C$25*SIN($Q300))))","v":0.033681310119598},null,{"$f":"1/(0.0000128*(R300+Y300+$G$23))","v":40654.4091731176},{"$f":"1/(0.0000128*(S300+Z300+$H$23))","v":87860.3152856128},{"$f":"1/(0.0000128*(T300+AA300+$I$23))","v":115298.595522894},{"$f":"1/(0.0000128*(U300+AB300+$J$23))","v":272051.990429133},{"$f":"1/(0.0000128*(V300+AC300+$K$23))","v":181367.993619422},{"$f":"1/(0.0000128*(W300+AD300+$L$23))","v":136025.995214566}]
[null,null,null,null,null,null,null,null,null,null,null,null,null,null,null,null,{"$f":"Q300+0.01","v":2.94999999999998},{"$f":"(G$5*((90/$G$18)*(90/$G$18))/2)*(1+(SQRT(1+(4/(G$5*((90/$G$18)*(90/$G$18))))*$G$23*(1-(SQRT(2)*Vin_rms_min*(SIN($Q301)/Vout))))))","v":0.312694011533288},{"$f":"(H$5*((90/$G$18)*(90/$G$18))/2)*(1+(SQRT(1+(4/(H$5*((90/$G$18)*(90/$G$18))))*$H$23*(1-(SQRT(2)*Vin_rms_min*(SIN($Q301)/Vout))))))","v":0.300858069211794},{"$f":"(I$5*((90/$G$18)*(90/$G$18))/2)*(1+(SQRT(1+(4/(I$5*((90/$G$18)*(90/$G$18))))*$I$23*(1-(SQRT(2)*Vin_rms_min*(SIN($Q301)/Vout))))))","v":0.293649905433184},{"$f":"(J$5*((90/$G$18)*(90/$G$18))/2)*(1+(SQRT(1+(4/(J$5*((90/$G$18)*(90/$G$18))))*$J$23*(1-(SQRT(2)*Vin_rms_min*(SIN($Q301)/Vout))))))","v":0.270328719723183},{"$f":"(K$5*((90/$G$18)*(90/$G$18))/2)*(1+(SQRT(1+(4/(K$5*((90/$G$18)*(90/$G$18))))*$K$23*(1-(SQRT(2)*Vin_rms_min*(SIN($Q301)/Vout))))))","v":0.405493079584775},{"$f":"(L$5*((90/$G$18)*(90/$G$18))/2)*(1+(SQRT(1+(4/(L$5*((90/$G$18)*(90/$G$18))))*$L$23*(1-(SQRT(2)*Vin_rms_min*(SIN($Q301)/Vout))))))","v":0.540657439446367},null,{"$f":"R301*ABS(1/(Vout/(SQRT(2)*$C$25*SIN($Q301))))","v":0.018525751804902},{"$f":"S301*ABS(1/(Vout/(SQRT(2)*$C$25*SIN($Q301))))","v":0.0178245240175518},{"$f":"T301*ABS(1/(Vout/(SQRT(2)*$C$25*SIN($Q301))))","v":0.0173974718572728},{"$f":"U301*ABS(1/(Vout/(SQRT(2)*$C$25*SIN($Q301))))","v":0.0160157936596604},{"$f":"V301*ABS(1/(Vout/(SQRT(2)*$C$25*SIN($Q301))))","v":0.0240236904894906},{"$f":"W301*ABS(1/(Vout/(SQRT(2)*$C$25*SIN($Q301))))","v":0.0320315873193207},null,{"$f":"1/(0.0000128*(R301+Y301+$G$23))","v":40664.2704238348},{"$f":"1/(0.0000128*(S301+Z301+$H$23))","v":87911.0276213523},{"$f":"1/(0.0000128*(T301+AA301+$I$23))","v":115390.74313035},{"$f":"1/(0.0000128*(U301+AB301+$J$23))","v":272835.679919407},{"$f":"1/(0.0000128*(V301+AC301+$K$23))","v":181890.453279605},{"$f":"1/(0.0000128*(W301+AD301+$L$23))","v":136417.839959704}]
[null,null,null,null,null,null,null,null,null,null,null,null,null,null,null,null,{"$f":"Q301+0.01","v":2.95999999999998},{"$f":"(G$5*((90/$G$18)*(90/$G$18))/2)*(1+(SQRT(1+(4/(G$5*((90/$G$18)*(90/$G$18))))*$G$23*(1-(SQRT(2)*Vin_rms_min*(SIN($Q302)/Vout))))))","v":0.313153653948236},{"$f":"(H$5*((90/$G$18)*(90/$G$18))/2)*(1+(SQRT(1+(4/(H$5*((90/$G$18)*(90/$G$18))))*$H$23*(1-(SQRT(2)*Vin_rms_min*(SIN($Q302)/Vout))))))","v":0.301239539819228},{"$f":"(I$5*((90/$G$18)*(90/$G$18))/2)*(1+(SQRT(1+(4/(I$5*((90/$G$18)*(90/$G$18))))*$I$23*(1-(SQRT(2)*Vin_rms_min*(SIN($Q302)/Vout))))))","v":0.293984165868707},{"$f":"(J$5*((90/$G$18)*(90/$G$18))/2)*(1+(SQRT(1+(4/(J$5*((90/$G$18)*(90/$G$18))))*$J$23*(1-(SQRT(2)*Vin_rms_min*(SIN($Q302)/Vout))))))","v":0.270328719723183},{"$f":"(K$5*((90/$G$18)*(90/$G$18))/2)*(1+(SQRT(1+(4/(K$5*((90/$G$18)*(90/$G$18))))*$K$23*(1-(SQRT(2)*Vin_rms_min*(SIN($Q302)/Vout))))))","v":0.405493079584775},{"$f":"(L$5*((90/$G$18)*(90/$G$18))/2)*(1+(SQRT(1+(4/(L$5*((90/$G$18)*(90/$G$18))))*$L$23*(1-(SQRT(2)*Vin_rms_min*(SIN($Q302)/Vout))))))","v":0.540657439446367},null,{"$f":"R302*ABS(1/(Vout/(SQRT(2)*$C$25*SIN($Q302))))","v":0.0175955940329576},{"$f":"S302*ABS(1/(Vout/(SQRT(2)*$C$25*SIN($Q302))))","v":0.0169261593550183},{"$f":"T302*ABS(1/(Vout/(SQRT(2)*$C$25*SIN($Q302))))","v":0.0165184917037516},{"$f":"U302*ABS(1/(Vout/(SQRT(2)*$C$25*SIN($Q302))))","v":0.0151893306935022},{"$f":"V302*ABS(1/(Vout/(SQRT(2)*$C$25*SIN($Q302))))","v":0.0227839960402533},{"$f":"W302*ABS(1/(Vout/(SQRT(2)*$C$25*SIN($Q302))))","v":0.0303786613870044},null,{"$f":"1/(0.0000128*(R302+Y302+$G$23))","v":40674.2317260379},{"$f":"1/(0.0000128*(S302+Z302+$H$23))","v":87962.1900199873},{"$f":"1/(0.0000128*(T302+AA302+$I$23))","v":115483.655718872},{"$f":"1/(0.0000128*(U302+AB302+$J$23))","v":273625.432388545},{"$f":"1/(0.0000128*(V302+AC302+$K$23))","v":182416.954925697},{"$f":"1/(0.0000128*(W302+AD302+$L$23))","v":136812.716194273}]
[null,null,null,null,null,null,null,null,null,null,null,null,null,null,null,null,{"$f":"Q302+0.01","v":2.96999999999998},{"$f":"(G$5*((90/$G$18)*(90/$G$18))/2)*(1+(SQRT(1+(4/(G$5*((90/$G$18)*(90/$G$18))))*$G$23*(1-(SQRT(2)*Vin_rms_min*(SIN($Q303)/Vout))))))","v":0.313613401873496},{"$f":"(H$5*((90/$G$18)*(90/$G$18))/2)*(1+(SQRT(1+(4/(H$5*((90/$G$18)*(90/$G$18))))*$H$23*(1-(SQRT(2)*Vin_rms_min*(SIN($Q303)/Vout))))))","v":0.30162112206677},{"$f":"(I$5*((90/$G$18)*(90/$G$18))/2)*(1+(SQRT(1+(4/(I$5*((90/$G$18)*(90/$G$18))))*$I$23*(1-(SQRT(2)*Vin_rms_min*(SIN($Q303)/Vout))))))","v":0.294318546493093},{"$f":"(J$5*((90/$G$18)*(90/$G$18))/2)*(1+(SQRT(1+(4/(J$5*((90/$G$18)*(90/$G$18))))*$J$23*(1-(SQRT(2)*Vin_rms_min*(SIN($Q303)/Vout))))))","v":0.270328719723183},{"$f":"(K$5*((90/$G$18)*(90/$G$18))/2)*(1+(SQRT(1+(4/(K$5*((90/$G$18)*(90/$G$18))))*$K$23*(1-(SQRT(2)*Vin_rms_min*(SIN($Q303)/Vout))))))","v":0.405493079584775},{"$f":"(L$5*((90/$G$18)*(90/$G$18))/2)*(1+(SQRT(1+(4/(L$5*((90/$G$18)*(90/$G$18))))*$L$23*(1-(SQRT(2)*Vin_rms_min*(SIN($Q303)/Vout))))))","v":0.540657439446367},null,{"$f":"R303*ABS(1/(Vout/(SQRT(2)*$C$25*SIN($Q303))))","v":0.0166608692537218},{"$f":"S303*ABS(1/(Vout/(SQRT(2)*$C$25*SIN($Q303))))","v":0.0160237733747819},{"$f":"T303*ABS(1/(Vout/(SQRT(2)*$C$25*SIN($Q303))))","v":0.0156358203851405},{"$f":"U303*ABS(1/(Vout/(SQRT(2)*$C$25*SIN($Q303))))","v":0.0143613488069324},{"$f":"V303*ABS(1/(Vout/(SQRT(2)*$C$25*SIN($Q303))))","v":0.0215420232103987},{"$f":"W303*ABS(1/(Vout/(SQRT(2)*$C$25*SIN($Q303))))","v":0.0287226976138649},null,{"$f":"1/(0.0000128*(R303+Y303+$G$23))","v":40684.2924339865},{"$f":"1/(0.0000128*(S303+Z303+$H$23))","v":88013.7996638142},{"$f":"1/(0.0000128*(T303+AA303+$I$23))","v":115577.328630637},{"$f":"1/(0.0000128*(U303+AB303+$J$23))","v":274421.234303562},{"$f":"1/(0.0000128*(V303+AC303+$K$23))","v":182947.489535708},{"$f":"1/(0.0000128*(W303+AD303+$L$23))","v":137210.617151781}]
[null,null,null,null,null,null,null,null,null,null,null,null,null,null,null,null,{"$f":"Q303+0.01","v":2.97999999999998},{"$f":"(G$5*((90/$G$18)*(90/$G$18))/2)*(1+(SQRT(1+(4/(G$5*((90/$G$18)*(90/$G$18))))*$G$23*(1-(SQRT(2)*Vin_rms_min*(SIN($Q304)/Vout))))))","v":0.314073208938145},{"$f":"(H$5*((90/$G$18)*(90/$G$18))/2)*(1+(SQRT(1+(4/(H$5*((90/$G$18)*(90/$G$18))))*$H$23*(1-(SQRT(2)*Vin_rms_min*(SIN($Q304)/Vout))))))","v":0.302002777369162},{"$f":"(I$5*((90/$G$18)*(90/$G$18))/2)*(1+(SQRT(1+(4/(I$5*((90/$G$18)*(90/$G$18))))*$I$23*(1-(SQRT(2)*Vin_rms_min*(SIN($Q304)/Vout))))))","v":0.294653013411469},{"$f":"(J$5*((90/$G$18)*(90/$G$18))/2)*(1+(SQRT(1+(4/(J$5*((90/$G$18)*(90/$G$18))))*$J$23*(1-(SQRT(2)*Vin_rms_min*(SIN($Q304)/Vout))))))","v":0.270328719723183},{"$f":"(K$5*((90/$G$18)*(90/$G$18))/2)*(1+(SQRT(1+(4/(K$5*((90/$G$18)*(90/$G$18))))*$K$23*(1-(SQRT(2)*Vin_rms_min*(SIN($Q304)/Vout))))))","v":0.405493079584775},{"$f":"(L$5*((90/$G$18)*(90/$G$18))/2)*(1+(SQRT(1+(4/(L$5*((90/$G$18)*(90/$G$18))))*$L$23*(1-(SQRT(2)*Vin_rms_min*(SIN($Q304)/Vout))))))","v":0.540657439446367},null,{"$f":"R304*ABS(1/(Vout/(SQRT(2)*$C$25*SIN($Q304))))","v":0.0157216626225877},{"$f":"S304*ABS(1/(Vout/(SQRT(2)*$C$25*SIN($Q304))))","v":0.0151174491862422},{"$f":"T304*ABS(1/(Vout/(SQRT(2)*$C$25*SIN($Q304))))","v":0.0147495397116035},{"$f":"U304*ABS(1/(Vout/(SQRT(2)*$C$25*SIN($Q304))))","v":0.0135319307974497},{"$f":"V304*ABS(1/(Vout/(SQRT(2)*$C$25*SIN($Q304))))","v":0.0202978961961746},{"$f":"W304*ABS(1/(Vout/(SQRT(2)*$C$25*SIN($Q304))))","v":0.0270638615948995},null,{"$f":"1/(0.0000128*(R304+Y304+$G$23))","v":40694.4518694786},{"$f":"1/(0.0000128*(S304+Z304+$H$23))","v":88065.8536029003},{"$f":"1/(0.0000128*(T304+AA304+$I$23))","v":115671.756996992},{"$f":"1/(0.0000128*(U304+AB304+$J$23))","v":275223.07109742},{"$f":"1/(0.0000128*(V304+AC304+$K$23))","v":183482.04739828},{"$f":"1/(0.0000128*(W304+AD304+$L$23))","v":137611.53554871}]
[null,null,null,null,null,null,null,null,null,null,null,null,null,null,null,null,{"$f":"Q304+0.01","v":2.98999999999998},{"$f":"(G$5*((90/$G$18)*(90/$G$18))/2)*(1+(SQRT(1+(4/(G$5*((90/$G$18)*(90/$G$18))))*$G$23*(1-(SQRT(2)*Vin_rms_min*(SIN($Q305)/Vout))))))","v":0.314533028988421},{"$f":"(H$5*((90/$G$18)*(90/$G$18))/2)*(1+(SQRT(1+(4/(H$5*((90/$G$18)*(90/$G$18))))*$H$23*(1-(SQRT(2)*Vin_rms_min*(SIN($Q305)/Vout))))))","v":0.302384467312343},{"$f":"(I$5*((90/$G$18)*(90/$G$18))/2)*(1+(SQRT(1+(4/(I$5*((90/$G$18)*(90/$G$18))))*$I$23*(1-(SQRT(2)*Vin_rms_min*(SIN($Q305)/Vout))))))","v":0.29498753287046},{"$f":"(J$5*((90/$G$18)*(90/$G$18))/2)*(1+(SQRT(1+(4/(J$5*((90/$G$18)*(90/$G$18))))*$J$23*(1-(SQRT(2)*Vin_rms_min*(SIN($Q305)/Vout))))))","v":0.270328719723183},{"$f":"(K$5*((90/$G$18)*(90/$G$18))/2)*(1+(SQRT(1+(4/(K$5*((90/$G$18)*(90/$G$18))))*$K$23*(1-(SQRT(2)*Vin_rms_min*(SIN($Q305)/Vout))))))","v":0.405493079584775},{"$f":"(L$5*((90/$G$18)*(90/$G$18))/2)*(1+(SQRT(1+(4/(L$5*((90/$G$18)*(90/$G$18))))*$L$23*(1-(SQRT(2)*Vin_rms_min*(SIN($Q305)/Vout))))))","v":0.540657439446367},null,{"$f":"R305*ABS(1/(Vout/(SQRT(2)*$C$25*SIN($Q305))))","v":0.0147780606022287},{"$f":"S305*ABS(1/(Vout/(SQRT(2)*$C$25*SIN($Q305))))","v":0.0142072710058025},{"$f":"T305*ABS(1/(Vout/(SQRT(2)*$C$25*SIN($Q305))))","v":0.0138597324792305},{"$f":"U305*ABS(1/(Vout/(SQRT(2)*$C$25*SIN($Q305))))","v":0.0127011596061639},{"$f":"V305*ABS(1/(Vout/(SQRT(2)*$C$25*SIN($Q305))))","v":0.0190517394092458},{"$f":"W305*ABS(1/(Vout/(SQRT(2)*$C$25*SIN($Q305))))","v":0.0254023192123277},null,{"$f":"1/(0.0000128*(R305+Y305+$G$23))","v":40704.7093218549},{"$f":"1/(0.0000128*(S305+Z305+$H$23))","v":88118.3487545262},{"$f":"1/(0.0000128*(T305+AA305+$I$23))","v":115766.935736959},{"$f":"1/(0.0000128*(U305+AB305+$J$23))","v":276030.927141406},{"$f":"1/(0.0000128*(V305+AC305+$K$23))","v":184020.618094271},{"$f":"1/(0.0000128*(W305+AD305+$L$23))","v":138015.463570703}]
[null,null,null,null,null,null,null,null,null,null,null,null,null,null,null,null,{"$f":"Q305+0.01","v":2.99999999999998},{"$f":"(G$5*((90/$G$18)*(90/$G$18))/2)*(1+(SQRT(1+(4/(G$5*((90/$G$18)*(90/$G$18))))*$G$23*(1-(SQRT(2)*Vin_rms_min*(SIN($Q306)/Vout))))))","v":0.314992816090632},{"$f":"(H$5*((90/$G$18)*(90/$G$18))/2)*(1+(SQRT(1+(4/(H$5*((90/$G$18)*(90/$G$18))))*$H$23*(1-(SQRT(2)*Vin_rms_min*(SIN($Q306)/Vout))))))","v":0.302766153656013},{"$f":"(I$5*((90/$G$18)*(90/$G$18))/2)*(1+(SQRT(1+(4/(I$5*((90/$G$18)*(90/$G$18))))*$I$23*(1-(SQRT(2)*Vin_rms_min*(SIN($Q306)/Vout))))))","v":0.295322071260581},{"$f":"(J$5*((90/$G$18)*(90/$G$18))/2)*(1+(SQRT(1+(4/(J$5*((90/$G$18)*(90/$G$18))))*$J$23*(1-(SQRT(2)*Vin_rms_min*(SIN($Q306)/Vout))))))","v":0.270328719723183},{"$f":"(K$5*((90/$G$18)*(90/$G$18))/2)*(1+(SQRT(1+(4/(K$5*((90/$G$18)*(90/$G$18))))*$K$23*(1-(SQRT(2)*Vin_rms_min*(SIN($Q306)/Vout))))))","v":0.405493079584775},{"$f":"(L$5*((90/$G$18)*(90/$G$18))/2)*(1+(SQRT(1+(4/(L$5*((90/$G$18)*(90/$G$18))))*$L$23*(1-(SQRT(2)*Vin_rms_min*(SIN($Q306)/Vout))))))","v":0.540657439446367},null,{"$f":"R306*ABS(1/(Vout/(SQRT(2)*$C$25*SIN($Q306))))","v":0.0138301509534437},{"$f":"S306*ABS(1/(Vout/(SQRT(2)*$C$25*SIN($Q306))))","v":0.0132933241482288},{"$f":"T306*ABS(1/(Vout/(SQRT(2)*$C$25*SIN($Q306))))","v":0.0129664824617534},{"$f":"U306*ABS(1/(Vout/(SQRT(2)*$C$25*SIN($Q306))))","v":0.0118691183095016},{"$f":"V306*ABS(1/(Vout/(SQRT(2)*$C$25*SIN($Q306))))","v":0.0178036774642524},{"$f":"W306*ABS(1/(Vout/(SQRT(2)*$C$25*SIN($Q306))))","v":0.0237382366190032},null,{"$f":"1/(0.0000128*(R306+Y306+$G$23))","v":40715.0640480141},{"$f":"1/(0.0000128*(S306+Z306+$H$23))","v":88171.2819026583},{"$f":"1/(0.0000128*(T306+AA306+$I$23))","v":115862.859555779},{"$f":"1/(0.0000128*(U306+AB306+$J$23))","v":276844.785717144},{"$f":"1/(0.0000128*(V306+AC306+$K$23))","v":184563.190478096},{"$f":"1/(0.0000128*(W306+AD306+$L$23))","v":138422.392858572}]
[null,null,null,null,null,null,null,null,null,null,null,null,null,null,null,null,{"$f":"Q306+0.01","v":3.00999999999998},{"$f":"(G$5*((90/$G$18)*(90/$G$18))/2)*(1+(SQRT(1+(4/(G$5*((90/$G$18)*(90/$G$18))))*$G$23*(1-(SQRT(2)*Vin_rms_min*(SIN($Q307)/Vout))))))","v":0.31545252453396},{"$f":"(H$5*((90/$G$18)*(90/$G$18))/2)*(1+(SQRT(1+(4/(H$5*((90/$G$18)*(90/$G$18))))*$H$23*(1-(SQRT(2)*Vin_rms_min*(SIN($Q307)/Vout))))))","v":0.303147798336132},{"$f":"(I$5*((90/$G$18)*(90/$G$18))/2)*(1+(SQRT(1+(4/(I$5*((90/$G$18)*(90/$G$18))))*$I$23*(1-(SQRT(2)*Vin_rms_min*(SIN($Q307)/Vout))))))","v":0.295656595118573},{"$f":"(J$5*((90/$G$18)*(90/$G$18))/2)*(1+(SQRT(1+(4/(J$5*((90/$G$18)*(90/$G$18))))*$J$23*(1-(SQRT(2)*Vin_rms_min*(SIN($Q307)/Vout))))))","v":0.270328719723183},{"$f":"(K$5*((90/$G$18)*(90/$G$18))/2)*(1+(SQRT(1+(4/(K$5*((90/$G$18)*(90/$G$18))))*$K$23*(1-(SQRT(2)*Vin_rms_min*(SIN($Q307)/Vout))))))","v":0.405493079584775},{"$f":"(L$5*((90/$G$18)*(90/$G$18))/2)*(1+(SQRT(1+(4/(L$5*((90/$G$18)*(90/$G$18))))*$L$23*(1-(SQRT(2)*Vin_rms_min*(SIN($Q307)/Vout))))))","v":0.540657439446367},null,{"$f":"R307*ABS(1/(Vout/(SQRT(2)*$C$25*SIN($Q307))))","v":0.0128780227255447},{"$f":"S307*ABS(1/(Vout/(SQRT(2)*$C$25*SIN($Q307))))","v":0.0123756950176231},{"$f":"T307*ABS(1/(Vout/(SQRT(2)*$C$25*SIN($Q307))))","v":0.0120698744019221},{"$f":"U307*ABS(1/(Vout/(SQRT(2)*$C$25*SIN($Q307))))","v":0.0110358901108993},{"$f":"V307*ABS(1/(Vout/(SQRT(2)*$C$25*SIN($Q307))))","v":0.016553835166349},{"$f":"W307*ABS(1/(Vout/(SQRT(2)*$C$25*SIN($Q307))))","v":0.0220717802217987},null,{"$f":"1/(0.0000128*(R307+Y307+$G$23))","v":40725.5152724373},{"$f":"1/(0.0000128*(S307+Z307+$H$23))","v":88224.6496974531},{"$f":"1/(0.0000128*(T307+AA307+$I$23))","v":115959.522943492},{"$f":"1/(0.0000128*(U307+AB307+$J$23))","v":277664.628988235},{"$f":"1/(0.0000128*(V307+AC307+$K$23))","v":185109.752658823},{"$f":"1/(0.0000128*(W307+AD307+$L$23))","v":138832.314494117}]
[null,null,null,null,null,null,null,null,null,null,null,null,null,null,null,null,{"$f":"Q307+0.01","v":3.01999999999998},{"$f":"(G$5*((90/$G$18)*(90/$G$18))/2)*(1+(SQRT(1+(4/(G$5*((90/$G$18)*(90/$G$18))))*$G$23*(1-(SQRT(2)*Vin_rms_min*(SIN($Q308)/Vout))))))","v":0.315912108833181},{"$f":"(H$5*((90/$G$18)*(90/$G$18))/2)*(1+(SQRT(1+(4/(H$5*((90/$G$18)*(90/$G$18))))*$H$23*(1-(SQRT(2)*Vin_rms_min*(SIN($Q308)/Vout))))))","v":0.303529363467337},{"$f":"(I$5*((90/$G$18)*(90/$G$18))/2)*(1+(SQRT(1+(4/(I$5*((90/$G$18)*(90/$G$18))))*$I$23*(1-(SQRT(2)*Vin_rms_min*(SIN($Q308)/Vout))))))","v":0.295991071129665},{"$f":"(J$5*((90/$G$18)*(90/$G$18))/2)*(1+(SQRT(1+(4/(J$5*((90/$G$18)*(90/$G$18))))*$J$23*(1-(SQRT(2)*Vin_rms_min*(SIN($Q308)/Vout))))))","v":0.270328719723183},{"$f":"(K$5*((90/$G$18)*(90/$G$18))/2)*(1+(SQRT(1+(4/(K$5*((90/$G$18)*(90/$G$18))))*$K$23*(1-(SQRT(2)*Vin_rms_min*(SIN($Q308)/Vout))))))","v":0.405493079584775},{"$f":"(L$5*((90/$G$18)*(90/$G$18))/2)*(1+(SQRT(1+(4/(L$5*((90/$G$18)*(90/$G$18))))*$L$23*(1-(SQRT(2)*Vin_rms_min*(SIN($Q308)/Vout))))))","v":0.540657439446367},null,{"$f":"R308*ABS(1/(Vout/(SQRT(2)*$C$25*SIN($Q308))))","v":0.0119217662462923},{"$f":"S308*ABS(1/(Vout/(SQRT(2)*$C$25*SIN($Q308))))","v":0.0114544710980177},{"$f":"T308*ABS(1/(Vout/(SQRT(2)*$C$25*SIN($Q308))))","v":0.0111699940025436},{"$f":"U308*ABS(1/(Vout/(SQRT(2)*$C$25*SIN($Q308))))","v":0.0102015583324825},{"$f":"V308*ABS(1/(Vout/(SQRT(2)*$C$25*SIN($Q308))))","v":0.0153023374987237},{"$f":"W308*ABS(1/(Vout/(SQRT(2)*$C$25*SIN($Q308))))","v":0.020403116664965},null,{"$f":"1/(0.0000128*(R308+Y308+$G$23))","v":40736.0621872228},{"$f":"1/(0.0000128*(S308+Z308+$H$23))","v":88278.4486547935},{"$f":"1/(0.0000128*(T308+AA308+$I$23))","v":116056.920173564},{"$f":"1/(0.0000128*(U308+AB308+$J$23))","v":278490.437971539},{"$f":"1/(0.0000128*(V308+AC308+$K$23))","v":185660.291981026},{"$f":"1/(0.0000128*(W308+AD308+$L$23))","v":139245.21898577}]
[null,null,null,null,null,null,null,null,null,null,null,null,null,null,null,null,{"$f":"Q308+0.01","v":3.02999999999998},{"$f":"(G$5*((90/$G$18)*(90/$G$18))/2)*(1+(SQRT(1+(4/(G$5*((90/$G$18)*(90/$G$18))))*$G$23*(1-(SQRT(2)*Vin_rms_min*(SIN($Q309)/Vout))))))","v":0.316371523731296},{"$f":"(H$5*((90/$G$18)*(90/$G$18))/2)*(1+(SQRT(1+(4/(H$5*((90/$G$18)*(90/$G$18))))*$H$23*(1-(SQRT(2)*Vin_rms_min*(SIN($Q309)/Vout))))))","v":0.303910811345291},{"$f":"(I$5*((90/$G$18)*(90/$G$18))/2)*(1+(SQRT(1+(4/(I$5*((90/$G$18)*(90/$G$18))))*$I$23*(1-(SQRT(2)*Vin_rms_min*(SIN($Q309)/Vout))))))","v":0.296325466129776},{"$f":"(J$5*((90/$G$18)*(90/$G$18))/2)*(1+(SQRT(1+(4/(J$5*((90/$G$18)*(90/$G$18))))*$J$23*(1-(SQRT(2)*Vin_rms_min*(SIN($Q309)/Vout))))))","v":0.270328719723183},{"$f":"(K$5*((90/$G$18)*(90/$G$18))/2)*(1+(SQRT(1+(4/(K$5*((90/$G$18)*(90/$G$18))))*$K$23*(1-(SQRT(2)*Vin_rms_min*(SIN($Q309)/Vout))))))","v":0.405493079584775},{"$f":"(L$5*((90/$G$18)*(90/$G$18))/2)*(1+(SQRT(1+(4/(L$5*((90/$G$18)*(90/$G$18))))*$L$23*(1-(SQRT(2)*Vin_rms_min*(SIN($Q309)/Vout))))))","v":0.540657439446367},null,{"$f":"R309*ABS(1/(Vout/(SQRT(2)*$C$25*SIN($Q309))))","v":0.0109614731113826},{"$f":"S309*ABS(1/(Vout/(SQRT(2)*$C$25*SIN($Q309))))","v":0.0105297409435916},{"$f":"T309*ABS(1/(Vout/(SQRT(2)*$C$25*SIN($Q309))))","v":0.0102669279171858},{"$f":"U309*ABS(1/(Vout/(SQRT(2)*$C$25*SIN($Q309))))","v":0.00936620640673369},{"$f":"V309*ABS(1/(Vout/(SQRT(2)*$C$25*SIN($Q309))))","v":0.0140493096101005},{"$f":"W309*ABS(1/(Vout/(SQRT(2)*$C$25*SIN($Q309))))","v":0.0187324128134674},null,{"$f":"1/(0.0000128*(R309+Y309+$G$23))","v":40746.7039521306},{"$f":"1/(0.0000128*(S309+Z309+$H$23))","v":88332.6751558563},{"$f":"1/(0.0000128*(T309+AA309+$I$23))","v":116155.045301546},{"$f":"1/(0.0000128*(U309+AB309+$J$23))","v":279322.192508102},{"$f":"1/(0.0000128*(V309+AC309+$K$23))","v":186214.795005401},{"$f":"1/(0.0000128*(W309+AD309+$L$23))","v":139661.096254051}]
[null,null,null,null,null,null,null,null,null,null,null,null,null,null,null,null,{"$f":"Q309+0.01","v":3.03999999999998},{"$f":"(G$5*((90/$G$18)*(90/$G$18))/2)*(1+(SQRT(1+(4/(G$5*((90/$G$18)*(90/$G$18))))*$G$23*(1-(SQRT(2)*Vin_rms_min*(SIN($Q310)/Vout))))))","v":0.316830724202062},{"$f":"(H$5*((90/$G$18)*(90/$G$18))/2)*(1+(SQRT(1+(4/(H$5*((90/$G$18)*(90/$G$18))))*$H$23*(1-(SQRT(2)*Vin_rms_min*(SIN($Q310)/Vout))))))","v":0.30429210444895},{"$f":"(I$5*((90/$G$18)*(90/$G$18))/2)*(1+(SQRT(1+(4/(I$5*((90/$G$18)*(90/$G$18))))*$I$23*(1-(SQRT(2)*Vin_rms_min*(SIN($Q310)/Vout))))))","v":0.296659747107658},{"$f":"(J$5*((90/$G$18)*(90/$G$18))/2)*(1+(SQRT(1+(4/(J$5*((90/$G$18)*(90/$G$18))))*$J$23*(1-(SQRT(2)*Vin_rms_min*(SIN($Q310)/Vout))))))","v":0.270328719723183},{"$f":"(K$5*((90/$G$18)*(90/$G$18))/2)*(1+(SQRT(1+(4/(K$5*((90/$G$18)*(90/$G$18))))*$K$23*(1-(SQRT(2)*Vin_rms_min*(SIN($Q310)/Vout))))))","v":0.405493079584775},{"$f":"(L$5*((90/$G$18)*(90/$G$18))/2)*(1+(SQRT(1+(4/(L$5*((90/$G$18)*(90/$G$18))))*$L$23*(1-(SQRT(2)*Vin_rms_min*(SIN($Q310)/Vout))))))","v":0.540657439446367},null,{"$f":"R310*ABS(1/(Vout/(SQRT(2)*$C$25*SIN($Q310))))","v":0.00999723617349009},{"$f":"S310*ABS(1/(Vout/(SQRT(2)*$C$25*SIN($Q310))))","v":0.00960159416851362},{"$f":"T310*ABS(1/(Vout/(SQRT(2)*$C$25*SIN($Q310))))","v":0.00936076374055074},{"$f":"U310*ABS(1/(Vout/(SQRT(2)*$C$25*SIN($Q310))))","v":0.00852991786814935},{"$f":"V310*ABS(1/(Vout/(SQRT(2)*$C$25*SIN($Q310))))","v":0.012794876802224},{"$f":"W310*ABS(1/(Vout/(SQRT(2)*$C$25*SIN($Q310))))","v":0.0170598357362987},null,{"$f":"1/(0.0000128*(R310+Y310+$G$23))","v":40757.4396946367},{"$f":"1/(0.0000128*(S310+Z310+$H$23))","v":88387.3254467123},{"$f":"1/(0.0000128*(T310+AA310+$I$23))","v":116253.892163786},{"$f":"1/(0.0000128*(U310+AB310+$J$23))","v":280159.871233726},{"$f":"1/(0.0000128*(V310+AC310+$K$23))","v":186773.247489151},{"$f":"1/(0.0000128*(W310+AD310+$L$23))","v":140079.935616863}]
[null,null,null,null,null,null,null,null,null,null,null,null,null,null,null,null,{"$f":"Q310+0.01","v":3.04999999999998},{"$f":"(G$5*((90/$G$18)*(90/$G$18))/2)*(1+(SQRT(1+(4/(G$5*((90/$G$18)*(90/$G$18))))*$G$23*(1-(SQRT(2)*Vin_rms_min*(SIN($Q311)/Vout))))))","v":0.317289665452454},{"$f":"(H$5*((90/$G$18)*(90/$G$18))/2)*(1+(SQRT(1+(4/(H$5*((90/$G$18)*(90/$G$18))))*$H$23*(1-(SQRT(2)*Vin_rms_min*(SIN($Q311)/Vout))))))","v":0.304673205442771},{"$f":"(I$5*((90/$G$18)*(90/$G$18))/2)*(1+(SQRT(1+(4/(I$5*((90/$G$18)*(90/$G$18))))*$I$23*(1-(SQRT(2)*Vin_rms_min*(SIN($Q311)/Vout))))))","v":0.296993881206966},{"$f":"(J$5*((90/$G$18)*(90/$G$18))/2)*(1+(SQRT(1+(4/(J$5*((90/$G$18)*(90/$G$18))))*$J$23*(1-(SQRT(2)*Vin_rms_min*(SIN($Q311)/Vout))))))","v":0.270328719723183},{"$f":"(K$5*((90/$G$18)*(90/$G$18))/2)*(1+(SQRT(1+(4/(K$5*((90/$G$18)*(90/$G$18))))*$K$23*(1-(SQRT(2)*Vin_rms_min*(SIN($Q311)/Vout))))))","v":0.405493079584775},{"$f":"(L$5*((90/$G$18)*(90/$G$18))/2)*(1+(SQRT(1+(4/(L$5*((90/$G$18)*(90/$G$18))))*$L$23*(1-(SQRT(2)*Vin_rms_min*(SIN($Q311)/Vout))))))","v":0.540657439446367},null,{"$f":"R311*ABS(1/(Vout/(SQRT(2)*$C$25*SIN($Q311))))","v":0.00902914953087111},{"$f":"S311*ABS(1/(Vout/(SQRT(2)*$C$25*SIN($Q311))))","v":0.00867012143641602},{"$f":"T311*ABS(1/(Vout/(SQRT(2)*$C$25*SIN($Q311))))","v":0.00845158999851922},{"$f":"U311*ABS(1/(Vout/(SQRT(2)*$C$25*SIN($Q311))))","v":0.00769277634488644},{"$f":"V311*ABS(1/(Vout/(SQRT(2)*$C$25*SIN($Q311))))","v":0.0115391645173297},{"$f":"W311*ABS(1/(Vout/(SQRT(2)*$C$25*SIN($Q311))))","v":0.0153855526897729},null,{"$f":"1/(0.0000128*(R311+Y311+$G$23))","v":40768.2685099973},{"$f":"1/(0.0000128*(S311+Z311+$H$23))","v":88442.395637959},{"$f":"1/(0.0000128*(T311+AA311+$I$23))","v":116353.45437618},{"$f":"1/(0.0000128*(U311+AB311+$J$23))","v":281003.4515492},{"$f":"1/(0.0000128*(V311+AC311+$K$23))","v":187335.634366133},{"$f":"1/(0.0000128*(W311+AD311+$L$23))","v":140501.7257746}]
[null,null,null,null,null,null,null,null,null,null,null,null,null,null,null,null,{"$f":"Q311+0.01","v":3.05999999999998},{"$f":"(G$5*((90/$G$18)*(90/$G$18))/2)*(1+(SQRT(1+(4/(G$5*((90/$G$18)*(90/$G$18))))*$G$23*(1-(SQRT(2)*Vin_rms_min*(SIN($Q312)/Vout))))))","v":0.317748302925023},{"$f":"(H$5*((90/$G$18)*(90/$G$18))/2)*(1+(SQRT(1+(4/(H$5*((90/$G$18)*(90/$G$18))))*$H$23*(1-(SQRT(2)*Vin_rms_min*(SIN($Q312)/Vout))))))","v":0.305054077178836},{"$f":"(I$5*((90/$G$18)*(90/$G$18))/2)*(1+(SQRT(1+(4/(I$5*((90/$G$18)*(90/$G$18))))*$I$23*(1-(SQRT(2)*Vin_rms_min*(SIN($Q312)/Vout))))))","v":0.297327835728284},{"$f":"(J$5*((90/$G$18)*(90/$G$18))/2)*(1+(SQRT(1+(4/(J$5*((90/$G$18)*(90/$G$18))))*$J$23*(1-(SQRT(2)*Vin_rms_min*(SIN($Q312)/Vout))))))","v":0.270328719723183},{"$f":"(K$5*((90/$G$18)*(90/$G$18))/2)*(1+(SQRT(1+(4/(K$5*((90/$G$18)*(90/$G$18))))*$K$23*(1-(SQRT(2)*Vin_rms_min*(SIN($Q312)/Vout))))))","v":0.405493079584775},{"$f":"(L$5*((90/$G$18)*(90/$G$18))/2)*(1+(SQRT(1+(4/(L$5*((90/$G$18)*(90/$G$18))))*$L$23*(1-(SQRT(2)*Vin_rms_min*(SIN($Q312)/Vout))))))","v":0.540657439446367},null,{"$f":"R312*ABS(1/(Vout/(SQRT(2)*$C$25*SIN($Q312))))","v":0.00805730851553285},{"$f":"S312*ABS(1/(Vout/(SQRT(2)*$C$25*SIN($Q312))))","v":0.00773541444950228},{"$f":"T312*ABS(1/(Vout/(SQRT(2)*$C$25*SIN($Q312))))","v":0.00753949613787155},{"$f":"U312*ABS(1/(Vout/(SQRT(2)*$C$25*SIN($Q312))))","v":0.00685486555039966},{"$f":"V312*ABS(1/(Vout/(SQRT(2)*$C$25*SIN($Q312))))","v":0.0102822983255995},{"$f":"W312*ABS(1/(Vout/(SQRT(2)*$C$25*SIN($Q312))))","v":0.0137097311007993},null,{"$f":"1/(0.0000128*(R312+Y312+$G$23))","v":40779.1894613229},{"$f":"1/(0.0000128*(S312+Z312+$H$23))","v":88497.8817043863},{"$f":"1/(0.0000128*(T312+AA312+$I$23))","v":116453.725332964},{"$f":"1/(0.0000128*(U312+AB312+$J$23))","v":281852.90959019},{"$f":"1/(0.0000128*(V312+AC312+$K$23))","v":187901.939726794},{"$f":"1/(0.0000128*(W312+AD312+$L$23))","v":140926.454795095}]
[null,null,null,null,null,null,null,null,null,null,null,null,null,null,null,null,{"$f":"Q312+0.01","v":3.06999999999998},{"$f":"(G$5*((90/$G$18)*(90/$G$18))/2)*(1+(SQRT(1+(4/(G$5*((90/$G$18)*(90/$G$18))))*$G$23*(1-(SQRT(2)*Vin_rms_min*(SIN($Q313)/Vout))))))","v":0.318206592300187},{"$f":"(H$5*((90/$G$18)*(90/$G$18))/2)*(1+(SQRT(1+(4/(H$5*((90/$G$18)*(90/$G$18))))*$H$23*(1-(SQRT(2)*Vin_rms_min*(SIN($Q313)/Vout))))))","v":0.305434682698924},{"$f":"(I$5*((90/$G$18)*(90/$G$18))/2)*(1+(SQRT(1+(4/(I$5*((90/$G$18)*(90/$G$18))))*$I$23*(1-(SQRT(2)*Vin_rms_min*(SIN($Q313)/Vout))))))","v":0.297661578131076},{"$f":"(J$5*((90/$G$18)*(90/$G$18))/2)*(1+(SQRT(1+(4/(J$5*((90/$G$18)*(90/$G$18))))*$J$23*(1-(SQRT(2)*Vin_rms_min*(SIN($Q313)/Vout))))))","v":0.270328719723183},{"$f":"(K$5*((90/$G$18)*(90/$G$18))/2)*(1+(SQRT(1+(4/(K$5*((90/$G$18)*(90/$G$18))))*$K$23*(1-(SQRT(2)*Vin_rms_min*(SIN($Q313)/Vout))))))","v":0.405493079584775},{"$f":"(L$5*((90/$G$18)*(90/$G$18))/2)*(1+(SQRT(1+(4/(L$5*((90/$G$18)*(90/$G$18))))*$L$23*(1-(SQRT(2)*Vin_rms_min*(SIN($Q313)/Vout))))))","v":0.540657439446367},null,{"$f":"R313*ABS(1/(Vout/(SQRT(2)*$C$25*SIN($Q313))))","v":0.00708180968097201},{"$f":"S313*ABS(1/(Vout/(SQRT(2)*$C$25*SIN($Q313))))","v":0.00679756593729308},{"$f":"T313*ABS(1/(Vout/(SQRT(2)*$C$25*SIN($Q313))))","v":0.00662457251568645},{"$f":"U313*ABS(1/(Vout/(SQRT(2)*$C$25*SIN($Q313))))","v":0.00601626927507022},{"$f":"V313*ABS(1/(Vout/(SQRT(2)*$C$25*SIN($Q313))))","v":0.00902440391260532},{"$f":"W313*ABS(1/(Vout/(SQRT(2)*$C$25*SIN($Q313))))","v":0.0120325385501404},null,{"$f":"1/(0.0000128*(R313+Y313+$G$23))","v":40790.2015796619},{"$f":"1/(0.0000128*(S313+Z313+$H$23))","v":88553.7794846744},{"$f":"1/(0.0000128*(T313+AA313+$I$23))","v":116554.69820556},{"$f":"1/(0.0000128*(U313+AB313+$J$23))","v":282708.220196798},{"$f":"1/(0.0000128*(V313+AC313+$K$23))","v":188472.146797865},{"$f":"1/(0.0000128*(W313+AD313+$L$23))","v":141354.110098399}]
[null,null,null,null,null,null,null,null,null,null,null,null,null,null,null,null,{"$f":"Q313+0.01","v":3.07999999999998},{"$f":"(G$5*((90/$G$18)*(90/$G$18))/2)*(1+(SQRT(1+(4/(G$5*((90/$G$18)*(90/$G$18))))*$G$23*(1-(SQRT(2)*Vin_rms_min*(SIN($Q314)/Vout))))))","v":0.318664489498428},{"$f":"(H$5*((90/$G$18)*(90/$G$18))/2)*(1+(SQRT(1+(4/(H$5*((90/$G$18)*(90/$G$18))))*$H$23*(1-(SQRT(2)*Vin_rms_min*(SIN($Q314)/Vout))))))","v":0.305814985236499},{"$f":"(I$5*((90/$G$18)*(90/$G$18))/2)*(1+(SQRT(1+(4/(I$5*((90/$G$18)*(90/$G$18))))*$I$23*(1-(SQRT(2)*Vin_rms_min*(SIN($Q314)/Vout))))))","v":0.29799507603559},{"$f":"(J$5*((90/$G$18)*(90/$G$18))/2)*(1+(SQRT(1+(4/(J$5*((90/$G$18)*(90/$G$18))))*$J$23*(1-(SQRT(2)*Vin_rms_min*(SIN($Q314)/Vout))))))","v":0.270328719723183},{"$f":"(K$5*((90/$G$18)*(90/$G$18))/2)*(1+(SQRT(1+(4/(K$5*((90/$G$18)*(90/$G$18))))*$K$23*(1-(SQRT(2)*Vin_rms_min*(SIN($Q314)/Vout))))))","v":0.405493079584775},{"$f":"(L$5*((90/$G$18)*(90/$G$18))/2)*(1+(SQRT(1+(4/(L$5*((90/$G$18)*(90/$G$18))))*$L$23*(1-(SQRT(2)*Vin_rms_min*(SIN($Q314)/Vout))))))","v":0.540657439446367},null,{"$f":"R314*ABS(1/(Vout/(SQRT(2)*$C$25*SIN($Q314))))","v":0.00610275078948861},{"$f":"S314*ABS(1/(Vout/(SQRT(2)*$C$25*SIN($Q314))))","v":0.00585666964501452},{"$f":"T314*ABS(1/(Vout/(SQRT(2)*$C$25*SIN($Q314))))","v":0.00570691038842245},{"$f":"U314*ABS(1/(Vout/(SQRT(2)*$C$25*SIN($Q314))))","v":0.0051770713778268},{"$f":"V314*ABS(1/(Vout/(SQRT(2)*$C$25*SIN($Q314))))","v":0.0077656070667402},{"$f":"W314*ABS(1/(Vout/(SQRT(2)*$C$25*SIN($Q314))))","v":0.0103541427556536},null,{"$f":"1/(0.0000128*(R314+Y314+$G$23))","v":40801.303864094},{"$f":"1/(0.0000128*(S314+Z314+$H$23))","v":88610.0846811267},{"$f":"1/(0.0000128*(T314+AA314+$I$23))","v":116656.365941457},{"$f":"1/(0.0000128*(U314+AB314+$J$23))","v":283569.356882798},{"$f":"1/(0.0000128*(V314+AC314+$K$23))","v":189046.237921865},{"$f":"1/(0.0000128*(W314+AD314+$L$23))","v":141784.678441399}]
[null,null,null,null,null,null,null,null,null,null,null,null,null,null,null,null,{"$f":"Q314+0.01","v":3.08999999999998},{"$f":"(G$5*((90/$G$18)*(90/$G$18))/2)*(1+(SQRT(1+(4/(G$5*((90/$G$18)*(90/$G$18))))*$G$23*(1-(SQRT(2)*Vin_rms_min*(SIN($Q315)/Vout))))))","v":0.319121950682421},{"$f":"(H$5*((90/$G$18)*(90/$G$18))/2)*(1+(SQRT(1+(4/(H$5*((90/$G$18)*(90/$G$18))))*$H$23*(1-(SQRT(2)*Vin_rms_min*(SIN($Q315)/Vout))))))","v":0.306194948218643},{"$f":"(I$5*((90/$G$18)*(90/$G$18))/2)*(1+(SQRT(1+(4/(I$5*((90/$G$18)*(90/$G$18))))*$I$23*(1-(SQRT(2)*Vin_rms_min*(SIN($Q315)/Vout))))))","v":0.298328297224697},{"$f":"(J$5*((90/$G$18)*(90/$G$18))/2)*(1+(SQRT(1+(4/(J$5*((90/$G$18)*(90/$G$18))))*$J$23*(1-(SQRT(2)*Vin_rms_min*(SIN($Q315)/Vout))))))","v":0.270328719723183},{"$f":"(K$5*((90/$G$18)*(90/$G$18))/2)*(1+(SQRT(1+(4/(K$5*((90/$G$18)*(90/$G$18))))*$K$23*(1-(SQRT(2)*Vin_rms_min*(SIN($Q315)/Vout))))))","v":0.405493079584775},{"$f":"(L$5*((90/$G$18)*(90/$G$18))/2)*(1+(SQRT(1+(4/(L$5*((90/$G$18)*(90/$G$18))))*$L$23*(1-(SQRT(2)*Vin_rms_min*(SIN($Q315)/Vout))))))","v":0.540657439446367},null,{"$f":"R315*ABS(1/(Vout/(SQRT(2)*$C$25*SIN($Q315))))","v":0.00512023079907953},{"$f":"S315*ABS(1/(Vout/(SQRT(2)*$C$25*SIN($Q315))))","v":0.00491282032163268},{"$f":"T315*ABS(1/(Vout/(SQRT(2)*$C$25*SIN($Q315))))","v":0.00478660190068522},{"$f":"U315*ABS(1/(Vout/(SQRT(2)*$C$25*SIN($Q315))))","v":0.00433735577775982},{"$f":"V315*ABS(1/(Vout/(SQRT(2)*$C$25*SIN($Q315))))","v":0.00650603366663973},{"$f":"W315*ABS(1/(Vout/(SQRT(2)*$C$25*SIN($Q315))))","v":0.00867471155551964},null,{"$f":"1/(0.0000128*(R315+Y315+$G$23))","v":40812.4952818333},{"$f":"1/(0.0000128*(S315+Z315+$H$23))","v":88666.7928594354},{"$f":"1/(0.0000128*(T315+AA315+$I$23))","v":116758.721263148},{"$f":"1/(0.0000128*(U315+AB315+$J$23))","v":284436.291804561},{"$f":"1/(0.0000128*(V315+AC315+$K$23))","v":189624.194536374},{"$f":"1/(0.0000128*(W315+AD315+$L$23))","v":142218.145902281}]
[null,null,null,null,null,null,null,null,null,null,null,null,null,null,null,null,{"$f":"Q315+0.01","v":3.09999999999998},{"$f":"(G$5*((90/$G$18)*(90/$G$18))/2)*(1+(SQRT(1+(4/(G$5*((90/$G$18)*(90/$G$18))))*$G$23*(1-(SQRT(2)*Vin_rms_min*(SIN($Q316)/Vout))))))","v":0.319578932259074},{"$f":"(H$5*((90/$G$18)*(90/$G$18))/2)*(1+(SQRT(1+(4/(H$5*((90/$G$18)*(90/$G$18))))*$H$23*(1-(SQRT(2)*Vin_rms_min*(SIN($Q316)/Vout))))))","v":0.306574535267922},{"$f":"(I$5*((90/$G$18)*(90/$G$18))/2)*(1+(SQRT(1+(4/(I$5*((90/$G$18)*(90/$G$18))))*$I$23*(1-(SQRT(2)*Vin_rms_min*(SIN($Q316)/Vout))))))","v":0.29866120964568},{"$f":"(J$5*((90/$G$18)*(90/$G$18))/2)*(1+(SQRT(1+(4/(J$5*((90/$G$18)*(90/$G$18))))*$J$23*(1-(SQRT(2)*Vin_rms_min*(SIN($Q316)/Vout))))))","v":0.270328719723183},{"$f":"(K$5*((90/$G$18)*(90/$G$18))/2)*(1+(SQRT(1+(4/(K$5*((90/$G$18)*(90/$G$18))))*$K$23*(1-(SQRT(2)*Vin_rms_min*(SIN($Q316)/Vout))))))","v":0.405493079584775},{"$f":"(L$5*((90/$G$18)*(90/$G$18))/2)*(1+(SQRT(1+(4/(L$5*((90/$G$18)*(90/$G$18))))*$L$23*(1-(SQRT(2)*Vin_rms_min*(SIN($Q316)/Vout))))))","v":0.540657439446367},null,{"$f":"R316*ABS(1/(Vout/(SQRT(2)*$C$25*SIN($Q316))))","v":0.00413434984991697},{"$f":"S316*ABS(1/(Vout/(SQRT(2)*$C$25*SIN($Q316))))","v":0.00396611370753871},{"$f":"T316*ABS(1/(Vout/(SQRT(2)*$C$25*SIN($Q316))))","v":0.00386374007368434},{"$f":"U316*ABS(1/(Vout/(SQRT(2)*$C$25*SIN($Q316))))","v":0.00349720644572951},{"$f":"V316*ABS(1/(Vout/(SQRT(2)*$C$25*SIN($Q316))))","v":0.00524580966859427},{"$f":"W316*ABS(1/(Vout/(SQRT(2)*$C$25*SIN($Q316))))","v":0.00699441289145902},null,{"$f":"1/(0.0000128*(R316+Y316+$G$23))","v":40823.774768341},{"$f":"1/(0.0000128*(S316+Z316+$H$23))","v":88723.8994484822},{"$f":"1/(0.0000128*(T316+AA316+$I$23))","v":116861.756667115},{"$f":"1/(0.0000128*(U316+AB316+$J$23))","v":285308.995729673},{"$f":"1/(0.0000128*(V316+AC316+$K$23))","v":190205.997153115},{"$f":"1/(0.0000128*(W316+AD316+$L$23))","v":142654.497864836}]
[null,null,null,null,null,null,null,null,null,null,null,null,null,null,null,null,{"$f":"Q316+0.01","v":3.10999999999998},{"$f":"(G$5*((90/$G$18)*(90/$G$18))/2)*(1+(SQRT(1+(4/(G$5*((90/$G$18)*(90/$G$18))))*$G$23*(1-(SQRT(2)*Vin_rms_min*(SIN($Q317)/Vout))))))","v":0.320035390881501},{"$f":"(H$5*((90/$G$18)*(90/$G$18))/2)*(1+(SQRT(1+(4/(H$5*((90/$G$18)*(90/$G$18))))*$H$23*(1-(SQRT(2)*Vin_rms_min*(SIN($Q317)/Vout))))))","v":0.306953710204188},{"$f":"(I$5*((90/$G$18)*(90/$G$18))/2)*(1+(SQRT(1+(4/(I$5*((90/$G$18)*(90/$G$18))))*$I$23*(1-(SQRT(2)*Vin_rms_min*(SIN($Q317)/Vout))))))","v":0.298993781411963},{"$f":"(J$5*((90/$G$18)*(90/$G$18))/2)*(1+(SQRT(1+(4/(J$5*((90/$G$18)*(90/$G$18))))*$J$23*(1-(SQRT(2)*Vin_rms_min*(SIN($Q317)/Vout))))))","v":0.270328719723183},{"$f":"(K$5*((90/$G$18)*(90/$G$18))/2)*(1+(SQRT(1+(4/(K$5*((90/$G$18)*(90/$G$18))))*$K$23*(1-(SQRT(2)*Vin_rms_min*(SIN($Q317)/Vout))))))","v":0.405493079584775},{"$f":"(L$5*((90/$G$18)*(90/$G$18))/2)*(1+(SQRT(1+(4/(L$5*((90/$G$18)*(90/$G$18))))*$L$23*(1-(SQRT(2)*Vin_rms_min*(SIN($Q317)/Vout))))))","v":0.540657439446367},null,{"$f":"R317*ABS(1/(Vout/(SQRT(2)*$C$25*SIN($Q317))))","v":0.00314520925041685},{"$f":"S317*ABS(1/(Vout/(SQRT(2)*$C$25*SIN($Q317))))","v":0.00301664652188875},{"$f":"T317*ABS(1/(Vout/(SQRT(2)*$C$25*SIN($Q317))))","v":0.00293841879338345},{"$f":"U317*ABS(1/(Vout/(SQRT(2)*$C$25*SIN($Q317))))","v":0.00265670739596896},{"$f":"V317*ABS(1/(Vout/(SQRT(2)*$C$25*SIN($Q317))))","v":0.00398506109395344},{"$f":"W317*ABS(1/(Vout/(SQRT(2)*$C$25*SIN($Q317))))","v":0.00531341479193792},null,{"$f":"1/(0.0000128*(R317+Y317+$G$23))","v":40835.1412274477},{"$f":"1/(0.0000128*(S317+Z317+$H$23))","v":88781.3997401725},{"$f":"1/(0.0000128*(T317+AA317+$I$23))","v":116965.464422858},{"$f":"1/(0.0000128*(U317+AB317+$J$23))","v":286187.438005253},{"$f":"1/(0.0000128*(V317+AC317+$K$23))","v":190791.625336836},{"$f":"1/(0.0000128*(W317+AD317+$L$23))","v":143093.719002627}]
[null,null,null,null,null,null,null,null,null,null,null,null,null,null,null,null,{"$f":"Q317+0.01","v":3.11999999999998},{"$f":"(G$5*((90/$G$18)*(90/$G$18))/2)*(1+(SQRT(1+(4/(G$5*((90/$G$18)*(90/$G$18))))*$G$23*(1-(SQRT(2)*Vin_rms_min*(SIN($Q318)/Vout))))))","v":0.320491283450914},{"$f":"(H$5*((90/$G$18)*(90/$G$18))/2)*(1+(SQRT(1+(4/(H$5*((90/$G$18)*(90/$G$18))))*$H$23*(1-(SQRT(2)*Vin_rms_min*(SIN($Q318)/Vout))))))","v":0.307332437046318},{"$f":"(I$5*((90/$G$18)*(90/$G$18))/2)*(1+(SQRT(1+(4/(I$5*((90/$G$18)*(90/$G$18))))*$I$23*(1-(SQRT(2)*Vin_rms_min*(SIN($Q318)/Vout))))))","v":0.299325980804789},{"$f":"(J$5*((90/$G$18)*(90/$G$18))/2)*(1+(SQRT(1+(4/(J$5*((90/$G$18)*(90/$G$18))))*$J$23*(1-(SQRT(2)*Vin_rms_min*(SIN($Q318)/Vout))))))","v":0.270328719723183},{"$f":"(K$5*((90/$G$18)*(90/$G$18))/2)*(1+(SQRT(1+(4/(K$5*((90/$G$18)*(90/$G$18))))*$K$23*(1-(SQRT(2)*Vin_rms_min*(SIN($Q318)/Vout))))))","v":0.405493079584775},{"$f":"(L$5*((90/$G$18)*(90/$G$18))/2)*(1+(SQRT(1+(4/(L$5*((90/$G$18)*(90/$G$18))))*$L$23*(1-(SQRT(2)*Vin_rms_min*(SIN($Q318)/Vout))))))","v":0.540657439446367},null,{"$f":"R318*ABS(1/(Vout/(SQRT(2)*$C$25*SIN($Q318))))","v":0.00215291146290261},{"$f":"S318*ABS(1/(Vout/(SQRT(2)*$C$25*SIN($Q318))))","v":0.00206451644960307},{"$f":"T318*ABS(1/(Vout/(SQRT(2)*$C$25*SIN($Q318))))","v":0.00201073279834737},{"$f":"U318*ABS(1/(Vout/(SQRT(2)*$C$25*SIN($Q318))))","v":0.00181594267768273},{"$f":"V318*ABS(1/(Vout/(SQRT(2)*$C$25*SIN($Q318))))","v":0.00272391401652409},{"$f":"W318*ABS(1/(Vout/(SQRT(2)*$C$25*SIN($Q318))))","v":0.00363188535536545},null,{"$f":"1/(0.0000128*(R318+Y318+$G$23))","v":40846.5935314855},{"$f":"1/(0.0000128*(S318+Z318+$H$23))","v":88839.2888893063},{"$f":"1/(0.0000128*(T318+AA318+$I$23))","v":117069.836571978},{"$f":"1/(0.0000128*(U318+AB318+$J$23))","v":287071.586526003},{"$f":"1/(0.0000128*(V318+AC318+$K$23))","v":191381.057684002},{"$f":"1/(0.0000128*(W318+AD318+$L$23))","v":143535.793263001}]
[null,null,null,null,null,null,null,null,null,null,null,null,null,null,null,null,{"$f":"Q318+0.01","v":3.12999999999998},{"$f":"(G$5*((90/$G$18)*(90/$G$18))/2)*(1+(SQRT(1+(4/(G$5*((90/$G$18)*(90/$G$18))))*$G$23*(1-(SQRT(2)*Vin_rms_min*(SIN($Q319)/Vout))))))","v":0.320946567118448},{"$f":"(H$5*((90/$G$18)*(90/$G$18))/2)*(1+(SQRT(1+(4/(H$5*((90/$G$18)*(90/$G$18))))*$H$23*(1-(SQRT(2)*Vin_rms_min*(SIN($Q319)/Vout))))))","v":0.307710680013896},{"$f":"(I$5*((90/$G$18)*(90/$G$18))/2)*(1+(SQRT(1+(4/(I$5*((90/$G$18)*(90/$G$18))))*$I$23*(1-(SQRT(2)*Vin_rms_min*(SIN($Q319)/Vout))))))","v":0.299657776274844},{"$f":"(J$5*((90/$G$18)*(90/$G$18))/2)*(1+(SQRT(1+(4/(J$5*((90/$G$18)*(90/$G$18))))*$J$23*(1-(SQRT(2)*Vin_rms_min*(SIN($Q319)/Vout))))))","v":0.270328719723183},{"$f":"(K$5*((90/$G$18)*(90/$G$18))/2)*(1+(SQRT(1+(4/(K$5*((90/$G$18)*(90/$G$18))))*$K$23*(1-(SQRT(2)*Vin_rms_min*(SIN($Q319)/Vout))))))","v":0.405493079584775},{"$f":"(L$5*((90/$G$18)*(90/$G$18))/2)*(1+(SQRT(1+(4/(L$5*((90/$G$18)*(90/$G$18))))*$L$23*(1-(SQRT(2)*Vin_rms_min*(SIN($Q319)/Vout))))))","v":0.540657439446367},null,{"$f":"R319*ABS(1/(Vout/(SQRT(2)*$C$25*SIN($Q319))))","v":0.00115756008886937},{"$f":"S319*ABS(1/(Vout/(SQRT(2)*$C$25*SIN($Q319))))","v":0.00110982212802882},{"$f":"T319*ABS(1/(Vout/(SQRT(2)*$C$25*SIN($Q319))))","v":0.0010807776672903},{"$f":"U319*ABS(1/(Vout/(SQRT(2)*$C$25*SIN($Q319))))","v":0.000974996366642007},{"$f":"V319*ABS(1/(Vout/(SQRT(2)*$C$25*SIN($Q319))))","v":0.00146249454996301},{"$f":"W319*ABS(1/(Vout/(SQRT(2)*$C$25*SIN($Q319))))","v":0.00194999273328401},null,{"$f":"1/(0.0000128*(R319+Y319+$G$23))","v":40858.1305214292},{"$f":"1/(0.0000128*(S319+Z319+$H$23))","v":88897.5619134831},{"$f":"1/(0.0000128*(T319+AA319+$I$23))","v":117174.864927311},{"$f":"1/(0.0000128*(U319+AB319+$J$23))","v":287961.407701964},{"$f":"1/(0.0000128*(V319+AC319+$K$23))","v":191974.271801309},{"$f":"1/(0.0000128*(W319+AD319+$L$23))","v":143980.703850982}]
[null,null,null,null,null,null,null,null,null,null,null,null,null,null,null,null,{"$f":"Q319+0.01","v":3.13999999999998},{"$f":"(G$5*((90/$G$18)*(90/$G$18))/2)*(1+(SQRT(1+(4/(G$5*((90/$G$18)*(90/$G$18))))*$G$23*(1-(SQRT(2)*Vin_rms_min*(SIN($Q320)/Vout))))))","v":0.321401199286907},{"$f":"(H$5*((90/$G$18)*(90/$G$18))/2)*(1+(SQRT(1+(4/(H$5*((90/$G$18)*(90/$G$18))))*$H$23*(1-(SQRT(2)*Vin_rms_min*(SIN($Q320)/Vout))))))","v":0.308088403528831},{"$f":"(I$5*((90/$G$18)*(90/$G$18))/2)*(1+(SQRT(1+(4/(I$5*((90/$G$18)*(90/$G$18))))*$I$23*(1-(SQRT(2)*Vin_rms_min*(SIN($Q320)/Vout))))))","v":0.299989136443829},{"$f":"(J$5*((90/$G$18)*(90/$G$18))/2)*(1+(SQRT(1+(4/(J$5*((90/$G$18)*(90/$G$18))))*$J$23*(1-(SQRT(2)*Vin_rms_min*(SIN($Q320)/Vout))))))","v":0.270328719723183},{"$f":"(K$5*((90/$G$18)*(90/$G$18))/2)*(1+(SQRT(1+(4/(K$5*((90/$G$18)*(90/$G$18))))*$K$23*(1-(SQRT(2)*Vin_rms_min*(SIN($Q320)/Vout))))))","v":0.405493079584775},{"$f":"(L$5*((90/$G$18)*(90/$G$18))/2)*(1+(SQRT(1+(4/(L$5*((90/$G$18)*(90/$G$18))))*$L$23*(1-(SQRT(2)*Vin_rms_min*(SIN($Q320)/Vout))))))","v":0.540657439446367},null,{"$f":"R320*ABS(1/(Vout/(SQRT(2)*$C$25*SIN($Q320))))","v":0.00015925985385422},{"$f":"S320*ABS(1/(Vout/(SQRT(2)*$C$25*SIN($Q320))))","v":0.000152663133270954},{"$f":"T320*ABS(1/(Vout/(SQRT(2)*$C$25*SIN($Q320))))","v":0.000148649806328971},{"$f":"U320*ABS(1/(Vout/(SQRT(2)*$C$25*SIN($Q320))))","v":0.000133952556777116},{"$f":"V320*ABS(1/(Vout/(SQRT(2)*$C$25*SIN($Q320))))","v":0.000200928835165674},{"$f":"W320*ABS(1/(Vout/(SQRT(2)*$C$25*SIN($Q320))))","v":0.000267905113554232},null,{"$f":"1/(0.0000128*(R320+Y320+$G$23))","v":40869.7510070473},{"$f":"1/(0.0000128*(S320+Z320+$H$23))","v":88956.213693043},{"$f":"1/(0.0000128*(T320+AA320+$I$23))","v":117280.541072116},{"$f":"1/(0.0000128*(U320+AB320+$J$23))","v":288856.866426031},{"$f":"1/(0.0000128*(V320+AC320+$K$23))","v":192571.244284021},{"$f":"1/(0.0000128*(W320+AD320+$L$23))","v":144428.433213016}]
[]
[null,null,null,null,null,null,null,null,null,null,null,null,null,null,null,null,null,{"$f":"(G$5*((90/$G$35)*(90/$G$35))/2)*(1+(SQRT(1+(4/(G$5*((90/$G$35)*(90/$G$35))))*$G$40*(1-(SQRT(2)*Vin_rms_min*(SIN($Q7)/Vout))))))","v":0.297085544803783},{"$f":"(H$5*((90/$G$35)*(90/$G$35))/2)*(1+(SQRT(1+(4/(H$5*((90/$G$35)*(90/$G$35))))*$H$40*(1-(SQRT(2)*Vin_rms_min*(SIN($Q7)/Vout))))))","v":0.285102761138879},{"$f":"(I$5*((90/$G$35)*(90/$G$35))/2)*(1+(SQRT(1+(4/(I$5*((90/$G$35)*(90/$G$35))))*$I$40*(1-(SQRT(2)*Vin_rms_min*(SIN($Q7)/Vout))))))","v":0.278095742256831},{"$f":"(J$5*((90/$G$35)*(90/$G$35))/2)*(1+(SQRT(1+(4/(J$5*((90/$G$35)*(90/$G$35))))*$J$40*(1-(SQRT(2)*Vin_rms_min*(SIN($Q7)/Vout))))))","v":0.221823308403626},{"$f":"(K$5*((90/$G$35)*(90/$G$35))/2)*(1+(SQRT(1+(4/(K$5*((90/$G$35)*(90/$G$35))))*$K$40*(1-(SQRT(2)*Vin_rms_min*(SIN($Q7)/Vout))))))","v":0.298163788127197},{"$f":"(L$5*((90/$G$35)*(90/$G$35))/2)*(1+(SQRT(1+(4/(L$5*((90/$G$35)*(90/$G$35))))*$L$40*(1-(SQRT(2)*Vin_rms_min*(SIN($Q7)/Vout))))))","v":0.39755171750293},null,{"$f":"R322*ABS(1/(Vout/(SQRT(2)*$C$26*SIN($Q7))))","v":0.001092352051201},{"$f":"S322*ABS(1/(Vout/(SQRT(2)*$C$26*SIN($Q7))))","v":0.00104829262608121},{"$f":"T322*ABS(1/(Vout/(SQRT(2)*$C$26*SIN($Q7))))","v":0.00102252856053684},{"$f":"U322*ABS(1/(Vout/(SQRT(2)*$C$26*SIN($Q7))))","v":0.000815620787268301},{"$f":"V322*ABS(1/(Vout/(SQRT(2)*$C$26*SIN($Q7))))","v":0.00109631663758572},{"$f":"W322*ABS(1/(Vout/(SQRT(2)*$C$26*SIN($Q7))))","v":0.00146175551678096},null,{"$f":"1/(0.0000128*(R322+Y322+$G$40))","v":35078.0241265509},{"$f":"1/(0.0000128*(S322+Z322+$H$40))","v":76171.130242804},{"$f":"1/(0.0000128*(T322+AA322+$I$40))","v":100068.107690381},{"$f":"1/(0.0000128*(U322+AB322+$J$40))","v":314463.5997846},{"$f":"1/(0.0000128*(V322+AC322+$K$40))","v":261060.524794663},{"$f":"1/(0.0000128*(W322+AD322+$L$40))","v":195795.393595997}]
[null,null,null,null,null,null,null,null,null,null,null,null,null,null,null,null,null,{"$f":"(G$5*((90/$G$35)*(90/$G$35))/2)*(1+(SQRT(1+(4/(G$5*((90/$G$35)*(90/$G$35))))*$G$40*(1-(SQRT(2)*Vin_rms_min*(SIN($Q8)/Vout))))))","v":0.296654904525441},{"$f":"(H$5*((90/$G$35)*(90/$G$35))/2)*(1+(SQRT(1+(4/(H$5*((90/$G$35)*(90/$G$35))))*$H$40*(1-(SQRT(2)*Vin_rms_min*(SIN($Q8)/Vout))))))","v":0.284729710899073},{"$f":"(I$5*((90/$G$35)*(90/$G$35))/2)*(1+(SQRT(1+(4/(I$5*((90/$G$35)*(90/$G$35))))*$I$40*(1-(SQRT(2)*Vin_rms_min*(SIN($Q8)/Vout))))))","v":0.277755982573967},{"$f":"(J$5*((90/$G$35)*(90/$G$35))/2)*(1+(SQRT(1+(4/(J$5*((90/$G$35)*(90/$G$35))))*$J$40*(1-(SQRT(2)*Vin_rms_min*(SIN($Q8)/Vout))))))","v":0.221758138207677},{"$f":"(K$5*((90/$G$35)*(90/$G$35))/2)*(1+(SQRT(1+(4/(K$5*((90/$G$35)*(90/$G$35))))*$K$40*(1-(SQRT(2)*Vin_rms_min*(SIN($Q8)/Vout))))))","v":0.298163788127197},{"$f":"(L$5*((90/$G$35)*(90/$G$35))/2)*(1+(SQRT(1+(4/(L$5*((90/$G$35)*(90/$G$35))))*$L$40*(1-(SQRT(2)*Vin_rms_min*(SIN($Q8)/Vout))))))","v":0.39755171750293},null,{"$f":"R323*ABS(1/(Vout/(SQRT(2)*$C$26*SIN($Q8))))","v":0.00218142818915385},{"$f":"S323*ABS(1/(Vout/(SQRT(2)*$C$26*SIN($Q8))))","v":0.00209373722857698},{"$f":"T323*ABS(1/(Vout/(SQRT(2)*$C$26*SIN($Q8))))","v":0.00204245647332965},{"$f":"U323*ABS(1/(Vout/(SQRT(2)*$C$26*SIN($Q8))))","v":0.00163068078929744},{"$f":"V323*ABS(1/(Vout/(SQRT(2)*$C$26*SIN($Q8))))","v":0.00219252364442127},{"$f":"W323*ABS(1/(Vout/(SQRT(2)*$C$26*SIN($Q8))))","v":0.00292336485922836},null,{"$f":"1/(0.0000128*(R323+Y323+$G$40))","v":35067.6568349191},{"$f":"1/(0.0000128*(S323+Z323+$H$40))","v":76121.2268340215},{"$f":"1/(0.0000128*(T323+AA323+$I$40))","v":99981.0034113355},{"$f":"1/(0.0000128*(U323+AB323+$J$40))","v":313517.27703701},{"$f":"1/(0.0000128*(V323+AC323+$K$40))","v":260107.735173562},{"$f":"1/(0.0000128*(W323+AD323+$L$40))","v":195080.801380172}]
[null,null,null,null,null,null,null,null,null,null,null,null,null,null,null,null,null,{"$f":"(G$5*((90/$G$35)*(90/$G$35))/2)*(1+(SQRT(1+(4/(G$5*((90/$G$35)*(90/$G$35))))*$G$40*(1-(SQRT(2)*Vin_rms_min*(SIN($Q9)/Vout))))))","v":0.296223679498299},{"$f":"(H$5*((90/$G$35)*(90/$G$35))/2)*(1+(SQRT(1+(4/(H$5*((90/$G$35)*(90/$G$35))))*$H$40*(1-(SQRT(2)*Vin_rms_min*(SIN($Q9)/Vout))))))","v":0.28435616649072},{"$f":"(I$5*((90/$G$35)*(90/$G$35))/2)*(1+(SQRT(1+(4/(I$5*((90/$G$35)*(90/$G$35))))*$I$40*(1-(SQRT(2)*Vin_rms_min*(SIN($Q9)/Vout))))))","v":0.277415784078958},{"$f":"(J$5*((90/$G$35)*(90/$G$35))/2)*(1+(SQRT(1+(4/(J$5*((90/$G$35)*(90/$G$35))))*$J$40*(1-(SQRT(2)*Vin_rms_min*(SIN($Q9)/Vout))))))","v":0.221692946330811},{"$f":"(K$5*((90/$G$35)*(90/$G$35))/2)*(1+(SQRT(1+(4/(K$5*((90/$G$35)*(90/$G$35))))*$K$40*(1-(SQRT(2)*Vin_rms_min*(SIN($Q9)/Vout))))))","v":0.298163788127197},{"$f":"(L$5*((90/$G$35)*(90/$G$35))/2)*(1+(SQRT(1+(4/(L$5*((90/$G$35)*(90/$G$35))))*$L$40*(1-(SQRT(2)*Vin_rms_min*(SIN($Q9)/Vout))))))","v":0.39755171750293},null,{"$f":"R324*ABS(1/(Vout/(SQRT(2)*$C$26*SIN($Q9))))","v":0.00326711353284009},{"$f":"S324*ABS(1/(Vout/(SQRT(2)*$C$26*SIN($Q9))))","v":0.00313622422509168},{"$f":"T324*ABS(1/(Vout/(SQRT(2)*$C$26*SIN($Q9))))","v":0.00305967728144776},{"$f":"U324*ABS(1/(Vout/(SQRT(2)*$C$26*SIN($Q9))))","v":0.00244509833352719},{"$f":"V324*ABS(1/(Vout/(SQRT(2)*$C$26*SIN($Q9))))","v":0.00328851140071948},{"$f":"W324*ABS(1/(Vout/(SQRT(2)*$C$26*SIN($Q9))))","v":0.00438468186762598},null,{"$f":"1/(0.0000128*(R324+Y324+$G$40))","v":35057.3582104579},{"$f":"1/(0.0000128*(S324+Z324+$H$40))","v":76071.6444505952},{"$f":"1/(0.0000128*(T324+AA324+$I$40))","v":99894.4524663937},{"$f":"1/(0.0000128*(U324+AB324+$J$40))","v":312577.463366652},{"$f":"1/(0.0000128*(V324+AC324+$K$40))","v":259162.063524962},{"$f":"1/(0.0000128*(W324+AD324+$L$40))","v":194371.547643722}]
[null,null,null,null,null,null,null,null,null,null,null,null,null,null,null,null,null,{"$f":"(G$5*((90/$G$35)*(90/$G$35))/2)*(1+(SQRT(1+(4/(G$5*((90/$G$35)*(90/$G$35))))*$G$40*(1-(SQRT(2)*Vin_rms_min*(SIN($Q10)/Vout))))))","v":0.295791910203978},{"$f":"(H$5*((90/$G$35)*(90/$G$35))/2)*(1+(SQRT(1+(4/(H$5*((90/$G$35)*(90/$G$35))))*$H$40*(1-(SQRT(2)*Vin_rms_min*(SIN($Q10)/Vout))))))","v":0.283982163086233},{"$f":"(I$5*((90/$G$35)*(90/$G$35))/2)*(1+(SQRT(1+(4/(I$5*((90/$G$35)*(90/$G$35))))*$I$40*(1-(SQRT(2)*Vin_rms_min*(SIN($Q10)/Vout))))))","v":0.277075178898183},{"$f":"(J$5*((90/$G$35)*(90/$G$35))/2)*(1+(SQRT(1+(4/(J$5*((90/$G$35)*(90/$G$35))))*$J$40*(1-(SQRT(2)*Vin_rms_min*(SIN($Q10)/Vout))))))","v":0.22162773926269},{"$f":"(K$5*((90/$G$35)*(90/$G$35))/2)*(1+(SQRT(1+(4/(K$5*((90/$G$35)*(90/$G$35))))*$K$40*(1-(SQRT(2)*Vin_rms_min*(SIN($Q10)/Vout))))))","v":0.298163788127197},{"$f":"(L$5*((90/$G$35)*(90/$G$35))/2)*(1+(SQRT(1+(4/(L$5*((90/$G$35)*(90/$G$35))))*$L$40*(1-(SQRT(2)*Vin_rms_min*(SIN($Q10)/Vout))))))","v":0.39755171750293},null,{"$f":"R325*ABS(1/(Vout/(SQRT(2)*$C$26*SIN($Q10))))","v":0.00434929445453811},{"$f":"S325*ABS(1/(Vout/(SQRT(2)*$C$26*SIN($Q10))))","v":0.00417564512243404},{"$f":"T325*ABS(1/(Vout/(SQRT(2)*$C$26*SIN($Q10))))","v":0.00407408552262634},{"$f":"U325*ABS(1/(Vout/(SQRT(2)*$C$26*SIN($Q10))))","v":0.00325879195506838},{"$f":"V325*ABS(1/(Vout/(SQRT(2)*$C$26*SIN($Q10))))","v":0.00438417030861804},{"$f":"W325*ABS(1/(Vout/(SQRT(2)*$C$26*SIN($Q10))))","v":0.00584556041149072},null,{"$f":"1/(0.0000128*(R325+Y325+$G$40))","v":35047.1292876074},{"$f":"1/(0.0000128*(S325+Z325+$H$40))","v":76022.3873900023},{"$f":"1/(0.0000128*(T325+AA325+$I$40))","v":99808.4617272789},{"$f":"1/(0.0000128*(U325+AB325+$J$40))","v":311644.186149502},{"$f":"1/(0.0000128*(V325+AC325+$K$40))","v":258223.523979171},{"$f":"1/(0.0000128*(W325+AD325+$L$40))","v":193667.642984378}]
[null,null,null,null,null,null,null,null,null,null,null,null,null,null,null,null,null,{"$f":"(G$5*((90/$G$35)*(90/$G$35))/2)*(1+(SQRT(1+(4/(G$5*((90/$G$35)*(90/$G$35))))*$G$40*(1-(SQRT(2)*Vin_rms_min*(SIN($Q11)/Vout))))))","v":0.295359637361511},{"$f":"(H$5*((90/$G$35)*(90/$G$35))/2)*(1+(SQRT(1+(4/(H$5*((90/$G$35)*(90/$G$35))))*$H$40*(1-(SQRT(2)*Vin_rms_min*(SIN($Q11)/Vout))))))","v":0.283607736059826},{"$f":"(I$5*((90/$G$35)*(90/$G$35))/2)*(1+(SQRT(1+(4/(I$5*((90/$G$35)*(90/$G$35))))*$I$40*(1-(SQRT(2)*Vin_rms_min*(SIN($Q11)/Vout))))))","v":0.276734199338252},{"$f":"(J$5*((90/$G$35)*(90/$G$35))/2)*(1+(SQRT(1+(4/(J$5*((90/$G$35)*(90/$G$35))))*$J$40*(1-(SQRT(2)*Vin_rms_min*(SIN($Q11)/Vout))))))","v":0.221562523504863},{"$f":"(K$5*((90/$G$35)*(90/$G$35))/2)*(1+(SQRT(1+(4/(K$5*((90/$G$35)*(90/$G$35))))*$K$40*(1-(SQRT(2)*Vin_rms_min*(SIN($Q11)/Vout))))))","v":0.298163788127197},{"$f":"(L$5*((90/$G$35)*(90/$G$35))/2)*(1+(SQRT(1+(4/(L$5*((90/$G$35)*(90/$G$35))))*$L$40*(1-(SQRT(2)*Vin_rms_min*(SIN($Q11)/Vout))))))","v":0.39755171750293},null,{"$f":"R326*ABS(1/(Vout/(SQRT(2)*$C$26*SIN($Q11))))","v":0.00542785859658712},{"$f":"S326*ABS(1/(Vout/(SQRT(2)*$C$26*SIN($Q11))))","v":0.00521189253204148},{"$f":"T326*ABS(1/(Vout/(SQRT(2)*$C$26*SIN($Q11))))","v":0.00508557674388425},{"$f":"U326*ABS(1/(Vout/(SQRT(2)*$C$26*SIN($Q11))))","v":0.00407168040504955},{"$f":"V326*ABS(1/(Vout/(SQRT(2)*$C$26*SIN($Q11))))","v":0.00547939080313919},{"$f":"W326*ABS(1/(Vout/(SQRT(2)*$C$26*SIN($Q11))))","v":0.00730585440418559},null,{"$f":"1/(0.0000128*(R326+Y326+$G$40))","v":35036.9710753226},{"$f":"1/(0.0000128*(S326+Z326+$H$40))","v":75973.4598346437},{"$f":"1/(0.0000128*(T326+AA326+$I$40))","v":99723.0378721115},{"$f":"1/(0.0000128*(U326+AB326+$J$40))","v":310717.471151983},{"$f":"1/(0.0000128*(V326+AC326+$K$40))","v":257292.129120819},{"$f":"1/(0.0000128*(W326+AD326+$L$40))","v":192969.096840614}]
[null,null,null,null,null,null,null,null,null,null,null,null,null,null,null,null,null,{"$f":"(G$5*((90/$G$35)*(90/$G$35))/2)*(1+(SQRT(1+(4/(G$5*((90/$G$35)*(90/$G$35))))*$G$40*(1-(SQRT(2)*Vin_rms_min*(SIN($Q12)/Vout))))))","v":0.294926901925643},{"$f":"(H$5*((90/$G$35)*(90/$G$35))/2)*(1+(SQRT(1+(4/(H$5*((90/$G$35)*(90/$G$35))))*$H$40*(1-(SQRT(2)*Vin_rms_min*(SIN($Q12)/Vout))))))","v":0.283232920985948},{"$f":"(I$5*((90/$G$35)*(90/$G$35))/2)*(1+(SQRT(1+(4/(I$5*((90/$G$35)*(90/$G$35))))*$I$40*(1-(SQRT(2)*Vin_rms_min*(SIN($Q12)/Vout))))))","v":0.276392877884502},{"$f":"(J$5*((90/$G$35)*(90/$G$35))/2)*(1+(SQRT(1+(4/(J$5*((90/$G$35)*(90/$G$35))))*$J$40*(1-(SQRT(2)*Vin_rms_min*(SIN($Q12)/Vout))))))","v":0.221497305570153},{"$f":"(K$5*((90/$G$35)*(90/$G$35))/2)*(1+(SQRT(1+(4/(K$5*((90/$G$35)*(90/$G$35))))*$K$40*(1-(SQRT(2)*Vin_rms_min*(SIN($Q12)/Vout))))))","v":0.298163788127197},{"$f":"(L$5*((90/$G$35)*(90/$G$35))/2)*(1+(SQRT(1+(4/(L$5*((90/$G$35)*(90/$G$35))))*$L$40*(1-(SQRT(2)*Vin_rms_min*(SIN($Q12)/Vout))))))","v":0.39755171750293},null,{"$f":"R327*ABS(1/(Vout/(SQRT(2)*$C$26*SIN($Q12))))","v":0.00650269488771201},{"$f":"S327*ABS(1/(Vout/(SQRT(2)*$C$26*SIN($Q12))))","v":0.00624486018502108},{"$f":"T327*ABS(1/(Vout/(SQRT(2)*$C$26*SIN($Q12))))","v":0.00609404751578985},{"$f":"U327*ABS(1/(Vout/(SQRT(2)*$C$26*SIN($Q12))))","v":0.00488368265888527},{"$f":"V327*ABS(1/(Vout/(SQRT(2)*$C$26*SIN($Q12))))","v":0.00657406336314618},{"$f":"W327*ABS(1/(Vout/(SQRT(2)*$C$26*SIN($Q12))))","v":0.00876541781752824},null,{"$f":"1/(0.0000128*(R327+Y327+$G$40))","v":35026.8845569563},{"$f":"1/(0.0000128*(S327+Z327+$H$40))","v":75924.8658519082},{"$f":"1/(0.0000128*(T327+AA327+$I$40))","v":99638.1873860678},{"$f":"1/(0.0000128*(U327+AB327+$J$40))","v":309797.342569871},{"$f":"1/(0.0000128*(V327+AC327+$K$40))","v":256367.890033758},{"$f":"1/(0.0000128*(W327+AD327+$L$40))","v":192275.917525318}]
[null,null,null,null,null,null,null,null,null,null,null,null,null,null,null,null,null,{"$f":"(G$5*((90/$G$35)*(90/$G$35))/2)*(1+(SQRT(1+(4/(G$5*((90/$G$35)*(90/$G$35))))*$G$40*(1-(SQRT(2)*Vin_rms_min*(SIN($Q13)/Vout))))))","v":0.29449374508507},{"$f":"(H$5*((90/$G$35)*(90/$G$35))/2)*(1+(SQRT(1+(4/(H$5*((90/$G$35)*(90/$G$35))))*$H$40*(1-(SQRT(2)*Vin_rms_min*(SIN($Q13)/Vout))))))","v":0.282857753637661},{"$f":"(I$5*((90/$G$35)*(90/$G$35))/2)*(1+(SQRT(1+(4/(I$5*((90/$G$35)*(90/$G$35))))*$I$40*(1-(SQRT(2)*Vin_rms_min*(SIN($Q13)/Vout))))))","v":0.27605124719943},{"$f":"(J$5*((90/$G$35)*(90/$G$35))/2)*(1+(SQRT(1+(4/(J$5*((90/$G$35)*(90/$G$35))))*$J$40*(1-(SQRT(2)*Vin_rms_min*(SIN($Q13)/Vout))))))","v":0.221432091982038},{"$f":"(K$5*((90/$G$35)*(90/$G$35))/2)*(1+(SQRT(1+(4/(K$5*((90/$G$35)*(90/$G$35))))*$K$40*(1-(SQRT(2)*Vin_rms_min*(SIN($Q13)/Vout))))))","v":0.298163788127197},{"$f":"(L$5*((90/$G$35)*(90/$G$35))/2)*(1+(SQRT(1+(4/(L$5*((90/$G$35)*(90/$G$35))))*$L$40*(1-(SQRT(2)*Vin_rms_min*(SIN($Q13)/Vout))))))","v":0.39755171750293},null,{"$f":"R328*ABS(1/(Vout/(SQRT(2)*$C$26*SIN($Q13))))","v":0.00757369355890311},{"$f":"S328*ABS(1/(Vout/(SQRT(2)*$C$26*SIN($Q13))))","v":0.00727444294680188},{"$f":"T328*ABS(1/(Vout/(SQRT(2)*$C$26*SIN($Q13))))","v":0.00709939544637033},{"$f":"U328*ABS(1/(Vout/(SQRT(2)*$C$26*SIN($Q13))))","v":0.00569471792446509},{"$f":"V328*ABS(1/(Vout/(SQRT(2)*$C$26*SIN($Q13))))","v":0.00766807852229522},{"$f":"W328*ABS(1/(Vout/(SQRT(2)*$C$26*SIN($Q13))))","v":0.0102241046963936},null,{"$f":"1/(0.0000128*(R328+Y328+$G$40))","v":35016.8706901499},{"$f":"1/(0.0000128*(S328+Z328+$H$40))","v":75876.6093942666},{"$f":"1/(0.0000128*(T328+AA328+$I$40))","v":99553.9165620817},{"$f":"1/(0.0000128*(U328+AB328+$J$40))","v":308883.823066759},{"$f":"1/(0.0000128*(V328+AC328+$K$40))","v":255450.816345235},{"$f":"1/(0.0000128*(W328+AD328+$L$40))","v":191588.112258926}]
[null,null,null,null,null,null,null,null,null,null,null,null,null,null,null,null,null,{"$f":"(G$5*((90/$G$35)*(90/$G$35))/2)*(1+(SQRT(1+(4/(G$5*((90/$G$35)*(90/$G$35))))*$G$40*(1-(SQRT(2)*Vin_rms_min*(SIN($Q14)/Vout))))))","v":0.294060208260604},{"$f":"(H$5*((90/$G$35)*(90/$G$35))/2)*(1+(SQRT(1+(4/(H$5*((90/$G$35)*(90/$G$35))))*$H$40*(1-(SQRT(2)*Vin_rms_min*(SIN($Q14)/Vout))))))","v":0.282482269984957},{"$f":"(I$5*((90/$G$35)*(90/$G$35))/2)*(1+(SQRT(1+(4/(I$5*((90/$G$35)*(90/$G$35))))*$I$40*(1-(SQRT(2)*Vin_rms_min*(SIN($Q14)/Vout))))))","v":0.275709340121077},{"$f":"(J$5*((90/$G$35)*(90/$G$35))/2)*(1+(SQRT(1+(4/(J$5*((90/$G$35)*(90/$G$35))))*$J$40*(1-(SQRT(2)*Vin_rms_min*(SIN($Q14)/Vout))))))","v":0.221366889274022},{"$f":"(K$5*((90/$G$35)*(90/$G$35))/2)*(1+(SQRT(1+(4/(K$5*((90/$G$35)*(90/$G$35))))*$K$40*(1-(SQRT(2)*Vin_rms_min*(SIN($Q14)/Vout))))))","v":0.298163788127197},{"$f":"(L$5*((90/$G$35)*(90/$G$35))/2)*(1+(SQRT(1+(4/(L$5*((90/$G$35)*(90/$G$35))))*$L$40*(1-(SQRT(2)*Vin_rms_min*(SIN($Q14)/Vout))))))","v":0.39755171750293},null,{"$f":"R329*ABS(1/(Vout/(SQRT(2)*$C$26*SIN($Q14))))","v":0.008640746158845},{"$f":"S329*ABS(1/(Vout/(SQRT(2)*$C$26*SIN($Q14))))","v":0.00830053683139333},{"$f":"T329*ABS(1/(Vout/(SQRT(2)*$C$26*SIN($Q14))))","v":0.00810151919465962},{"$f":"U329*ABS(1/(Vout/(SQRT(2)*$C$26*SIN($Q14))))","v":0.00650470565026201},{"$f":"V329*ABS(1/(Vout/(SQRT(2)*$C$26*SIN($Q14))))","v":0.00876132687998207},{"$f":"W329*ABS(1/(Vout/(SQRT(2)*$C$26*SIN($Q14))))","v":0.0116817691733094},null,{"$f":"1/(0.0000128*(R329+Y329+$G$40))","v":35006.9304067324},{"$f":"1/(0.0000128*(S329+Z329+$H$40))","v":75828.6942993953},{"$f":"1/(0.0000128*(T329+AA329+$I$40))","v":99470.2315015912},{"$f":"1/(0.0000128*(U329+AB329+$J$40))","v":307976.933812076},{"$f":"1/(0.0000128*(V329+AC329+$K$40))","v":254540.91626934},{"$f":"1/(0.0000128*(W329+AD329+$L$40))","v":190905.687202005}]
[null,null,null,null,null,null,null,null,null,null,null,null,null,null,null,null,null,{"$f":"(G$5*((90/$G$35)*(90/$G$35))/2)*(1+(SQRT(1+(4/(G$5*((90/$G$35)*(90/$G$35))))*$G$40*(1-(SQRT(2)*Vin_rms_min*(SIN($Q15)/Vout))))))","v":0.293626333103265},{"$f":"(H$5*((90/$G$35)*(90/$G$35))/2)*(1+(SQRT(1+(4/(H$5*((90/$G$35)*(90/$G$35))))*$H$40*(1-(SQRT(2)*Vin_rms_min*(SIN($Q15)/Vout))))))","v":0.282106506193011},{"$f":"(I$5*((90/$G$35)*(90/$G$35))/2)*(1+(SQRT(1+(4/(I$5*((90/$G$35)*(90/$G$35))))*$I$40*(1-(SQRT(2)*Vin_rms_min*(SIN($Q15)/Vout))))))","v":0.275367189661355},{"$f":"(J$5*((90/$G$35)*(90/$G$35))/2)*(1+(SQRT(1+(4/(J$5*((90/$G$35)*(90/$G$35))))*$J$40*(1-(SQRT(2)*Vin_rms_min*(SIN($Q15)/Vout))))))","v":0.22130170398901},{"$f":"(K$5*((90/$G$35)*(90/$G$35))/2)*(1+(SQRT(1+(4/(K$5*((90/$G$35)*(90/$G$35))))*$K$40*(1-(SQRT(2)*Vin_rms_min*(SIN($Q15)/Vout))))))","v":0.298163788127197},{"$f":"(L$5*((90/$G$35)*(90/$G$35))/2)*(1+(SQRT(1+(4/(L$5*((90/$G$35)*(90/$G$35))))*$L$40*(1-(SQRT(2)*Vin_rms_min*(SIN($Q15)/Vout))))))","v":0.39755171750293},null,{"$f":"R330*ABS(1/(Vout/(SQRT(2)*$C$26*SIN($Q15))))","v":0.00970374556888838},{"$f":"S330*ABS(1/(Vout/(SQRT(2)*$C$26*SIN($Q15))))","v":0.00932303901524482},{"$f":"T330*ABS(1/(Vout/(SQRT(2)*$C$26*SIN($Q15))))","v":0.00910031848388023},{"$f":"U330*ABS(1/(Vout/(SQRT(2)*$C$26*SIN($Q15))))","v":0.00731356553335958},{"$f":"V330*ABS(1/(Vout/(SQRT(2)*$C$26*SIN($Q15))))","v":0.00985369911228201},{"$f":"W330*ABS(1/(Vout/(SQRT(2)*$C$26*SIN($Q15))))","v":0.0131382654830427},null,{"$f":"1/(0.0000128*(R330+Y330+$G$40))","v":34997.064612627},{"$f":"1/(0.0000128*(S330+Z330+$H$40))","v":75781.1242903298},{"$f":"1/(0.0000128*(T330+AA330+$I$40))","v":99387.1381153252},{"$f":"1/(0.0000128*(U330+AB330+$J$40))","v":307076.694518648},{"$f":"1/(0.0000128*(V330+AC330+$K$40))","v":253638.196649721},{"$f":"1/(0.0000128*(W330+AD330+$L$40))","v":190228.647487291}]
[null,null,null,null,null,null,null,null,null,null,null,null,null,null,null,null,null,{"$f":"(G$5*((90/$G$35)*(90/$G$35))/2)*(1+(SQRT(1+(4/(G$5*((90/$G$35)*(90/$G$35))))*$G$40*(1-(SQRT(2)*Vin_rms_min*(SIN($Q16)/Vout))))))","v":0.293192161492305},{"$f":"(H$5*((90/$G$35)*(90/$G$35))/2)*(1+(SQRT(1+(4/(H$5*((90/$G$35)*(90/$G$35))))*$H$40*(1-(SQRT(2)*Vin_rms_min*(SIN($Q16)/Vout))))))","v":0.281730498620371},{"$f":"(I$5*((90/$G$35)*(90/$G$35))/2)*(1+(SQRT(1+(4/(I$5*((90/$G$35)*(90/$G$35))))*$I$40*(1-(SQRT(2)*Vin_rms_min*(SIN($Q16)/Vout))))))","v":0.27502482900431},{"$f":"(J$5*((90/$G$35)*(90/$G$35))/2)*(1+(SQRT(1+(4/(J$5*((90/$G$35)*(90/$G$35))))*$J$40*(1-(SQRT(2)*Vin_rms_min*(SIN($Q16)/Vout))))))","v":0.221236542678666},{"$f":"(K$5*((90/$G$35)*(90/$G$35))/2)*(1+(SQRT(1+(4/(K$5*((90/$G$35)*(90/$G$35))))*$K$40*(1-(SQRT(2)*Vin_rms_min*(SIN($Q16)/Vout))))))","v":0.298163788127197},{"$f":"(L$5*((90/$G$35)*(90/$G$35))/2)*(1+(SQRT(1+(4/(L$5*((90/$G$35)*(90/$G$35))))*$L$40*(1-(SQRT(2)*Vin_rms_min*(SIN($Q16)/Vout))))))","v":0.39755171750293},null,{"$f":"R331*ABS(1/(Vout/(SQRT(2)*$C$26*SIN($Q16))))","v":0.0107625860175595},{"$f":"S331*ABS(1/(Vout/(SQRT(2)*$C$26*SIN($Q16))))","v":0.0103418478507013},{"$f":"T331*ABS(1/(Vout/(SQRT(2)*$C$26*SIN($Q16))))","v":0.0100956941142547},{"$f":"U331*ABS(1/(Vout/(SQRT(2)*$C$26*SIN($Q16))))","v":0.00812121752739662},{"$f":"V331*ABS(1/(Vout/(SQRT(2)*$C$26*SIN($Q16))))","v":0.0109450859828821},{"$f":"W331*ABS(1/(Vout/(SQRT(2)*$C$26*SIN($Q16))))","v":0.0145934479771761},null,{"$f":"1/(0.0000128*(R331+Y331+$G$40))","v":34987.2741877654},{"$f":"1/(0.0000128*(S331+Z331+$H$40))","v":75733.9029756463},{"$f":"1/(0.0000128*(T331+AA331+$I$40))","v":99304.6421241333},{"$f":"1/(0.0000128*(U331+AB331+$J$40))","v":306183.123479791},{"$f":"1/(0.0000128*(V331+AC331+$K$40))","v":252742.663001575},{"$f":"1/(0.0000128*(W331+AD331+$L$40))","v":189556.997251181}]
[null,null,null,null,null,null,null,null,null,null,null,null,null,null,null,null,null,{"$f":"(G$5*((90/$G$35)*(90/$G$35))/2)*(1+(SQRT(1+(4/(G$5*((90/$G$35)*(90/$G$35))))*$G$40*(1-(SQRT(2)*Vin_rms_min*(SIN($Q17)/Vout))))))","v":0.292757735533149},{"$f":"(H$5*((90/$G$35)*(90/$G$35))/2)*(1+(SQRT(1+(4/(H$5*((90/$G$35)*(90/$G$35))))*$H$40*(1-(SQRT(2)*Vin_rms_min*(SIN($Q17)/Vout))))))","v":0.281354283817086},{"$f":"(I$5*((90/$G$35)*(90/$G$35))/2)*(1+(SQRT(1+(4/(I$5*((90/$G$35)*(90/$G$35))))*$I$40*(1-(SQRT(2)*Vin_rms_min*(SIN($Q17)/Vout))))))","v":0.274682291504337},{"$f":"(J$5*((90/$G$35)*(90/$G$35))/2)*(1+(SQRT(1+(4/(J$5*((90/$G$35)*(90/$G$35))))*$J$40*(1-(SQRT(2)*Vin_rms_min*(SIN($Q17)/Vout))))))","v":0.221171411902781},{"$f":"(K$5*((90/$G$35)*(90/$G$35))/2)*(1+(SQRT(1+(4/(K$5*((90/$G$35)*(90/$G$35))))*$K$40*(1-(SQRT(2)*Vin_rms_min*(SIN($Q17)/Vout))))))","v":0.298163788127197},{"$f":"(L$5*((90/$G$35)*(90/$G$35))/2)*(1+(SQRT(1+(4/(L$5*((90/$G$35)*(90/$G$35))))*$L$40*(1-(SQRT(2)*Vin_rms_min*(SIN($Q17)/Vout))))))","v":0.39755171750293},null,{"$f":"R332*ABS(1/(Vout/(SQRT(2)*$C$26*SIN($Q17))))","v":0.0118171630946009},{"$f":"S332*ABS(1/(Vout/(SQRT(2)*$C$26*SIN($Q17))))","v":0.0113568628790499},{"$f":"T332*ABS(1/(Vout/(SQRT(2)*$C$26*SIN($Q17))))","v":0.0110875479754417},{"$f":"U332*ABS(1/(Vout/(SQRT(2)*$C$26*SIN($Q17))))","v":0.00892758185042859},{"$f":"V332*ABS(1/(Vout/(SQRT(2)*$C$26*SIN($Q17))))","v":0.0120353783540048},{"$f":"W332*ABS(1/(Vout/(SQRT(2)*$C$26*SIN($Q17))))","v":0.016047171138673},null,{"$f":"1/(0.0000128*(R332+Y332+$G$40))","v":34977.5599860107},{"$f":"1/(0.0000128*(S332+Z332+$H$40))","v":75687.0338496728},{"$f":"1/(0.0000128*(T332+AA332+$I$40))","v":99222.7490598545},{"$f":"1/(0.0000128*(U332+AB332+$J$40))","v":305296.237605937},{"$f":"1/(0.0000128*(V332+AC332+$K$40))","v":251854.3195529},{"$f":"1/(0.0000128*(W332+AD332+$L$40))","v":188890.739664675}]
[null,null,null,null,null,null,null,null,null,null,null,null,null,null,null,null,null,{"$f":"(G$5*((90/$G$35)*(90/$G$35))/2)*(1+(SQRT(1+(4/(G$5*((90/$G$35)*(90/$G$35))))*$G$40*(1-(SQRT(2)*Vin_rms_min*(SIN($Q18)/Vout))))))","v":0.292323097555266},{"$f":"(H$5*((90/$G$35)*(90/$G$35))/2)*(1+(SQRT(1+(4/(H$5*((90/$G$35)*(90/$G$35))))*$H$40*(1-(SQRT(2)*Vin_rms_min*(SIN($Q18)/Vout))))))","v":0.280977898522763},{"$f":"(I$5*((90/$G$35)*(90/$G$35))/2)*(1+(SQRT(1+(4/(I$5*((90/$G$35)*(90/$G$35))))*$I$40*(1-(SQRT(2)*Vin_rms_min*(SIN($Q18)/Vout))))))","v":0.274339610684323},{"$f":"(J$5*((90/$G$35)*(90/$G$35))/2)*(1+(SQRT(1+(4/(J$5*((90/$G$35)*(90/$G$35))))*$J$40*(1-(SQRT(2)*Vin_rms_min*(SIN($Q18)/Vout))))))","v":0.221106318228618},{"$f":"(K$5*((90/$G$35)*(90/$G$35))/2)*(1+(SQRT(1+(4/(K$5*((90/$G$35)*(90/$G$35))))*$K$40*(1-(SQRT(2)*Vin_rms_min*(SIN($Q18)/Vout))))))","v":0.298163788127197},{"$f":"(L$5*((90/$G$35)*(90/$G$35))/2)*(1+(SQRT(1+(4/(L$5*((90/$G$35)*(90/$G$35))))*$L$40*(1-(SQRT(2)*Vin_rms_min*(SIN($Q18)/Vout))))))","v":0.39755171750293},null,{"$f":"R333*ABS(1/(Vout/(SQRT(2)*$C$26*SIN($Q18))))","v":0.0128673737645391},{"$f":"S333*ABS(1/(Vout/(SQRT(2)*$C$26*SIN($Q18))))","v":0.0123679848431532},{"$f":"T333*ABS(1/(Vout/(SQRT(2)*$C$26*SIN($Q18))))","v":0.0120757830585931},{"$f":"U333*ABS(1/(Vout/(SQRT(2)*$C$26*SIN($Q18))))","v":0.00973257899270477},{"$f":"V333*ABS(1/(Vout/(SQRT(2)*$C$26*SIN($Q18))))","v":0.0131244671973215},{"$f":"W333*ABS(1/(Vout/(SQRT(2)*$C$26*SIN($Q18))))","v":0.0174992895964287},null,{"$f":"1/(0.0000128*(R333+Y333+$G$40))","v":34967.9228350881},{"$f":"1/(0.0000128*(S333+Z333+$H$40))","v":75640.5202927278},{"$f":"1/(0.0000128*(T333+AA333+$I$40))","v":99141.4642662269},{"$f":"1/(0.0000128*(U333+AB333+$J$40))","v":304416.052460768},{"$f":"1/(0.0000128*(V333+AC333+$K$40))","v":250973.169285023},{"$f":"1/(0.0000128*(W333+AD333+$L$40))","v":188229.876963767}]
[null,null,null,null,null,null,null,null,null,null,null,null,null,null,null,null,null,{"$f":"(G$5*((90/$G$35)*(90/$G$35))/2)*(1+(SQRT(1+(4/(G$5*((90/$G$35)*(90/$G$35))))*$G$40*(1-(SQRT(2)*Vin_rms_min*(SIN($Q19)/Vout))))))","v":0.29188829010996},{"$f":"(H$5*((90/$G$35)*(90/$G$35))/2)*(1+(SQRT(1+(4/(H$5*((90/$G$35)*(90/$G$35))))*$H$40*(1-(SQRT(2)*Vin_rms_min*(SIN($Q19)/Vout))))))","v":0.28060137966456},{"$f":"(I$5*((90/$G$35)*(90/$G$35))/2)*(1+(SQRT(1+(4/(I$5*((90/$G$35)*(90/$G$35))))*$I$40*(1-(SQRT(2)*Vin_rms_min*(SIN($Q19)/Vout))))))","v":0.273996820233737},{"$f":"(J$5*((90/$G$35)*(90/$G$35))/2)*(1+(SQRT(1+(4/(J$5*((90/$G$35)*(90/$G$35))))*$J$40*(1-(SQRT(2)*Vin_rms_min*(SIN($Q19)/Vout))))))","v":0.221041268230272},{"$f":"(K$5*((90/$G$35)*(90/$G$35))/2)*(1+(SQRT(1+(4/(K$5*((90/$G$35)*(90/$G$35))))*$K$40*(1-(SQRT(2)*Vin_rms_min*(SIN($Q19)/Vout))))))","v":0.298163788127197},{"$f":"(L$5*((90/$G$35)*(90/$G$35))/2)*(1+(SQRT(1+(4/(L$5*((90/$G$35)*(90/$G$35))))*$L$40*(1-(SQRT(2)*Vin_rms_min*(SIN($Q19)/Vout))))))","v":0.39755171750293},null,{"$f":"R334*ABS(1/(Vout/(SQRT(2)*$C$26*SIN($Q19))))","v":0.0139131163797724},{"$f":"S334*ABS(1/(Vout/(SQRT(2)*$C$26*SIN($Q19))))","v":0.0133751156996637},{"$f":"T334*ABS(1/(Vout/(SQRT(2)*$C$26*SIN($Q19))))","v":0.0130603034680269},{"$f":"U334*ABS(1/(Vout/(SQRT(2)*$C$26*SIN($Q19))))","v":0.0105361297243603},{"$f":"V334*ABS(1/(Vout/(SQRT(2)*$C$26*SIN($Q19))))","v":0.0142122436048555},{"$f":"W334*ABS(1/(Vout/(SQRT(2)*$C$26*SIN($Q19))))","v":0.0189496581398074},null,{"$f":"1/(0.0000128*(R334+Y334+$G$40))","v":34958.3635365226},{"$f":"1/(0.0000128*(S334+Z334+$H$40))","v":75594.365571388},{"$f":"1/(0.0000128*(T334+AA334+$I$40))","v":99060.7928998351},{"$f":"1/(0.0000128*(U334+AB334+$J$40))","v":303542.582296877},{"$f":"1/(0.0000128*(V334+AC334+$K$40))","v":250099.213972388},{"$f":"1/(0.0000128*(W334+AD334+$L$40))","v":187574.410479291}]
[null,null,null,null,null,null,null,null,null,null,null,null,null,null,null,null,null,{"$f":"(G$5*((90/$G$35)*(90/$G$35))/2)*(1+(SQRT(1+(4/(G$5*((90/$G$35)*(90/$G$35))))*$G$40*(1-(SQRT(2)*Vin_rms_min*(SIN($Q20)/Vout))))))","v":0.29145335596808},{"$f":"(H$5*((90/$G$35)*(90/$G$35))/2)*(1+(SQRT(1+(4/(H$5*((90/$G$35)*(90/$G$35))))*$H$40*(1-(SQRT(2)*Vin_rms_min*(SIN($Q20)/Vout))))))","v":0.280224764355109},{"$f":"(I$5*((90/$G$35)*(90/$G$35))/2)*(1+(SQRT(1+(4/(I$5*((90/$G$35)*(90/$G$35))))*$I$40*(1-(SQRT(2)*Vin_rms_min*(SIN($Q20)/Vout))))))","v":0.273653954006655},{"$f":"(J$5*((90/$G$35)*(90/$G$35))/2)*(1+(SQRT(1+(4/(J$5*((90/$G$35)*(90/$G$35))))*$J$40*(1-(SQRT(2)*Vin_rms_min*(SIN($Q20)/Vout))))))","v":0.220976268488004},{"$f":"(K$5*((90/$G$35)*(90/$G$35))/2)*(1+(SQRT(1+(4/(K$5*((90/$G$35)*(90/$G$35))))*$K$40*(1-(SQRT(2)*Vin_rms_min*(SIN($Q20)/Vout))))))","v":0.298163788127197},{"$f":"(L$5*((90/$G$35)*(90/$G$35))/2)*(1+(SQRT(1+(4/(L$5*((90/$G$35)*(90/$G$35))))*$L$40*(1-(SQRT(2)*Vin_rms_min*(SIN($Q20)/Vout))))))","v":0.39755171750293},null,{"$f":"R335*ABS(1/(Vout/(SQRT(2)*$C$26*SIN($Q20))))","v":0.0149542906931742},{"$f":"S335*ABS(1/(Vout/(SQRT(2)*$C$26*SIN($Q20))))","v":0.0143781586308153},{"$f":"T335*ABS(1/(Vout/(SQRT(2)*$C$26*SIN($Q20))))","v":0.0140410144325126},{"$f":"U335*ABS(1/(Vout/(SQRT(2)*$C$26*SIN($Q20))))","v":0.0113381551030225},{"$f":"V335*ABS(1/(Vout/(SQRT(2)*$C$26*SIN($Q20))))","v":0.0152985987998726},{"$f":"W335*ABS(1/(Vout/(SQRT(2)*$C$26*SIN($Q20))))","v":0.0203981317331634},null,{"$f":"1/(0.0000128*(R335+Y335+$G$40))","v":34948.8828655862},{"$f":"1/(0.0000128*(S335+Z335+$H$40))","v":75548.5728387825},{"$f":"1/(0.0000128*(T335+AA335+$I$40))","v":98980.7399310961},{"$f":"1/(0.0000128*(U335+AB335+$J$40))","v":302675.84009093},{"$f":"1/(0.0000128*(V335+AC335+$K$40))","v":249232.454221618},{"$f":"1/(0.0000128*(W335+AD335+$L$40))","v":186924.340666213}]
[null,null,null,null,null,null,null,null,null,null,null,null,null,null,null,null,null,{"$f":"(G$5*((90/$G$35)*(90/$G$35))/2)*(1+(SQRT(1+(4/(G$5*((90/$G$35)*(90/$G$35))))*$G$40*(1-(SQRT(2)*Vin_rms_min*(SIN($Q21)/Vout))))))","v":0.291018338117646},{"$f":"(H$5*((90/$G$35)*(90/$G$35))/2)*(1+(SQRT(1+(4/(H$5*((90/$G$35)*(90/$G$35))))*$H$40*(1-(SQRT(2)*Vin_rms_min*(SIN($Q21)/Vout))))))","v":0.279848089890366},{"$f":"(I$5*((90/$G$35)*(90/$G$35))/2)*(1+(SQRT(1+(4/(I$5*((90/$G$35)*(90/$G$35))))*$I$40*(1-(SQRT(2)*Vin_rms_min*(SIN($Q21)/Vout))))))","v":0.273311046019721},{"$f":"(J$5*((90/$G$35)*(90/$G$35))/2)*(1+(SQRT(1+(4/(J$5*((90/$G$35)*(90/$G$35))))*$J$40*(1-(SQRT(2)*Vin_rms_min*(SIN($Q21)/Vout))))))","v":0.220911325587588},{"$f":"(K$5*((90/$G$35)*(90/$G$35))/2)*(1+(SQRT(1+(4/(K$5*((90/$G$35)*(90/$G$35))))*$K$40*(1-(SQRT(2)*Vin_rms_min*(SIN($Q21)/Vout))))))","v":0.298163788127197},{"$f":"(L$5*((90/$G$35)*(90/$G$35))/2)*(1+(SQRT(1+(4/(L$5*((90/$G$35)*(90/$G$35))))*$L$40*(1-(SQRT(2)*Vin_rms_min*(SIN($Q21)/Vout))))))","v":0.39755171750293},null,{"$f":"R336*ABS(1/(Vout/(SQRT(2)*$C$26*SIN($Q21))))","v":0.0159907978702067},{"$f":"S336*ABS(1/(Vout/(SQRT(2)*$C$26*SIN($Q21))))","v":0.0153770180557874},{"$f":"T336*ABS(1/(Vout/(SQRT(2)*$C$26*SIN($Q21))))","v":0.0150178223161639},{"$f":"U336*ABS(1/(Vout/(SQRT(2)*$C$26*SIN($Q21))))","v":0.0121385764813298},{"$f":"V336*ABS(1/(Vout/(SQRT(2)*$C$26*SIN($Q21))))","v":0.0163834241477584},{"$f":"W336*ABS(1/(Vout/(SQRT(2)*$C$26*SIN($Q21))))","v":0.0218445655303445},null,{"$f":"1/(0.0000128*(R336+Y336+$G$40))","v":34939.4815712526},{"$f":"1/(0.0000128*(S336+Z336+$H$40))","v":75503.1451349159},{"$f":"1/(0.0000128*(T336+AA336+$I$40))","v":98901.3101452833},{"$f":"1/(0.0000128*(U336+AB336+$J$40))","v":301815.837578333},{"$f":"1/(0.0000128*(V336+AC336+$K$40))","v":248372.889509853},{"$f":"1/(0.0000128*(W336+AD336+$L$40))","v":186279.66713239}]
[null,null,null,null,null,null,null,null,null,null,null,null,null,null,null,null,null,{"$f":"(G$5*((90/$G$35)*(90/$G$35))/2)*(1+(SQRT(1+(4/(G$5*((90/$G$35)*(90/$G$35))))*$G$40*(1-(SQRT(2)*Vin_rms_min*(SIN($Q22)/Vout))))))","v":0.290583279761396},{"$f":"(H$5*((90/$G$35)*(90/$G$35))/2)*(1+(SQRT(1+(4/(H$5*((90/$G$35)*(90/$G$35))))*$H$40*(1-(SQRT(2)*Vin_rms_min*(SIN($Q22)/Vout))))))","v":0.279471393747393},{"$f":"(I$5*((90/$G$35)*(90/$G$35))/2)*(1+(SQRT(1+(4/(I$5*((90/$G$35)*(90/$G$35))))*$I$40*(1-(SQRT(2)*Vin_rms_min*(SIN($Q22)/Vout))))))","v":0.27296813045004},{"$f":"(J$5*((90/$G$35)*(90/$G$35))/2)*(1+(SQRT(1+(4/(J$5*((90/$G$35)*(90/$G$35))))*$J$40*(1-(SQRT(2)*Vin_rms_min*(SIN($Q22)/Vout))))))","v":0.220846446119646},{"$f":"(K$5*((90/$G$35)*(90/$G$35))/2)*(1+(SQRT(1+(4/(K$5*((90/$G$35)*(90/$G$35))))*$K$40*(1-(SQRT(2)*Vin_rms_min*(SIN($Q22)/Vout))))))","v":0.298163788127197},{"$f":"(L$5*((90/$G$35)*(90/$G$35))/2)*(1+(SQRT(1+(4/(L$5*((90/$G$35)*(90/$G$35))))*$L$40*(1-(SQRT(2)*Vin_rms_min*(SIN($Q22)/Vout))))))","v":0.39755171750293},null,{"$f":"R337*ABS(1/(Vout/(SQRT(2)*$C$26*SIN($Q22))))","v":0.0170225405005401},{"$f":"S337*ABS(1/(Vout/(SQRT(2)*$C$26*SIN($Q22))))","v":0.0163715996416371},{"$f":"T337*ABS(1/(Vout/(SQRT(2)*$C$26*SIN($Q22))))","v":0.0159906346289365},{"$f":"U337*ABS(1/(Vout/(SQRT(2)*$C$26*SIN($Q22))))","v":0.0129373155143645},{"$f":"V337*ABS(1/(Vout/(SQRT(2)*$C$26*SIN($Q22))))","v":0.0174666111668823},{"$f":"W337*ABS(1/(Vout/(SQRT(2)*$C$26*SIN($Q22))))","v":0.0232888148891764},null,{"$f":"1/(0.0000128*(R337+Y337+$G$40))","v":34930.160376159},{"$f":"1/(0.0000128*(S337+Z337+$H$40))","v":75458.0853870177},{"$f":"1/(0.0000128*(T337+AA337+$I$40))","v":98822.5081435854},{"$f":"1/(0.0000128*(U337+AB337+$J$40))","v":300962.5852874},{"$f":"1/(0.0000128*(V337+AC337+$K$40))","v":247520.518222357},{"$f":"1/(0.0000128*(W337+AD337+$L$40))","v":185640.388666768}]
[null,null,null,null,null,null,null,null,null,null,null,null,null,null,null,null,null,{"$f":"(G$5*((90/$G$35)*(90/$G$35))/2)*(1+(SQRT(1+(4/(G$5*((90/$G$35)*(90/$G$35))))*$G$40*(1-(SQRT(2)*Vin_rms_min*(SIN($Q23)/Vout))))))","v":0.290148224314244},{"$f":"(H$5*((90/$G$35)*(90/$G$35))/2)*(1+(SQRT(1+(4/(H$5*((90/$G$35)*(90/$G$35))))*$H$40*(1-(SQRT(2)*Vin_rms_min*(SIN($Q23)/Vout))))))","v":0.279094713582066},{"$f":"(I$5*((90/$G$35)*(90/$G$35))/2)*(1+(SQRT(1+(4/(I$5*((90/$G$35)*(90/$G$35))))*$I$40*(1-(SQRT(2)*Vin_rms_min*(SIN($Q23)/Vout))))))","v":0.272625241633012},{"$f":"(J$5*((90/$G$35)*(90/$G$35))/2)*(1+(SQRT(1+(4/(J$5*((90/$G$35)*(90/$G$35))))*$J$40*(1-(SQRT(2)*Vin_rms_min*(SIN($Q23)/Vout))))))","v":0.220781636678972},{"$f":"(K$5*((90/$G$35)*(90/$G$35))/2)*(1+(SQRT(1+(4/(K$5*((90/$G$35)*(90/$G$35))))*$K$40*(1-(SQRT(2)*Vin_rms_min*(SIN($Q23)/Vout))))))","v":0.298163788127197},{"$f":"(L$5*((90/$G$35)*(90/$G$35))/2)*(1+(SQRT(1+(4/(L$5*((90/$G$35)*(90/$G$35))))*$L$40*(1-(SQRT(2)*Vin_rms_min*(SIN($Q23)/Vout))))))","v":0.39755171750293},null,{"$f":"R338*ABS(1/(Vout/(SQRT(2)*$C$26*SIN($Q23))))","v":0.0180494226091707},{"$f":"S338*ABS(1/(Vout/(SQRT(2)*$C$26*SIN($Q23))))","v":0.0173618103137944},{"$f":"T338*ABS(1/(Vout/(SQRT(2)*$C$26*SIN($Q23))))","v":0.0169593600367243},{"$f":"U338*ABS(1/(Vout/(SQRT(2)*$C$26*SIN($Q23))))","v":0.0137342941669953},{"$f":"V338*ABS(1/(Vout/(SQRT(2)*$C$26*SIN($Q23))))","v":0.0185480515394449},{"$f":"W338*ABS(1/(Vout/(SQRT(2)*$C$26*SIN($Q23))))","v":0.0247307353859265},null,{"$f":"1/(0.0000128*(R338+Y338+$G$40))","v":34920.9199765775},{"$f":"1/(0.0000128*(S338+Z338+$H$40))","v":75413.3964099188},{"$f":"1/(0.0000128*(T338+AA338+$I$40))","v":98744.338344203},{"$f":"1/(0.0000128*(U338+AB338+$J$40))","v":300116.092573019},{"$f":"1/(0.0000128*(V338+AC338+$K$40))","v":246675.3376894},{"$f":"1/(0.0000128*(W338+AD338+$L$40))","v":185006.50326705}]
[null,null,null,null,null,null,null,null,null,null,null,null,null,null,null,null,null,{"$f":"(G$5*((90/$G$35)*(90/$G$35))/2)*(1+(SQRT(1+(4/(G$5*((90/$G$35)*(90/$G$35))))*$G$40*(1-(SQRT(2)*Vin_rms_min*(SIN($Q24)/Vout))))))","v":0.289713215400656},{"$f":"(H$5*((90/$G$35)*(90/$G$35))/2)*(1+(SQRT(1+(4/(H$5*((90/$G$35)*(90/$G$35))))*$H$40*(1-(SQRT(2)*Vin_rms_min*(SIN($Q24)/Vout))))))","v":0.278718087226701},{"$f":"(I$5*((90/$G$35)*(90/$G$35))/2)*(1+(SQRT(1+(4/(I$5*((90/$G$35)*(90/$G$35))))*$I$40*(1-(SQRT(2)*Vin_rms_min*(SIN($Q24)/Vout))))))","v":0.272282414060091},{"$f":"(J$5*((90/$G$35)*(90/$G$35))/2)*(1+(SQRT(1+(4/(J$5*((90/$G$35)*(90/$G$35))))*$J$40*(1-(SQRT(2)*Vin_rms_min*(SIN($Q24)/Vout))))))","v":0.220716903863864},{"$f":"(K$5*((90/$G$35)*(90/$G$35))/2)*(1+(SQRT(1+(4/(K$5*((90/$G$35)*(90/$G$35))))*$K$40*(1-(SQRT(2)*Vin_rms_min*(SIN($Q24)/Vout))))))","v":0.298163788127197},{"$f":"(L$5*((90/$G$35)*(90/$G$35))/2)*(1+(SQRT(1+(4/(L$5*((90/$G$35)*(90/$G$35))))*$L$40*(1-(SQRT(2)*Vin_rms_min*(SIN($Q24)/Vout))))))","v":0.39755171750293},null,{"$f":"R339*ABS(1/(Vout/(SQRT(2)*$C$26*SIN($Q24))))","v":0.0190713496670359},{"$f":"S339*ABS(1/(Vout/(SQRT(2)*$C$26*SIN($Q24))))","v":0.0183475582661177},{"$f":"T339*ABS(1/(Vout/(SQRT(2)*$C$26*SIN($Q24))))","v":0.0179239083710535},{"$f":"U339*ABS(1/(Vout/(SQRT(2)*$C$26*SIN($Q24))))","v":0.0145294347211327},{"$f":"V339*ABS(1/(Vout/(SQRT(2)*$C$26*SIN($Q24))))","v":0.0196276371223103},{"$f":"W339*ABS(1/(Vout/(SQRT(2)*$C$26*SIN($Q24))))","v":0.026170182829747},null,{"$f":"1/(0.0000128*(R339+Y339+$G$40))","v":34911.7610423936},{"$f":"1/(0.0000128*(S339+Z339+$H$40))","v":75369.080906455},{"$f":"1/(0.0000128*(T339+AA339+$I$40))","v":98666.8049834797},{"$f":"1/(0.0000128*(U339+AB339+$J$40))","v":299276.367649808},{"$f":"1/(0.0000128*(V339+AC339+$K$40))","v":245837.344222431},{"$f":"1/(0.0000128*(W339+AD339+$L$40))","v":184378.008166823}]
[null,null,null,null,null,null,null,null,null,null,null,null,null,null,null,null,null,{"$f":"(G$5*((90/$G$35)*(90/$G$35))/2)*(1+(SQRT(1+(4/(G$5*((90/$G$35)*(90/$G$35))))*$G$40*(1-(SQRT(2)*Vin_rms_min*(SIN($Q25)/Vout))))))","v":0.289278296851929},{"$f":"(H$5*((90/$G$35)*(90/$G$35))/2)*(1+(SQRT(1+(4/(H$5*((90/$G$35)*(90/$G$35))))*$H$40*(1-(SQRT(2)*Vin_rms_min*(SIN($Q25)/Vout))))))","v":0.278341552687619},{"$f":"(I$5*((90/$G$35)*(90/$G$35))/2)*(1+(SQRT(1+(4/(I$5*((90/$G$35)*(90/$G$35))))*$I$40*(1-(SQRT(2)*Vin_rms_min*(SIN($Q25)/Vout))))))","v":0.271939682376478},{"$f":"(J$5*((90/$G$35)*(90/$G$35))/2)*(1+(SQRT(1+(4/(J$5*((90/$G$35)*(90/$G$35))))*$J$40*(1-(SQRT(2)*Vin_rms_min*(SIN($Q25)/Vout))))))","v":0.22065225427544},{"$f":"(K$5*((90/$G$35)*(90/$G$35))/2)*(1+(SQRT(1+(4/(K$5*((90/$G$35)*(90/$G$35))))*$K$40*(1-(SQRT(2)*Vin_rms_min*(SIN($Q25)/Vout))))))","v":0.298163788127197},{"$f":"(L$5*((90/$G$35)*(90/$G$35))/2)*(1+(SQRT(1+(4/(L$5*((90/$G$35)*(90/$G$35))))*$L$40*(1-(SQRT(2)*Vin_rms_min*(SIN($Q25)/Vout))))))","v":0.39755171750293},null,{"$f":"R340*ABS(1/(Vout/(SQRT(2)*$C$26*SIN($Q25))))","v":0.0200882286011182},{"$f":"S340*ABS(1/(Vout/(SQRT(2)*$C$26*SIN($Q25))))","v":0.0193287529705041},{"$f":"T340*ABS(1/(Vout/(SQRT(2)*$C$26*SIN($Q25))))","v":0.0188841906383678},{"$f":"U340*ABS(1/(Vout/(SQRT(2)*$C$26*SIN($Q25))))","v":0.0153226597828939},{"$f":"V340*ABS(1/(Vout/(SQRT(2)*$C$26*SIN($Q25))))","v":0.0207052599578197},{"$f":"W340*ABS(1/(Vout/(SQRT(2)*$C$26*SIN($Q25))))","v":0.0276070132770929},null,{"$f":"1/(0.0000128*(R340+Y340+$G$40))","v":34902.6842170933},{"$f":"1/(0.0000128*(S340+Z340+$H$40))","v":75325.1414678969},{"$f":"1/(0.0000128*(T340+AA340+$I$40))","v":98589.9121170676},{"$f":"1/(0.0000128*(U340+AB340+$J$40))","v":298443.417624771},{"$f":"1/(0.0000128*(V340+AC340+$K$40))","v":245006.533149527},{"$f":"1/(0.0000128*(W340+AD340+$L$40))","v":183754.899862146}]
[null,null,null,null,null,null,null,null,null,null,null,null,null,null,null,null,null,{"$f":"(G$5*((90/$G$35)*(90/$G$35))/2)*(1+(SQRT(1+(4/(G$5*((90/$G$35)*(90/$G$35))))*$G$40*(1-(SQRT(2)*Vin_rms_min*(SIN($Q26)/Vout))))))","v":0.288843512703385},{"$f":"(H$5*((90/$G$35)*(90/$G$35))/2)*(1+(SQRT(1+(4/(H$5*((90/$G$35)*(90/$G$35))))*$H$40*(1-(SQRT(2)*Vin_rms_min*(SIN($Q26)/Vout))))))","v":0.277965148142614},{"$f":"(I$5*((90/$G$35)*(90/$G$35))/2)*(1+(SQRT(1+(4/(I$5*((90/$G$35)*(90/$G$35))))*$I$40*(1-(SQRT(2)*Vin_rms_min*(SIN($Q26)/Vout))))))","v":0.271597081378747},{"$f":"(J$5*((90/$G$35)*(90/$G$35))/2)*(1+(SQRT(1+(4/(J$5*((90/$G$35)*(90/$G$35))))*$J$40*(1-(SQRT(2)*Vin_rms_min*(SIN($Q26)/Vout))))))","v":0.220587694516956},{"$f":"(K$5*((90/$G$35)*(90/$G$35))/2)*(1+(SQRT(1+(4/(K$5*((90/$G$35)*(90/$G$35))))*$K$40*(1-(SQRT(2)*Vin_rms_min*(SIN($Q26)/Vout))))))","v":0.298163788127197},{"$f":"(L$5*((90/$G$35)*(90/$G$35))/2)*(1+(SQRT(1+(4/(L$5*((90/$G$35)*(90/$G$35))))*$L$40*(1-(SQRT(2)*Vin_rms_min*(SIN($Q26)/Vout))))))","v":0.39755171750293},null,{"$f":"R341*ABS(1/(Vout/(SQRT(2)*$C$26*SIN($Q26))))","v":0.0210999678040362},{"$f":"S341*ABS(1/(Vout/(SQRT(2)*$C$26*SIN($Q26))))","v":0.0203053051860513},{"$f":"T341*ABS(1/(Vout/(SQRT(2)*$C$26*SIN($Q26))))","v":0.0198401190289035},{"$f":"U341*ABS(1/(Vout/(SQRT(2)*$C$26*SIN($Q26))))","v":0.0161138922896772},{"$f":"V341*ABS(1/(Vout/(SQRT(2)*$C$26*SIN($Q26))))","v":0.0217808122845877},{"$f":"W341*ABS(1/(Vout/(SQRT(2)*$C$26*SIN($Q26))))","v":0.0290410830461169},null,{"$f":"1/(0.0000128*(R341+Y341+$G$40))","v":34893.6901177578},{"$f":"1/(0.0000128*(S341+Z341+$H$40))","v":75281.5805744062},{"$f":"1/(0.0000128*(T341+AA341+$I$40))","v":98513.6636211275},{"$f":"1/(0.0000128*(U341+AB341+$J$40))","v":297617.248529432},{"$f":"1/(0.0000128*(V341+AC341+$K$40))","v":244182.898850142},{"$f":"1/(0.0000128*(W341+AD341+$L$40))","v":183137.174137607}]
[null,null,null,null,null,null,null,null,null,null,null,null,null,null,null,null,null,{"$f":"(G$5*((90/$G$35)*(90/$G$35))/2)*(1+(SQRT(1+(4/(G$5*((90/$G$35)*(90/$G$35))))*$G$40*(1-(SQRT(2)*Vin_rms_min*(SIN($Q27)/Vout))))))","v":0.288408907191476},{"$f":"(H$5*((90/$G$35)*(90/$G$35))/2)*(1+(SQRT(1+(4/(H$5*((90/$G$35)*(90/$G$35))))*$H$40*(1-(SQRT(2)*Vin_rms_min*(SIN($Q27)/Vout))))))","v":0.277588911938362},{"$f":"(I$5*((90/$G$35)*(90/$G$35))/2)*(1+(SQRT(1+(4/(I$5*((90/$G$35)*(90/$G$35))))*$I$40*(1-(SQRT(2)*Vin_rms_min*(SIN($Q27)/Vout))))))","v":0.271254646012396},{"$f":"(J$5*((90/$G$35)*(90/$G$35))/2)*(1+(SQRT(1+(4/(J$5*((90/$G$35)*(90/$G$35))))*$J$40*(1-(SQRT(2)*Vin_rms_min*(SIN($Q27)/Vout))))))","v":0.220523231193115},{"$f":"(K$5*((90/$G$35)*(90/$G$35))/2)*(1+(SQRT(1+(4/(K$5*((90/$G$35)*(90/$G$35))))*$K$40*(1-(SQRT(2)*Vin_rms_min*(SIN($Q27)/Vout))))))","v":0.298163788127197},{"$f":"(L$5*((90/$G$35)*(90/$G$35))/2)*(1+(SQRT(1+(4/(L$5*((90/$G$35)*(90/$G$35))))*$L$40*(1-(SQRT(2)*Vin_rms_min*(SIN($Q27)/Vout))))))","v":0.39755171750293},null,{"$f":"R342*ABS(1/(Vout/(SQRT(2)*$C$26*SIN($Q27))))","v":0.0221064771431165},{"$f":"S342*ABS(1/(Vout/(SQRT(2)*$C$26*SIN($Q27))))","v":0.0212771269677671},{"$f":"T342*ABS(1/(Vout/(SQRT(2)*$C$26*SIN($Q27))))","v":0.0207916069251499},{"$f":"U342*ABS(1/(Vout/(SQRT(2)*$C$26*SIN($Q27))))","v":0.0169030555171456},{"$f":"V342*ABS(1/(Vout/(SQRT(2)*$C$26*SIN($Q27))))","v":0.0228541865482778},{"$f":"W342*ABS(1/(Vout/(SQRT(2)*$C$26*SIN($Q27))))","v":0.030472248731037},null,{"$f":"1/(0.0000128*(R342+Y342+$G$40))","v":34884.779335067},{"$f":"1/(0.0000128*(S342+Z342+$H$40))","v":75238.4005955174},{"$f":"1/(0.0000128*(T342+AA342+$I$40))","v":98438.0631935622},{"$f":"1/(0.0000128*(U342+AB342+$J$40))","v":296797.865351472},{"$f":"1/(0.0000128*(V342+AC342+$K$40))","v":243366.434789137},{"$f":"1/(0.0000128*(W342+AD342+$L$40))","v":182524.826091853}]
[null,null,null,null,null,null,null,null,null,null,null,null,null,null,null,null,null,{"$f":"(G$5*((90/$G$35)*(90/$G$35))/2)*(1+(SQRT(1+(4/(G$5*((90/$G$35)*(90/$G$35))))*$G$40*(1-(SQRT(2)*Vin_rms_min*(SIN($Q28)/Vout))))))","v":0.287974524750788},{"$f":"(H$5*((90/$G$35)*(90/$G$35))/2)*(1+(SQRT(1+(4/(H$5*((90/$G$35)*(90/$G$35))))*$H$40*(1-(SQRT(2)*Vin_rms_min*(SIN($Q28)/Vout))))))","v":0.277212882587731},{"$f":"(I$5*((90/$G$35)*(90/$G$35))/2)*(1+(SQRT(1+(4/(I$5*((90/$G$35)*(90/$G$35))))*$I$40*(1-(SQRT(2)*Vin_rms_min*(SIN($Q28)/Vout))))))","v":0.270912411369326},{"$f":"(J$5*((90/$G$35)*(90/$G$35))/2)*(1+(SQRT(1+(4/(J$5*((90/$G$35)*(90/$G$35))))*$J$40*(1-(SQRT(2)*Vin_rms_min*(SIN($Q28)/Vout))))))","v":0.220458870909378},{"$f":"(K$5*((90/$G$35)*(90/$G$35))/2)*(1+(SQRT(1+(4/(K$5*((90/$G$35)*(90/$G$35))))*$K$40*(1-(SQRT(2)*Vin_rms_min*(SIN($Q28)/Vout))))))","v":0.298163788127197},{"$f":"(L$5*((90/$G$35)*(90/$G$35))/2)*(1+(SQRT(1+(4/(L$5*((90/$G$35)*(90/$G$35))))*$L$40*(1-(SQRT(2)*Vin_rms_min*(SIN($Q28)/Vout))))))","v":0.39755171750293},null,{"$f":"R343*ABS(1/(Vout/(SQRT(2)*$C$26*SIN($Q28))))","v":0.0231076679689431},{"$f":"S343*ABS(1/(Vout/(SQRT(2)*$C$26*SIN($Q28))))","v":0.0222441316748223},{"$f":"T343*ABS(1/(Vout/(SQRT(2)*$C$26*SIN($Q28))))","v":0.0217385689098909},{"$f":"U343*ABS(1/(Vout/(SQRT(2)*$C$26*SIN($Q28))))","v":0.0176900730861196},{"$f":"V343*ABS(1/(Vout/(SQRT(2)*$C$26*SIN($Q28))))","v":0.0239252754123582},{"$f":"W343*ABS(1/(Vout/(SQRT(2)*$C$26*SIN($Q28))))","v":0.0319003672164776},null,{"$f":"1/(0.0000128*(R343+Y343+$G$40))","v":34875.9524333108},{"$f":"1/(0.0000128*(S343+Z343+$H$40))","v":75195.6037906464},{"$f":"1/(0.0000128*(T343+AA343+$I$40))","v":98363.1143552827},{"$f":"1/(0.0000128*(U343+AB343+$J$40))","v":295985.272065845},{"$f":"1/(0.0000128*(V343+AC343+$K$40))","v":242557.133550129},{"$f":"1/(0.0000128*(W343+AD343+$L$40))","v":181917.850162597}]
[null,null,null,null,null,null,null,null,null,null,null,null,null,null,null,null,null,{"$f":"(G$5*((90/$G$35)*(90/$G$35))/2)*(1+(SQRT(1+(4/(G$5*((90/$G$35)*(90/$G$35))))*$G$40*(1-(SQRT(2)*Vin_rms_min*(SIN($Q29)/Vout))))))","v":0.287540410010952},{"$f":"(H$5*((90/$G$35)*(90/$G$35))/2)*(1+(SQRT(1+(4/(H$5*((90/$G$35)*(90/$G$35))))*$H$40*(1-(SQRT(2)*Vin_rms_min*(SIN($Q29)/Vout))))))","v":0.276837098767024},{"$f":"(I$5*((90/$G$35)*(90/$G$35))/2)*(1+(SQRT(1+(4/(I$5*((90/$G$35)*(90/$G$35))))*$I$40*(1-(SQRT(2)*Vin_rms_min*(SIN($Q29)/Vout))))))","v":0.270570412685248},{"$f":"(J$5*((90/$G$35)*(90/$G$35))/2)*(1+(SQRT(1+(4/(J$5*((90/$G$35)*(90/$G$35))))*$J$40*(1-(SQRT(2)*Vin_rms_min*(SIN($Q29)/Vout))))))","v":0.220394620271262},{"$f":"(K$5*((90/$G$35)*(90/$G$35))/2)*(1+(SQRT(1+(4/(K$5*((90/$G$35)*(90/$G$35))))*$K$40*(1-(SQRT(2)*Vin_rms_min*(SIN($Q29)/Vout))))))","v":0.298163788127197},{"$f":"(L$5*((90/$G$35)*(90/$G$35))/2)*(1+(SQRT(1+(4/(L$5*((90/$G$35)*(90/$G$35))))*$L$40*(1-(SQRT(2)*Vin_rms_min*(SIN($Q29)/Vout))))))","v":0.39755171750293},null,{"$f":"R344*ABS(1/(Vout/(SQRT(2)*$C$26*SIN($Q29))))","v":0.0241034531233789},{"$f":"S344*ABS(1/(Vout/(SQRT(2)*$C$26*SIN($Q29))))","v":0.0232062339783442},{"$f":"T344*ABS(1/(Vout/(SQRT(2)*$C$26*SIN($Q29))))","v":0.0226809207738271},{"$f":"U344*ABS(1/(Vout/(SQRT(2)*$C$26*SIN($Q29))))","v":0.0184748689693769},{"$f":"V344*ABS(1/(Vout/(SQRT(2)*$C$26*SIN($Q29))))","v":0.024993971768835},{"$f":"W344*ABS(1/(Vout/(SQRT(2)*$C$26*SIN($Q29))))","v":0.03332529569178},null,{"$f":"1/(0.0000128*(R344+Y344+$G$40))","v":34867.2099504089},{"$f":"1/(0.0000128*(S344+Z344+$H$40))","v":75153.1923096239},{"$f":"1/(0.0000128*(T344+AA344+$I$40))","v":98288.8204515071},{"$f":"1/(0.0000128*(U344+AB344+$J$40))","v":295179.471665389},{"$f":"1/(0.0000128*(V344+AC344+$K$40))","v":241754.986868131},{"$f":"1/(0.0000128*(W344+AD344+$L$40))","v":181316.240151098}]
[null,null,null,null,null,null,null,null,null,null,null,null,null,null,null,null,null,{"$f":"(G$5*((90/$G$35)*(90/$G$35))/2)*(1+(SQRT(1+(4/(G$5*((90/$G$35)*(90/$G$35))))*$G$40*(1-(SQRT(2)*Vin_rms_min*(SIN($Q30)/Vout))))))","v":0.28710660779346},{"$f":"(H$5*((90/$G$35)*(90/$G$35))/2)*(1+(SQRT(1+(4/(H$5*((90/$G$35)*(90/$G$35))))*$H$40*(1-(SQRT(2)*Vin_rms_min*(SIN($Q30)/Vout))))))","v":0.276461599313127},{"$f":"(I$5*((90/$G$35)*(90/$G$35))/2)*(1+(SQRT(1+(4/(I$5*((90/$G$35)*(90/$G$35))))*$I$40*(1-(SQRT(2)*Vin_rms_min*(SIN($Q30)/Vout))))))","v":0.270228685337014},{"$f":"(J$5*((90/$G$35)*(90/$G$35))/2)*(1+(SQRT(1+(4/(J$5*((90/$G$35)*(90/$G$35))))*$J$40*(1-(SQRT(2)*Vin_rms_min*(SIN($Q30)/Vout))))))","v":0.220330485883637},{"$f":"(K$5*((90/$G$35)*(90/$G$35))/2)*(1+(SQRT(1+(4/(K$5*((90/$G$35)*(90/$G$35))))*$K$40*(1-(SQRT(2)*Vin_rms_min*(SIN($Q30)/Vout))))))","v":0.298163788127197},{"$f":"(L$5*((90/$G$35)*(90/$G$35))/2)*(1+(SQRT(1+(4/(L$5*((90/$G$35)*(90/$G$35))))*$L$40*(1-(SQRT(2)*Vin_rms_min*(SIN($Q30)/Vout))))))","v":0.39755171750293},null,{"$f":"R345*ABS(1/(Vout/(SQRT(2)*$C$26*SIN($Q30))))","v":0.0250937469470575},{"$f":"S345*ABS(1/(Vout/(SQRT(2)*$C$26*SIN($Q30))))","v":0.0241633498687467},{"$f":"T345*ABS(1/(Vout/(SQRT(2)*$C$26*SIN($Q30))))","v":0.0236185795227717},{"$f":"U345*ABS(1/(Vout/(SQRT(2)*$C$26*SIN($Q30))))","v":0.0192573674983602},{"$f":"V345*ABS(1/(Vout/(SQRT(2)*$C$26*SIN($Q30))))","v":0.0260601687489632},{"$f":"W345*ABS(1/(Vout/(SQRT(2)*$C$26*SIN($Q30))))","v":0.0347468916652843},null,{"$f":"1/(0.0000128*(R345+Y345+$G$40))","v":34858.5523979382},{"$f":"1/(0.0000128*(S345+Z345+$H$40))","v":75111.1681932545},{"$f":"1/(0.0000128*(T345+AA345+$I$40))","v":98215.184653091},{"$f":"1/(0.0000128*(U345+AB345+$J$40))","v":294380.46619092},{"$f":"1/(0.0000128*(V345+AC345+$K$40))","v":240959.985661517},{"$f":"1/(0.0000128*(W345+AD345+$L$40))","v":180719.989246138}]
[null,null,null,null,null,null,null,null,null,null,null,null,null,null,null,null,null,{"$f":"(G$5*((90/$G$35)*(90/$G$35))/2)*(1+(SQRT(1+(4/(G$5*((90/$G$35)*(90/$G$35))))*$G$40*(1-(SQRT(2)*Vin_rms_min*(SIN($Q31)/Vout))))))","v":0.286673163108377},{"$f":"(H$5*((90/$G$35)*(90/$G$35))/2)*(1+(SQRT(1+(4/(H$5*((90/$G$35)*(90/$G$35))))*$H$40*(1-(SQRT(2)*Vin_rms_min*(SIN($Q31)/Vout))))))","v":0.276086423220583},{"$f":"(I$5*((90/$G$35)*(90/$G$35))/2)*(1+(SQRT(1+(4/(I$5*((90/$G$35)*(90/$G$35))))*$I$40*(1-(SQRT(2)*Vin_rms_min*(SIN($Q31)/Vout))))))","v":0.269887264839873},{"$f":"(J$5*((90/$G$35)*(90/$G$35))/2)*(1+(SQRT(1+(4/(J$5*((90/$G$35)*(90/$G$35))))*$J$40*(1-(SQRT(2)*Vin_rms_min*(SIN($Q31)/Vout))))))","v":0.220266474350024},{"$f":"(K$5*((90/$G$35)*(90/$G$35))/2)*(1+(SQRT(1+(4/(K$5*((90/$G$35)*(90/$G$35))))*$K$40*(1-(SQRT(2)*Vin_rms_min*(SIN($Q31)/Vout))))))","v":0.298163788127197},{"$f":"(L$5*((90/$G$35)*(90/$G$35))/2)*(1+(SQRT(1+(4/(L$5*((90/$G$35)*(90/$G$35))))*$L$40*(1-(SQRT(2)*Vin_rms_min*(SIN($Q31)/Vout))))))","v":0.39755171750293},null,{"$f":"R346*ABS(1/(Vout/(SQRT(2)*$C$26*SIN($Q31))))","v":0.0260784652863383},{"$f":"S346*ABS(1/(Vout/(SQRT(2)*$C$26*SIN($Q31))))","v":0.0251153966625936},{"$f":"T346*ABS(1/(Vout/(SQRT(2)*$C$26*SIN($Q31))))","v":0.0245514633844209},{"$f":"U346*ABS(1/(Vout/(SQRT(2)*$C$26*SIN($Q31))))","v":0.0200374933697914},{"$f":"V346*ABS(1/(Vout/(SQRT(2)*$C$26*SIN($Q31))))","v":0.0271237597339332},{"$f":"W346*ABS(1/(Vout/(SQRT(2)*$C$26*SIN($Q31))))","v":0.0361650129785776},null,{"$f":"1/(0.0000128*(R346+Y346+$G$40))","v":34849.9802611693},{"$f":"1/(0.0000128*(S346+Z346+$H$40))","v":75069.5333739014},{"$f":"1/(0.0000128*(T346+AA346+$I$40))","v":98142.2099578895},{"$f":"1/(0.0000128*(U346+AB346+$J$40))","v":293588.256760827},{"$f":"1/(0.0000128*(V346+AC346+$K$40))","v":240172.1200633},{"$f":"1/(0.0000128*(W346+AD346+$L$40))","v":180129.090047475}]
[null,null,null,null,null,null,null,null,null,null,null,null,null,null,null,null,null,{"$f":"(G$5*((90/$G$35)*(90/$G$35))/2)*(1+(SQRT(1+(4/(G$5*((90/$G$35)*(90/$G$35))))*$G$40*(1-(SQRT(2)*Vin_rms_min*(SIN($Q32)/Vout))))))","v":0.286240121150956},{"$f":"(H$5*((90/$G$35)*(90/$G$35))/2)*(1+(SQRT(1+(4/(H$5*((90/$G$35)*(90/$G$35))))*$H$40*(1-(SQRT(2)*Vin_rms_min*(SIN($Q32)/Vout))))))","v":0.275711609638569},{"$f":"(I$5*((90/$G$35)*(90/$G$35))/2)*(1+(SQRT(1+(4/(I$5*((90/$G$35)*(90/$G$35))))*$I$40*(1-(SQRT(2)*Vin_rms_min*(SIN($Q32)/Vout))))))","v":0.269546186844648},{"$f":"(J$5*((90/$G$35)*(90/$G$35))/2)*(1+(SQRT(1+(4/(J$5*((90/$G$35)*(90/$G$35))))*$J$40*(1-(SQRT(2)*Vin_rms_min*(SIN($Q32)/Vout))))))","v":0.220202592271879},{"$f":"(K$5*((90/$G$35)*(90/$G$35))/2)*(1+(SQRT(1+(4/(K$5*((90/$G$35)*(90/$G$35))))*$K$40*(1-(SQRT(2)*Vin_rms_min*(SIN($Q32)/Vout))))))","v":0.298163788127197},{"$f":"(L$5*((90/$G$35)*(90/$G$35))/2)*(1+(SQRT(1+(4/(L$5*((90/$G$35)*(90/$G$35))))*$L$40*(1-(SQRT(2)*Vin_rms_min*(SIN($Q32)/Vout))))))","v":0.39755171750293},null,{"$f":"R347*ABS(1/(Vout/(SQRT(2)*$C$26*SIN($Q32))))","v":0.0270575254997243},{"$f":"S347*ABS(1/(Vout/(SQRT(2)*$C$26*SIN($Q32))))","v":0.026062293008992},{"$f":"T347*ABS(1/(Vout/(SQRT(2)*$C$26*SIN($Q32))))","v":0.0254794918146929},{"$f":"U347*ABS(1/(Vout/(SQRT(2)*$C$26*SIN($Q32))))","v":0.0208151716521933},{"$f":"V347*ABS(1/(Vout/(SQRT(2)*$C$26*SIN($Q32))))","v":0.0281846383655329},{"$f":"W347*ABS(1/(Vout/(SQRT(2)*$C$26*SIN($Q32))))","v":0.0375795178207105},null,{"$f":"1/(0.0000128*(R347+Y347+$G$40))","v":34841.4939991108},{"$f":"1/(0.0000128*(S347+Z347+$H$40))","v":75028.2896760958},{"$f":"1/(0.0000128*(T347+AA347+$I$40))","v":98069.8991921504},{"$f":"1/(0.0000128*(U347+AB347+$J$40))","v":292802.843600142},{"$f":"1/(0.0000128*(V347+AC347+$K$40))","v":239391.379451742},{"$f":"1/(0.0000128*(W347+AD347+$L$40))","v":179543.534588806}]
[null,null,null,null,null,null,null,null,null,null,null,null,null,null,null,null,null,{"$f":"(G$5*((90/$G$35)*(90/$G$35))/2)*(1+(SQRT(1+(4/(G$5*((90/$G$35)*(90/$G$35))))*$G$40*(1-(SQRT(2)*Vin_rms_min*(SIN($Q33)/Vout))))))","v":0.285807527298151},{"$f":"(H$5*((90/$G$35)*(90/$G$35))/2)*(1+(SQRT(1+(4/(H$5*((90/$G$35)*(90/$G$35))))*$H$40*(1-(SQRT(2)*Vin_rms_min*(SIN($Q33)/Vout))))))","v":0.275337197867794},{"$f":"(I$5*((90/$G$35)*(90/$G$35))/2)*(1+(SQRT(1+(4/(I$5*((90/$G$35)*(90/$G$35))))*$I$40*(1-(SQRT(2)*Vin_rms_min*(SIN($Q33)/Vout))))))","v":0.269205487134836},{"$f":"(J$5*((90/$G$35)*(90/$G$35))/2)*(1+(SQRT(1+(4/(J$5*((90/$G$35)*(90/$G$35))))*$J$40*(1-(SQRT(2)*Vin_rms_min*(SIN($Q33)/Vout))))))","v":0.220138846247882},{"$f":"(K$5*((90/$G$35)*(90/$G$35))/2)*(1+(SQRT(1+(4/(K$5*((90/$G$35)*(90/$G$35))))*$K$40*(1-(SQRT(2)*Vin_rms_min*(SIN($Q33)/Vout))))))","v":0.298163788127197},{"$f":"(L$5*((90/$G$35)*(90/$G$35))/2)*(1+(SQRT(1+(4/(L$5*((90/$G$35)*(90/$G$35))))*$L$40*(1-(SQRT(2)*Vin_rms_min*(SIN($Q33)/Vout))))))","v":0.39755171750293},null,{"$f":"R348*ABS(1/(Vout/(SQRT(2)*$C$26*SIN($Q33))))","v":0.0280308464637361},{"$f":"S348*ABS(1/(Vout/(SQRT(2)*$C$26*SIN($Q33))))","v":0.0270039588955129},{"$f":"T348*ABS(1/(Vout/(SQRT(2)*$C$26*SIN($Q33))))","v":0.0264025855036348},{"$f":"U348*ABS(1/(Vout/(SQRT(2)*$C$26*SIN($Q33))))","v":0.0215903277923159},{"$f":"V348*ABS(1/(Vout/(SQRT(2)*$C$26*SIN($Q33))))","v":0.0292426985567831},{"$f":"W348*ABS(1/(Vout/(SQRT(2)*$C$26*SIN($Q33))))","v":0.0389902647423775},null,{"$f":"1/(0.0000128*(R348+Y348+$G$40))","v":34833.0940445618},{"$f":"1/(0.0000128*(S348+Z348+$H$40))","v":74987.4388171719},{"$f":"1/(0.0000128*(T348+AA348+$I$40))","v":97998.2550119374},{"$f":"1/(0.0000128*(U348+AB348+$J$40))","v":292024.226069121},{"$f":"1/(0.0000128*(V348+AC348+$K$40))","v":238617.752480292},{"$f":"1/(0.0000128*(W348+AD348+$L$40))","v":178963.314360219}]
[null,null,null,null,null,null,null,null,null,null,null,null,null,null,null,null,null,{"$f":"(G$5*((90/$G$35)*(90/$G$35))/2)*(1+(SQRT(1+(4/(G$5*((90/$G$35)*(90/$G$35))))*$G$40*(1-(SQRT(2)*Vin_rms_min*(SIN($Q34)/Vout))))))","v":0.28537542710502},{"$f":"(H$5*((90/$G$35)*(90/$G$35))/2)*(1+(SQRT(1+(4/(H$5*((90/$G$35)*(90/$G$35))))*$H$40*(1-(SQRT(2)*Vin_rms_min*(SIN($Q34)/Vout))))))","v":0.274963227357304},{"$f":"(I$5*((90/$G$35)*(90/$G$35))/2)*(1+(SQRT(1+(4/(I$5*((90/$G$35)*(90/$G$35))))*$I$40*(1-(SQRT(2)*Vin_rms_min*(SIN($Q34)/Vout))))))","v":0.268865201623629},{"$f":"(J$5*((90/$G$35)*(90/$G$35))/2)*(1+(SQRT(1+(4/(J$5*((90/$G$35)*(90/$G$35))))*$J$40*(1-(SQRT(2)*Vin_rms_min*(SIN($Q34)/Vout))))))","v":0.220075242873211},{"$f":"(K$5*((90/$G$35)*(90/$G$35))/2)*(1+(SQRT(1+(4/(K$5*((90/$G$35)*(90/$G$35))))*$K$40*(1-(SQRT(2)*Vin_rms_min*(SIN($Q34)/Vout))))))","v":0.298163788127197},{"$f":"(L$5*((90/$G$35)*(90/$G$35))/2)*(1+(SQRT(1+(4/(L$5*((90/$G$35)*(90/$G$35))))*$L$40*(1-(SQRT(2)*Vin_rms_min*(SIN($Q34)/Vout))))))","v":0.39755171750293},null,{"$f":"R349*ABS(1/(Vout/(SQRT(2)*$C$26*SIN($Q34))))","v":0.0289983485782416},{"$f":"S349*ABS(1/(Vout/(SQRT(2)*$C$26*SIN($Q34))))","v":0.0279403156536357},{"$f":"T349*ABS(1/(Vout/(SQRT(2)*$C$26*SIN($Q34))))","v":0.0273206663808933},{"$f":"U349*ABS(1/(Vout/(SQRT(2)*$C$26*SIN($Q34))))","v":0.0223628876214699},{"$f":"V349*ABS(1/(Vout/(SQRT(2)*$C$26*SIN($Q34))))","v":0.0302978345025465},{"$f":"W349*ABS(1/(Vout/(SQRT(2)*$C$26*SIN($Q34))))","v":0.0403971126700621},null,{"$f":"1/(0.0000128*(R349+Y349+$G$40))","v":34824.7808041732},{"$f":"1/(0.0000128*(S349+Z349+$H$40))","v":74946.9824079254},{"$f":"1/(0.0000128*(T349+AA349+$I$40))","v":97927.2799045836},{"$f":"1/(0.0000128*(U349+AB349+$J$40))","v":291252.402691307},{"$f":"1/(0.0000128*(V349+AC349+$K$40))","v":237851.227106875},{"$f":"1/(0.0000128*(W349+AD349+$L$40))","v":178388.420330157}]
[null,null,null,null,null,null,null,null,null,null,null,null,null,null,null,null,null,{"$f":"(G$5*((90/$G$35)*(90/$G$35))/2)*(1+(SQRT(1+(4/(G$5*((90/$G$35)*(90/$G$35))))*$G$40*(1-(SQRT(2)*Vin_rms_min*(SIN($Q35)/Vout))))))","v":0.284943866301028},{"$f":"(H$5*((90/$G$35)*(90/$G$35))/2)*(1+(SQRT(1+(4/(H$5*((90/$G$35)*(90/$G$35))))*$H$40*(1-(SQRT(2)*Vin_rms_min*(SIN($Q35)/Vout))))))","v":0.274589737701196},{"$f":"(I$5*((90/$G$35)*(90/$G$35))/2)*(1+(SQRT(1+(4/(I$5*((90/$G$35)*(90/$G$35))))*$I$40*(1-(SQRT(2)*Vin_rms_min*(SIN($Q35)/Vout))))))","v":0.268525366350849},{"$f":"(J$5*((90/$G$35)*(90/$G$35))/2)*(1+(SQRT(1+(4/(J$5*((90/$G$35)*(90/$G$35))))*$J$40*(1-(SQRT(2)*Vin_rms_min*(SIN($Q35)/Vout))))))","v":0.220011788738826},{"$f":"(K$5*((90/$G$35)*(90/$G$35))/2)*(1+(SQRT(1+(4/(K$5*((90/$G$35)*(90/$G$35))))*$K$40*(1-(SQRT(2)*Vin_rms_min*(SIN($Q35)/Vout))))))","v":0.298163788127197},{"$f":"(L$5*((90/$G$35)*(90/$G$35))/2)*(1+(SQRT(1+(4/(L$5*((90/$G$35)*(90/$G$35))))*$L$40*(1-(SQRT(2)*Vin_rms_min*(SIN($Q35)/Vout))))))","v":0.39755171750293},null,{"$f":"R350*ABS(1/(Vout/(SQRT(2)*$C$26*SIN($Q35))))","v":0.0299599537712353},{"$f":"S350*ABS(1/(Vout/(SQRT(2)*$C$26*SIN($Q35))))","v":0.0288712859637147},{"$f":"T350*ABS(1/(Vout/(SQRT(2)*$C$26*SIN($Q35))))","v":0.0282336576207482},{"$f":"U350*ABS(1/(Vout/(SQRT(2)*$C$26*SIN($Q35))))","v":0.0231327773617643},{"$f":"V350*ABS(1/(Vout/(SQRT(2)*$C$26*SIN($Q35))))","v":0.0313499406901078},{"$f":"W350*ABS(1/(Vout/(SQRT(2)*$C$26*SIN($Q35))))","v":0.0417999209201437},null,{"$f":"1/(0.0000128*(R350+Y350+$G$40))","v":34816.5546585165},{"$f":"1/(0.0000128*(S350+Z350+$H$40))","v":74906.9219532987},{"$f":"1/(0.0000128*(T350+AA350+$I$40))","v":97856.9761901751},{"$f":"1/(0.0000128*(U350+AB350+$J$40))","v":290487.371181092},{"$f":"1/(0.0000128*(V350+AC350+$K$40))","v":237091.790622525},{"$f":"1/(0.0000128*(W350+AD350+$L$40))","v":177818.842966894}]
[null,null,null,null,null,null,null,null,null,null,null,null,null,null,null,null,null,{"$f":"(G$5*((90/$G$35)*(90/$G$35))/2)*(1+(SQRT(1+(4/(G$5*((90/$G$35)*(90/$G$35))))*$G$40*(1-(SQRT(2)*Vin_rms_min*(SIN($Q36)/Vout))))))","v":0.284512890786237},{"$f":"(H$5*((90/$G$35)*(90/$G$35))/2)*(1+(SQRT(1+(4/(H$5*((90/$G$35)*(90/$G$35))))*$H$40*(1-(SQRT(2)*Vin_rms_min*(SIN($Q36)/Vout))))))","v":0.274216768635246},{"$f":"(I$5*((90/$G$35)*(90/$G$35))/2)*(1+(SQRT(1+(4/(I$5*((90/$G$35)*(90/$G$35))))*$I$40*(1-(SQRT(2)*Vin_rms_min*(SIN($Q36)/Vout))))))","v":0.268186017479811},{"$f":"(J$5*((90/$G$35)*(90/$G$35))/2)*(1+(SQRT(1+(4/(J$5*((90/$G$35)*(90/$G$35))))*$J$40*(1-(SQRT(2)*Vin_rms_min*(SIN($Q36)/Vout))))))","v":0.219948490430736},{"$f":"(K$5*((90/$G$35)*(90/$G$35))/2)*(1+(SQRT(1+(4/(K$5*((90/$G$35)*(90/$G$35))))*$K$40*(1-(SQRT(2)*Vin_rms_min*(SIN($Q36)/Vout))))))","v":0.298163788127197},{"$f":"(L$5*((90/$G$35)*(90/$G$35))/2)*(1+(SQRT(1+(4/(L$5*((90/$G$35)*(90/$G$35))))*$L$40*(1-(SQRT(2)*Vin_rms_min*(SIN($Q36)/Vout))))))","v":0.39755171750293},null,{"$f":"R351*ABS(1/(Vout/(SQRT(2)*$C$26*SIN($Q36))))","v":0.0309155855030661},{"$f":"S351*ABS(1/(Vout/(SQRT(2)*$C$26*SIN($Q36))))","v":0.0297967938594631},{"$f":"T351*ABS(1/(Vout/(SQRT(2)*$C$26*SIN($Q36))))","v":0.0291414836467051},{"$f":"U351*ABS(1/(Vout/(SQRT(2)*$C$26*SIN($Q36))))","v":0.02389992363225},{"$f":"V351*ABS(1/(Vout/(SQRT(2)*$C$26*SIN($Q36))))","v":0.0323989119097249},{"$f":"W351*ABS(1/(Vout/(SQRT(2)*$C$26*SIN($Q36))))","v":0.0431985492129666},null,{"$f":"1/(0.0000128*(R351+Y351+$G$40))","v":34808.4159621622},{"$f":"1/(0.0000128*(S351+Z351+$H$40))","v":74867.2588530886},{"$f":"1/(0.0000128*(T351+AA351+$I$40))","v":97787.3460230633},{"$f":"1/(0.0000128*(U351+AB351+$J$40))","v":289729.128470791},{"$f":"1/(0.0000128*(V351+AC351+$K$40))","v":236339.429679373},{"$f":"1/(0.0000128*(W351+AD351+$L$40))","v":177254.57225953}]
[null,null,null,null,null,null,null,null,null,null,null,null,null,null,null,null,null,{"$f":"(G$5*((90/$G$35)*(90/$G$35))/2)*(1+(SQRT(1+(4/(G$5*((90/$G$35)*(90/$G$35))))*$G$40*(1-(SQRT(2)*Vin_rms_min*(SIN($Q37)/Vout))))))","v":0.284082546627392},{"$f":"(H$5*((90/$G$35)*(90/$G$35))/2)*(1+(SQRT(1+(4/(H$5*((90/$G$35)*(90/$G$35))))*$H$40*(1-(SQRT(2)*Vin_rms_min*(SIN($Q37)/Vout))))))","v":0.273844360033431},{"$f":"(I$5*((90/$G$35)*(90/$G$35))/2)*(1+(SQRT(1+(4/(I$5*((90/$G$35)*(90/$G$35))))*$I$40*(1-(SQRT(2)*Vin_rms_min*(SIN($Q37)/Vout))))))","v":0.267847191294093},{"$f":"(J$5*((90/$G$35)*(90/$G$35))/2)*(1+(SQRT(1+(4/(J$5*((90/$G$35)*(90/$G$35))))*$J$40*(1-(SQRT(2)*Vin_rms_min*(SIN($Q37)/Vout))))))","v":0.219885354529269},{"$f":"(K$5*((90/$G$35)*(90/$G$35))/2)*(1+(SQRT(1+(4/(K$5*((90/$G$35)*(90/$G$35))))*$K$40*(1-(SQRT(2)*Vin_rms_min*(SIN($Q37)/Vout))))))","v":0.298163788127197},{"$f":"(L$5*((90/$G$35)*(90/$G$35))/2)*(1+(SQRT(1+(4/(L$5*((90/$G$35)*(90/$G$35))))*$L$40*(1-(SQRT(2)*Vin_rms_min*(SIN($Q37)/Vout))))))","v":0.39755171750293},null,{"$f":"R352*ABS(1/(Vout/(SQRT(2)*$C$26*SIN($Q37))))","v":0.0318651687701101},{"$f":"S352*ABS(1/(Vout/(SQRT(2)*$C$26*SIN($Q37))))","v":0.0307167647319544},{"$f":"T352*ABS(1/(Vout/(SQRT(2)*$C$26*SIN($Q37))))","v":0.0300440701356457},{"$f":"U352*ABS(1/(Vout/(SQRT(2)*$C$26*SIN($Q37))))","v":0.0246642534549676},{"$f":"V352*ABS(1/(Vout/(SQRT(2)*$C$26*SIN($Q37))))","v":0.0334446432651501},{"$f":"W352*ABS(1/(Vout/(SQRT(2)*$C$26*SIN($Q37))))","v":0.0445928576868668},null,{"$f":"1/(0.0000128*(R352+Y352+$G$40))","v":34800.3650437653},{"$f":"1/(0.0000128*(S352+Z352+$H$40))","v":74827.99440268},{"$f":"1/(0.0000128*(T352+AA352+$I$40))","v":97718.3913934072},{"$f":"1/(0.0000128*(U352+AB352+$J$40))","v":288977.670737201},{"$f":"1/(0.0000128*(V352+AC352+$K$40))","v":235594.130318011},{"$f":"1/(0.0000128*(W352+AD352+$L$40))","v":176695.597738508}]
[null,null,null,null,null,null,null,null,null,null,null,null,null,null,null,null,null,{"$f":"(G$5*((90/$G$35)*(90/$G$35))/2)*(1+(SQRT(1+(4/(G$5*((90/$G$35)*(90/$G$35))))*$G$40*(1-(SQRT(2)*Vin_rms_min*(SIN($Q38)/Vout))))))","v":0.283652880053893},{"$f":"(H$5*((90/$G$35)*(90/$G$35))/2)*(1+(SQRT(1+(4/(H$5*((90/$G$35)*(90/$G$35))))*$H$40*(1-(SQRT(2)*Vin_rms_min*(SIN($Q38)/Vout))))))","v":0.273472551904374},{"$f":"(I$5*((90/$G$35)*(90/$G$35))/2)*(1+(SQRT(1+(4/(I$5*((90/$G$35)*(90/$G$35))))*$I$40*(1-(SQRT(2)*Vin_rms_min*(SIN($Q38)/Vout))))))","v":0.267508924194224},{"$f":"(J$5*((90/$G$35)*(90/$G$35))/2)*(1+(SQRT(1+(4/(J$5*((90/$G$35)*(90/$G$35))))*$J$40*(1-(SQRT(2)*Vin_rms_min*(SIN($Q38)/Vout))))))","v":0.219822387608336},{"$f":"(K$5*((90/$G$35)*(90/$G$35))/2)*(1+(SQRT(1+(4/(K$5*((90/$G$35)*(90/$G$35))))*$K$40*(1-(SQRT(2)*Vin_rms_min*(SIN($Q38)/Vout))))))","v":0.298163788127197},{"$f":"(L$5*((90/$G$35)*(90/$G$35))/2)*(1+(SQRT(1+(4/(L$5*((90/$G$35)*(90/$G$35))))*$L$40*(1-(SQRT(2)*Vin_rms_min*(SIN($Q38)/Vout))))))","v":0.39755171750293},null,{"$f":"R353*ABS(1/(Vout/(SQRT(2)*$C$26*SIN($Q38))))","v":0.0328086301078848},{"$f":"S353*ABS(1/(Vout/(SQRT(2)*$C$26*SIN($Q38))))","v":0.0316311253331368},{"$f":"T353*ABS(1/(Vout/(SQRT(2)*$C$26*SIN($Q38))))","v":0.0309413440215341},{"$f":"U353*ABS(1/(Vout/(SQRT(2)*$C$26*SIN($Q38))))","v":0.0254256942608998},{"$f":"V353*ABS(1/(Vout/(SQRT(2)*$C$26*SIN($Q38))))","v":0.0344870301841191},{"$f":"W353*ABS(1/(Vout/(SQRT(2)*$C$26*SIN($Q38))))","v":0.0459827069121589},null,{"$f":"1/(0.0000128*(R353+Y353+$G$40))","v":34792.40220616},{"$f":"1/(0.0000128*(S353+Z353+$H$40))","v":74789.1297938029},{"$f":"1/(0.0000128*(T353+AA353+$I$40))","v":97650.1141287428},{"$f":"1/(0.0000128*(U353+AB353+$J$40))","v":288232.993427678},{"$f":"1/(0.0000128*(V353+AC353+$K$40))","v":234855.87799422},{"$f":"1/(0.0000128*(W353+AD353+$L$40))","v":176141.908495665}]
[null,null,null,null,null,null,null,null,null,null,null,null,null,null,null,null,null,{"$f":"(G$5*((90/$G$35)*(90/$G$35))/2)*(1+(SQRT(1+(4/(G$5*((90/$G$35)*(90/$G$35))))*$G$40*(1-(SQRT(2)*Vin_rms_min*(SIN($Q39)/Vout))))))","v":0.283223937453651},{"$f":"(H$5*((90/$G$35)*(90/$G$35))/2)*(1+(SQRT(1+(4/(H$5*((90/$G$35)*(90/$G$35))))*$H$40*(1-(SQRT(2)*Vin_rms_min*(SIN($Q39)/Vout))))))","v":0.273101384387678},{"$f":"(I$5*((90/$G$35)*(90/$G$35))/2)*(1+(SQRT(1+(4/(I$5*((90/$G$35)*(90/$G$35))))*$I$40*(1-(SQRT(2)*Vin_rms_min*(SIN($Q39)/Vout))))))","v":0.267171252694293},{"$f":"(J$5*((90/$G$35)*(90/$G$35))/2)*(1+(SQRT(1+(4/(J$5*((90/$G$35)*(90/$G$35))))*$J$40*(1-(SQRT(2)*Vin_rms_min*(SIN($Q39)/Vout))))))","v":0.219759596234691},{"$f":"(K$5*((90/$G$35)*(90/$G$35))/2)*(1+(SQRT(1+(4/(K$5*((90/$G$35)*(90/$G$35))))*$K$40*(1-(SQRT(2)*Vin_rms_min*(SIN($Q39)/Vout))))))","v":0.298163788127197},{"$f":"(L$5*((90/$G$35)*(90/$G$35))/2)*(1+(SQRT(1+(4/(L$5*((90/$G$35)*(90/$G$35))))*$L$40*(1-(SQRT(2)*Vin_rms_min*(SIN($Q39)/Vout))))))","v":0.39755171750293},null,{"$f":"R354*ABS(1/(Vout/(SQRT(2)*$C$26*SIN($Q39))))","v":0.0337458975936037},{"$f":"S354*ABS(1/(Vout/(SQRT(2)*$C$26*SIN($Q39))))","v":0.0325398037788602},{"$f":"T354*ABS(1/(Vout/(SQRT(2)*$C$26*SIN($Q39))))","v":0.0318332334986759},{"$f":"U354*ABS(1/(Vout/(SQRT(2)*$C$26*SIN($Q39))))","v":0.0261841738958282},{"$f":"V354*ABS(1/(Vout/(SQRT(2)*$C$26*SIN($Q39))))","v":0.0355259684288089},{"$f":"W354*ABS(1/(Vout/(SQRT(2)*$C$26*SIN($Q39))))","v":0.0473679579050785},null,{"$f":"1/(0.0000128*(R354+Y354+$G$40))","v":34784.5277264627},{"$f":"1/(0.0000128*(S354+Z354+$H$40))","v":74750.6661153145},{"$f":"1/(0.0000128*(T354+AA354+$I$40))","v":97582.5158955824},{"$f":"1/(0.0000128*(U354+AB354+$J$40))","v":287495.091285722},{"$f":"1/(0.0000128*(V354+AC354+$K$40))","v":234124.657605088},{"$f":"1/(0.0000128*(W354+AD354+$L$40))","v":175593.493203816}]
[null,null,null,null,null,null,null,null,null,null,null,null,null,null,null,null,null,{"$f":"(G$5*((90/$G$35)*(90/$G$35))/2)*(1+(SQRT(1+(4/(G$5*((90/$G$35)*(90/$G$35))))*$G$40*(1-(SQRT(2)*Vin_rms_min*(SIN($Q40)/Vout))))))","v":0.282795765368834},{"$f":"(H$5*((90/$G$35)*(90/$G$35))/2)*(1+(SQRT(1+(4/(H$5*((90/$G$35)*(90/$G$35))))*$H$40*(1-(SQRT(2)*Vin_rms_min*(SIN($Q40)/Vout))))))","v":0.272730897750172},{"$f":"(I$5*((90/$G$35)*(90/$G$35))/2)*(1+(SQRT(1+(4/(I$5*((90/$G$35)*(90/$G$35))))*$I$40*(1-(SQRT(2)*Vin_rms_min*(SIN($Q40)/Vout))))))","v":0.266834213418466},{"$f":"(J$5*((90/$G$35)*(90/$G$35))/2)*(1+(SQRT(1+(4/(J$5*((90/$G$35)*(90/$G$35))))*$J$40*(1-(SQRT(2)*Vin_rms_min*(SIN($Q40)/Vout))))))","v":0.21969698696719},{"$f":"(K$5*((90/$G$35)*(90/$G$35))/2)*(1+(SQRT(1+(4/(K$5*((90/$G$35)*(90/$G$35))))*$K$40*(1-(SQRT(2)*Vin_rms_min*(SIN($Q40)/Vout))))))","v":0.298163788127197},{"$f":"(L$5*((90/$G$35)*(90/$G$35))/2)*(1+(SQRT(1+(4/(L$5*((90/$G$35)*(90/$G$35))))*$L$40*(1-(SQRT(2)*Vin_rms_min*(SIN($Q40)/Vout))))))","v":0.39755171750293},null,{"$f":"R355*ABS(1/(Vout/(SQRT(2)*$C$26*SIN($Q40))))","v":0.0346769008481678},{"$f":"S355*ABS(1/(Vout/(SQRT(2)*$C$26*SIN($Q40))))","v":0.0334427295514122},{"$f":"T355*ABS(1/(Vout/(SQRT(2)*$C$26*SIN($Q40))))","v":0.0327196680245295},{"$f":"U355*ABS(1/(Vout/(SQRT(2)*$C$26*SIN($Q40))))","v":0.0269396206260946},{"$f":"V355*ABS(1/(Vout/(SQRT(2)*$C$26*SIN($Q40))))","v":0.0365613541062606},{"$f":"W355*ABS(1/(Vout/(SQRT(2)*$C$26*SIN($Q40))))","v":0.0487484721416809},null,{"$f":"1/(0.0000128*(R355+Y355+$G$40))","v":34776.7418561831},{"$f":"1/(0.0000128*(S355+Z355+$H$40))","v":74712.6043540044},{"$f":"1/(0.0000128*(T355+AA355+$I$40))","v":97515.5982010415},{"$f":"1/(0.0000128*(U355+AB355+$J$40))","v":286763.958376076},{"$f":"1/(0.0000128*(V355+AC355+$K$40))","v":233400.453514516},{"$f":"1/(0.0000128*(W355+AD355+$L$40))","v":175050.340135887}]
[null,null,null,null,null,null,null,null,null,null,null,null,null,null,null,null,null,{"$f":"(G$5*((90/$G$35)*(90/$G$35))/2)*(1+(SQRT(1+(4/(G$5*((90/$G$35)*(90/$G$35))))*$G$40*(1-(SQRT(2)*Vin_rms_min*(SIN($Q41)/Vout))))))","v":0.282368410491497},{"$f":"(H$5*((90/$G$35)*(90/$G$35))/2)*(1+(SQRT(1+(4/(H$5*((90/$G$35)*(90/$G$35))))*$H$40*(1-(SQRT(2)*Vin_rms_min*(SIN($Q41)/Vout))))))","v":0.272361132382057},{"$f":"(I$5*((90/$G$35)*(90/$G$35))/2)*(1+(SQRT(1+(4/(I$5*((90/$G$35)*(90/$G$35))))*$I$40*(1-(SQRT(2)*Vin_rms_min*(SIN($Q41)/Vout))))))","v":0.266497843097411},{"$f":"(J$5*((90/$G$35)*(90/$G$35))/2)*(1+(SQRT(1+(4/(J$5*((90/$G$35)*(90/$G$35))))*$J$40*(1-(SQRT(2)*Vin_rms_min*(SIN($Q41)/Vout))))))","v":0.21963456635604},{"$f":"(K$5*((90/$G$35)*(90/$G$35))/2)*(1+(SQRT(1+(4/(K$5*((90/$G$35)*(90/$G$35))))*$K$40*(1-(SQRT(2)*Vin_rms_min*(SIN($Q41)/Vout))))))","v":0.298163788127197},{"$f":"(L$5*((90/$G$35)*(90/$G$35))/2)*(1+(SQRT(1+(4/(L$5*((90/$G$35)*(90/$G$35))))*$L$40*(1-(SQRT(2)*Vin_rms_min*(SIN($Q41)/Vout))))))","v":0.39755171750293},null,{"$f":"R356*ABS(1/(Vout/(SQRT(2)*$C$26*SIN($Q41))))","v":0.0356015710375921},{"$f":"S356*ABS(1/(Vout/(SQRT(2)*$C$26*SIN($Q41))))","v":0.0343398335015624},{"$f":"T356*ABS(1/(Vout/(SQRT(2)*$C$26*SIN($Q41))))","v":0.0336005783220686},{"$f":"U356*ABS(1/(Vout/(SQRT(2)*$C$26*SIN($Q41))))","v":0.0276919631442653},{"$f":"V356*ABS(1/(Vout/(SQRT(2)*$C$26*SIN($Q41))))","v":0.0375930836787695},{"$f":"W356*ABS(1/(Vout/(SQRT(2)*$C$26*SIN($Q41))))","v":0.0501241115716926},null,{"$f":"1/(0.0000128*(R356+Y356+$G$40))","v":34769.0448213443},{"$f":"1/(0.0000128*(S356+Z356+$H$40))","v":74674.9453954248},{"$f":"1/(0.0000128*(T356+AA356+$I$40))","v":97449.3623944932},{"$f":"1/(0.0000128*(U356+AB356+$J$40))","v":286039.588109337},{"$f":"1/(0.0000128*(V356+AC356+$K$40))","v":232683.24957813},{"$f":"1/(0.0000128*(W356+AD356+$L$40))","v":174512.437183598}]
[null,null,null,null,null,null,null,null,null,null,null,null,null,null,null,null,null,{"$f":"(G$5*((90/$G$35)*(90/$G$35))/2)*(1+(SQRT(1+(4/(G$5*((90/$G$35)*(90/$G$35))))*$G$40*(1-(SQRT(2)*Vin_rms_min*(SIN($Q42)/Vout))))))","v":0.281941919659091},{"$f":"(H$5*((90/$G$35)*(90/$G$35))/2)*(1+(SQRT(1+(4/(H$5*((90/$G$35)*(90/$G$35))))*$H$40*(1-(SQRT(2)*Vin_rms_min*(SIN($Q42)/Vout))))))","v":0.271992128792946},{"$f":"(I$5*((90/$G$35)*(90/$G$35))/2)*(1+(SQRT(1+(4/(I$5*((90/$G$35)*(90/$G$35))))*$I$40*(1-(SQRT(2)*Vin_rms_min*(SIN($Q42)/Vout))))))","v":0.266162178564646},{"$f":"(J$5*((90/$G$35)*(90/$G$35))/2)*(1+(SQRT(1+(4/(J$5*((90/$G$35)*(90/$G$35))))*$J$40*(1-(SQRT(2)*Vin_rms_min*(SIN($Q42)/Vout))))))","v":0.219572340942054},{"$f":"(K$5*((90/$G$35)*(90/$G$35))/2)*(1+(SQRT(1+(4/(K$5*((90/$G$35)*(90/$G$35))))*$K$40*(1-(SQRT(2)*Vin_rms_min*(SIN($Q42)/Vout))))))","v":0.298163788127197},{"$f":"(L$5*((90/$G$35)*(90/$G$35))/2)*(1+(SQRT(1+(4/(L$5*((90/$G$35)*(90/$G$35))))*$L$40*(1-(SQRT(2)*Vin_rms_min*(SIN($Q42)/Vout))))))","v":0.39755171750293},null,{"$f":"R357*ABS(1/(Vout/(SQRT(2)*$C$26*SIN($Q42))))","v":0.0365198408738648},{"$f":"S357*ABS(1/(Vout/(SQRT(2)*$C$26*SIN($Q42))))","v":0.035231047850113},{"$f":"T357*ABS(1/(Vout/(SQRT(2)*$C$26*SIN($Q42))))","v":0.0344758963816917},{"$f":"U357*ABS(1/(Vout/(SQRT(2)*$C$26*SIN($Q42))))","v":0.0284411305747001},{"$f":"V357*ABS(1/(Vout/(SQRT(2)*$C$26*SIN($Q42))))","v":0.0386210539742379},{"$f":"W357*ABS(1/(Vout/(SQRT(2)*$C$26*SIN($Q42))))","v":0.0514947386323172},null,{"$f":"1/(0.0000128*(R357+Y357+$G$40))","v":34761.4368226108},{"$f":"1/(0.0000128*(S357+Z357+$H$40))","v":74637.690024744},{"$f":"1/(0.0000128*(T357+AA357+$I$40))","v":97383.8096692504},{"$f":"1/(0.0000128*(U357+AB357+$J$40))","v":285321.973266095},{"$f":"1/(0.0000128*(V357+AC357+$K$40))","v":231973.029167595},{"$f":"1/(0.0000128*(W357+AD357+$L$40))","v":173979.771875696}]
[null,null,null,null,null,null,null,null,null,null,null,null,null,null,null,null,null,{"$f":"(G$5*((90/$G$35)*(90/$G$35))/2)*(1+(SQRT(1+(4/(G$5*((90/$G$35)*(90/$G$35))))*$G$40*(1-(SQRT(2)*Vin_rms_min*(SIN($Q43)/Vout))))))","v":0.281516339849854},{"$f":"(H$5*((90/$G$35)*(90/$G$35))/2)*(1+(SQRT(1+(4/(H$5*((90/$G$35)*(90/$G$35))))*$H$40*(1-(SQRT(2)*Vin_rms_min*(SIN($Q43)/Vout))))))","v":0.271623927607814},{"$f":"(I$5*((90/$G$35)*(90/$G$35))/2)*(1+(SQRT(1+(4/(I$5*((90/$G$35)*(90/$G$35))))*$I$40*(1-(SQRT(2)*Vin_rms_min*(SIN($Q43)/Vout))))))","v":0.265827256752788},{"$f":"(J$5*((90/$G$35)*(90/$G$35))/2)*(1+(SQRT(1+(4/(J$5*((90/$G$35)*(90/$G$35))))*$J$40*(1-(SQRT(2)*Vin_rms_min*(SIN($Q43)/Vout))))))","v":0.219510317255891},{"$f":"(K$5*((90/$G$35)*(90/$G$35))/2)*(1+(SQRT(1+(4/(K$5*((90/$G$35)*(90/$G$35))))*$K$40*(1-(SQRT(2)*Vin_rms_min*(SIN($Q43)/Vout))))))","v":0.298163788127197},{"$f":"(L$5*((90/$G$35)*(90/$G$35))/2)*(1+(SQRT(1+(4/(L$5*((90/$G$35)*(90/$G$35))))*$L$40*(1-(SQRT(2)*Vin_rms_min*(SIN($Q43)/Vout))))))","v":0.39755171750293},null,{"$f":"R358*ABS(1/(Vout/(SQRT(2)*$C$26*SIN($Q43))))","v":0.0374316446152385},{"$f":"S358*ABS(1/(Vout/(SQRT(2)*$C$26*SIN($Q43))))","v":0.0361163061889539},{"$f":"T358*ABS(1/(Vout/(SQRT(2)*$C$26*SIN($Q43))))","v":0.0353455554626815},{"$f":"U358*ABS(1/(Vout/(SQRT(2)*$C$26*SIN($Q43))))","v":0.0291870524790251},{"$f":"V358*ABS(1/(Vout/(SQRT(2)*$C$26*SIN($Q43))))","v":0.039645162196493},{"$f":"W358*ABS(1/(Vout/(SQRT(2)*$C$26*SIN($Q43))))","v":0.0528602162619906},null,{"$f":"1/(0.0000128*(R358+Y358+$G$40))","v":34753.9180354256},{"$f":"1/(0.0000128*(S358+Z358+$H$40))","v":74600.838927624},{"$f":"1/(0.0000128*(T358+AA358+$I$40))","v":97318.9410642755},{"$f":"1/(0.0000128*(U358+AB358+$J$40))","v":284611.106020599},{"$f":"1/(0.0000128*(V358+AC358+$K$40))","v":231269.775194352},{"$f":"1/(0.0000128*(W358+AD358+$L$40))","v":173452.331395764}]
[null,null,null,null,null,null,null,null,null,null,null,null,null,null,null,null,null,{"$f":"(G$5*((90/$G$35)*(90/$G$35))/2)*(1+(SQRT(1+(4/(G$5*((90/$G$35)*(90/$G$35))))*$G$40*(1-(SQRT(2)*Vin_rms_min*(SIN($Q44)/Vout))))))","v":0.281091718178085},{"$f":"(H$5*((90/$G$35)*(90/$G$35))/2)*(1+(SQRT(1+(4/(H$5*((90/$G$35)*(90/$G$35))))*$H$40*(1-(SQRT(2)*Vin_rms_min*(SIN($Q44)/Vout))))))","v":0.271256569562835},{"$f":"(I$5*((90/$G$35)*(90/$G$35))/2)*(1+(SQRT(1+(4/(I$5*((90/$G$35)*(90/$G$35))))*$I$40*(1-(SQRT(2)*Vin_rms_min*(SIN($Q44)/Vout))))))","v":0.265493114689716},{"$f":"(J$5*((90/$G$35)*(90/$G$35))/2)*(1+(SQRT(1+(4/(J$5*((90/$G$35)*(90/$G$35))))*$J$40*(1-(SQRT(2)*Vin_rms_min*(SIN($Q44)/Vout))))))","v":0.219448501817305},{"$f":"(K$5*((90/$G$35)*(90/$G$35))/2)*(1+(SQRT(1+(4/(K$5*((90/$G$35)*(90/$G$35))))*$K$40*(1-(SQRT(2)*Vin_rms_min*(SIN($Q44)/Vout))))))","v":0.298163788127197},{"$f":"(L$5*((90/$G$35)*(90/$G$35))/2)*(1+(SQRT(1+(4/(L$5*((90/$G$35)*(90/$G$35))))*$L$40*(1-(SQRT(2)*Vin_rms_min*(SIN($Q44)/Vout))))))","v":0.39755171750293},null,{"$f":"R359*ABS(1/(Vout/(SQRT(2)*$C$26*SIN($Q44))))","v":0.0383369180659503},{"$f":"S359*ABS(1/(Vout/(SQRT(2)*$C$26*SIN($Q44))))","v":0.0369955434816219},{"$f":"T359*ABS(1/(Vout/(SQRT(2)*$C$26*SIN($Q44))))","v":0.036209490094209},{"$f":"U359*ABS(1/(Vout/(SQRT(2)*$C$26*SIN($Q44))))","v":0.0299296588615091},{"$f":"V359*ABS(1/(Vout/(SQRT(2)*$C$26*SIN($Q44))))","v":0.0406653059355659},{"$f":"W359*ABS(1/(Vout/(SQRT(2)*$C$26*SIN($Q44))))","v":0.0542204079140879},null,{"$f":"1/(0.0000128*(R359+Y359+$G$40))","v":34746.4886101551},{"$f":"1/(0.0000128*(S359+Z359+$H$40))","v":74564.3926911222},{"$f":"1/(0.0000128*(T359+AA359+$I$40))","v":97254.757465917},{"$f":"1/(0.0000128*(U359+AB359+$J$40))","v":283906.977963949},{"$f":"1/(0.0000128*(V359+AC359+$K$40))","v":230573.470132787},{"$f":"1/(0.0000128*(W359+AD359+$L$40))","v":172930.102599591}]
[null,null,null,null,null,null,null,null,null,null,null,null,null,null,null,null,null,{"$f":"(G$5*((90/$G$35)*(90/$G$35))/2)*(1+(SQRT(1+(4/(G$5*((90/$G$35)*(90/$G$35))))*$G$40*(1-(SQRT(2)*Vin_rms_min*(SIN($Q45)/Vout))))))","v":0.280668101889289},{"$f":"(H$5*((90/$G$35)*(90/$G$35))/2)*(1+(SQRT(1+(4/(H$5*((90/$G$35)*(90/$G$35))))*$H$40*(1-(SQRT(2)*Vin_rms_min*(SIN($Q45)/Vout))))))","v":0.270890095501127},{"$f":"(I$5*((90/$G$35)*(90/$G$35))/2)*(1+(SQRT(1+(4/(I$5*((90/$G$35)*(90/$G$35))))*$I$40*(1-(SQRT(2)*Vin_rms_min*(SIN($Q45)/Vout))))))","v":0.265159789494637},{"$f":"(J$5*((90/$G$35)*(90/$G$35))/2)*(1+(SQRT(1+(4/(J$5*((90/$G$35)*(90/$G$35))))*$J$40*(1-(SQRT(2)*Vin_rms_min*(SIN($Q45)/Vout))))))","v":0.219386901134378},{"$f":"(K$5*((90/$G$35)*(90/$G$35))/2)*(1+(SQRT(1+(4/(K$5*((90/$G$35)*(90/$G$35))))*$K$40*(1-(SQRT(2)*Vin_rms_min*(SIN($Q45)/Vout))))))","v":0.298163788127197},{"$f":"(L$5*((90/$G$35)*(90/$G$35))/2)*(1+(SQRT(1+(4/(L$5*((90/$G$35)*(90/$G$35))))*$L$40*(1-(SQRT(2)*Vin_rms_min*(SIN($Q45)/Vout))))))","v":0.39755171750293},null,{"$f":"R360*ABS(1/(Vout/(SQRT(2)*$C$26*SIN($Q45))))","v":0.0392355985753708},{"$f":"S360*ABS(1/(Vout/(SQRT(2)*$C$26*SIN($Q45))))","v":0.0378686960633614},{"$f":"T360*ABS(1/(Vout/(SQRT(2)*$C$26*SIN($Q45))))","v":0.0370676360758843},{"$f":"U360*ABS(1/(Vout/(SQRT(2)*$C$26*SIN($Q45))))","v":0.0306688801743433},{"$f":"V360*ABS(1/(Vout/(SQRT(2)*$C$26*SIN($Q45))))","v":0.041681383177933},{"$f":"W360*ABS(1/(Vout/(SQRT(2)*$C$26*SIN($Q45))))","v":0.0555751775705773},null,{"$f":"1/(0.0000128*(R360+Y360+$G$40))","v":34739.1486722433},{"$f":"1/(0.0000128*(S360+Z360+$H$40))","v":74528.3518046161},{"$f":"1/(0.0000128*(T360+AA360+$I$40))","v":97191.2596096734},{"$f":"1/(0.0000128*(U360+AB360+$J$40))","v":283209.580126824},{"$f":"1/(0.0000128*(V360+AC360+$K$40))","v":229884.096042828},{"$f":"1/(0.0000128*(W360+AD360+$L$40))","v":172413.072032121}]
[null,null,null,null,null,null,null,null,null,null,null,null,null,null,null,null,null,{"$f":"(G$5*((90/$G$35)*(90/$G$35))/2)*(1+(SQRT(1+(4/(G$5*((90/$G$35)*(90/$G$35))))*$G$40*(1-(SQRT(2)*Vin_rms_min*(SIN($Q46)/Vout))))))","v":0.280245538355205},{"$f":"(H$5*((90/$G$35)*(90/$G$35))/2)*(1+(SQRT(1+(4/(H$5*((90/$G$35)*(90/$G$35))))*$H$40*(1-(SQRT(2)*Vin_rms_min*(SIN($Q46)/Vout))))))","v":0.27052454636838},{"$f":"(I$5*((90/$G$35)*(90/$G$35))/2)*(1+(SQRT(1+(4/(I$5*((90/$G$35)*(90/$G$35))))*$I$40*(1-(SQRT(2)*Vin_rms_min*(SIN($Q46)/Vout))))))","v":0.264827318374071},{"$f":"(J$5*((90/$G$35)*(90/$G$35))/2)*(1+(SQRT(1+(4/(J$5*((90/$G$35)*(90/$G$35))))*$J$40*(1-(SQRT(2)*Vin_rms_min*(SIN($Q46)/Vout))))))","v":0.219325521702762},{"$f":"(K$5*((90/$G$35)*(90/$G$35))/2)*(1+(SQRT(1+(4/(K$5*((90/$G$35)*(90/$G$35))))*$K$40*(1-(SQRT(2)*Vin_rms_min*(SIN($Q46)/Vout))))))","v":0.298163788127197},{"$f":"(L$5*((90/$G$35)*(90/$G$35))/2)*(1+(SQRT(1+(4/(L$5*((90/$G$35)*(90/$G$35))))*$L$40*(1-(SQRT(2)*Vin_rms_min*(SIN($Q46)/Vout))))))","v":0.39755171750293},null,{"$f":"R361*ABS(1/(Vout/(SQRT(2)*$C$26*SIN($Q46))))","v":0.0401276250365797},{"$f":"S361*ABS(1/(Vout/(SQRT(2)*$C$26*SIN($Q46))))","v":0.038735701640688},{"$f":"T361*ABS(1/(Vout/(SQRT(2)*$C$26*SIN($Q46))))","v":0.0379199304778522},{"$f":"U361*ABS(1/(Vout/(SQRT(2)*$C$26*SIN($Q46))))","v":0.0314046473228258},{"$f":"V361*ABS(1/(Vout/(SQRT(2)*$C$26*SIN($Q46))))","v":0.0426932923167166},{"$f":"W361*ABS(1/(Vout/(SQRT(2)*$C$26*SIN($Q46))))","v":0.0569243897556222},null,{"$f":"1/(0.0000128*(R361+Y361+$G$40))","v":34731.8983223739},{"$f":"1/(0.0000128*(S361+Z361+$H$40))","v":74492.7166607524},{"$f":"1/(0.0000128*(T361+AA361+$I$40))","v":97128.4480819832},{"$f":"1/(0.0000128*(U361+AB361+$J$40))","v":282518.903001759},{"$f":"1/(0.0000128*(V361+AC361+$K$40))","v":229201.634591994},{"$f":"1/(0.0000128*(W361+AD361+$L$40))","v":171901.225943996}]
[null,null,null,null,null,null,null,null,null,null,null,null,null,null,null,null,null,{"$f":"(G$5*((90/$G$35)*(90/$G$35))/2)*(1+(SQRT(1+(4/(G$5*((90/$G$35)*(90/$G$35))))*$G$40*(1-(SQRT(2)*Vin_rms_min*(SIN($Q47)/Vout))))))","v":0.279824075068701},{"$f":"(H$5*((90/$G$35)*(90/$G$35))/2)*(1+(SQRT(1+(4/(H$5*((90/$G$35)*(90/$G$35))))*$H$40*(1-(SQRT(2)*Vin_rms_min*(SIN($Q47)/Vout))))))","v":0.270159963208391},{"$f":"(I$5*((90/$G$35)*(90/$G$35))/2)*(1+(SQRT(1+(4/(I$5*((90/$G$35)*(90/$G$35))))*$I$40*(1-(SQRT(2)*Vin_rms_min*(SIN($Q47)/Vout))))))","v":0.264495738617727},{"$f":"(J$5*((90/$G$35)*(90/$G$35))/2)*(1+(SQRT(1+(4/(J$5*((90/$G$35)*(90/$G$35))))*$J$40*(1-(SQRT(2)*Vin_rms_min*(SIN($Q47)/Vout))))))","v":0.219264370004908},{"$f":"(K$5*((90/$G$35)*(90/$G$35))/2)*(1+(SQRT(1+(4/(K$5*((90/$G$35)*(90/$G$35))))*$K$40*(1-(SQRT(2)*Vin_rms_min*(SIN($Q47)/Vout))))))","v":0.298163788127197},{"$f":"(L$5*((90/$G$35)*(90/$G$35))/2)*(1+(SQRT(1+(4/(L$5*((90/$G$35)*(90/$G$35))))*$L$40*(1-(SQRT(2)*Vin_rms_min*(SIN($Q47)/Vout))))))","v":0.39755171750293},null,{"$f":"R362*ABS(1/(Vout/(SQRT(2)*$C$26*SIN($Q47))))","v":0.0410129378843682},{"$f":"S362*ABS(1/(Vout/(SQRT(2)*$C$26*SIN($Q47))))","v":0.039596499290451},{"$f":"T362*ABS(1/(Vout/(SQRT(2)*$C$26*SIN($Q47))))","v":0.038766311640432},{"$f":"U362*ABS(1/(Vout/(SQRT(2)*$C$26*SIN($Q47))))","v":0.0321368916704489},{"$f":"V362*ABS(1/(Vout/(SQRT(2)*$C$26*SIN($Q47))))","v":0.0437009321618462},{"$f":"W362*ABS(1/(Vout/(SQRT(2)*$C$26*SIN($Q47))))","v":0.0582679095491283},null,{"$f":"1/(0.0000128*(R362+Y362+$G$40))","v":34724.7376366413},{"$f":"1/(0.0000128*(S362+Z362+$H$40))","v":74457.4875564192},{"$f":"1/(0.0000128*(T362+AA362+$I$40))","v":97066.3233220419},{"$f":"1/(0.0000128*(U362+AB362+$J$40))","v":281834.936564956},{"$f":"1/(0.0000128*(V362+AC362+$K$40))","v":228526.067076901},{"$f":"1/(0.0000128*(W362+AD362+$L$40))","v":171394.550307676}]
[null,null,null,null,null,null,null,null,null,null,null,null,null,null,null,null,null,{"$f":"(G$5*((90/$G$35)*(90/$G$35))/2)*(1+(SQRT(1+(4/(G$5*((90/$G$35)*(90/$G$35))))*$G$40*(1-(SQRT(2)*Vin_rms_min*(SIN($Q48)/Vout))))))","v":0.279403759638554},{"$f":"(H$5*((90/$G$35)*(90/$G$35))/2)*(1+(SQRT(1+(4/(H$5*((90/$G$35)*(90/$G$35))))*$H$40*(1-(SQRT(2)*Vin_rms_min*(SIN($Q48)/Vout))))))","v":0.269796387158482},{"$f":"(I$5*((90/$G$35)*(90/$G$35))/2)*(1+(SQRT(1+(4/(I$5*((90/$G$35)*(90/$G$35))))*$I$40*(1-(SQRT(2)*Vin_rms_min*(SIN($Q48)/Vout))))))","v":0.264165087594298},{"$f":"(J$5*((90/$G$35)*(90/$G$35))/2)*(1+(SQRT(1+(4/(J$5*((90/$G$35)*(90/$G$35))))*$J$40*(1-(SQRT(2)*Vin_rms_min*(SIN($Q48)/Vout))))))","v":0.219203452509298},{"$f":"(K$5*((90/$G$35)*(90/$G$35))/2)*(1+(SQRT(1+(4/(K$5*((90/$G$35)*(90/$G$35))))*$K$40*(1-(SQRT(2)*Vin_rms_min*(SIN($Q48)/Vout))))))","v":0.298163788127197},{"$f":"(L$5*((90/$G$35)*(90/$G$35))/2)*(1+(SQRT(1+(4/(L$5*((90/$G$35)*(90/$G$35))))*$L$40*(1-(SQRT(2)*Vin_rms_min*(SIN($Q48)/Vout))))))","v":0.39755171750293},null,{"$f":"R363*ABS(1/(Vout/(SQRT(2)*$C$26*SIN($Q48))))","v":0.0418914790926661},{"$f":"S363*ABS(1/(Vout/(SQRT(2)*$C$26*SIN($Q48))))","v":0.0404510294583983},{"$f":"T363*ABS(1/(Vout/(SQRT(2)*$C$26*SIN($Q48))))","v":0.0396067191733015},{"$f":"U363*ABS(1/(Vout/(SQRT(2)*$C$26*SIN($Q48))))","v":0.0328655450438913},{"$f":"V363*ABS(1/(Vout/(SQRT(2)*$C$26*SIN($Q48))))","v":0.0447042019501769},{"$f":"W363*ABS(1/(Vout/(SQRT(2)*$C$26*SIN($Q48))))","v":0.0596056026002359},null,{"$f":"1/(0.0000128*(R363+Y363+$G$40))","v":34717.6666667299},{"$f":"1/(0.0000128*(S363+Z363+$H$40))","v":74422.664693742},{"$f":"1/(0.0000128*(T363+AA363+$I$40))","v":97004.8856236458},{"$f":"1/(0.0000128*(U363+AB363+$J$40))","v":281157.670297656},{"$f":"1/(0.0000128*(V363+AC363+$K$40))","v":227857.374444228},{"$f":"1/(0.0000128*(W363+AD363+$L$40))","v":170893.030833171}]
[null,null,null,null,null,null,null,null,null,null,null,null,null,null,null,null,null,{"$f":"(G$5*((90/$G$35)*(90/$G$35))/2)*(1+(SQRT(1+(4/(G$5*((90/$G$35)*(90/$G$35))))*$G$40*(1-(SQRT(2)*Vin_rms_min*(SIN($Q49)/Vout))))))","v":0.27898463978409},{"$f":"(H$5*((90/$G$35)*(90/$G$35))/2)*(1+(SQRT(1+(4/(H$5*((90/$G$35)*(90/$G$35))))*$H$40*(1-(SQRT(2)*Vin_rms_min*(SIN($Q49)/Vout))))))","v":0.269433859444818},{"$f":"(I$5*((90/$G$35)*(90/$G$35))/2)*(1+(SQRT(1+(4/(I$5*((90/$G$35)*(90/$G$35))))*$I$40*(1-(SQRT(2)*Vin_rms_min*(SIN($Q49)/Vout))))))","v":0.263835402747155},{"$f":"(J$5*((90/$G$35)*(90/$G$35))/2)*(1+(SQRT(1+(4/(J$5*((90/$G$35)*(90/$G$35))))*$J$40*(1-(SQRT(2)*Vin_rms_min*(SIN($Q49)/Vout))))))","v":0.219142775669673},{"$f":"(K$5*((90/$G$35)*(90/$G$35))/2)*(1+(SQRT(1+(4/(K$5*((90/$G$35)*(90/$G$35))))*$K$40*(1-(SQRT(2)*Vin_rms_min*(SIN($Q49)/Vout))))))","v":0.298163788127197},{"$f":"(L$5*((90/$G$35)*(90/$G$35))/2)*(1+(SQRT(1+(4/(L$5*((90/$G$35)*(90/$G$35))))*$L$40*(1-(SQRT(2)*Vin_rms_min*(SIN($Q49)/Vout))))))","v":0.39755171750293},null,{"$f":"R364*ABS(1/(Vout/(SQRT(2)*$C$26*SIN($Q49))))","v":0.0427631921713947},{"$f":"S364*ABS(1/(Vout/(SQRT(2)*$C$26*SIN($Q49))))","v":0.0412992339572394},{"$f":"T364*ABS(1/(Vout/(SQRT(2)*$C$26*SIN($Q49))))","v":0.0404410939542247},{"$f":"U364*ABS(1/(Vout/(SQRT(2)*$C$26*SIN($Q49))))","v":0.033590539737914},{"$f":"V364*ABS(1/(Vout/(SQRT(2)*$C$26*SIN($Q49))))","v":0.045703001355566},{"$f":"W364*ABS(1/(Vout/(SQRT(2)*$C$26*SIN($Q49))))","v":0.0609373351407547},null,{"$f":"1/(0.0000128*(R364+Y364+$G$40))","v":34710.6854401027},{"$f":"1/(0.0000128*(S364+Z364+$H$40))","v":74388.2481811032},{"$f":"1/(0.0000128*(T364+AA364+$I$40))","v":96944.1351370611},{"$f":"1/(0.0000128*(U364+AB364+$J$40))","v":280487.093207062},{"$f":"1/(0.0000128*(V364+AC364+$K$40))","v":227195.53731116},{"$f":"1/(0.0000128*(W364+AD364+$L$40))","v":170396.65298337}]
[null,null,null,null,null,null,null,null,null,null,null,null,null,null,null,null,null,{"$f":"(G$5*((90/$G$35)*(90/$G$35))/2)*(1+(SQRT(1+(4/(G$5*((90/$G$35)*(90/$G$35))))*$G$40*(1-(SQRT(2)*Vin_rms_min*(SIN($Q50)/Vout))))))","v":0.278566763329704},{"$f":"(H$5*((90/$G$35)*(90/$G$35))/2)*(1+(SQRT(1+(4/(H$5*((90/$G$35)*(90/$G$35))))*$H$40*(1-(SQRT(2)*Vin_rms_min*(SIN($Q50)/Vout))))))","v":0.269072421377612},{"$f":"(I$5*((90/$G$35)*(90/$G$35))/2)*(1+(SQRT(1+(4/(I$5*((90/$G$35)*(90/$G$35))))*$I$40*(1-(SQRT(2)*Vin_rms_min*(SIN($Q50)/Vout))))))","v":0.263506721589945},{"$f":"(J$5*((90/$G$35)*(90/$G$35))/2)*(1+(SQRT(1+(4/(J$5*((90/$G$35)*(90/$G$35))))*$J$40*(1-(SQRT(2)*Vin_rms_min*(SIN($Q50)/Vout))))))","v":0.219082345924257},{"$f":"(K$5*((90/$G$35)*(90/$G$35))/2)*(1+(SQRT(1+(4/(K$5*((90/$G$35)*(90/$G$35))))*$K$40*(1-(SQRT(2)*Vin_rms_min*(SIN($Q50)/Vout))))))","v":0.298163788127197},{"$f":"(L$5*((90/$G$35)*(90/$G$35))/2)*(1+(SQRT(1+(4/(L$5*((90/$G$35)*(90/$G$35))))*$L$40*(1-(SQRT(2)*Vin_rms_min*(SIN($Q50)/Vout))))))","v":0.39755171750293},null,{"$f":"R365*ABS(1/(Vout/(SQRT(2)*$C$26*SIN($Q50))))","v":0.0436280221627444},{"$f":"S365*ABS(1/(Vout/(SQRT(2)*$C$26*SIN($Q50))))","v":0.0421410559642094},{"$f":"T365*ABS(1/(Vout/(SQRT(2)*$C$26*SIN($Q50))))","v":0.0412693781273236},{"$f":"U365*ABS(1/(Vout/(SQRT(2)*$C$26*SIN($Q50))))","v":0.0343118085201598},{"$f":"V365*ABS(1/(Vout/(SQRT(2)*$C$26*SIN($Q50))))","v":0.0466972304989052},{"$f":"W365*ABS(1/(Vout/(SQRT(2)*$C$26*SIN($Q50))))","v":0.0622629739985403},null,{"$f":"1/(0.0000128*(R365+Y365+$G$40))","v":34703.7939601971},{"$f":"1/(0.0000128*(S365+Z365+$H$40))","v":74354.2380341849},{"$f":"1/(0.0000128*(T365+AA365+$I$40))","v":96884.07187092},{"$f":"1/(0.0000128*(U365+AB365+$J$40))","v":279823.193846824},{"$f":"1/(0.0000128*(V365+AC365+$K$40))","v":226540.535985318},{"$f":"1/(0.0000128*(W365+AD365+$L$40))","v":169905.401988988}]
[null,null,null,null,null,null,null,null,null,null,null,null,null,null,null,null,null,{"$f":"(G$5*((90/$G$35)*(90/$G$35))/2)*(1+(SQRT(1+(4/(G$5*((90/$G$35)*(90/$G$35))))*$G$40*(1-(SQRT(2)*Vin_rms_min*(SIN($Q51)/Vout))))))","v":0.278150178199244},{"$f":"(H$5*((90/$G$35)*(90/$G$35))/2)*(1+(SQRT(1+(4/(H$5*((90/$G$35)*(90/$G$35))))*$H$40*(1-(SQRT(2)*Vin_rms_min*(SIN($Q51)/Vout))))))","v":0.268712114346224},{"$f":"(I$5*((90/$G$35)*(90/$G$35))/2)*(1+(SQRT(1+(4/(I$5*((90/$G$35)*(90/$G$35))))*$I$40*(1-(SQRT(2)*Vin_rms_min*(SIN($Q51)/Vout))))))","v":0.263179081702092},{"$f":"(J$5*((90/$G$35)*(90/$G$35))/2)*(1+(SQRT(1+(4/(J$5*((90/$G$35)*(90/$G$35))))*$J$40*(1-(SQRT(2)*Vin_rms_min*(SIN($Q51)/Vout))))))","v":0.219022169694975},{"$f":"(K$5*((90/$G$35)*(90/$G$35))/2)*(1+(SQRT(1+(4/(K$5*((90/$G$35)*(90/$G$35))))*$K$40*(1-(SQRT(2)*Vin_rms_min*(SIN($Q51)/Vout))))))","v":0.298163788127197},{"$f":"(L$5*((90/$G$35)*(90/$G$35))/2)*(1+(SQRT(1+(4/(L$5*((90/$G$35)*(90/$G$35))))*$L$40*(1-(SQRT(2)*Vin_rms_min*(SIN($Q51)/Vout))))))","v":0.39755171750293},null,{"$f":"R366*ABS(1/(Vout/(SQRT(2)*$C$26*SIN($Q51))))","v":0.0444859156368761},{"$f":"S366*ABS(1/(Vout/(SQRT(2)*$C$26*SIN($Q51))))","v":0.0429764400181326},{"$f":"T366*ABS(1/(Vout/(SQRT(2)*$C$26*SIN($Q51))))","v":0.0420915151008937},{"$f":"U366*ABS(1/(Vout/(SQRT(2)*$C$26*SIN($Q51))))","v":0.0350292846358589},{"$f":"V366*ABS(1/(Vout/(SQRT(2)*$C$26*SIN($Q51))))","v":0.0476867899581088},{"$f":"W366*ABS(1/(Vout/(SQRT(2)*$C$26*SIN($Q51))))","v":0.0635823866108117},null,{"$f":"1/(0.0000128*(R366+Y366+$G$40))","v":34696.9922066306},{"$f":"1/(0.0000128*(S366+Z366+$H$40))","v":74320.6341770354},{"$f":"1/(0.0000128*(T366+AA366+$I$40))","v":96824.6956941422},{"$f":"1/(0.0000128*(U366+AB366+$J$40))","v":279165.960337095},{"$f":"1/(0.0000128*(V366+AC366+$K$40))","v":225892.350484174},{"$f":"1/(0.0000128*(W366+AD366+$L$40))","v":169419.26286313}]
[null,null,null,null,null,null,null,null,null,null,null,null,null,null,null,null,null,{"$f":"(G$5*((90/$G$35)*(90/$G$35))/2)*(1+(SQRT(1+(4/(G$5*((90/$G$35)*(90/$G$35))))*$G$40*(1-(SQRT(2)*Vin_rms_min*(SIN($Q52)/Vout))))))","v":0.277734932410267},{"$f":"(H$5*((90/$G$35)*(90/$G$35))/2)*(1+(SQRT(1+(4/(H$5*((90/$G$35)*(90/$G$35))))*$H$40*(1-(SQRT(2)*Vin_rms_min*(SIN($Q52)/Vout))))))","v":0.268352979814144},{"$f":"(I$5*((90/$G$35)*(90/$G$35))/2)*(1+(SQRT(1+(4/(I$5*((90/$G$35)*(90/$G$35))))*$I$40*(1-(SQRT(2)*Vin_rms_min*(SIN($Q52)/Vout))))))","v":0.262852520724205},{"$f":"(J$5*((90/$G$35)*(90/$G$35))/2)*(1+(SQRT(1+(4/(J$5*((90/$G$35)*(90/$G$35))))*$J$40*(1-(SQRT(2)*Vin_rms_min*(SIN($Q52)/Vout))))))","v":0.21896225338668},{"$f":"(K$5*((90/$G$35)*(90/$G$35))/2)*(1+(SQRT(1+(4/(K$5*((90/$G$35)*(90/$G$35))))*$K$40*(1-(SQRT(2)*Vin_rms_min*(SIN($Q52)/Vout))))))","v":0.298163788127197},{"$f":"(L$5*((90/$G$35)*(90/$G$35))/2)*(1+(SQRT(1+(4/(L$5*((90/$G$35)*(90/$G$35))))*$L$40*(1-(SQRT(2)*Vin_rms_min*(SIN($Q52)/Vout))))))","v":0.39755171750293},null,{"$f":"R367*ABS(1/(Vout/(SQRT(2)*$C$26*SIN($Q52))))","v":0.0453368206870492},{"$f":"S367*ABS(1/(Vout/(SQRT(2)*$C$26*SIN($Q52))))","v":0.043805332015986},{"$f":"T367*ABS(1/(Vout/(SQRT(2)*$C$26*SIN($Q52))))","v":0.0429074495447647},{"$f":"U367*ABS(1/(Vout/(SQRT(2)*$C$26*SIN($Q52))))","v":0.0357429018124375},{"$f":"V367*ABS(1/(Vout/(SQRT(2)*$C$26*SIN($Q52))))","v":0.0486715807780554},{"$f":"W367*ABS(1/(Vout/(SQRT(2)*$C$26*SIN($Q52))))","v":0.0648954410374072},null,{"$f":"1/(0.0000128*(R367+Y367+$G$40))","v":34690.2801354145},{"$f":"1/(0.0000128*(S367+Z367+$H$40))","v":74287.4364431583},{"$f":"1/(0.0000128*(T367+AA367+$I$40))","v":96766.0063378828},{"$f":"1/(0.0000128*(U367+AB367+$J$40))","v":278515.38038416},{"$f":"1/(0.0000128*(V367+AC367+$K$40))","v":225250.960553974},{"$f":"1/(0.0000128*(W367+AD367+$L$40))","v":168938.22041548}]
[null,null,null,null,null,null,null,null,null,null,null,null,null,null,null,null,null,{"$f":"(G$5*((90/$G$35)*(90/$G$35))/2)*(1+(SQRT(1+(4/(G$5*((90/$G$35)*(90/$G$35))))*$G$40*(1-(SQRT(2)*Vin_rms_min*(SIN($Q53)/Vout))))))","v":0.27732107406816},{"$f":"(H$5*((90/$G$35)*(90/$G$35))/2)*(1+(SQRT(1+(4/(H$5*((90/$G$35)*(90/$G$35))))*$H$40*(1-(SQRT(2)*Vin_rms_min*(SIN($Q53)/Vout))))))","v":0.267995059313872},{"$f":"(I$5*((90/$G$35)*(90/$G$35))/2)*(1+(SQRT(1+(4/(I$5*((90/$G$35)*(90/$G$35))))*$I$40*(1-(SQRT(2)*Vin_rms_min*(SIN($Q53)/Vout))))))","v":0.262527076353385},{"$f":"(J$5*((90/$G$35)*(90/$G$35))/2)*(1+(SQRT(1+(4/(J$5*((90/$G$35)*(90/$G$35))))*$J$40*(1-(SQRT(2)*Vin_rms_min*(SIN($Q53)/Vout))))))","v":0.218902603386364},{"$f":"(K$5*((90/$G$35)*(90/$G$35))/2)*(1+(SQRT(1+(4/(K$5*((90/$G$35)*(90/$G$35))))*$K$40*(1-(SQRT(2)*Vin_rms_min*(SIN($Q53)/Vout))))))","v":0.298163788127197},{"$f":"(L$5*((90/$G$35)*(90/$G$35))/2)*(1+(SQRT(1+(4/(L$5*((90/$G$35)*(90/$G$35))))*$L$40*(1-(SQRT(2)*Vin_rms_min*(SIN($Q53)/Vout))))))","v":0.39755171750293},null,{"$f":"R368*ABS(1/(Vout/(SQRT(2)*$C$26*SIN($Q53))))","v":0.0461806869241739},{"$f":"S368*ABS(1/(Vout/(SQRT(2)*$C$26*SIN($Q53))))","v":0.0446276792089645},{"$f":"T368*ABS(1/(Vout/(SQRT(2)*$C$26*SIN($Q53))))","v":0.0437171273872054},{"$f":"U368*ABS(1/(Vout/(SQRT(2)*$C$26*SIN($Q53))))","v":0.0364525942640322},{"$f":"V368*ABS(1/(Vout/(SQRT(2)*$C$26*SIN($Q53))))","v":0.0496515044804837},{"$f":"W368*ABS(1/(Vout/(SQRT(2)*$C$26*SIN($Q53))))","v":0.0662020059739783},null,{"$f":"1/(0.0000128*(R368+Y368+$G$40))","v":34683.6576791763},{"$f":"1/(0.0000128*(S368+Z368+$H$40))","v":74254.6445766263},{"$f":"1/(0.0000128*(T368+AA368+$I$40))","v":96708.0033975052},{"$f":"1/(0.0000128*(U368+AB368+$J$40))","v":277871.441299638},{"$f":"1/(0.0000128*(V368+AC368+$K$40))","v":224616.345688173},{"$f":"1/(0.0000128*(W368+AD368+$L$40))","v":168462.25926613}]
[null,null,null,null,null,null,null,null,null,null,null,null,null,null,null,null,null,{"$f":"(G$5*((90/$G$35)*(90/$G$35))/2)*(1+(SQRT(1+(4/(G$5*((90/$G$35)*(90/$G$35))))*$G$40*(1-(SQRT(2)*Vin_rms_min*(SIN($Q54)/Vout))))))","v":0.27690865136013},{"$f":"(H$5*((90/$G$35)*(90/$G$35))/2)*(1+(SQRT(1+(4/(H$5*((90/$G$35)*(90/$G$35))))*$H$40*(1-(SQRT(2)*Vin_rms_min*(SIN($Q54)/Vout))))))","v":0.267638394441678},{"$f":"(I$5*((90/$G$35)*(90/$G$35))/2)*(1+(SQRT(1+(4/(I$5*((90/$G$35)*(90/$G$35))))*$I$40*(1-(SQRT(2)*Vin_rms_min*(SIN($Q54)/Vout))))))","v":0.262202786338432},{"$f":"(J$5*((90/$G$35)*(90/$G$35))/2)*(1+(SQRT(1+(4/(J$5*((90/$G$35)*(90/$G$35))))*$J$40*(1-(SQRT(2)*Vin_rms_min*(SIN($Q54)/Vout))))))","v":0.218843226062373},{"$f":"(K$5*((90/$G$35)*(90/$G$35))/2)*(1+(SQRT(1+(4/(K$5*((90/$G$35)*(90/$G$35))))*$K$40*(1-(SQRT(2)*Vin_rms_min*(SIN($Q54)/Vout))))))","v":0.298163788127197},{"$f":"(L$5*((90/$G$35)*(90/$G$35))/2)*(1+(SQRT(1+(4/(L$5*((90/$G$35)*(90/$G$35))))*$L$40*(1-(SQRT(2)*Vin_rms_min*(SIN($Q54)/Vout))))))","v":0.39755171750293},null,{"$f":"R369*ABS(1/(Vout/(SQRT(2)*$C$26*SIN($Q54))))","v":0.0470174654707902},{"$f":"S369*ABS(1/(Vout/(SQRT(2)*$C$26*SIN($Q54))))","v":0.0454434301980467},{"$f":"T369*ABS(1/(Vout/(SQRT(2)*$C$26*SIN($Q54))))","v":0.0445204958113751},{"$f":"U369*ABS(1/(Vout/(SQRT(2)*$C$26*SIN($Q54))))","v":0.0371582966959098},{"$f":"V369*ABS(1/(Vout/(SQRT(2)*$C$26*SIN($Q54))))","v":0.0506264630738401},{"$f":"W369*ABS(1/(Vout/(SQRT(2)*$C$26*SIN($Q54))))","v":0.0675019507651202},null,{"$f":"1/(0.0000128*(R369+Y369+$G$40))","v":34677.1247473905},{"$f":"1/(0.0000128*(S369+Z369+$H$40))","v":74222.2582332166},{"$f":"1/(0.0000128*(T369+AA369+$I$40))","v":96650.686334581},{"$f":"1/(0.0000128*(U369+AB369+$J$40))","v":277234.130019277},{"$f":"1/(0.0000128*(V369+AC369+$K$40))","v":223988.485145389},{"$f":"1/(0.0000128*(W369+AD369+$L$40))","v":167991.363859042}]
[null,null,null,null,null,null,null,null,null,null,null,null,null,null,null,null,null,{"$f":"(G$5*((90/$G$35)*(90/$G$35))/2)*(1+(SQRT(1+(4/(G$5*((90/$G$35)*(90/$G$35))))*$G$40*(1-(SQRT(2)*Vin_rms_min*(SIN($Q55)/Vout))))))","v":0.276497712549058},{"$f":"(H$5*((90/$G$35)*(90/$G$35))/2)*(1+(SQRT(1+(4/(H$5*((90/$G$35)*(90/$G$35))))*$H$40*(1-(SQRT(2)*Vin_rms_min*(SIN($Q55)/Vout))))))","v":0.267283026852255},{"$f":"(I$5*((90/$G$35)*(90/$G$35))/2)*(1+(SQRT(1+(4/(I$5*((90/$G$35)*(90/$G$35))))*$I$40*(1-(SQRT(2)*Vin_rms_min*(SIN($Q55)/Vout))))))","v":0.261879688474953},{"$f":"(J$5*((90/$G$35)*(90/$G$35))/2)*(1+(SQRT(1+(4/(J$5*((90/$G$35)*(90/$G$35))))*$J$40*(1-(SQRT(2)*Vin_rms_min*(SIN($Q55)/Vout))))))","v":0.218784127763624},{"$f":"(K$5*((90/$G$35)*(90/$G$35))/2)*(1+(SQRT(1+(4/(K$5*((90/$G$35)*(90/$G$35))))*$K$40*(1-(SQRT(2)*Vin_rms_min*(SIN($Q55)/Vout))))))","v":0.298163788127197},{"$f":"(L$5*((90/$G$35)*(90/$G$35))/2)*(1+(SQRT(1+(4/(L$5*((90/$G$35)*(90/$G$35))))*$L$40*(1-(SQRT(2)*Vin_rms_min*(SIN($Q55)/Vout))))))","v":0.39755171750293},null,{"$f":"R370*ABS(1/(Vout/(SQRT(2)*$C$26*SIN($Q55))))","v":0.0478471089544744},{"$f":"S370*ABS(1/(Vout/(SQRT(2)*$C$26*SIN($Q55))))","v":0.0462525349290639},{"$f":"T370*ABS(1/(Vout/(SQRT(2)*$C$26*SIN($Q55))))","v":0.0453175032513216},{"$f":"U370*ABS(1/(Vout/(SQRT(2)*$C$26*SIN($Q55))))","v":0.0378599443087922},{"$f":"V370*ABS(1/(Vout/(SQRT(2)*$C$26*SIN($Q55))))","v":0.0515963590630777},{"$f":"W370*ABS(1/(Vout/(SQRT(2)*$C$26*SIN($Q55))))","v":0.0687951454174369},null,{"$f":"1/(0.0000128*(R370+Y370+$G$40))","v":34670.6812266183},{"$f":"1/(0.0000128*(S370+Z370+$H$40))","v":74190.2769815707},{"$f":"1/(0.0000128*(T370+AA370+$I$40))","v":96594.0544789135},{"$f":"1/(0.0000128*(U370+AB370+$J$40))","v":276603.433121335},{"$f":"1/(0.0000128*(V370+AC370+$K$40))","v":223367.357966883},{"$f":"1/(0.0000128*(W370+AD370+$L$40))","v":167525.518475163}]
[null,null,null,null,null,null,null,null,null,null,null,null,null,null,null,null,null,{"$f":"(G$5*((90/$G$35)*(90/$G$35))/2)*(1+(SQRT(1+(4/(G$5*((90/$G$35)*(90/$G$35))))*$G$40*(1-(SQRT(2)*Vin_rms_min*(SIN($Q56)/Vout))))))","v":0.276088305967216},{"$f":"(H$5*((90/$G$35)*(90/$G$35))/2)*(1+(SQRT(1+(4/(H$5*((90/$G$35)*(90/$G$35))))*$H$40*(1-(SQRT(2)*Vin_rms_min*(SIN($Q56)/Vout))))))","v":0.266928998253256},{"$f":"(I$5*((90/$G$35)*(90/$G$35))/2)*(1+(SQRT(1+(4/(I$5*((90/$G$35)*(90/$G$35))))*$I$40*(1-(SQRT(2)*Vin_rms_min*(SIN($Q56)/Vout))))))","v":0.261557820600377},{"$f":"(J$5*((90/$G$35)*(90/$G$35))/2)*(1+(SQRT(1+(4/(J$5*((90/$G$35)*(90/$G$35))))*$J$40*(1-(SQRT(2)*Vin_rms_min*(SIN($Q56)/Vout))))))","v":0.21872531481881},{"$f":"(K$5*((90/$G$35)*(90/$G$35))/2)*(1+(SQRT(1+(4/(K$5*((90/$G$35)*(90/$G$35))))*$K$40*(1-(SQRT(2)*Vin_rms_min*(SIN($Q56)/Vout))))))","v":0.298163788127197},{"$f":"(L$5*((90/$G$35)*(90/$G$35))/2)*(1+(SQRT(1+(4/(L$5*((90/$G$35)*(90/$G$35))))*$L$40*(1-(SQRT(2)*Vin_rms_min*(SIN($Q56)/Vout))))))","v":0.39755171750293},null,{"$f":"R371*ABS(1/(Vout/(SQRT(2)*$C$26*SIN($Q56))))","v":0.048669571500674},{"$f":"S371*ABS(1/(Vout/(SQRT(2)*$C$26*SIN($Q56))))","v":0.0470549446872727},{"$f":"T371*ABS(1/(Vout/(SQRT(2)*$C$26*SIN($Q56))))","v":0.0461080993875277},{"$f":"U371*ABS(1/(Vout/(SQRT(2)*$C$26*SIN($Q56))))","v":0.0385574728030878},{"$f":"V371*ABS(1/(Vout/(SQRT(2)*$C$26*SIN($Q56))))","v":0.0525610954594058},{"$f":"W371*ABS(1/(Vout/(SQRT(2)*$C$26*SIN($Q56))))","v":0.0700814606125411},null,{"$f":"1/(0.0000128*(R371+Y371+$G$40))","v":34664.3269807553},{"$f":"1/(0.0000128*(S371+Z371+$H$40))","v":74158.7003043769},{"$f":"1/(0.0000128*(T371+AA371+$I$40))","v":96538.1070305885},{"$f":"1/(0.0000128*(U371+AB371+$J$40))","v":275979.336844558},{"$f":"1/(0.0000128*(V371+AC371+$K$40))","v":222752.94299359},{"$f":"1/(0.0000128*(W371+AD371+$L$40))","v":167064.707245192}]
[null,null,null,null,null,null,null,null,null,null,null,null,null,null,null,null,null,{"$f":"(G$5*((90/$G$35)*(90/$G$35))/2)*(1+(SQRT(1+(4/(G$5*((90/$G$35)*(90/$G$35))))*$G$40*(1-(SQRT(2)*Vin_rms_min*(SIN($Q57)/Vout))))))","v":0.275680480009849},{"$f":"(H$5*((90/$G$35)*(90/$G$35))/2)*(1+(SQRT(1+(4/(H$5*((90/$G$35)*(90/$G$35))))*$H$40*(1-(SQRT(2)*Vin_rms_min*(SIN($Q57)/Vout))))))","v":0.266576350399717},{"$f":"(I$5*((90/$G$35)*(90/$G$35))/2)*(1+(SQRT(1+(4/(I$5*((90/$G$35)*(90/$G$35))))*$I$40*(1-(SQRT(2)*Vin_rms_min*(SIN($Q57)/Vout))))))","v":0.26123722058886},{"$f":"(J$5*((90/$G$35)*(90/$G$35))/2)*(1+(SQRT(1+(4/(J$5*((90/$G$35)*(90/$G$35))))*$J$40*(1-(SQRT(2)*Vin_rms_min*(SIN($Q57)/Vout))))))","v":0.21866679353561},{"$f":"(K$5*((90/$G$35)*(90/$G$35))/2)*(1+(SQRT(1+(4/(K$5*((90/$G$35)*(90/$G$35))))*$K$40*(1-(SQRT(2)*Vin_rms_min*(SIN($Q57)/Vout))))))","v":0.298163788127197},{"$f":"(L$5*((90/$G$35)*(90/$G$35))/2)*(1+(SQRT(1+(4/(L$5*((90/$G$35)*(90/$G$35))))*$L$40*(1-(SQRT(2)*Vin_rms_min*(SIN($Q57)/Vout))))))","v":0.39755171750293},null,{"$f":"R372*ABS(1/(Vout/(SQRT(2)*$C$26*SIN($Q57))))","v":0.0494848087249726},{"$f":"S372*ABS(1/(Vout/(SQRT(2)*$C$26*SIN($Q57))))","v":0.0478506120914326},{"$f":"T372*ABS(1/(Vout/(SQRT(2)*$C$26*SIN($Q57))))","v":0.046892235142007},{"$f":"U372*ABS(1/(Vout/(SQRT(2)*$C$26*SIN($Q57))))","v":0.0392508183830286},{"$f":"V372*ABS(1/(Vout/(SQRT(2)*$C$26*SIN($Q57))))","v":0.0535205757899887},{"$f":"W372*ABS(1/(Vout/(SQRT(2)*$C$26*SIN($Q57))))","v":0.071360767719985},null,{"$f":"1/(0.0000128*(R372+Y372+$G$40))","v":34658.0618512889},{"$f":"1/(0.0000128*(S372+Z372+$H$40))","v":74127.527599576},{"$f":"1/(0.0000128*(T372+AA372+$I$40))","v":96482.8430620495},{"$f":"1/(0.0000128*(U372+AB372+$J$40))","v":275361.827105762},{"$f":"1/(0.0000128*(V372+AC372+$K$40))","v":222145.218882682},{"$f":"1/(0.0000128*(W372+AD372+$L$40))","v":166608.914162011}]
[null,null,null,null,null,null,null,null,null,null,null,null,null,null,null,null,null,{"$f":"(G$5*((90/$G$35)*(90/$G$35))/2)*(1+(SQRT(1+(4/(G$5*((90/$G$35)*(90/$G$35))))*$G$40*(1-(SQRT(2)*Vin_rms_min*(SIN($Q58)/Vout))))))","v":0.275274283128625},{"$f":"(H$5*((90/$G$35)*(90/$G$35))/2)*(1+(SQRT(1+(4/(H$5*((90/$G$35)*(90/$G$35))))*$H$40*(1-(SQRT(2)*Vin_rms_min*(SIN($Q58)/Vout))))))","v":0.266225125088365},{"$f":"(I$5*((90/$G$35)*(90/$G$35))/2)*(1+(SQRT(1+(4/(I$5*((90/$G$35)*(90/$G$35))))*$I$40*(1-(SQRT(2)*Vin_rms_min*(SIN($Q58)/Vout))))))","v":0.260917926346098},{"$f":"(J$5*((90/$G$35)*(90/$G$35))/2)*(1+(SQRT(1+(4/(J$5*((90/$G$35)*(90/$G$35))))*$J$40*(1-(SQRT(2)*Vin_rms_min*(SIN($Q58)/Vout))))))","v":0.2186085701999},{"$f":"(K$5*((90/$G$35)*(90/$G$35))/2)*(1+(SQRT(1+(4/(K$5*((90/$G$35)*(90/$G$35))))*$K$40*(1-(SQRT(2)*Vin_rms_min*(SIN($Q58)/Vout))))))","v":0.298163788127197},{"$f":"(L$5*((90/$G$35)*(90/$G$35))/2)*(1+(SQRT(1+(4/(L$5*((90/$G$35)*(90/$G$35))))*$L$40*(1-(SQRT(2)*Vin_rms_min*(SIN($Q58)/Vout))))))","v":0.39755171750293},null,{"$f":"R373*ABS(1/(Vout/(SQRT(2)*$C$26*SIN($Q58))))","v":0.050292777724787},{"$f":"S373*ABS(1/(Vout/(SQRT(2)*$C$26*SIN($Q58))))","v":0.0486394910873912},{"$f":"T373*ABS(1/(Vout/(SQRT(2)*$C$26*SIN($Q58))))","v":0.0476698626729513},{"$f":"U373*ABS(1/(Vout/(SQRT(2)*$C$26*SIN($Q58))))","v":0.0399399177607151},{"$f":"V373*ABS(1/(Vout/(SQRT(2)*$C$26*SIN($Q58))))","v":0.054474704107593},{"$f":"W373*ABS(1/(Vout/(SQRT(2)*$C$26*SIN($Q58))))","v":0.072632938810124},null,{"$f":"1/(0.0000128*(R373+Y373+$G$40))","v":34651.8856575629},{"$f":"1/(0.0000128*(S373+Z373+$H$40))","v":74096.75818159},{"$f":"1/(0.0000128*(T373+AA373+$I$40))","v":96428.2615201981},{"$f":"1/(0.0000128*(U373+AB373+$J$40))","v":274750.889517025},{"$f":"1/(0.0000128*(V373+AC373+$K$40))","v":221544.164123704},{"$f":"1/(0.0000128*(W373+AD373+$L$40))","v":166158.123092778}]
[null,null,null,null,null,null,null,null,null,null,null,null,null,null,null,null,null,{"$f":"(G$5*((90/$G$35)*(90/$G$35))/2)*(1+(SQRT(1+(4/(G$5*((90/$G$35)*(90/$G$35))))*$G$40*(1-(SQRT(2)*Vin_rms_min*(SIN($Q59)/Vout))))))","v":0.274869763824934},{"$f":"(H$5*((90/$G$35)*(90/$G$35))/2)*(1+(SQRT(1+(4/(H$5*((90/$G$35)*(90/$G$35))))*$H$40*(1-(SQRT(2)*Vin_rms_min*(SIN($Q59)/Vout))))))","v":0.265875364151817},{"$f":"(I$5*((90/$G$35)*(90/$G$35))/2)*(1+(SQRT(1+(4/(I$5*((90/$G$35)*(90/$G$35))))*$I$40*(1-(SQRT(2)*Vin_rms_min*(SIN($Q59)/Vout))))))","v":0.260599975804033},{"$f":"(J$5*((90/$G$35)*(90/$G$35))/2)*(1+(SQRT(1+(4/(J$5*((90/$G$35)*(90/$G$35))))*$J$40*(1-(SQRT(2)*Vin_rms_min*(SIN($Q59)/Vout))))))","v":0.218550651074951},{"$f":"(K$5*((90/$G$35)*(90/$G$35))/2)*(1+(SQRT(1+(4/(K$5*((90/$G$35)*(90/$G$35))))*$K$40*(1-(SQRT(2)*Vin_rms_min*(SIN($Q59)/Vout))))))","v":0.298163788127197},{"$f":"(L$5*((90/$G$35)*(90/$G$35))/2)*(1+(SQRT(1+(4/(L$5*((90/$G$35)*(90/$G$35))))*$L$40*(1-(SQRT(2)*Vin_rms_min*(SIN($Q59)/Vout))))))","v":0.39755171750293},null,{"$f":"R374*ABS(1/(Vout/(SQRT(2)*$C$26*SIN($Q59))))","v":0.0510934370704985},{"$f":"S374*ABS(1/(Vout/(SQRT(2)*$C$26*SIN($Q59))))","v":0.0494215369411775},{"$f":"T374*ABS(1/(Vout/(SQRT(2)*$C$26*SIN($Q59))))","v":0.0484409353689305},{"$f":"U374*ABS(1/(Vout/(SQRT(2)*$C$26*SIN($Q59))))","v":0.0406247081600669},{"$f":"V374*ABS(1/(Vout/(SQRT(2)*$C$26*SIN($Q59))))","v":0.0554233850001819},{"$f":"W374*ABS(1/(Vout/(SQRT(2)*$C$26*SIN($Q59))))","v":0.0738978466669092},null,{"$f":"1/(0.0000128*(R374+Y374+$G$40))","v":34645.7981970513},{"$f":"1/(0.0000128*(S374+Z374+$H$40))","v":74066.3912825738},{"$f":"1/(0.0000128*(T374+AA374+$I$40))","v":96374.3612285202},{"$f":"1/(0.0000128*(U374+AB374+$J$40))","v":274146.509402487},{"$f":"1/(0.0000128*(V374+AC374+$K$40))","v":220949.757054268},{"$f":"1/(0.0000128*(W374+AD374+$L$40))","v":165712.317790701}]
[null,null,null,null,null,null,null,null,null,null,null,null,null,null,null,null,null,{"$f":"(G$5*((90/$G$35)*(90/$G$35))/2)*(1+(SQRT(1+(4/(G$5*((90/$G$35)*(90/$G$35))))*$G$40*(1-(SQRT(2)*Vin_rms_min*(SIN($Q60)/Vout))))))","v":0.274466970643065},{"$f":"(H$5*((90/$G$35)*(90/$G$35))/2)*(1+(SQRT(1+(4/(H$5*((90/$G$35)*(90/$G$35))))*$H$40*(1-(SQRT(2)*Vin_rms_min*(SIN($Q60)/Vout))))))","v":0.265527109452652},{"$f":"(I$5*((90/$G$35)*(90/$G$35))/2)*(1+(SQRT(1+(4/(I$5*((90/$G$35)*(90/$G$35))))*$I$40*(1-(SQRT(2)*Vin_rms_min*(SIN($Q60)/Vout))))))","v":0.260283406915464},{"$f":"(J$5*((90/$G$35)*(90/$G$35))/2)*(1+(SQRT(1+(4/(J$5*((90/$G$35)*(90/$G$35))))*$J$40*(1-(SQRT(2)*Vin_rms_min*(SIN($Q60)/Vout))))))","v":0.218493042400637},{"$f":"(K$5*((90/$G$35)*(90/$G$35))/2)*(1+(SQRT(1+(4/(K$5*((90/$G$35)*(90/$G$35))))*$K$40*(1-(SQRT(2)*Vin_rms_min*(SIN($Q60)/Vout))))))","v":0.298163788127197},{"$f":"(L$5*((90/$G$35)*(90/$G$35))/2)*(1+(SQRT(1+(4/(L$5*((90/$G$35)*(90/$G$35))))*$L$40*(1-(SQRT(2)*Vin_rms_min*(SIN($Q60)/Vout))))))","v":0.39755171750293},null,{"$f":"R375*ABS(1/(Vout/(SQRT(2)*$C$26*SIN($Q60))))","v":0.0518867467960206},{"$f":"S375*ABS(1/(Vout/(SQRT(2)*$C$26*SIN($Q60))))","v":0.0501967062316068},{"$f":"T375*ABS(1/(Vout/(SQRT(2)*$C$26*SIN($Q60))))","v":0.0492054078426487},{"$f":"U375*ABS(1/(Vout/(SQRT(2)*$C$26*SIN($Q60))))","v":0.0413051273206832},{"$f":"V375*ABS(1/(Vout/(SQRT(2)*$C$26*SIN($Q60))))","v":0.0563665236004568},{"$f":"W375*ABS(1/(Vout/(SQRT(2)*$C$26*SIN($Q60))))","v":0.0751553648006091},null,{"$f":"1/(0.0000128*(R375+Y375+$G$40))","v":34639.799245641},{"$f":"1/(0.0000128*(S375+Z375+$H$40))","v":74036.4260536898},{"$f":"1/(0.0000128*(T375+AA375+$I$40))","v":96321.1408892365},{"$f":"1/(0.0000128*(U375+AB375+$J$40))","v":273548.671814783},{"$f":"1/(0.0000128*(V375+AC375+$K$40))","v":220361.975875323},{"$f":"1/(0.0000128*(W375+AD375+$L$40))","v":165271.481906492}]
[null,null,null,null,null,null,null,null,null,null,null,null,null,null,null,null,null,{"$f":"(G$5*((90/$G$35)*(90/$G$35))/2)*(1+(SQRT(1+(4/(G$5*((90/$G$35)*(90/$G$35))))*$G$40*(1-(SQRT(2)*Vin_rms_min*(SIN($Q61)/Vout))))))","v":0.274065952163229},{"$f":"(H$5*((90/$G$35)*(90/$G$35))/2)*(1+(SQRT(1+(4/(H$5*((90/$G$35)*(90/$G$35))))*$H$40*(1-(SQRT(2)*Vin_rms_min*(SIN($Q61)/Vout))))))","v":0.265180402877379},{"$f":"(I$5*((90/$G$35)*(90/$G$35))/2)*(1+(SQRT(1+(4/(I$5*((90/$G$35)*(90/$G$35))))*$I$40*(1-(SQRT(2)*Vin_rms_min*(SIN($Q61)/Vout))))))","v":0.259968257648551},{"$f":"(J$5*((90/$G$35)*(90/$G$35))/2)*(1+(SQRT(1+(4/(J$5*((90/$G$35)*(90/$G$35))))*$J$40*(1-(SQRT(2)*Vin_rms_min*(SIN($Q61)/Vout))))))","v":0.218435750392636},{"$f":"(K$5*((90/$G$35)*(90/$G$35))/2)*(1+(SQRT(1+(4/(K$5*((90/$G$35)*(90/$G$35))))*$K$40*(1-(SQRT(2)*Vin_rms_min*(SIN($Q61)/Vout))))))","v":0.298163788127197},{"$f":"(L$5*((90/$G$35)*(90/$G$35))/2)*(1+(SQRT(1+(4/(L$5*((90/$G$35)*(90/$G$35))))*$L$40*(1-(SQRT(2)*Vin_rms_min*(SIN($Q61)/Vout))))))","v":0.39755171750293},null,{"$f":"R376*ABS(1/(Vout/(SQRT(2)*$C$26*SIN($Q61))))","v":0.0526726683888055},{"$f":"S376*ABS(1/(Vout/(SQRT(2)*$C$26*SIN($Q61))))","v":0.0509649568423992},{"$f":"T376*ABS(1/(Vout/(SQRT(2)*$C$26*SIN($Q61))))","v":0.0499632359242574},{"$f":"U376*ABS(1/(Vout/(SQRT(2)*$C$26*SIN($Q61))))","v":0.0419811135016095},{"$f":"V376*ABS(1/(Vout/(SQRT(2)*$C$26*SIN($Q61))))","v":0.0573040255953437},{"$f":"W376*ABS(1/(Vout/(SQRT(2)*$C$26*SIN($Q61))))","v":0.0764053674604582},null,{"$f":"1/(0.0000128*(R376+Y376+$G$40))","v":34633.888557922},{"$f":"1/(0.0000128*(S376+Z376+$H$40))","v":74006.8615664055},{"$f":"1/(0.0000128*(T376+AA376+$I$40))","v":96268.5990854782},{"$f":"1/(0.0000128*(U376+AB376+$J$40))","v":272957.361551088},{"$f":"1/(0.0000128*(V376+AC376+$K$40))","v":219780.798666009},{"$f":"1/(0.0000128*(W376+AD376+$L$40))","v":164835.598999506}]
[null,null,null,null,null,null,null,null,null,null,null,null,null,null,null,null,null,{"$f":"(G$5*((90/$G$35)*(90/$G$35))/2)*(1+(SQRT(1+(4/(G$5*((90/$G$35)*(90/$G$35))))*$G$40*(1-(SQRT(2)*Vin_rms_min*(SIN($Q62)/Vout))))))","v":0.273666756994457},{"$f":"(H$5*((90/$G$35)*(90/$G$35))/2)*(1+(SQRT(1+(4/(H$5*((90/$G$35)*(90/$G$35))))*$H$40*(1-(SQRT(2)*Vin_rms_min*(SIN($Q62)/Vout))))))","v":0.264835286330283},{"$f":"(I$5*((90/$G$35)*(90/$G$35))/2)*(1+(SQRT(1+(4/(I$5*((90/$G$35)*(90/$G$35))))*$I$40*(1-(SQRT(2)*Vin_rms_min*(SIN($Q62)/Vout))))))","v":0.259654565981221},{"$f":"(J$5*((90/$G$35)*(90/$G$35))/2)*(1+(SQRT(1+(4/(J$5*((90/$G$35)*(90/$G$35))))*$J$40*(1-(SQRT(2)*Vin_rms_min*(SIN($Q62)/Vout))))))","v":0.218378781241632},{"$f":"(K$5*((90/$G$35)*(90/$G$35))/2)*(1+(SQRT(1+(4/(K$5*((90/$G$35)*(90/$G$35))))*$K$40*(1-(SQRT(2)*Vin_rms_min*(SIN($Q62)/Vout))))))","v":0.298163788127197},{"$f":"(L$5*((90/$G$35)*(90/$G$35))/2)*(1+(SQRT(1+(4/(L$5*((90/$G$35)*(90/$G$35))))*$L$40*(1-(SQRT(2)*Vin_rms_min*(SIN($Q62)/Vout))))))","v":0.39755171750293},null,{"$f":"R377*ABS(1/(Vout/(SQRT(2)*$C$26*SIN($Q62))))","v":0.0534511647792938},{"$f":"S377*ABS(1/(Vout/(SQRT(2)*$C$26*SIN($Q62))))","v":0.051726247953814},{"$f":"T377*ABS(1/(Vout/(SQRT(2)*$C$26*SIN($Q62))))","v":0.050714376654229},{"$f":"U377*ABS(1/(Vout/(SQRT(2)*$C$26*SIN($Q62))))","v":0.0426526054850142},{"$f":"V377*ABS(1/(Vout/(SQRT(2)*$C$26*SIN($Q62))))","v":0.0582357972354241},{"$f":"W377*ABS(1/(Vout/(SQRT(2)*$C$26*SIN($Q62))))","v":0.0776477296472322},null,{"$f":"1/(0.0000128*(R377+Y377+$G$40))","v":34628.0658674873},{"$f":"1/(0.0000128*(S377+Z377+$H$40))","v":73977.6968138138},{"$f":"1/(0.0000128*(T377+AA377+$I$40))","v":96216.7342834883},{"$f":"1/(0.0000128*(U377+AB377+$J$40))","v":272372.563168807},{"$f":"1/(0.0000128*(V377+AC377+$K$40))","v":219206.203398108},{"$f":"1/(0.0000128*(W377+AD377+$L$40))","v":164404.652548581}]
[null,null,null,null,null,null,null,null,null,null,null,null,null,null,null,null,null,{"$f":"(G$5*((90/$G$35)*(90/$G$35))/2)*(1+(SQRT(1+(4/(G$5*((90/$G$35)*(90/$G$35))))*$G$40*(1-(SQRT(2)*Vin_rms_min*(SIN($Q63)/Vout))))))","v":0.273269433767342},{"$f":"(H$5*((90/$G$35)*(90/$G$35))/2)*(1+(SQRT(1+(4/(H$5*((90/$G$35)*(90/$G$35))))*$H$40*(1-(SQRT(2)*Vin_rms_min*(SIN($Q63)/Vout))))))","v":0.264491801727155},{"$f":"(I$5*((90/$G$35)*(90/$G$35))/2)*(1+(SQRT(1+(4/(I$5*((90/$G$35)*(90/$G$35))))*$I$40*(1-(SQRT(2)*Vin_rms_min*(SIN($Q63)/Vout))))))","v":0.259342369895473},{"$f":"(J$5*((90/$G$35)*(90/$G$35))/2)*(1+(SQRT(1+(4/(J$5*((90/$G$35)*(90/$G$35))))*$J$40*(1-(SQRT(2)*Vin_rms_min*(SIN($Q63)/Vout))))))","v":0.218322141112513},{"$f":"(K$5*((90/$G$35)*(90/$G$35))/2)*(1+(SQRT(1+(4/(K$5*((90/$G$35)*(90/$G$35))))*$K$40*(1-(SQRT(2)*Vin_rms_min*(SIN($Q63)/Vout))))))","v":0.298163788127197},{"$f":"(L$5*((90/$G$35)*(90/$G$35))/2)*(1+(SQRT(1+(4/(L$5*((90/$G$35)*(90/$G$35))))*$L$40*(1-(SQRT(2)*Vin_rms_min*(SIN($Q63)/Vout))))))","v":0.39755171750293},null,{"$f":"R378*ABS(1/(Vout/(SQRT(2)*$C$26*SIN($Q63))))","v":0.0542222003298086},{"$f":"S378*ABS(1/(Vout/(SQRT(2)*$C$26*SIN($Q63))))","v":0.0524805400338035},{"$f":"T378*ABS(1/(Vout/(SQRT(2)*$C$26*SIN($Q63))))","v":0.0514587882757935},{"$f":"U378*ABS(1/(Vout/(SQRT(2)*$C$26*SIN($Q63))))","v":0.043319542579775},{"$f":"V378*ABS(1/(Vout/(SQRT(2)*$C$26*SIN($Q63))))","v":0.0591617453443108},{"$f":"W378*ABS(1/(Vout/(SQRT(2)*$C$26*SIN($Q63))))","v":0.0788823271257477},null,{"$f":"1/(0.0000128*(R378+Y378+$G$40))","v":34622.3308872398},{"$f":"1/(0.0000128*(S378+Z378+$H$40))","v":73948.9307119758},{"$f":"1/(0.0000128*(T378+AA378+$I$40))","v":96165.5448348464},{"$f":"1/(0.0000128*(U378+AB378+$J$40))","v":271794.261000901},{"$f":"1/(0.0000128*(V378+AC378+$K$40))","v":218638.167950093},{"$f":"1/(0.0000128*(W378+AD378+$L$40))","v":163978.625962569}]
[null,null,null,null,null,null,null,null,null,null,null,null,null,null,null,null,null,{"$f":"(G$5*((90/$G$35)*(90/$G$35))/2)*(1+(SQRT(1+(4/(G$5*((90/$G$35)*(90/$G$35))))*$G$40*(1-(SQRT(2)*Vin_rms_min*(SIN($Q64)/Vout))))))","v":0.272874031126661},{"$f":"(H$5*((90/$G$35)*(90/$G$35))/2)*(1+(SQRT(1+(4/(H$5*((90/$G$35)*(90/$G$35))))*$H$40*(1-(SQRT(2)*Vin_rms_min*(SIN($Q64)/Vout))))))","v":0.264149990988908},{"$f":"(I$5*((90/$G$35)*(90/$G$35))/2)*(1+(SQRT(1+(4/(I$5*((90/$G$35)*(90/$G$35))))*$I$40*(1-(SQRT(2)*Vin_rms_min*(SIN($Q64)/Vout))))))","v":0.259031707371581},{"$f":"(J$5*((90/$G$35)*(90/$G$35))/2)*(1+(SQRT(1+(4/(J$5*((90/$G$35)*(90/$G$35))))*$J$40*(1-(SQRT(2)*Vin_rms_min*(SIN($Q64)/Vout))))))","v":0.218265836143569},{"$f":"(K$5*((90/$G$35)*(90/$G$35))/2)*(1+(SQRT(1+(4/(K$5*((90/$G$35)*(90/$G$35))))*$K$40*(1-(SQRT(2)*Vin_rms_min*(SIN($Q64)/Vout))))))","v":0.298163788127197},{"$f":"(L$5*((90/$G$35)*(90/$G$35))/2)*(1+(SQRT(1+(4/(L$5*((90/$G$35)*(90/$G$35))))*$L$40*(1-(SQRT(2)*Vin_rms_min*(SIN($Q64)/Vout))))))","v":0.39755171750293},null,{"$f":"R379*ABS(1/(Vout/(SQRT(2)*$C$26*SIN($Q64))))","v":0.0549857408228995},{"$f":"S379*ABS(1/(Vout/(SQRT(2)*$C$26*SIN($Q64))))","v":0.0532277948286897},{"$f":"T379*ABS(1/(Vout/(SQRT(2)*$C$26*SIN($Q64))))","v":0.0521964302269411},{"$f":"U379*ABS(1/(Vout/(SQRT(2)*$C$26*SIN($Q64))))","v":0.0439818646249741},{"$f":"V379*ABS(1/(Vout/(SQRT(2)*$C$26*SIN($Q64))))","v":0.0600817773279642},{"$f":"W379*ABS(1/(Vout/(SQRT(2)*$C$26*SIN($Q64))))","v":0.0801090364372856},null,{"$f":"1/(0.0000128*(R379+Y379+$G$40))","v":34616.683309709},{"$f":"1/(0.0000128*(S379+Z379+$H$40))","v":73920.5621012865},{"$f":"1/(0.0000128*(T379+AA379+$I$40))","v":96115.0289787189},{"$f":"1/(0.0000128*(U379+AB379+$J$40))","v":271222.439170852},{"$f":"1/(0.0000128*(V379+AC379+$K$40))","v":218076.670120787},{"$f":"1/(0.0000128*(W379+AD379+$L$40))","v":163557.50259059}]
[null,null,null,null,null,null,null,null,null,null,null,null,null,null,null,null,null,{"$f":"(G$5*((90/$G$35)*(90/$G$35))/2)*(1+(SQRT(1+(4/(G$5*((90/$G$35)*(90/$G$35))))*$G$40*(1-(SQRT(2)*Vin_rms_min*(SIN($Q65)/Vout))))))","v":0.272480597723834},{"$f":"(H$5*((90/$G$35)*(90/$G$35))/2)*(1+(SQRT(1+(4/(H$5*((90/$G$35)*(90/$G$35))))*$H$40*(1-(SQRT(2)*Vin_rms_min*(SIN($Q65)/Vout))))))","v":0.263809896035076},{"$f":"(I$5*((90/$G$35)*(90/$G$35))/2)*(1+(SQRT(1+(4/(I$5*((90/$G$35)*(90/$G$35))))*$I$40*(1-(SQRT(2)*Vin_rms_min*(SIN($Q65)/Vout))))))","v":0.258722616382195},{"$f":"(J$5*((90/$G$35)*(90/$G$35))/2)*(1+(SQRT(1+(4/(J$5*((90/$G$35)*(90/$G$35))))*$J$40*(1-(SQRT(2)*Vin_rms_min*(SIN($Q65)/Vout))))))","v":0.218209872445696},{"$f":"(K$5*((90/$G$35)*(90/$G$35))/2)*(1+(SQRT(1+(4/(K$5*((90/$G$35)*(90/$G$35))))*$K$40*(1-(SQRT(2)*Vin_rms_min*(SIN($Q65)/Vout))))))","v":0.298163788127197},{"$f":"(L$5*((90/$G$35)*(90/$G$35))/2)*(1+(SQRT(1+(4/(L$5*((90/$G$35)*(90/$G$35))))*$L$40*(1-(SQRT(2)*Vin_rms_min*(SIN($Q65)/Vout))))))","v":0.39755171750293},null,{"$f":"R380*ABS(1/(Vout/(SQRT(2)*$C$26*SIN($Q65))))","v":0.0557417534491393},{"$f":"S380*ABS(1/(Vout/(SQRT(2)*$C$26*SIN($Q65))))","v":0.0539679753533658},{"$f":"T380*ABS(1/(Vout/(SQRT(2)*$C$26*SIN($Q65))))","v":0.0529272631319946},{"$f":"U380*ABS(1/(Vout/(SQRT(2)*$C$26*SIN($Q65))))","v":0.0446395119933053},{"$f":"V380*ABS(1/(Vout/(SQRT(2)*$C$26*SIN($Q65))))","v":0.0609958011839529},{"$f":"W380*ABS(1/(Vout/(SQRT(2)*$C$26*SIN($Q65))))","v":0.0813277349119372},null,{"$f":"1/(0.0000128*(R380+Y380+$G$40))","v":34611.1228073752},{"$f":"1/(0.0000128*(S380+Z380+$H$40))","v":73892.589747863},{"$f":"1/(0.0000128*(T380+AA380+$I$40))","v":96065.1848441336},{"$f":"1/(0.0000128*(U380+AB380+$J$40))","v":270657.081607288},{"$f":"1/(0.0000128*(V380+AC380+$K$40))","v":217521.687642643},{"$f":"1/(0.0000128*(W380+AD380+$L$40))","v":163141.265731982}]
[null,null,null,null,null,null,null,null,null,null,null,null,null,null,null,null,null,{"$f":"(G$5*((90/$G$35)*(90/$G$35))/2)*(1+(SQRT(1+(4/(G$5*((90/$G$35)*(90/$G$35))))*$G$40*(1-(SQRT(2)*Vin_rms_min*(SIN($Q66)/Vout))))))","v":0.272089182209267},{"$f":"(H$5*((90/$G$35)*(90/$G$35))/2)*(1+(SQRT(1+(4/(H$5*((90/$G$35)*(90/$G$35))))*$H$40*(1-(SQRT(2)*Vin_rms_min*(SIN($Q66)/Vout))))))","v":0.263471558777194},{"$f":"(I$5*((90/$G$35)*(90/$G$35))/2)*(1+(SQRT(1+(4/(I$5*((90/$G$35)*(90/$G$35))))*$I$40*(1-(SQRT(2)*Vin_rms_min*(SIN($Q66)/Vout))))))","v":0.258415134886341},{"$f":"(J$5*((90/$G$35)*(90/$G$35))/2)*(1+(SQRT(1+(4/(J$5*((90/$G$35)*(90/$G$35))))*$J$40*(1-(SQRT(2)*Vin_rms_min*(SIN($Q66)/Vout))))))","v":0.218154256101583},{"$f":"(K$5*((90/$G$35)*(90/$G$35))/2)*(1+(SQRT(1+(4/(K$5*((90/$G$35)*(90/$G$35))))*$K$40*(1-(SQRT(2)*Vin_rms_min*(SIN($Q66)/Vout))))))","v":0.298163788127197},{"$f":"(L$5*((90/$G$35)*(90/$G$35))/2)*(1+(SQRT(1+(4/(L$5*((90/$G$35)*(90/$G$35))))*$L$40*(1-(SQRT(2)*Vin_rms_min*(SIN($Q66)/Vout))))))","v":0.39755171750293},null,{"$f":"R381*ABS(1/(Vout/(SQRT(2)*$C$26*SIN($Q66))))","v":0.0564902067943778},{"$f":"S381*ABS(1/(Vout/(SQRT(2)*$C$26*SIN($Q66))))","v":0.0547010458810291},{"$f":"T381*ABS(1/(Vout/(SQRT(2)*$C$26*SIN($Q66))))","v":0.0536512487927544},{"$f":"U381*ABS(1/(Vout/(SQRT(2)*$C$26*SIN($Q66))))","v":0.0452924255943916},{"$f":"V381*ABS(1/(Vout/(SQRT(2)*$C$26*SIN($Q66))))","v":0.0619037255106528},{"$f":"W381*ABS(1/(Vout/(SQRT(2)*$C$26*SIN($Q66))))","v":0.0825383006808704},null,{"$f":"1/(0.0000128*(R381+Y381+$G$40))","v":34605.6490330023},{"$f":"1/(0.0000128*(S381+Z381+$H$40))","v":73865.0123449546},{"$f":"1/(0.0000128*(T381+AA381+$I$40))","v":96016.0104522789},{"$f":"1/(0.0000128*(U381+AB381+$J$40))","v":270098.17205826},{"$f":"1/(0.0000128*(V381+AC381+$K$40))","v":216973.19819465},{"$f":"1/(0.0000128*(W381+AD381+$L$40))","v":162729.898645987}]
[null,null,null,null,null,null,null,null,null,null,null,null,null,null,null,null,null,{"$f":"(G$5*((90/$G$35)*(90/$G$35))/2)*(1+(SQRT(1+(4/(G$5*((90/$G$35)*(90/$G$35))))*$G$40*(1-(SQRT(2)*Vin_rms_min*(SIN($Q67)/Vout))))))","v":0.271699833224533},{"$f":"(H$5*((90/$G$35)*(90/$G$35))/2)*(1+(SQRT(1+(4/(H$5*((90/$G$35)*(90/$G$35))))*$H$40*(1-(SQRT(2)*Vin_rms_min*(SIN($Q67)/Vout))))))","v":0.26313502111207},{"$f":"(I$5*((90/$G$35)*(90/$G$35))/2)*(1+(SQRT(1+(4/(I$5*((90/$G$35)*(90/$G$35))))*$I$40*(1-(SQRT(2)*Vin_rms_min*(SIN($Q67)/Vout))))))","v":0.258109300823323},{"$f":"(J$5*((90/$G$35)*(90/$G$35))/2)*(1+(SQRT(1+(4/(J$5*((90/$G$35)*(90/$G$35))))*$J$40*(1-(SQRT(2)*Vin_rms_min*(SIN($Q67)/Vout))))))","v":0.218098993164919},{"$f":"(K$5*((90/$G$35)*(90/$G$35))/2)*(1+(SQRT(1+(4/(K$5*((90/$G$35)*(90/$G$35))))*$K$40*(1-(SQRT(2)*Vin_rms_min*(SIN($Q67)/Vout))))))","v":0.298163788127197},{"$f":"(L$5*((90/$G$35)*(90/$G$35))/2)*(1+(SQRT(1+(4/(L$5*((90/$G$35)*(90/$G$35))))*$L$40*(1-(SQRT(2)*Vin_rms_min*(SIN($Q67)/Vout))))))","v":0.39755171750293},null,{"$f":"R382*ABS(1/(Vout/(SQRT(2)*$C$26*SIN($Q67))))","v":0.0572310708264583},{"$f":"S382*ABS(1/(Vout/(SQRT(2)*$C$26*SIN($Q67))))","v":0.0554269719324462},{"$f":"T382*ABS(1/(Vout/(SQRT(2)*$C$26*SIN($Q67))))","v":0.0543683501792206},{"$f":"U382*ABS(1/(Vout/(SQRT(2)*$C$26*SIN($Q67))))","v":0.0459405468780158},{"$f":"V382*ABS(1/(Vout/(SQRT(2)*$C$26*SIN($Q67))))","v":0.0628054595163879},{"$f":"W382*ABS(1/(Vout/(SQRT(2)*$C$26*SIN($Q67))))","v":0.0837406126885172},null,{"$f":"1/(0.0000128*(R382+Y382+$G$40))","v":34600.261619979},{"$f":"1/(0.0000128*(S382+Z382+$H$40))","v":73837.8285143761},{"$f":"1/(0.0000128*(T382+AA382+$I$40))","v":95967.5037188263},{"$f":"1/(0.0000128*(U382+AB382+$J$40))","v":269545.694105184},{"$f":"1/(0.0000128*(V382+AC382+$K$40))","v":216431.179414872},{"$f":"1/(0.0000128*(W382+AD382+$L$40))","v":162323.384561154}]
[null,null,null,null,null,null,null,null,null,null,null,null,null,null,null,null,null,{"$f":"(G$5*((90/$G$35)*(90/$G$35))/2)*(1+(SQRT(1+(4/(G$5*((90/$G$35)*(90/$G$35))))*$G$40*(1-(SQRT(2)*Vin_rms_min*(SIN($Q68)/Vout))))))","v":0.27131259939443},{"$f":"(H$5*((90/$G$35)*(90/$G$35))/2)*(1+(SQRT(1+(4/(H$5*((90/$G$35)*(90/$G$35))))*$H$40*(1-(SQRT(2)*Vin_rms_min*(SIN($Q68)/Vout))))))","v":0.262800324914931},{"$f":"(I$5*((90/$G$35)*(90/$G$35))/2)*(1+(SQRT(1+(4/(I$5*((90/$G$35)*(90/$G$35))))*$I$40*(1-(SQRT(2)*Vin_rms_min*(SIN($Q68)/Vout))))))","v":0.25780515210652},{"$f":"(J$5*((90/$G$35)*(90/$G$35))/2)*(1+(SQRT(1+(4/(J$5*((90/$G$35)*(90/$G$35))))*$J$40*(1-(SQRT(2)*Vin_rms_min*(SIN($Q68)/Vout))))))","v":0.218044089659583},{"$f":"(K$5*((90/$G$35)*(90/$G$35))/2)*(1+(SQRT(1+(4/(K$5*((90/$G$35)*(90/$G$35))))*$K$40*(1-(SQRT(2)*Vin_rms_min*(SIN($Q68)/Vout))))))","v":0.298163788127197},{"$f":"(L$5*((90/$G$35)*(90/$G$35))/2)*(1+(SQRT(1+(4/(L$5*((90/$G$35)*(90/$G$35))))*$L$40*(1-(SQRT(2)*Vin_rms_min*(SIN($Q68)/Vout))))))","v":0.39755171750293},null,{"$f":"R383*ABS(1/(Vout/(SQRT(2)*$C$26*SIN($Q68))))","v":0.0579643168813994},{"$f":"S383*ABS(1/(Vout/(SQRT(2)*$C$26*SIN($Q68))))","v":0.0561457202647572},{"$f":"T383*ABS(1/(Vout/(SQRT(2)*$C$26*SIN($Q68))))","v":0.0550785314198958},{"$f":"U383*ABS(1/(Vout/(SQRT(2)*$C$26*SIN($Q68))))","v":0.0465838178372627},{"$f":"V383*ABS(1/(Vout/(SQRT(2)*$C$26*SIN($Q68))))","v":0.0637009130285091},{"$f":"W383*ABS(1/(Vout/(SQRT(2)*$C$26*SIN($Q68))))","v":0.0849345507046788},null,{"$f":"1/(0.0000128*(R383+Y383+$G$40))","v":34594.9601826677},{"$f":"1/(0.0000128*(S383+Z383+$H$40))","v":73811.0368079622},{"$f":"1/(0.0000128*(T383+AA383+$I$40))","v":95919.6624562783},{"$f":"1/(0.0000128*(U383+AB383+$J$40))","v":268999.631176451},{"$f":"1/(0.0000128*(V383+AC383+$K$40))","v":215895.608912635},{"$f":"1/(0.0000128*(W383+AD383+$L$40))","v":161921.706684476}]
[null,null,null,null,null,null,null,null,null,null,null,null,null,null,null,null,null,{"$f":"(G$5*((90/$G$35)*(90/$G$35))/2)*(1+(SQRT(1+(4/(G$5*((90/$G$35)*(90/$G$35))))*$G$40*(1-(SQRT(2)*Vin_rms_min*(SIN($Q69)/Vout))))))","v":0.270927529318889},{"$f":"(H$5*((90/$G$35)*(90/$G$35))/2)*(1+(SQRT(1+(4/(H$5*((90/$G$35)*(90/$G$35))))*$H$40*(1-(SQRT(2)*Vin_rms_min*(SIN($Q69)/Vout))))))","v":0.262467512032463},{"$f":"(I$5*((90/$G$35)*(90/$G$35))/2)*(1+(SQRT(1+(4/(I$5*((90/$G$35)*(90/$G$35))))*$I$40*(1-(SQRT(2)*Vin_rms_min*(SIN($Q69)/Vout))))))","v":0.257502726617088},{"$f":"(J$5*((90/$G$35)*(90/$G$35))/2)*(1+(SQRT(1+(4/(J$5*((90/$G$35)*(90/$G$35))))*$J$40*(1-(SQRT(2)*Vin_rms_min*(SIN($Q69)/Vout))))))","v":0.217989551578845},{"$f":"(K$5*((90/$G$35)*(90/$G$35))/2)*(1+(SQRT(1+(4/(K$5*((90/$G$35)*(90/$G$35))))*$K$40*(1-(SQRT(2)*Vin_rms_min*(SIN($Q69)/Vout))))))","v":0.298163788127197},{"$f":"(L$5*((90/$G$35)*(90/$G$35))/2)*(1+(SQRT(1+(4/(L$5*((90/$G$35)*(90/$G$35))))*$L$40*(1-(SQRT(2)*Vin_rms_min*(SIN($Q69)/Vout))))))","v":0.39755171750293},null,{"$f":"R384*ABS(1/(Vout/(SQRT(2)*$C$26*SIN($Q69))))","v":0.05868991764905},{"$f":"S384*ABS(1/(Vout/(SQRT(2)*$C$26*SIN($Q69))))","v":0.0568572588598226},{"$f":"T384*ABS(1/(Vout/(SQRT(2)*$C$26*SIN($Q69))))","v":0.0557817577916732},{"$f":"U384*ABS(1/(Vout/(SQRT(2)*$C$26*SIN($Q69))))","v":0.0472221810115764},{"$f":"V384*ABS(1/(Vout/(SQRT(2)*$C$26*SIN($Q69))))","v":0.0645899965024113},{"$f":"W384*ABS(1/(Vout/(SQRT(2)*$C$26*SIN($Q69))))","v":0.0861199953365485},null,{"$f":"1/(0.0000128*(R384+Y384+$G$40))","v":34589.7443167625},{"$f":"1/(0.0000128*(S384+Z384+$H$40))","v":73784.6357090447},{"$f":"1/(0.0000128*(T384+AA384+$I$40))","v":95872.484376339},{"$f":"1/(0.0000128*(U384+AB384+$J$40))","v":268459.966560714},{"$f":"1/(0.0000128*(V384+AC384+$K$40))","v":215366.464280365},{"$f":"1/(0.0000128*(W384+AD384+$L$40))","v":161524.848210274}]
[null,null,null,null,null,null,null,null,null,null,null,null,null,null,null,null,null,{"$f":"(G$5*((90/$G$35)*(90/$G$35))/2)*(1+(SQRT(1+(4/(G$5*((90/$G$35)*(90/$G$35))))*$G$40*(1-(SQRT(2)*Vin_rms_min*(SIN($Q70)/Vout))))))","v":0.27054467156475},{"$f":"(H$5*((90/$G$35)*(90/$G$35))/2)*(1+(SQRT(1+(4/(H$5*((90/$G$35)*(90/$G$35))))*$H$40*(1-(SQRT(2)*Vin_rms_min*(SIN($Q70)/Vout))))))","v":0.262136624275728},{"$f":"(I$5*((90/$G$35)*(90/$G$35))/2)*(1+(SQRT(1+(4/(I$5*((90/$G$35)*(90/$G$35))))*$I$40*(1-(SQRT(2)*Vin_rms_min*(SIN($Q70)/Vout))))))","v":0.257202062197557},{"$f":"(J$5*((90/$G$35)*(90/$G$35))/2)*(1+(SQRT(1+(4/(J$5*((90/$G$35)*(90/$G$35))))*$J$40*(1-(SQRT(2)*Vin_rms_min*(SIN($Q70)/Vout))))))","v":0.217935384884556},{"$f":"(K$5*((90/$G$35)*(90/$G$35))/2)*(1+(SQRT(1+(4/(K$5*((90/$G$35)*(90/$G$35))))*$K$40*(1-(SQRT(2)*Vin_rms_min*(SIN($Q70)/Vout))))))","v":0.298163788127197},{"$f":"(L$5*((90/$G$35)*(90/$G$35))/2)*(1+(SQRT(1+(4/(L$5*((90/$G$35)*(90/$G$35))))*$L$40*(1-(SQRT(2)*Vin_rms_min*(SIN($Q70)/Vout))))))","v":0.39755171750293},null,{"$f":"R385*ABS(1/(Vout/(SQRT(2)*$C$26*SIN($Q70))))","v":0.0594078471582212},{"$f":"S385*ABS(1/(Vout/(SQRT(2)*$C$26*SIN($Q70))))","v":0.0575615569121174},{"$f":"T385*ABS(1/(Vout/(SQRT(2)*$C$26*SIN($Q70))))","v":0.0564779957093142},{"$f":"U385*ABS(1/(Vout/(SQRT(2)*$C$26*SIN($Q70))))","v":0.0478555794897301},{"$f":"V385*ABS(1/(Vout/(SQRT(2)*$C$26*SIN($Q70))))","v":0.0654726210304882},{"$f":"W385*ABS(1/(Vout/(SQRT(2)*$C$26*SIN($Q70))))","v":0.0872968280406509},null,{"$f":"1/(0.0000128*(R385+Y385+$G$40))","v":34584.6135996544},{"$f":"1/(0.0000128*(S385+Z385+$H$40))","v":73758.6236339513},{"$f":"1/(0.0000128*(T385+AA385+$I$40))","v":95825.9670923095},{"$f":"1/(0.0000128*(U385+AB385+$J$40))","v":267926.683419856},{"$f":"1/(0.0000128*(V385+AC385+$K$40))","v":214843.723105082},{"$f":"1/(0.0000128*(W385+AD385+$L$40))","v":161132.792328811}]
[null,null,null,null,null,null,null,null,null,null,null,null,null,null,null,null,null,{"$f":"(G$5*((90/$G$35)*(90/$G$35))/2)*(1+(SQRT(1+(4/(G$5*((90/$G$35)*(90/$G$35))))*$G$40*(1-(SQRT(2)*Vin_rms_min*(SIN($Q71)/Vout))))))","v":0.270164074657393},{"$f":"(H$5*((90/$G$35)*(90/$G$35))/2)*(1+(SQRT(1+(4/(H$5*((90/$G$35)*(90/$G$35))))*$H$40*(1-(SQRT(2)*Vin_rms_min*(SIN($Q71)/Vout))))))","v":0.261807703412975},{"$f":"(I$5*((90/$G$35)*(90/$G$35))/2)*(1+(SQRT(1+(4/(I$5*((90/$G$35)*(90/$G$35))))*$I$40*(1-(SQRT(2)*Vin_rms_min*(SIN($Q71)/Vout))))))","v":0.256903196645337},{"$f":"(J$5*((90/$G$35)*(90/$G$35))/2)*(1+(SQRT(1+(4/(J$5*((90/$G$35)*(90/$G$35))))*$J$40*(1-(SQRT(2)*Vin_rms_min*(SIN($Q71)/Vout))))))","v":0.217881595506352},{"$f":"(K$5*((90/$G$35)*(90/$G$35))/2)*(1+(SQRT(1+(4/(K$5*((90/$G$35)*(90/$G$35))))*$K$40*(1-(SQRT(2)*Vin_rms_min*(SIN($Q71)/Vout))))))","v":0.298163788127197},{"$f":"(L$5*((90/$G$35)*(90/$G$35))/2)*(1+(SQRT(1+(4/(L$5*((90/$G$35)*(90/$G$35))))*$L$40*(1-(SQRT(2)*Vin_rms_min*(SIN($Q71)/Vout))))))","v":0.39755171750293},null,{"$f":"R386*ABS(1/(Vout/(SQRT(2)*$C$26*SIN($Q71))))","v":0.0601180807613016},{"$f":"S386*ABS(1/(Vout/(SQRT(2)*$C$26*SIN($Q71))))","v":0.0582585848161785},{"$f":"T386*ABS(1/(Vout/(SQRT(2)*$C$26*SIN($Q71))))","v":0.0571672127145208},{"$f":"U386*ABS(1/(Vout/(SQRT(2)*$C$26*SIN($Q71))))","v":0.0484839569127132},{"$f":"V386*ABS(1/(Vout/(SQRT(2)*$C$26*SIN($Q71))))","v":0.0663486983510223},{"$f":"W386*ABS(1/(Vout/(SQRT(2)*$C$26*SIN($Q71))))","v":0.0884649311346964},null,{"$f":"1/(0.0000128*(R386+Y386+$G$40))","v":34579.5675908048},{"$f":"1/(0.0000128*(S386+Z386+$H$40))","v":73732.9989335257},{"$f":"1/(0.0000128*(T386+AA386+$I$40))","v":95780.1081215058},{"$f":"1/(0.0000128*(U386+AB386+$J$40))","v":267399.764801643},{"$f":"1/(0.0000128*(V386+AC386+$K$40))","v":214327.362979562},{"$f":"1/(0.0000128*(W386+AD386+$L$40))","v":160745.522234671}]
[null,null,null,null,null,null,null,null,null,null,null,null,null,null,null,null,null,{"$f":"(G$5*((90/$G$35)*(90/$G$35))/2)*(1+(SQRT(1+(4/(G$5*((90/$G$35)*(90/$G$35))))*$G$40*(1-(SQRT(2)*Vin_rms_min*(SIN($Q72)/Vout))))))","v":0.269785787072237},{"$f":"(H$5*((90/$G$35)*(90/$G$35))/2)*(1+(SQRT(1+(4/(H$5*((90/$G$35)*(90/$G$35))))*$H$40*(1-(SQRT(2)*Vin_rms_min*(SIN($Q72)/Vout))))))","v":0.261480791162334},{"$f":"(I$5*((90/$G$35)*(90/$G$35))/2)*(1+(SQRT(1+(4/(I$5*((90/$G$35)*(90/$G$35))))*$I$40*(1-(SQRT(2)*Vin_rms_min*(SIN($Q72)/Vout))))))","v":0.256606167706115},{"$f":"(J$5*((90/$G$35)*(90/$G$35))/2)*(1+(SQRT(1+(4/(J$5*((90/$G$35)*(90/$G$35))))*$J$40*(1-(SQRT(2)*Vin_rms_min*(SIN($Q72)/Vout))))))","v":0.217828189340843},{"$f":"(K$5*((90/$G$35)*(90/$G$35))/2)*(1+(SQRT(1+(4/(K$5*((90/$G$35)*(90/$G$35))))*$K$40*(1-(SQRT(2)*Vin_rms_min*(SIN($Q72)/Vout))))))","v":0.298163788127197},{"$f":"(L$5*((90/$G$35)*(90/$G$35))/2)*(1+(SQRT(1+(4/(L$5*((90/$G$35)*(90/$G$35))))*$L$40*(1-(SQRT(2)*Vin_rms_min*(SIN($Q72)/Vout))))))","v":0.39755171750293},null,{"$f":"R387*ABS(1/(Vout/(SQRT(2)*$C$26*SIN($Q72))))","v":0.0608205951183622},{"$f":"S387*ABS(1/(Vout/(SQRT(2)*$C$26*SIN($Q72))))","v":0.0589483141536107},{"$f":"T387*ABS(1/(Vout/(SQRT(2)*$C$26*SIN($Q72))))","v":0.0578493774646079},{"$f":"U387*ABS(1/(Vout/(SQRT(2)*$C$26*SIN($Q72))))","v":0.0491072574765326},{"$f":"V387*ABS(1/(Vout/(SQRT(2)*$C$26*SIN($Q72))))","v":0.0672181408570117},{"$f":"W387*ABS(1/(Vout/(SQRT(2)*$C$26*SIN($Q72))))","v":0.089624187809349},null,{"$f":"1/(0.0000128*(R387+Y387+$G$40))","v":34574.6058321277},{"$f":"1/(0.0000128*(S387+Z387+$H$40))","v":73707.75989467},{"$f":"1/(0.0000128*(T387+AA387+$I$40))","v":95734.9048877008},{"$f":"1/(0.0000128*(U387+AB387+$J$40))","v":266879.193652072},{"$f":"1/(0.0000128*(V387+AC387+$K$40))","v":213817.361513181},{"$f":"1/(0.0000128*(W387+AD387+$L$40))","v":160363.021134886}]
[null,null,null,null,null,null,null,null,null,null,null,null,null,null,null,null,null,{"$f":"(G$5*((90/$G$35)*(90/$G$35))/2)*(1+(SQRT(1+(4/(G$5*((90/$G$35)*(90/$G$35))))*$G$40*(1-(SQRT(2)*Vin_rms_min*(SIN($Q73)/Vout))))))","v":0.269409857226097},{"$f":"(H$5*((90/$G$35)*(90/$G$35))/2)*(1+(SQRT(1+(4/(H$5*((90/$G$35)*(90/$G$35))))*$H$40*(1-(SQRT(2)*Vin_rms_min*(SIN($Q73)/Vout))))))","v":0.261155929184392},{"$f":"(I$5*((90/$G$35)*(90/$G$35))/2)*(1+(SQRT(1+(4/(I$5*((90/$G$35)*(90/$G$35))))*$I$40*(1-(SQRT(2)*Vin_rms_min*(SIN($Q73)/Vout))))))","v":0.256311013067168},{"$f":"(J$5*((90/$G$35)*(90/$G$35))/2)*(1+(SQRT(1+(4/(J$5*((90/$G$35)*(90/$G$35))))*$J$40*(1-(SQRT(2)*Vin_rms_min*(SIN($Q73)/Vout))))))","v":0.217775172250816},{"$f":"(K$5*((90/$G$35)*(90/$G$35))/2)*(1+(SQRT(1+(4/(K$5*((90/$G$35)*(90/$G$35))))*$K$40*(1-(SQRT(2)*Vin_rms_min*(SIN($Q73)/Vout))))))","v":0.298163788127197},{"$f":"(L$5*((90/$G$35)*(90/$G$35))/2)*(1+(SQRT(1+(4/(L$5*((90/$G$35)*(90/$G$35))))*$L$40*(1-(SQRT(2)*Vin_rms_min*(SIN($Q73)/Vout))))))","v":0.39755171750293},null,{"$f":"R388*ABS(1/(Vout/(SQRT(2)*$C$26*SIN($Q73))))","v":0.0615153681807577},{"$f":"S388*ABS(1/(Vout/(SQRT(2)*$C$26*SIN($Q73))))","v":0.0596307176796558},{"$f":"T388*ABS(1/(Vout/(SQRT(2)*$C$26*SIN($Q73))))","v":0.0585244597207802},{"$f":"U388*ABS(1/(Vout/(SQRT(2)*$C$26*SIN($Q73))))","v":0.0497254259349318},{"$f":"V388*ABS(1/(Vout/(SQRT(2)*$C$26*SIN($Q73))))","v":0.0680808616049304},{"$f":"W388*ABS(1/(Vout/(SQRT(2)*$C$26*SIN($Q73))))","v":0.0907744821399072},null,{"$f":"1/(0.0000128*(R388+Y388+$G$40))","v":34569.7278483783},{"$f":"1/(0.0000128*(S388+Z388+$H$40))","v":73682.9047419073},{"$f":"1/(0.0000128*(T388+AA388+$I$40))","v":95690.3547235891},{"$f":"1/(0.0000128*(U388+AB388+$J$40))","v":266364.952827418},{"$f":"1/(0.0000128*(V388+AC388+$K$40))","v":213313.696342433},{"$f":"1/(0.0000128*(W388+AD388+$L$40))","v":159985.272256825}]
[null,null,null,null,null,null,null,null,null,null,null,null,null,null,null,null,null,{"$f":"(G$5*((90/$G$35)*(90/$G$35))/2)*(1+(SQRT(1+(4/(G$5*((90/$G$35)*(90/$G$35))))*$G$40*(1-(SQRT(2)*Vin_rms_min*(SIN($Q74)/Vout))))))","v":0.269036333468412},{"$f":"(H$5*((90/$G$35)*(90/$G$35))/2)*(1+(SQRT(1+(4/(H$5*((90/$G$35)*(90/$G$35))))*$H$40*(1-(SQRT(2)*Vin_rms_min*(SIN($Q74)/Vout))))))","v":0.260833159074668},{"$f":"(I$5*((90/$G$35)*(90/$G$35))/2)*(1+(SQRT(1+(4/(I$5*((90/$G$35)*(90/$G$35))))*$I$40*(1-(SQRT(2)*Vin_rms_min*(SIN($Q74)/Vout))))))","v":0.256017770350568},{"$f":"(J$5*((90/$G$35)*(90/$G$35))/2)*(1+(SQRT(1+(4/(J$5*((90/$G$35)*(90/$G$35))))*$J$40*(1-(SQRT(2)*Vin_rms_min*(SIN($Q74)/Vout))))))","v":0.21772255006443},{"$f":"(K$5*((90/$G$35)*(90/$G$35))/2)*(1+(SQRT(1+(4/(K$5*((90/$G$35)*(90/$G$35))))*$K$40*(1-(SQRT(2)*Vin_rms_min*(SIN($Q74)/Vout))))))","v":0.298163788127197},{"$f":"(L$5*((90/$G$35)*(90/$G$35))/2)*(1+(SQRT(1+(4/(L$5*((90/$G$35)*(90/$G$35))))*$L$40*(1-(SQRT(2)*Vin_rms_min*(SIN($Q74)/Vout))))))","v":0.39755171750293},null,{"$f":"R389*ABS(1/(Vout/(SQRT(2)*$C$26*SIN($Q74))))","v":0.0622023791742308},{"$f":"S389*ABS(1/(Vout/(SQRT(2)*$C$26*SIN($Q74))))","v":0.0603057693093334},{"$f":"T389*ABS(1/(Vout/(SQRT(2)*$C$26*SIN($Q74))))","v":0.0591924303360197},{"$f":"U389*ABS(1/(Vout/(SQRT(2)*$C$26*SIN($Q74))))","v":0.0503384076020282},{"$f":"V389*ABS(1/(Vout/(SQRT(2)*$C$26*SIN($Q74))))","v":0.0689367743234224},{"$f":"W389*ABS(1/(Vout/(SQRT(2)*$C$26*SIN($Q74))))","v":0.0919156990978965},null,{"$f":"1/(0.0000128*(R389+Y389+$G$40))","v":34564.9331475511},{"$f":"1/(0.0000128*(S389+Z389+$H$40))","v":73658.4316389668},{"$f":"1/(0.0000128*(T389+AA389+$I$40))","v":95646.4548732745},{"$f":"1/(0.0000128*(U389+AB389+$J$40))","v":265857.025105984},{"$f":"1/(0.0000128*(V389+AC389+$K$40))","v":212816.345141146},{"$f":"1/(0.0000128*(W389+AD389+$L$40))","v":159612.25885586}]
[null,null,null,null,null,null,null,null,null,null,null,null,null,null,null,null,null,{"$f":"(G$5*((90/$G$35)*(90/$G$35))/2)*(1+(SQRT(1+(4/(G$5*((90/$G$35)*(90/$G$35))))*$G$40*(1-(SQRT(2)*Vin_rms_min*(SIN($Q75)/Vout))))))","v":0.268665264072329},{"$f":"(H$5*((90/$G$35)*(90/$G$35))/2)*(1+(SQRT(1+(4/(H$5*((90/$G$35)*(90/$G$35))))*$H$40*(1-(SQRT(2)*Vin_rms_min*(SIN($Q75)/Vout))))))","v":0.260512522355967},{"$f":"(I$5*((90/$G$35)*(90/$G$35))/2)*(1+(SQRT(1+(4/(I$5*((90/$G$35)*(90/$G$35))))*$I$40*(1-(SQRT(2)*Vin_rms_min*(SIN($Q75)/Vout))))))","v":0.255726477106295},{"$f":"(J$5*((90/$G$35)*(90/$G$35))/2)*(1+(SQRT(1+(4/(J$5*((90/$G$35)*(90/$G$35))))*$J$40*(1-(SQRT(2)*Vin_rms_min*(SIN($Q75)/Vout))))))","v":0.217670328574415},{"$f":"(K$5*((90/$G$35)*(90/$G$35))/2)*(1+(SQRT(1+(4/(K$5*((90/$G$35)*(90/$G$35))))*$K$40*(1-(SQRT(2)*Vin_rms_min*(SIN($Q75)/Vout))))))","v":0.298163788127197},{"$f":"(L$5*((90/$G$35)*(90/$G$35))/2)*(1+(SQRT(1+(4/(L$5*((90/$G$35)*(90/$G$35))))*$L$40*(1-(SQRT(2)*Vin_rms_min*(SIN($Q75)/Vout))))))","v":0.39755171750293},null,{"$f":"R390*ABS(1/(Vout/(SQRT(2)*$C$26*SIN($Q75))))","v":0.0628816085815265},{"$f":"S390*ABS(1/(Vout/(SQRT(2)*$C$26*SIN($Q75))))","v":0.060973444103157},{"$f":"T390*ABS(1/(Vout/(SQRT(2)*$C$26*SIN($Q75))))","v":0.0598532612425907},{"$f":"U390*ABS(1/(Vout/(SQRT(2)*$C$26*SIN($Q75))))","v":0.0509461483548679},{"$f":"V390*ABS(1/(Vout/(SQRT(2)*$C$26*SIN($Q75))))","v":0.0697857934219292},{"$f":"W390*ABS(1/(Vout/(SQRT(2)*$C$26*SIN($Q75))))","v":0.0930477245625723},null,{"$f":"1/(0.0000128*(R390+Y390+$G$40))","v":34560.2212212844},{"$f":"1/(0.0000128*(S390+Z390+$H$40))","v":73634.3386903882},{"$f":"1/(0.0000128*(T390+AA390+$I$40))","v":95603.2024947802},{"$f":"1/(0.0000128*(U390+AB390+$J$40))","v":265355.393199563},{"$f":"1/(0.0000128*(V390+AC390+$K$40))","v":212325.285630388},{"$f":"1/(0.0000128*(W390+AD390+$L$40))","v":159243.964222791}]
[null,null,null,null,null,null,null,null,null,null,null,null,null,null,null,null,null,{"$f":"(G$5*((90/$G$35)*(90/$G$35))/2)*(1+(SQRT(1+(4/(G$5*((90/$G$35)*(90/$G$35))))*$G$40*(1-(SQRT(2)*Vin_rms_min*(SIN($Q76)/Vout))))))","v":0.268296697225661},{"$f":"(H$5*((90/$G$35)*(90/$G$35))/2)*(1+(SQRT(1+(4/(H$5*((90/$G$35)*(90/$G$35))))*$H$40*(1-(SQRT(2)*Vin_rms_min*(SIN($Q76)/Vout))))))","v":0.260194060470632},{"$f":"(I$5*((90/$G$35)*(90/$G$35))/2)*(1+(SQRT(1+(4/(I$5*((90/$G$35)*(90/$G$35))))*$I$40*(1-(SQRT(2)*Vin_rms_min*(SIN($Q76)/Vout))))))","v":0.255437170805261},{"$f":"(J$5*((90/$G$35)*(90/$G$35))/2)*(1+(SQRT(1+(4/(J$5*((90/$G$35)*(90/$G$35))))*$J$40*(1-(SQRT(2)*Vin_rms_min*(SIN($Q76)/Vout))))))","v":0.217618513537272},{"$f":"(K$5*((90/$G$35)*(90/$G$35))/2)*(1+(SQRT(1+(4/(K$5*((90/$G$35)*(90/$G$35))))*$K$40*(1-(SQRT(2)*Vin_rms_min*(SIN($Q76)/Vout))))))","v":0.298163788127197},{"$f":"(L$5*((90/$G$35)*(90/$G$35))/2)*(1+(SQRT(1+(4/(L$5*((90/$G$35)*(90/$G$35))))*$L$40*(1-(SQRT(2)*Vin_rms_min*(SIN($Q76)/Vout))))))","v":0.39755171750293},null,{"$f":"R391*ABS(1/(Vout/(SQRT(2)*$C$26*SIN($Q76))))","v":0.0635530381245252},{"$f":"S391*ABS(1/(Vout/(SQRT(2)*$C$26*SIN($Q76))))","v":0.0616337182524342},{"$f":"T391*ABS(1/(Vout/(SQRT(2)*$C$26*SIN($Q76))))","v":0.0605069254391661},{"$f":"U391*ABS(1/(Vout/(SQRT(2)*$C$26*SIN($Q76))))","v":0.0515485946359013},{"$f":"V391*ABS(1/(Vout/(SQRT(2)*$C$26*SIN($Q76))))","v":0.0706278339992484},{"$f":"W391*ABS(1/(Vout/(SQRT(2)*$C$26*SIN($Q76))))","v":0.0941704453323312},null,{"$f":"1/(0.0000128*(R391+Y391+$G$40))","v":34555.5915452732},{"$f":"1/(0.0000128*(S391+Z391+$H$40))","v":73610.6239431478},{"$f":"1/(0.0000128*(T391+AA391+$I$40))","v":95560.5946625812},{"$f":"1/(0.0000128*(U391+AB391+$J$40))","v":264860.039764614},{"$f":"1/(0.0000128*(V391+AC391+$K$40))","v":211840.495588085},{"$f":"1/(0.0000128*(W391+AD391+$L$40))","v":158880.371691064}]
[null,null,null,null,null,null,null,null,null,null,null,null,null,null,null,null,null,{"$f":"(G$5*((90/$G$35)*(90/$G$35))/2)*(1+(SQRT(1+(4/(G$5*((90/$G$35)*(90/$G$35))))*$G$40*(1-(SQRT(2)*Vin_rms_min*(SIN($Q77)/Vout))))))","v":0.267930681021708},{"$f":"(H$5*((90/$G$35)*(90/$G$35))/2)*(1+(SQRT(1+(4/(H$5*((90/$G$35)*(90/$G$35))))*$H$40*(1-(SQRT(2)*Vin_rms_min*(SIN($Q77)/Vout))))))","v":0.259877814772683},{"$f":"(I$5*((90/$G$35)*(90/$G$35))/2)*(1+(SQRT(1+(4/(I$5*((90/$G$35)*(90/$G$35))))*$I$40*(1-(SQRT(2)*Vin_rms_min*(SIN($Q77)/Vout))))))","v":0.255149888832236},{"$f":"(J$5*((90/$G$35)*(90/$G$35))/2)*(1+(SQRT(1+(4/(J$5*((90/$G$35)*(90/$G$35))))*$J$40*(1-(SQRT(2)*Vin_rms_min*(SIN($Q77)/Vout))))))","v":0.217567110672473},{"$f":"(K$5*((90/$G$35)*(90/$G$35))/2)*(1+(SQRT(1+(4/(K$5*((90/$G$35)*(90/$G$35))))*$K$40*(1-(SQRT(2)*Vin_rms_min*(SIN($Q77)/Vout))))))","v":0.298163788127197},{"$f":"(L$5*((90/$G$35)*(90/$G$35))/2)*(1+(SQRT(1+(4/(L$5*((90/$G$35)*(90/$G$35))))*$L$40*(1-(SQRT(2)*Vin_rms_min*(SIN($Q77)/Vout))))))","v":0.39755171750293},null,{"$f":"R392*ABS(1/(Vout/(SQRT(2)*$C$26*SIN($Q77))))","v":0.0642166507459009},{"$f":"S392*ABS(1/(Vout/(SQRT(2)*$C$26*SIN($Q77))))","v":0.0622865690641571},{"$f":"T392*ABS(1/(Vout/(SQRT(2)*$C$26*SIN($Q77))))","v":0.0611533969775845},{"$f":"U392*ABS(1/(Vout/(SQRT(2)*$C$26*SIN($Q77))))","v":0.052145693455379},{"$f":"V392*ABS(1/(Vout/(SQRT(2)*$C$26*SIN($Q77))))","v":0.071462811852024},{"$f":"W392*ABS(1/(Vout/(SQRT(2)*$C$26*SIN($Q77))))","v":0.0952837491360321},null,{"$f":"1/(0.0000128*(R392+Y392+$G$40))","v":34551.0435796889},{"$f":"1/(0.0000128*(S392+Z392+$H$40))","v":73587.2853883045},{"$f":"1/(0.0000128*(T392+AA392+$I$40))","v":95518.6283701588},{"$f":"1/(0.0000128*(U392+AB392+$J$40))","v":264370.947413161},{"$f":"1/(0.0000128*(V392+AC392+$K$40))","v":211361.952858349},{"$f":"1/(0.0000128*(W392+AD392+$L$40))","v":158521.464643762}]
[null,null,null,null,null,null,null,null,null,null,null,null,null,null,null,null,null,{"$f":"(G$5*((90/$G$35)*(90/$G$35))/2)*(1+(SQRT(1+(4/(G$5*((90/$G$35)*(90/$G$35))))*$G$40*(1-(SQRT(2)*Vin_rms_min*(SIN($Q78)/Vout))))))","v":0.26756726344995},{"$f":"(H$5*((90/$G$35)*(90/$G$35))/2)*(1+(SQRT(1+(4/(H$5*((90/$G$35)*(90/$G$35))))*$H$40*(1-(SQRT(2)*Vin_rms_min*(SIN($Q78)/Vout))))))","v":0.259563826519851},{"$f":"(I$5*((90/$G$35)*(90/$G$35))/2)*(1+(SQRT(1+(4/(I$5*((90/$G$35)*(90/$G$35))))*$I$40*(1-(SQRT(2)*Vin_rms_min*(SIN($Q78)/Vout))))))","v":0.254864668478678},{"$f":"(J$5*((90/$G$35)*(90/$G$35))/2)*(1+(SQRT(1+(4/(J$5*((90/$G$35)*(90/$G$35))))*$J$40*(1-(SQRT(2)*Vin_rms_min*(SIN($Q78)/Vout))))))","v":0.217516125661661},{"$f":"(K$5*((90/$G$35)*(90/$G$35))/2)*(1+(SQRT(1+(4/(K$5*((90/$G$35)*(90/$G$35))))*$K$40*(1-(SQRT(2)*Vin_rms_min*(SIN($Q78)/Vout))))))","v":0.298163788127197},{"$f":"(L$5*((90/$G$35)*(90/$G$35))/2)*(1+(SQRT(1+(4/(L$5*((90/$G$35)*(90/$G$35))))*$L$40*(1-(SQRT(2)*Vin_rms_min*(SIN($Q78)/Vout))))))","v":0.39755171750293},null,{"$f":"R393*ABS(1/(Vout/(SQRT(2)*$C$26*SIN($Q78))))","v":0.0648724305903145},{"$f":"S393*ABS(1/(Vout/(SQRT(2)*$C$26*SIN($Q78))))","v":0.0629319749454897},{"$f":"T393*ABS(1/(Vout/(SQRT(2)*$C$26*SIN($Q78))))","v":0.0617926509492417},{"$f":"U393*ABS(1/(Vout/(SQRT(2)*$C$26*SIN($Q78))))","v":0.052737392393669},{"$f":"V393*ABS(1/(Vout/(SQRT(2)*$C$26*SIN($Q78))))","v":0.0722906434831666},{"$f":"W393*ABS(1/(Vout/(SQRT(2)*$C$26*SIN($Q78))))","v":0.0963875246442222},null,{"$f":"1/(0.0000128*(R393+Y393+$G$40))","v":34546.5767696076},{"$f":"1/(0.0000128*(S393+Z393+$H$40))","v":73564.3209626659},{"$f":"1/(0.0000128*(T393+AA393+$I$40))","v":95477.3005325766},{"$f":"1/(0.0000128*(U393+AB393+$J$40))","v":263888.098723418},{"$f":"1/(0.0000128*(V393+AC393+$K$40))","v":210889.635360524},{"$f":"1/(0.0000128*(W393+AD393+$L$40))","v":158167.226520393}]
[null,null,null,null,null,null,null,null,null,null,null,null,null,null,null,null,null,{"$f":"(G$5*((90/$G$35)*(90/$G$35))/2)*(1+(SQRT(1+(4/(G$5*((90/$G$35)*(90/$G$35))))*$G$40*(1-(SQRT(2)*Vin_rms_min*(SIN($Q79)/Vout))))))","v":0.267206492386608},{"$f":"(H$5*((90/$G$35)*(90/$G$35))/2)*(1+(SQRT(1+(4/(H$5*((90/$G$35)*(90/$G$35))))*$H$40*(1-(SQRT(2)*Vin_rms_min*(SIN($Q79)/Vout))))))","v":0.259252136865508},{"$f":"(I$5*((90/$G$35)*(90/$G$35))/2)*(1+(SQRT(1+(4/(I$5*((90/$G$35)*(90/$G$35))))*$I$40*(1-(SQRT(2)*Vin_rms_min*(SIN($Q79)/Vout))))))","v":0.254581546935486},{"$f":"(J$5*((90/$G$35)*(90/$G$35))/2)*(1+(SQRT(1+(4/(J$5*((90/$G$35)*(90/$G$35))))*$J$40*(1-(SQRT(2)*Vin_rms_min*(SIN($Q79)/Vout))))))","v":0.217465564147858},{"$f":"(K$5*((90/$G$35)*(90/$G$35))/2)*(1+(SQRT(1+(4/(K$5*((90/$G$35)*(90/$G$35))))*$K$40*(1-(SQRT(2)*Vin_rms_min*(SIN($Q79)/Vout))))))","v":0.298163788127197},{"$f":"(L$5*((90/$G$35)*(90/$G$35))/2)*(1+(SQRT(1+(4/(L$5*((90/$G$35)*(90/$G$35))))*$L$40*(1-(SQRT(2)*Vin_rms_min*(SIN($Q79)/Vout))))))","v":0.39755171750293},null,{"$f":"R394*ABS(1/(Vout/(SQRT(2)*$C$26*SIN($Q79))))","v":0.0655203629851502},{"$f":"S394*ABS(1/(Vout/(SQRT(2)*$C$26*SIN($Q79))))","v":0.0635699153878614},{"$f":"T394*ABS(1/(Vout/(SQRT(2)*$C$26*SIN($Q79))))","v":0.0624246634711263},{"$f":"U394*ABS(1/(Vout/(SQRT(2)*$C$26*SIN($Q79))))","v":0.0533236396034972},{"$f":"V394*ABS(1/(Vout/(SQRT(2)*$C$26*SIN($Q79))))","v":0.0731112461102029},{"$f":"W394*ABS(1/(Vout/(SQRT(2)*$C$26*SIN($Q79))))","v":0.0974816614802706},null,{"$f":"1/(0.0000128*(R394+Y394+$G$40))","v":34542.1905454444},{"$f":"1/(0.0000128*(S394+Z394+$H$40))","v":73541.7285504742},{"$f":"1/(0.0000128*(T394+AA394+$I$40))","v":95436.6079890773},{"$f":"1/(0.0000128*(U394+AB394+$J$40))","v":263411.476250146},{"$f":"1/(0.0000128*(V394+AC394+$K$40))","v":210423.521097962},{"$f":"1/(0.0000128*(W394+AD394+$L$40))","v":157817.640823471}]
[null,null,null,null,null,null,null,null,null,null,null,null,null,null,null,null,null,{"$f":"(G$5*((90/$G$35)*(90/$G$35))/2)*(1+(SQRT(1+(4/(G$5*((90/$G$35)*(90/$G$35))))*$G$40*(1-(SQRT(2)*Vin_rms_min*(SIN($Q80)/Vout))))))","v":0.266848415585083},{"$f":"(H$5*((90/$G$35)*(90/$G$35))/2)*(1+(SQRT(1+(4/(H$5*((90/$G$35)*(90/$G$35))))*$H$40*(1-(SQRT(2)*Vin_rms_min*(SIN($Q80)/Vout))))))","v":0.258942786850488},{"$f":"(I$5*((90/$G$35)*(90/$G$35))/2)*(1+(SQRT(1+(4/(I$5*((90/$G$35)*(90/$G$35))))*$I$40*(1-(SQRT(2)*Vin_rms_min*(SIN($Q80)/Vout))))))","v":0.254300561285649},{"$f":"(J$5*((90/$G$35)*(90/$G$35))/2)*(1+(SQRT(1+(4/(J$5*((90/$G$35)*(90/$G$35))))*$J$40*(1-(SQRT(2)*Vin_rms_min*(SIN($Q80)/Vout))))))","v":0.217415431734667},{"$f":"(K$5*((90/$G$35)*(90/$G$35))/2)*(1+(SQRT(1+(4/(K$5*((90/$G$35)*(90/$G$35))))*$K$40*(1-(SQRT(2)*Vin_rms_min*(SIN($Q80)/Vout))))))","v":0.298163788127197},{"$f":"(L$5*((90/$G$35)*(90/$G$35))/2)*(1+(SQRT(1+(4/(L$5*((90/$G$35)*(90/$G$35))))*$L$40*(1-(SQRT(2)*Vin_rms_min*(SIN($Q80)/Vout))))))","v":0.39755171750293},null,{"$f":"R395*ABS(1/(Vout/(SQRT(2)*$C$26*SIN($Q80))))","v":0.0661604344208031},{"$f":"S395*ABS(1/(Vout/(SQRT(2)*$C$26*SIN($Q80))))","v":0.0642003709506732},{"$f":"T395*ABS(1/(Vout/(SQRT(2)*$C$26*SIN($Q80))))","v":0.0630494116715044},{"$f":"U395*ABS(1/(Vout/(SQRT(2)*$C$26*SIN($Q80))))","v":0.053904383812111},{"$f":"V395*ABS(1/(Vout/(SQRT(2)*$C$26*SIN($Q80))))","v":0.073924537673554},{"$f":"W395*ABS(1/(Vout/(SQRT(2)*$C$26*SIN($Q80))))","v":0.0985660502314053},null,{"$f":"1/(0.0000128*(R395+Y395+$G$40))","v":34537.8843233954},{"$f":"1/(0.0000128*(S395+Z395+$H$40))","v":73519.5059851112},{"$f":"1/(0.0000128*(T395+AA395+$I$40))","v":95396.5475057015},{"$f":"1/(0.0000128*(U395+AB395+$J$40))","v":262941.062534754},{"$f":"1/(0.0000128*(V395+AC395+$K$40))","v":209963.588166523},{"$f":"1/(0.0000128*(W395+AD395+$L$40))","v":157472.691124892}]
[null,null,null,null,null,null,null,null,null,null,null,null,null,null,null,null,null,{"$f":"(G$5*((90/$G$35)*(90/$G$35))/2)*(1+(SQRT(1+(4/(G$5*((90/$G$35)*(90/$G$35))))*$G$40*(1-(SQRT(2)*Vin_rms_min*(SIN($Q81)/Vout))))))","v":0.266493080666262},{"$f":"(H$5*((90/$G$35)*(90/$G$35))/2)*(1+(SQRT(1+(4/(H$5*((90/$G$35)*(90/$G$35))))*$H$40*(1-(SQRT(2)*Vin_rms_min*(SIN($Q81)/Vout))))))","v":0.258635817394814},{"$f":"(I$5*((90/$G$35)*(90/$G$35))/2)*(1+(SQRT(1+(4/(I$5*((90/$G$35)*(90/$G$35))))*$I$40*(1-(SQRT(2)*Vin_rms_min*(SIN($Q81)/Vout))))))","v":0.254021748496819},{"$f":"(J$5*((90/$G$35)*(90/$G$35))/2)*(1+(SQRT(1+(4/(J$5*((90/$G$35)*(90/$G$35))))*$J$40*(1-(SQRT(2)*Vin_rms_min*(SIN($Q81)/Vout))))))","v":0.217365733985478},{"$f":"(K$5*((90/$G$35)*(90/$G$35))/2)*(1+(SQRT(1+(4/(K$5*((90/$G$35)*(90/$G$35))))*$K$40*(1-(SQRT(2)*Vin_rms_min*(SIN($Q81)/Vout))))))","v":0.298163788127197},{"$f":"(L$5*((90/$G$35)*(90/$G$35))/2)*(1+(SQRT(1+(4/(L$5*((90/$G$35)*(90/$G$35))))*$L$40*(1-(SQRT(2)*Vin_rms_min*(SIN($Q81)/Vout))))))","v":0.39755171750293},null,{"$f":"R396*ABS(1/(Vout/(SQRT(2)*$C$26*SIN($Q81))))","v":0.0667926325305297},{"$f":"S396*ABS(1/(Vout/(SQRT(2)*$C$26*SIN($Q81))))","v":0.0648233232446249},{"$f":"T396*ABS(1/(Vout/(SQRT(2)*$C$26*SIN($Q81))))","v":0.0636668736752633},{"$f":"U396*ABS(1/(Vout/(SQRT(2)*$C$26*SIN($Q81))))","v":0.054479574323368},{"$f":"V396*ABS(1/(Vout/(SQRT(2)*$C$26*SIN($Q81))))","v":0.0747304368447413},{"$f":"W396*ABS(1/(Vout/(SQRT(2)*$C$26*SIN($Q81))))","v":0.0996405824596551},null,{"$f":"1/(0.0000128*(R396+Y396+$G$40))","v":34533.6575058873},{"$f":"1/(0.0000128*(S396+Z396+$H$40))","v":73497.6510508228},{"$f":"1/(0.0000128*(T396+AA396+$I$40))","v":95357.1157779252},{"$f":"1/(0.0000128*(U396+AB396+$J$40))","v":262476.840115132},{"$f":"1/(0.0000128*(V396+AC396+$K$40))","v":209509.81476283},{"$f":"1/(0.0000128*(W396+AD396+$L$40))","v":157132.361072123}]
[null,null,null,null,null,null,null,null,null,null,null,null,null,null,null,null,null,{"$f":"(G$5*((90/$G$35)*(90/$G$35))/2)*(1+(SQRT(1+(4/(G$5*((90/$G$35)*(90/$G$35))))*$G$40*(1-(SQRT(2)*Vin_rms_min*(SIN($Q82)/Vout))))))","v":0.266140535108707},{"$f":"(H$5*((90/$G$35)*(90/$G$35))/2)*(1+(SQRT(1+(4/(H$5*((90/$G$35)*(90/$G$35))))*$H$40*(1-(SQRT(2)*Vin_rms_min*(SIN($Q82)/Vout))))))","v":0.258331269289315},{"$f":"(I$5*((90/$G$35)*(90/$G$35))/2)*(1+(SQRT(1+(4/(I$5*((90/$G$35)*(90/$G$35))))*$I$40*(1-(SQRT(2)*Vin_rms_min*(SIN($Q82)/Vout))))))","v":0.253745145413791},{"$f":"(J$5*((90/$G$35)*(90/$G$35))/2)*(1+(SQRT(1+(4/(J$5*((90/$G$35)*(90/$G$35))))*$J$40*(1-(SQRT(2)*Vin_rms_min*(SIN($Q82)/Vout))))))","v":0.21731647642268},{"$f":"(K$5*((90/$G$35)*(90/$G$35))/2)*(1+(SQRT(1+(4/(K$5*((90/$G$35)*(90/$G$35))))*$K$40*(1-(SQRT(2)*Vin_rms_min*(SIN($Q82)/Vout))))))","v":0.298163788127197},{"$f":"(L$5*((90/$G$35)*(90/$G$35))/2)*(1+(SQRT(1+(4/(L$5*((90/$G$35)*(90/$G$35))))*$L$40*(1-(SQRT(2)*Vin_rms_min*(SIN($Q82)/Vout))))))","v":0.39755171750293},null,{"$f":"R397*ABS(1/(Vout/(SQRT(2)*$C$26*SIN($Q82))))","v":0.0674169460698693},{"$f":"S397*ABS(1/(Vout/(SQRT(2)*$C$26*SIN($Q82))))","v":0.065438754914673},{"$f":"T397*ABS(1/(Vout/(SQRT(2)*$C$26*SIN($Q82))))","v":0.0642770285889196},{"$f":"U397*ABS(1/(Vout/(SQRT(2)*$C$26*SIN($Q82))))","v":0.0550491610197507},{"$f":"V397*ABS(1/(Vout/(SQRT(2)*$C$26*SIN($Q82))))","v":0.0755288630345193},{"$f":"W397*ABS(1/(Vout/(SQRT(2)*$C$26*SIN($Q82))))","v":0.100705150712692},null,{"$f":"1/(0.0000128*(R397+Y397+$G$40))","v":34529.5094820328},{"$f":"1/(0.0000128*(S397+Z397+$H$40))","v":73476.161484462},{"$f":"1/(0.0000128*(T397+AA397+$I$40))","v":95318.309433319},{"$f":"1/(0.0000128*(U397+AB397+$J$40))","v":262018.791535239},{"$f":"1/(0.0000128*(V397+AC397+$K$40))","v":209062.179192256},{"$f":"1/(0.0000128*(W397+AD397+$L$40))","v":156796.634394192}]
[null,null,null,null,null,null,null,null,null,null,null,null,null,null,null,null,null,{"$f":"(G$5*((90/$G$35)*(90/$G$35))/2)*(1+(SQRT(1+(4/(G$5*((90/$G$35)*(90/$G$35))))*$G$40*(1-(SQRT(2)*Vin_rms_min*(SIN($Q83)/Vout))))))","v":0.265790826238723},{"$f":"(H$5*((90/$G$35)*(90/$G$35))/2)*(1+(SQRT(1+(4/(H$5*((90/$G$35)*(90/$G$35))))*$H$40*(1-(SQRT(2)*Vin_rms_min*(SIN($Q83)/Vout))))))","v":0.258029183187156},{"$f":"(I$5*((90/$G$35)*(90/$G$35))/2)*(1+(SQRT(1+(4/(I$5*((90/$G$35)*(90/$G$35))))*$I$40*(1-(SQRT(2)*Vin_rms_min*(SIN($Q83)/Vout))))))","v":0.253470788750909},{"$f":"(J$5*((90/$G$35)*(90/$G$35))/2)*(1+(SQRT(1+(4/(J$5*((90/$G$35)*(90/$G$35))))*$J$40*(1-(SQRT(2)*Vin_rms_min*(SIN($Q83)/Vout))))))","v":0.217267664526869},{"$f":"(K$5*((90/$G$35)*(90/$G$35))/2)*(1+(SQRT(1+(4/(K$5*((90/$G$35)*(90/$G$35))))*$K$40*(1-(SQRT(2)*Vin_rms_min*(SIN($Q83)/Vout))))))","v":0.298163788127197},{"$f":"(L$5*((90/$G$35)*(90/$G$35))/2)*(1+(SQRT(1+(4/(L$5*((90/$G$35)*(90/$G$35))))*$L$40*(1-(SQRT(2)*Vin_rms_min*(SIN($Q83)/Vout))))))","v":0.39755171750293},null,{"$f":"R398*ABS(1/(Vout/(SQRT(2)*$C$26*SIN($Q83))))","v":0.0680333648956466},{"$f":"S398*ABS(1/(Vout/(SQRT(2)*$C$26*SIN($Q83))))","v":0.0660466496226267},{"$f":"T398*ABS(1/(Vout/(SQRT(2)*$C$26*SIN($Q83))))","v":0.0648798564853011},{"$f":"U398*ABS(1/(Vout/(SQRT(2)*$C$26*SIN($Q83))))","v":0.0556130943643077},{"$f":"V398*ABS(1/(Vout/(SQRT(2)*$C$26*SIN($Q83))))","v":0.0763197364009343},{"$f":"W398*ABS(1/(Vout/(SQRT(2)*$C$26*SIN($Q83))))","v":0.101759648534579},null,{"$f":"1/(0.0000128*(R398+Y398+$G$40))","v":34525.4396280939},{"$f":"1/(0.0000128*(S398+Z398+$H$40))","v":73455.0349772496},{"$f":"1/(0.0000128*(T398+AA398+$I$40))","v":95280.1250342255},{"$f":"1/(0.0000128*(U398+AB398+$J$40))","v":261566.899354453},{"$f":"1/(0.0000128*(V398+AC398+$K$40))","v":208620.65987667},{"$f":"1/(0.0000128*(W398+AD398+$L$40))","v":156465.494907503}]
[null,null,null,null,null,null,null,null,null,null,null,null,null,null,null,null,null,{"$f":"(G$5*((90/$G$35)*(90/$G$35))/2)*(1+(SQRT(1+(4/(G$5*((90/$G$35)*(90/$G$35))))*$G$40*(1-(SQRT(2)*Vin_rms_min*(SIN($Q84)/Vout))))))","v":0.265444001220303},{"$f":"(H$5*((90/$G$35)*(90/$G$35))/2)*(1+(SQRT(1+(4/(H$5*((90/$G$35)*(90/$G$35))))*$H$40*(1-(SQRT(2)*Vin_rms_min*(SIN($Q84)/Vout))))))","v":0.257729599595263},{"$f":"(I$5*((90/$G$35)*(90/$G$35))/2)*(1+(SQRT(1+(4/(I$5*((90/$G$35)*(90/$G$35))))*$I$40*(1-(SQRT(2)*Vin_rms_min*(SIN($Q84)/Vout))))))","v":0.253198715084377},{"$f":"(J$5*((90/$G$35)*(90/$G$35))/2)*(1+(SQRT(1+(4/(J$5*((90/$G$35)*(90/$G$35))))*$J$40*(1-(SQRT(2)*Vin_rms_min*(SIN($Q84)/Vout))))))","v":0.217219303736064},{"$f":"(K$5*((90/$G$35)*(90/$G$35))/2)*(1+(SQRT(1+(4/(K$5*((90/$G$35)*(90/$G$35))))*$K$40*(1-(SQRT(2)*Vin_rms_min*(SIN($Q84)/Vout))))))","v":0.298163788127197},{"$f":"(L$5*((90/$G$35)*(90/$G$35))/2)*(1+(SQRT(1+(4/(L$5*((90/$G$35)*(90/$G$35))))*$L$40*(1-(SQRT(2)*Vin_rms_min*(SIN($Q84)/Vout))))))","v":0.39755171750293},null,{"$f":"R399*ABS(1/(Vout/(SQRT(2)*$C$26*SIN($Q84))))","v":0.0686418799445673},{"$f":"S399*ABS(1/(Vout/(SQRT(2)*$C$26*SIN($Q84))))","v":0.066646992029392},{"$f":"T399*ABS(1/(Vout/(SQRT(2)*$C$26*SIN($Q84))))","v":0.0654753383879114},{"$f":"U399*ABS(1/(Vout/(SQRT(2)*$C$26*SIN($Q84))))","v":0.0561713254025233},{"$f":"V399*ABS(1/(Vout/(SQRT(2)*$C$26*SIN($Q84))))","v":0.0771029778573088},{"$f":"W399*ABS(1/(Vout/(SQRT(2)*$C$26*SIN($Q84))))","v":0.102803970476412},null,{"$f":"1/(0.0000128*(R399+Y399+$G$40))","v":34521.4473079506},{"$f":"1/(0.0000128*(S399+Z399+$H$40))","v":73434.2691765542},{"$f":"1/(0.0000128*(T399+AA399+$I$40))","v":95242.5590804566},{"$f":"1/(0.0000128*(U399+AB399+$J$40))","v":261121.146156659},{"$f":"1/(0.0000128*(V399+AC399+$K$40))","v":208185.235361944},{"$f":"1/(0.0000128*(W399+AD399+$L$40))","v":156138.926521458}]
[null,null,null,null,null,null,null,null,null,null,null,null,null,null,null,null,null,{"$f":"(G$5*((90/$G$35)*(90/$G$35))/2)*(1+(SQRT(1+(4/(G$5*((90/$G$35)*(90/$G$35))))*$G$40*(1-(SQRT(2)*Vin_rms_min*(SIN($Q85)/Vout))))))","v":0.265100107044962},{"$f":"(H$5*((90/$G$35)*(90/$G$35))/2)*(1+(SQRT(1+(4/(H$5*((90/$G$35)*(90/$G$35))))*$H$40*(1-(SQRT(2)*Vin_rms_min*(SIN($Q85)/Vout))))))","v":0.257432558865661},{"$f":"(I$5*((90/$G$35)*(90/$G$35))/2)*(1+(SQRT(1+(4/(I$5*((90/$G$35)*(90/$G$35))))*$I$40*(1-(SQRT(2)*Vin_rms_min*(SIN($Q85)/Vout))))))","v":0.252928960844504},{"$f":"(J$5*((90/$G$35)*(90/$G$35))/2)*(1+(SQRT(1+(4/(J$5*((90/$G$35)*(90/$G$35))))*$J$40*(1-(SQRT(2)*Vin_rms_min*(SIN($Q85)/Vout))))))","v":0.217171399444923},{"$f":"(K$5*((90/$G$35)*(90/$G$35))/2)*(1+(SQRT(1+(4/(K$5*((90/$G$35)*(90/$G$35))))*$K$40*(1-(SQRT(2)*Vin_rms_min*(SIN($Q85)/Vout))))))","v":0.298163788127197},{"$f":"(L$5*((90/$G$35)*(90/$G$35))/2)*(1+(SQRT(1+(4/(L$5*((90/$G$35)*(90/$G$35))))*$L$40*(1-(SQRT(2)*Vin_rms_min*(SIN($Q85)/Vout))))))","v":0.39755171750293},null,{"$f":"R400*ABS(1/(Vout/(SQRT(2)*$C$26*SIN($Q85))))","v":0.0692424832114164},{"$f":"S400*ABS(1/(Vout/(SQRT(2)*$C$26*SIN($Q85))))","v":0.0672397677768734},{"$f":"T400*ABS(1/(Vout/(SQRT(2)*$C$26*SIN($Q85))))","v":0.0660634562549845},{"$f":"U400*ABS(1/(Vout/(SQRT(2)*$C$26*SIN($Q85))))","v":0.0567238057641165},{"$f":"V400*ABS(1/(Vout/(SQRT(2)*$C$26*SIN($Q85))))","v":0.0778785090801499},{"$f":"W400*ABS(1/(Vout/(SQRT(2)*$C$26*SIN($Q85))))","v":0.103838012106867},null,{"$f":"1/(0.0000128*(R400+Y400+$G$40))","v":34517.5318735775},{"$f":"1/(0.0000128*(S400+Z400+$H$40))","v":73413.8616876878},{"$f":"1/(0.0000128*(T400+AA400+$I$40))","v":95205.6080120079},{"$f":"1/(0.0000128*(U400+AB400+$J$40))","v":260681.514559124},{"$f":"1/(0.0000128*(V400+AC400+$K$40))","v":207755.884325221},{"$f":"1/(0.0000128*(W400+AD400+$L$40))","v":155816.913243916}]
[null,null,null,null,null,null,null,null,null,null,null,null,null,null,null,null,null,{"$f":"(G$5*((90/$G$35)*(90/$G$35))/2)*(1+(SQRT(1+(4/(G$5*((90/$G$35)*(90/$G$35))))*$G$40*(1-(SQRT(2)*Vin_rms_min*(SIN($Q86)/Vout))))))","v":0.264759190521455},{"$f":"(H$5*((90/$G$35)*(90/$G$35))/2)*(1+(SQRT(1+(4/(H$5*((90/$G$35)*(90/$G$35))))*$H$40*(1-(SQRT(2)*Vin_rms_min*(SIN($Q86)/Vout))))))","v":0.257138101186715},{"$f":"(I$5*((90/$G$35)*(90/$G$35))/2)*(1+(SQRT(1+(4/(I$5*((90/$G$35)*(90/$G$35))))*$I$40*(1-(SQRT(2)*Vin_rms_min*(SIN($Q86)/Vout))))))","v":0.252661562307863},{"$f":"(J$5*((90/$G$35)*(90/$G$35))/2)*(1+(SQRT(1+(4/(J$5*((90/$G$35)*(90/$G$35))))*$J$40*(1-(SQRT(2)*Vin_rms_min*(SIN($Q86)/Vout))))))","v":0.21712395700396},{"$f":"(K$5*((90/$G$35)*(90/$G$35))/2)*(1+(SQRT(1+(4/(K$5*((90/$G$35)*(90/$G$35))))*$K$40*(1-(SQRT(2)*Vin_rms_min*(SIN($Q86)/Vout))))))","v":0.298163788127197},{"$f":"(L$5*((90/$G$35)*(90/$G$35))/2)*(1+(SQRT(1+(4/(L$5*((90/$G$35)*(90/$G$35))))*$L$40*(1-(SQRT(2)*Vin_rms_min*(SIN($Q86)/Vout))))))","v":0.39755171750293},null,{"$f":"R401*ABS(1/(Vout/(SQRT(2)*$C$26*SIN($Q86))))","v":0.0698351677268707},{"$f":"S401*ABS(1/(Vout/(SQRT(2)*$C$26*SIN($Q86))))","v":0.0678249634695424},{"$f":"T401*ABS(1/(Vout/(SQRT(2)*$C$26*SIN($Q86))))","v":0.0666441929632391},{"$f":"U401*ABS(1/(Vout/(SQRT(2)*$C$26*SIN($Q86))))","v":0.0572704876647697},{"$f":"V401*ABS(1/(Vout/(SQRT(2)*$C$26*SIN($Q86))))","v":0.0786462525169815},{"$f":"W401*ABS(1/(Vout/(SQRT(2)*$C$26*SIN($Q86))))","v":0.104861670022642},null,{"$f":"1/(0.0000128*(R401+Y401+$G$40))","v":34513.6926655254},{"$f":"1/(0.0000128*(S401+Z401+$H$40))","v":73393.8100757198},{"$f":"1/(0.0000128*(T401+AA401+$I$40))","v":95169.2682117929},{"$f":"1/(0.0000128*(U401+AB401+$J$40))","v":260247.987221124},{"$f":"1/(0.0000128*(V401+AC401+$K$40))","v":207332.585581957},{"$f":"1/(0.0000128*(W401+AD401+$L$40))","v":155499.439186468}]
[null,null,null,null,null,null,null,null,null,null,null,null,null,null,null,null,null,{"$f":"(G$5*((90/$G$35)*(90/$G$35))/2)*(1+(SQRT(1+(4/(G$5*((90/$G$35)*(90/$G$35))))*$G$40*(1-(SQRT(2)*Vin_rms_min*(SIN($Q87)/Vout))))))","v":0.264421298265389},{"$f":"(H$5*((90/$G$35)*(90/$G$35))/2)*(1+(SQRT(1+(4/(H$5*((90/$G$35)*(90/$G$35))))*$H$40*(1-(SQRT(2)*Vin_rms_min*(SIN($Q87)/Vout))))))","v":0.256846266574286},{"$f":"(I$5*((90/$G$35)*(90/$G$35))/2)*(1+(SQRT(1+(4/(I$5*((90/$G$35)*(90/$G$35))))*$I$40*(1-(SQRT(2)*Vin_rms_min*(SIN($Q87)/Vout))))))","v":0.252396555589382},{"$f":"(J$5*((90/$G$35)*(90/$G$35))/2)*(1+(SQRT(1+(4/(J$5*((90/$G$35)*(90/$G$35))))*$J$40*(1-(SQRT(2)*Vin_rms_min*(SIN($Q87)/Vout))))))","v":0.217076981718767},{"$f":"(K$5*((90/$G$35)*(90/$G$35))/2)*(1+(SQRT(1+(4/(K$5*((90/$G$35)*(90/$G$35))))*$K$40*(1-(SQRT(2)*Vin_rms_min*(SIN($Q87)/Vout))))))","v":0.298163788127197},{"$f":"(L$5*((90/$G$35)*(90/$G$35))/2)*(1+(SQRT(1+(4/(L$5*((90/$G$35)*(90/$G$35))))*$L$40*(1-(SQRT(2)*Vin_rms_min*(SIN($Q87)/Vout))))))","v":0.39755171750293},null,{"$f":"R402*ABS(1/(Vout/(SQRT(2)*$C$26*SIN($Q87))))","v":0.0704199275349381},{"$f":"S402*ABS(1/(Vout/(SQRT(2)*$C$26*SIN($Q87))))","v":0.0684025666556836},{"$f":"T402*ABS(1/(Vout/(SQRT(2)*$C$26*SIN($Q87))))","v":0.0672175322913417},{"$f":"U402*ABS(1/(Vout/(SQRT(2)*$C$26*SIN($Q87))))","v":0.0578113239077898},{"$f":"V402*ABS(1/(Vout/(SQRT(2)*$C$26*SIN($Q87))))","v":0.0794061313940997},{"$f":"W402*ABS(1/(Vout/(SQRT(2)*$C$26*SIN($Q87))))","v":0.1058748418588},null,{"$f":"1/(0.0000128*(R402+Y402+$G$40))","v":34509.9290134098},{"$f":"1/(0.0000128*(S402+Z402+$H$40))","v":73374.1118673066},{"$f":"1/(0.0000128*(T402+AA402+$I$40))","v":95133.5360083925},{"$f":"1/(0.0000128*(U402+AB402+$J$40))","v":259820.546852355},{"$f":"1/(0.0000128*(V402+AC402+$K$40))","v":206915.318092742},{"$f":"1/(0.0000128*(W402+AD402+$L$40))","v":155186.488569556}]
[null,null,null,null,null,null,null,null,null,null,null,null,null,null,null,null,null,{"$f":"(G$5*((90/$G$35)*(90/$G$35))/2)*(1+(SQRT(1+(4/(G$5*((90/$G$35)*(90/$G$35))))*$G$40*(1-(SQRT(2)*Vin_rms_min*(SIN($Q88)/Vout))))))","v":0.264086476688722},{"$f":"(H$5*((90/$G$35)*(90/$G$35))/2)*(1+(SQRT(1+(4/(H$5*((90/$G$35)*(90/$G$35))))*$H$40*(1-(SQRT(2)*Vin_rms_min*(SIN($Q88)/Vout))))))","v":0.256557094862804},{"$f":"(I$5*((90/$G$35)*(90/$G$35))/2)*(1+(SQRT(1+(4/(I$5*((90/$G$35)*(90/$G$35))))*$I$40*(1-(SQRT(2)*Vin_rms_min*(SIN($Q88)/Vout))))))","v":0.252133976634354},{"$f":"(J$5*((90/$G$35)*(90/$G$35))/2)*(1+(SQRT(1+(4/(J$5*((90/$G$35)*(90/$G$35))))*$J$40*(1-(SQRT(2)*Vin_rms_min*(SIN($Q88)/Vout))))))","v":0.217030478849243},{"$f":"(K$5*((90/$G$35)*(90/$G$35))/2)*(1+(SQRT(1+(4/(K$5*((90/$G$35)*(90/$G$35))))*$K$40*(1-(SQRT(2)*Vin_rms_min*(SIN($Q88)/Vout))))))","v":0.298163788127197},{"$f":"(L$5*((90/$G$35)*(90/$G$35))/2)*(1+(SQRT(1+(4/(L$5*((90/$G$35)*(90/$G$35))))*$L$40*(1-(SQRT(2)*Vin_rms_min*(SIN($Q88)/Vout))))))","v":0.39755171750293},null,{"$f":"R403*ABS(1/(Vout/(SQRT(2)*$C$26*SIN($Q88))))","v":0.0709967576700344},{"$f":"S403*ABS(1/(Vout/(SQRT(2)*$C$26*SIN($Q88))))","v":0.0689725658083286},{"$f":"T403*ABS(1/(Vout/(SQRT(2)*$C$26*SIN($Q88))))","v":0.0677834589030881},{"$f":"U403*ABS(1/(Vout/(SQRT(2)*$C$26*SIN($Q88))))","v":0.0583462678857015},{"$f":"V403*ABS(1/(Vout/(SQRT(2)*$C$26*SIN($Q88))))","v":0.08015806972425},{"$f":"W403*ABS(1/(Vout/(SQRT(2)*$C$26*SIN($Q88))))","v":0.106877426299},null,{"$f":"1/(0.0000128*(R403+Y403+$G$40))","v":34506.240236405},{"$f":"1/(0.0000128*(S403+Z403+$H$40))","v":73354.7645525377},{"$f":"1/(0.0000128*(T403+AA403+$I$40))","v":95098.407678822},{"$f":"1/(0.0000128*(U403+AB403+$J$40))","v":259399.176221115},{"$f":"1/(0.0000128*(V403+AC403+$K$40))","v":206504.060969897},{"$f":"1/(0.0000128*(W403+AD403+$L$40))","v":154878.045727423}]
[null,null,null,null,null,null,null,null,null,null,null,null,null,null,null,null,null,{"$f":"(G$5*((90/$G$35)*(90/$G$35))/2)*(1+(SQRT(1+(4/(G$5*((90/$G$35)*(90/$G$35))))*$G$40*(1-(SQRT(2)*Vin_rms_min*(SIN($Q89)/Vout))))))","v":0.263754771989166},{"$f":"(H$5*((90/$G$35)*(90/$G$35))/2)*(1+(SQRT(1+(4/(H$5*((90/$G$35)*(90/$G$35))))*$H$40*(1-(SQRT(2)*Vin_rms_min*(SIN($Q89)/Vout))))))","v":0.256270625696249},{"$f":"(I$5*((90/$G$35)*(90/$G$35))/2)*(1+(SQRT(1+(4/(I$5*((90/$G$35)*(90/$G$35))))*$I$40*(1-(SQRT(2)*Vin_rms_min*(SIN($Q89)/Vout))))))","v":0.251873861210386},{"$f":"(J$5*((90/$G$35)*(90/$G$35))/2)*(1+(SQRT(1+(4/(J$5*((90/$G$35)*(90/$G$35))))*$J$40*(1-(SQRT(2)*Vin_rms_min*(SIN($Q89)/Vout))))))","v":0.216984453608817},{"$f":"(K$5*((90/$G$35)*(90/$G$35))/2)*(1+(SQRT(1+(4/(K$5*((90/$G$35)*(90/$G$35))))*$K$40*(1-(SQRT(2)*Vin_rms_min*(SIN($Q89)/Vout))))))","v":0.298163788127197},{"$f":"(L$5*((90/$G$35)*(90/$G$35))/2)*(1+(SQRT(1+(4/(L$5*((90/$G$35)*(90/$G$35))))*$L$40*(1-(SQRT(2)*Vin_rms_min*(SIN($Q89)/Vout))))))","v":0.39755171750293},null,{"$f":"R404*ABS(1/(Vout/(SQRT(2)*$C$26*SIN($Q89))))","v":0.0715656541337106},{"$f":"S404*ABS(1/(Vout/(SQRT(2)*$C$26*SIN($Q89))))","v":0.0695349503058875},{"$f":"T404*ABS(1/(Vout/(SQRT(2)*$C$26*SIN($Q89))))","v":0.0683419583303126},{"$f":"U404*ABS(1/(Vout/(SQRT(2)*$C$26*SIN($Q89))))","v":0.0588752735817748},{"$f":"V404*ABS(1/(Vout/(SQRT(2)*$C$26*SIN($Q89))))","v":0.0809019923142261},{"$f":"W404*ABS(1/(Vout/(SQRT(2)*$C$26*SIN($Q89))))","v":0.107869323085635},null,{"$f":"1/(0.0000128*(R404+Y404+$G$40))","v":34502.6256437438},{"$f":"1/(0.0000128*(S404+Z404+$H$40))","v":73335.7655867966},{"$f":"1/(0.0000128*(T404+AA404+$I$40))","v":95063.8794513143},{"$f":"1/(0.0000128*(U404+AB404+$J$40))","v":258983.858162279},{"$f":"1/(0.0000128*(V404+AC404+$K$40))","v":206098.793483873},{"$f":"1/(0.0000128*(W404+AD404+$L$40))","v":154574.095112905}]
[null,null,null,null,null,null,null,null,null,null,null,null,null,null,null,null,null,{"$f":"(G$5*((90/$G$35)*(90/$G$35))/2)*(1+(SQRT(1+(4/(G$5*((90/$G$35)*(90/$G$35))))*$G$40*(1-(SQRT(2)*Vin_rms_min*(SIN($Q90)/Vout))))))","v":0.263426230139485},{"$f":"(H$5*((90/$G$35)*(90/$G$35))/2)*(1+(SQRT(1+(4/(H$5*((90/$G$35)*(90/$G$35))))*$H$40*(1-(SQRT(2)*Vin_rms_min*(SIN($Q90)/Vout))))))","v":0.255986898519064},{"$f":"(I$5*((90/$G$35)*(90/$G$35))/2)*(1+(SQRT(1+(4/(I$5*((90/$G$35)*(90/$G$35))))*$I$40*(1-(SQRT(2)*Vin_rms_min*(SIN($Q90)/Vout))))))","v":0.251616244899277},{"$f":"(J$5*((90/$G$35)*(90/$G$35))/2)*(1+(SQRT(1+(4/(J$5*((90/$G$35)*(90/$G$35))))*$J$40*(1-(SQRT(2)*Vin_rms_min*(SIN($Q90)/Vout))))))","v":0.216938911163684},{"$f":"(K$5*((90/$G$35)*(90/$G$35))/2)*(1+(SQRT(1+(4/(K$5*((90/$G$35)*(90/$G$35))))*$K$40*(1-(SQRT(2)*Vin_rms_min*(SIN($Q90)/Vout))))))","v":0.298163788127197},{"$f":"(L$5*((90/$G$35)*(90/$G$35))/2)*(1+(SQRT(1+(4/(L$5*((90/$G$35)*(90/$G$35))))*$L$40*(1-(SQRT(2)*Vin_rms_min*(SIN($Q90)/Vout))))))","v":0.39755171750293},null,{"$f":"R405*ABS(1/(Vout/(SQRT(2)*$C$26*SIN($Q90))))","v":0.0721266138710444},{"$f":"S405*ABS(1/(Vout/(SQRT(2)*$C$26*SIN($Q90))))","v":0.0700897104124911},{"$f":"T405*ABS(1/(Vout/(SQRT(2)*$C$26*SIN($Q90))))","v":0.0688930169555355},{"$f":"U405*ABS(1/(Vout/(SQRT(2)*$C$26*SIN($Q90))))","v":0.0593982955714877},{"$f":"V405*ABS(1/(Vout/(SQRT(2)*$C$26*SIN($Q90))))","v":0.0816378247723889},{"$f":"W405*ABS(1/(Vout/(SQRT(2)*$C$26*SIN($Q90))))","v":0.108850433029852},null,{"$f":"1/(0.0000128*(R405+Y405+$G$40))","v":34499.0845352235},{"$f":"1/(0.0000128*(S405+Z405+$H$40))","v":73317.1123926372},{"$f":"1/(0.0000128*(T405+AA405+$I$40))","v":95029.9475081174},{"$f":"1/(0.0000128*(U405+AB405+$J$40))","v":258574.575585051},{"$f":"1/(0.0000128*(V405+AC405+$K$40))","v":205699.49506943},{"$f":"1/(0.0000128*(W405+AD405+$L$40))","v":154274.621302072}]
[null,null,null,null,null,null,null,null,null,null,null,null,null,null,null,null,null,{"$f":"(G$5*((90/$G$35)*(90/$G$35))/2)*(1+(SQRT(1+(4/(G$5*((90/$G$35)*(90/$G$35))))*$G$40*(1-(SQRT(2)*Vin_rms_min*(SIN($Q91)/Vout))))))","v":0.263100896876697},{"$f":"(H$5*((90/$G$35)*(90/$G$35))/2)*(1+(SQRT(1+(4/(H$5*((90/$G$35)*(90/$G$35))))*$H$40*(1-(SQRT(2)*Vin_rms_min*(SIN($Q91)/Vout))))))","v":0.255705952566981},{"$f":"(I$5*((90/$G$35)*(90/$G$35))/2)*(1+(SQRT(1+(4/(I$5*((90/$G$35)*(90/$G$35))))*$I$40*(1-(SQRT(2)*Vin_rms_min*(SIN($Q91)/Vout))))))","v":0.251361163088834},{"$f":"(J$5*((90/$G$35)*(90/$G$35))/2)*(1+(SQRT(1+(4/(J$5*((90/$G$35)*(90/$G$35))))*$J$40*(1-(SQRT(2)*Vin_rms_min*(SIN($Q91)/Vout))))))","v":0.216893856632039},{"$f":"(K$5*((90/$G$35)*(90/$G$35))/2)*(1+(SQRT(1+(4/(K$5*((90/$G$35)*(90/$G$35))))*$K$40*(1-(SQRT(2)*Vin_rms_min*(SIN($Q91)/Vout))))))","v":0.298163788127197},{"$f":"(L$5*((90/$G$35)*(90/$G$35))/2)*(1+(SQRT(1+(4/(L$5*((90/$G$35)*(90/$G$35))))*$L$40*(1-(SQRT(2)*Vin_rms_min*(SIN($Q91)/Vout))))))","v":0.39755171750293},null,{"$f":"R406*ABS(1/(Vout/(SQRT(2)*$C$26*SIN($Q91))))","v":0.0726796347467069},{"$f":"S406*ABS(1/(Vout/(SQRT(2)*$C$26*SIN($Q91))))","v":0.0706368372580527},{"$f":"T406*ABS(1/(Vout/(SQRT(2)*$C$26*SIN($Q91))))","v":0.0694366219943584},{"$f":"U406*ABS(1/(Vout/(SQRT(2)*$C$26*SIN($Q91))))","v":0.059915289023925},{"$f":"V406*ABS(1/(Vout/(SQRT(2)*$C$26*SIN($Q91))))","v":0.0823654935161058},{"$f":"W406*ABS(1/(Vout/(SQRT(2)*$C$26*SIN($Q91))))","v":0.109820658021474},null,{"$f":"1/(0.0000128*(R406+Y406+$G$40))","v":34495.6162017163},{"$f":"1/(0.0000128*(S406+Z406+$H$40))","v":73298.8023616736},{"$f":"1/(0.0000128*(T406+AA406+$I$40))","v":94996.607988307},{"$f":"1/(0.0000128*(U406+AB406+$J$40))","v":258171.31148052},{"$f":"1/(0.0000128*(V406+AC406+$K$40))","v":205306.145331628},{"$f":"1/(0.0000128*(W406+AD406+$L$40))","v":153979.608998721}]
[null,null,null,null,null,null,null,null,null,null,null,null,null,null,null,null,null,{"$f":"(G$5*((90/$G$35)*(90/$G$35))/2)*(1+(SQRT(1+(4/(G$5*((90/$G$35)*(90/$G$35))))*$G$40*(1-(SQRT(2)*Vin_rms_min*(SIN($Q92)/Vout))))))","v":0.262778817691188},{"$f":"(H$5*((90/$G$35)*(90/$G$35))/2)*(1+(SQRT(1+(4/(H$5*((90/$G$35)*(90/$G$35))))*$H$40*(1-(SQRT(2)*Vin_rms_min*(SIN($Q92)/Vout))))))","v":0.255427826857782},{"$f":"(I$5*((90/$G$35)*(90/$G$35))/2)*(1+(SQRT(1+(4/(I$5*((90/$G$35)*(90/$G$35))))*$I$40*(1-(SQRT(2)*Vin_rms_min*(SIN($Q92)/Vout))))))","v":0.251108650964621},{"$f":"(J$5*((90/$G$35)*(90/$G$35))/2)*(1+(SQRT(1+(4/(J$5*((90/$G$35)*(90/$G$35))))*$J$40*(1-(SQRT(2)*Vin_rms_min*(SIN($Q92)/Vout))))))","v":0.216849295083315},{"$f":"(K$5*((90/$G$35)*(90/$G$35))/2)*(1+(SQRT(1+(4/(K$5*((90/$G$35)*(90/$G$35))))*$K$40*(1-(SQRT(2)*Vin_rms_min*(SIN($Q92)/Vout))))))","v":0.298163788127197},{"$f":"(L$5*((90/$G$35)*(90/$G$35))/2)*(1+(SQRT(1+(4/(L$5*((90/$G$35)*(90/$G$35))))*$L$40*(1-(SQRT(2)*Vin_rms_min*(SIN($Q92)/Vout))))))","v":0.39755171750293},null,{"$f":"R407*ABS(1/(Vout/(SQRT(2)*$C$26*SIN($Q92))))","v":0.07322471552072},{"$f":"S407*ABS(1/(Vout/(SQRT(2)*$C$26*SIN($Q92))))","v":0.0711763228180626},{"$f":"T407*ABS(1/(Vout/(SQRT(2)*$C$26*SIN($Q92))))","v":0.0699727614776187},{"$f":"U407*ABS(1/(Vout/(SQRT(2)*$C$26*SIN($Q92))))","v":0.0604262097031153},{"$f":"V407*ABS(1/(Vout/(SQRT(2)*$C$26*SIN($Q92))))","v":0.0830849257791086},{"$f":"W407*ABS(1/(Vout/(SQRT(2)*$C$26*SIN($Q92))))","v":0.110779901038812},null,{"$f":"1/(0.0000128*(R407+Y407+$G$40))","v":34492.2199256856},{"$f":"1/(0.0000128*(S407+Z407+$H$40))","v":73280.8328564844},{"$f":"1/(0.0000128*(T407+AA407+$I$40))","v":94963.8569906126},{"$f":"1/(0.0000128*(U407+AB407+$J$40))","v":257774.048929004},{"$f":"1/(0.0000128*(V407+AC407+$K$40))","v":204918.724051616},{"$f":"1/(0.0000128*(W407+AD407+$L$40))","v":153689.043038712}]
[null,null,null,null,null,null,null,null,null,null,null,null,null,null,null,null,null,{"$f":"(G$5*((90/$G$35)*(90/$G$35))/2)*(1+(SQRT(1+(4/(G$5*((90/$G$35)*(90/$G$35))))*$G$40*(1-(SQRT(2)*Vin_rms_min*(SIN($Q93)/Vout))))))","v":0.262460037815731},{"$f":"(H$5*((90/$G$35)*(90/$G$35))/2)*(1+(SQRT(1+(4/(H$5*((90/$G$35)*(90/$G$35))))*$H$40*(1-(SQRT(2)*Vin_rms_min*(SIN($Q93)/Vout))))))","v":0.25515256018198},{"$f":"(I$5*((90/$G$35)*(90/$G$35))/2)*(1+(SQRT(1+(4/(I$5*((90/$G$35)*(90/$G$35))))*$I$40*(1-(SQRT(2)*Vin_rms_min*(SIN($Q93)/Vout))))))","v":0.250858743501657},{"$f":"(J$5*((90/$G$35)*(90/$G$35))/2)*(1+(SQRT(1+(4/(J$5*((90/$G$35)*(90/$G$35))))*$J$40*(1-(SQRT(2)*Vin_rms_min*(SIN($Q93)/Vout))))))","v":0.216805231537431},{"$f":"(K$5*((90/$G$35)*(90/$G$35))/2)*(1+(SQRT(1+(4/(K$5*((90/$G$35)*(90/$G$35))))*$K$40*(1-(SQRT(2)*Vin_rms_min*(SIN($Q93)/Vout))))))","v":0.298163788127197},{"$f":"(L$5*((90/$G$35)*(90/$G$35))/2)*(1+(SQRT(1+(4/(L$5*((90/$G$35)*(90/$G$35))))*$L$40*(1-(SQRT(2)*Vin_rms_min*(SIN($Q93)/Vout))))))","v":0.39755171750293},null,{"$f":"R408*ABS(1/(Vout/(SQRT(2)*$C$26*SIN($Q93))))","v":0.0737618558239178},{"$f":"S408*ABS(1/(Vout/(SQRT(2)*$C$26*SIN($Q93))))","v":0.0717081598931274},{"$f":"T408*ABS(1/(Vout/(SQRT(2)*$C$26*SIN($Q93))))","v":0.0705014242333136},{"$f":"U408*ABS(1/(Vout/(SQRT(2)*$C$26*SIN($Q93))))","v":0.0609310139693069},{"$f":"V408*ABS(1/(Vout/(SQRT(2)*$C$26*SIN($Q93))))","v":0.0837960496187709},{"$f":"W408*ABS(1/(Vout/(SQRT(2)*$C$26*SIN($Q93))))","v":0.111728066158361},null,{"$f":"1/(0.0000128*(R408+Y408+$G$40))","v":34488.8949817064},{"$f":"1/(0.0000128*(S408+Z408+$H$40))","v":73263.2012125291},{"$f":"1/(0.0000128*(T408+AA408+$I$40))","v":94931.690576256},{"$f":"1/(0.0000128*(U408+AB408+$J$40))","v":257382.771107201},{"$f":"1/(0.0000128*(V408+AC408+$K$40))","v":204537.211192238},{"$f":"1/(0.0000128*(W408+AD408+$L$40))","v":153402.908394178}]
[null,null,null,null,null,null,null,null,null,null,null,null,null,null,null,null,null,{"$f":"(G$5*((90/$G$35)*(90/$G$35))/2)*(1+(SQRT(1+(4/(G$5*((90/$G$35)*(90/$G$35))))*$G$40*(1-(SQRT(2)*Vin_rms_min*(SIN($Q94)/Vout))))))","v":0.26214460221443},{"$f":"(H$5*((90/$G$35)*(90/$G$35))/2)*(1+(SQRT(1+(4/(H$5*((90/$G$35)*(90/$G$35))))*$H$40*(1-(SQRT(2)*Vin_rms_min*(SIN($Q94)/Vout))))))","v":0.254880191093446},{"$f":"(I$5*((90/$G$35)*(90/$G$35))/2)*(1+(SQRT(1+(4/(I$5*((90/$G$35)*(90/$G$35))))*$I$40*(1-(SQRT(2)*Vin_rms_min*(SIN($Q94)/Vout))))))","v":0.250611475456059},{"$f":"(J$5*((90/$G$35)*(90/$G$35))/2)*(1+(SQRT(1+(4/(J$5*((90/$G$35)*(90/$G$35))))*$J$40*(1-(SQRT(2)*Vin_rms_min*(SIN($Q94)/Vout))))))","v":0.216761670964037},{"$f":"(K$5*((90/$G$35)*(90/$G$35))/2)*(1+(SQRT(1+(4/(K$5*((90/$G$35)*(90/$G$35))))*$K$40*(1-(SQRT(2)*Vin_rms_min*(SIN($Q94)/Vout))))))","v":0.298163788127197},{"$f":"(L$5*((90/$G$35)*(90/$G$35))/2)*(1+(SQRT(1+(4/(L$5*((90/$G$35)*(90/$G$35))))*$L$40*(1-(SQRT(2)*Vin_rms_min*(SIN($Q94)/Vout))))))","v":0.39755171750293},null,{"$f":"R409*ABS(1/(Vout/(SQRT(2)*$C$26*SIN($Q94))))","v":0.0742910561331251},{"$f":"S409*ABS(1/(Vout/(SQRT(2)*$C$26*SIN($Q94))))","v":0.0722323420882651},{"$f":"T409*ABS(1/(Vout/(SQRT(2)*$C$26*SIN($Q94))))","v":0.0710225998683046},{"$f":"U409*ABS(1/(Vout/(SQRT(2)*$C$26*SIN($Q94))))","v":0.0614296587801831},{"$f":"V409*ABS(1/(Vout/(SQRT(2)*$C$26*SIN($Q94))))","v":0.084498793923301},{"$f":"W409*ABS(1/(Vout/(SQRT(2)*$C$26*SIN($Q94))))","v":0.112665058564401},null,{"$f":"1/(0.0000128*(R409+Y409+$G$40))","v":34485.6406369915},{"$f":"1/(0.0000128*(S409+Z409+$H$40))","v":73245.9047400771},{"$f":"1/(0.0000128*(T409+AA409+$I$40))","v":94900.1047718025},{"$f":"1/(0.0000128*(U409+AB409+$J$40))","v":256997.461295145},{"$f":"1/(0.0000128*(V409+AC409+$K$40))","v":204161.586903446},{"$f":"1/(0.0000128*(W409+AD409+$L$40))","v":153121.190177585}]
[null,null,null,null,null,null,null,null,null,null,null,null,null,null,null,null,null,{"$f":"(G$5*((90/$G$35)*(90/$G$35))/2)*(1+(SQRT(1+(4/(G$5*((90/$G$35)*(90/$G$35))))*$G$40*(1-(SQRT(2)*Vin_rms_min*(SIN($Q95)/Vout))))))","v":0.261832555571573},{"$f":"(H$5*((90/$G$35)*(90/$G$35))/2)*(1+(SQRT(1+(4/(H$5*((90/$G$35)*(90/$G$35))))*$H$40*(1-(SQRT(2)*Vin_rms_min*(SIN($Q95)/Vout))))))","v":0.254610757899964},{"$f":"(I$5*((90/$G$35)*(90/$G$35))/2)*(1+(SQRT(1+(4/(I$5*((90/$G$35)*(90/$G$35))))*$I$40*(1-(SQRT(2)*Vin_rms_min*(SIN($Q95)/Vout))))))","v":0.250366881356625},{"$f":"(J$5*((90/$G$35)*(90/$G$35))/2)*(1+(SQRT(1+(4/(J$5*((90/$G$35)*(90/$G$35))))*$J$40*(1-(SQRT(2)*Vin_rms_min*(SIN($Q95)/Vout))))))","v":0.216718618281766},{"$f":"(K$5*((90/$G$35)*(90/$G$35))/2)*(1+(SQRT(1+(4/(K$5*((90/$G$35)*(90/$G$35))))*$K$40*(1-(SQRT(2)*Vin_rms_min*(SIN($Q95)/Vout))))))","v":0.298163788127197},{"$f":"(L$5*((90/$G$35)*(90/$G$35))/2)*(1+(SQRT(1+(4/(L$5*((90/$G$35)*(90/$G$35))))*$L$40*(1-(SQRT(2)*Vin_rms_min*(SIN($Q95)/Vout))))))","v":0.39755171750293},null,{"$f":"R410*ABS(1/(Vout/(SQRT(2)*$C$26*SIN($Q95))))","v":0.0748123177460694},{"$f":"S410*ABS(1/(Vout/(SQRT(2)*$C$26*SIN($Q95))))","v":0.0727488637919695},{"$f":"T410*ABS(1/(Vout/(SQRT(2)*$C$26*SIN($Q95))))","v":0.0715362787498142},{"$f":"U410*ABS(1/(Vout/(SQRT(2)*$C$26*SIN($Q95))))","v":0.0619221016920206},{"$f":"V410*ABS(1/(Vout/(SQRT(2)*$C$26*SIN($Q95))))","v":0.0851930884188542},{"$f":"W410*ABS(1/(Vout/(SQRT(2)*$C$26*SIN($Q95))))","v":0.113590784558472},null,{"$f":"1/(0.0000128*(R410+Y410+$G$40))","v":34482.4561519209},{"$f":"1/(0.0000128*(S410+Z410+$H$40))","v":73228.9407261487},{"$f":"1/(0.0000128*(T410+AA410+$I$40))","v":94869.0955720221},{"$f":"1/(0.0000128*(U410+AB410+$J$40))","v":256618.102882975},{"$f":"1/(0.0000128*(V410+AC410+$K$40))","v":203791.831527548},{"$f":"1/(0.0000128*(W410+AD410+$L$40))","v":152843.873645661}]
[null,null,null,null,null,null,null,null,null,null,null,null,null,null,null,null,null,{"$f":"(G$5*((90/$G$35)*(90/$G$35))/2)*(1+(SQRT(1+(4/(G$5*((90/$G$35)*(90/$G$35))))*$G$40*(1-(SQRT(2)*Vin_rms_min*(SIN($Q96)/Vout))))))","v":0.261523942280421},{"$f":"(H$5*((90/$G$35)*(90/$G$35))/2)*(1+(SQRT(1+(4/(H$5*((90/$G$35)*(90/$G$35))))*$H$40*(1-(SQRT(2)*Vin_rms_min*(SIN($Q96)/Vout))))))","v":0.254344298653729},{"$f":"(I$5*((90/$G$35)*(90/$G$35))/2)*(1+(SQRT(1+(4/(I$5*((90/$G$35)*(90/$G$35))))*$I$40*(1-(SQRT(2)*Vin_rms_min*(SIN($Q96)/Vout))))))","v":0.250124995496382},{"$f":"(J$5*((90/$G$35)*(90/$G$35))/2)*(1+(SQRT(1+(4/(J$5*((90/$G$35)*(90/$G$35))))*$J$40*(1-(SQRT(2)*Vin_rms_min*(SIN($Q96)/Vout))))))","v":0.216676078357493},{"$f":"(K$5*((90/$G$35)*(90/$G$35))/2)*(1+(SQRT(1+(4/(K$5*((90/$G$35)*(90/$G$35))))*$K$40*(1-(SQRT(2)*Vin_rms_min*(SIN($Q96)/Vout))))))","v":0.298163788127197},{"$f":"(L$5*((90/$G$35)*(90/$G$35))/2)*(1+(SQRT(1+(4/(L$5*((90/$G$35)*(90/$G$35))))*$L$40*(1-(SQRT(2)*Vin_rms_min*(SIN($Q96)/Vout))))))","v":0.39755171750293},null,{"$f":"R411*ABS(1/(Vout/(SQRT(2)*$C$26*SIN($Q96))))","v":0.0753256427560395},{"$f":"S411*ABS(1/(Vout/(SQRT(2)*$C$26*SIN($Q96))))","v":0.0732577201550565},{"$f":"T411*ABS(1/(Vout/(SQRT(2)*$C$26*SIN($Q96))))","v":0.0720424519867256},{"$f":"U411*ABS(1/(Vout/(SQRT(2)*$C$26*SIN($Q96))))","v":0.0624083008607889},{"$f":"V411*ABS(1/(Vout/(SQRT(2)*$C$26*SIN($Q96))))","v":0.0858788636765596},{"$f":"W411*ABS(1/(Vout/(SQRT(2)*$C$26*SIN($Q96))))","v":0.114505151568746},null,{"$f":"1/(0.0000128*(R411+Y411+$G$40))","v":34479.3407805765},{"$f":"1/(0.0000128*(S411+Z411+$H$40))","v":73212.3064364657},{"$f":"1/(0.0000128*(T411+AA411+$I$40))","v":94838.6589427619},{"$f":"1/(0.0000128*(U411+AB411+$J$40))","v":256244.679377511},{"$f":"1/(0.0000128*(V411+AC411+$K$40))","v":203427.925604267},{"$f":"1/(0.0000128*(W411+AD411+$L$40))","v":152570.9442032}]
[null,null,null,null,null,null,null,null,null,null,null,null,null,null,null,null,null,{"$f":"(G$5*((90/$G$35)*(90/$G$35))/2)*(1+(SQRT(1+(4/(G$5*((90/$G$35)*(90/$G$35))))*$G$40*(1-(SQRT(2)*Vin_rms_min*(SIN($Q97)/Vout))))))","v":0.261218806431919},{"$f":"(H$5*((90/$G$35)*(90/$G$35))/2)*(1+(SQRT(1+(4/(H$5*((90/$G$35)*(90/$G$35))))*$H$40*(1-(SQRT(2)*Vin_rms_min*(SIN($Q97)/Vout))))))","v":0.254080851141796},{"$f":"(I$5*((90/$G$35)*(90/$G$35))/2)*(1+(SQRT(1+(4/(I$5*((90/$G$35)*(90/$G$35))))*$I$40*(1-(SQRT(2)*Vin_rms_min*(SIN($Q97)/Vout))))))","v":0.249885851924077},{"$f":"(J$5*((90/$G$35)*(90/$G$35))/2)*(1+(SQRT(1+(4/(J$5*((90/$G$35)*(90/$G$35))))*$J$40*(1-(SQRT(2)*Vin_rms_min*(SIN($Q97)/Vout))))))","v":0.216634056005597},{"$f":"(K$5*((90/$G$35)*(90/$G$35))/2)*(1+(SQRT(1+(4/(K$5*((90/$G$35)*(90/$G$35))))*$K$40*(1-(SQRT(2)*Vin_rms_min*(SIN($Q97)/Vout))))))","v":0.298163788127197},{"$f":"(L$5*((90/$G$35)*(90/$G$35))/2)*(1+(SQRT(1+(4/(L$5*((90/$G$35)*(90/$G$35))))*$L$40*(1-(SQRT(2)*Vin_rms_min*(SIN($Q97)/Vout))))))","v":0.39755171750293},null,{"$f":"R412*ABS(1/(Vout/(SQRT(2)*$C$26*SIN($Q97))))","v":0.0758310340263073},{"$f":"S412*ABS(1/(Vout/(SQRT(2)*$C$26*SIN($Q97))))","v":0.0737589070693051},{"$f":"T412*ABS(1/(Vout/(SQRT(2)*$C$26*SIN($Q97))))","v":0.0725411114106985},{"$f":"U412*ABS(1/(Vout/(SQRT(2)*$C$26*SIN($Q97))))","v":0.0628882150431957},{"$f":"V412*ABS(1/(Vout/(SQRT(2)*$C$26*SIN($Q97))))","v":0.0865560511194627},{"$f":"W412*ABS(1/(Vout/(SQRT(2)*$C$26*SIN($Q97))))","v":0.115408068159284},null,{"$f":"1/(0.0000128*(R412+Y412+$G$40))","v":34476.29377128},{"$f":"1/(0.0000128*(S412+Z412+$H$40))","v":73195.9991174134},{"$f":"1/(0.0000128*(T412+AA412+$I$40))","v":94808.7908238269},{"$f":"1/(0.0000128*(U412+AB412+$J$40))","v":255877.174408659},{"$f":"1/(0.0000128*(V412+AC412+$K$40))","v":203069.849875641},{"$f":"1/(0.0000128*(W412+AD412+$L$40))","v":152302.387406731}]
[null,null,null,null,null,null,null,null,null,null,null,null,null,null,null,null,null,{"$f":"(G$5*((90/$G$35)*(90/$G$35))/2)*(1+(SQRT(1+(4/(G$5*((90/$G$35)*(90/$G$35))))*$G$40*(1-(SQRT(2)*Vin_rms_min*(SIN($Q98)/Vout))))))","v":0.260917191803345},{"$f":"(H$5*((90/$G$35)*(90/$G$35))/2)*(1+(SQRT(1+(4/(H$5*((90/$G$35)*(90/$G$35))))*$H$40*(1-(SQRT(2)*Vin_rms_min*(SIN($Q98)/Vout))))))","v":0.253820452876471},{"$f":"(I$5*((90/$G$35)*(90/$G$35))/2)*(1+(SQRT(1+(4/(I$5*((90/$G$35)*(90/$G$35))))*$I$40*(1-(SQRT(2)*Vin_rms_min*(SIN($Q98)/Vout))))))","v":0.249649484435638},{"$f":"(J$5*((90/$G$35)*(90/$G$35))/2)*(1+(SQRT(1+(4/(J$5*((90/$G$35)*(90/$G$35))))*$J$40*(1-(SQRT(2)*Vin_rms_min*(SIN($Q98)/Vout))))))","v":0.216592555987229},{"$f":"(K$5*((90/$G$35)*(90/$G$35))/2)*(1+(SQRT(1+(4/(K$5*((90/$G$35)*(90/$G$35))))*$K$40*(1-(SQRT(2)*Vin_rms_min*(SIN($Q98)/Vout))))))","v":0.298163788127197},{"$f":"(L$5*((90/$G$35)*(90/$G$35))/2)*(1+(SQRT(1+(4/(L$5*((90/$G$35)*(90/$G$35))))*$L$40*(1-(SQRT(2)*Vin_rms_min*(SIN($Q98)/Vout))))))","v":0.39755171750293},null,{"$f":"R413*ABS(1/(Vout/(SQRT(2)*$C$26*SIN($Q98))))","v":0.076328495164328},{"$f":"S413*ABS(1/(Vout/(SQRT(2)*$C$26*SIN($Q98))))","v":0.0742524211459065},{"$f":"T413*ABS(1/(Vout/(SQRT(2)*$C$26*SIN($Q98))))","v":0.0730322495571113},{"$f":"U413*ABS(1/(Vout/(SQRT(2)*$C$26*SIN($Q98))))","v":0.0633618035976759},{"$f":"V413*ABS(1/(Vout/(SQRT(2)*$C$26*SIN($Q98))))","v":0.0872245830293838},{"$f":"W413*ABS(1/(Vout/(SQRT(2)*$C$26*SIN($Q98))))","v":0.116299444039178},null,{"$f":"1/(0.0000128*(R413+Y413+$G$40))","v":34473.3143671348},{"$f":"1/(0.0000128*(S413+Z413+$H$40))","v":73180.0159980109},{"$f":"1/(0.0000128*(T413+AA413+$I$40))","v":94779.4871318685},{"$f":"1/(0.0000128*(U413+AB413+$J$40))","v":255515.571735635},{"$f":"1/(0.0000128*(V413+AC413+$K$40))","v":202717.585290757},{"$f":"1/(0.0000128*(W413+AD413+$L$40))","v":152038.188968067}]
[null,null,null,null,null,null,null,null,null,null,null,null,null,null,null,null,null,{"$f":"(G$5*((90/$G$35)*(90/$G$35))/2)*(1+(SQRT(1+(4/(G$5*((90/$G$35)*(90/$G$35))))*$G$40*(1-(SQRT(2)*Vin_rms_min*(SIN($Q99)/Vout))))))","v":0.2606191418469},{"$f":"(H$5*((90/$G$35)*(90/$G$35))/2)*(1+(SQRT(1+(4/(H$5*((90/$G$35)*(90/$G$35))))*$H$40*(1-(SQRT(2)*Vin_rms_min*(SIN($Q99)/Vout))))))","v":0.253563141085658},{"$f":"(I$5*((90/$G$35)*(90/$G$35))/2)*(1+(SQRT(1+(4/(I$5*((90/$G$35)*(90/$G$35))))*$I$40*(1-(SQRT(2)*Vin_rms_min*(SIN($Q99)/Vout))))))","v":0.249415926565587},{"$f":"(J$5*((90/$G$35)*(90/$G$35))/2)*(1+(SQRT(1+(4/(J$5*((90/$G$35)*(90/$G$35))))*$J$40*(1-(SQRT(2)*Vin_rms_min*(SIN($Q99)/Vout))))))","v":0.216551583009582},{"$f":"(K$5*((90/$G$35)*(90/$G$35))/2)*(1+(SQRT(1+(4/(K$5*((90/$G$35)*(90/$G$35))))*$K$40*(1-(SQRT(2)*Vin_rms_min*(SIN($Q99)/Vout))))))","v":0.298163788127197},{"$f":"(L$5*((90/$G$35)*(90/$G$35))/2)*(1+(SQRT(1+(4/(L$5*((90/$G$35)*(90/$G$35))))*$L$40*(1-(SQRT(2)*Vin_rms_min*(SIN($Q99)/Vout))))))","v":0.39755171750293},null,{"$f":"R414*ABS(1/(Vout/(SQRT(2)*$C$26*SIN($Q99))))","v":0.0768180304957334},{"$f":"S414*ABS(1/(Vout/(SQRT(2)*$C$26*SIN($Q99))))","v":0.0747382596937353},{"$f":"T414*ABS(1/(Vout/(SQRT(2)*$C$26*SIN($Q99))))","v":0.0735158596458436},{"$f":"U414*ABS(1/(Vout/(SQRT(2)*$C$26*SIN($Q99))))","v":0.0638290264853289},{"$f":"V414*ABS(1/(Vout/(SQRT(2)*$C$26*SIN($Q99))))","v":0.0878843925536888},{"$f":"W414*ABS(1/(Vout/(SQRT(2)*$C$26*SIN($Q99))))","v":0.117179190071585},null,{"$f":"1/(0.0000128*(R414+Y414+$G$40))","v":34470.4018065714},{"$f":"1/(0.0000128*(S414+Z414+$H$40))","v":73164.35429189},{"$f":"1/(0.0000128*(T414+AA414+$I$40))","v":94750.7437632814},{"$f":"1/(0.0000128*(U414+AB414+$J$40))","v":255159.85525301},{"$f":"1/(0.0000128*(V414+AC414+$K$40))","v":202371.11301032},{"$f":"1/(0.0000128*(W414+AD414+$L$40))","v":151778.33475774}]
[null,null,null,null,null,null,null,null,null,null,null,null,null,null,null,null,null,{"$f":"(G$5*((90/$G$35)*(90/$G$35))/2)*(1+(SQRT(1+(4/(G$5*((90/$G$35)*(90/$G$35))))*$G$40*(1-(SQRT(2)*Vin_rms_min*(SIN($Q100)/Vout))))))","v":0.260324699678239},{"$f":"(H$5*((90/$G$35)*(90/$G$35))/2)*(1+(SQRT(1+(4/(H$5*((90/$G$35)*(90/$G$35))))*$H$40*(1-(SQRT(2)*Vin_rms_min*(SIN($Q100)/Vout))))))","v":0.253308952703171},{"$f":"(I$5*((90/$G$35)*(90/$G$35))/2)*(1+(SQRT(1+(4/(I$5*((90/$G$35)*(90/$G$35))))*$I$40*(1-(SQRT(2)*Vin_rms_min*(SIN($Q100)/Vout))))))","v":0.249185211578434},{"$f":"(J$5*((90/$G$35)*(90/$G$35))/2)*(1+(SQRT(1+(4/(J$5*((90/$G$35)*(90/$G$35))))*$J$40*(1-(SQRT(2)*Vin_rms_min*(SIN($Q100)/Vout))))))","v":0.216511141725173},{"$f":"(K$5*((90/$G$35)*(90/$G$35))/2)*(1+(SQRT(1+(4/(K$5*((90/$G$35)*(90/$G$35))))*$K$40*(1-(SQRT(2)*Vin_rms_min*(SIN($Q100)/Vout))))))","v":0.298163788127197},{"$f":"(L$5*((90/$G$35)*(90/$G$35))/2)*(1+(SQRT(1+(4/(L$5*((90/$G$35)*(90/$G$35))))*$L$40*(1-(SQRT(2)*Vin_rms_min*(SIN($Q100)/Vout))))))","v":0.39755171750293},null,{"$f":"R415*ABS(1/(Vout/(SQRT(2)*$C$26*SIN($Q100))))","v":0.0772996450381369},{"$f":"S415*ABS(1/(Vout/(SQRT(2)*$C$26*SIN($Q100))))","v":0.0752164206974558},{"$f":"T415*ABS(1/(Vout/(SQRT(2)*$C$26*SIN($Q100))))","v":0.0739919355619106},{"$f":"U415*ABS(1/(Vout/(SQRT(2)*$C$26*SIN($Q100))))","v":0.0642898442708033},{"$f":"V415*ABS(1/(Vout/(SQRT(2)*$C$26*SIN($Q100))))","v":0.0885354137119752},{"$f":"W415*ABS(1/(Vout/(SQRT(2)*$C$26*SIN($Q100))))","v":0.118047218282634},null,{"$f":"1/(0.0000128*(R415+Y415+$G$40))","v":34467.5553238955},{"$f":"1/(0.0000128*(S415+Z415+$H$40))","v":73149.0111992822},{"$f":"1/(0.0000128*(T415+AA415+$I$40))","v":94722.5565971048},{"$f":"1/(0.0000128*(U415+AB415+$J$40))","v":254810.008996596},{"$f":"1/(0.0000128*(V415+AC415+$K$40))","v":202030.414411075},{"$f":"1/(0.0000128*(W415+AD415+$L$40))","v":151522.810808306}]
[null,null,null,null,null,null,null,null,null,null,null,null,null,null,null,null,null,{"$f":"(G$5*((90/$G$35)*(90/$G$35))/2)*(1+(SQRT(1+(4/(G$5*((90/$G$35)*(90/$G$35))))*$G$40*(1-(SQRT(2)*Vin_rms_min*(SIN($Q101)/Vout))))))","v":0.260033908064958},{"$f":"(H$5*((90/$G$35)*(90/$G$35))/2)*(1+(SQRT(1+(4/(H$5*((90/$G$35)*(90/$G$35))))*$H$40*(1-(SQRT(2)*Vin_rms_min*(SIN($Q101)/Vout))))))","v":0.253057924358997},{"$f":"(I$5*((90/$G$35)*(90/$G$35))/2)*(1+(SQRT(1+(4/(I$5*((90/$G$35)*(90/$G$35))))*$I$40*(1-(SQRT(2)*Vin_rms_min*(SIN($Q101)/Vout))))))","v":0.248957372460028},{"$f":"(J$5*((90/$G$35)*(90/$G$35))/2)*(1+(SQRT(1+(4/(J$5*((90/$G$35)*(90/$G$35))))*$J$40*(1-(SQRT(2)*Vin_rms_min*(SIN($Q101)/Vout))))))","v":0.216471236731123},{"$f":"(K$5*((90/$G$35)*(90/$G$35))/2)*(1+(SQRT(1+(4/(K$5*((90/$G$35)*(90/$G$35))))*$K$40*(1-(SQRT(2)*Vin_rms_min*(SIN($Q101)/Vout))))))","v":0.298163788127197},{"$f":"(L$5*((90/$G$35)*(90/$G$35))/2)*(1+(SQRT(1+(4/(L$5*((90/$G$35)*(90/$G$35))))*$L$40*(1-(SQRT(2)*Vin_rms_min*(SIN($Q101)/Vout))))))","v":0.39755171750293},null,{"$f":"R416*ABS(1/(Vout/(SQRT(2)*$C$26*SIN($Q101))))","v":0.077773344474764},{"$f":"S416*ABS(1/(Vout/(SQRT(2)*$C$26*SIN($Q101))))","v":0.0756869027954793},{"$f":"T416*ABS(1/(Vout/(SQRT(2)*$C$26*SIN($Q101))))","v":0.0744604718359618},{"$f":"U416*ABS(1/(Vout/(SQRT(2)*$C$26*SIN($Q101))))","v":0.064744218123131},{"$f":"V416*ABS(1/(Vout/(SQRT(2)*$C$26*SIN($Q101))))","v":0.0891775814026696},{"$f":"W416*ABS(1/(Vout/(SQRT(2)*$C$26*SIN($Q101))))","v":0.118903441870226},null,{"$f":"1/(0.0000128*(R416+Y416+$G$40))","v":34464.7741498396},{"$f":"1/(0.0000128*(S416+Z416+$H$40))","v":73133.9839090112},{"$f":"1/(0.0000128*(T416+AA416+$I$40))","v":94694.9214979298},{"$f":"1/(0.0000128*(U416+AB416+$J$40))","v":254466.017149161},{"$f":"1/(0.0000128*(V416+AC416+$K$40))","v":201695.471090072},{"$f":"1/(0.0000128*(W416+AD416+$L$40))","v":151271.603317554}]
[null,null,null,null,null,null,null,null,null,null,null,null,null,null,null,null,null,{"$f":"(G$5*((90/$G$35)*(90/$G$35))/2)*(1+(SQRT(1+(4/(G$5*((90/$G$35)*(90/$G$35))))*$G$40*(1-(SQRT(2)*Vin_rms_min*(SIN($Q102)/Vout))))))","v":0.259746809415029},{"$f":"(H$5*((90/$G$35)*(90/$G$35))/2)*(1+(SQRT(1+(4/(H$5*((90/$G$35)*(90/$G$35))))*$H$40*(1-(SQRT(2)*Vin_rms_min*(SIN($Q102)/Vout))))))","v":0.252810092369539},{"$f":"(I$5*((90/$G$35)*(90/$G$35))/2)*(1+(SQRT(1+(4/(I$5*((90/$G$35)*(90/$G$35))))*$I$40*(1-(SQRT(2)*Vin_rms_min*(SIN($Q102)/Vout))))))","v":0.248732441908891},{"$f":"(J$5*((90/$G$35)*(90/$G$35))/2)*(1+(SQRT(1+(4/(J$5*((90/$G$35)*(90/$G$35))))*$J$40*(1-(SQRT(2)*Vin_rms_min*(SIN($Q102)/Vout))))))","v":0.216431872568449},{"$f":"(K$5*((90/$G$35)*(90/$G$35))/2)*(1+(SQRT(1+(4/(K$5*((90/$G$35)*(90/$G$35))))*$K$40*(1-(SQRT(2)*Vin_rms_min*(SIN($Q102)/Vout))))))","v":0.298163788127197},{"$f":"(L$5*((90/$G$35)*(90/$G$35))/2)*(1+(SQRT(1+(4/(L$5*((90/$G$35)*(90/$G$35))))*$L$40*(1-(SQRT(2)*Vin_rms_min*(SIN($Q102)/Vout))))))","v":0.39755171750293},null,{"$f":"R417*ABS(1/(Vout/(SQRT(2)*$C$26*SIN($Q102))))","v":0.0782391351279278},{"$f":"S417*ABS(1/(Vout/(SQRT(2)*$C$26*SIN($Q102))))","v":0.076149705257784},{"$f":"T417*ABS(1/(Vout/(SQRT(2)*$C$26*SIN($Q102))))","v":0.0749214636246585},{"$f":"U417*ABS(1/(Vout/(SQRT(2)*$C$26*SIN($Q102))))","v":0.0651921098165126},{"$f":"V417*ABS(1/(Vout/(SQRT(2)*$C$26*SIN($Q102))))","v":0.0898108314095382},{"$f":"W417*ABS(1/(Vout/(SQRT(2)*$C$26*SIN($Q102))))","v":0.119747775212718},null,{"$f":"1/(0.0000128*(R417+Y417+$G$40))","v":34462.0575121169},{"$f":"1/(0.0000128*(S417+Z417+$H$40))","v":73119.2696004926},{"$f":"1/(0.0000128*(T417+AA417+$I$40))","v":94667.8343188088},{"$f":"1/(0.0000128*(U417+AB417+$J$40))","v":254127.864045982},{"$f":"1/(0.0000128*(V417+AC417+$K$40))","v":201366.264868784},{"$f":"1/(0.0000128*(W417+AD417+$L$40))","v":151024.698651588}]
[null,null,null,null,null,null,null,null,null,null,null,null,null,null,null,null,null,{"$f":"(G$5*((90/$G$35)*(90/$G$35))/2)*(1+(SQRT(1+(4/(G$5*((90/$G$35)*(90/$G$35))))*$G$40*(1-(SQRT(2)*Vin_rms_min*(SIN($Q103)/Vout))))))","v":0.259463445765209},{"$f":"(H$5*((90/$G$35)*(90/$G$35))/2)*(1+(SQRT(1+(4/(H$5*((90/$G$35)*(90/$G$35))))*$H$40*(1-(SQRT(2)*Vin_rms_min*(SIN($Q103)/Vout))))))","v":0.25256549272782},{"$f":"(I$5*((90/$G$35)*(90/$G$35))/2)*(1+(SQRT(1+(4/(I$5*((90/$G$35)*(90/$G$35))))*$I$40*(1-(SQRT(2)*Vin_rms_min*(SIN($Q103)/Vout))))))","v":0.248510452327535},{"$f":"(J$5*((90/$G$35)*(90/$G$35))/2)*(1+(SQRT(1+(4/(J$5*((90/$G$35)*(90/$G$35))))*$J$40*(1-(SQRT(2)*Vin_rms_min*(SIN($Q103)/Vout))))))","v":0.216393053721362},{"$f":"(K$5*((90/$G$35)*(90/$G$35))/2)*(1+(SQRT(1+(4/(K$5*((90/$G$35)*(90/$G$35))))*$K$40*(1-(SQRT(2)*Vin_rms_min*(SIN($Q103)/Vout))))))","v":0.298163788127197},{"$f":"(L$5*((90/$G$35)*(90/$G$35))/2)*(1+(SQRT(1+(4/(L$5*((90/$G$35)*(90/$G$35))))*$L$40*(1-(SQRT(2)*Vin_rms_min*(SIN($Q103)/Vout))))))","v":0.39755171750293},null,{"$f":"R418*ABS(1/(Vout/(SQRT(2)*$C$26*SIN($Q103))))","v":0.0786970239323639},{"$f":"S418*ABS(1/(Vout/(SQRT(2)*$C$26*SIN($Q103))))","v":0.0766048279636148},{"$f":"T418*ABS(1/(Vout/(SQRT(2)*$C$26*SIN($Q103))))","v":0.0753749066909408},{"$f":"U418*ABS(1/(Vout/(SQRT(2)*$C$26*SIN($Q103))))","v":0.0656334817310546},{"$f":"V418*ABS(1/(Vout/(SQRT(2)*$C$26*SIN($Q103))))","v":0.0904351004081079},{"$f":"W418*ABS(1/(Vout/(SQRT(2)*$C$26*SIN($Q103))))","v":0.120580133877477},null,{"$f":"1/(0.0000128*(R418+Y418+$G$40))","v":34459.4046359768},{"$f":"1/(0.0000128*(S418+Z418+$H$40))","v":73104.865445737},{"$f":"1/(0.0000128*(T418+AA418+$I$40))","v":94641.290904169},{"$f":"1/(0.0000128*(U418+AB418+$J$40))","v":253795.534180245},{"$f":"1/(0.0000128*(V418+AC418+$K$40))","v":201042.777797091},{"$f":"1/(0.0000128*(W418+AD418+$L$40))","v":150782.083347818}]
[null,null,null,null,null,null,null,null,null,null,null,null,null,null,null,null,null,{"$f":"(G$5*((90/$G$35)*(90/$G$35))/2)*(1+(SQRT(1+(4/(G$5*((90/$G$35)*(90/$G$35))))*$G$40*(1-(SQRT(2)*Vin_rms_min*(SIN($Q104)/Vout))))))","v":0.259183858769403},{"$f":"(H$5*((90/$G$35)*(90/$G$35))/2)*(1+(SQRT(1+(4/(H$5*((90/$G$35)*(90/$G$35))))*$H$40*(1-(SQRT(2)*Vin_rms_min*(SIN($Q104)/Vout))))))","v":0.252324161093674},{"$f":"(I$5*((90/$G$35)*(90/$G$35))/2)*(1+(SQRT(1+(4/(I$5*((90/$G$35)*(90/$G$35))))*$I$40*(1-(SQRT(2)*Vin_rms_min*(SIN($Q104)/Vout))))))","v":0.248291435813752},{"$f":"(J$5*((90/$G$35)*(90/$G$35))/2)*(1+(SQRT(1+(4/(J$5*((90/$G$35)*(90/$G$35))))*$J$40*(1-(SQRT(2)*Vin_rms_min*(SIN($Q104)/Vout))))))","v":0.216354784616563},{"$f":"(K$5*((90/$G$35)*(90/$G$35))/2)*(1+(SQRT(1+(4/(K$5*((90/$G$35)*(90/$G$35))))*$K$40*(1-(SQRT(2)*Vin_rms_min*(SIN($Q104)/Vout))))))","v":0.298163788127197},{"$f":"(L$5*((90/$G$35)*(90/$G$35))/2)*(1+(SQRT(1+(4/(L$5*((90/$G$35)*(90/$G$35))))*$L$40*(1-(SQRT(2)*Vin_rms_min*(SIN($Q104)/Vout))))))","v":0.39755171750293},null,{"$f":"R419*ABS(1/(Vout/(SQRT(2)*$C$26*SIN($Q104))))","v":0.0791470184084443},{"$f":"S419*ABS(1/(Vout/(SQRT(2)*$C$26*SIN($Q104))))","v":0.0770522713790763},{"$f":"T419*ABS(1/(Vout/(SQRT(2)*$C$26*SIN($Q104))))","v":0.0758207973842002},{"$f":"U419*ABS(1/(Vout/(SQRT(2)*$C$26*SIN($Q104))))","v":0.0660682968534597},{"$f":"V419*ABS(1/(Vout/(SQRT(2)*$C$26*SIN($Q104))))","v":0.0910503259719992},{"$f":"W419*ABS(1/(Vout/(SQRT(2)*$C$26*SIN($Q104))))","v":0.121400434629332},null,{"$f":"1/(0.0000128*(R419+Y419+$G$40))","v":34456.8147447638},{"$f":"1/(0.0000128*(S419+Z419+$H$40))","v":73090.7686113584},{"$f":"1/(0.0000128*(T419+AA419+$I$40))","v":94615.2870927258},{"$f":"1/(0.0000128*(U419+AB419+$J$40))","v":253469.012208284},{"$f":"1/(0.0000128*(V419+AC419+$K$40))","v":200724.992157116},{"$f":"1/(0.0000128*(W419+AD419+$L$40))","v":150543.744117837}]
[null,null,null,null,null,null,null,null,null,null,null,null,null,null,null,null,null,{"$f":"(G$5*((90/$G$35)*(90/$G$35))/2)*(1+(SQRT(1+(4/(G$5*((90/$G$35)*(90/$G$35))))*$G$40*(1-(SQRT(2)*Vin_rms_min*(SIN($Q105)/Vout))))))","v":0.258908089687015},{"$f":"(H$5*((90/$G$35)*(90/$G$35))/2)*(1+(SQRT(1+(4/(H$5*((90/$G$35)*(90/$G$35))))*$H$40*(1-(SQRT(2)*Vin_rms_min*(SIN($Q105)/Vout))))))","v":0.252086132783913},{"$f":"(I$5*((90/$G$35)*(90/$G$35))/2)*(1+(SQRT(1+(4/(I$5*((90/$G$35)*(90/$G$35))))*$I$40*(1-(SQRT(2)*Vin_rms_min*(SIN($Q105)/Vout))))))","v":0.248075424151903},{"$f":"(J$5*((90/$G$35)*(90/$G$35))/2)*(1+(SQRT(1+(4/(J$5*((90/$G$35)*(90/$G$35))))*$J$40*(1-(SQRT(2)*Vin_rms_min*(SIN($Q105)/Vout))))))","v":0.216317069622559},{"$f":"(K$5*((90/$G$35)*(90/$G$35))/2)*(1+(SQRT(1+(4/(K$5*((90/$G$35)*(90/$G$35))))*$K$40*(1-(SQRT(2)*Vin_rms_min*(SIN($Q105)/Vout))))))","v":0.298163788127197},{"$f":"(L$5*((90/$G$35)*(90/$G$35))/2)*(1+(SQRT(1+(4/(L$5*((90/$G$35)*(90/$G$35))))*$L$40*(1-(SQRT(2)*Vin_rms_min*(SIN($Q105)/Vout))))))","v":0.39755171750293},null,{"$f":"R420*ABS(1/(Vout/(SQRT(2)*$C$26*SIN($Q105))))","v":0.079589126635287},{"$f":"S420*ABS(1/(Vout/(SQRT(2)*$C$26*SIN($Q105))))","v":0.0774920365346348},{"$f":"T420*ABS(1/(Vout/(SQRT(2)*$C$26*SIN($Q105))))","v":0.0762591326203685},{"$f":"U420*ABS(1/(Vout/(SQRT(2)*$C$26*SIN($Q105))))","v":0.0664965187776729},{"$f":"V420*ABS(1/(Vout/(SQRT(2)*$C$26*SIN($Q105))))","v":0.0916564465791683},{"$f":"W420*ABS(1/(Vout/(SQRT(2)*$C$26*SIN($Q105))))","v":0.122208595438891},null,{"$f":"1/(0.0000128*(R420+Y420+$G$40))","v":34454.2870604765},{"$f":"1/(0.0000128*(S420+Z420+$H$40))","v":73076.9762605839},{"$f":"1/(0.0000128*(T420+AA420+$I$40))","v":94589.8187203963},{"$f":"1/(0.0000128*(U420+AB420+$J$40))","v":253148.282954677},{"$f":"1/(0.0000128*(V420+AC420+$K$40))","v":200412.890466931},{"$f":"1/(0.0000128*(W420+AD420+$L$40))","v":150309.667850198}]
[null,null,null,null,null,null,null,null,null,null,null,null,null,null,null,null,null,{"$f":"(G$5*((90/$G$35)*(90/$G$35))/2)*(1+(SQRT(1+(4/(G$5*((90/$G$35)*(90/$G$35))))*$G$40*(1-(SQRT(2)*Vin_rms_min*(SIN($Q106)/Vout))))))","v":0.258636179371267},{"$f":"(H$5*((90/$G$35)*(90/$G$35))/2)*(1+(SQRT(1+(4/(H$5*((90/$G$35)*(90/$G$35))))*$H$40*(1-(SQRT(2)*Vin_rms_min*(SIN($Q106)/Vout))))))","v":0.251851442762489},{"$f":"(I$5*((90/$G$35)*(90/$G$35))/2)*(1+(SQRT(1+(4/(I$5*((90/$G$35)*(90/$G$35))))*$I$40*(1-(SQRT(2)*Vin_rms_min*(SIN($Q106)/Vout))))))","v":0.247862448804195},{"$f":"(J$5*((90/$G$35)*(90/$G$35))/2)*(1+(SQRT(1+(4/(J$5*((90/$G$35)*(90/$G$35))))*$J$40*(1-(SQRT(2)*Vin_rms_min*(SIN($Q106)/Vout))))))","v":0.216279913048973},{"$f":"(K$5*((90/$G$35)*(90/$G$35))/2)*(1+(SQRT(1+(4/(K$5*((90/$G$35)*(90/$G$35))))*$K$40*(1-(SQRT(2)*Vin_rms_min*(SIN($Q106)/Vout))))))","v":0.298163788127197},{"$f":"(L$5*((90/$G$35)*(90/$G$35))/2)*(1+(SQRT(1+(4/(L$5*((90/$G$35)*(90/$G$35))))*$L$40*(1-(SQRT(2)*Vin_rms_min*(SIN($Q106)/Vout))))))","v":0.39755171750293},null,{"$f":"R421*ABS(1/(Vout/(SQRT(2)*$C$26*SIN($Q106))))","v":0.0800233572237793},{"$f":"S421*ABS(1/(Vout/(SQRT(2)*$C$26*SIN($Q106))))","v":0.0779241250025436},{"$f":"T421*ABS(1/(Vout/(SQRT(2)*$C$26*SIN($Q106))))","v":0.0766899098619392},{"$f":"U421*ABS(1/(Vout/(SQRT(2)*$C$26*SIN($Q106))))","v":0.0669181117054835},{"$f":"V421*ABS(1/(Vout/(SQRT(2)*$C$26*SIN($Q106))))","v":0.0922534016180595},{"$f":"W421*ABS(1/(Vout/(SQRT(2)*$C$26*SIN($Q106))))","v":0.123004535490746},null,{"$f":"1/(0.0000128*(R421+Y421+$G$40))","v":34451.8208043289},{"$f":"1/(0.0000128*(S421+Z421+$H$40))","v":73063.4855552666},{"$f":"1/(0.0000128*(T421+AA421+$I$40))","v":94564.8816232116},{"$f":"1/(0.0000128*(U421+AB421+$J$40))","v":252833.331417188},{"$f":"1/(0.0000128*(V421+AC421+$K$40))","v":200106.455484134},{"$f":"1/(0.0000128*(W421+AD421+$L$40))","v":150079.841613101}]
[null,null,null,null,null,null,null,null,null,null,null,null,null,null,null,null,null,{"$f":"(G$5*((90/$G$35)*(90/$G$35))/2)*(1+(SQRT(1+(4/(G$5*((90/$G$35)*(90/$G$35))))*$G$40*(1-(SQRT(2)*Vin_rms_min*(SIN($Q107)/Vout))))))","v":0.258368168257513},{"$f":"(H$5*((90/$G$35)*(90/$G$35))/2)*(1+(SQRT(1+(4/(H$5*((90/$G$35)*(90/$G$35))))*$H$40*(1-(SQRT(2)*Vin_rms_min*(SIN($Q107)/Vout))))))","v":0.25162012563064},{"$f":"(I$5*((90/$G$35)*(90/$G$35))/2)*(1+(SQRT(1+(4/(I$5*((90/$G$35)*(90/$G$35))))*$I$40*(1-(SQRT(2)*Vin_rms_min*(SIN($Q107)/Vout))))))","v":0.247652540901957},{"$f":"(J$5*((90/$G$35)*(90/$G$35))/2)*(1+(SQRT(1+(4/(J$5*((90/$G$35)*(90/$G$35))))*$J$40*(1-(SQRT(2)*Vin_rms_min*(SIN($Q107)/Vout))))))","v":0.216243319145871},{"$f":"(K$5*((90/$G$35)*(90/$G$35))/2)*(1+(SQRT(1+(4/(K$5*((90/$G$35)*(90/$G$35))))*$K$40*(1-(SQRT(2)*Vin_rms_min*(SIN($Q107)/Vout))))))","v":0.298163788127197},{"$f":"(L$5*((90/$G$35)*(90/$G$35))/2)*(1+(SQRT(1+(4/(L$5*((90/$G$35)*(90/$G$35))))*$L$40*(1-(SQRT(2)*Vin_rms_min*(SIN($Q107)/Vout))))))","v":0.39755171750293},null,{"$f":"R422*ABS(1/(Vout/(SQRT(2)*$C$26*SIN($Q107))))","v":0.0804497192895327},{"$f":"S422*ABS(1/(Vout/(SQRT(2)*$C$26*SIN($Q107))))","v":0.078348538874209},{"$f":"T422*ABS(1/(Vout/(SQRT(2)*$C$26*SIN($Q107))))","v":0.0771131270979339},{"$f":"U422*ABS(1/(Vout/(SQRT(2)*$C$26*SIN($Q107))))","v":0.067333040447084},{"$f":"V422*ABS(1/(Vout/(SQRT(2)*$C$26*SIN($Q107))))","v":0.0928411313936666},{"$f":"W422*ABS(1/(Vout/(SQRT(2)*$C$26*SIN($Q107))))","v":0.123788175191555},null,{"$f":"1/(0.0000128*(R422+Y422+$G$40))","v":34449.4151973123},{"$f":"1/(0.0000128*(S422+Z422+$H$40))","v":73050.2936578987},{"$f":"1/(0.0000128*(T422+AA422+$I$40))","v":94540.4716402259},{"$f":"1/(0.0000128*(U422+AB422+$J$40))","v":252524.14277157},{"$f":"1/(0.0000128*(V422+AC422+$K$40))","v":199805.670209301},{"$f":"1/(0.0000128*(W422+AD422+$L$40))","v":149854.252656976}]
[null,null,null,null,null,null,null,null,null,null,null,null,null,null,null,null,null,{"$f":"(G$5*((90/$G$35)*(90/$G$35))/2)*(1+(SQRT(1+(4/(G$5*((90/$G$35)*(90/$G$35))))*$G$40*(1-(SQRT(2)*Vin_rms_min*(SIN($Q108)/Vout))))))","v":0.258104096351546},{"$f":"(H$5*((90/$G$35)*(90/$G$35))/2)*(1+(SQRT(1+(4/(H$5*((90/$G$35)*(90/$G$35))))*$H$40*(1-(SQRT(2)*Vin_rms_min*(SIN($Q108)/Vout))))))","v":0.251392215617042},{"$f":"(I$5*((90/$G$35)*(90/$G$35))/2)*(1+(SQRT(1+(4/(I$5*((90/$G$35)*(90/$G$35))))*$I$40*(1-(SQRT(2)*Vin_rms_min*(SIN($Q108)/Vout))))))","v":0.247445731236919},{"$f":"(J$5*((90/$G$35)*(90/$G$35))/2)*(1+(SQRT(1+(4/(J$5*((90/$G$35)*(90/$G$35))))*$J$40*(1-(SQRT(2)*Vin_rms_min*(SIN($Q108)/Vout))))))","v":0.216207292103086},{"$f":"(K$5*((90/$G$35)*(90/$G$35))/2)*(1+(SQRT(1+(4/(K$5*((90/$G$35)*(90/$G$35))))*$K$40*(1-(SQRT(2)*Vin_rms_min*(SIN($Q108)/Vout))))))","v":0.298163788127197},{"$f":"(L$5*((90/$G$35)*(90/$G$35))/2)*(1+(SQRT(1+(4/(L$5*((90/$G$35)*(90/$G$35))))*$L$40*(1-(SQRT(2)*Vin_rms_min*(SIN($Q108)/Vout))))))","v":0.39755171750293},null,{"$f":"R423*ABS(1/(Vout/(SQRT(2)*$C$26*SIN($Q108))))","v":0.0808682224257888},{"$f":"S423*ABS(1/(Vout/(SQRT(2)*$C$26*SIN($Q108))))","v":0.0787652807375099},{"$f":"T423*ABS(1/(Vout/(SQRT(2)*$C$26*SIN($Q108))))","v":0.0775287828238272},{"$f":"U423*ABS(1/(Vout/(SQRT(2)*$C$26*SIN($Q108))))","v":0.0677412704215888},{"$f":"V423*ABS(1/(Vout/(SQRT(2)*$C$26*SIN($Q108))))","v":0.0934195771335016},{"$f":"W423*ABS(1/(Vout/(SQRT(2)*$C$26*SIN($Q108))))","v":0.124559436178002},null,{"$f":"1/(0.0000128*(R423+Y423+$G$40))","v":34447.0694607583},{"$f":"1/(0.0000128*(S423+Z423+$H$40))","v":73037.3977336241},{"$f":"1/(0.0000128*(T423+AA423+$I$40))","v":94516.5846164215},{"$f":"1/(0.0000128*(U423+AB423+$J$40))","v":252220.702376226},{"$f":"1/(0.0000128*(V423+AC423+$K$40))","v":199510.517889308},{"$f":"1/(0.0000128*(W423+AD423+$L$40))","v":149632.888416981}]
[null,null,null,null,null,null,null,null,null,null,null,null,null,null,null,null,null,{"$f":"(G$5*((90/$G$35)*(90/$G$35))/2)*(1+(SQRT(1+(4/(G$5*((90/$G$35)*(90/$G$35))))*$G$40*(1-(SQRT(2)*Vin_rms_min*(SIN($Q109)/Vout))))))","v":0.257844003217897},{"$f":"(H$5*((90/$G$35)*(90/$G$35))/2)*(1+(SQRT(1+(4/(H$5*((90/$G$35)*(90/$G$35))))*$H$40*(1-(SQRT(2)*Vin_rms_min*(SIN($Q109)/Vout))))))","v":0.251167746567963},{"$f":"(I$5*((90/$G$35)*(90/$G$35))/2)*(1+(SQRT(1+(4/(I$5*((90/$G$35)*(90/$G$35))))*$I$40*(1-(SQRT(2)*Vin_rms_min*(SIN($Q109)/Vout))))))","v":0.247242050252499},{"$f":"(J$5*((90/$G$35)*(90/$G$35))/2)*(1+(SQRT(1+(4/(J$5*((90/$G$35)*(90/$G$35))))*$J$40*(1-(SQRT(2)*Vin_rms_min*(SIN($Q109)/Vout))))))","v":0.216171836049561},{"$f":"(K$5*((90/$G$35)*(90/$G$35))/2)*(1+(SQRT(1+(4/(K$5*((90/$G$35)*(90/$G$35))))*$K$40*(1-(SQRT(2)*Vin_rms_min*(SIN($Q109)/Vout))))))","v":0.298163788127197},{"$f":"(L$5*((90/$G$35)*(90/$G$35))/2)*(1+(SQRT(1+(4/(L$5*((90/$G$35)*(90/$G$35))))*$L$40*(1-(SQRT(2)*Vin_rms_min*(SIN($Q109)/Vout))))))","v":0.39755171750293},null,{"$f":"R424*ABS(1/(Vout/(SQRT(2)*$C$26*SIN($Q109))))","v":0.0812788766762932},{"$f":"S424*ABS(1/(Vout/(SQRT(2)*$C$26*SIN($Q109))))","v":0.0791743536540894},{"$f":"T424*ABS(1/(Vout/(SQRT(2)*$C$26*SIN($Q109))))","v":0.0779368760214466},{"$f":"U424*ABS(1/(Vout/(SQRT(2)*$C$26*SIN($Q109))))","v":0.0681427676575127},{"$f":"V424*ABS(1/(Vout/(SQRT(2)*$C$26*SIN($Q109))))","v":0.0939886809934727},{"$f":"W424*ABS(1/(Vout/(SQRT(2)*$C$26*SIN($Q109))))","v":0.12531824132463},null,{"$f":"1/(0.0000128*(R424+Y424+$G$40))","v":34444.7828169013},{"$f":"1/(0.0000128*(S424+Z424+$H$40))","v":73024.7949522501},{"$f":"1/(0.0000128*(T424+AA424+$I$40))","v":94493.2164056079},{"$f":"1/(0.0000128*(U424+AB424+$J$40))","v":251922.995776732},{"$f":"1/(0.0000128*(V424+AC424+$K$40))","v":199220.982020542},{"$f":"1/(0.0000128*(W424+AD424+$L$40))","v":149415.736515406}]
[null,null,null,null,null,null,null,null,null,null,null,null,null,null,null,null,null,{"$f":"(G$5*((90/$G$35)*(90/$G$35))/2)*(1+(SQRT(1+(4/(G$5*((90/$G$35)*(90/$G$35))))*$G$40*(1-(SQRT(2)*Vin_rms_min*(SIN($Q110)/Vout))))))","v":0.257587927968155},{"$f":"(H$5*((90/$G$35)*(90/$G$35))/2)*(1+(SQRT(1+(4/(H$5*((90/$G$35)*(90/$G$35))))*$H$40*(1-(SQRT(2)*Vin_rms_min*(SIN($Q110)/Vout))))))","v":0.250946751937429},{"$f":"(I$5*((90/$G$35)*(90/$G$35))/2)*(1+(SQRT(1+(4/(I$5*((90/$G$35)*(90/$G$35))))*$I$40*(1-(SQRT(2)*Vin_rms_min*(SIN($Q110)/Vout))))))","v":0.247041528035098},{"$f":"(J$5*((90/$G$35)*(90/$G$35))/2)*(1+(SQRT(1+(4/(J$5*((90/$G$35)*(90/$G$35))))*$J$40*(1-(SQRT(2)*Vin_rms_min*(SIN($Q110)/Vout))))))","v":0.216136955052687},{"$f":"(K$5*((90/$G$35)*(90/$G$35))/2)*(1+(SQRT(1+(4/(K$5*((90/$G$35)*(90/$G$35))))*$K$40*(1-(SQRT(2)*Vin_rms_min*(SIN($Q110)/Vout))))))","v":0.298163788127197},{"$f":"(L$5*((90/$G$35)*(90/$G$35))/2)*(1+(SQRT(1+(4/(L$5*((90/$G$35)*(90/$G$35))))*$L$40*(1-(SQRT(2)*Vin_rms_min*(SIN($Q110)/Vout))))))","v":0.39755171750293},null,{"$f":"R425*ABS(1/(Vout/(SQRT(2)*$C$26*SIN($Q110))))","v":0.0816816925081585},{"$f":"S425*ABS(1/(Vout/(SQRT(2)*$C$26*SIN($Q110))))","v":0.0795757611366333},{"$f":"T425*ABS(1/(Vout/(SQRT(2)*$C$26*SIN($Q110))))","v":0.0783374061388588},{"$f":"U425*ABS(1/(Vout/(SQRT(2)*$C$26*SIN($Q110))))","v":0.0685374987932116},{"$f":"V425*ABS(1/(Vout/(SQRT(2)*$C$26*SIN($Q110))))","v":0.0945483860636681},{"$f":"W425*ABS(1/(Vout/(SQRT(2)*$C$26*SIN($Q110))))","v":0.126064514751557},null,{"$f":"1/(0.0000128*(R425+Y425+$G$40))","v":34442.5544894414},{"$f":"1/(0.0000128*(S425+Z425+$H$40))","v":73012.4824902563},{"$f":"1/(0.0000128*(T425+AA425+$I$40))","v":94470.3628733139},{"$f":"1/(0.0000128*(U425+AB425+$J$40))","v":251631.008710226},{"$f":"1/(0.0000128*(V425+AC425+$K$40))","v":198937.046351993},{"$f":"1/(0.0000128*(W425+AD425+$L$40))","v":149202.784763995}]
[null,null,null,null,null,null,null,null,null,null,null,null,null,null,null,null,null,{"$f":"(G$5*((90/$G$35)*(90/$G$35))/2)*(1+(SQRT(1+(4/(G$5*((90/$G$35)*(90/$G$35))))*$G$40*(1-(SQRT(2)*Vin_rms_min*(SIN($Q111)/Vout))))))","v":0.257335909249287},{"$f":"(H$5*((90/$G$35)*(90/$G$35))/2)*(1+(SQRT(1+(4/(H$5*((90/$G$35)*(90/$G$35))))*$H$40*(1-(SQRT(2)*Vin_rms_min*(SIN($Q111)/Vout))))))","v":0.250729264777401},{"$f":"(I$5*((90/$G$35)*(90/$G$35))/2)*(1+(SQRT(1+(4/(I$5*((90/$G$35)*(90/$G$35))))*$I$40*(1-(SQRT(2)*Vin_rms_min*(SIN($Q111)/Vout))))))","v":0.246844194305422},{"$f":"(J$5*((90/$G$35)*(90/$G$35))/2)*(1+(SQRT(1+(4/(J$5*((90/$G$35)*(90/$G$35))))*$J$40*(1-(SQRT(2)*Vin_rms_min*(SIN($Q111)/Vout))))))","v":0.216102653117662},{"$f":"(K$5*((90/$G$35)*(90/$G$35))/2)*(1+(SQRT(1+(4/(K$5*((90/$G$35)*(90/$G$35))))*$K$40*(1-(SQRT(2)*Vin_rms_min*(SIN($Q111)/Vout))))))","v":0.298163788127197},{"$f":"(L$5*((90/$G$35)*(90/$G$35))/2)*(1+(SQRT(1+(4/(L$5*((90/$G$35)*(90/$G$35))))*$L$40*(1-(SQRT(2)*Vin_rms_min*(SIN($Q111)/Vout))))))","v":0.39755171750293},null,{"$f":"R426*ABS(1/(Vout/(SQRT(2)*$C$26*SIN($Q111))))","v":0.082076680784733},{"$f":"S426*ABS(1/(Vout/(SQRT(2)*$C$26*SIN($Q111))))","v":0.0799695071261515},{"$f":"T426*ABS(1/(Vout/(SQRT(2)*$C$26*SIN($Q111))))","v":0.0787303730702592},{"$f":"U426*ABS(1/(Vout/(SQRT(2)*$C$26*SIN($Q111))))","v":0.0689254310772852},{"$f":"V426*ABS(1/(Vout/(SQRT(2)*$C$26*SIN($Q111))))","v":0.0950986363740472},{"$f":"W426*ABS(1/(Vout/(SQRT(2)*$C$26*SIN($Q111))))","v":0.126798181832063},null,{"$f":"1/(0.0000128*(R426+Y426+$G$40))","v":34440.3837041075},{"$f":"1/(0.0000128*(S426+Z426+$H$40))","v":73000.4575328},{"$f":"1/(0.0000128*(T426+AA426+$I$40))","v":94448.0198996709},{"$f":"1/(0.0000128*(U426+AB426+$J$40))","v":251344.727109668},{"$f":"1/(0.0000128*(V426+AC426+$K$40))","v":198658.694888234},{"$f":"1/(0.0000128*(W426+AD426+$L$40))","v":148994.021166176}]
[null,null,null,null,null,null,null,null,null,null,null,null,null,null,null,null,null,{"$f":"(G$5*((90/$G$35)*(90/$G$35))/2)*(1+(SQRT(1+(4/(G$5*((90/$G$35)*(90/$G$35))))*$G$40*(1-(SQRT(2)*Vin_rms_min*(SIN($Q112)/Vout))))))","v":0.257087985231988},{"$f":"(H$5*((90/$G$35)*(90/$G$35))/2)*(1+(SQRT(1+(4/(H$5*((90/$G$35)*(90/$G$35))))*$H$40*(1-(SQRT(2)*Vin_rms_min*(SIN($Q112)/Vout))))))","v":0.250515317727979},{"$f":"(I$5*((90/$G$35)*(90/$G$35))/2)*(1+(SQRT(1+(4/(I$5*((90/$G$35)*(90/$G$35))))*$I$40*(1-(SQRT(2)*Vin_rms_min*(SIN($Q112)/Vout))))))","v":0.246650078409819},{"$f":"(J$5*((90/$G$35)*(90/$G$35))/2)*(1+(SQRT(1+(4/(J$5*((90/$G$35)*(90/$G$35))))*$J$40*(1-(SQRT(2)*Vin_rms_min*(SIN($Q112)/Vout))))))","v":0.216068934186843},{"$f":"(K$5*((90/$G$35)*(90/$G$35))/2)*(1+(SQRT(1+(4/(K$5*((90/$G$35)*(90/$G$35))))*$K$40*(1-(SQRT(2)*Vin_rms_min*(SIN($Q112)/Vout))))))","v":0.298163788127197},{"$f":"(L$5*((90/$G$35)*(90/$G$35))/2)*(1+(SQRT(1+(4/(L$5*((90/$G$35)*(90/$G$35))))*$L$40*(1-(SQRT(2)*Vin_rms_min*(SIN($Q112)/Vout))))))","v":0.39755171750293},null,{"$f":"R427*ABS(1/(Vout/(SQRT(2)*$C$26*SIN($Q112))))","v":0.0824638527384962},{"$f":"S427*ABS(1/(Vout/(SQRT(2)*$C$26*SIN($Q112))))","v":0.0803555959692791},{"$f":"T427*ABS(1/(Vout/(SQRT(2)*$C$26*SIN($Q112))))","v":0.0791157771358779},{"$f":"U427*ABS(1/(Vout/(SQRT(2)*$C$26*SIN($Q112))))","v":0.0693065323689452},{"$f":"V427*ABS(1/(Vout/(SQRT(2)*$C$26*SIN($Q112))))","v":0.0956393769000374},{"$f":"W427*ABS(1/(Vout/(SQRT(2)*$C$26*SIN($Q112))))","v":0.12751916920005},null,{"$f":"1/(0.0000128*(R427+Y427+$G$40))","v":34438.2696892186},{"$f":"1/(0.0000128*(S427+Z427+$H$40))","v":72988.7172757169},{"$f":"1/(0.0000128*(T427+AA427+$I$40))","v":94426.1833822861},{"$f":"1/(0.0000128*(U427+AB427+$J$40))","v":251064.137107973},{"$f":"1/(0.0000128*(V427+AC427+$K$40))","v":198385.911892295},{"$f":"1/(0.0000128*(W427+AD427+$L$40))","v":148789.433919221}]
[null,null,null,null,null,null,null,null,null,null,null,null,null,null,null,null,null,{"$f":"(G$5*((90/$G$35)*(90/$G$35))/2)*(1+(SQRT(1+(4/(G$5*((90/$G$35)*(90/$G$35))))*$G$40*(1-(SQRT(2)*Vin_rms_min*(SIN($Q113)/Vout))))))","v":0.256844193599058},{"$f":"(H$5*((90/$G$35)*(90/$G$35))/2)*(1+(SQRT(1+(4/(H$5*((90/$G$35)*(90/$G$35))))*$H$40*(1-(SQRT(2)*Vin_rms_min*(SIN($Q113)/Vout))))))","v":0.250304943007633},{"$f":"(I$5*((90/$G$35)*(90/$G$35))/2)*(1+(SQRT(1+(4/(I$5*((90/$G$35)*(90/$G$35))))*$I$40*(1-(SQRT(2)*Vin_rms_min*(SIN($Q113)/Vout))))))","v":0.246459209311646},{"$f":"(J$5*((90/$G$35)*(90/$G$35))/2)*(1+(SQRT(1+(4/(J$5*((90/$G$35)*(90/$G$35))))*$J$40*(1-(SQRT(2)*Vin_rms_min*(SIN($Q113)/Vout))))))","v":0.216035802139122},{"$f":"(K$5*((90/$G$35)*(90/$G$35))/2)*(1+(SQRT(1+(4/(K$5*((90/$G$35)*(90/$G$35))))*$K$40*(1-(SQRT(2)*Vin_rms_min*(SIN($Q113)/Vout))))))","v":0.298163788127197},{"$f":"(L$5*((90/$G$35)*(90/$G$35))/2)*(1+(SQRT(1+(4/(L$5*((90/$G$35)*(90/$G$35))))*$L$40*(1-(SQRT(2)*Vin_rms_min*(SIN($Q113)/Vout))))))","v":0.39755171750293},null,{"$f":"R428*ABS(1/(Vout/(SQRT(2)*$C$26*SIN($Q113))))","v":0.0828432199439995},{"$f":"S428*ABS(1/(Vout/(SQRT(2)*$C$26*SIN($Q113))))","v":0.0807340323956135},{"$f":"T428*ABS(1/(Vout/(SQRT(2)*$C$26*SIN($Q113))))","v":0.0794936190619175},{"$f":"U428*ABS(1/(Vout/(SQRT(2)*$C$26*SIN($Q113))))","v":0.0696807711383485},{"$f":"V428*ABS(1/(Vout/(SQRT(2)*$C$26*SIN($Q113))))","v":0.0961705535680369},{"$f":"W428*ABS(1/(Vout/(SQRT(2)*$C$26*SIN($Q113))))","v":0.128227404757383},null,{"$f":"1/(0.0000128*(R428+Y428+$G$40))","v":34436.2116762443},{"$f":"1/(0.0000128*(S428+Z428+$H$40))","v":72977.2589275156},{"$f":"1/(0.0000128*(T428+AA428+$I$40))","v":94404.8492391035},{"$f":"1/(0.0000128*(U428+AB428+$J$40))","v":250789.225042012},{"$f":"1/(0.0000128*(V428+AC428+$K$40))","v":198118.681888426},{"$f":"1/(0.0000128*(W428+AD428+$L$40))","v":148589.01141632}]
[null,null,null,null,null,null,null,null,null,null,null,null,null,null,null,null,null,{"$f":"(G$5*((90/$G$35)*(90/$G$35))/2)*(1+(SQRT(1+(4/(G$5*((90/$G$35)*(90/$G$35))))*$G$40*(1-(SQRT(2)*Vin_rms_min*(SIN($Q114)/Vout))))))","v":0.256604571533811},{"$f":"(H$5*((90/$G$35)*(90/$G$35))/2)*(1+(SQRT(1+(4/(H$5*((90/$G$35)*(90/$G$35))))*$H$40*(1-(SQRT(2)*Vin_rms_min*(SIN($Q114)/Vout))))))","v":0.250098172403466},{"$f":"(I$5*((90/$G$35)*(90/$G$35))/2)*(1+(SQRT(1+(4/(I$5*((90/$G$35)*(90/$G$35))))*$I$40*(1-(SQRT(2)*Vin_rms_min*(SIN($Q114)/Vout))))))","v":0.246271615582671},{"$f":"(J$5*((90/$G$35)*(90/$G$35))/2)*(1+(SQRT(1+(4/(J$5*((90/$G$35)*(90/$G$35))))*$J$40*(1-(SQRT(2)*Vin_rms_min*(SIN($Q114)/Vout))))))","v":0.216003260789295},{"$f":"(K$5*((90/$G$35)*(90/$G$35))/2)*(1+(SQRT(1+(4/(K$5*((90/$G$35)*(90/$G$35))))*$K$40*(1-(SQRT(2)*Vin_rms_min*(SIN($Q114)/Vout))))))","v":0.298163788127197},{"$f":"(L$5*((90/$G$35)*(90/$G$35))/2)*(1+(SQRT(1+(4/(L$5*((90/$G$35)*(90/$G$35))))*$L$40*(1-(SQRT(2)*Vin_rms_min*(SIN($Q114)/Vout))))))","v":0.39755171750293},null,{"$f":"R429*ABS(1/(Vout/(SQRT(2)*$C$26*SIN($Q114))))","v":0.0832147942908719},{"$f":"S429*ABS(1/(Vout/(SQRT(2)*$C$26*SIN($Q114))))","v":0.081104821495104},{"$f":"T429*ABS(1/(Vout/(SQRT(2)*$C$26*SIN($Q114))))","v":0.0798638999605367},{"$f":"U429*ABS(1/(Vout/(SQRT(2)*$C$26*SIN($Q114))))","v":0.0700481164668976},{"$f":"V429*ABS(1/(Vout/(SQRT(2)*$C$26*SIN($Q114))))","v":0.0966921132608214},{"$f":"W429*ABS(1/(Vout/(SQRT(2)*$C$26*SIN($Q114))))","v":0.128922817681095},null,{"$f":"1/(0.0000128*(R429+Y429+$G$40))","v":34434.2089003646},{"$f":"1/(0.0000128*(S429+Z429+$H$40))","v":72966.0797113648},{"$f":"1/(0.0000128*(T429+AA429+$I$40))","v":94384.0134112523},{"$f":"1/(0.0000128*(U429+AB429+$J$40))","v":250519.9774565},{"$f":"1/(0.0000128*(V429+AC429+$K$40))","v":197856.989664763},{"$f":"1/(0.0000128*(W429+AD429+$L$40))","v":148392.742248572}]
[null,null,null,null,null,null,null,null,null,null,null,null,null,null,null,null,null,{"$f":"(G$5*((90/$G$35)*(90/$G$35))/2)*(1+(SQRT(1+(4/(G$5*((90/$G$35)*(90/$G$35))))*$G$40*(1-(SQRT(2)*Vin_rms_min*(SIN($Q115)/Vout))))))","v":0.256369155708534},{"$f":"(H$5*((90/$G$35)*(90/$G$35))/2)*(1+(SQRT(1+(4/(H$5*((90/$G$35)*(90/$G$35))))*$H$40*(1-(SQRT(2)*Vin_rms_min*(SIN($Q115)/Vout))))))","v":0.249895037261518},{"$f":"(I$5*((90/$G$35)*(90/$G$35))/2)*(1+(SQRT(1+(4/(I$5*((90/$G$35)*(90/$G$35))))*$I$40*(1-(SQRT(2)*Vin_rms_min*(SIN($Q115)/Vout))))))","v":0.246087325394513},{"$f":"(J$5*((90/$G$35)*(90/$G$35))/2)*(1+(SQRT(1+(4/(J$5*((90/$G$35)*(90/$G$35))))*$J$40*(1-(SQRT(2)*Vin_rms_min*(SIN($Q115)/Vout))))))","v":0.215971313887453},{"$f":"(K$5*((90/$G$35)*(90/$G$35))/2)*(1+(SQRT(1+(4/(K$5*((90/$G$35)*(90/$G$35))))*$K$40*(1-(SQRT(2)*Vin_rms_min*(SIN($Q115)/Vout))))))","v":0.298163788127197},{"$f":"(L$5*((90/$G$35)*(90/$G$35))/2)*(1+(SQRT(1+(4/(L$5*((90/$G$35)*(90/$G$35))))*$L$40*(1-(SQRT(2)*Vin_rms_min*(SIN($Q115)/Vout))))))","v":0.39755171750293},null,{"$f":"R430*ABS(1/(Vout/(SQRT(2)*$C$26*SIN($Q115))))","v":0.0835785879569113},{"$f":"S430*ABS(1/(Vout/(SQRT(2)*$C$26*SIN($Q115))))","v":0.0814679686955106},{"$f":"T430*ABS(1/(Vout/(SQRT(2)*$C$26*SIN($Q115))))","v":0.0802266213098961},{"$f":"U430*ABS(1/(Vout/(SQRT(2)*$C$26*SIN($Q115))))","v":0.0704085380475093},{"$f":"V430*ABS(1/(Vout/(SQRT(2)*$C$26*SIN($Q115))))","v":0.0972040038228563},{"$f":"W430*ABS(1/(Vout/(SQRT(2)*$C$26*SIN($Q115))))","v":0.129605338430475},null,{"$f":"1/(0.0000128*(R430+Y430+$G$40))","v":34432.2606010266},{"$f":"1/(0.0000128*(S430+Z430+$H$40))","v":72955.1768670726},{"$f":"1/(0.0000128*(T430+AA430+$I$40))","v":94363.6718658794},{"$f":"1/(0.0000128*(U430+AB430+$J$40))","v":250256.38110776},{"$f":"1/(0.0000128*(V430+AC430+$K$40))","v":197600.820275895},{"$f":"1/(0.0000128*(W430+AD430+$L$40))","v":148200.615206921}]
[null,null,null,null,null,null,null,null,null,null,null,null,null,null,null,null,null,{"$f":"(G$5*((90/$G$35)*(90/$G$35))/2)*(1+(SQRT(1+(4/(G$5*((90/$G$35)*(90/$G$35))))*$G$40*(1-(SQRT(2)*Vin_rms_min*(SIN($Q116)/Vout))))))","v":0.25613798227299},{"$f":"(H$5*((90/$G$35)*(90/$G$35))/2)*(1+(SQRT(1+(4/(H$5*((90/$G$35)*(90/$G$35))))*$H$40*(1-(SQRT(2)*Vin_rms_min*(SIN($Q116)/Vout))))))","v":0.249695568477117},{"$f":"(I$5*((90/$G$35)*(90/$G$35))/2)*(1+(SQRT(1+(4/(I$5*((90/$G$35)*(90/$G$35))))*$I$40*(1-(SQRT(2)*Vin_rms_min*(SIN($Q116)/Vout))))))","v":0.245906366510125},{"$f":"(J$5*((90/$G$35)*(90/$G$35))/2)*(1+(SQRT(1+(4/(J$5*((90/$G$35)*(90/$G$35))))*$J$40*(1-(SQRT(2)*Vin_rms_min*(SIN($Q116)/Vout))))))","v":0.21593996511837},{"$f":"(K$5*((90/$G$35)*(90/$G$35))/2)*(1+(SQRT(1+(4/(K$5*((90/$G$35)*(90/$G$35))))*$K$40*(1-(SQRT(2)*Vin_rms_min*(SIN($Q116)/Vout))))))","v":0.298163788127197},{"$f":"(L$5*((90/$G$35)*(90/$G$35))/2)*(1+(SQRT(1+(4/(L$5*((90/$G$35)*(90/$G$35))))*$L$40*(1-(SQRT(2)*Vin_rms_min*(SIN($Q116)/Vout))))))","v":0.39755171750293},null,{"$f":"R431*ABS(1/(Vout/(SQRT(2)*$C$26*SIN($Q116))))","v":0.0839346133812787},{"$f":"S431*ABS(1/(Vout/(SQRT(2)*$C$26*SIN($Q116))))","v":0.0818234797399491},{"$f":"T431*ABS(1/(Vout/(SQRT(2)*$C$26*SIN($Q116))))","v":0.0805817849342793},{"$f":"U431*ABS(1/(Vout/(SQRT(2)*$C$26*SIN($Q116))))","v":0.0707620061848533},{"$f":"V431*ABS(1/(Vout/(SQRT(2)*$C$26*SIN($Q116))))","v":0.0977061740655121},{"$f":"W431*ABS(1/(Vout/(SQRT(2)*$C$26*SIN($Q116))))","v":0.130274898754016},null,{"$f":"1/(0.0000128*(R431+Y431+$G$40))","v":34430.3660224997},{"$f":"1/(0.0000128*(S431+Z431+$H$40))","v":72944.5476530555},{"$f":"1/(0.0000128*(T431+AA431+$I$40))","v":94343.8205989657},{"$f":"1/(0.0000128*(U431+AB431+$J$40))","v":249998.42296737},{"$f":"1/(0.0000128*(V431+AC431+$K$40))","v":197350.15904533},{"$f":"1/(0.0000128*(W431+AD431+$L$40))","v":148012.619283998}]
[null,null,null,null,null,null,null,null,null,null,null,null,null,null,null,null,null,{"$f":"(G$5*((90/$G$35)*(90/$G$35))/2)*(1+(SQRT(1+(4/(G$5*((90/$G$35)*(90/$G$35))))*$G$40*(1-(SQRT(2)*Vin_rms_min*(SIN($Q117)/Vout))))))","v":0.255911086842985},{"$f":"(H$5*((90/$G$35)*(90/$G$35))/2)*(1+(SQRT(1+(4/(H$5*((90/$G$35)*(90/$G$35))))*$H$40*(1-(SQRT(2)*Vin_rms_min*(SIN($Q117)/Vout))))))","v":0.249499796485287},{"$f":"(I$5*((90/$G$35)*(90/$G$35))/2)*(1+(SQRT(1+(4/(I$5*((90/$G$35)*(90/$G$35))))*$I$40*(1-(SQRT(2)*Vin_rms_min*(SIN($Q117)/Vout))))))","v":0.245728766275328},{"$f":"(J$5*((90/$G$35)*(90/$G$35))/2)*(1+(SQRT(1+(4/(J$5*((90/$G$35)*(90/$G$35))))*$J$40*(1-(SQRT(2)*Vin_rms_min*(SIN($Q117)/Vout))))))","v":0.215909218100909},{"$f":"(K$5*((90/$G$35)*(90/$G$35))/2)*(1+(SQRT(1+(4/(K$5*((90/$G$35)*(90/$G$35))))*$K$40*(1-(SQRT(2)*Vin_rms_min*(SIN($Q117)/Vout))))))","v":0.298163788127197},{"$f":"(L$5*((90/$G$35)*(90/$G$35))/2)*(1+(SQRT(1+(4/(L$5*((90/$G$35)*(90/$G$35))))*$L$40*(1-(SQRT(2)*Vin_rms_min*(SIN($Q117)/Vout))))))","v":0.39755171750293},null,{"$f":"R432*ABS(1/(Vout/(SQRT(2)*$C$26*SIN($Q117))))","v":0.0842828832378187},{"$f":"S432*ABS(1/(Vout/(SQRT(2)*$C$26*SIN($Q117))))","v":0.0821713606645386},{"$f":"T432*ABS(1/(Vout/(SQRT(2)*$C$26*SIN($Q117))))","v":0.0809293929843059},{"$f":"U432*ABS(1/(Vout/(SQRT(2)*$C$26*SIN($Q117))))","v":0.0711084917955617},{"$f":"V432*ABS(1/(Vout/(SQRT(2)*$C$26*SIN($Q117))))","v":0.0981985737721828},{"$f":"W432*ABS(1/(Vout/(SQRT(2)*$C$26*SIN($Q117))))","v":0.130931431696244},null,{"$f":"1/(0.0000128*(R432+Y432+$G$40))","v":34428.5244144281},{"$f":"1/(0.0000128*(S432+Z432+$H$40))","v":72934.1893482972},{"$f":"1/(0.0000128*(T432+AA432+$I$40))","v":94324.4556381245},{"$f":"1/(0.0000128*(U432+AB432+$J$40))","v":249746.090225697},{"$f":"1/(0.0000128*(V432+AC432+$K$40))","v":197104.991567874},{"$f":"1/(0.0000128*(W432+AD432+$L$40))","v":147828.743675906}]
[null,null,null,null,null,null,null,null,null,null,null,null,null,null,null,null,null,{"$f":"(G$5*((90/$G$35)*(90/$G$35))/2)*(1+(SQRT(1+(4/(G$5*((90/$G$35)*(90/$G$35))))*$G$40*(1-(SQRT(2)*Vin_rms_min*(SIN($Q118)/Vout))))))","v":0.255688504488998},{"$f":"(H$5*((90/$G$35)*(90/$G$35))/2)*(1+(SQRT(1+(4/(H$5*((90/$G$35)*(90/$G$35))))*$H$40*(1-(SQRT(2)*Vin_rms_min*(SIN($Q118)/Vout))))))","v":0.249307751251203},{"$f":"(I$5*((90/$G$35)*(90/$G$35))/2)*(1+(SQRT(1+(4/(I$5*((90/$G$35)*(90/$G$35))))*$I$40*(1-(SQRT(2)*Vin_rms_min*(SIN($Q118)/Vout))))))","v":0.245554551610405},{"$f":"(J$5*((90/$G$35)*(90/$G$35))/2)*(1+(SQRT(1+(4/(J$5*((90/$G$35)*(90/$G$35))))*$J$40*(1-(SQRT(2)*Vin_rms_min*(SIN($Q118)/Vout))))))","v":0.215879076387432},{"$f":"(K$5*((90/$G$35)*(90/$G$35))/2)*(1+(SQRT(1+(4/(K$5*((90/$G$35)*(90/$G$35))))*$K$40*(1-(SQRT(2)*Vin_rms_min*(SIN($Q118)/Vout))))))","v":0.298163788127197},{"$f":"(L$5*((90/$G$35)*(90/$G$35))/2)*(1+(SQRT(1+(4/(L$5*((90/$G$35)*(90/$G$35))))*$L$40*(1-(SQRT(2)*Vin_rms_min*(SIN($Q118)/Vout))))))","v":0.39755171750293},null,{"$f":"R433*ABS(1/(Vout/(SQRT(2)*$C$26*SIN($Q118))))","v":0.0846234104085231},{"$f":"S433*ABS(1/(Vout/(SQRT(2)*$C$26*SIN($Q118))))","v":0.0825116177761693},{"$f":"T433*ABS(1/(Vout/(SQRT(2)*$C$26*SIN($Q118))))","v":0.0812694479172502},{"$f":"U433*ABS(1/(Vout/(SQRT(2)*$C$26*SIN($Q118))))","v":0.0714479664084104},{"$f":"V433*ABS(1/(Vout/(SQRT(2)*$C$26*SIN($Q118))))","v":0.0986811537033081},{"$f":"W433*ABS(1/(Vout/(SQRT(2)*$C$26*SIN($Q118))))","v":0.131574871604411},null,{"$f":"1/(0.0000128*(R433+Y433+$G$40))","v":34426.7350323801},{"$f":"1/(0.0000128*(S433+Z433+$H$40))","v":72924.0992542943},{"$f":"1/(0.0000128*(T433+AA433+$I$40))","v":94305.5730453786},{"$f":"1/(0.0000128*(U433+AB433+$J$40))","v":249499.370295325},{"$f":"1/(0.0000128*(V433+AC433+$K$40))","v":196865.303711916},{"$f":"1/(0.0000128*(W433+AD433+$L$40))","v":147648.977783937}]
[null,null,null,null,null,null,null,null,null,null,null,null,null,null,null,null,null,{"$f":"(G$5*((90/$G$35)*(90/$G$35))/2)*(1+(SQRT(1+(4/(G$5*((90/$G$35)*(90/$G$35))))*$G$40*(1-(SQRT(2)*Vin_rms_min*(SIN($Q119)/Vout))))))","v":0.255470269724888},{"$f":"(H$5*((90/$G$35)*(90/$G$35))/2)*(1+(SQRT(1+(4/(H$5*((90/$G$35)*(90/$G$35))))*$H$40*(1-(SQRT(2)*Vin_rms_min*(SIN($Q119)/Vout))))))","v":0.249119462260727},{"$f":"(I$5*((90/$G$35)*(90/$G$35))/2)*(1+(SQRT(1+(4/(I$5*((90/$G$35)*(90/$G$35))))*$I$40*(1-(SQRT(2)*Vin_rms_min*(SIN($Q119)/Vout))))))","v":0.245383749001744},{"$f":"(J$5*((90/$G$35)*(90/$G$35))/2)*(1+(SQRT(1+(4/(J$5*((90/$G$35)*(90/$G$35))))*$J$40*(1-(SQRT(2)*Vin_rms_min*(SIN($Q119)/Vout))))))","v":0.21584954346322},{"$f":"(K$5*((90/$G$35)*(90/$G$35))/2)*(1+(SQRT(1+(4/(K$5*((90/$G$35)*(90/$G$35))))*$K$40*(1-(SQRT(2)*Vin_rms_min*(SIN($Q119)/Vout))))))","v":0.298163788127197},{"$f":"(L$5*((90/$G$35)*(90/$G$35))/2)*(1+(SQRT(1+(4/(L$5*((90/$G$35)*(90/$G$35))))*$L$40*(1-(SQRT(2)*Vin_rms_min*(SIN($Q119)/Vout))))))","v":0.39755171750293},null,{"$f":"R434*ABS(1/(Vout/(SQRT(2)*$C$26*SIN($Q119))))","v":0.0849562079571598},{"$f":"S434*ABS(1/(Vout/(SQRT(2)*$C$26*SIN($Q119))))","v":0.0828442576304069},{"$f":"T434*ABS(1/(Vout/(SQRT(2)*$C$26*SIN($Q119))))","v":0.0816019524774813},{"$f":"U434*ABS(1/(Vout/(SQRT(2)*$C$26*SIN($Q119))))","v":0.0717804021644749},{"$f":"V434*ABS(1/(Vout/(SQRT(2)*$C$26*SIN($Q119))))","v":0.0991538656012972},{"$f":"W434*ABS(1/(Vout/(SQRT(2)*$C$26*SIN($Q119))))","v":0.132205154135063},null,{"$f":"1/(0.0000128*(R434+Y434+$G$40))","v":34424.997138394},{"$f":"1/(0.0000128*(S434+Z434+$H$40))","v":72914.2746969891},{"$f":"1/(0.0000128*(T434+AA434+$I$40))","v":94287.1689199174},{"$f":"1/(0.0000128*(U434+AB434+$J$40))","v":249258.250814362},{"$f":"1/(0.0000128*(V434+AC434+$K$40))","v":196631.081621625},{"$f":"1/(0.0000128*(W434+AD434+$L$40))","v":147473.311216218}]
[null,null,null,null,null,null,null,null,null,null,null,null,null,null,null,null,null,{"$f":"(G$5*((90/$G$35)*(90/$G$35))/2)*(1+(SQRT(1+(4/(G$5*((90/$G$35)*(90/$G$35))))*$G$40*(1-(SQRT(2)*Vin_rms_min*(SIN($Q120)/Vout))))))","v":0.255256416496684},{"$f":"(H$5*((90/$G$35)*(90/$G$35))/2)*(1+(SQRT(1+(4/(H$5*((90/$G$35)*(90/$G$35))))*$H$40*(1-(SQRT(2)*Vin_rms_min*(SIN($Q120)/Vout))))))","v":0.248934958511009},{"$f":"(I$5*((90/$G$35)*(90/$G$35))/2)*(1+(SQRT(1+(4/(I$5*((90/$G$35)*(90/$G$35))))*$I$40*(1-(SQRT(2)*Vin_rms_min*(SIN($Q120)/Vout))))))","v":0.245216384493561},{"$f":"(J$5*((90/$G$35)*(90/$G$35))/2)*(1+(SQRT(1+(4/(J$5*((90/$G$35)*(90/$G$35))))*$J$40*(1-(SQRT(2)*Vin_rms_min*(SIN($Q120)/Vout))))))","v":0.215820622745905},{"$f":"(K$5*((90/$G$35)*(90/$G$35))/2)*(1+(SQRT(1+(4/(K$5*((90/$G$35)*(90/$G$35))))*$K$40*(1-(SQRT(2)*Vin_rms_min*(SIN($Q120)/Vout))))))","v":0.298163788127197},{"$f":"(L$5*((90/$G$35)*(90/$G$35))/2)*(1+(SQRT(1+(4/(L$5*((90/$G$35)*(90/$G$35))))*$L$40*(1-(SQRT(2)*Vin_rms_min*(SIN($Q120)/Vout))))))","v":0.39755171750293},null,{"$f":"R435*ABS(1/(Vout/(SQRT(2)*$C$26*SIN($Q120))))","v":0.0852812891030859},{"$f":"S435*ABS(1/(Vout/(SQRT(2)*$C$26*SIN($Q120))))","v":0.0831692870095503},{"$f":"T435*ABS(1/(Vout/(SQRT(2)*$C$26*SIN($Q120))))","v":0.0819269096770405},{"$f":"U435*ABS(1/(Vout/(SQRT(2)*$C$26*SIN($Q120))))","v":0.0721057718172606},{"$f":"V435*ABS(1/(Vout/(SQRT(2)*$C$26*SIN($Q120))))","v":0.0996166621953541},{"$f":"W435*ABS(1/(Vout/(SQRT(2)*$C$26*SIN($Q120))))","v":0.132822216260472},null,{"$f":"1/(0.0000128*(R435+Y435+$G$40))","v":34423.3100015203},{"$f":"1/(0.0000128*(S435+Z435+$H$40))","v":72904.7130286879},{"$f":"1/(0.0000128*(T435+AA435+$I$40))","v":94269.2394008289},{"$f":"1/(0.0000128*(U435+AB435+$J$40))","v":249022.719649655},{"$f":"1/(0.0000128*(V435+AC435+$K$40))","v":196402.311719066},{"$f":"1/(0.0000128*(W435+AD435+$L$40))","v":147301.733789299}]
[null,null,null,null,null,null,null,null,null,null,null,null,null,null,null,null,null,{"$f":"(G$5*((90/$G$35)*(90/$G$35))/2)*(1+(SQRT(1+(4/(G$5*((90/$G$35)*(90/$G$35))))*$G$40*(1-(SQRT(2)*Vin_rms_min*(SIN($Q121)/Vout))))))","v":0.255046978171458},{"$f":"(H$5*((90/$G$35)*(90/$G$35))/2)*(1+(SQRT(1+(4/(H$5*((90/$G$35)*(90/$G$35))))*$H$40*(1-(SQRT(2)*Vin_rms_min*(SIN($Q121)/Vout))))))","v":0.248754268501161},{"$f":"(I$5*((90/$G$35)*(90/$G$35))/2)*(1+(SQRT(1+(4/(I$5*((90/$G$35)*(90/$G$35))))*$I$40*(1-(SQRT(2)*Vin_rms_min*(SIN($Q121)/Vout))))))","v":0.245052483679687},{"$f":"(J$5*((90/$G$35)*(90/$G$35))/2)*(1+(SQRT(1+(4/(J$5*((90/$G$35)*(90/$G$35))))*$J$40*(1-(SQRT(2)*Vin_rms_min*(SIN($Q121)/Vout))))))","v":0.215792317584904},{"$f":"(K$5*((90/$G$35)*(90/$G$35))/2)*(1+(SQRT(1+(4/(K$5*((90/$G$35)*(90/$G$35))))*$K$40*(1-(SQRT(2)*Vin_rms_min*(SIN($Q121)/Vout))))))","v":0.298163788127197},{"$f":"(L$5*((90/$G$35)*(90/$G$35))/2)*(1+(SQRT(1+(4/(L$5*((90/$G$35)*(90/$G$35))))*$L$40*(1-(SQRT(2)*Vin_rms_min*(SIN($Q121)/Vout))))))","v":0.39755171750293},null,{"$f":"R436*ABS(1/(Vout/(SQRT(2)*$C$26*SIN($Q121))))","v":0.0855986671952658},{"$f":"S436*ABS(1/(Vout/(SQRT(2)*$C$26*SIN($Q121))))","v":0.083486712900861},{"$f":"T436*ABS(1/(Vout/(SQRT(2)*$C$26*SIN($Q121))))","v":0.0822443227763688},{"$f":"U436*ABS(1/(Vout/(SQRT(2)*$C$26*SIN($Q121))))","v":0.0724240487328089},{"$f":"V436*ABS(1/(Vout/(SQRT(2)*$C$26*SIN($Q121))))","v":0.100069497206205},{"$f":"W436*ABS(1/(Vout/(SQRT(2)*$C$26*SIN($Q121))))","v":0.13342599627494},null,{"$f":"1/(0.0000128*(R436+Y436+$G$40))","v":34421.6728983598},{"$f":"1/(0.0000128*(S436+Z436+$H$40))","v":72895.4116299621},{"$f":"1/(0.0000128*(T436+AA436+$I$40))","v":94251.7806698074},{"$f":"1/(0.0000128*(U436+AB436+$J$40))","v":248792.764899888},{"$f":"1/(0.0000128*(V436+AC436+$K$40))","v":196178.98070623},{"$f":"1/(0.0000128*(W436+AD436+$L$40))","v":147134.235529672}]
[null,null,null,null,null,null,null,null,null,null,null,null,null,null,null,null,null,{"$f":"(G$5*((90/$G$35)*(90/$G$35))/2)*(1+(SQRT(1+(4/(G$5*((90/$G$35)*(90/$G$35))))*$G$40*(1-(SQRT(2)*Vin_rms_min*(SIN($Q122)/Vout))))))","v":0.254841987526305},{"$f":"(H$5*((90/$G$35)*(90/$G$35))/2)*(1+(SQRT(1+(4/(H$5*((90/$G$35)*(90/$G$35))))*$H$40*(1-(SQRT(2)*Vin_rms_min*(SIN($Q122)/Vout))))))","v":0.248577420223031},{"$f":"(I$5*((90/$G$35)*(90/$G$35))/2)*(1+(SQRT(1+(4/(I$5*((90/$G$35)*(90/$G$35))))*$I$40*(1-(SQRT(2)*Vin_rms_min*(SIN($Q122)/Vout))))))","v":0.244892071695437},{"$f":"(J$5*((90/$G$35)*(90/$G$35))/2)*(1+(SQRT(1+(4/(J$5*((90/$G$35)*(90/$G$35))))*$J$40*(1-(SQRT(2)*Vin_rms_min*(SIN($Q122)/Vout))))))","v":0.215764631260876},{"$f":"(K$5*((90/$G$35)*(90/$G$35))/2)*(1+(SQRT(1+(4/(K$5*((90/$G$35)*(90/$G$35))))*$K$40*(1-(SQRT(2)*Vin_rms_min*(SIN($Q122)/Vout))))))","v":0.298163788127197},{"$f":"(L$5*((90/$G$35)*(90/$G$35))/2)*(1+(SQRT(1+(4/(L$5*((90/$G$35)*(90/$G$35))))*$L$40*(1-(SQRT(2)*Vin_rms_min*(SIN($Q122)/Vout))))))","v":0.39755171750293},null,{"$f":"R437*ABS(1/(Vout/(SQRT(2)*$C$26*SIN($Q122))))","v":0.0859083556865142},{"$f":"S437*ABS(1/(Vout/(SQRT(2)*$C$26*SIN($Q122))))","v":0.0837965424749794},{"$f":"T437*ABS(1/(Vout/(SQRT(2)*$C$26*SIN($Q122))))","v":0.0825541952652025},{"$f":"U437*ABS(1/(Vout/(SQRT(2)*$C$26*SIN($Q122))))","v":0.0727352068897815},{"$f":"V437*ABS(1/(Vout/(SQRT(2)*$C$26*SIN($Q122))))","v":0.100512325350726},{"$f":"W437*ABS(1/(Vout/(SQRT(2)*$C$26*SIN($Q122))))","v":0.134016433800968},null,{"$f":"1/(0.0000128*(R437+Y437+$G$40))","v":34420.0851135964},{"$f":"1/(0.0000128*(S437+Z437+$H$40))","v":72886.367911533},{"$f":"1/(0.0000128*(T437+AA437+$I$40))","v":94234.7889538343},{"$f":"1/(0.0000128*(U437+AB437+$J$40))","v":248568.374898594},{"$f":"1/(0.0000128*(V437+AC437+$K$40))","v":195961.075566987},{"$f":"1/(0.0000128*(W437+AD437+$L$40))","v":146970.80667524}]
[null,null,null,null,null,null,null,null,null,null,null,null,null,null,null,null,null,{"$f":"(G$5*((90/$G$35)*(90/$G$35))/2)*(1+(SQRT(1+(4/(G$5*((90/$G$35)*(90/$G$35))))*$G$40*(1-(SQRT(2)*Vin_rms_min*(SIN($Q123)/Vout))))))","v":0.254641476737428},{"$f":"(H$5*((90/$G$35)*(90/$G$35))/2)*(1+(SQRT(1+(4/(H$5*((90/$G$35)*(90/$G$35))))*$H$40*(1-(SQRT(2)*Vin_rms_min*(SIN($Q123)/Vout))))))","v":0.248404441152054},{"$f":"(I$5*((90/$G$35)*(90/$G$35))/2)*(1+(SQRT(1+(4/(I$5*((90/$G$35)*(90/$G$35))))*$I$40*(1-(SQRT(2)*Vin_rms_min*(SIN($Q123)/Vout))))))","v":0.244735173209559},{"$f":"(J$5*((90/$G$35)*(90/$G$35))/2)*(1+(SQRT(1+(4/(J$5*((90/$G$35)*(90/$G$35))))*$J$40*(1-(SQRT(2)*Vin_rms_min*(SIN($Q123)/Vout))))))","v":0.215737566985175},{"$f":"(K$5*((90/$G$35)*(90/$G$35))/2)*(1+(SQRT(1+(4/(K$5*((90/$G$35)*(90/$G$35))))*$K$40*(1-(SQRT(2)*Vin_rms_min*(SIN($Q123)/Vout))))))","v":0.298163788127197},{"$f":"(L$5*((90/$G$35)*(90/$G$35))/2)*(1+(SQRT(1+(4/(L$5*((90/$G$35)*(90/$G$35))))*$L$40*(1-(SQRT(2)*Vin_rms_min*(SIN($Q123)/Vout))))))","v":0.39755171750293},null,{"$f":"R438*ABS(1/(Vout/(SQRT(2)*$C$26*SIN($Q123))))","v":0.0862103681079839},{"$f":"S438*ABS(1/(Vout/(SQRT(2)*$C$26*SIN($Q123))))","v":0.084098783064546},{"$f":"T438*ABS(1/(Vout/(SQRT(2)*$C$26*SIN($Q123))))","v":0.0828565308436497},{"$f":"U438*ABS(1/(Vout/(SQRT(2)*$C$26*SIN($Q123))))","v":0.0730392208795223},{"$f":"V438*ABS(1/(Vout/(SQRT(2)*$C$26*SIN($Q123))))","v":0.100945102346473},{"$f":"W438*ABS(1/(Vout/(SQRT(2)*$C$26*SIN($Q123))))","v":0.134593469795297},null,{"$f":"1/(0.0000128*(R438+Y438+$G$40))","v":34418.5459405262},{"$f":"1/(0.0000128*(S438+Z438+$H$40))","v":72877.5793161371},{"$f":"1/(0.0000128*(T438+AA438+$I$40))","v":94218.2605278294},{"$f":"1/(0.0000128*(U438+AB438+$J$40))","v":248349.538217049},{"$f":"1/(0.0000128*(V438+AC438+$K$40))","v":195748.58356896},{"$f":"1/(0.0000128*(W438+AD438+$L$40))","v":146811.43767672}]
[null,null,null,null,null,null,null,null,null,null,null,null,null,null,null,null,null,{"$f":"(G$5*((90/$G$35)*(90/$G$35))/2)*(1+(SQRT(1+(4/(G$5*((90/$G$35)*(90/$G$35))))*$G$40*(1-(SQRT(2)*Vin_rms_min*(SIN($Q124)/Vout))))))","v":0.254445477369332},{"$f":"(H$5*((90/$G$35)*(90/$G$35))/2)*(1+(SQRT(1+(4/(H$5*((90/$G$35)*(90/$G$35))))*$H$40*(1-(SQRT(2)*Vin_rms_min*(SIN($Q124)/Vout))))))","v":0.248235358238216},{"$f":"(I$5*((90/$G$35)*(90/$G$35))/2)*(1+(SQRT(1+(4/(I$5*((90/$G$35)*(90/$G$35))))*$I$40*(1-(SQRT(2)*Vin_rms_min*(SIN($Q124)/Vout))))))","v":0.244581812416278},{"$f":"(J$5*((90/$G$35)*(90/$G$35))/2)*(1+(SQRT(1+(4/(J$5*((90/$G$35)*(90/$G$35))))*$J$40*(1-(SQRT(2)*Vin_rms_min*(SIN($Q124)/Vout))))))","v":0.215711127899321},{"$f":"(K$5*((90/$G$35)*(90/$G$35))/2)*(1+(SQRT(1+(4/(K$5*((90/$G$35)*(90/$G$35))))*$K$40*(1-(SQRT(2)*Vin_rms_min*(SIN($Q124)/Vout))))))","v":0.298163788127197},{"$f":"(L$5*((90/$G$35)*(90/$G$35))/2)*(1+(SQRT(1+(4/(L$5*((90/$G$35)*(90/$G$35))))*$L$40*(1-(SQRT(2)*Vin_rms_min*(SIN($Q124)/Vout))))))","v":0.39755171750293},null,{"$f":"R439*ABS(1/(Vout/(SQRT(2)*$C$26*SIN($Q124))))","v":0.0865047180439191},{"$f":"S439*ABS(1/(Vout/(SQRT(2)*$C$26*SIN($Q124))))","v":0.0843934421430446},{"$f":"T439*ABS(1/(Vout/(SQRT(2)*$C$26*SIN($Q124))))","v":0.0831513334034637},{"$f":"U439*ABS(1/(Vout/(SQRT(2)*$C$26*SIN($Q124))))","v":0.0733360659061005},{"$f":"V439*ABS(1/(Vout/(SQRT(2)*$C$26*SIN($Q124))))","v":0.101367784916105},{"$f":"W439*ABS(1/(Vout/(SQRT(2)*$C$26*SIN($Q124))))","v":0.135157046554806},null,{"$f":"1/(0.0000128*(R439+Y439+$G$40))","v":34417.0546815795},{"$f":"1/(0.0000128*(S439+Z439+$H$40))","v":72869.0433203715},{"$f":"1/(0.0000128*(T439+AA439+$I$40))","v":94202.1917172725},{"$f":"1/(0.0000128*(U439+AB439+$J$40))","v":248136.243667085},{"$f":"1/(0.0000128*(V439+AC439+$K$40))","v":195541.492265325},{"$f":"1/(0.0000128*(W439+AD439+$L$40))","v":146656.119198994}]
[null,null,null,null,null,null,null,null,null,null,null,null,null,null,null,null,null,{"$f":"(G$5*((90/$G$35)*(90/$G$35))/2)*(1+(SQRT(1+(4/(G$5*((90/$G$35)*(90/$G$35))))*$G$40*(1-(SQRT(2)*Vin_rms_min*(SIN($Q125)/Vout))))))","v":0.254254020364144},{"$f":"(H$5*((90/$G$35)*(90/$G$35))/2)*(1+(SQRT(1+(4/(H$5*((90/$G$35)*(90/$G$35))))*$H$40*(1-(SQRT(2)*Vin_rms_min*(SIN($Q125)/Vout))))))","v":0.248070197897108},{"$f":"(I$5*((90/$G$35)*(90/$G$35))/2)*(1+(SQRT(1+(4/(I$5*((90/$G$35)*(90/$G$35))))*$I$40*(1-(SQRT(2)*Vin_rms_min*(SIN($Q125)/Vout))))))","v":0.244432013027431},{"$f":"(J$5*((90/$G$35)*(90/$G$35))/2)*(1+(SQRT(1+(4/(J$5*((90/$G$35)*(90/$G$35))))*$J$40*(1-(SQRT(2)*Vin_rms_min*(SIN($Q125)/Vout))))))","v":0.215685317074481},{"$f":"(K$5*((90/$G$35)*(90/$G$35))/2)*(1+(SQRT(1+(4/(K$5*((90/$G$35)*(90/$G$35))))*$K$40*(1-(SQRT(2)*Vin_rms_min*(SIN($Q125)/Vout))))))","v":0.298163788127197},{"$f":"(L$5*((90/$G$35)*(90/$G$35))/2)*(1+(SQRT(1+(4/(L$5*((90/$G$35)*(90/$G$35))))*$L$40*(1-(SQRT(2)*Vin_rms_min*(SIN($Q125)/Vout))))))","v":0.39755171750293},null,{"$f":"R440*ABS(1/(Vout/(SQRT(2)*$C$26*SIN($Q125))))","v":0.086791419106693},{"$f":"S440*ABS(1/(Vout/(SQRT(2)*$C$26*SIN($Q125))))","v":0.0846805273038841},{"$f":"T440*ABS(1/(Vout/(SQRT(2)*$C$26*SIN($Q125))))","v":0.0834386070095283},{"$f":"U440*ABS(1/(Vout/(SQRT(2)*$C$26*SIN($Q125))))","v":0.0736257177863341},{"$f":"V440*ABS(1/(Vout/(SQRT(2)*$C$26*SIN($Q125))))","v":0.101780330791718},{"$f":"W440*ABS(1/(Vout/(SQRT(2)*$C$26*SIN($Q125))))","v":0.135707107722291},null,{"$f":"1/(0.0000128*(R440+Y440+$G$40))","v":34415.6106488386},{"$f":"1/(0.0000128*(S440+Z440+$H$40))","v":72860.757436518},{"$f":"1/(0.0000128*(T440+AA440+$I$40))","v":94186.5789007921},{"$f":"1/(0.0000128*(U440+AB440+$J$40))","v":247928.480303801},{"$f":"1/(0.0000128*(V440+AC440+$K$40))","v":195339.78949654},{"$f":"1/(0.0000128*(W440+AD440+$L$40))","v":146504.842122405}]
[null,null,null,null,null,null,null,null,null,null,null,null,null,null,null,null,null,{"$f":"(G$5*((90/$G$35)*(90/$G$35))/2)*(1+(SQRT(1+(4/(G$5*((90/$G$35)*(90/$G$35))))*$G$40*(1-(SQRT(2)*Vin_rms_min*(SIN($Q126)/Vout))))))","v":0.254067136031066},{"$f":"(H$5*((90/$G$35)*(90/$G$35))/2)*(1+(SQRT(1+(4/(H$5*((90/$G$35)*(90/$G$35))))*$H$40*(1-(SQRT(2)*Vin_rms_min*(SIN($Q126)/Vout))))))","v":0.247908986001108},{"$f":"(I$5*((90/$G$35)*(90/$G$35))/2)*(1+(SQRT(1+(4/(I$5*((90/$G$35)*(90/$G$35))))*$I$40*(1-(SQRT(2)*Vin_rms_min*(SIN($Q126)/Vout))))))","v":0.244285798264705},{"$f":"(J$5*((90/$G$35)*(90/$G$35))/2)*(1+(SQRT(1+(4/(J$5*((90/$G$35)*(90/$G$35))))*$J$40*(1-(SQRT(2)*Vin_rms_min*(SIN($Q126)/Vout))))))","v":0.215660137510958},{"$f":"(K$5*((90/$G$35)*(90/$G$35))/2)*(1+(SQRT(1+(4/(K$5*((90/$G$35)*(90/$G$35))))*$K$40*(1-(SQRT(2)*Vin_rms_min*(SIN($Q126)/Vout))))))","v":0.298163788127197},{"$f":"(L$5*((90/$G$35)*(90/$G$35))/2)*(1+(SQRT(1+(4/(L$5*((90/$G$35)*(90/$G$35))))*$L$40*(1-(SQRT(2)*Vin_rms_min*(SIN($Q126)/Vout))))))","v":0.39755171750293},null,{"$f":"R441*ABS(1/(Vout/(SQRT(2)*$C$26*SIN($Q126))))","v":0.0870704849121519},{"$f":"S441*ABS(1/(Vout/(SQRT(2)*$C$26*SIN($Q126))))","v":0.0849600462397347},{"$f":"T441*ABS(1/(Vout/(SQRT(2)*$C$26*SIN($Q126))))","v":0.0837183558815697},{"$f":"U441*ABS(1/(Vout/(SQRT(2)*$C$26*SIN($Q126))))","v":0.0739081529497952},{"$f":"V441*ABS(1/(Vout/(SQRT(2)*$C$26*SIN($Q126))))","v":0.102182698719069},{"$f":"W441*ABS(1/(Vout/(SQRT(2)*$C$26*SIN($Q126))))","v":0.136243598292092},null,{"$f":"1/(0.0000128*(R441+Y441+$G$40))","v":34414.2131645481},{"$f":"1/(0.0000128*(S441+Z441+$H$40))","v":72852.7192143441},{"$f":"1/(0.0000128*(T441+AA441+$I$40))","v":94171.4185127201},{"$f":"1/(0.0000128*(U441+AB441+$J$40))","v":247726.23742818},{"$f":"1/(0.0000128*(V441+AC441+$K$40))","v":195143.463391999},{"$f":"1/(0.0000128*(W441+AD441+$L$40))","v":146357.597544}]
[null,null,null,null,null,null,null,null,null,null,null,null,null,null,null,null,null,{"$f":"(G$5*((90/$G$35)*(90/$G$35))/2)*(1+(SQRT(1+(4/(G$5*((90/$G$35)*(90/$G$35))))*$G$40*(1-(SQRT(2)*Vin_rms_min*(SIN($Q127)/Vout))))))","v":0.253884854035966},{"$f":"(H$5*((90/$G$35)*(90/$G$35))/2)*(1+(SQRT(1+(4/(H$5*((90/$G$35)*(90/$G$35))))*$H$40*(1-(SQRT(2)*Vin_rms_min*(SIN($Q127)/Vout))))))","v":0.247751747870671},{"$f":"(I$5*((90/$G$35)*(90/$G$35))/2)*(1+(SQRT(1+(4/(I$5*((90/$G$35)*(90/$G$35))))*$I$40*(1-(SQRT(2)*Vin_rms_min*(SIN($Q127)/Vout))))))","v":0.244143190851982},{"$f":"(J$5*((90/$G$35)*(90/$G$35))/2)*(1+(SQRT(1+(4/(J$5*((90/$G$35)*(90/$G$35))))*$J$40*(1-(SQRT(2)*Vin_rms_min*(SIN($Q127)/Vout))))))","v":0.21563559213769},{"$f":"(K$5*((90/$G$35)*(90/$G$35))/2)*(1+(SQRT(1+(4/(K$5*((90/$G$35)*(90/$G$35))))*$K$40*(1-(SQRT(2)*Vin_rms_min*(SIN($Q127)/Vout))))))","v":0.298163788127197},{"$f":"(L$5*((90/$G$35)*(90/$G$35))/2)*(1+(SQRT(1+(4/(L$5*((90/$G$35)*(90/$G$35))))*$L$40*(1-(SQRT(2)*Vin_rms_min*(SIN($Q127)/Vout))))))","v":0.39755171750293},null,{"$f":"R442*ABS(1/(Vout/(SQRT(2)*$C$26*SIN($Q127))))","v":0.0873419290552828},{"$f":"S442*ABS(1/(Vout/(SQRT(2)*$C$26*SIN($Q127))))","v":0.085232006722138},{"$f":"T442*ABS(1/(Vout/(SQRT(2)*$C$26*SIN($Q127))))","v":0.08399058437611},{"$f":"U442*ABS(1/(Vout/(SQRT(2)*$C$26*SIN($Q127))))","v":0.0741833484388002},{"$f":"V442*ABS(1/(Vout/(SQRT(2)*$C$26*SIN($Q127))))","v":0.1025748484617},{"$f":"W442*ABS(1/(Vout/(SQRT(2)*$C$26*SIN($Q127))))","v":0.1367664646156},null,{"$f":"1/(0.0000128*(R442+Y442+$G$40))","v":34412.8615616195},{"$f":"1/(0.0000128*(S442+Z442+$H$40))","v":72844.9262428798},{"$f":"1/(0.0000128*(T442+AA442+$I$40))","v":94156.7070456107},{"$f":"1/(0.0000128*(U442+AB442+$J$40))","v":247529.504589622},{"$f":"1/(0.0000128*(V442+AC442+$K$40))","v":194952.502371628},{"$f":"1/(0.0000128*(W442+AD442+$L$40))","v":146214.376778721}]
[null,null,null,null,null,null,null,null,null,null,null,null,null,null,null,null,null,{"$f":"(G$5*((90/$G$35)*(90/$G$35))/2)*(1+(SQRT(1+(4/(G$5*((90/$G$35)*(90/$G$35))))*$G$40*(1-(SQRT(2)*Vin_rms_min*(SIN($Q128)/Vout))))))","v":0.25370720339111},{"$f":"(H$5*((90/$G$35)*(90/$G$35))/2)*(1+(SQRT(1+(4/(H$5*((90/$G$35)*(90/$G$35))))*$H$40*(1-(SQRT(2)*Vin_rms_min*(SIN($Q128)/Vout))))))","v":0.247598508265748},{"$f":"(I$5*((90/$G$35)*(90/$G$35))/2)*(1+(SQRT(1+(4/(I$5*((90/$G$35)*(90/$G$35))))*$I$40*(1-(SQRT(2)*Vin_rms_min*(SIN($Q128)/Vout))))))","v":0.244004213007793},{"$f":"(J$5*((90/$G$35)*(90/$G$35))/2)*(1+(SQRT(1+(4/(J$5*((90/$G$35)*(90/$G$35))))*$J$40*(1-(SQRT(2)*Vin_rms_min*(SIN($Q128)/Vout))))))","v":0.215611683811762},{"$f":"(K$5*((90/$G$35)*(90/$G$35))/2)*(1+(SQRT(1+(4/(K$5*((90/$G$35)*(90/$G$35))))*$K$40*(1-(SQRT(2)*Vin_rms_min*(SIN($Q128)/Vout))))))","v":0.298163788127197},{"$f":"(L$5*((90/$G$35)*(90/$G$35))/2)*(1+(SQRT(1+(4/(L$5*((90/$G$35)*(90/$G$35))))*$L$40*(1-(SQRT(2)*Vin_rms_min*(SIN($Q128)/Vout))))))","v":0.39755171750293},null,{"$f":"R443*ABS(1/(Vout/(SQRT(2)*$C$26*SIN($Q128))))","v":0.0876057650862267},{"$f":"S443*ABS(1/(Vout/(SQRT(2)*$C$26*SIN($Q128))))","v":0.0854964165814037},{"$f":"T443*ABS(1/(Vout/(SQRT(2)*$C$26*SIN($Q128))))","v":0.0842552969686764},{"$f":"U443*ABS(1/(Vout/(SQRT(2)*$C$26*SIN($Q128))))","v":0.0744512819083831},{"$f":"V443*ABS(1/(Vout/(SQRT(2)*$C$26*SIN($Q128))))","v":0.102956740804964},{"$f":"W443*ABS(1/(Vout/(SQRT(2)*$C$26*SIN($Q128))))","v":0.137275654406618},null,{"$f":"1/(0.0000128*(R443+Y443+$G$40))","v":34411.5551841283},{"$f":"1/(0.0000128*(S443+Z443+$H$40))","v":72837.3761521695},{"$f":"1/(0.0000128*(T443+AA443+$I$40))","v":94142.4410527213},{"$f":"1/(0.0000128*(U443+AB443+$J$40))","v":247338.271588379},{"$f":"1/(0.0000128*(V443+AC443+$K$40))","v":194766.8951474},{"$f":"1/(0.0000128*(W443+AD443+$L$40))","v":146075.17136055}]
[null,null,null,null,null,null,null,null,null,null,null,null,null,null,null,null,null,{"$f":"(G$5*((90/$G$35)*(90/$G$35))/2)*(1+(SQRT(1+(4/(G$5*((90/$G$35)*(90/$G$35))))*$G$40*(1-(SQRT(2)*Vin_rms_min*(SIN($Q129)/Vout))))))","v":0.25353421244506},{"$f":"(H$5*((90/$G$35)*(90/$G$35))/2)*(1+(SQRT(1+(4/(H$5*((90/$G$35)*(90/$G$35))))*$H$40*(1-(SQRT(2)*Vin_rms_min*(SIN($Q129)/Vout))))))","v":0.247449291377338},{"$f":"(I$5*((90/$G$35)*(90/$G$35))/2)*(1+(SQRT(1+(4/(I$5*((90/$G$35)*(90/$G$35))))*$I$40*(1-(SQRT(2)*Vin_rms_min*(SIN($Q129)/Vout))))))","v":0.2438688864379},{"$f":"(J$5*((90/$G$35)*(90/$G$35))/2)*(1+(SQRT(1+(4/(J$5*((90/$G$35)*(90/$G$35))))*$J$40*(1-(SQRT(2)*Vin_rms_min*(SIN($Q129)/Vout))))))","v":0.215588415317932},{"$f":"(K$5*((90/$G$35)*(90/$G$35))/2)*(1+(SQRT(1+(4/(K$5*((90/$G$35)*(90/$G$35))))*$K$40*(1-(SQRT(2)*Vin_rms_min*(SIN($Q129)/Vout))))))","v":0.298163788127197},{"$f":"(L$5*((90/$G$35)*(90/$G$35))/2)*(1+(SQRT(1+(4/(L$5*((90/$G$35)*(90/$G$35))))*$L$40*(1-(SQRT(2)*Vin_rms_min*(SIN($Q129)/Vout))))))","v":0.39755171750293},null,{"$f":"R444*ABS(1/(Vout/(SQRT(2)*$C$26*SIN($Q129))))","v":0.0878620064866556},{"$f":"S444*ABS(1/(Vout/(SQRT(2)*$C$26*SIN($Q129))))","v":0.0857532836868133},{"$f":"T444*ABS(1/(Vout/(SQRT(2)*$C$26*SIN($Q129))))","v":0.0845124982362821},{"$f":"U444*ABS(1/(Vout/(SQRT(2)*$C$26*SIN($Q129))))","v":0.0747119316262559},{"$f":"V444*ABS(1/(Vout/(SQRT(2)*$C$26*SIN($Q129))))","v":0.103328337559944},{"$f":"W444*ABS(1/(Vout/(SQRT(2)*$C$26*SIN($Q129))))","v":0.137771116746592},null,{"$f":"1/(0.0000128*(R444+Y444+$G$40))","v":34410.2933878035},{"$f":"1/(0.0000128*(S444+Z444+$H$40))","v":72830.0666149961},{"$f":"1/(0.0000128*(T444+AA444+$I$40))","v":94128.6171504543},{"$f":"1/(0.0000128*(U444+AB444+$J$40))","v":247152.528477908},{"$f":"1/(0.0000128*(V444+AC444+$K$40))","v":194586.630724803},{"$f":"1/(0.0000128*(W444+AD444+$L$40))","v":145939.973043602}]
[null,null,null,null,null,null,null,null,null,null,null,null,null,null,null,null,null,{"$f":"(G$5*((90/$G$35)*(90/$G$35))/2)*(1+(SQRT(1+(4/(G$5*((90/$G$35)*(90/$G$35))))*$G$40*(1-(SQRT(2)*Vin_rms_min*(SIN($Q130)/Vout))))))","v":0.253365908872724},{"$f":"(H$5*((90/$G$35)*(90/$G$35))/2)*(1+(SQRT(1+(4/(H$5*((90/$G$35)*(90/$G$35))))*$H$40*(1-(SQRT(2)*Vin_rms_min*(SIN($Q130)/Vout))))))","v":0.24730412081918},{"$f":"(I$5*((90/$G$35)*(90/$G$35))/2)*(1+(SQRT(1+(4/(I$5*((90/$G$35)*(90/$G$35))))*$I$40*(1-(SQRT(2)*Vin_rms_min*(SIN($Q130)/Vout))))))","v":0.243737232327989},{"$f":"(J$5*((90/$G$35)*(90/$G$35))/2)*(1+(SQRT(1+(4/(J$5*((90/$G$35)*(90/$G$35))))*$J$40*(1-(SQRT(2)*Vin_rms_min*(SIN($Q130)/Vout))))))","v":0.215565789368158},{"$f":"(K$5*((90/$G$35)*(90/$G$35))/2)*(1+(SQRT(1+(4/(K$5*((90/$G$35)*(90/$G$35))))*$K$40*(1-(SQRT(2)*Vin_rms_min*(SIN($Q130)/Vout))))))","v":0.298163788127197},{"$f":"(L$5*((90/$G$35)*(90/$G$35))/2)*(1+(SQRT(1+(4/(L$5*((90/$G$35)*(90/$G$35))))*$L$40*(1-(SQRT(2)*Vin_rms_min*(SIN($Q130)/Vout))))))","v":0.39755171750293},null,{"$f":"R445*ABS(1/(Vout/(SQRT(2)*$C$26*SIN($Q130))))","v":0.0881106666465335},{"$f":"S445*ABS(1/(Vout/(SQRT(2)*$C$26*SIN($Q130))))","v":0.0860026159271445},{"$f":"T445*ABS(1/(Vout/(SQRT(2)*$C$26*SIN($Q130))))","v":0.0847621928401911},{"$f":"U445*ABS(1/(Vout/(SQRT(2)*$C$26*SIN($Q130))))","v":0.0749652764727552},{"$f":"V445*ABS(1/(Vout/(SQRT(2)*$C$26*SIN($Q130))))","v":0.103689601567275},{"$f":"W445*ABS(1/(Vout/(SQRT(2)*$C$26*SIN($Q130))))","v":0.138252802089699},null,{"$f":"1/(0.0000128*(R445+Y445+$G$40))","v":34409.0755405097},{"$f":"1/(0.0000128*(S445+Z445+$H$40))","v":72822.9953485773},{"$f":"1/(0.0000128*(T445+AA445+$I$40))","v":94115.2320207567},{"$f":"1/(0.0000128*(U445+AB445+$J$40))","v":246972.265567145},{"$f":"1/(0.0000128*(V445+AC445+$K$40))","v":194411.698404232},{"$f":"1/(0.0000128*(W445+AD445+$L$40))","v":145808.773803174}]
[null,null,null,null,null,null,null,null,null,null,null,null,null,null,null,null,null,{"$f":"(G$5*((90/$G$35)*(90/$G$35))/2)*(1+(SQRT(1+(4/(G$5*((90/$G$35)*(90/$G$35))))*$G$40*(1-(SQRT(2)*Vin_rms_min*(SIN($Q131)/Vout))))))","v":0.253202319665588},{"$f":"(H$5*((90/$G$35)*(90/$G$35))/2)*(1+(SQRT(1+(4/(H$5*((90/$G$35)*(90/$G$35))))*$H$40*(1-(SQRT(2)*Vin_rms_min*(SIN($Q131)/Vout))))))","v":0.247163019619584},{"$f":"(I$5*((90/$G$35)*(90/$G$35))/2)*(1+(SQRT(1+(4/(I$5*((90/$G$35)*(90/$G$35))))*$I$40*(1-(SQRT(2)*Vin_rms_min*(SIN($Q131)/Vout))))))","v":0.243609271336502},{"$f":"(J$5*((90/$G$35)*(90/$G$35))/2)*(1+(SQRT(1+(4/(J$5*((90/$G$35)*(90/$G$35))))*$J$40*(1-(SQRT(2)*Vin_rms_min*(SIN($Q131)/Vout))))))","v":0.215543808601148},{"$f":"(K$5*((90/$G$35)*(90/$G$35))/2)*(1+(SQRT(1+(4/(K$5*((90/$G$35)*(90/$G$35))))*$K$40*(1-(SQRT(2)*Vin_rms_min*(SIN($Q131)/Vout))))))","v":0.298163788127197},{"$f":"(L$5*((90/$G$35)*(90/$G$35))/2)*(1+(SQRT(1+(4/(L$5*((90/$G$35)*(90/$G$35))))*$L$40*(1-(SQRT(2)*Vin_rms_min*(SIN($Q131)/Vout))))))","v":0.39755171750293},null,{"$f":"R446*ABS(1/(Vout/(SQRT(2)*$C$26*SIN($Q131))))","v":0.0883517588412804},{"$f":"S446*ABS(1/(Vout/(SQRT(2)*$C$26*SIN($Q131))))","v":0.0862444211915331},{"$f":"T446*ABS(1/(Vout/(SQRT(2)*$C$26*SIN($Q131))))","v":0.0850043855089841},{"$f":"U446*ABS(1/(Vout/(SQRT(2)*$C$26*SIN($Q131))))","v":0.075211295940777},{"$f":"V446*ABS(1/(Vout/(SQRT(2)*$C$26*SIN($Q131))))","v":0.104040496700856},{"$f":"W446*ABS(1/(Vout/(SQRT(2)*$C$26*SIN($Q131))))","v":0.138720662267808},null,{"$f":"1/(0.0000128*(R446+Y446+$G$40))","v":34407.9010227211},{"$f":"1/(0.0000128*(S446+Z446+$H$40))","v":72816.1601162329},{"$f":"1/(0.0000128*(T446+AA446+$I$40))","v":94102.2824134777},{"$f":"1/(0.0000128*(U446+AB446+$J$40))","v":246797.473422682},{"$f":"1/(0.0000128*(V446+AC446+$K$40))","v":194242.08778233},{"$f":"1/(0.0000128*(W446+AD446+$L$40))","v":145681.565836747}]
[null,null,null,null,null,null,null,null,null,null,null,null,null,null,null,null,null,{"$f":"(G$5*((90/$G$35)*(90/$G$35))/2)*(1+(SQRT(1+(4/(G$5*((90/$G$35)*(90/$G$35))))*$G$40*(1-(SQRT(2)*Vin_rms_min*(SIN($Q132)/Vout))))))","v":0.253043471122118},{"$f":"(H$5*((90/$G$35)*(90/$G$35))/2)*(1+(SQRT(1+(4/(H$5*((90/$G$35)*(90/$G$35))))*$H$40*(1-(SQRT(2)*Vin_rms_min*(SIN($Q132)/Vout))))))","v":0.247026010213426},{"$f":"(I$5*((90/$G$35)*(90/$G$35))/2)*(1+(SQRT(1+(4/(I$5*((90/$G$35)*(90/$G$35))))*$I$40*(1-(SQRT(2)*Vin_rms_min*(SIN($Q132)/Vout))))))","v":0.243485023587603},{"$f":"(J$5*((90/$G$35)*(90/$G$35))/2)*(1+(SQRT(1+(4/(J$5*((90/$G$35)*(90/$G$35))))*$J$40*(1-(SQRT(2)*Vin_rms_min*(SIN($Q132)/Vout))))))","v":0.215522475581913},{"$f":"(K$5*((90/$G$35)*(90/$G$35))/2)*(1+(SQRT(1+(4/(K$5*((90/$G$35)*(90/$G$35))))*$K$40*(1-(SQRT(2)*Vin_rms_min*(SIN($Q132)/Vout))))))","v":0.298163788127197},{"$f":"(L$5*((90/$G$35)*(90/$G$35))/2)*(1+(SQRT(1+(4/(L$5*((90/$G$35)*(90/$G$35))))*$L$40*(1-(SQRT(2)*Vin_rms_min*(SIN($Q132)/Vout))))))","v":0.39755171750293},null,{"$f":"R447*ABS(1/(Vout/(SQRT(2)*$C$26*SIN($Q132))))","v":0.0885852962093578},{"$f":"S447*ABS(1/(Vout/(SQRT(2)*$C$26*SIN($Q132))))","v":0.0864787073506892},{"$f":"T447*ABS(1/(Vout/(SQRT(2)*$C$26*SIN($Q132))))","v":0.0852390810219367},{"$f":"U447*ABS(1/(Vout/(SQRT(2)*$C$26*SIN($Q132))))","v":0.0754499701357008},{"$f":"V447*ABS(1/(Vout/(SQRT(2)*$C$26*SIN($Q132))))","v":0.104380987871468},{"$f":"W447*ABS(1/(Vout/(SQRT(2)*$C$26*SIN($Q132))))","v":0.139174650495291},null,{"$f":"1/(0.0000128*(R447+Y447+$G$40))","v":34406.7692279858},{"$f":"1/(0.0000128*(S447+Z447+$H$40))","v":72809.55872902},{"$f":"1/(0.0000128*(T447+AA447+$I$40))","v":94089.7651486804},{"$f":"1/(0.0000128*(U447+AB447+$J$40))","v":246628.142870874},{"$f":"1/(0.0000128*(V447+AC447+$K$40))","v":194077.788753267},{"$f":"1/(0.0000128*(W447+AD447+$L$40))","v":145558.34156495}]
[null,null,null,null,null,null,null,null,null,null,null,null,null,null,null,null,null,{"$f":"(G$5*((90/$G$35)*(90/$G$35))/2)*(1+(SQRT(1+(4/(G$5*((90/$G$35)*(90/$G$35))))*$G$40*(1-(SQRT(2)*Vin_rms_min*(SIN($Q133)/Vout))))))","v":0.252889388838355},{"$f":"(H$5*((90/$G$35)*(90/$G$35))/2)*(1+(SQRT(1+(4/(H$5*((90/$G$35)*(90/$G$35))))*$H$40*(1-(SQRT(2)*Vin_rms_min*(SIN($Q133)/Vout))))))","v":0.246893114434287},{"$f":"(I$5*((90/$G$35)*(90/$G$35))/2)*(1+(SQRT(1+(4/(I$5*((90/$G$35)*(90/$G$35))))*$I$40*(1-(SQRT(2)*Vin_rms_min*(SIN($Q133)/Vout))))))","v":0.243364508664283},{"$f":"(J$5*((90/$G$35)*(90/$G$35))/2)*(1+(SQRT(1+(4/(J$5*((90/$G$35)*(90/$G$35))))*$J$40*(1-(SQRT(2)*Vin_rms_min*(SIN($Q133)/Vout))))))","v":0.215501792801336},{"$f":"(K$5*((90/$G$35)*(90/$G$35))/2)*(1+(SQRT(1+(4/(K$5*((90/$G$35)*(90/$G$35))))*$K$40*(1-(SQRT(2)*Vin_rms_min*(SIN($Q133)/Vout))))))","v":0.298163788127197},{"$f":"(L$5*((90/$G$35)*(90/$G$35))/2)*(1+(SQRT(1+(4/(L$5*((90/$G$35)*(90/$G$35))))*$L$40*(1-(SQRT(2)*Vin_rms_min*(SIN($Q133)/Vout))))))","v":0.39755171750293},null,{"$f":"R448*ABS(1/(Vout/(SQRT(2)*$C$26*SIN($Q133))))","v":0.0888112917302957},{"$f":"S448*ABS(1/(Vout/(SQRT(2)*$C$26*SIN($Q133))))","v":0.0867054822384824},{"$f":"T448*ABS(1/(Vout/(SQRT(2)*$C$26*SIN($Q133))))","v":0.0854662841927263},{"$f":"U448*ABS(1/(Vout/(SQRT(2)*$C$26*SIN($Q133))))","v":0.0756812797753038},{"$f":"V448*ABS(1/(Vout/(SQRT(2)*$C$26*SIN($Q133))))","v":0.104711041030277},{"$f":"W448*ABS(1/(Vout/(SQRT(2)*$C$26*SIN($Q133))))","v":0.139614721373702},null,{"$f":"1/(0.0000128*(R448+Y448+$G$40))","v":34405.6795633827},{"$f":"1/(0.0000128*(S448+Z448+$H$40))","v":72803.1890473373},{"$f":"1/(0.0000128*(T448+AA448+$I$40))","v":94077.6771189074},{"$f":"1/(0.0000128*(U448+AB448+$J$40))","v":246464.264999864},{"$f":"1/(0.0000128*(V448+AC448+$K$40))","v":193918.791509963},{"$f":"1/(0.0000128*(W448+AD448+$L$40))","v":145439.093632472}]
[null,null,null,null,null,null,null,null,null,null,null,null,null,null,null,null,null,{"$f":"(G$5*((90/$G$35)*(90/$G$35))/2)*(1+(SQRT(1+(4/(G$5*((90/$G$35)*(90/$G$35))))*$G$40*(1-(SQRT(2)*Vin_rms_min*(SIN($Q134)/Vout))))))","v":0.252740097698705},{"$f":"(H$5*((90/$G$35)*(90/$G$35))/2)*(1+(SQRT(1+(4/(H$5*((90/$G$35)*(90/$G$35))))*$H$40*(1-(SQRT(2)*Vin_rms_min*(SIN($Q134)/Vout))))))","v":0.246764353506766},{"$f":"(I$5*((90/$G$35)*(90/$G$35))/2)*(1+(SQRT(1+(4/(I$5*((90/$G$35)*(90/$G$35))))*$I$40*(1-(SQRT(2)*Vin_rms_min*(SIN($Q134)/Vout))))))","v":0.243247745601611},{"$f":"(J$5*((90/$G$35)*(90/$G$35))/2)*(1+(SQRT(1+(4/(J$5*((90/$G$35)*(90/$G$35))))*$J$40*(1-(SQRT(2)*Vin_rms_min*(SIN($Q134)/Vout))))))","v":0.215481762675749},{"$f":"(K$5*((90/$G$35)*(90/$G$35))/2)*(1+(SQRT(1+(4/(K$5*((90/$G$35)*(90/$G$35))))*$K$40*(1-(SQRT(2)*Vin_rms_min*(SIN($Q134)/Vout))))))","v":0.298163788127197},{"$f":"(L$5*((90/$G$35)*(90/$G$35))/2)*(1+(SQRT(1+(4/(L$5*((90/$G$35)*(90/$G$35))))*$L$40*(1-(SQRT(2)*Vin_rms_min*(SIN($Q134)/Vout))))))","v":0.39755171750293},null,{"$f":"R449*ABS(1/(Vout/(SQRT(2)*$C$26*SIN($Q134))))","v":0.0890297582031784},{"$f":"S449*ABS(1/(Vout/(SQRT(2)*$C$26*SIN($Q134))))","v":0.0869247536339127},{"$f":"T449*ABS(1/(Vout/(SQRT(2)*$C$26*SIN($Q134))))","v":0.0856859998534795},{"$f":"U449*ABS(1/(Vout/(SQRT(2)*$C$26*SIN($Q134))))","v":0.0759052061896661},{"$f":"V449*ABS(1/(Vout/(SQRT(2)*$C$26*SIN($Q134))))","v":0.105030623172241},{"$f":"W449*ABS(1/(Vout/(SQRT(2)*$C$26*SIN($Q134))))","v":0.140040830896321},null,{"$f":"1/(0.0000128*(R449+Y449+$G$40))","v":34404.6314499674},{"$f":"1/(0.0000128*(S449+Z449+$H$40))","v":72797.048982495},{"$f":"1/(0.0000128*(T449+AA449+$I$40))","v":94066.0152913973},{"$f":"1/(0.0000128*(U449+AB449+$J$40))","v":246305.831161522},{"$f":"1/(0.0000128*(V449+AC449+$K$40))","v":193765.086545258},{"$f":"1/(0.0000128*(W449+AD449+$L$40))","v":145323.814908943}]
[null,null,null,null,null,null,null,null,null,null,null,null,null,null,null,null,null,{"$f":"(G$5*((90/$G$35)*(90/$G$35))/2)*(1+(SQRT(1+(4/(G$5*((90/$G$35)*(90/$G$35))))*$G$40*(1-(SQRT(2)*Vin_rms_min*(SIN($Q135)/Vout))))))","v":0.252595621866928},{"$f":"(H$5*((90/$G$35)*(90/$G$35))/2)*(1+(SQRT(1+(4/(H$5*((90/$G$35)*(90/$G$35))))*$H$40*(1-(SQRT(2)*Vin_rms_min*(SIN($Q135)/Vout))))))","v":0.246639748038966},{"$f":"(I$5*((90/$G$35)*(90/$G$35))/2)*(1+(SQRT(1+(4/(I$5*((90/$G$35)*(90/$G$35))))*$I$40*(1-(SQRT(2)*Vin_rms_min*(SIN($Q135)/Vout))))))","v":0.243134752880137},{"$f":"(J$5*((90/$G$35)*(90/$G$35))/2)*(1+(SQRT(1+(4/(J$5*((90/$G$35)*(90/$G$35))))*$J$40*(1-(SQRT(2)*Vin_rms_min*(SIN($Q135)/Vout))))))","v":0.215462387546527},{"$f":"(K$5*((90/$G$35)*(90/$G$35))/2)*(1+(SQRT(1+(4/(K$5*((90/$G$35)*(90/$G$35))))*$K$40*(1-(SQRT(2)*Vin_rms_min*(SIN($Q135)/Vout))))))","v":0.298163788127197},{"$f":"(L$5*((90/$G$35)*(90/$G$35))/2)*(1+(SQRT(1+(4/(L$5*((90/$G$35)*(90/$G$35))))*$L$40*(1-(SQRT(2)*Vin_rms_min*(SIN($Q135)/Vout))))))","v":0.39755171750293},null,{"$f":"R450*ABS(1/(Vout/(SQRT(2)*$C$26*SIN($Q135))))","v":0.089240708225608},{"$f":"S450*ABS(1/(Vout/(SQRT(2)*$C$26*SIN($Q135))))","v":0.0871365292434808},{"$f":"T450*ABS(1/(Vout/(SQRT(2)*$C$26*SIN($Q135))))","v":0.0858982328391752},{"$f":"U450*ABS(1/(Vout/(SQRT(2)*$C$26*SIN($Q135))))","v":0.0761217313210685},{"$f":"V450*ABS(1/(Vout/(SQRT(2)*$C$26*SIN($Q135))))","v":0.105339702339413},{"$f":"W450*ABS(1/(Vout/(SQRT(2)*$C$26*SIN($Q135))))","v":0.140452936452551},null,{"$f":"1/(0.0000128*(R450+Y450+$G$40))","v":34403.6243232098},{"$f":"1/(0.0000128*(S450+Z450+$H$40))","v":72791.1364982498},{"$f":"1/(0.0000128*(T450+AA450+$I$40))","v":94054.7767102521},{"$f":"1/(0.0000128*(U450+AB450+$J$40))","v":246152.832973321},{"$f":"1/(0.0000128*(V450+AC450+$K$40))","v":193616.664653028},{"$f":"1/(0.0000128*(W450+AD450+$L$40))","v":145212.498489771}]
[null,null,null,null,null,null,null,null,null,null,null,null,null,null,null,null,null,{"$f":"(G$5*((90/$G$35)*(90/$G$35))/2)*(1+(SQRT(1+(4/(G$5*((90/$G$35)*(90/$G$35))))*$G$40*(1-(SQRT(2)*Vin_rms_min*(SIN($Q136)/Vout))))))","v":0.252455984777341},{"$f":"(H$5*((90/$G$35)*(90/$G$35))/2)*(1+(SQRT(1+(4/(H$5*((90/$G$35)*(90/$G$35))))*$H$40*(1-(SQRT(2)*Vin_rms_min*(SIN($Q136)/Vout))))))","v":0.246519318015148},{"$f":"(I$5*((90/$G$35)*(90/$G$35))/2)*(1+(SQRT(1+(4/(I$5*((90/$G$35)*(90/$G$35))))*$I$40*(1-(SQRT(2)*Vin_rms_min*(SIN($Q136)/Vout))))))","v":0.243025548419458},{"$f":"(J$5*((90/$G$35)*(90/$G$35))/2)*(1+(SQRT(1+(4/(J$5*((90/$G$35)*(90/$G$35))))*$J$40*(1-(SQRT(2)*Vin_rms_min*(SIN($Q136)/Vout))))))","v":0.215443669679691},{"$f":"(K$5*((90/$G$35)*(90/$G$35))/2)*(1+(SQRT(1+(4/(K$5*((90/$G$35)*(90/$G$35))))*$K$40*(1-(SQRT(2)*Vin_rms_min*(SIN($Q136)/Vout))))))","v":0.298163788127197},{"$f":"(L$5*((90/$G$35)*(90/$G$35))/2)*(1+(SQRT(1+(4/(L$5*((90/$G$35)*(90/$G$35))))*$L$40*(1-(SQRT(2)*Vin_rms_min*(SIN($Q136)/Vout))))))","v":0.39755171750293},null,{"$f":"R451*ABS(1/(Vout/(SQRT(2)*$C$26*SIN($Q136))))","v":0.0894441541731634},{"$f":"S451*ABS(1/(Vout/(SQRT(2)*$C$26*SIN($Q136))))","v":0.0873408166839748},{"$f":"T451*ABS(1/(Vout/(SQRT(2)*$C$26*SIN($Q136))))","v":0.0861029879724153},{"$f":"U451*ABS(1/(Vout/(SQRT(2)*$C$26*SIN($Q136))))","v":0.0763308377238834},{"$f":"V451*ABS(1/(Vout/(SQRT(2)*$C$26*SIN($Q136))))","v":0.105638247624135},{"$f":"W451*ABS(1/(Vout/(SQRT(2)*$C$26*SIN($Q136))))","v":0.14085099683218},null,{"$f":"1/(0.0000128*(R451+Y451+$G$40))","v":34402.6576334199},{"$f":"1/(0.0000128*(S451+Z451+$H$40))","v":72785.4496123051},{"$f":"1/(0.0000128*(T451+AA451+$I$40))","v":94043.9584985517},{"$f":"1/(0.0000128*(U451+AB451+$J$40))","v":246005.262320123},{"$f":"1/(0.0000128*(V451+AC451+$K$40))","v":193473.516929248},{"$f":"1/(0.0000128*(W451+AD451+$L$40))","v":145105.137696936}]
[null,null,null,null,null,null,null,null,null,null,null,null,null,null,null,null,null,{"$f":"(G$5*((90/$G$35)*(90/$G$35))/2)*(1+(SQRT(1+(4/(G$5*((90/$G$35)*(90/$G$35))))*$G$40*(1-(SQRT(2)*Vin_rms_min*(SIN($Q137)/Vout))))))","v":0.252321209126237},{"$f":"(H$5*((90/$G$35)*(90/$G$35))/2)*(1+(SQRT(1+(4/(H$5*((90/$G$35)*(90/$G$35))))*$H$40*(1-(SQRT(2)*Vin_rms_min*(SIN($Q137)/Vout))))))","v":0.246403082788581},{"$f":"(I$5*((90/$G$35)*(90/$G$35))/2)*(1+(SQRT(1+(4/(I$5*((90/$G$35)*(90/$G$35))))*$I$40*(1-(SQRT(2)*Vin_rms_min*(SIN($Q137)/Vout))))))","v":0.242920149571937},{"$f":"(J$5*((90/$G$35)*(90/$G$35))/2)*(1+(SQRT(1+(4/(J$5*((90/$G$35)*(90/$G$35))))*$J$40*(1-(SQRT(2)*Vin_rms_min*(SIN($Q137)/Vout))))))","v":0.215425611265519},{"$f":"(K$5*((90/$G$35)*(90/$G$35))/2)*(1+(SQRT(1+(4/(K$5*((90/$G$35)*(90/$G$35))))*$K$40*(1-(SQRT(2)*Vin_rms_min*(SIN($Q137)/Vout))))))","v":0.298163788127197},{"$f":"(L$5*((90/$G$35)*(90/$G$35))/2)*(1+(SQRT(1+(4/(L$5*((90/$G$35)*(90/$G$35))))*$L$40*(1-(SQRT(2)*Vin_rms_min*(SIN($Q137)/Vout))))))","v":0.39755171750293},null,{"$f":"R452*ABS(1/(Vout/(SQRT(2)*$C$26*SIN($Q137))))","v":0.0896401081793723},{"$f":"S452*ABS(1/(Vout/(SQRT(2)*$C$26*SIN($Q137))))","v":0.0875376234656866},{"$f":"T452*ABS(1/(Vout/(SQRT(2)*$C$26*SIN($Q137))))","v":0.0863002700485771},{"$f":"U452*ABS(1/(Vout/(SQRT(2)*$C$26*SIN($Q137))))","v":0.0765325085644596},{"$f":"V452*ABS(1/(Vout/(SQRT(2)*$C$26*SIN($Q137))))","v":0.105926229172125},{"$f":"W452*ABS(1/(Vout/(SQRT(2)*$C$26*SIN($Q137))))","v":0.1412349722295},null,{"$f":"1/(0.0000128*(R452+Y452+$G$40))","v":34401.7308461651},{"$f":"1/(0.0000128*(S452+Z452+$H$40))","v":72779.9863977716},{"$f":"1/(0.0000128*(T452+AA452+$I$40))","v":94033.5578604152},{"$f":"1/(0.0000128*(U452+AB452+$J$40))","v":245863.111355902},{"$f":"1/(0.0000128*(V452+AC452+$K$40))","v":193335.634773007},{"$f":"1/(0.0000128*(W452+AD452+$L$40))","v":145001.726079756}]
[null,null,null,null,null,null,null,null,null,null,null,null,null,null,null,null,null,{"$f":"(G$5*((90/$G$35)*(90/$G$35))/2)*(1+(SQRT(1+(4/(G$5*((90/$G$35)*(90/$G$35))))*$G$40*(1-(SQRT(2)*Vin_rms_min*(SIN($Q138)/Vout))))))","v":0.252191316863533},{"$f":"(H$5*((90/$G$35)*(90/$G$35))/2)*(1+(SQRT(1+(4/(H$5*((90/$G$35)*(90/$G$35))))*$H$40*(1-(SQRT(2)*Vin_rms_min*(SIN($Q138)/Vout))))))","v":0.246291061074568},{"$f":"(I$5*((90/$G$35)*(90/$G$35))/2)*(1+(SQRT(1+(4/(I$5*((90/$G$35)*(90/$G$35))))*$I$40*(1-(SQRT(2)*Vin_rms_min*(SIN($Q138)/Vout))))))","v":0.242818573116595},{"$f":"(J$5*((90/$G$35)*(90/$G$35))/2)*(1+(SQRT(1+(4/(J$5*((90/$G$35)*(90/$G$35))))*$J$40*(1-(SQRT(2)*Vin_rms_min*(SIN($Q138)/Vout))))))","v":0.215408214418178},{"$f":"(K$5*((90/$G$35)*(90/$G$35))/2)*(1+(SQRT(1+(4/(K$5*((90/$G$35)*(90/$G$35))))*$K$40*(1-(SQRT(2)*Vin_rms_min*(SIN($Q138)/Vout))))))","v":0.298163788127197},{"$f":"(L$5*((90/$G$35)*(90/$G$35))/2)*(1+(SQRT(1+(4/(L$5*((90/$G$35)*(90/$G$35))))*$L$40*(1-(SQRT(2)*Vin_rms_min*(SIN($Q138)/Vout))))))","v":0.39755171750293},null,{"$f":"R453*ABS(1/(Vout/(SQRT(2)*$C$26*SIN($Q138))))","v":0.0898285821162143},{"$f":"S453*ABS(1/(Vout/(SQRT(2)*$C$26*SIN($Q138))))","v":0.0877269569760733},{"$f":"T453*ABS(1/(Vout/(SQRT(2)*$C$26*SIN($Q138))))","v":0.0864900838213596},{"$f":"U453*ABS(1/(Vout/(SQRT(2)*$C$26*SIN($Q138))))","v":0.0767267276210031},{"$f":"V453*ABS(1/(Vout/(SQRT(2)*$C$26*SIN($Q138))))","v":0.10620361818547},{"$f":"W453*ABS(1/(Vout/(SQRT(2)*$C$26*SIN($Q138))))","v":0.141604824247293},null,{"$f":"1/(0.0000128*(R453+Y453+$G$40))","v":34400.8434426742},{"$f":"1/(0.0000128*(S453+Z453+$H$40))","v":72774.7449845919},{"$f":"1/(0.0000128*(T453+AA453+$I$40))","v":94023.5720830067},{"$f":"1/(0.0000128*(U453+AB453+$J$40))","v":245726.372505392},{"$f":"1/(0.0000128*(V453+AC453+$K$40))","v":193203.009887478},{"$f":"1/(0.0000128*(W453+AD453+$L$40))","v":144902.257415608}]
[null,null,null,null,null,null,null,null,null,null,null,null,null,null,null,null,null,{"$f":"(G$5*((90/$G$35)*(90/$G$35))/2)*(1+(SQRT(1+(4/(G$5*((90/$G$35)*(90/$G$35))))*$G$40*(1-(SQRT(2)*Vin_rms_min*(SIN($Q139)/Vout))))))","v":0.252066329184647},{"$f":"(H$5*((90/$G$35)*(90/$G$35))/2)*(1+(SQRT(1+(4/(H$5*((90/$G$35)*(90/$G$35))))*$H$40*(1-(SQRT(2)*Vin_rms_min*(SIN($Q139)/Vout))))))","v":0.24618327094368},{"$f":"(I$5*((90/$G$35)*(90/$G$35))/2)*(1+(SQRT(1+(4/(I$5*((90/$G$35)*(90/$G$35))))*$I$40*(1-(SQRT(2)*Vin_rms_min*(SIN($Q139)/Vout))))))","v":0.242720835253177},{"$f":"(J$5*((90/$G$35)*(90/$G$35))/2)*(1+(SQRT(1+(4/(J$5*((90/$G$35)*(90/$G$35))))*$J$40*(1-(SQRT(2)*Vin_rms_min*(SIN($Q139)/Vout))))))","v":0.215391481175361},{"$f":"(K$5*((90/$G$35)*(90/$G$35))/2)*(1+(SQRT(1+(4/(K$5*((90/$G$35)*(90/$G$35))))*$K$40*(1-(SQRT(2)*Vin_rms_min*(SIN($Q139)/Vout))))))","v":0.298163788127197},{"$f":"(L$5*((90/$G$35)*(90/$G$35))/2)*(1+(SQRT(1+(4/(L$5*((90/$G$35)*(90/$G$35))))*$L$40*(1-(SQRT(2)*Vin_rms_min*(SIN($Q139)/Vout))))))","v":0.39755171750293},null,{"$f":"R454*ABS(1/(Vout/(SQRT(2)*$C$26*SIN($Q139))))","v":0.0900095875751703},{"$f":"S454*ABS(1/(Vout/(SQRT(2)*$C$26*SIN($Q139))))","v":0.0879088244638771},{"$f":"T454*ABS(1/(Vout/(SQRT(2)*$C$26*SIN($Q139))))","v":0.086672433988736},{"$f":"U454*ABS(1/(Vout/(SQRT(2)*$C$26*SIN($Q139))))","v":0.0769134792834528},{"$f":"V454*ABS(1/(Vout/(SQRT(2)*$C$26*SIN($Q139))))","v":0.106470386925499},{"$f":"W454*ABS(1/(Vout/(SQRT(2)*$C$26*SIN($Q139))))","v":0.141960515900665},null,{"$f":"1/(0.0000128*(R454+Y454+$G$40))","v":34399.9949202325},{"$f":"1/(0.0000128*(S454+Z454+$H$40))","v":72769.723560923},{"$f":"1/(0.0000128*(T454+AA454+$I$40))","v":94013.9985384849},{"$f":"1/(0.0000128*(U454+AB454+$J$40))","v":245595.038465661},{"$f":"1/(0.0000128*(V454+AC454+$K$40))","v":193075.634280831},{"$f":"1/(0.0000128*(W454+AD454+$L$40))","v":144806.725710623}]
[null,null,null,null,null,null,null,null,null,null,null,null,null,null,null,null,null,{"$f":"(G$5*((90/$G$35)*(90/$G$35))/2)*(1+(SQRT(1+(4/(G$5*((90/$G$35)*(90/$G$35))))*$G$40*(1-(SQRT(2)*Vin_rms_min*(SIN($Q140)/Vout))))))","v":0.251946266522616},{"$f":"(H$5*((90/$G$35)*(90/$G$35))/2)*(1+(SQRT(1+(4/(H$5*((90/$G$35)*(90/$G$35))))*$H$40*(1-(SQRT(2)*Vin_rms_min*(SIN($Q140)/Vout))))))","v":0.246079729815181},{"$f":"(I$5*((90/$G$35)*(90/$G$35))/2)*(1+(SQRT(1+(4/(I$5*((90/$G$35)*(90/$G$35))))*$I$40*(1-(SQRT(2)*Vin_rms_min*(SIN($Q140)/Vout))))))","v":0.242626951596395},{"$f":"(J$5*((90/$G$35)*(90/$G$35))/2)*(1+(SQRT(1+(4/(J$5*((90/$G$35)*(90/$G$35))))*$J$40*(1-(SQRT(2)*Vin_rms_min*(SIN($Q140)/Vout))))))","v":0.215375413497943},{"$f":"(K$5*((90/$G$35)*(90/$G$35))/2)*(1+(SQRT(1+(4/(K$5*((90/$G$35)*(90/$G$35))))*$K$40*(1-(SQRT(2)*Vin_rms_min*(SIN($Q140)/Vout))))))","v":0.298163788127197},{"$f":"(L$5*((90/$G$35)*(90/$G$35))/2)*(1+(SQRT(1+(4/(L$5*((90/$G$35)*(90/$G$35))))*$L$40*(1-(SQRT(2)*Vin_rms_min*(SIN($Q140)/Vout))))))","v":0.39755171750293},null,{"$f":"R455*ABS(1/(Vout/(SQRT(2)*$C$26*SIN($Q140))))","v":0.0901831358488368},{"$f":"S455*ABS(1/(Vout/(SQRT(2)*$C$26*SIN($Q140))))","v":0.0880832330237187},{"$f":"T455*ABS(1/(Vout/(SQRT(2)*$C$26*SIN($Q140))))","v":0.0868473251793261},{"$f":"U455*ABS(1/(Vout/(SQRT(2)*$C$26*SIN($Q140))))","v":0.077092748553354},{"$f":"V455*ABS(1/(Vout/(SQRT(2)*$C$26*SIN($Q140))))","v":0.10672650871556},{"$f":"W455*ABS(1/(Vout/(SQRT(2)*$C$26*SIN($Q140))))","v":0.142302011620747},null,{"$f":"1/(0.0000128*(R455+Y455+$G$40))","v":34399.1847925635},{"$f":"1/(0.0000128*(S455+Z455+$H$40))","v":72764.9203744792},{"$f":"1/(0.0000128*(T455+AA455+$I$40))","v":94004.8346858933},{"$f":"1/(0.0000128*(U455+AB455+$J$40))","v":245469.102207616},{"$f":"1/(0.0000128*(V455+AC455+$K$40))","v":192953.500267112},{"$f":"1/(0.0000128*(W455+AD455+$L$40))","v":144715.125200334}]
[null,null,null,null,null,null,null,null,null,null,null,null,null,null,null,null,null,{"$f":"(G$5*((90/$G$35)*(90/$G$35))/2)*(1+(SQRT(1+(4/(G$5*((90/$G$35)*(90/$G$35))))*$G$40*(1-(SQRT(2)*Vin_rms_min*(SIN($Q141)/Vout))))))","v":0.251831148540462},{"$f":"(H$5*((90/$G$35)*(90/$G$35))/2)*(1+(SQRT(1+(4/(H$5*((90/$G$35)*(90/$G$35))))*$H$40*(1-(SQRT(2)*Vin_rms_min*(SIN($Q141)/Vout))))))","v":0.245980454450673},{"$f":"(I$5*((90/$G$35)*(90/$G$35))/2)*(1+(SQRT(1+(4/(I$5*((90/$G$35)*(90/$G$35))))*$I$40*(1-(SQRT(2)*Vin_rms_min*(SIN($Q141)/Vout))))))","v":0.242536937170348},{"$f":"(J$5*((90/$G$35)*(90/$G$35))/2)*(1+(SQRT(1+(4/(J$5*((90/$G$35)*(90/$G$35))))*$J$40*(1-(SQRT(2)*Vin_rms_min*(SIN($Q141)/Vout))))))","v":0.215360013269639},{"$f":"(K$5*((90/$G$35)*(90/$G$35))/2)*(1+(SQRT(1+(4/(K$5*((90/$G$35)*(90/$G$35))))*$K$40*(1-(SQRT(2)*Vin_rms_min*(SIN($Q141)/Vout))))))","v":0.298163788127197},{"$f":"(L$5*((90/$G$35)*(90/$G$35))/2)*(1+(SQRT(1+(4/(L$5*((90/$G$35)*(90/$G$35))))*$L$40*(1-(SQRT(2)*Vin_rms_min*(SIN($Q141)/Vout))))))","v":0.39755171750293},null,{"$f":"R456*ABS(1/(Vout/(SQRT(2)*$C$26*SIN($Q141))))","v":0.0903492379131194},{"$f":"S456*ABS(1/(Vout/(SQRT(2)*$C$26*SIN($Q141))))","v":0.0882501895811761},{"$f":"T456*ABS(1/(Vout/(SQRT(2)*$C$26*SIN($Q141))))","v":0.0870147619391977},{"$f":"U456*ABS(1/(Vout/(SQRT(2)*$C$26*SIN($Q141))))","v":0.0772645210437296},{"$f":"V456*ABS(1/(Vout/(SQRT(2)*$C$26*SIN($Q141))))","v":0.106971957943688},{"$f":"W456*ABS(1/(Vout/(SQRT(2)*$C$26*SIN($Q141))))","v":0.142629277258251},null,{"$f":"1/(0.0000128*(R456+Y456+$G$40))","v":34398.4125901999},{"$f":"1/(0.0000128*(S456+Z456+$H$40))","v":72760.3337338322},{"$f":"1/(0.0000128*(T456+AA456+$I$40))","v":93996.078072991},{"$f":"1/(0.0000128*(U456+AB456+$J$40))","v":245348.556977445},{"$f":"1/(0.0000128*(V456+AC456+$K$40))","v":192836.600467071},{"$f":"1/(0.0000128*(W456+AD456+$L$40))","v":144627.450350303}]
[null,null,null,null,null,null,null,null,null,null,null,null,null,null,null,null,null,{"$f":"(G$5*((90/$G$35)*(90/$G$35))/2)*(1+(SQRT(1+(4/(G$5*((90/$G$35)*(90/$G$35))))*$G$40*(1-(SQRT(2)*Vin_rms_min*(SIN($Q142)/Vout))))))","v":0.251720994123811},{"$f":"(H$5*((90/$G$35)*(90/$G$35))/2)*(1+(SQRT(1+(4/(H$5*((90/$G$35)*(90/$G$35))))*$H$40*(1-(SQRT(2)*Vin_rms_min*(SIN($Q142)/Vout))))))","v":0.245885460947939},{"$f":"(I$5*((90/$G$35)*(90/$G$35))/2)*(1+(SQRT(1+(4/(I$5*((90/$G$35)*(90/$G$35))))*$I$40*(1-(SQRT(2)*Vin_rms_min*(SIN($Q142)/Vout))))))","v":0.242450806403139},{"$f":"(J$5*((90/$G$35)*(90/$G$35))/2)*(1+(SQRT(1+(4/(J$5*((90/$G$35)*(90/$G$35))))*$J$40*(1-(SQRT(2)*Vin_rms_min*(SIN($Q142)/Vout))))))","v":0.215345282296688},{"$f":"(K$5*((90/$G$35)*(90/$G$35))/2)*(1+(SQRT(1+(4/(K$5*((90/$G$35)*(90/$G$35))))*$K$40*(1-(SQRT(2)*Vin_rms_min*(SIN($Q142)/Vout))))))","v":0.298163788127197},{"$f":"(L$5*((90/$G$35)*(90/$G$35))/2)*(1+(SQRT(1+(4/(L$5*((90/$G$35)*(90/$G$35))))*$L$40*(1-(SQRT(2)*Vin_rms_min*(SIN($Q142)/Vout))))))","v":0.39755171750293},null,{"$f":"R457*ABS(1/(Vout/(SQRT(2)*$C$26*SIN($Q142))))","v":0.0905079044100226},{"$f":"S457*ABS(1/(Vout/(SQRT(2)*$C$26*SIN($Q142))))","v":0.0884097008783633},{"$f":"T457*ABS(1/(Vout/(SQRT(2)*$C$26*SIN($Q142))))","v":0.0871747487191118},{"$f":"U457*ABS(1/(Vout/(SQRT(2)*$C$26*SIN($Q142))))","v":0.0774287829789493},{"$f":"V457*ABS(1/(Vout/(SQRT(2)*$C$26*SIN($Q142))))","v":0.107206710065165},{"$f":"W457*ABS(1/(Vout/(SQRT(2)*$C$26*SIN($Q142))))","v":0.142942280086887},null,{"$f":"1/(0.0000128*(R457+Y457+$G$40))","v":34397.6778608412},{"$f":"1/(0.0000128*(S457+Z457+$H$40))","v":72755.9620096682},{"$f":"1/(0.0000128*(T457+AA457+$I$40))","v":93987.7263380213},{"$f":"1/(0.0000128*(U457+AB457+$J$40))","v":245233.396297984},{"$f":"1/(0.0000128*(V457+AC457+$K$40))","v":192724.927808947},{"$f":"1/(0.0000128*(W457+AD457+$L$40))","v":144543.69585671}]
[null,null,null,null,null,null,null,null,null,null,null,null,null,null,null,null,null,{"$f":"(G$5*((90/$G$35)*(90/$G$35))/2)*(1+(SQRT(1+(4/(G$5*((90/$G$35)*(90/$G$35))))*$G$40*(1-(SQRT(2)*Vin_rms_min*(SIN($Q143)/Vout))))))","v":0.251615821373772},{"$f":"(H$5*((90/$G$35)*(90/$G$35))/2)*(1+(SQRT(1+(4/(H$5*((90/$G$35)*(90/$G$35))))*$H$40*(1-(SQRT(2)*Vin_rms_min*(SIN($Q143)/Vout))))))","v":0.245794764735012},{"$f":"(I$5*((90/$G$35)*(90/$G$35))/2)*(1+(SQRT(1+(4/(I$5*((90/$G$35)*(90/$G$35))))*$I$40*(1-(SQRT(2)*Vin_rms_min*(SIN($Q143)/Vout))))))","v":0.242368573121678},{"$f":"(J$5*((90/$G$35)*(90/$G$35))/2)*(1+(SQRT(1+(4/(J$5*((90/$G$35)*(90/$G$35))))*$J$40*(1-(SQRT(2)*Vin_rms_min*(SIN($Q143)/Vout))))))","v":0.21533122230754},{"$f":"(K$5*((90/$G$35)*(90/$G$35))/2)*(1+(SQRT(1+(4/(K$5*((90/$G$35)*(90/$G$35))))*$K$40*(1-(SQRT(2)*Vin_rms_min*(SIN($Q143)/Vout))))))","v":0.298163788127197},{"$f":"(L$5*((90/$G$35)*(90/$G$35))/2)*(1+(SQRT(1+(4/(L$5*((90/$G$35)*(90/$G$35))))*$L$40*(1-(SQRT(2)*Vin_rms_min*(SIN($Q143)/Vout))))))","v":0.39755171750293},null,{"$f":"R458*ABS(1/(Vout/(SQRT(2)*$C$26*SIN($Q143))))","v":0.09065914563105},{"$f":"S458*ABS(1/(Vout/(SQRT(2)*$C$26*SIN($Q143))))","v":0.088561773460021},{"$f":"T458*ABS(1/(Vout/(SQRT(2)*$C$26*SIN($Q143))))","v":0.0873272898622199},{"$f":"U458*ABS(1/(Vout/(SQRT(2)*$C$26*SIN($Q143))))","v":0.0775855211945992},{"$f":"V458*ABS(1/(Vout/(SQRT(2)*$C$26*SIN($Q143))))","v":0.107430741604974},{"$f":"W458*ABS(1/(Vout/(SQRT(2)*$C$26*SIN($Q143))))","v":0.143240988806633},null,{"$f":"1/(0.0000128*(R458+Y458+$G$40))","v":34396.9801696996},{"$f":"1/(0.0000128*(S458+Z458+$H$40))","v":72751.8036360002},{"$f":"1/(0.0000128*(T458+AA458+$I$40))","v":93979.7772114178},{"$f":"1/(0.0000128*(U458+AB458+$J$40))","v":245123.613970019},{"$f":"1/(0.0000128*(V458+AC458+$K$40))","v":192618.475529216},{"$f":"1/(0.0000128*(W458+AD458+$L$40))","v":144463.856646912}]
[null,null,null,null,null,null,null,null,null,null,null,null,null,null,null,null,null,{"$f":"(G$5*((90/$G$35)*(90/$G$35))/2)*(1+(SQRT(1+(4/(G$5*((90/$G$35)*(90/$G$35))))*$G$40*(1-(SQRT(2)*Vin_rms_min*(SIN($Q144)/Vout))))))","v":0.251515647600084},{"$f":"(H$5*((90/$G$35)*(90/$G$35))/2)*(1+(SQRT(1+(4/(H$5*((90/$G$35)*(90/$G$35))))*$H$40*(1-(SQRT(2)*Vin_rms_min*(SIN($Q144)/Vout))))))","v":0.24570838056447},{"$f":"(I$5*((90/$G$35)*(90/$G$35))/2)*(1+(SQRT(1+(4/(I$5*((90/$G$35)*(90/$G$35))))*$I$40*(1-(SQRT(2)*Vin_rms_min*(SIN($Q144)/Vout))))))","v":0.242290250546678},{"$f":"(J$5*((90/$G$35)*(90/$G$35))/2)*(1+(SQRT(1+(4/(J$5*((90/$G$35)*(90/$G$35))))*$J$40*(1-(SQRT(2)*Vin_rms_min*(SIN($Q144)/Vout))))))","v":0.215317834952562},{"$f":"(K$5*((90/$G$35)*(90/$G$35))/2)*(1+(SQRT(1+(4/(K$5*((90/$G$35)*(90/$G$35))))*$K$40*(1-(SQRT(2)*Vin_rms_min*(SIN($Q144)/Vout))))))","v":0.298163788127197},{"$f":"(L$5*((90/$G$35)*(90/$G$35))/2)*(1+(SQRT(1+(4/(L$5*((90/$G$35)*(90/$G$35))))*$L$40*(1-(SQRT(2)*Vin_rms_min*(SIN($Q144)/Vout))))))","v":0.39755171750293},null,{"$f":"R459*ABS(1/(Vout/(SQRT(2)*$C$26*SIN($Q144))))","v":0.0908029715012299},{"$f":"S459*ABS(1/(Vout/(SQRT(2)*$C$26*SIN($Q144))))","v":0.0887064136601317},{"$f":"T459*ABS(1/(Vout/(SQRT(2)*$C$26*SIN($Q144))))","v":0.0874723895922271},{"$f":"U459*ABS(1/(Vout/(SQRT(2)*$C$26*SIN($Q144))))","v":0.0777347231373508},{"$f":"V459*ABS(1/(Vout/(SQRT(2)*$C$26*SIN($Q144))))","v":0.107644030160148},{"$f":"W459*ABS(1/(Vout/(SQRT(2)*$C$26*SIN($Q144))))","v":0.143525373546864},null,{"$f":"1/(0.0000128*(R459+Y459+$G$40))","v":34396.3190998326},{"$f":"1/(0.0000128*(S459+Z459+$H$40))","v":72747.8571113349},{"$f":"1/(0.0000128*(T459+AA459+$I$40))","v":93972.2285174455},{"$f":"1/(0.0000128*(U459+AB459+$J$40))","v":245019.204073532},{"$f":"1/(0.0000128*(V459+AC459+$K$40))","v":192517.237173289},{"$f":"1/(0.0000128*(W459+AD459+$L$40))","v":144387.927879967}]
[null,null,null,null,null,null,null,null,null,null,null,null,null,null,null,null,null,{"$f":"(G$5*((90/$G$35)*(90/$G$35))/2)*(1+(SQRT(1+(4/(G$5*((90/$G$35)*(90/$G$35))))*$G$40*(1-(SQRT(2)*Vin_rms_min*(SIN($Q145)/Vout))))))","v":0.251420489314534},{"$f":"(H$5*((90/$G$35)*(90/$G$35))/2)*(1+(SQRT(1+(4/(H$5*((90/$G$35)*(90/$G$35))))*$H$40*(1-(SQRT(2)*Vin_rms_min*(SIN($Q145)/Vout))))))","v":0.245626322507953},{"$f":"(I$5*((90/$G$35)*(90/$G$35))/2)*(1+(SQRT(1+(4/(I$5*((90/$G$35)*(90/$G$35))))*$I$40*(1-(SQRT(2)*Vin_rms_min*(SIN($Q145)/Vout))))))","v":0.242215851287863},{"$f":"(J$5*((90/$G$35)*(90/$G$35))/2)*(1+(SQRT(1+(4/(J$5*((90/$G$35)*(90/$G$35))))*$J$40*(1-(SQRT(2)*Vin_rms_min*(SIN($Q145)/Vout))))))","v":0.21530512180375},{"$f":"(K$5*((90/$G$35)*(90/$G$35))/2)*(1+(SQRT(1+(4/(K$5*((90/$G$35)*(90/$G$35))))*$K$40*(1-(SQRT(2)*Vin_rms_min*(SIN($Q145)/Vout))))))","v":0.298163788127197},{"$f":"(L$5*((90/$G$35)*(90/$G$35))/2)*(1+(SQRT(1+(4/(L$5*((90/$G$35)*(90/$G$35))))*$L$40*(1-(SQRT(2)*Vin_rms_min*(SIN($Q145)/Vout))))))","v":0.39755171750293},null,{"$f":"R460*ABS(1/(Vout/(SQRT(2)*$C$26*SIN($Q145))))","v":0.0909393915637819},{"$f":"S460*ABS(1/(Vout/(SQRT(2)*$C$26*SIN($Q145))))","v":0.0888436275890713},{"$f":"T460*ABS(1/(Vout/(SQRT(2)*$C$26*SIN($Q145))))","v":0.0876100520020283},{"$f":"U460*ABS(1/(Vout/(SQRT(2)*$C$26*SIN($Q145))))","v":0.0778763768648315},{"$f":"V460*ABS(1/(Vout/(SQRT(2)*$C$26*SIN($Q145))))","v":0.107846554402009},{"$f":"W460*ABS(1/(Vout/(SQRT(2)*$C$26*SIN($Q145))))","v":0.143795405869346},null,{"$f":"1/(0.0000128*(R460+Y460+$G$40))","v":34395.6942524624},{"$f":"1/(0.0000128*(S460+Z460+$H$40))","v":72744.1209997933},{"$f":"1/(0.0000128*(T460+AA460+$I$40))","v":93965.0781757762},{"$f":"1/(0.0000128*(U460+AB460+$J$40))","v":244920.160968868},{"$f":"1/(0.0000128*(V460+AC460+$K$40))","v":192421.206596184},{"$f":"1/(0.0000128*(W460+AD460+$L$40))","v":144315.904947138}]
[null,null,null,null,null,null,null,null,null,null,null,null,null,null,null,null,null,{"$f":"(G$5*((90/$G$35)*(90/$G$35))/2)*(1+(SQRT(1+(4/(G$5*((90/$G$35)*(90/$G$35))))*$G$40*(1-(SQRT(2)*Vin_rms_min*(SIN($Q146)/Vout))))))","v":0.25133036222466},{"$f":"(H$5*((90/$G$35)*(90/$G$35))/2)*(1+(SQRT(1+(4/(H$5*((90/$G$35)*(90/$G$35))))*$H$40*(1-(SQRT(2)*Vin_rms_min*(SIN($Q146)/Vout))))))","v":0.245548603950918},{"$f":"(I$5*((90/$G$35)*(90/$G$35))/2)*(1+(SQRT(1+(4/(I$5*((90/$G$35)*(90/$G$35))))*$I$40*(1-(SQRT(2)*Vin_rms_min*(SIN($Q146)/Vout))))))","v":0.242145387339372},{"$f":"(J$5*((90/$G$35)*(90/$G$35))/2)*(1+(SQRT(1+(4/(J$5*((90/$G$35)*(90/$G$35))))*$J$40*(1-(SQRT(2)*Vin_rms_min*(SIN($Q146)/Vout))))))","v":0.215293084354464},{"$f":"(K$5*((90/$G$35)*(90/$G$35))/2)*(1+(SQRT(1+(4/(K$5*((90/$G$35)*(90/$G$35))))*$K$40*(1-(SQRT(2)*Vin_rms_min*(SIN($Q146)/Vout))))))","v":0.298163788127197},{"$f":"(L$5*((90/$G$35)*(90/$G$35))/2)*(1+(SQRT(1+(4/(L$5*((90/$G$35)*(90/$G$35))))*$L$40*(1-(SQRT(2)*Vin_rms_min*(SIN($Q146)/Vout))))))","v":0.39755171750293},null,{"$f":"R461*ABS(1/(Vout/(SQRT(2)*$C$26*SIN($Q146))))","v":0.0910684149654361},{"$f":"S461*ABS(1/(Vout/(SQRT(2)*$C$26*SIN($Q146))))","v":0.0889734211213084},{"$f":"T461*ABS(1/(Vout/(SQRT(2)*$C$26*SIN($Q146))))","v":0.0877402810428308},{"$f":"U461*ABS(1/(Vout/(SQRT(2)*$C$26*SIN($Q146))))","v":0.0780104710454963},{"$f":"V461*ABS(1/(Vout/(SQRT(2)*$C$26*SIN($Q146))))","v":0.108038294078302},{"$f":"W461*ABS(1/(Vout/(SQRT(2)*$C$26*SIN($Q146))))","v":0.144051058771069},null,{"$f":"1/(0.0000128*(R461+Y461+$G$40))","v":34395.1052472815},{"$f":"1/(0.0000128*(S461+Z461+$H$40))","v":72740.5939321833},{"$f":"1/(0.0000128*(T461+AA461+$I$40))","v":93958.3242029963},{"$f":"1/(0.0000128*(U461+AB461+$J$40))","v":244826.479297854},{"$f":"1/(0.0000128*(V461+AC461+$K$40))","v":192330.377963145},{"$f":"1/(0.0000128*(W461+AD461+$L$40))","v":144247.783472359}]
[null,null,null,null,null,null,null,null,null,null,null,null,null,null,null,null,null,{"$f":"(G$5*((90/$G$35)*(90/$G$35))/2)*(1+(SQRT(1+(4/(G$5*((90/$G$35)*(90/$G$35))))*$G$40*(1-(SQRT(2)*Vin_rms_min*(SIN($Q147)/Vout))))))","v":0.251245281227729},{"$f":"(H$5*((90/$G$35)*(90/$G$35))/2)*(1+(SQRT(1+(4/(H$5*((90/$G$35)*(90/$G$35))))*$H$40*(1-(SQRT(2)*Vin_rms_min*(SIN($Q147)/Vout))))))","v":0.245475237587625},{"$f":"(I$5*((90/$G$35)*(90/$G$35))/2)*(1+(SQRT(1+(4/(I$5*((90/$G$35)*(90/$G$35))))*$I$40*(1-(SQRT(2)*Vin_rms_min*(SIN($Q147)/Vout))))))","v":0.242078870075372},{"$f":"(J$5*((90/$G$35)*(90/$G$35))/2)*(1+(SQRT(1+(4/(J$5*((90/$G$35)*(90/$G$35))))*$J$40*(1-(SQRT(2)*Vin_rms_min*(SIN($Q147)/Vout))))))","v":0.215281724019165},{"$f":"(K$5*((90/$G$35)*(90/$G$35))/2)*(1+(SQRT(1+(4/(K$5*((90/$G$35)*(90/$G$35))))*$K$40*(1-(SQRT(2)*Vin_rms_min*(SIN($Q147)/Vout))))))","v":0.298163788127197},{"$f":"(L$5*((90/$G$35)*(90/$G$35))/2)*(1+(SQRT(1+(4/(L$5*((90/$G$35)*(90/$G$35))))*$L$40*(1-(SQRT(2)*Vin_rms_min*(SIN($Q147)/Vout))))))","v":0.39755171750293},null,{"$f":"R462*ABS(1/(Vout/(SQRT(2)*$C$26*SIN($Q147))))","v":0.0911900504424188},{"$f":"S462*ABS(1/(Vout/(SQRT(2)*$C$26*SIN($Q147))))","v":0.0890957998836625},{"$f":"T462*ABS(1/(Vout/(SQRT(2)*$C$26*SIN($Q147))))","v":0.0878630805137705},{"$f":"U462*ABS(1/(Vout/(SQRT(2)*$C$26*SIN($Q147))))","v":0.0781369949585023},{"$f":"V462*ABS(1/(Vout/(SQRT(2)*$C$26*SIN($Q147))))","v":0.108219230015218},{"$f":"W462*ABS(1/(Vout/(SQRT(2)*$C$26*SIN($Q147))))","v":0.144292306686958},null,{"$f":"1/(0.0000128*(R462+Y462+$G$40))","v":34394.5517227453},{"$f":"1/(0.0000128*(S462+Z462+$H$40))","v":72737.2746070238},{"$f":"1/(0.0000128*(T462+AA462+$I$40))","v":93951.9647140459},{"$f":"1/(0.0000128*(U462+AB462+$J$40))","v":244738.153984841},{"$f":"1/(0.0000128*(V462+AC462+$K$40))","v":192244.745750231},{"$f":"1/(0.0000128*(W462+AD462+$L$40))","v":144183.559312673}]
[null,null,null,null,null,null,null,null,null,null,null,null,null,null,null,null,null,{"$f":"(G$5*((90/$G$35)*(90/$G$35))/2)*(1+(SQRT(1+(4/(G$5*((90/$G$35)*(90/$G$35))))*$G$40*(1-(SQRT(2)*Vin_rms_min*(SIN($Q148)/Vout))))))","v":0.251165260405014},{"$f":"(H$5*((90/$G$35)*(90/$G$35))/2)*(1+(SQRT(1+(4/(H$5*((90/$G$35)*(90/$G$35))))*$H$40*(1-(SQRT(2)*Vin_rms_min*(SIN($Q148)/Vout))))))","v":0.245406235416379},{"$f":"(I$5*((90/$G$35)*(90/$G$35))/2)*(1+(SQRT(1+(4/(I$5*((90/$G$35)*(90/$G$35))))*$I$40*(1-(SQRT(2)*Vin_rms_min*(SIN($Q148)/Vout))))))","v":0.24201631024589},{"$f":"(J$5*((90/$G$35)*(90/$G$35))/2)*(1+(SQRT(1+(4/(J$5*((90/$G$35)*(90/$G$35))))*$J$40*(1-(SQRT(2)*Vin_rms_min*(SIN($Q148)/Vout))))))","v":0.215271042133177},{"$f":"(K$5*((90/$G$35)*(90/$G$35))/2)*(1+(SQRT(1+(4/(K$5*((90/$G$35)*(90/$G$35))))*$K$40*(1-(SQRT(2)*Vin_rms_min*(SIN($Q148)/Vout))))))","v":0.298163788127197},{"$f":"(L$5*((90/$G$35)*(90/$G$35))/2)*(1+(SQRT(1+(4/(L$5*((90/$G$35)*(90/$G$35))))*$L$40*(1-(SQRT(2)*Vin_rms_min*(SIN($Q148)/Vout))))))","v":0.39755171750293},null,{"$f":"R463*ABS(1/(Vout/(SQRT(2)*$C$26*SIN($Q148))))","v":0.0913043063071188},{"$f":"S463*ABS(1/(Vout/(SQRT(2)*$C$26*SIN($Q148))))","v":0.0892107692441318},{"$f":"T463*ABS(1/(Vout/(SQRT(2)*$C$26*SIN($Q148))))","v":0.0879784540520329},{"$f":"U463*ABS(1/(Vout/(SQRT(2)*$C$26*SIN($Q148))))","v":0.0782559384935859},{"$f":"V463*ABS(1/(Vout/(SQRT(2)*$C$26*SIN($Q148))))","v":0.108389344119315},{"$f":"W463*ABS(1/(Vout/(SQRT(2)*$C$26*SIN($Q148))))","v":0.14451912549242},null,{"$f":"1/(0.0000128*(R463+Y463+$G$40))","v":34394.0333363493},{"$f":"1/(0.0000128*(S463+Z463+$H$40))","v":72734.1617915196},{"$f":"1/(0.0000128*(T463+AA463+$I$40))","v":93945.9979235888},{"$f":"1/(0.0000128*(U463+AB463+$J$40))","v":244655.180237696},{"$f":"1/(0.0000128*(V463+AC463+$K$40))","v":192164.304744869},{"$f":"1/(0.0000128*(W463+AD463+$L$40))","v":144123.228558652}]
[null,null,null,null,null,null,null,null,null,null,null,null,null,null,null,null,null,{"$f":"(G$5*((90/$G$35)*(90/$G$35))/2)*(1+(SQRT(1+(4/(G$5*((90/$G$35)*(90/$G$35))))*$G$40*(1-(SQRT(2)*Vin_rms_min*(SIN($Q149)/Vout))))))","v":0.251090313016363},{"$f":"(H$5*((90/$G$35)*(90/$G$35))/2)*(1+(SQRT(1+(4/(H$5*((90/$G$35)*(90/$G$35))))*$H$40*(1-(SQRT(2)*Vin_rms_min*(SIN($Q149)/Vout))))))","v":0.245341608735004},{"$f":"(I$5*((90/$G$35)*(90/$G$35))/2)*(1+(SQRT(1+(4/(I$5*((90/$G$35)*(90/$G$35))))*$I$40*(1-(SQRT(2)*Vin_rms_min*(SIN($Q149)/Vout))))))","v":0.241957717972856},{"$f":"(J$5*((90/$G$35)*(90/$G$35))/2)*(1+(SQRT(1+(4/(J$5*((90/$G$35)*(90/$G$35))))*$J$40*(1-(SQRT(2)*Vin_rms_min*(SIN($Q149)/Vout))))))","v":0.21526103995245},{"$f":"(K$5*((90/$G$35)*(90/$G$35))/2)*(1+(SQRT(1+(4/(K$5*((90/$G$35)*(90/$G$35))))*$K$40*(1-(SQRT(2)*Vin_rms_min*(SIN($Q149)/Vout))))))","v":0.298163788127197},{"$f":"(L$5*((90/$G$35)*(90/$G$35))/2)*(1+(SQRT(1+(4/(L$5*((90/$G$35)*(90/$G$35))))*$L$40*(1-(SQRT(2)*Vin_rms_min*(SIN($Q149)/Vout))))))","v":0.39755171750293},null,{"$f":"R464*ABS(1/(Vout/(SQRT(2)*$C$26*SIN($Q149))))","v":0.0914111904354442},{"$f":"S464*ABS(1/(Vout/(SQRT(2)*$C$26*SIN($Q149))))","v":0.0893183343013005},{"$f":"T464*ABS(1/(Vout/(SQRT(2)*$C$26*SIN($Q149))))","v":0.0880864051234859},{"$f":"U464*ABS(1/(Vout/(SQRT(2)*$C$26*SIN($Q149))))","v":0.0783672921509437},{"$f":"V464*ABS(1/(Vout/(SQRT(2)*$C$26*SIN($Q149))))","v":0.108548619379325},{"$f":"W464*ABS(1/(Vout/(SQRT(2)*$C$26*SIN($Q149))))","v":0.144731492505766},null,{"$f":"1/(0.0000128*(R464+Y464+$G$40))","v":34393.5497648934},{"$f":"1/(0.0000128*(S464+Z464+$H$40))","v":72731.2543224855},{"$f":"1/(0.0000128*(T464+AA464+$I$40))","v":93940.4221473103},{"$f":"1/(0.0000128*(U464+AB464+$J$40))","v":244577.553548732},{"$f":"1/(0.0000128*(V464+AC464+$K$40))","v":192089.05004637},{"$f":"1/(0.0000128*(W464+AD464+$L$40))","v":144066.787534778}]
[null,null,null,null,null,null,null,null,null,null,null,null,null,null,null,null,null,{"$f":"(G$5*((90/$G$35)*(90/$G$35))/2)*(1+(SQRT(1+(4/(G$5*((90/$G$35)*(90/$G$35))))*$G$40*(1-(SQRT(2)*Vin_rms_min*(SIN($Q150)/Vout))))))","v":0.251020451495071},{"$f":"(H$5*((90/$G$35)*(90/$G$35))/2)*(1+(SQRT(1+(4/(H$5*((90/$G$35)*(90/$G$35))))*$H$40*(1-(SQRT(2)*Vin_rms_min*(SIN($Q150)/Vout))))))","v":0.245281368136577},{"$f":"(I$5*((90/$G$35)*(90/$G$35))/2)*(1+(SQRT(1+(4/(I$5*((90/$G$35)*(90/$G$35))))*$I$40*(1-(SQRT(2)*Vin_rms_min*(SIN($Q150)/Vout))))))","v":0.24190310274637},{"$f":"(J$5*((90/$G$35)*(90/$G$35))/2)*(1+(SQRT(1+(4/(J$5*((90/$G$35)*(90/$G$35))))*$J$40*(1-(SQRT(2)*Vin_rms_min*(SIN($Q150)/Vout))))))","v":0.21525171865335},{"$f":"(K$5*((90/$G$35)*(90/$G$35))/2)*(1+(SQRT(1+(4/(K$5*((90/$G$35)*(90/$G$35))))*$K$40*(1-(SQRT(2)*Vin_rms_min*(SIN($Q150)/Vout))))))","v":0.298163788127197},{"$f":"(L$5*((90/$G$35)*(90/$G$35))/2)*(1+(SQRT(1+(4/(L$5*((90/$G$35)*(90/$G$35))))*$L$40*(1-(SQRT(2)*Vin_rms_min*(SIN($Q150)/Vout))))))","v":0.39755171750293},null,{"$f":"R465*ABS(1/(Vout/(SQRT(2)*$C$26*SIN($Q150))))","v":0.0915107102548829},{"$f":"S465*ABS(1/(Vout/(SQRT(2)*$C$26*SIN($Q150))))","v":0.0894184998743352},{"$f":"T465*ABS(1/(Vout/(SQRT(2)*$C$26*SIN($Q150))))","v":0.0881869370138347},{"$f":"U465*ABS(1/(Vout/(SQRT(2)*$C$26*SIN($Q150))))","v":0.0784710470411175},{"$f":"V465*ABS(1/(Vout/(SQRT(2)*$C$26*SIN($Q150))))","v":0.108697039867853},{"$f":"W465*ABS(1/(Vout/(SQRT(2)*$C$26*SIN($Q150))))","v":0.144929386490471},null,{"$f":"1/(0.0000128*(R465+Y465+$G$40))","v":34393.1007047307},{"$f":"1/(0.0000128*(S465+Z465+$H$40))","v":72728.5511072194},{"$f":"1/(0.0000128*(T465+AA465+$I$40))","v":93935.2358031428},{"$f":"1/(0.0000128*(U465+AB465+$J$40))","v":244505.269695569},{"$f":"1/(0.0000128*(V465+AC465+$K$40))","v":192018.977066405},{"$f":"1/(0.0000128*(W465+AD465+$L$40))","v":144014.232799804}]
[null,null,null,null,null,null,null,null,null,null,null,null,null,null,null,null,null,{"$f":"(G$5*((90/$G$35)*(90/$G$35))/2)*(1+(SQRT(1+(4/(G$5*((90/$G$35)*(90/$G$35))))*$G$40*(1-(SQRT(2)*Vin_rms_min*(SIN($Q151)/Vout))))))","v":0.250955687443057},{"$f":"(H$5*((90/$G$35)*(90/$G$35))/2)*(1+(SQRT(1+(4/(H$5*((90/$G$35)*(90/$G$35))))*$H$40*(1-(SQRT(2)*Vin_rms_min*(SIN($Q151)/Vout))))))","v":0.245225523505416},{"$f":"(I$5*((90/$G$35)*(90/$G$35))/2)*(1+(SQRT(1+(4/(I$5*((90/$G$35)*(90/$G$35))))*$I$40*(1-(SQRT(2)*Vin_rms_min*(SIN($Q151)/Vout))))))","v":0.241852473421188},{"$f":"(J$5*((90/$G$35)*(90/$G$35))/2)*(1+(SQRT(1+(4/(J$5*((90/$G$35)*(90/$G$35))))*$J$40*(1-(SQRT(2)*Vin_rms_min*(SIN($Q151)/Vout))))))","v":0.215243079332449},{"$f":"(K$5*((90/$G$35)*(90/$G$35))/2)*(1+(SQRT(1+(4/(K$5*((90/$G$35)*(90/$G$35))))*$K$40*(1-(SQRT(2)*Vin_rms_min*(SIN($Q151)/Vout))))))","v":0.298163788127197},{"$f":"(L$5*((90/$G$35)*(90/$G$35))/2)*(1+(SQRT(1+(4/(L$5*((90/$G$35)*(90/$G$35))))*$L$40*(1-(SQRT(2)*Vin_rms_min*(SIN($Q151)/Vout))))))","v":0.39755171750293},null,{"$f":"R466*ABS(1/(Vout/(SQRT(2)*$C$26*SIN($Q151))))","v":0.0916028727332758},{"$f":"S466*ABS(1/(Vout/(SQRT(2)*$C$26*SIN($Q151))))","v":0.0895112704935791},{"$f":"T466*ABS(1/(Vout/(SQRT(2)*$C$26*SIN($Q151))))","v":0.0882800528203052},{"$f":"U466*ABS(1/(Vout/(SQRT(2)*$C$26*SIN($Q151))))","v":0.0785671948848843},{"$f":"V466*ABS(1/(Vout/(SQRT(2)*$C$26*SIN($Q151))))","v":0.108834590742975},{"$f":"W466*ABS(1/(Vout/(SQRT(2)*$C$26*SIN($Q151))))","v":0.1451127876573},null,{"$f":"1/(0.0000128*(R466+Y466+$G$40))","v":34392.6858720012},{"$f":"1/(0.0000128*(S466+Z466+$H$40))","v":72726.0511243232},{"$f":"1/(0.0000128*(T466+AA466+$I$40))","v":93930.4374124194},{"$f":"1/(0.0000128*(U466+AB466+$J$40))","v":244438.324741949},{"$f":"1/(0.0000128*(V466+AC466+$K$40))","v":191954.081529452},{"$f":"1/(0.0000128*(W466+AD466+$L$40))","v":143965.561147089}]
[null,null,null,null,null,null,null,null,null,null,null,null,null,null,null,null,null,{"$f":"(G$5*((90/$G$35)*(90/$G$35))/2)*(1+(SQRT(1+(4/(G$5*((90/$G$35)*(90/$G$35))))*$G$40*(1-(SQRT(2)*Vin_rms_min*(SIN($Q152)/Vout))))))","v":0.250896031626347},{"$f":"(H$5*((90/$G$35)*(90/$G$35))/2)*(1+(SQRT(1+(4/(H$5*((90/$G$35)*(90/$G$35))))*$H$40*(1-(SQRT(2)*Vin_rms_min*(SIN($Q152)/Vout))))))","v":0.245174084013321},{"$f":"(I$5*((90/$G$35)*(90/$G$35))/2)*(1+(SQRT(1+(4/(I$5*((90/$G$35)*(90/$G$35))))*$I$40*(1-(SQRT(2)*Vin_rms_min*(SIN($Q152)/Vout))))))","v":0.24180583821344},{"$f":"(J$5*((90/$G$35)*(90/$G$35))/2)*(1+(SQRT(1+(4/(J$5*((90/$G$35)*(90/$G$35))))*$J$40*(1-(SQRT(2)*Vin_rms_min*(SIN($Q152)/Vout))))))","v":0.21523512300634},{"$f":"(K$5*((90/$G$35)*(90/$G$35))/2)*(1+(SQRT(1+(4/(K$5*((90/$G$35)*(90/$G$35))))*$K$40*(1-(SQRT(2)*Vin_rms_min*(SIN($Q152)/Vout))))))","v":0.298163788127197},{"$f":"(L$5*((90/$G$35)*(90/$G$35))/2)*(1+(SQRT(1+(4/(L$5*((90/$G$35)*(90/$G$35))))*$L$40*(1-(SQRT(2)*Vin_rms_min*(SIN($Q152)/Vout))))))","v":0.39755171750293},null,{"$f":"R467*ABS(1/(Vout/(SQRT(2)*$C$26*SIN($Q152))))","v":0.0916876843683159},{"$f":"S467*ABS(1/(Vout/(SQRT(2)*$C$26*SIN($Q152))))","v":0.0895966503917543},{"$f":"T467*ABS(1/(Vout/(SQRT(2)*$C$26*SIN($Q152))))","v":0.0883657554438649},{"$f":"U467*ABS(1/(Vout/(SQRT(2)*$C$26*SIN($Q152))))","v":0.0786557280131513},{"$f":"V467*ABS(1/(Vout/(SQRT(2)*$C$26*SIN($Q152))))","v":0.108961258249718},{"$f":"W467*ABS(1/(Vout/(SQRT(2)*$C$26*SIN($Q152))))","v":0.145281677666291},null,{"$f":"1/(0.0000128*(R467+Y467+$G$40))","v":34392.3050028518},{"$f":"1/(0.0000128*(S467+Z467+$H$40))","v":72723.7534244709},{"$f":"1/(0.0000128*(T467+AA467+$I$40))","v":93926.0256009512},{"$f":"1/(0.0000128*(U467+AB467+$J$40))","v":244376.715038482},{"$f":"1/(0.0000128*(V467+AC467+$K$40))","v":191894.359473212},{"$f":"1/(0.0000128*(W467+AD467+$L$40))","v":143920.769604909}]
[null,null,null,null,null,null,null,null,null,null,null,null,null,null,null,null,null,{"$f":"(G$5*((90/$G$35)*(90/$G$35))/2)*(1+(SQRT(1+(4/(G$5*((90/$G$35)*(90/$G$35))))*$G$40*(1-(SQRT(2)*Vin_rms_min*(SIN($Q153)/Vout))))))","v":0.250841493970882},{"$f":"(H$5*((90/$G$35)*(90/$G$35))/2)*(1+(SQRT(1+(4/(H$5*((90/$G$35)*(90/$G$35))))*$H$40*(1-(SQRT(2)*Vin_rms_min*(SIN($Q153)/Vout))))))","v":0.245127058116087},{"$f":"(I$5*((90/$G$35)*(90/$G$35))/2)*(1+(SQRT(1+(4/(I$5*((90/$G$35)*(90/$G$35))))*$I$40*(1-(SQRT(2)*Vin_rms_min*(SIN($Q153)/Vout))))))","v":0.241763204697575},{"$f":"(J$5*((90/$G$35)*(90/$G$35))/2)*(1+(SQRT(1+(4/(J$5*((90/$G$35)*(90/$G$35))))*$J$40*(1-(SQRT(2)*Vin_rms_min*(SIN($Q153)/Vout))))))","v":0.215227850611458},{"$f":"(K$5*((90/$G$35)*(90/$G$35))/2)*(1+(SQRT(1+(4/(K$5*((90/$G$35)*(90/$G$35))))*$K$40*(1-(SQRT(2)*Vin_rms_min*(SIN($Q153)/Vout))))))","v":0.298163788127197},{"$f":"(L$5*((90/$G$35)*(90/$G$35))/2)*(1+(SQRT(1+(4/(L$5*((90/$G$35)*(90/$G$35))))*$L$40*(1-(SQRT(2)*Vin_rms_min*(SIN($Q153)/Vout))))))","v":0.39755171750293},null,{"$f":"R468*ABS(1/(Vout/(SQRT(2)*$C$26*SIN($Q153))))","v":0.0917651511777791},{"$f":"S468*ABS(1/(Vout/(SQRT(2)*$C$26*SIN($Q153))))","v":0.0896746434957773},{"$f":"T468*ABS(1/(Vout/(SQRT(2)*$C$26*SIN($Q153))))","v":0.088444047581987},{"$f":"U468*ABS(1/(Vout/(SQRT(2)*$C$26*SIN($Q153))))","v":0.0787366393668568},{"$f":"V468*ABS(1/(Vout/(SQRT(2)*$C$26*SIN($Q153))))","v":0.109077029721437},{"$f":"W468*ABS(1/(Vout/(SQRT(2)*$C$26*SIN($Q153))))","v":0.145436039628583},null,{"$f":"1/(0.0000128*(R468+Y468+$G$40))","v":34391.9578536394},{"$f":"1/(0.0000128*(S468+Z468+$H$40))","v":72721.657131123},{"$f":"1/(0.0000128*(T468+AA468+$I$40))","v":93921.9991000306},{"$f":"1/(0.0000128*(U468+AB468+$J$40))","v":244320.437223339},{"$f":"1/(0.0000128*(V468+AC468+$K$40))","v":191839.807248982},{"$f":"1/(0.0000128*(W468+AD468+$L$40))","v":143879.855436737}]
[null,null,null,null,null,null,null,null,null,null,null,null,null,null,null,null,null,{"$f":"(G$5*((90/$G$35)*(90/$G$35))/2)*(1+(SQRT(1+(4/(G$5*((90/$G$35)*(90/$G$35))))*$G$40*(1-(SQRT(2)*Vin_rms_min*(SIN($Q154)/Vout))))))","v":0.250792083558632},{"$f":"(H$5*((90/$G$35)*(90/$G$35))/2)*(1+(SQRT(1+(4/(H$5*((90/$G$35)*(90/$G$35))))*$H$40*(1-(SQRT(2)*Vin_rms_min*(SIN($Q154)/Vout))))))","v":0.245084453550273},{"$f":"(I$5*((90/$G$35)*(90/$G$35))/2)*(1+(SQRT(1+(4/(I$5*((90/$G$35)*(90/$G$35))))*$I$40*(1-(SQRT(2)*Vin_rms_min*(SIN($Q154)/Vout))))))","v":0.241724579803537},{"$f":"(J$5*((90/$G$35)*(90/$G$35))/2)*(1+(SQRT(1+(4/(J$5*((90/$G$35)*(90/$G$35))))*$J$40*(1-(SQRT(2)*Vin_rms_min*(SIN($Q154)/Vout))))))","v":0.215221263003919},{"$f":"(K$5*((90/$G$35)*(90/$G$35))/2)*(1+(SQRT(1+(4/(K$5*((90/$G$35)*(90/$G$35))))*$K$40*(1-(SQRT(2)*Vin_rms_min*(SIN($Q154)/Vout))))))","v":0.298163788127197},{"$f":"(L$5*((90/$G$35)*(90/$G$35))/2)*(1+(SQRT(1+(4/(L$5*((90/$G$35)*(90/$G$35))))*$L$40*(1-(SQRT(2)*Vin_rms_min*(SIN($Q154)/Vout))))))","v":0.39755171750293},null,{"$f":"R469*ABS(1/(Vout/(SQRT(2)*$C$26*SIN($Q154))))","v":0.0918352786904992},{"$f":"S469*ABS(1/(Vout/(SQRT(2)*$C$26*SIN($Q154))))","v":0.0897452534191976},{"$f":"T469*ABS(1/(Vout/(SQRT(2)*$C$26*SIN($Q154))))","v":0.088514931721965},{"$f":"U469*ABS(1/(Vout/(SQRT(2)*$C$26*SIN($Q154))))","v":0.0788099224968771},{"$f":"V469*ABS(1/(Vout/(SQRT(2)*$C$26*SIN($Q154))))","v":0.109181893581081},{"$f":"W469*ABS(1/(Vout/(SQRT(2)*$C$26*SIN($Q154))))","v":0.145575858108108},null,{"$f":"1/(0.0000128*(R469+Y469+$G$40))","v":34391.6442011196},{"$f":"1/(0.0000128*(S469+Z469+$H$40))","v":72719.7614411868},{"$f":"1/(0.0000128*(T469+AA469+$I$40))","v":93918.3567473578},{"$f":"1/(0.0000128*(U469+AB469+$J$40))","v":244269.488222891},{"$f":"1/(0.0000128*(V469+AC469+$K$40))","v":191790.421522007},{"$f":"1/(0.0000128*(W469+AD469+$L$40))","v":143842.816141505}]
[null,null,null,null,null,null,null,null,null,null,null,null,null,null,null,null,null,{"$f":"(G$5*((90/$G$35)*(90/$G$35))/2)*(1+(SQRT(1+(4/(G$5*((90/$G$35)*(90/$G$35))))*$G$40*(1-(SQRT(2)*Vin_rms_min*(SIN($Q155)/Vout))))))","v":0.250747808624043},{"$f":"(H$5*((90/$G$35)*(90/$G$35))/2)*(1+(SQRT(1+(4/(H$5*((90/$G$35)*(90/$G$35))))*$H$40*(1-(SQRT(2)*Vin_rms_min*(SIN($Q155)/Vout))))))","v":0.245046277330242},{"$f":"(I$5*((90/$G$35)*(90/$G$35))/2)*(1+(SQRT(1+(4/(I$5*((90/$G$35)*(90/$G$35))))*$I$40*(1-(SQRT(2)*Vin_rms_min*(SIN($Q155)/Vout))))))","v":0.241689969814177},{"$f":"(J$5*((90/$G$35)*(90/$G$35))/2)*(1+(SQRT(1+(4/(J$5*((90/$G$35)*(90/$G$35))))*$J$40*(1-(SQRT(2)*Vin_rms_min*(SIN($Q155)/Vout))))))","v":0.215215360959371},{"$f":"(K$5*((90/$G$35)*(90/$G$35))/2)*(1+(SQRT(1+(4/(K$5*((90/$G$35)*(90/$G$35))))*$K$40*(1-(SQRT(2)*Vin_rms_min*(SIN($Q155)/Vout))))))","v":0.298163788127197},{"$f":"(L$5*((90/$G$35)*(90/$G$35))/2)*(1+(SQRT(1+(4/(L$5*((90/$G$35)*(90/$G$35))))*$L$40*(1-(SQRT(2)*Vin_rms_min*(SIN($Q155)/Vout))))))","v":0.39755171750293},null,{"$f":"R470*ABS(1/(Vout/(SQRT(2)*$C$26*SIN($Q155))))","v":0.0918980719380934},{"$f":"S470*ABS(1/(Vout/(SQRT(2)*$C$26*SIN($Q155))))","v":0.0898084834552661},{"$f":"T470*ABS(1/(Vout/(SQRT(2)*$C$26*SIN($Q155))))","v":0.0885784101347841},{"$f":"U470*ABS(1/(Vout/(SQRT(2)*$C$26*SIN($Q155))))","v":0.0788755715639406},{"$f":"V470*ABS(1/(Vout/(SQRT(2)*$C$26*SIN($Q155))))","v":0.109275839342351},{"$f":"W470*ABS(1/(Vout/(SQRT(2)*$C$26*SIN($Q155))))","v":0.145701119123135},null,{"$f":"1/(0.0000128*(R470+Y470+$G$40))","v":34391.3638426194},{"$f":"1/(0.0000128*(S470+Z470+$H$40))","v":72718.065625622},{"$f":"1/(0.0000128*(T470+AA470+$I$40))","v":93915.0974878903},{"$f":"1/(0.0000128*(U470+AB470+$J$40))","v":244223.865252282},{"$f":"1/(0.0000128*(V470+AC470+$K$40))","v":191746.19927179},{"$f":"1/(0.0000128*(W470+AD470+$L$40))","v":143809.649453843}]
[null,null,null,null,null,null,null,null,null,null,null,null,null,null,null,null,null,{"$f":"(G$5*((90/$G$35)*(90/$G$35))/2)*(1+(SQRT(1+(4/(G$5*((90/$G$35)*(90/$G$35))))*$G$40*(1-(SQRT(2)*Vin_rms_min*(SIN($Q156)/Vout))))))","v":0.250708676550803},{"$f":"(H$5*((90/$G$35)*(90/$G$35))/2)*(1+(SQRT(1+(4/(H$5*((90/$G$35)*(90/$G$35))))*$H$40*(1-(SQRT(2)*Vin_rms_min*(SIN($Q156)/Vout))))))","v":0.245012535745479},{"$f":"(I$5*((90/$G$35)*(90/$G$35))/2)*(1+(SQRT(1+(4/(I$5*((90/$G$35)*(90/$G$35))))*$I$40*(1-(SQRT(2)*Vin_rms_min*(SIN($Q156)/Vout))))))","v":0.241659380362904},{"$f":"(J$5*((90/$G$35)*(90/$G$35))/2)*(1+(SQRT(1+(4/(J$5*((90/$G$35)*(90/$G$35))))*$J$40*(1-(SQRT(2)*Vin_rms_min*(SIN($Q156)/Vout))))))","v":0.215210145172859},{"$f":"(K$5*((90/$G$35)*(90/$G$35))/2)*(1+(SQRT(1+(4/(K$5*((90/$G$35)*(90/$G$35))))*$K$40*(1-(SQRT(2)*Vin_rms_min*(SIN($Q156)/Vout))))))","v":0.298163788127197},{"$f":"(L$5*((90/$G$35)*(90/$G$35))/2)*(1+(SQRT(1+(4/(L$5*((90/$G$35)*(90/$G$35))))*$L$40*(1-(SQRT(2)*Vin_rms_min*(SIN($Q156)/Vout))))))","v":0.39755171750293},null,{"$f":"R471*ABS(1/(Vout/(SQRT(2)*$C$26*SIN($Q156))))","v":0.0919535354474458},{"$f":"S471*ABS(1/(Vout/(SQRT(2)*$C$26*SIN($Q156))))","v":0.0898643365706378},{"$f":"T471*ABS(1/(Vout/(SQRT(2)*$C$26*SIN($Q156))))","v":0.088634484869554},{"$f":"U471*ABS(1/(Vout/(SQRT(2)*$C$26*SIN($Q156))))","v":0.0789335813385477},{"$f":"V471*ABS(1/(Vout/(SQRT(2)*$C$26*SIN($Q156))))","v":0.10935885761075},{"$f":"W471*ABS(1/(Vout/(SQRT(2)*$C$26*SIN($Q156))))","v":0.145811810147667},null,{"$f":"1/(0.0000128*(R471+Y471+$G$40))","v":34391.1165961941},{"$f":"1/(0.0000128*(S471+Z471+$H$40))","v":72716.5690299903},{"$f":"1/(0.0000128*(T471+AA471+$I$40))","v":93912.220374614},{"$f":"1/(0.0000128*(U471+AB471+$J$40))","v":244183.565815955},{"$f":"1/(0.0000128*(V471+AC471+$K$40))","v":191707.13779238},{"$f":"1/(0.0000128*(W471+AD471+$L$40))","v":143780.353344285}]
[null,null,null,null,null,null,null,null,null,null,null,null,null,null,null,null,null,{"$f":"(G$5*((90/$G$35)*(90/$G$35))/2)*(1+(SQRT(1+(4/(G$5*((90/$G$35)*(90/$G$35))))*$G$40*(1-(SQRT(2)*Vin_rms_min*(SIN($Q157)/Vout))))))","v":0.25067469386894},{"$f":"(H$5*((90/$G$35)*(90/$G$35))/2)*(1+(SQRT(1+(4/(H$5*((90/$G$35)*(90/$G$35))))*$H$40*(1-(SQRT(2)*Vin_rms_min*(SIN($Q157)/Vout))))))","v":0.244983234358171},{"$f":"(I$5*((90/$G$35)*(90/$G$35))/2)*(1+(SQRT(1+(4/(I$5*((90/$G$35)*(90/$G$35))))*$I$40*(1-(SQRT(2)*Vin_rms_min*(SIN($Q157)/Vout))))))","v":0.241632816431574},{"$f":"(J$5*((90/$G$35)*(90/$G$35))/2)*(1+(SQRT(1+(4/(J$5*((90/$G$35)*(90/$G$35))))*$J$40*(1-(SQRT(2)*Vin_rms_min*(SIN($Q157)/Vout))))))","v":0.215205616258706},{"$f":"(K$5*((90/$G$35)*(90/$G$35))/2)*(1+(SQRT(1+(4/(K$5*((90/$G$35)*(90/$G$35))))*$K$40*(1-(SQRT(2)*Vin_rms_min*(SIN($Q157)/Vout))))))","v":0.298163788127197},{"$f":"(L$5*((90/$G$35)*(90/$G$35))/2)*(1+(SQRT(1+(4/(L$5*((90/$G$35)*(90/$G$35))))*$L$40*(1-(SQRT(2)*Vin_rms_min*(SIN($Q157)/Vout))))))","v":0.39755171750293},null,{"$f":"R472*ABS(1/(Vout/(SQRT(2)*$C$26*SIN($Q157))))","v":0.0920016732339578},{"$f":"S472*ABS(1/(Vout/(SQRT(2)*$C$26*SIN($Q157))))","v":0.0899128153997171},{"$f":"T472*ABS(1/(Vout/(SQRT(2)*$C$26*SIN($Q157))))","v":0.0886831577485101},{"$f":"U472*ABS(1/(Vout/(SQRT(2)*$C$26*SIN($Q157))))","v":0.0789839472008996},{"$f":"V472*ABS(1/(Vout/(SQRT(2)*$C$26*SIN($Q157))))","v":0.109430940084521},{"$f":"W472*ABS(1/(Vout/(SQRT(2)*$C$26*SIN($Q157))))","v":0.145907920112694},null,{"$f":"1/(0.0000128*(R472+Y472+$G$40))","v":34390.9023007683},{"$f":"1/(0.0000128*(S472+Z472+$H$40))","v":72715.2710749497},{"$f":"1/(0.0000128*(T472+AA472+$I$40))","v":93909.7245692367},{"$f":"1/(0.0000128*(U472+AB472+$J$40))","v":244148.587708118},{"$f":"1/(0.0000128*(V472+AC472+$K$40))","v":191673.234692622},{"$f":"1/(0.0000128*(W472+AD472+$L$40))","v":143754.926019466}]
[null,null,null,null,null,null,null,null,null,null,null,null,null,null,null,null,null,{"$f":"(G$5*((90/$G$35)*(90/$G$35))/2)*(1+(SQRT(1+(4/(G$5*((90/$G$35)*(90/$G$35))))*$G$40*(1-(SQRT(2)*Vin_rms_min*(SIN($Q158)/Vout))))))","v":0.250645866252248},{"$f":"(H$5*((90/$G$35)*(90/$G$35))/2)*(1+(SQRT(1+(4/(H$5*((90/$G$35)*(90/$G$35))))*$H$40*(1-(SQRT(2)*Vin_rms_min*(SIN($Q158)/Vout))))))","v":0.24495837800107},{"$f":"(I$5*((90/$G$35)*(90/$G$35))/2)*(1+(SQRT(1+(4/(I$5*((90/$G$35)*(90/$G$35))))*$I$40*(1-(SQRT(2)*Vin_rms_min*(SIN($Q158)/Vout))))))","v":0.241610282348622},{"$f":"(J$5*((90/$G$35)*(90/$G$35))/2)*(1+(SQRT(1+(4/(J$5*((90/$G$35)*(90/$G$35))))*$J$40*(1-(SQRT(2)*Vin_rms_min*(SIN($Q158)/Vout))))))","v":0.215201774750404},{"$f":"(K$5*((90/$G$35)*(90/$G$35))/2)*(1+(SQRT(1+(4/(K$5*((90/$G$35)*(90/$G$35))))*$K$40*(1-(SQRT(2)*Vin_rms_min*(SIN($Q158)/Vout))))))","v":0.298163788127197},{"$f":"(L$5*((90/$G$35)*(90/$G$35))/2)*(1+(SQRT(1+(4/(L$5*((90/$G$35)*(90/$G$35))))*$L$40*(1-(SQRT(2)*Vin_rms_min*(SIN($Q158)/Vout))))))","v":0.39755171750293},null,{"$f":"R473*ABS(1/(Vout/(SQRT(2)*$C$26*SIN($Q158))))","v":0.0920424887955688},{"$f":"S473*ABS(1/(Vout/(SQRT(2)*$C$26*SIN($Q158))))","v":0.0899539222396491},{"$f":"T473*ABS(1/(Vout/(SQRT(2)*$C$26*SIN($Q158))))","v":0.0887244303625845},{"$f":"U473*ABS(1/(Vout/(SQRT(2)*$C$26*SIN($Q158))))","v":0.0790266651408336},{"$f":"V473*ABS(1/(Vout/(SQRT(2)*$C$26*SIN($Q158))))","v":0.109492079555474},{"$f":"W473*ABS(1/(Vout/(SQRT(2)*$C$26*SIN($Q158))))","v":0.145989439407299},null,{"$f":"1/(0.0000128*(R473+Y473+$G$40))","v":34390.7208162607},{"$f":"1/(0.0000128*(S473+Z473+$H$40))","v":72714.1712566919},{"$f":"1/(0.0000128*(T473+AA473+$I$40))","v":93907.6093428018},{"$f":"1/(0.0000128*(U473+AB473+$J$40))","v":244118.929013156},{"$f":"1/(0.0000128*(V473+AC473+$K$40))","v":191644.48789638},{"$f":"1/(0.0000128*(W473+AD473+$L$40))","v":143733.365922285}]
[null,null,null,null,null,null,null,null,null,null,null,null,null,null,null,null,null,{"$f":"(G$5*((90/$G$35)*(90/$G$35))/2)*(1+(SQRT(1+(4/(G$5*((90/$G$35)*(90/$G$35))))*$G$40*(1-(SQRT(2)*Vin_rms_min*(SIN($Q159)/Vout))))))","v":0.250622198516055},{"$f":"(H$5*((90/$G$35)*(90/$G$35))/2)*(1+(SQRT(1+(4/(H$5*((90/$G$35)*(90/$G$35))))*$H$40*(1-(SQRT(2)*Vin_rms_min*(SIN($Q159)/Vout))))))","v":0.244937970775636},{"$f":"(I$5*((90/$G$35)*(90/$G$35))/2)*(1+(SQRT(1+(4/(I$5*((90/$G$35)*(90/$G$35))))*$I$40*(1-(SQRT(2)*Vin_rms_min*(SIN($Q159)/Vout))))))","v":0.241591781787431},{"$f":"(J$5*((90/$G$35)*(90/$G$35))/2)*(1+(SQRT(1+(4/(J$5*((90/$G$35)*(90/$G$35))))*$J$40*(1-(SQRT(2)*Vin_rms_min*(SIN($Q159)/Vout))))))","v":0.215198621100522},{"$f":"(K$5*((90/$G$35)*(90/$G$35))/2)*(1+(SQRT(1+(4/(K$5*((90/$G$35)*(90/$G$35))))*$K$40*(1-(SQRT(2)*Vin_rms_min*(SIN($Q159)/Vout))))))","v":0.298163788127197},{"$f":"(L$5*((90/$G$35)*(90/$G$35))/2)*(1+(SQRT(1+(4/(L$5*((90/$G$35)*(90/$G$35))))*$L$40*(1-(SQRT(2)*Vin_rms_min*(SIN($Q159)/Vout))))))","v":0.39755171750293},null,{"$f":"R474*ABS(1/(Vout/(SQRT(2)*$C$26*SIN($Q159))))","v":0.0920759851075551},{"$f":"S474*ABS(1/(Vout/(SQRT(2)*$C$26*SIN($Q159))))","v":0.0899876590459623},{"$f":"T474*ABS(1/(Vout/(SQRT(2)*$C$26*SIN($Q159))))","v":0.0887583040675551},{"$f":"U474*ABS(1/(Vout/(SQRT(2)*$C$26*SIN($Q159))))","v":0.0790617317577666},{"$f":"V474*ABS(1/(Vout/(SQRT(2)*$C$26*SIN($Q159))))","v":0.109542269909716},{"$f":"W474*ABS(1/(Vout/(SQRT(2)*$C$26*SIN($Q159))))","v":0.146056359879621},null,{"$f":"1/(0.0000128*(R474+Y474+$G$40))","v":34390.5720236928},{"$f":"1/(0.0000128*(S474+Z474+$H$40))","v":72713.2691473231},{"$f":"1/(0.0000128*(T474+AA474+$I$40))","v":93905.8740762215},{"$f":"1/(0.0000128*(U474+AB474+$J$40))","v":244094.588105984},{"$f":"1/(0.0000128*(V474+AC474+$K$40))","v":191620.89564273},{"$f":"1/(0.0000128*(W474+AD474+$L$40))","v":143715.671732047}]
[null,null,null,null,null,null,null,null,null,null,null,null,null,null,null,null,null,{"$f":"(G$5*((90/$G$35)*(90/$G$35))/2)*(1+(SQRT(1+(4/(G$5*((90/$G$35)*(90/$G$35))))*$G$40*(1-(SQRT(2)*Vin_rms_min*(SIN($Q160)/Vout))))))","v":0.250603694615318},{"$f":"(H$5*((90/$G$35)*(90/$G$35))/2)*(1+(SQRT(1+(4/(H$5*((90/$G$35)*(90/$G$35))))*$H$40*(1-(SQRT(2)*Vin_rms_min*(SIN($Q160)/Vout))))))","v":0.244922016050453},{"$f":"(I$5*((90/$G$35)*(90/$G$35))/2)*(1+(SQRT(1+(4/(I$5*((90/$G$35)*(90/$G$35))))*$I$40*(1-(SQRT(2)*Vin_rms_min*(SIN($Q160)/Vout))))))","v":0.241577317764954},{"$f":"(J$5*((90/$G$35)*(90/$G$35))/2)*(1+(SQRT(1+(4/(J$5*((90/$G$35)*(90/$G$35))))*$J$40*(1-(SQRT(2)*Vin_rms_min*(SIN($Q160)/Vout))))))","v":0.215196155680629},{"$f":"(K$5*((90/$G$35)*(90/$G$35))/2)*(1+(SQRT(1+(4/(K$5*((90/$G$35)*(90/$G$35))))*$K$40*(1-(SQRT(2)*Vin_rms_min*(SIN($Q160)/Vout))))))","v":0.298163788127197},{"$f":"(L$5*((90/$G$35)*(90/$G$35))/2)*(1+(SQRT(1+(4/(L$5*((90/$G$35)*(90/$G$35))))*$L$40*(1-(SQRT(2)*Vin_rms_min*(SIN($Q160)/Vout))))))","v":0.39755171750293},null,{"$f":"R475*ABS(1/(Vout/(SQRT(2)*$C$26*SIN($Q160))))","v":0.0921021646181113},{"$f":"S475*ABS(1/(Vout/(SQRT(2)*$C$26*SIN($Q160))))","v":0.0900140274288665},{"$f":"T475*ABS(1/(Vout/(SQRT(2)*$C$26*SIN($Q160))))","v":0.088784779980772},{"$f":"U475*ABS(1/(Vout/(SQRT(2)*$C$26*SIN($Q160))))","v":0.0790891442606468},{"$f":"V475*ABS(1/(Vout/(SQRT(2)*$C$26*SIN($Q160))))","v":0.109581506128251},{"$f":"W475*ABS(1/(Vout/(SQRT(2)*$C$26*SIN($Q160))))","v":0.146108674837668},null,{"$f":"1/(0.0000128*(R475+Y475+$G$40))","v":34390.4558252813},{"$f":"1/(0.0000128*(S475+Z475+$H$40))","v":72712.564395187},{"$f":"1/(0.0000128*(T475+AA475+$I$40))","v":93904.5182607315},{"$f":"1/(0.0000128*(U475+AB475+$J$40))","v":244075.563652355},{"$f":"1/(0.0000128*(V475+AC475+$K$40))","v":191602.456486121},{"$f":"1/(0.0000128*(W475+AD475+$L$40))","v":143701.842364591}]
[null,null,null,null,null,null,null,null,null,null,null,null,null,null,null,null,null,{"$f":"(G$5*((90/$G$35)*(90/$G$35))/2)*(1+(SQRT(1+(4/(G$5*((90/$G$35)*(90/$G$35))))*$G$40*(1-(SQRT(2)*Vin_rms_min*(SIN($Q161)/Vout))))))","v":0.250590357643061},{"$f":"(H$5*((90/$G$35)*(90/$G$35))/2)*(1+(SQRT(1+(4/(H$5*((90/$G$35)*(90/$G$35))))*$H$40*(1-(SQRT(2)*Vin_rms_min*(SIN($Q161)/Vout))))))","v":0.244910516459931},{"$f":"(I$5*((90/$G$35)*(90/$G$35))/2)*(1+(SQRT(1+(4/(I$5*((90/$G$35)*(90/$G$35))))*$I$40*(1-(SQRT(2)*Vin_rms_min*(SIN($Q161)/Vout))))))","v":0.241566892640579},{"$f":"(J$5*((90/$G$35)*(90/$G$35))/2)*(1+(SQRT(1+(4/(J$5*((90/$G$35)*(90/$G$35))))*$J$40*(1-(SQRT(2)*Vin_rms_min*(SIN($Q161)/Vout))))))","v":0.215194378781225},{"$f":"(K$5*((90/$G$35)*(90/$G$35))/2)*(1+(SQRT(1+(4/(K$5*((90/$G$35)*(90/$G$35))))*$K$40*(1-(SQRT(2)*Vin_rms_min*(SIN($Q161)/Vout))))))","v":0.298163788127197},{"$f":"(L$5*((90/$G$35)*(90/$G$35))/2)*(1+(SQRT(1+(4/(L$5*((90/$G$35)*(90/$G$35))))*$L$40*(1-(SQRT(2)*Vin_rms_min*(SIN($Q161)/Vout))))))","v":0.39755171750293},null,{"$f":"R476*ABS(1/(Vout/(SQRT(2)*$C$26*SIN($Q161))))","v":0.0921210292447168},{"$f":"S476*ABS(1/(Vout/(SQRT(2)*$C$26*SIN($Q161))))","v":0.0900330286502099},{"$f":"T476*ABS(1/(Vout/(SQRT(2)*$C$26*SIN($Q161))))","v":0.0888038589784676},{"$f":"U476*ABS(1/(Vout/(SQRT(2)*$C$26*SIN($Q161))))","v":0.0791089004679142},{"$f":"V476*ABS(1/(Vout/(SQRT(2)*$C$26*SIN($Q161))))","v":0.109609784287491},{"$f":"W476*ABS(1/(Vout/(SQRT(2)*$C$26*SIN($Q161))))","v":0.146146379049988},null,{"$f":"1/(0.0000128*(R476+Y476+$G$40))","v":34390.3721445137},{"$f":"1/(0.0000128*(S476+Z476+$H$40))","v":72712.0567251315},{"$f":"1/(0.0000128*(T476+AA476+$I$40))","v":93903.5414982628},{"$f":"1/(0.0000128*(U476+AB476+$J$40))","v":244061.854609101},{"$f":"1/(0.0000128*(V476+AC476+$K$40))","v":191589.169296509},{"$f":"1/(0.0000128*(W476+AD476+$L$40))","v":143691.876972382}]
[null,null,null,null,null,null,null,null,null,null,null,null,null,null,null,null,null,{"$f":"(G$5*((90/$G$35)*(90/$G$35))/2)*(1+(SQRT(1+(4/(G$5*((90/$G$35)*(90/$G$35))))*$G$40*(1-(SQRT(2)*Vin_rms_min*(SIN($Q162)/Vout))))))","v":0.250582189829151},{"$f":"(H$5*((90/$G$35)*(90/$G$35))/2)*(1+(SQRT(1+(4/(H$5*((90/$G$35)*(90/$G$35))))*$H$40*(1-(SQRT(2)*Vin_rms_min*(SIN($Q162)/Vout))))))","v":0.24490347390329},{"$f":"(I$5*((90/$G$35)*(90/$G$35))/2)*(1+(SQRT(1+(4/(I$5*((90/$G$35)*(90/$G$35))))*$I$40*(1-(SQRT(2)*Vin_rms_min*(SIN($Q162)/Vout))))))","v":0.241560508115236},{"$f":"(J$5*((90/$G$35)*(90/$G$35))/2)*(1+(SQRT(1+(4/(J$5*((90/$G$35)*(90/$G$35))))*$J$40*(1-(SQRT(2)*Vin_rms_min*(SIN($Q162)/Vout))))))","v":0.215193290611697},{"$f":"(K$5*((90/$G$35)*(90/$G$35))/2)*(1+(SQRT(1+(4/(K$5*((90/$G$35)*(90/$G$35))))*$K$40*(1-(SQRT(2)*Vin_rms_min*(SIN($Q162)/Vout))))))","v":0.298163788127197},{"$f":"(L$5*((90/$G$35)*(90/$G$35))/2)*(1+(SQRT(1+(4/(L$5*((90/$G$35)*(90/$G$35))))*$L$40*(1-(SQRT(2)*Vin_rms_min*(SIN($Q162)/Vout))))))","v":0.39755171750293},null,{"$f":"R477*ABS(1/(Vout/(SQRT(2)*$C$26*SIN($Q162))))","v":0.092132580371293},{"$f":"S477*ABS(1/(Vout/(SQRT(2)*$C$26*SIN($Q162))))","v":0.0900446636210966},{"$f":"T477*ABS(1/(Vout/(SQRT(2)*$C$26*SIN($Q162))))","v":0.0888155416936509},{"$f":"U477*ABS(1/(Vout/(SQRT(2)*$C$26*SIN($Q162))))","v":0.0791209988074688},{"$f":"V477*ABS(1/(Vout/(SQRT(2)*$C$26*SIN($Q162))))","v":0.109627101559643},{"$f":"W477*ABS(1/(Vout/(SQRT(2)*$C$26*SIN($Q162))))","v":0.146169468746191},null,{"$f":"1/(0.0000128*(R477+Y477+$G$40))","v":34390.3209262079},{"$f":"1/(0.0000128*(S477+Z477+$H$40))","v":72711.7459387162},{"$f":"1/(0.0000128*(T477+AA477+$I$40))","v":93902.9435017344},{"$f":"1/(0.0000128*(U477+AB477+$J$40))","v":244053.46022433},{"$f":"1/(0.0000128*(V477+AC477+$K$40))","v":191581.033259461},{"$f":"1/(0.0000128*(W477+AD477+$L$40))","v":143685.774944596}]
[null,null,null,null,null,null,null,null,null,null,null,null,null,null,null,null,null,{"$f":"(G$5*((90/$G$35)*(90/$G$35))/2)*(1+(SQRT(1+(4/(G$5*((90/$G$35)*(90/$G$35))))*$G$40*(1-(SQRT(2)*Vin_rms_min*(SIN($Q163)/Vout))))))","v":0.250579192539419},{"$f":"(H$5*((90/$G$35)*(90/$G$35))/2)*(1+(SQRT(1+(4/(H$5*((90/$G$35)*(90/$G$35))))*$H$40*(1-(SQRT(2)*Vin_rms_min*(SIN($Q163)/Vout))))))","v":0.244900889543823},{"$f":"(I$5*((90/$G$35)*(90/$G$35))/2)*(1+(SQRT(1+(4/(I$5*((90/$G$35)*(90/$G$35))))*$I$40*(1-(SQRT(2)*Vin_rms_min*(SIN($Q163)/Vout))))))","v":0.241558165230758},{"$f":"(J$5*((90/$G$35)*(90/$G$35))/2)*(1+(SQRT(1+(4/(J$5*((90/$G$35)*(90/$G$35))))*$J$40*(1-(SQRT(2)*Vin_rms_min*(SIN($Q163)/Vout))))))","v":0.215192891300276},{"$f":"(K$5*((90/$G$35)*(90/$G$35))/2)*(1+(SQRT(1+(4/(K$5*((90/$G$35)*(90/$G$35))))*$K$40*(1-(SQRT(2)*Vin_rms_min*(SIN($Q163)/Vout))))))","v":0.298163788127197},{"$f":"(L$5*((90/$G$35)*(90/$G$35))/2)*(1+(SQRT(1+(4/(L$5*((90/$G$35)*(90/$G$35))))*$L$40*(1-(SQRT(2)*Vin_rms_min*(SIN($Q163)/Vout))))))","v":0.39755171750293},null,{"$f":"R478*ABS(1/(Vout/(SQRT(2)*$C$26*SIN($Q163))))","v":0.0921368188461526},{"$f":"S478*ABS(1/(Vout/(SQRT(2)*$C$26*SIN($Q163))))","v":0.0900489329001694},{"$f":"T478*ABS(1/(Vout/(SQRT(2)*$C$26*SIN($Q163))))","v":0.0888198285145888},{"$f":"U478*ABS(1/(Vout/(SQRT(2)*$C$26*SIN($Q163))))","v":0.0791254383166482},{"$f":"V478*ABS(1/(Vout/(SQRT(2)*$C$26*SIN($Q163))))","v":0.109633456212995},{"$f":"W478*ABS(1/(Vout/(SQRT(2)*$C$26*SIN($Q163))))","v":0.146177941617327},null,{"$f":"1/(0.0000128*(R478+Y478+$G$40))","v":34390.3021365552},{"$f":"1/(0.0000128*(S478+Z478+$H$40))","v":72711.6319143628},{"$f":"1/(0.0000128*(T478+AA478+$I$40))","v":93902.7240952633},{"$f":"1/(0.0000128*(U478+AB478+$J$40))","v":244050.380037562},{"$f":"1/(0.0000128*(V478+AC478+$K$40))","v":191578.04787623},{"$f":"1/(0.0000128*(W478+AD478+$L$40))","v":143683.535907172}]
[null,null,null,null,null,null,null,null,null,null,null,null,null,null,null,null,null,{"$f":"(G$5*((90/$G$35)*(90/$G$35))/2)*(1+(SQRT(1+(4/(G$5*((90/$G$35)*(90/$G$35))))*$G$40*(1-(SQRT(2)*Vin_rms_min*(SIN($Q164)/Vout))))))","v":0.250581366275117},{"$f":"(H$5*((90/$G$35)*(90/$G$35))/2)*(1+(SQRT(1+(4/(H$5*((90/$G$35)*(90/$G$35))))*$H$40*(1-(SQRT(2)*Vin_rms_min*(SIN($Q164)/Vout))))))","v":0.24490276380845},{"$f":"(I$5*((90/$G$35)*(90/$G$35))/2)*(1+(SQRT(1+(4/(I$5*((90/$G$35)*(90/$G$35))))*$I$40*(1-(SQRT(2)*Vin_rms_min*(SIN($Q164)/Vout))))))","v":0.241559864369491},{"$f":"(J$5*((90/$G$35)*(90/$G$35))/2)*(1+(SQRT(1+(4/(J$5*((90/$G$35)*(90/$G$35))))*$J$40*(1-(SQRT(2)*Vin_rms_min*(SIN($Q164)/Vout))))))","v":0.215193180894019},{"$f":"(K$5*((90/$G$35)*(90/$G$35))/2)*(1+(SQRT(1+(4/(K$5*((90/$G$35)*(90/$G$35))))*$K$40*(1-(SQRT(2)*Vin_rms_min*(SIN($Q164)/Vout))))))","v":0.298163788127197},{"$f":"(L$5*((90/$G$35)*(90/$G$35))/2)*(1+(SQRT(1+(4/(L$5*((90/$G$35)*(90/$G$35))))*$L$40*(1-(SQRT(2)*Vin_rms_min*(SIN($Q164)/Vout))))))","v":0.39755171750293},null,{"$f":"R479*ABS(1/(Vout/(SQRT(2)*$C$26*SIN($Q164))))","v":0.0921337449807426},{"$f":"S479*ABS(1/(Vout/(SQRT(2)*$C$26*SIN($Q164))))","v":0.0900458366925564},{"$f":"T479*ABS(1/(Vout/(SQRT(2)*$C$26*SIN($Q164))))","v":0.0888167195838756},{"$f":"U479*ABS(1/(Vout/(SQRT(2)*$C$26*SIN($Q164))))","v":0.0791222186422135},{"$f":"V479*ABS(1/(Vout/(SQRT(2)*$C$26*SIN($Q164))))","v":0.109628847612087},{"$f":"W479*ABS(1/(Vout/(SQRT(2)*$C$26*SIN($Q164))))","v":0.146171796816116},null,{"$f":"1/(0.0000128*(R479+Y479+$G$40))","v":34390.3157631463},{"$f":"1/(0.0000128*(S479+Z479+$H$40))","v":72711.7146074469},{"$f":"1/(0.0000128*(T479+AA479+$I$40))","v":93902.8832142937},{"$f":"1/(0.0000128*(U479+AB479+$J$40))","v":244052.613879819},{"$f":"1/(0.0000128*(V479+AC479+$K$40))","v":191580.212963796},{"$f":"1/(0.0000128*(W479+AD479+$L$40))","v":143685.159722847}]
[null,null,null,null,null,null,null,null,null,null,null,null,null,null,null,null,null,{"$f":"(G$5*((90/$G$35)*(90/$G$35))/2)*(1+(SQRT(1+(4/(G$5*((90/$G$35)*(90/$G$35))))*$G$40*(1-(SQRT(2)*Vin_rms_min*(SIN($Q165)/Vout))))))","v":0.250588710672716},{"$f":"(H$5*((90/$G$35)*(90/$G$35))/2)*(1+(SQRT(1+(4/(H$5*((90/$G$35)*(90/$G$35))))*$H$40*(1-(SQRT(2)*Vin_rms_min*(SIN($Q165)/Vout))))))","v":0.244909096387554},{"$f":"(I$5*((90/$G$35)*(90/$G$35))/2)*(1+(SQRT(1+(4/(I$5*((90/$G$35)*(90/$G$35))))*$I$40*(1-(SQRT(2)*Vin_rms_min*(SIN($Q165)/Vout))))))","v":0.241565605254143},{"$f":"(J$5*((90/$G$35)*(90/$G$35))/2)*(1+(SQRT(1+(4/(J$5*((90/$G$35)*(90/$G$35))))*$J$40*(1-(SQRT(2)*Vin_rms_min*(SIN($Q165)/Vout))))))","v":0.215194159358799},{"$f":"(K$5*((90/$G$35)*(90/$G$35))/2)*(1+(SQRT(1+(4/(K$5*((90/$G$35)*(90/$G$35))))*$K$40*(1-(SQRT(2)*Vin_rms_min*(SIN($Q165)/Vout))))))","v":0.298163788127197},{"$f":"(L$5*((90/$G$35)*(90/$G$35))/2)*(1+(SQRT(1+(4/(L$5*((90/$G$35)*(90/$G$35))))*$L$40*(1-(SQRT(2)*Vin_rms_min*(SIN($Q165)/Vout))))))","v":0.39755171750293},null,{"$f":"R480*ABS(1/(Vout/(SQRT(2)*$C$26*SIN($Q165))))","v":0.0921233585491833},{"$f":"S480*ABS(1/(Vout/(SQRT(2)*$C$26*SIN($Q165))))","v":0.090035374849485},{"$f":"T480*ABS(1/(Vout/(SQRT(2)*$C$26*SIN($Q165))))","v":0.088806214798091},{"$f":"U480*ABS(1/(Vout/(SQRT(2)*$C$26*SIN($Q165))))","v":0.0791113400403442},{"$f":"V480*ABS(1/(Vout/(SQRT(2)*$C$26*SIN($Q165))))","v":0.109613276217775},{"$f":"W480*ABS(1/(Vout/(SQRT(2)*$C$26*SIN($Q165))))","v":0.146151034957033},null,{"$f":"1/(0.0000128*(R480+Y480+$G$40))","v":34390.3618149809},{"$f":"1/(0.0000128*(S480+Z480+$H$40))","v":72711.9940503322},{"$f":"1/(0.0000128*(T480+AA480+$I$40))","v":93903.4209056444},{"$f":"1/(0.0000128*(U480+AB480+$J$40))","v":244060.161873649},{"$f":"1/(0.0000128*(V480+AC480+$K$40))","v":191587.528654892},{"$f":"1/(0.0000128*(W480+AD480+$L$40))","v":143690.646491169}]
[null,null,null,null,null,null,null,null,null,null,null,null,null,null,null,null,null,{"$f":"(G$5*((90/$G$35)*(90/$G$35))/2)*(1+(SQRT(1+(4/(G$5*((90/$G$35)*(90/$G$35))))*$G$40*(1-(SQRT(2)*Vin_rms_min*(SIN($Q166)/Vout))))))","v":0.250601224504059},{"$f":"(H$5*((90/$G$35)*(90/$G$35))/2)*(1+(SQRT(1+(4/(H$5*((90/$G$35)*(90/$G$35))))*$H$40*(1-(SQRT(2)*Vin_rms_min*(SIN($Q166)/Vout))))))","v":0.244919886235096},{"$f":"(I$5*((90/$G$35)*(90/$G$35))/2)*(1+(SQRT(1+(4/(I$5*((90/$G$35)*(90/$G$35))))*$I$40*(1-(SQRT(2)*Vin_rms_min*(SIN($Q166)/Vout))))))","v":0.241575386947895},{"$f":"(J$5*((90/$G$35)*(90/$G$35))/2)*(1+(SQRT(1+(4/(J$5*((90/$G$35)*(90/$G$35))))*$J$40*(1-(SQRT(2)*Vin_rms_min*(SIN($Q166)/Vout))))))","v":0.215195826579311},{"$f":"(K$5*((90/$G$35)*(90/$G$35))/2)*(1+(SQRT(1+(4/(K$5*((90/$G$35)*(90/$G$35))))*$K$40*(1-(SQRT(2)*Vin_rms_min*(SIN($Q166)/Vout))))))","v":0.298163788127197},{"$f":"(L$5*((90/$G$35)*(90/$G$35))/2)*(1+(SQRT(1+(4/(L$5*((90/$G$35)*(90/$G$35))))*$L$40*(1-(SQRT(2)*Vin_rms_min*(SIN($Q166)/Vout))))))","v":0.39755171750293},null,{"$f":"R481*ABS(1/(Vout/(SQRT(2)*$C$26*SIN($Q166))))","v":0.0921056587886025},{"$f":"S481*ABS(1/(Vout/(SQRT(2)*$C$26*SIN($Q166))))","v":0.0900175468685619},{"$f":"T481*ABS(1/(Vout/(SQRT(2)*$C$26*SIN($Q166))))","v":0.0887883138080481},{"$f":"U481*ABS(1/(Vout/(SQRT(2)*$C$26*SIN($Q166))))","v":0.079092803376642},{"$f":"V481*ABS(1/(Vout/(SQRT(2)*$C$26*SIN($Q166))))","v":0.109586743587185},{"$f":"W481*ABS(1/(Vout/(SQRT(2)*$C$26*SIN($Q166))))","v":0.146115658116246},null,{"$f":"1/(0.0000128*(R481+Y481+$G$40))","v":34390.4403224609},{"$f":"1/(0.0000128*(S481+Z481+$H$40))","v":72712.4703523455},{"$f":"1/(0.0000128*(T481+AA481+$I$40))","v":93904.3373274743},{"$f":"1/(0.0000128*(U481+AB481+$J$40))","v":244073.02443311},{"$f":"1/(0.0000128*(V481+AC481+$K$40))","v":191599.995397981},{"$f":"1/(0.0000128*(W481+AD481+$L$40))","v":143699.996548486}]
[null,null,null,null,null,null,null,null,null,null,null,null,null,null,null,null,null,{"$f":"(G$5*((90/$G$35)*(90/$G$35))/2)*(1+(SQRT(1+(4/(G$5*((90/$G$35)*(90/$G$35))))*$G$40*(1-(SQRT(2)*Vin_rms_min*(SIN($Q167)/Vout))))))","v":0.250618905676837},{"$f":"(H$5*((90/$G$35)*(90/$G$35))/2)*(1+(SQRT(1+(4/(H$5*((90/$G$35)*(90/$G$35))))*$H$40*(1-(SQRT(2)*Vin_rms_min*(SIN($Q167)/Vout))))))","v":0.244935131569022},{"$f":"(I$5*((90/$G$35)*(90/$G$35))/2)*(1+(SQRT(1+(4/(I$5*((90/$G$35)*(90/$G$35))))*$I$40*(1-(SQRT(2)*Vin_rms_min*(SIN($Q167)/Vout))))))","v":0.241589207854751},{"$f":"(J$5*((90/$G$35)*(90/$G$35))/2)*(1+(SQRT(1+(4/(J$5*((90/$G$35)*(90/$G$35))))*$J$40*(1-(SQRT(2)*Vin_rms_min*(SIN($Q167)/Vout))))))","v":0.215198182359092},{"$f":"(K$5*((90/$G$35)*(90/$G$35))/2)*(1+(SQRT(1+(4/(K$5*((90/$G$35)*(90/$G$35))))*$K$40*(1-(SQRT(2)*Vin_rms_min*(SIN($Q167)/Vout))))))","v":0.298163788127197},{"$f":"(L$5*((90/$G$35)*(90/$G$35))/2)*(1+(SQRT(1+(4/(L$5*((90/$G$35)*(90/$G$35))))*$L$40*(1-(SQRT(2)*Vin_rms_min*(SIN($Q167)/Vout))))))","v":0.39755171750293},null,{"$f":"R482*ABS(1/(Vout/(SQRT(2)*$C$26*SIN($Q167))))","v":0.092080644400266},{"$f":"S482*ABS(1/(Vout/(SQRT(2)*$C$26*SIN($Q167))))","v":0.0899923518947199},{"$f":"T482*ABS(1/(Vout/(SQRT(2)*$C$26*SIN($Q167))))","v":0.0887630160196304},{"$f":"U482*ABS(1/(Vout/(SQRT(2)*$C$26*SIN($Q167))))","v":0.0790666101261433},{"$f":"V482*ABS(1/(Vout/(SQRT(2)*$C$26*SIN($Q167))))","v":0.109549252373558},{"$f":"W482*ABS(1/(Vout/(SQRT(2)*$C$26*SIN($Q167))))","v":0.146065669831411},null,{"$f":"1/(0.0000128*(R482+Y482+$G$40))","v":34390.5513373669},{"$f":"1/(0.0000128*(S482+Z482+$H$40))","v":72713.1436996943},{"$f":"1/(0.0000128*(T482+AA482+$I$40))","v":93905.6327491664},{"$f":"1/(0.0000128*(U482+AB482+$J$40))","v":244091.202263691},{"$f":"1/(0.0000128*(V482+AC482+$K$40))","v":191617.613957225},{"$f":"1/(0.0000128*(W482+AD482+$L$40))","v":143713.210467918}]
[null,null,null,null,null,null,null,null,null,null,null,null,null,null,null,null,null,{"$f":"(G$5*((90/$G$35)*(90/$G$35))/2)*(1+(SQRT(1+(4/(G$5*((90/$G$35)*(90/$G$35))))*$G$40*(1-(SQRT(2)*Vin_rms_min*(SIN($Q168)/Vout))))))","v":0.250641751235424},{"$f":"(H$5*((90/$G$35)*(90/$G$35))/2)*(1+(SQRT(1+(4/(H$5*((90/$G$35)*(90/$G$35))))*$H$40*(1-(SQRT(2)*Vin_rms_min*(SIN($Q168)/Vout))))))","v":0.244954829871952},{"$f":"(I$5*((90/$G$35)*(90/$G$35))/2)*(1+(SQRT(1+(4/(I$5*((90/$G$35)*(90/$G$35))))*$I$40*(1-(SQRT(2)*Vin_rms_min*(SIN($Q168)/Vout))))))","v":0.241607065720141},{"$f":"(J$5*((90/$G$35)*(90/$G$35))/2)*(1+(SQRT(1+(4/(J$5*((90/$G$35)*(90/$G$35))))*$J$40*(1-(SQRT(2)*Vin_rms_min*(SIN($Q168)/Vout))))))","v":0.215201226420558},{"$f":"(K$5*((90/$G$35)*(90/$G$35))/2)*(1+(SQRT(1+(4/(K$5*((90/$G$35)*(90/$G$35))))*$K$40*(1-(SQRT(2)*Vin_rms_min*(SIN($Q168)/Vout))))))","v":0.298163788127197},{"$f":"(L$5*((90/$G$35)*(90/$G$35))/2)*(1+(SQRT(1+(4/(L$5*((90/$G$35)*(90/$G$35))))*$L$40*(1-(SQRT(2)*Vin_rms_min*(SIN($Q168)/Vout))))))","v":0.39755171750293},null,{"$f":"R483*ABS(1/(Vout/(SQRT(2)*$C$26*SIN($Q168))))","v":0.0920483135515016},{"$f":"S483*ABS(1/(Vout/(SQRT(2)*$C$26*SIN($Q168))))","v":0.0899597887218299},{"$f":"T483*ABS(1/(Vout/(SQRT(2)*$C$26*SIN($Q168))))","v":0.0887303205952168},{"$f":"U483*ABS(1/(Vout/(SQRT(2)*$C$26*SIN($Q168))))","v":0.0790327623733404},{"$f":"V483*ABS(1/(Vout/(SQRT(2)*$C$26*SIN($Q168))))","v":0.109500806325984},{"$f":"W483*ABS(1/(Vout/(SQRT(2)*$C$26*SIN($Q168))))","v":0.146001075101313},null,{"$f":"1/(0.0000128*(R483+Y483+$G$40))","v":34390.6949328177},{"$f":"1/(0.0000128*(S483+Z483+$H$40))","v":72714.0143553256},{"$f":"1/(0.0000128*(T483+AA483+$I$40))","v":93907.3075511306},{"$f":"1/(0.0000128*(U483+AB483+$J$40))","v":244114.696362181},{"$f":"1/(0.0000128*(V483+AC483+$K$40))","v":191640.385412406},{"$f":"1/(0.0000128*(W483+AD483+$L$40))","v":143730.289059305}]
[null,null,null,null,null,null,null,null,null,null,null,null,null,null,null,null,null,{"$f":"(G$5*((90/$G$35)*(90/$G$35))/2)*(1+(SQRT(1+(4/(G$5*((90/$G$35)*(90/$G$35))))*$G$40*(1-(SQRT(2)*Vin_rms_min*(SIN($Q169)/Vout))))))","v":0.250669757362044},{"$f":"(H$5*((90/$G$35)*(90/$G$35))/2)*(1+(SQRT(1+(4/(H$5*((90/$G$35)*(90/$G$35))))*$H$40*(1-(SQRT(2)*Vin_rms_min*(SIN($Q169)/Vout))))))","v":0.244978977892151},{"$f":"(I$5*((90/$G$35)*(90/$G$35))/2)*(1+(SQRT(1+(4/(I$5*((90/$G$35)*(90/$G$35))))*$I$40*(1-(SQRT(2)*Vin_rms_min*(SIN($Q169)/Vout))))))","v":0.241628957631767},{"$f":"(J$5*((90/$G$35)*(90/$G$35))/2)*(1+(SQRT(1+(4/(J$5*((90/$G$35)*(90/$G$35))))*$J$40*(1-(SQRT(2)*Vin_rms_min*(SIN($Q169)/Vout))))))","v":0.215204958405046},{"$f":"(K$5*((90/$G$35)*(90/$G$35))/2)*(1+(SQRT(1+(4/(K$5*((90/$G$35)*(90/$G$35))))*$K$40*(1-(SQRT(2)*Vin_rms_min*(SIN($Q169)/Vout))))))","v":0.298163788127197},{"$f":"(L$5*((90/$G$35)*(90/$G$35))/2)*(1+(SQRT(1+(4/(L$5*((90/$G$35)*(90/$G$35))))*$L$40*(1-(SQRT(2)*Vin_rms_min*(SIN($Q169)/Vout))))))","v":0.39755171750293},null,{"$f":"R484*ABS(1/(Vout/(SQRT(2)*$C$26*SIN($Q169))))","v":0.0920086638784166},{"$f":"S484*ABS(1/(Vout/(SQRT(2)*$C$26*SIN($Q169))))","v":0.0899198557949774},{"$f":"T484*ABS(1/(Vout/(SQRT(2)*$C$26*SIN($Q169))))","v":0.0886902264556937},{"$f":"U484*ABS(1/(Vout/(SQRT(2)*$C$26*SIN($Q169))))","v":0.0789912628122116},{"$f":"V484*ABS(1/(Vout/(SQRT(2)*$C$26*SIN($Q169))))","v":0.109441410289029},{"$f":"W484*ABS(1/(Vout/(SQRT(2)*$C$26*SIN($Q169))))","v":0.145921880385372},null,{"$f":"1/(0.0000128*(R484+Y484+$G$40))","v":34390.8712032135},{"$f":"1/(0.0000128*(S484+Z484+$H$40))","v":72715.0826587275},{"$f":"1/(0.0000128*(T484+AA484+$I$40))","v":93909.3622245242},{"$f":"1/(0.0000128*(U484+AB484+$J$40))","v":244143.508016483},{"$f":"1/(0.0000128*(V484+AC484+$K$40))","v":191668.311158835},{"$f":"1/(0.0000128*(W484+AD484+$L$40))","v":143751.233369126}]
[null,null,null,null,null,null,null,null,null,null,null,null,null,null,null,null,null,{"$f":"(G$5*((90/$G$35)*(90/$G$35))/2)*(1+(SQRT(1+(4/(G$5*((90/$G$35)*(90/$G$35))))*$G$40*(1-(SQRT(2)*Vin_rms_min*(SIN($Q170)/Vout))))))","v":0.250702919378278},{"$f":"(H$5*((90/$G$35)*(90/$G$35))/2)*(1+(SQRT(1+(4/(H$5*((90/$G$35)*(90/$G$35))))*$H$40*(1-(SQRT(2)*Vin_rms_min*(SIN($Q170)/Vout))))))","v":0.245007571644782},{"$f":"(I$5*((90/$G$35)*(90/$G$35))/2)*(1+(SQRT(1+(4/(I$5*((90/$G$35)*(90/$G$35))))*$I$40*(1-(SQRT(2)*Vin_rms_min*(SIN($Q170)/Vout))))))","v":0.241654880020708},{"$f":"(J$5*((90/$G$35)*(90/$G$35))/2)*(1+(SQRT(1+(4/(J$5*((90/$G$35)*(90/$G$35))))*$J$40*(1-(SQRT(2)*Vin_rms_min*(SIN($Q170)/Vout))))))","v":0.215209377872884},{"$f":"(K$5*((90/$G$35)*(90/$G$35))/2)*(1+(SQRT(1+(4/(K$5*((90/$G$35)*(90/$G$35))))*$K$40*(1-(SQRT(2)*Vin_rms_min*(SIN($Q170)/Vout))))))","v":0.298163788127197},{"$f":"(L$5*((90/$G$35)*(90/$G$35))/2)*(1+(SQRT(1+(4/(L$5*((90/$G$35)*(90/$G$35))))*$L$40*(1-(SQRT(2)*Vin_rms_min*(SIN($Q170)/Vout))))))","v":0.39755171750293},null,{"$f":"R485*ABS(1/(Vout/(SQRT(2)*$C$26*SIN($Q170))))","v":0.091961692489405},{"$f":"S485*ABS(1/(Vout/(SQRT(2)*$C$26*SIN($Q170))))","v":0.0898725512134004},{"$f":"T485*ABS(1/(Vout/(SQRT(2)*$C$26*SIN($Q170))))","v":0.0886427322830527},{"$f":"U485*ABS(1/(Vout/(SQRT(2)*$C$26*SIN($Q170))))","v":0.0789421147462598},{"$f":"V485*ABS(1/(Vout/(SQRT(2)*$C$26*SIN($Q170))))","v":0.109371070202245},{"$f":"W485*ABS(1/(Vout/(SQRT(2)*$C$26*SIN($Q170))))","v":0.145828093602993},null,{"$f":"1/(0.0000128*(R485+Y485+$G$40))","v":34391.0802641629},{"$f":"1/(0.0000128*(S485+Z485+$H$40))","v":72716.349025672},{"$f":"1/(0.0000128*(T485+AA485+$I$40))","v":93911.7973708924},{"$f":"1/(0.0000128*(U485+AB485+$J$40))","v":244177.638805381},{"$f":"1/(0.0000128*(V485+AC485+$K$40))","v":191701.392907218},{"$f":"1/(0.0000128*(W485+AD485+$L$40))","v":143776.044680414}]
[null,null,null,null,null,null,null,null,null,null,null,null,null,null,null,null,null,{"$f":"(G$5*((90/$G$35)*(90/$G$35))/2)*(1+(SQRT(1+(4/(G$5*((90/$G$35)*(90/$G$35))))*$G$40*(1-(SQRT(2)*Vin_rms_min*(SIN($Q171)/Vout))))))","v":0.250741231746914},{"$f":"(H$5*((90/$G$35)*(90/$G$35))/2)*(1+(SQRT(1+(4/(H$5*((90/$G$35)*(90/$G$35))))*$H$40*(1-(SQRT(2)*Vin_rms_min*(SIN($Q171)/Vout))))))","v":0.245040606413444},{"$f":"(I$5*((90/$G$35)*(90/$G$35))/2)*(1+(SQRT(1+(4/(I$5*((90/$G$35)*(90/$G$35))))*$I$40*(1-(SQRT(2)*Vin_rms_min*(SIN($Q171)/Vout))))))","v":0.241684828662754},{"$f":"(J$5*((90/$G$35)*(90/$G$35))/2)*(1+(SQRT(1+(4/(J$5*((90/$G$35)*(90/$G$35))))*$J$40*(1-(SQRT(2)*Vin_rms_min*(SIN($Q171)/Vout))))))","v":0.215214484303462},{"$f":"(K$5*((90/$G$35)*(90/$G$35))/2)*(1+(SQRT(1+(4/(K$5*((90/$G$35)*(90/$G$35))))*$K$40*(1-(SQRT(2)*Vin_rms_min*(SIN($Q171)/Vout))))))","v":0.298163788127197},{"$f":"(L$5*((90/$G$35)*(90/$G$35))/2)*(1+(SQRT(1+(4/(L$5*((90/$G$35)*(90/$G$35))))*$L$40*(1-(SQRT(2)*Vin_rms_min*(SIN($Q171)/Vout))))))","v":0.39755171750293},null,{"$f":"R486*ABS(1/(Vout/(SQRT(2)*$C$26*SIN($Q171))))","v":0.0919073959694414},{"$f":"S486*ABS(1/(Vout/(SQRT(2)*$C$26*SIN($Q171))))","v":0.0898178727340866},{"$f":"T486*ABS(1/(Vout/(SQRT(2)*$C$26*SIN($Q171))))","v":0.0885878365235703},{"$f":"U486*ABS(1/(Vout/(SQRT(2)*$C$26*SIN($Q171))))","v":0.0788853220885593},{"$f":"V486*ABS(1/(Vout/(SQRT(2)*$C$26*SIN($Q171))))","v":0.109289793099583},{"$f":"W486*ABS(1/(Vout/(SQRT(2)*$C$26*SIN($Q171))))","v":0.145719724132778},null,{"$f":"1/(0.0000128*(R486+Y486+$G$40))","v":34391.3222523932},{"$f":"1/(0.0000128*(S486+Z486+$H$40))","v":72717.813947901},{"$f":"1/(0.0000128*(T486+AA486+$I$40))","v":93914.6137017274},{"$f":"1/(0.0000128*(U486+AB486+$J$40))","v":244217.090598241},{"$f":"1/(0.0000128*(V486+AC486+$K$40))","v":191739.632683501},{"$f":"1/(0.0000128*(W486+AD486+$L$40))","v":143804.724512626}]
[null,null,null,null,null,null,null,null,null,null,null,null,null,null,null,null,null,{"$f":"(G$5*((90/$G$35)*(90/$G$35))/2)*(1+(SQRT(1+(4/(G$5*((90/$G$35)*(90/$G$35))))*$G$40*(1-(SQRT(2)*Vin_rms_min*(SIN($Q172)/Vout))))))","v":0.25078468807413},{"$f":"(H$5*((90/$G$35)*(90/$G$35))/2)*(1+(SQRT(1+(4/(H$5*((90/$G$35)*(90/$G$35))))*$H$40*(1-(SQRT(2)*Vin_rms_min*(SIN($Q172)/Vout))))))","v":0.245078076751989},{"$f":"(I$5*((90/$G$35)*(90/$G$35))/2)*(1+(SQRT(1+(4/(I$5*((90/$G$35)*(90/$G$35))))*$I$40*(1-(SQRT(2)*Vin_rms_min*(SIN($Q172)/Vout))))))","v":0.241718798679996},{"$f":"(J$5*((90/$G$35)*(90/$G$35))/2)*(1+(SQRT(1+(4/(J$5*((90/$G$35)*(90/$G$35))))*$J$40*(1-(SQRT(2)*Vin_rms_min*(SIN($Q172)/Vout))))))","v":0.215220277095324},{"$f":"(K$5*((90/$G$35)*(90/$G$35))/2)*(1+(SQRT(1+(4/(K$5*((90/$G$35)*(90/$G$35))))*$K$40*(1-(SQRT(2)*Vin_rms_min*(SIN($Q172)/Vout))))))","v":0.298163788127197},{"$f":"(L$5*((90/$G$35)*(90/$G$35))/2)*(1+(SQRT(1+(4/(L$5*((90/$G$35)*(90/$G$35))))*$L$40*(1-(SQRT(2)*Vin_rms_min*(SIN($Q172)/Vout))))))","v":0.39755171750293},null,{"$f":"R487*ABS(1/(Vout/(SQRT(2)*$C$26*SIN($Q172))))","v":0.0918457703851581},{"$f":"S487*ABS(1/(Vout/(SQRT(2)*$C$26*SIN($Q172))))","v":0.0897558177760268},{"$f":"T487*ABS(1/(Vout/(SQRT(2)*$C$26*SIN($Q172))))","v":0.0885255373915684},{"$f":"U487*ABS(1/(Vout/(SQRT(2)*$C$26*SIN($Q172))))","v":0.0788208893618109},{"$f":"V487*ABS(1/(Vout/(SQRT(2)*$C$26*SIN($Q172))))","v":0.109197587108686},{"$f":"W487*ABS(1/(Vout/(SQRT(2)*$C$26*SIN($Q172))))","v":0.145596782811582},null,{"$f":"1/(0.0000128*(R487+Y487+$G$40))","v":34391.597325644},{"$f":"1/(0.0000128*(S487+Z487+$H$40))","v":72719.4779927542},{"$f":"1/(0.0000128*(T487+AA487+$I$40))","v":93917.812037947},{"$f":"1/(0.0000128*(U487+AB487+$J$40))","v":244261.865554665},{"$f":"1/(0.0000128*(V487+AC487+$K$40))","v":191783.032828681},{"$f":"1/(0.0000128*(W487+AD487+$L$40))","v":143837.274621511}]
[null,null,null,null,null,null,null,null,null,null,null,null,null,null,null,null,null,{"$f":"(G$5*((90/$G$35)*(90/$G$35))/2)*(1+(SQRT(1+(4/(G$5*((90/$G$35)*(90/$G$35))))*$G$40*(1-(SQRT(2)*Vin_rms_min*(SIN($Q173)/Vout))))))","v":0.250833281112009},{"$f":"(H$5*((90/$G$35)*(90/$G$35))/2)*(1+(SQRT(1+(4/(H$5*((90/$G$35)*(90/$G$35))))*$H$40*(1-(SQRT(2)*Vin_rms_min*(SIN($Q173)/Vout))))))","v":0.245119976486611},{"$f":"(I$5*((90/$G$35)*(90/$G$35))/2)*(1+(SQRT(1+(4/(I$5*((90/$G$35)*(90/$G$35))))*$I$40*(1-(SQRT(2)*Vin_rms_min*(SIN($Q173)/Vout))))))","v":0.241756784542661},{"$f":"(J$5*((90/$G$35)*(90/$G$35))/2)*(1+(SQRT(1+(4/(J$5*((90/$G$35)*(90/$G$35))))*$J$40*(1-(SQRT(2)*Vin_rms_min*(SIN($Q173)/Vout))))))","v":0.215226755566273},{"$f":"(K$5*((90/$G$35)*(90/$G$35))/2)*(1+(SQRT(1+(4/(K$5*((90/$G$35)*(90/$G$35))))*$K$40*(1-(SQRT(2)*Vin_rms_min*(SIN($Q173)/Vout))))))","v":0.298163788127197},{"$f":"(L$5*((90/$G$35)*(90/$G$35))/2)*(1+(SQRT(1+(4/(L$5*((90/$G$35)*(90/$G$35))))*$L$40*(1-(SQRT(2)*Vin_rms_min*(SIN($Q173)/Vout))))))","v":0.39755171750293},null,{"$f":"R488*ABS(1/(Vout/(SQRT(2)*$C$26*SIN($Q173))))","v":0.0917768112907003},{"$f":"S488*ABS(1/(Vout/(SQRT(2)*$C$26*SIN($Q173))))","v":0.0896863834251201},{"$f":"T488*ABS(1/(Vout/(SQRT(2)*$C$26*SIN($Q173))))","v":0.0884558328737505},{"$f":"U488*ABS(1/(Vout/(SQRT(2)*$C$26*SIN($Q173))))","v":0.0787488216984051},{"$f":"V488*ABS(1/(Vout/(SQRT(2)*$C$26*SIN($Q173))))","v":0.109094461450076},{"$f":"W488*ABS(1/(Vout/(SQRT(2)*$C$26*SIN($Q173))))","v":0.145459281933435},null,{"$f":"1/(0.0000128*(R488+Y488+$G$40))","v":34391.9056625454},{"$f":"1/(0.0000128*(S488+Z488+$H$40))","v":72721.3418027415},{"$f":"1/(0.0000128*(T488+AA488+$I$40))","v":93921.3933092939},{"$f":"1/(0.0000128*(U488+AB488+$J$40))","v":244311.966124092},{"$f":"1/(0.0000128*(V488+AC488+$K$40))","v":191831.595998589},{"$f":"1/(0.0000128*(W488+AD488+$L$40))","v":143873.696998942}]
[null,null,null,null,null,null,null,null,null,null,null,null,null,null,null,null,null,{"$f":"(G$5*((90/$G$35)*(90/$G$35))/2)*(1+(SQRT(1+(4/(G$5*((90/$G$35)*(90/$G$35))))*$G$40*(1-(SQRT(2)*Vin_rms_min*(SIN($Q174)/Vout))))))","v":0.250887002761395},{"$f":"(H$5*((90/$G$35)*(90/$G$35))/2)*(1+(SQRT(1+(4/(H$5*((90/$G$35)*(90/$G$35))))*$H$40*(1-(SQRT(2)*Vin_rms_min*(SIN($Q174)/Vout))))))","v":0.245166298718221},{"$f":"(I$5*((90/$G$35)*(90/$G$35))/2)*(1+(SQRT(1+(4/(I$5*((90/$G$35)*(90/$G$35))))*$I$40*(1-(SQRT(2)*Vin_rms_min*(SIN($Q174)/Vout))))))","v":0.24179878007118},{"$f":"(J$5*((90/$G$35)*(90/$G$35))/2)*(1+(SQRT(1+(4/(J$5*((90/$G$35)*(90/$G$35))))*$J$40*(1-(SQRT(2)*Vin_rms_min*(SIN($Q174)/Vout))))))","v":0.21523391895349},{"$f":"(K$5*((90/$G$35)*(90/$G$35))/2)*(1+(SQRT(1+(4/(K$5*((90/$G$35)*(90/$G$35))))*$K$40*(1-(SQRT(2)*Vin_rms_min*(SIN($Q174)/Vout))))))","v":0.298163788127197},{"$f":"(L$5*((90/$G$35)*(90/$G$35))/2)*(1+(SQRT(1+(4/(L$5*((90/$G$35)*(90/$G$35))))*$L$40*(1-(SQRT(2)*Vin_rms_min*(SIN($Q174)/Vout))))))","v":0.39755171750293},null,{"$f":"R489*ABS(1/(Vout/(SQRT(2)*$C$26*SIN($Q174))))","v":0.0917005137343539},{"$f":"S489*ABS(1/(Vout/(SQRT(2)*$C$26*SIN($Q174))))","v":0.0896095664397261},{"$f":"T489*ABS(1/(Vout/(SQRT(2)*$C$26*SIN($Q174))))","v":0.0883787207341103},{"$f":"U489*ABS(1/(Vout/(SQRT(2)*$C$26*SIN($Q174))))","v":0.0786691248404931},{"$f":"V489*ABS(1/(Vout/(SQRT(2)*$C$26*SIN($Q174))))","v":0.108980426436232},{"$f":"W489*ABS(1/(Vout/(SQRT(2)*$C$26*SIN($Q174))))","v":0.14530723524831},null,{"$f":"1/(0.0000128*(R489+Y489+$G$40))","v":34392.247462479},{"$f":"1/(0.0000128*(S489+Z489+$H$40))","v":72723.4060950569},{"$f":"1/(0.0000128*(T489+AA489+$I$40))","v":93925.358553655},{"$f":"1/(0.0000128*(U489+AB489+$J$40))","v":244367.395045334},{"$f":"1/(0.0000128*(V489+AC489+$K$40))","v":191885.325163644},{"$f":"1/(0.0000128*(W489+AD489+$L$40))","v":143913.993872733}]
[null,null,null,null,null,null,null,null,null,null,null,null,null,null,null,null,null,{"$f":"(G$5*((90/$G$35)*(90/$G$35))/2)*(1+(SQRT(1+(4/(G$5*((90/$G$35)*(90/$G$35))))*$G$40*(1-(SQRT(2)*Vin_rms_min*(SIN($Q175)/Vout))))))","v":0.250945844075068},{"$f":"(H$5*((90/$G$35)*(90/$G$35))/2)*(1+(SQRT(1+(4/(H$5*((90/$G$35)*(90/$G$35))))*$H$40*(1-(SQRT(2)*Vin_rms_min*(SIN($Q175)/Vout))))))","v":0.245217035825091},{"$f":"(I$5*((90/$G$35)*(90/$G$35))/2)*(1+(SQRT(1+(4/(I$5*((90/$G$35)*(90/$G$35))))*$I$40*(1-(SQRT(2)*Vin_rms_min*(SIN($Q175)/Vout))))))","v":0.241844778438501},{"$f":"(J$5*((90/$G$35)*(90/$G$35))/2)*(1+(SQRT(1+(4/(J$5*((90/$G$35)*(90/$G$35))))*$J$40*(1-(SQRT(2)*Vin_rms_min*(SIN($Q175)/Vout))))))","v":0.215241766413665},{"$f":"(K$5*((90/$G$35)*(90/$G$35))/2)*(1+(SQRT(1+(4/(K$5*((90/$G$35)*(90/$G$35))))*$K$40*(1-(SQRT(2)*Vin_rms_min*(SIN($Q175)/Vout))))))","v":0.298163788127197},{"$f":"(L$5*((90/$G$35)*(90/$G$35))/2)*(1+(SQRT(1+(4/(L$5*((90/$G$35)*(90/$G$35))))*$L$40*(1-(SQRT(2)*Vin_rms_min*(SIN($Q175)/Vout))))))","v":0.39755171750293},null,{"$f":"R490*ABS(1/(Vout/(SQRT(2)*$C$26*SIN($Q175))))","v":0.09161687226594},{"$f":"S490*ABS(1/(Vout/(SQRT(2)*$C$26*SIN($Q175))))","v":0.0895253632568598},{"$f":"T490*ABS(1/(Vout/(SQRT(2)*$C$26*SIN($Q175))))","v":0.0882941985194089},{"$f":"U490*ABS(1/(Vout/(SQRT(2)*$C$26*SIN($Q175))))","v":0.0785818051400646},{"$f":"V490*ABS(1/(Vout/(SQRT(2)*$C$26*SIN($Q175))))","v":0.108855493470562},{"$f":"W490*ABS(1/(Vout/(SQRT(2)*$C$26*SIN($Q175))))","v":0.145140657960749},null,{"$f":"1/(0.0000128*(R490+Y490+$G$40))","v":34392.6229454242},{"$f":"1/(0.0000128*(S490+Z490+$H$40))","v":72725.6716610383},{"$f":"1/(0.0000128*(T490+AA490+$I$40))","v":93929.7089163028},{"$f":"1/(0.0000128*(U490+AB490+$J$40))","v":244428.155346068},{"$f":"1/(0.0000128*(V490+AC490+$K$40))","v":191944.22360857},{"$f":"1/(0.0000128*(W490+AD490+$L$40))","v":143958.167706428}]
[null,null,null,null,null,null,null,null,null,null,null,null,null,null,null,null,null,{"$f":"(G$5*((90/$G$35)*(90/$G$35))/2)*(1+(SQRT(1+(4/(G$5*((90/$G$35)*(90/$G$35))))*$G$40*(1-(SQRT(2)*Vin_rms_min*(SIN($Q176)/Vout))))))","v":0.251009795261253},{"$f":"(H$5*((90/$G$35)*(90/$G$35))/2)*(1+(SQRT(1+(4/(H$5*((90/$G$35)*(90/$G$35))))*$H$40*(1-(SQRT(2)*Vin_rms_min*(SIN($Q176)/Vout))))))","v":0.245272179465766},{"$f":"(I$5*((90/$G$35)*(90/$G$35))/2)*(1+(SQRT(1+(4/(I$5*((90/$G$35)*(90/$G$35))))*$I$40*(1-(SQRT(2)*Vin_rms_min*(SIN($Q176)/Vout))))))","v":0.24189477217264},{"$f":"(J$5*((90/$G$35)*(90/$G$35))/2)*(1+(SQRT(1+(4/(J$5*((90/$G$35)*(90/$G$35))))*$J$40*(1-(SQRT(2)*Vin_rms_min*(SIN($Q176)/Vout))))))","v":0.215250297023144},{"$f":"(K$5*((90/$G$35)*(90/$G$35))/2)*(1+(SQRT(1+(4/(K$5*((90/$G$35)*(90/$G$35))))*$K$40*(1-(SQRT(2)*Vin_rms_min*(SIN($Q176)/Vout))))))","v":0.298163788127197},{"$f":"(L$5*((90/$G$35)*(90/$G$35))/2)*(1+(SQRT(1+(4/(L$5*((90/$G$35)*(90/$G$35))))*$L$40*(1-(SQRT(2)*Vin_rms_min*(SIN($Q176)/Vout))))))","v":0.39755171750293},null,{"$f":"R491*ABS(1/(Vout/(SQRT(2)*$C$26*SIN($Q176))))","v":0.0915258809449693},{"$f":"S491*ABS(1/(Vout/(SQRT(2)*$C$26*SIN($Q176))))","v":0.0894337699990233},{"$f":"T491*ABS(1/(Vout/(SQRT(2)*$C$26*SIN($Q176))))","v":0.0882022635652143},{"$f":"U491*ABS(1/(Vout/(SQRT(2)*$C$26*SIN($Q176))))","v":0.0784868695590332},{"$f":"V491*ABS(1/(Vout/(SQRT(2)*$C$26*SIN($Q176))))","v":0.108719675046257},{"$f":"W491*ABS(1/(Vout/(SQRT(2)*$C$26*SIN($Q176))))","v":0.144959566728343},null,{"$f":"1/(0.0000128*(R491+Y491+$G$40))","v":34393.0323517875},{"$f":"1/(0.0000128*(S491+Z491+$H$40))","v":72728.1393655704},{"$f":"1/(0.0000128*(T491+AA491+$I$40))","v":93934.4456490579},{"$f":"1/(0.0000128*(U491+AB491+$J$40))","v":244494.250342262},{"$f":"1/(0.0000128*(V491+AC491+$K$40))","v":192008.294932093},{"$f":"1/(0.0000128*(W491+AD491+$L$40))","v":144006.22119907}]
[null,null,null,null,null,null,null,null,null,null,null,null,null,null,null,null,null,{"$f":"(G$5*((90/$G$35)*(90/$G$35))/2)*(1+(SQRT(1+(4/(G$5*((90/$G$35)*(90/$G$35))))*$G$40*(1-(SQRT(2)*Vin_rms_min*(SIN($Q177)/Vout))))))","v":0.251078845687445},{"$f":"(H$5*((90/$G$35)*(90/$G$35))/2)*(1+(SQRT(1+(4/(H$5*((90/$G$35)*(90/$G$35))))*$H$40*(1-(SQRT(2)*Vin_rms_min*(SIN($Q177)/Vout))))))","v":0.245331720582252},{"$f":"(I$5*((90/$G$35)*(90/$G$35))/2)*(1+(SQRT(1+(4/(I$5*((90/$G$35)*(90/$G$35))))*$I$40*(1-(SQRT(2)*Vin_rms_min*(SIN($Q177)/Vout))))))","v":0.241948753159465},{"$f":"(J$5*((90/$G$35)*(90/$G$35))/2)*(1+(SQRT(1+(4/(J$5*((90/$G$35)*(90/$G$35))))*$J$40*(1-(SQRT(2)*Vin_rms_min*(SIN($Q177)/Vout))))))","v":0.21525950977809},{"$f":"(K$5*((90/$G$35)*(90/$G$35))/2)*(1+(SQRT(1+(4/(K$5*((90/$G$35)*(90/$G$35))))*$K$40*(1-(SQRT(2)*Vin_rms_min*(SIN($Q177)/Vout))))))","v":0.298163788127197},{"$f":"(L$5*((90/$G$35)*(90/$G$35))/2)*(1+(SQRT(1+(4/(L$5*((90/$G$35)*(90/$G$35))))*$L$40*(1-(SQRT(2)*Vin_rms_min*(SIN($Q177)/Vout))))))","v":0.39755171750293},null,{"$f":"R492*ABS(1/(Vout/(SQRT(2)*$C$26*SIN($Q177))))","v":0.0914275333495482},{"$f":"S492*ABS(1/(Vout/(SQRT(2)*$C$26*SIN($Q177))))","v":0.089334782481667},{"$f":"T492*ABS(1/(Vout/(SQRT(2)*$C$26*SIN($Q177))))","v":0.0881029130024982},{"$f":"U492*ABS(1/(Vout/(SQRT(2)*$C$26*SIN($Q177))))","v":0.0783843256693285},{"$f":"V492*ABS(1/(Vout/(SQRT(2)*$C$26*SIN($Q177))))","v":0.108572984745047},{"$f":"W492*ABS(1/(Vout/(SQRT(2)*$C$26*SIN($Q177))))","v":0.144763979660063},null,{"$f":"1/(0.0000128*(R492+Y492+$G$40))","v":34393.4759422164},{"$f":"1/(0.0000128*(S492+Z492+$H$40))","v":72730.8101464332},{"$f":"1/(0.0000128*(T492+AA492+$I$40))","v":93939.5701093746},{"$f":"1/(0.0000128*(U492+AB492+$J$40))","v":244565.683637553},{"$f":"1/(0.0000128*(V492+AC492+$K$40))","v":192077.543046591},{"$f":"1/(0.0000128*(W492+AD492+$L$40))","v":144058.157284943}]
[null,null,null,null,null,null,null,null,null,null,null,null,null,null,null,null,null,{"$f":"(G$5*((90/$G$35)*(90/$G$35))/2)*(1+(SQRT(1+(4/(G$5*((90/$G$35)*(90/$G$35))))*$G$40*(1-(SQRT(2)*Vin_rms_min*(SIN($Q178)/Vout))))))","v":0.251152983884561},{"$f":"(H$5*((90/$G$35)*(90/$G$35))/2)*(1+(SQRT(1+(4/(H$5*((90/$G$35)*(90/$G$35))))*$H$40*(1-(SQRT(2)*Vin_rms_min*(SIN($Q178)/Vout))))))","v":0.245395649403468},{"$f":"(I$5*((90/$G$35)*(90/$G$35))/2)*(1+(SQRT(1+(4/(I$5*((90/$G$35)*(90/$G$35))))*$I$40*(1-(SQRT(2)*Vin_rms_min*(SIN($Q178)/Vout))))))","v":0.242006712645719},{"$f":"(J$5*((90/$G$35)*(90/$G$35))/2)*(1+(SQRT(1+(4/(J$5*((90/$G$35)*(90/$G$35))))*$J$40*(1-(SQRT(2)*Vin_rms_min*(SIN($Q178)/Vout))))))","v":0.215269403594656},{"$f":"(K$5*((90/$G$35)*(90/$G$35))/2)*(1+(SQRT(1+(4/(K$5*((90/$G$35)*(90/$G$35))))*$K$40*(1-(SQRT(2)*Vin_rms_min*(SIN($Q178)/Vout))))))","v":0.298163788127197},{"$f":"(L$5*((90/$G$35)*(90/$G$35))/2)*(1+(SQRT(1+(4/(L$5*((90/$G$35)*(90/$G$35))))*$L$40*(1-(SQRT(2)*Vin_rms_min*(SIN($Q178)/Vout))))))","v":0.39755171750293},null,{"$f":"R493*ABS(1/(Vout/(SQRT(2)*$C$26*SIN($Q178))))","v":0.0913218225860296},{"$f":"S493*ABS(1/(Vout/(SQRT(2)*$C$26*SIN($Q178))))","v":0.0892283962212748},{"$f":"T493*ABS(1/(Vout/(SQRT(2)*$C$26*SIN($Q178))))","v":0.087996143764785},{"$f":"U493*ABS(1/(Vout/(SQRT(2)*$C$26*SIN($Q178))))","v":0.0782741816529939},{"$f":"V493*ABS(1/(Vout/(SQRT(2)*$C$26*SIN($Q178))))","v":0.10841543723584},{"$f":"W493*ABS(1/(Vout/(SQRT(2)*$C$26*SIN($Q178))))","v":0.144553916314453},null,{"$f":"1/(0.0000128*(R493+Y493+$G$40))","v":34393.9539973989},{"$f":"1/(0.0000128*(S493+Z493+$H$40))","v":72733.6850135965},{"$f":"1/(0.0000128*(T493+AA493+$I$40))","v":93945.0837593506},{"$f":"1/(0.0000128*(U493+AB493+$J$40))","v":244642.45912256},{"$f":"1/(0.0000128*(V493+AC493+$K$40))","v":192151.972177727},{"$f":"1/(0.0000128*(W493+AD493+$L$40))","v":144113.979133295}]
[null,null,null,null,null,null,null,null,null,null,null,null,null,null,null,null,null,{"$f":"(G$5*((90/$G$35)*(90/$G$35))/2)*(1+(SQRT(1+(4/(G$5*((90/$G$35)*(90/$G$35))))*$G$40*(1-(SQRT(2)*Vin_rms_min*(SIN($Q179)/Vout))))))","v":0.251232197551401},{"$f":"(H$5*((90/$G$35)*(90/$G$35))/2)*(1+(SQRT(1+(4/(H$5*((90/$G$35)*(90/$G$35))))*$H$40*(1-(SQRT(2)*Vin_rms_min*(SIN($Q179)/Vout))))))","v":0.245463955448955},{"$f":"(I$5*((90/$G$35)*(90/$G$35))/2)*(1+(SQRT(1+(4/(I$5*((90/$G$35)*(90/$G$35))))*$I$40*(1-(SQRT(2)*Vin_rms_min*(SIN($Q179)/Vout))))))","v":0.242068641242259},{"$f":"(J$5*((90/$G$35)*(90/$G$35))/2)*(1+(SQRT(1+(4/(J$5*((90/$G$35)*(90/$G$35))))*$J$40*(1-(SQRT(2)*Vin_rms_min*(SIN($Q179)/Vout))))))","v":0.215279977309171},{"$f":"(K$5*((90/$G$35)*(90/$G$35))/2)*(1+(SQRT(1+(4/(K$5*((90/$G$35)*(90/$G$35))))*$K$40*(1-(SQRT(2)*Vin_rms_min*(SIN($Q179)/Vout))))))","v":0.298163788127197},{"$f":"(L$5*((90/$G$35)*(90/$G$35))/2)*(1+(SQRT(1+(4/(L$5*((90/$G$35)*(90/$G$35))))*$L$40*(1-(SQRT(2)*Vin_rms_min*(SIN($Q179)/Vout))))))","v":0.39755171750293},null,{"$f":"R494*ABS(1/(Vout/(SQRT(2)*$C$26*SIN($Q179))))","v":0.0912087412993987},{"$f":"S494*ABS(1/(Vout/(SQRT(2)*$C$26*SIN($Q179))))","v":0.0891146064440659},{"$f":"T494*ABS(1/(Vout/(SQRT(2)*$C$26*SIN($Q179))))","v":0.0878819525958448},{"$f":"U494*ABS(1/(Vout/(SQRT(2)*$C$26*SIN($Q179))))","v":0.078156446302291},{"$f":"V494*ABS(1/(Vout/(SQRT(2)*$C$26*SIN($Q179))))","v":0.108247048273254},{"$f":"W494*ABS(1/(Vout/(SQRT(2)*$C$26*SIN($Q179))))","v":0.144329397697673},null,{"$f":"1/(0.0000128*(R494+Y494+$G$40))","v":34394.4668178456},{"$f":"1/(0.0000128*(S494+Z494+$H$40))","v":72736.7650484596},{"$f":"1/(0.0000128*(T494+AA494+$I$40))","v":93950.9881646604},{"$f":"1/(0.0000128*(U494+AB494+$J$40))","v":244724.580974146},{"$f":"1/(0.0000128*(V494+AC494+$K$40))","v":192231.586864039},{"$f":"1/(0.0000128*(W494+AD494+$L$40))","v":144173.690148029}]
[null,null,null,null,null,null,null,null,null,null,null,null,null,null,null,null,null,{"$f":"(G$5*((90/$G$35)*(90/$G$35))/2)*(1+(SQRT(1+(4/(G$5*((90/$G$35)*(90/$G$35))))*$G$40*(1-(SQRT(2)*Vin_rms_min*(SIN($Q180)/Vout))))))","v":0.251316473559422},{"$f":"(H$5*((90/$G$35)*(90/$G$35))/2)*(1+(SQRT(1+(4/(H$5*((90/$G$35)*(90/$G$35))))*$H$40*(1-(SQRT(2)*Vin_rms_min*(SIN($Q180)/Vout))))))","v":0.245536627532851},{"$f":"(I$5*((90/$G$35)*(90/$G$35))/2)*(1+(SQRT(1+(4/(I$5*((90/$G$35)*(90/$G$35))))*$I$40*(1-(SQRT(2)*Vin_rms_min*(SIN($Q180)/Vout))))))","v":0.24213452892754},{"$f":"(J$5*((90/$G$35)*(90/$G$35))/2)*(1+(SQRT(1+(4/(J$5*((90/$G$35)*(90/$G$35))))*$J$40*(1-(SQRT(2)*Vin_rms_min*(SIN($Q180)/Vout))))))","v":0.215291229678346},{"$f":"(K$5*((90/$G$35)*(90/$G$35))/2)*(1+(SQRT(1+(4/(K$5*((90/$G$35)*(90/$G$35))))*$K$40*(1-(SQRT(2)*Vin_rms_min*(SIN($Q180)/Vout))))))","v":0.298163788127197},{"$f":"(L$5*((90/$G$35)*(90/$G$35))/2)*(1+(SQRT(1+(4/(L$5*((90/$G$35)*(90/$G$35))))*$L$40*(1-(SQRT(2)*Vin_rms_min*(SIN($Q180)/Vout))))))","v":0.39755171750293},null,{"$f":"R495*ABS(1/(Vout/(SQRT(2)*$C$26*SIN($Q180))))","v":0.0910882816843842},{"$f":"S495*ABS(1/(Vout/(SQRT(2)*$C$26*SIN($Q180))))","v":0.0889934080953031},{"$f":"T495*ABS(1/(Vout/(SQRT(2)*$C$26*SIN($Q180))))","v":0.0877603360579248},{"$f":"U495*ABS(1/(Vout/(SQRT(2)*$C$26*SIN($Q180))))","v":0.078031129019809},{"$f":"V495*ABS(1/(Vout/(SQRT(2)*$C$26*SIN($Q180))))","v":0.108067834696048},{"$f":"W495*ABS(1/(Vout/(SQRT(2)*$C$26*SIN($Q180))))","v":0.144090446261397},null,{"$f":"1/(0.0000128*(R495+Y495+$G$40))","v":34395.0147236591},{"$f":"1/(0.0000128*(S495+Z495+$H$40))","v":72740.0514030392},{"$f":"1/(0.0000128*(T495+AA495+$I$40))","v":93957.2849934145},{"$f":"1/(0.0000128*(U495+AB495+$J$40))","v":244812.053654615},{"$f":"1/(0.0000128*(V495+AC495+$K$40))","v":192316.391956499},{"$f":"1/(0.0000128*(W495+AD495+$L$40))","v":144237.293967375}]
[null,null,null,null,null,null,null,null,null,null,null,null,null,null,null,null,null,{"$f":"(G$5*((90/$G$35)*(90/$G$35))/2)*(1+(SQRT(1+(4/(G$5*((90/$G$35)*(90/$G$35))))*$G$40*(1-(SQRT(2)*Vin_rms_min*(SIN($Q181)/Vout))))))","v":0.251405797957819},{"$f":"(H$5*((90/$G$35)*(90/$G$35))/2)*(1+(SQRT(1+(4/(H$5*((90/$G$35)*(90/$G$35))))*$H$40*(1-(SQRT(2)*Vin_rms_min*(SIN($Q181)/Vout))))))","v":0.245613653768119},{"$f":"(I$5*((90/$G$35)*(90/$G$35))/2)*(1+(SQRT(1+(4/(I$5*((90/$G$35)*(90/$G$35))))*$I$40*(1-(SQRT(2)*Vin_rms_min*(SIN($Q181)/Vout))))))","v":0.24220436505131},{"$f":"(J$5*((90/$G$35)*(90/$G$35))/2)*(1+(SQRT(1+(4/(J$5*((90/$G$35)*(90/$G$35))))*$J$40*(1-(SQRT(2)*Vin_rms_min*(SIN($Q181)/Vout))))))","v":0.215303159379484},{"$f":"(K$5*((90/$G$35)*(90/$G$35))/2)*(1+(SQRT(1+(4/(K$5*((90/$G$35)*(90/$G$35))))*$K$40*(1-(SQRT(2)*Vin_rms_min*(SIN($Q181)/Vout))))))","v":0.298163788127197},{"$f":"(L$5*((90/$G$35)*(90/$G$35))/2)*(1+(SQRT(1+(4/(L$5*((90/$G$35)*(90/$G$35))))*$L$40*(1-(SQRT(2)*Vin_rms_min*(SIN($Q181)/Vout))))))","v":0.39755171750293},null,{"$f":"R496*ABS(1/(Vout/(SQRT(2)*$C$26*SIN($Q181))))","v":0.090960435497285},{"$f":"S496*ABS(1/(Vout/(SQRT(2)*$C$26*SIN($Q181))))","v":0.0888647958492025},{"$f":"T496*ABS(1/(Vout/(SQRT(2)*$C$26*SIN($Q181))))","v":0.0876312905405107},{"$f":"U496*ABS(1/(Vout/(SQRT(2)*$C$26*SIN($Q181))))","v":0.0778982398185782},{"$f":"V496*ABS(1/(Vout/(SQRT(2)*$C$26*SIN($Q181))))","v":0.107877814425427},{"$f":"W496*ABS(1/(Vout/(SQRT(2)*$C$26*SIN($Q181))))","v":0.14383708590057},null,{"$f":"1/(0.0000128*(R496+Y496+$G$40))","v":34395.5980542863},{"$f":"1/(0.0000128*(S496+Z496+$H$40))","v":72743.5452991048},{"$f":"1/(0.0000128*(T496+AA496+$I$40))","v":93963.976014945},{"$f":"1/(0.0000128*(U496+AB496+$J$40))","v":244904.881910859},{"$f":"1/(0.0000128*(V496+AC496+$K$40))","v":192406.392618044},{"$f":"1/(0.0000128*(W496+AD496+$L$40))","v":144304.794463533}]
[null,null,null,null,null,null,null,null,null,null,null,null,null,null,null,null,null,{"$f":"(G$5*((90/$G$35)*(90/$G$35))/2)*(1+(SQRT(1+(4/(G$5*((90/$G$35)*(90/$G$35))))*$G$40*(1-(SQRT(2)*Vin_rms_min*(SIN($Q182)/Vout))))))","v":0.25150015597891},{"$f":"(H$5*((90/$G$35)*(90/$G$35))/2)*(1+(SQRT(1+(4/(H$5*((90/$G$35)*(90/$G$35))))*$H$40*(1-(SQRT(2)*Vin_rms_min*(SIN($Q182)/Vout))))))","v":0.245695021571025},{"$f":"(I$5*((90/$G$35)*(90/$G$35))/2)*(1+(SQRT(1+(4/(I$5*((90/$G$35)*(90/$G$35))))*$I$40*(1-(SQRT(2)*Vin_rms_min*(SIN($Q182)/Vout))))))","v":0.242278138338532},{"$f":"(J$5*((90/$G$35)*(90/$G$35))/2)*(1+(SQRT(1+(4/(J$5*((90/$G$35)*(90/$G$35))))*$J$40*(1-(SQRT(2)*Vin_rms_min*(SIN($Q182)/Vout))))))","v":0.21531576501071},{"$f":"(K$5*((90/$G$35)*(90/$G$35))/2)*(1+(SQRT(1+(4/(K$5*((90/$G$35)*(90/$G$35))))*$K$40*(1-(SQRT(2)*Vin_rms_min*(SIN($Q182)/Vout))))))","v":0.298163788127197},{"$f":"(L$5*((90/$G$35)*(90/$G$35))/2)*(1+(SQRT(1+(4/(L$5*((90/$G$35)*(90/$G$35))))*$L$40*(1-(SQRT(2)*Vin_rms_min*(SIN($Q182)/Vout))))))","v":0.39755171750293},null,{"$f":"R497*ABS(1/(Vout/(SQRT(2)*$C$26*SIN($Q182))))","v":0.0908251940685025},{"$f":"S497*ABS(1/(Vout/(SQRT(2)*$C$26*SIN($Q182))))","v":0.0887287641194329},{"$f":"T497*ABS(1/(Vout/(SQRT(2)*$C$26*SIN($Q182))))","v":0.0874948122696115},{"$f":"U497*ABS(1/(Vout/(SQRT(2)*$C$26*SIN($Q182))))","v":0.0777577893221894},{"$f":"V497*ABS(1/(Vout/(SQRT(2)*$C$26*SIN($Q182))))","v":0.107677006463262},{"$f":"W497*ABS(1/(Vout/(SQRT(2)*$C$26*SIN($Q182))))","v":0.143569341951017},null,{"$f":"1/(0.0000128*(R497+Y497+$G$40))","v":34396.2171682578},{"$f":"1/(0.0000128*(S497+Z497+$H$40))","v":72747.2480272621},{"$f":"1/(0.0000128*(T497+AA497+$I$40))","v":93971.0630985192},{"$f":"1/(0.0000128*(U497+AB497+$J$40))","v":245003.070773435},{"$f":"1/(0.0000128*(V497+AC497+$K$40))","v":192501.594323058},{"$f":"1/(0.0000128*(W497+AD497+$L$40))","v":144376.195742293}]
[null,null,null,null,null,null,null,null,null,null,null,null,null,null,null,null,null,{"$f":"(G$5*((90/$G$35)*(90/$G$35))/2)*(1+(SQRT(1+(4/(G$5*((90/$G$35)*(90/$G$35))))*$G$40*(1-(SQRT(2)*Vin_rms_min*(SIN($Q183)/Vout))))))","v":0.251599532043809},{"$f":"(H$5*((90/$G$35)*(90/$G$35))/2)*(1+(SQRT(1+(4/(H$5*((90/$G$35)*(90/$G$35))))*$H$40*(1-(SQRT(2)*Vin_rms_min*(SIN($Q183)/Vout))))))","v":0.245780717665868},{"$f":"(I$5*((90/$G$35)*(90/$G$35))/2)*(1+(SQRT(1+(4/(I$5*((90/$G$35)*(90/$G$35))))*$I$40*(1-(SQRT(2)*Vin_rms_min*(SIN($Q183)/Vout))))))","v":0.24235583689352},{"$f":"(J$5*((90/$G$35)*(90/$G$35))/2)*(1+(SQRT(1+(4/(J$5*((90/$G$35)*(90/$G$35))))*$J$40*(1-(SQRT(2)*Vin_rms_min*(SIN($Q183)/Vout))))))","v":0.215329045091215},{"$f":"(K$5*((90/$G$35)*(90/$G$35))/2)*(1+(SQRT(1+(4/(K$5*((90/$G$35)*(90/$G$35))))*$K$40*(1-(SQRT(2)*Vin_rms_min*(SIN($Q183)/Vout))))))","v":0.298163788127197},{"$f":"(L$5*((90/$G$35)*(90/$G$35))/2)*(1+(SQRT(1+(4/(L$5*((90/$G$35)*(90/$G$35))))*$L$40*(1-(SQRT(2)*Vin_rms_min*(SIN($Q183)/Vout))))))","v":0.39755171750293},null,{"$f":"R498*ABS(1/(Vout/(SQRT(2)*$C$26*SIN($Q183))))","v":0.0906825483157649},{"$f":"S498*ABS(1/(Vout/(SQRT(2)*$C$26*SIN($Q183))))","v":0.088585307070196},{"$f":"T498*ABS(1/(Vout/(SQRT(2)*$C$26*SIN($Q183))))","v":0.0873508973175574},{"$f":"U498*ABS(1/(Vout/(SQRT(2)*$C$26*SIN($Q183))))","v":0.0776097887649155},{"$f":"V498*ABS(1/(Vout/(SQRT(2)*$C$26*SIN($Q183))))","v":0.107465430890182},{"$f":"W498*ABS(1/(Vout/(SQRT(2)*$C$26*SIN($Q183))))","v":0.143287241186909},null,{"$f":"1/(0.0000128*(R498+Y498+$G$40))","v":34396.872442912},{"$f":"1/(0.0000128*(S498+Z498+$H$40))","v":72751.1609459864},{"$f":"1/(0.0000128*(T498+AA498+$I$40))","v":93978.5482119808},{"$f":"1/(0.0000128*(U498+AB498+$J$40))","v":245106.62555559},{"$f":"1/(0.0000128*(V498+AC498+$K$40))","v":192602.002856833},{"$f":"1/(0.0000128*(W498+AD498+$L$40))","v":144451.502142624}]
[null,null,null,null,null,null,null,null,null,null,null,null,null,null,null,null,null,{"$f":"(G$5*((90/$G$35)*(90/$G$35))/2)*(1+(SQRT(1+(4/(G$5*((90/$G$35)*(90/$G$35))))*$G$40*(1-(SQRT(2)*Vin_rms_min*(SIN($Q184)/Vout))))))","v":0.251703909768405},{"$f":"(H$5*((90/$G$35)*(90/$G$35))/2)*(1+(SQRT(1+(4/(H$5*((90/$G$35)*(90/$G$35))))*$H$40*(1-(SQRT(2)*Vin_rms_min*(SIN($Q184)/Vout))))))","v":0.245870728089948},{"$f":"(I$5*((90/$G$35)*(90/$G$35))/2)*(1+(SQRT(1+(4/(I$5*((90/$G$35)*(90/$G$35))))*$I$40*(1-(SQRT(2)*Vin_rms_min*(SIN($Q184)/Vout))))))","v":0.242437448204289},{"$f":"(J$5*((90/$G$35)*(90/$G$35))/2)*(1+(SQRT(1+(4/(J$5*((90/$G$35)*(90/$G$35))))*$J$40*(1-(SQRT(2)*Vin_rms_min*(SIN($Q184)/Vout))))))","v":0.215342998061508},{"$f":"(K$5*((90/$G$35)*(90/$G$35))/2)*(1+(SQRT(1+(4/(K$5*((90/$G$35)*(90/$G$35))))*$K$40*(1-(SQRT(2)*Vin_rms_min*(SIN($Q184)/Vout))))))","v":0.298163788127197},{"$f":"(L$5*((90/$G$35)*(90/$G$35))/2)*(1+(SQRT(1+(4/(L$5*((90/$G$35)*(90/$G$35))))*$L$40*(1-(SQRT(2)*Vin_rms_min*(SIN($Q184)/Vout))))))","v":0.39755171750293},null,{"$f":"R499*ABS(1/(Vout/(SQRT(2)*$C$26*SIN($Q184))))","v":0.0905324887580339},{"$f":"S499*ABS(1/(Vout/(SQRT(2)*$C$26*SIN($Q184))))","v":0.0884344186278785},{"$f":"T499*ABS(1/(Vout/(SQRT(2)*$C$26*SIN($Q184))))","v":0.0871995416133035},{"$f":"U499*ABS(1/(Vout/(SQRT(2)*$C$26*SIN($Q184))))","v":0.0774542499918368},{"$f":"V499*ABS(1/(Vout/(SQRT(2)*$C$26*SIN($Q184))))","v":0.107243108863566},{"$f":"W499*ABS(1/(Vout/(SQRT(2)*$C$26*SIN($Q184))))","v":0.142990811818088},null,{"$f":"1/(0.0000128*(R499+Y499+$G$40))","v":34397.564274105},{"$f":"1/(0.0000128*(S499+Z499+$H$40))","v":72755.2854806064},{"$f":"1/(0.0000128*(T499+AA499+$I$40))","v":93986.433420322},{"$f":"1/(0.0000128*(U499+AB499+$J$40))","v":245215.551852221},{"$f":"1/(0.0000128*(V499+AC499+$K$40))","v":192707.624314985},{"$f":"1/(0.0000128*(W499+AD499+$L$40))","v":144530.718236239}]
[null,null,null,null,null,null,null,null,null,null,null,null,null,null,null,null,null,{"$f":"(G$5*((90/$G$35)*(90/$G$35))/2)*(1+(SQRT(1+(4/(G$5*((90/$G$35)*(90/$G$35))))*$G$40*(1-(SQRT(2)*Vin_rms_min*(SIN($Q185)/Vout))))))","v":0.25181327196961},{"$f":"(H$5*((90/$G$35)*(90/$G$35))/2)*(1+(SQRT(1+(4/(H$5*((90/$G$35)*(90/$G$35))))*$H$40*(1-(SQRT(2)*Vin_rms_min*(SIN($Q185)/Vout))))))","v":0.245965038198778},{"$f":"(I$5*((90/$G$35)*(90/$G$35))/2)*(1+(SQRT(1+(4/(I$5*((90/$G$35)*(90/$G$35))))*$I$40*(1-(SQRT(2)*Vin_rms_min*(SIN($Q185)/Vout))))))","v":0.242522959147117},{"$f":"(J$5*((90/$G$35)*(90/$G$35))/2)*(1+(SQRT(1+(4/(J$5*((90/$G$35)*(90/$G$35))))*$J$40*(1-(SQRT(2)*Vin_rms_min*(SIN($Q185)/Vout))))))","v":0.215357622283685},{"$f":"(K$5*((90/$G$35)*(90/$G$35))/2)*(1+(SQRT(1+(4/(K$5*((90/$G$35)*(90/$G$35))))*$K$40*(1-(SQRT(2)*Vin_rms_min*(SIN($Q185)/Vout))))))","v":0.298163788127197},{"$f":"(L$5*((90/$G$35)*(90/$G$35))/2)*(1+(SQRT(1+(4/(L$5*((90/$G$35)*(90/$G$35))))*$L$40*(1-(SQRT(2)*Vin_rms_min*(SIN($Q185)/Vout))))))","v":0.39755171750293},null,{"$f":"R500*ABS(1/(Vout/(SQRT(2)*$C$26*SIN($Q185))))","v":0.0903750055300802},{"$f":"S500*ABS(1/(Vout/(SQRT(2)*$C$26*SIN($Q185))))","v":0.0882760924932647},{"$f":"T500*ABS(1/(Vout/(SQRT(2)*$C$26*SIN($Q185))))","v":0.0870407409532303},{"$f":"U500*ABS(1/(Vout/(SQRT(2)*$C$26*SIN($Q185))))","v":0.0772911854589693},{"$f":"V500*ABS(1/(Vout/(SQRT(2)*$C$26*SIN($Q185))))","v":0.107010062615433},{"$f":"W500*ABS(1/(Vout/(SQRT(2)*$C$26*SIN($Q185))))","v":0.142680083487245},null,{"$f":"1/(0.0000128*(R500+Y500+$G$40))","v":34398.2930759076},{"$f":"1/(0.0000128*(S500+Z500+$H$40))","v":72759.6231222392},{"$f":"1/(0.0000128*(T500+AA500+$I$40))","v":93994.7208841867},{"$f":"1/(0.0000128*(U500+AB500+$J$40))","v":245329.855538773},{"$f":"1/(0.0000128*(V500+AC500+$K$40))","v":192818.465102837},{"$f":"1/(0.0000128*(W500+AD500+$L$40))","v":144613.848827128}]
[null,null,null,null,null,null,null,null,null,null,null,null,null,null,null,null,null,{"$f":"(G$5*((90/$G$35)*(90/$G$35))/2)*(1+(SQRT(1+(4/(G$5*((90/$G$35)*(90/$G$35))))*$G$40*(1-(SQRT(2)*Vin_rms_min*(SIN($Q186)/Vout))))))","v":0.251927600671901},{"$f":"(H$5*((90/$G$35)*(90/$G$35))/2)*(1+(SQRT(1+(4/(H$5*((90/$G$35)*(90/$G$35))))*$H$40*(1-(SQRT(2)*Vin_rms_min*(SIN($Q186)/Vout))))))","v":0.246063632671521},{"$f":"(I$5*((90/$G$35)*(90/$G$35))/2)*(1+(SQRT(1+(4/(I$5*((90/$G$35)*(90/$G$35))))*$I$40*(1-(SQRT(2)*Vin_rms_min*(SIN($Q186)/Vout))))))","v":0.242612355991313},{"$f":"(J$5*((90/$G$35)*(90/$G$35))/2)*(1+(SQRT(1+(4/(J$5*((90/$G$35)*(90/$G$35))))*$J$40*(1-(SQRT(2)*Vin_rms_min*(SIN($Q186)/Vout))))))","v":0.215372916041714},{"$f":"(K$5*((90/$G$35)*(90/$G$35))/2)*(1+(SQRT(1+(4/(K$5*((90/$G$35)*(90/$G$35))))*$K$40*(1-(SQRT(2)*Vin_rms_min*(SIN($Q186)/Vout))))))","v":0.298163788127197},{"$f":"(L$5*((90/$G$35)*(90/$G$35))/2)*(1+(SQRT(1+(4/(L$5*((90/$G$35)*(90/$G$35))))*$L$40*(1-(SQRT(2)*Vin_rms_min*(SIN($Q186)/Vout))))))","v":0.39755171750293},null,{"$f":"R501*ABS(1/(Vout/(SQRT(2)*$C$26*SIN($Q186))))","v":0.0902100883977138},{"$f":"S501*ABS(1/(Vout/(SQRT(2)*$C$26*SIN($Q186))))","v":0.0881103221542979},{"$f":"T501*ABS(1/(Vout/(SQRT(2)*$C$26*SIN($Q186))))","v":0.0868744910124294},{"$f":"U501*ABS(1/(Vout/(SQRT(2)*$C$26*SIN($Q186))))","v":0.0771206082333933},{"$f":"V501*ABS(1/(Vout/(SQRT(2)*$C$26*SIN($Q186))))","v":0.106766315450214},{"$f":"W501*ABS(1/(Vout/(SQRT(2)*$C$26*SIN($Q186))))","v":0.142355087266952},null,{"$f":"1/(0.0000128*(R501+Y501+$G$40))","v":34399.0592802871},{"$f":"1/(0.0000128*(S501+Z501+$H$40))","v":72764.175426677},{"$f":"1/(0.0000128*(T501+AA501+$I$40))","v":94003.4128583053},{"$f":"1/(0.0000128*(U501+AB501+$J$40))","v":245449.542770072},{"$f":"1/(0.0000128*(V501+AC501+$K$40))","v":192934.531934756},{"$f":"1/(0.0000128*(W501+AD501+$L$40))","v":144700.898951067}]
[null,null,null,null,null,null,null,null,null,null,null,null,null,null,null,null,null,{"$f":"(G$5*((90/$G$35)*(90/$G$35))/2)*(1+(SQRT(1+(4/(G$5*((90/$G$35)*(90/$G$35))))*$G$40*(1-(SQRT(2)*Vin_rms_min*(SIN($Q187)/Vout))))))","v":0.252046877114129},{"$f":"(H$5*((90/$G$35)*(90/$G$35))/2)*(1+(SQRT(1+(4/(H$5*((90/$G$35)*(90/$G$35))))*$H$40*(1-(SQRT(2)*Vin_rms_min*(SIN($Q187)/Vout))))))","v":0.246166495516673},{"$f":"(I$5*((90/$G$35)*(90/$G$35))/2)*(1+(SQRT(1+(4/(I$5*((90/$G$35)*(90/$G$35))))*$I$40*(1-(SQRT(2)*Vin_rms_min*(SIN($Q187)/Vout))))))","v":0.24270562440418},{"$f":"(J$5*((90/$G$35)*(90/$G$35))/2)*(1+(SQRT(1+(4/(J$5*((90/$G$35)*(90/$G$35))))*$J$40*(1-(SQRT(2)*Vin_rms_min*(SIN($Q187)/Vout))))))","v":0.215388877541724},{"$f":"(K$5*((90/$G$35)*(90/$G$35))/2)*(1+(SQRT(1+(4/(K$5*((90/$G$35)*(90/$G$35))))*$K$40*(1-(SQRT(2)*Vin_rms_min*(SIN($Q187)/Vout))))))","v":0.298163788127197},{"$f":"(L$5*((90/$G$35)*(90/$G$35))/2)*(1+(SQRT(1+(4/(L$5*((90/$G$35)*(90/$G$35))))*$L$40*(1-(SQRT(2)*Vin_rms_min*(SIN($Q187)/Vout))))))","v":0.39755171750293},null,{"$f":"R502*ABS(1/(Vout/(SQRT(2)*$C$26*SIN($Q187))))","v":0.0900377267736577},{"$f":"S502*ABS(1/(Vout/(SQRT(2)*$C$26*SIN($Q187))))","v":0.087937100899381},{"$f":"T502*ABS(1/(Vout/(SQRT(2)*$C$26*SIN($Q187))))","v":0.0867007873564666},{"$f":"U502*ABS(1/(Vout/(SQRT(2)*$C$26*SIN($Q187))))","v":0.0769425319933846},{"$f":"V502*ABS(1/(Vout/(SQRT(2)*$C$26*SIN($Q187))))","v":0.106511891742421},{"$f":"W502*ABS(1/(Vout/(SQRT(2)*$C$26*SIN($Q187))))","v":0.142015855656561},null,{"$f":"1/(0.0000128*(R502+Y502+$G$40))","v":34399.8633367778},{"$f":"1/(0.0000128*(S502+Z502+$H$40))","v":72768.9440132279},{"$f":"1/(0.0000128*(T502+AA502+$I$40))","v":94012.5116898643},{"$f":"1/(0.0000128*(U502+AB502+$J$40))","v":245574.619979101},{"$f":"1/(0.0000128*(V502+AC502+$K$40))","v":193055.83183346},{"$f":"1/(0.0000128*(W502+AD502+$L$40))","v":144791.873875095}]
[null,null,null,null,null,null,null,null,null,null,null,null,null,null,null,null,null,{"$f":"(G$5*((90/$G$35)*(90/$G$35))/2)*(1+(SQRT(1+(4/(G$5*((90/$G$35)*(90/$G$35))))*$G$40*(1-(SQRT(2)*Vin_rms_min*(SIN($Q188)/Vout))))))","v":0.252171081756597},{"$f":"(H$5*((90/$G$35)*(90/$G$35))/2)*(1+(SQRT(1+(4/(H$5*((90/$G$35)*(90/$G$35))))*$H$40*(1-(SQRT(2)*Vin_rms_min*(SIN($Q188)/Vout))))))","v":0.24627361007795},{"$f":"(I$5*((90/$G$35)*(90/$G$35))/2)*(1+(SQRT(1+(4/(I$5*((90/$G$35)*(90/$G$35))))*$I$40*(1-(SQRT(2)*Vin_rms_min*(SIN($Q188)/Vout))))))","v":0.242802749456185},{"$f":"(J$5*((90/$G$35)*(90/$G$35))/2)*(1+(SQRT(1+(4/(J$5*((90/$G$35)*(90/$G$35))))*$J$40*(1-(SQRT(2)*Vin_rms_min*(SIN($Q188)/Vout))))))","v":0.215405504912317},{"$f":"(K$5*((90/$G$35)*(90/$G$35))/2)*(1+(SQRT(1+(4/(K$5*((90/$G$35)*(90/$G$35))))*$K$40*(1-(SQRT(2)*Vin_rms_min*(SIN($Q188)/Vout))))))","v":0.298163788127197},{"$f":"(L$5*((90/$G$35)*(90/$G$35))/2)*(1+(SQRT(1+(4/(L$5*((90/$G$35)*(90/$G$35))))*$L$40*(1-(SQRT(2)*Vin_rms_min*(SIN($Q188)/Vout))))))","v":0.39755171750293},null,{"$f":"R503*ABS(1/(Vout/(SQRT(2)*$C$26*SIN($Q188))))","v":0.0898579097340484},{"$f":"S503*ABS(1/(Vout/(SQRT(2)*$C$26*SIN($Q188))))","v":0.0877564218312029},{"$f":"T503*ABS(1/(Vout/(SQRT(2)*$C$26*SIN($Q188))))","v":0.0865196254536106},{"$f":"U503*ABS(1/(Vout/(SQRT(2)*$C$26*SIN($Q188))))","v":0.0767569710285453},{"$f":"V503*ABS(1/(Vout/(SQRT(2)*$C$26*SIN($Q188))))","v":0.106246816934213},{"$f":"W503*ABS(1/(Vout/(SQRT(2)*$C$26*SIN($Q188))))","v":0.141662422578951},null,{"$f":"1/(0.0000128*(R503+Y503+$G$40))","v":34400.7057121366},{"$f":"1/(0.0000128*(S503+Z503+$H$40))","v":72773.9305635106},{"$f":"1/(0.0000128*(T503+AA503+$I$40))","v":94022.0198168105},{"$f":"1/(0.0000128*(U503+AB503+$J$40))","v":245705.093875702},{"$f":"1/(0.0000128*(V503+AC503+$K$40))","v":193182.372129278},{"$f":"1/(0.0000128*(W503+AD503+$L$40))","v":144886.779096959}]
[null,null,null,null,null,null,null,null,null,null,null,null,null,null,null,null,null,{"$f":"(G$5*((90/$G$35)*(90/$G$35))/2)*(1+(SQRT(1+(4/(G$5*((90/$G$35)*(90/$G$35))))*$G$40*(1-(SQRT(2)*Vin_rms_min*(SIN($Q189)/Vout))))))","v":0.2523001942884},{"$f":"(H$5*((90/$G$35)*(90/$G$35))/2)*(1+(SQRT(1+(4/(H$5*((90/$G$35)*(90/$G$35))))*$H$40*(1-(SQRT(2)*Vin_rms_min*(SIN($Q189)/Vout))))))","v":0.246384959040409},{"$f":"(I$5*((90/$G$35)*(90/$G$35))/2)*(1+(SQRT(1+(4/(I$5*((90/$G$35)*(90/$G$35))))*$I$40*(1-(SQRT(2)*Vin_rms_min*(SIN($Q189)/Vout))))))","v":0.24290371562631},{"$f":"(J$5*((90/$G$35)*(90/$G$35))/2)*(1+(SQRT(1+(4/(J$5*((90/$G$35)*(90/$G$35))))*$J$40*(1-(SQRT(2)*Vin_rms_min*(SIN($Q189)/Vout))))))","v":0.215422796204885},{"$f":"(K$5*((90/$G$35)*(90/$G$35))/2)*(1+(SQRT(1+(4/(K$5*((90/$G$35)*(90/$G$35))))*$K$40*(1-(SQRT(2)*Vin_rms_min*(SIN($Q189)/Vout))))))","v":0.298163788127197},{"$f":"(L$5*((90/$G$35)*(90/$G$35))/2)*(1+(SQRT(1+(4/(L$5*((90/$G$35)*(90/$G$35))))*$L$40*(1-(SQRT(2)*Vin_rms_min*(SIN($Q189)/Vout))))))","v":0.39755171750293},null,{"$f":"R504*ABS(1/(Vout/(SQRT(2)*$C$26*SIN($Q189))))","v":0.0896706260355506},{"$f":"S504*ABS(1/(Vout/(SQRT(2)*$C$26*SIN($Q189))))","v":0.0875682778810797},{"$f":"T504*ABS(1/(Vout/(SQRT(2)*$C$26*SIN($Q189))))","v":0.0863310006875174},{"$f":"U504*ABS(1/(Vout/(SQRT(2)*$C$26*SIN($Q189))))","v":0.0765639402399343},{"$f":"V504*ABS(1/(Vout/(SQRT(2)*$C$26*SIN($Q189))))","v":0.105971117532851},{"$f":"W504*ABS(1/(Vout/(SQRT(2)*$C$26*SIN($Q189))))","v":0.141294823377134},null,{"$f":"1/(0.0000128*(R504+Y504+$G$40))","v":34401.5868899872},{"$f":"1/(0.0000128*(S504+Z504+$H$40))","v":72779.1368202041},{"$f":"1/(0.0000128*(T504+AA504+$I$40))","v":94031.939766092},{"$f":"1/(0.0000128*(U504+AB504+$J$40))","v":245840.971445219},{"$f":"1/(0.0000128*(V504+AC504+$K$40))","v":193314.160459373},{"$f":"1/(0.0000128*(W504+AD504+$L$40))","v":144985.62034453}]
[null,null,null,null,null,null,null,null,null,null,null,null,null,null,null,null,null,{"$f":"(G$5*((90/$G$35)*(90/$G$35))/2)*(1+(SQRT(1+(4/(G$5*((90/$G$35)*(90/$G$35))))*$G$40*(1-(SQRT(2)*Vin_rms_min*(SIN($Q190)/Vout))))))","v":0.252434193635019},{"$f":"(H$5*((90/$G$35)*(90/$G$35))/2)*(1+(SQRT(1+(4/(H$5*((90/$G$35)*(90/$G$35))))*$H$40*(1-(SQRT(2)*Vin_rms_min*(SIN($Q190)/Vout))))))","v":0.246500524436775},{"$f":"(I$5*((90/$G$35)*(90/$G$35))/2)*(1+(SQRT(1+(4/(I$5*((90/$G$35)*(90/$G$35))))*$I$40*(1-(SQRT(2)*Vin_rms_min*(SIN($Q190)/Vout))))))","v":0.243008506807607},{"$f":"(J$5*((90/$G$35)*(90/$G$35))/2)*(1+(SQRT(1+(4/(J$5*((90/$G$35)*(90/$G$35))))*$J$40*(1-(SQRT(2)*Vin_rms_min*(SIN($Q190)/Vout))))))","v":0.215440749393947},{"$f":"(K$5*((90/$G$35)*(90/$G$35))/2)*(1+(SQRT(1+(4/(K$5*((90/$G$35)*(90/$G$35))))*$K$40*(1-(SQRT(2)*Vin_rms_min*(SIN($Q190)/Vout))))))","v":0.298163788127197},{"$f":"(L$5*((90/$G$35)*(90/$G$35))/2)*(1+(SQRT(1+(4/(L$5*((90/$G$35)*(90/$G$35))))*$L$40*(1-(SQRT(2)*Vin_rms_min*(SIN($Q190)/Vout))))))","v":0.39755171750293},null,{"$f":"R505*ABS(1/(Vout/(SQRT(2)*$C$26*SIN($Q190))))","v":0.089475864133069},{"$f":"S505*ABS(1/(Vout/(SQRT(2)*$C$26*SIN($Q190))))","v":0.0873726618237961},{"$f":"T505*ABS(1/(Vout/(SQRT(2)*$C$26*SIN($Q190))))","v":0.0861349083703576},{"$f":"U505*ABS(1/(Vout/(SQRT(2)*$C$26*SIN($Q190))))","v":0.0763634551401963},{"$f":"V505*ABS(1/(Vout/(SQRT(2)*$C$26*SIN($Q190))))","v":0.105684821108044},{"$f":"W505*ABS(1/(Vout/(SQRT(2)*$C$26*SIN($Q190))))","v":0.140913094810725},null,{"$f":"1/(0.0000128*(R505+Y505+$G$40))","v":34402.5073704519},{"$f":"1/(0.0000128*(S505+Z505+$H$40))","v":72784.5645857548},{"$f":"1/(0.0000128*(T505+AA505+$I$40))","v":94042.2741518376},{"$f":"1/(0.0000128*(U505+AB505+$J$40))","v":245982.25994707},{"$f":"1/(0.0000128*(V505+AC505+$K$40))","v":193451.204766914},{"$f":"1/(0.0000128*(W505+AD505+$L$40))","v":145088.403575185}]
[null,null,null,null,null,null,null,null,null,null,null,null,null,null,null,null,null,{"$f":"(G$5*((90/$G$35)*(90/$G$35))/2)*(1+(SQRT(1+(4/(G$5*((90/$G$35)*(90/$G$35))))*$G$40*(1-(SQRT(2)*Vin_rms_min*(SIN($Q191)/Vout))))))","v":0.252573057966166},{"$f":"(H$5*((90/$G$35)*(90/$G$35))/2)*(1+(SQRT(1+(4/(H$5*((90/$G$35)*(90/$G$35))))*$H$40*(1-(SQRT(2)*Vin_rms_min*(SIN($Q191)/Vout))))))","v":0.24662028765398},{"$f":"(I$5*((90/$G$35)*(90/$G$35))/2)*(1+(SQRT(1+(4/(I$5*((90/$G$35)*(90/$G$35))))*$I$40*(1-(SQRT(2)*Vin_rms_min*(SIN($Q191)/Vout))))))","v":0.24311710631292},{"$f":"(J$5*((90/$G$35)*(90/$G$35))/2)*(1+(SQRT(1+(4/(J$5*((90/$G$35)*(90/$G$35))))*$J$40*(1-(SQRT(2)*Vin_rms_min*(SIN($Q191)/Vout))))))","v":0.215459362377493},{"$f":"(K$5*((90/$G$35)*(90/$G$35))/2)*(1+(SQRT(1+(4/(K$5*((90/$G$35)*(90/$G$35))))*$K$40*(1-(SQRT(2)*Vin_rms_min*(SIN($Q191)/Vout))))))","v":0.298163788127197},{"$f":"(L$5*((90/$G$35)*(90/$G$35))/2)*(1+(SQRT(1+(4/(L$5*((90/$G$35)*(90/$G$35))))*$L$40*(1-(SQRT(2)*Vin_rms_min*(SIN($Q191)/Vout))))))","v":0.39755171750293},null,{"$f":"R506*ABS(1/(Vout/(SQRT(2)*$C$26*SIN($Q191))))","v":0.0892736121980436},{"$f":"S506*ABS(1/(Vout/(SQRT(2)*$C$26*SIN($Q191))))","v":0.0871695662929365},{"$f":"T506*ABS(1/(Vout/(SQRT(2)*$C$26*SIN($Q191))))","v":0.0859313437563778},{"$f":"U506*ABS(1/(Vout/(SQRT(2)*$C$26*SIN($Q191))))","v":0.0761555318536892},{"$f":"V506*ABS(1/(Vout/(SQRT(2)*$C$26*SIN($Q191))))","v":0.105387956289197},{"$f":"W506*ABS(1/(Vout/(SQRT(2)*$C$26*SIN($Q191))))","v":0.140517275052262},null,{"$f":"1/(0.0000128*(R506+Y506+$G$40))","v":34403.4676697703},{"$f":"1/(0.0000128*(S506+Z506+$H$40))","v":72790.2157210404},{"$f":"1/(0.0000128*(T506+AA506+$I$40))","v":94053.0256734752},{"$f":"1/(0.0000128*(U506+AB506+$J$40))","v":246128.966913252},{"$f":"1/(0.0000128*(V506+AC506+$K$40))","v":193593.513300215},{"$f":"1/(0.0000128*(W506+AD506+$L$40))","v":145195.134975161}]
[null,null,null,null,null,null,null,null,null,null,null,null,null,null,null,null,null,{"$f":"(G$5*((90/$G$35)*(90/$G$35))/2)*(1+(SQRT(1+(4/(G$5*((90/$G$35)*(90/$G$35))))*$G$40*(1-(SQRT(2)*Vin_rms_min*(SIN($Q192)/Vout))))))","v":0.252716764703865},{"$f":"(H$5*((90/$G$35)*(90/$G$35))/2)*(1+(SQRT(1+(4/(H$5*((90/$G$35)*(90/$G$35))))*$H$40*(1-(SQRT(2)*Vin_rms_min*(SIN($Q192)/Vout))))))","v":0.246744229439901},{"$f":"(I$5*((90/$G$35)*(90/$G$35))/2)*(1+(SQRT(1+(4/(I$5*((90/$G$35)*(90/$G$35))))*$I$40*(1-(SQRT(2)*Vin_rms_min*(SIN($Q192)/Vout))))))","v":0.243229496880793},{"$f":"(J$5*((90/$G$35)*(90/$G$35))/2)*(1+(SQRT(1+(4/(J$5*((90/$G$35)*(90/$G$35))))*$J$40*(1-(SQRT(2)*Vin_rms_min*(SIN($Q192)/Vout))))))","v":0.21547863297734},{"$f":"(K$5*((90/$G$35)*(90/$G$35))/2)*(1+(SQRT(1+(4/(K$5*((90/$G$35)*(90/$G$35))))*$K$40*(1-(SQRT(2)*Vin_rms_min*(SIN($Q192)/Vout))))))","v":0.298163788127197},{"$f":"(L$5*((90/$G$35)*(90/$G$35))/2)*(1+(SQRT(1+(4/(L$5*((90/$G$35)*(90/$G$35))))*$L$40*(1-(SQRT(2)*Vin_rms_min*(SIN($Q192)/Vout))))))","v":0.39755171750293},null,{"$f":"R507*ABS(1/(Vout/(SQRT(2)*$C$26*SIN($Q192))))","v":0.0890638581373108},{"$f":"S507*ABS(1/(Vout/(SQRT(2)*$C$26*SIN($Q192))))","v":0.0869589837966901},{"$f":"T507*ABS(1/(Vout/(SQRT(2)*$C$26*SIN($Q192))))","v":0.0857203020558812},{"$f":"U507*ABS(1/(Vout/(SQRT(2)*$C$26*SIN($Q192))))","v":0.0759401871166084},{"$f":"V507*ABS(1/(Vout/(SQRT(2)*$C$26*SIN($Q192))))","v":0.105080552762544},{"$f":"W507*ABS(1/(Vout/(SQRT(2)*$C$26*SIN($Q192))))","v":0.140107403683392},null,{"$f":"1/(0.0000128*(R507+Y507+$G$40))","v":34404.4683199079},{"$f":"1/(0.0000128*(S507+Z507+$H$40))","v":72796.0921439928},{"$f":"1/(0.0000128*(T507+AA507+$I$40))","v":94064.1971137925},{"$f":"1/(0.0000128*(U507+AB507+$J$40))","v":246281.100146777},{"$f":"1/(0.0000128*(V507+AC507+$K$40))","v":193741.094611819},{"$f":"1/(0.0000128*(W507+AD507+$L$40))","v":145305.820958864}]
[null,null,null,null,null,null,null,null,null,null,null,null,null,null,null,null,null,{"$f":"(G$5*((90/$G$35)*(90/$G$35))/2)*(1+(SQRT(1+(4/(G$5*((90/$G$35)*(90/$G$35))))*$G$40*(1-(SQRT(2)*Vin_rms_min*(SIN($Q193)/Vout))))))","v":0.252865290530773},{"$f":"(H$5*((90/$G$35)*(90/$G$35))/2)*(1+(SQRT(1+(4/(H$5*((90/$G$35)*(90/$G$35))))*$H$40*(1-(SQRT(2)*Vin_rms_min*(SIN($Q193)/Vout))))))","v":0.246872329910296},{"$f":"(I$5*((90/$G$35)*(90/$G$35))/2)*(1+(SQRT(1+(4/(I$5*((90/$G$35)*(90/$G$35))))*$I$40*(1-(SQRT(2)*Vin_rms_min*(SIN($Q193)/Vout))))))","v":0.243345660681556},{"$f":"(J$5*((90/$G$35)*(90/$G$35))/2)*(1+(SQRT(1+(4/(J$5*((90/$G$35)*(90/$G$35))))*$J$40*(1-(SQRT(2)*Vin_rms_min*(SIN($Q193)/Vout))))))","v":0.215498558939505},{"$f":"(K$5*((90/$G$35)*(90/$G$35))/2)*(1+(SQRT(1+(4/(K$5*((90/$G$35)*(90/$G$35))))*$K$40*(1-(SQRT(2)*Vin_rms_min*(SIN($Q193)/Vout))))))","v":0.298163788127197},{"$f":"(L$5*((90/$G$35)*(90/$G$35))/2)*(1+(SQRT(1+(4/(L$5*((90/$G$35)*(90/$G$35))))*$L$40*(1-(SQRT(2)*Vin_rms_min*(SIN($Q193)/Vout))))))","v":0.39755171750293},null,{"$f":"R508*ABS(1/(Vout/(SQRT(2)*$C$26*SIN($Q193))))","v":0.0888465896125146},{"$f":"S508*ABS(1/(Vout/(SQRT(2)*$C$26*SIN($Q193))))","v":0.0867409067341176},{"$f":"T508*ABS(1/(Vout/(SQRT(2)*$C$26*SIN($Q193))))","v":0.0855017784496179},{"$f":"U508*ABS(1/(Vout/(SQRT(2)*$C$26*SIN($Q193))))","v":0.0757174382771069},{"$f":"V508*ABS(1/(Vout/(SQRT(2)*$C$26*SIN($Q193))))","v":0.104762641268181},{"$f":"W508*ABS(1/(Vout/(SQRT(2)*$C$26*SIN($Q193))))","v":0.139683521690908},null,{"$f":"1/(0.0000128*(R508+Y508+$G$40))","v":34405.509868152},{"$f":"1/(0.0000128*(S508+Z508+$H$40))","v":72802.1958281812},{"$f":"1/(0.0000128*(T508+AA508+$I$40))","v":94075.7913369394},{"$f":"1/(0.0000128*(U508+AB508+$J$40))","v":246438.667720034},{"$f":"1/(0.0000128*(V508+AC508+$K$40))","v":193893.957557543},{"$f":"1/(0.0000128*(W508+AD508+$L$40))","v":145420.468168157}]
[null,null,null,null,null,null,null,null,null,null,null,null,null,null,null,null,null,{"$f":"(G$5*((90/$G$35)*(90/$G$35))/2)*(1+(SQRT(1+(4/(G$5*((90/$G$35)*(90/$G$35))))*$G$40*(1-(SQRT(2)*Vin_rms_min*(SIN($Q194)/Vout))))))","v":0.253018611398721},{"$f":"(H$5*((90/$G$35)*(90/$G$35))/2)*(1+(SQRT(1+(4/(H$5*((90/$G$35)*(90/$G$35))))*$H$40*(1-(SQRT(2)*Vin_rms_min*(SIN($Q194)/Vout))))))","v":0.247004568555933},{"$f":"(I$5*((90/$G$35)*(90/$G$35))/2)*(1+(SQRT(1+(4/(I$5*((90/$G$35)*(90/$G$35))))*$I$40*(1-(SQRT(2)*Vin_rms_min*(SIN($Q194)/Vout))))))","v":0.243465579323572},{"$f":"(J$5*((90/$G$35)*(90/$G$35))/2)*(1+(SQRT(1+(4/(J$5*((90/$G$35)*(90/$G$35))))*$J$40*(1-(SQRT(2)*Vin_rms_min*(SIN($Q194)/Vout))))))","v":0.21551913793459},{"$f":"(K$5*((90/$G$35)*(90/$G$35))/2)*(1+(SQRT(1+(4/(K$5*((90/$G$35)*(90/$G$35))))*$K$40*(1-(SQRT(2)*Vin_rms_min*(SIN($Q194)/Vout))))))","v":0.298163788127197},{"$f":"(L$5*((90/$G$35)*(90/$G$35))/2)*(1+(SQRT(1+(4/(L$5*((90/$G$35)*(90/$G$35))))*$L$40*(1-(SQRT(2)*Vin_rms_min*(SIN($Q194)/Vout))))))","v":0.39755171750293},null,{"$f":"R509*ABS(1/(Vout/(SQRT(2)*$C$26*SIN($Q194))))","v":0.0886217940600514},{"$f":"S509*ABS(1/(Vout/(SQRT(2)*$C$26*SIN($Q194))))","v":0.086515327411865},{"$f":"T509*ABS(1/(Vout/(SQRT(2)*$C$26*SIN($Q194))))","v":0.0852757681035704},{"$f":"U509*ABS(1/(Vout/(SQRT(2)*$C$26*SIN($Q194))))","v":0.0754873032954115},{"$f":"V509*ABS(1/(Vout/(SQRT(2)*$C$26*SIN($Q194))))","v":0.104434253596994},{"$f":"W509*ABS(1/(Vout/(SQRT(2)*$C$26*SIN($Q194))))","v":0.139245671462659},null,{"$f":"1/(0.0000128*(R509+Y509+$G$40))","v":34406.5928766978},{"$f":"1/(0.0000128*(S509+Z509+$H$40))","v":72808.5288013565},{"$f":"1/(0.0000128*(T509+AA509+$I$40))","v":94087.8112863758},{"$f":"1/(0.0000128*(U509+AB509+$J$40))","v":246601.677973085},{"$f":"1/(0.0000128*(V509+AC509+$K$40))","v":194052.111295467},{"$f":"1/(0.0000128*(W509+AD509+$L$40))","v":145539.083471601}]
[null,null,null,null,null,null,null,null,null,null,null,null,null,null,null,null,null,{"$f":"(G$5*((90/$G$35)*(90/$G$35))/2)*(1+(SQRT(1+(4/(G$5*((90/$G$35)*(90/$G$35))))*$G$40*(1-(SQRT(2)*Vin_rms_min*(SIN($Q195)/Vout))))))","v":0.253176702537479},{"$f":"(H$5*((90/$G$35)*(90/$G$35))/2)*(1+(SQRT(1+(4/(H$5*((90/$G$35)*(90/$G$35))))*$H$40*(1-(SQRT(2)*Vin_rms_min*(SIN($Q195)/Vout))))))","v":0.247140924249901},{"$f":"(I$5*((90/$G$35)*(90/$G$35))/2)*(1+(SQRT(1+(4/(I$5*((90/$G$35)*(90/$G$35))))*$I$40*(1-(SQRT(2)*Vin_rms_min*(SIN($Q195)/Vout))))))","v":0.243589233859649},{"$f":"(J$5*((90/$G$35)*(90/$G$35))/2)*(1+(SQRT(1+(4/(J$5*((90/$G$35)*(90/$G$35))))*$J$40*(1-(SQRT(2)*Vin_rms_min*(SIN($Q195)/Vout))))))","v":0.215540367558173},{"$f":"(K$5*((90/$G$35)*(90/$G$35))/2)*(1+(SQRT(1+(4/(K$5*((90/$G$35)*(90/$G$35))))*$K$40*(1-(SQRT(2)*Vin_rms_min*(SIN($Q195)/Vout))))))","v":0.298163788127197},{"$f":"(L$5*((90/$G$35)*(90/$G$35))/2)*(1+(SQRT(1+(4/(L$5*((90/$G$35)*(90/$G$35))))*$L$40*(1-(SQRT(2)*Vin_rms_min*(SIN($Q195)/Vout))))))","v":0.39755171750293},null,{"$f":"R510*ABS(1/(Vout/(SQRT(2)*$C$26*SIN($Q195))))","v":0.0883894587115304},{"$f":"S510*ABS(1/(Vout/(SQRT(2)*$C$26*SIN($Q195))))","v":0.0862822380613092},{"$f":"T510*ABS(1/(Vout/(SQRT(2)*$C$26*SIN($Q195))))","v":0.0850422661841229},{"$f":"U510*ABS(1/(Vout/(SQRT(2)*$C$26*SIN($Q195))))","v":0.0752498007439326},{"$f":"V510*ABS(1/(Vout/(SQRT(2)*$C$26*SIN($Q195))))","v":0.104095422587475},{"$f":"W510*ABS(1/(Vout/(SQRT(2)*$C$26*SIN($Q195))))","v":0.1387938967833},null,{"$f":"1/(0.0000128*(R510+Y510+$G$40))","v":34407.7179222227},{"$f":"1/(0.0000128*(S510+Z510+$H$40))","v":72815.0931439573},{"$f":"1/(0.0000128*(T510+AA510+$I$40))","v":94100.2599827651},{"$f":"1/(0.0000128*(U510+AB510+$J$40))","v":246770.139511879},{"$f":"1/(0.0000128*(V510+AC510+$K$40))","v":194215.565284881},{"$f":"1/(0.0000128*(W510+AD510+$L$40))","v":145661.67396366}]
[null,null,null,null,null,null,null,null,null,null,null,null,null,null,null,null,null,{"$f":"(G$5*((90/$G$35)*(90/$G$35))/2)*(1+(SQRT(1+(4/(G$5*((90/$G$35)*(90/$G$35))))*$G$40*(1-(SQRT(2)*Vin_rms_min*(SIN($Q196)/Vout))))))","v":0.253339538463735},{"$f":"(H$5*((90/$G$35)*(90/$G$35))/2)*(1+(SQRT(1+(4/(H$5*((90/$G$35)*(90/$G$35))))*$H$40*(1-(SQRT(2)*Vin_rms_min*(SIN($Q196)/Vout))))))","v":0.247281375255096},{"$f":"(I$5*((90/$G$35)*(90/$G$35))/2)*(1+(SQRT(1+(4/(I$5*((90/$G$35)*(90/$G$35))))*$I$40*(1-(SQRT(2)*Vin_rms_min*(SIN($Q196)/Vout))))))","v":0.243716604793615},{"$f":"(J$5*((90/$G$35)*(90/$G$35))/2)*(1+(SQRT(1+(4/(J$5*((90/$G$35)*(90/$G$35))))*$J$40*(1-(SQRT(2)*Vin_rms_min*(SIN($Q196)/Vout))))))","v":0.215562245331216},{"$f":"(K$5*((90/$G$35)*(90/$G$35))/2)*(1+(SQRT(1+(4/(K$5*((90/$G$35)*(90/$G$35))))*$K$40*(1-(SQRT(2)*Vin_rms_min*(SIN($Q196)/Vout))))))","v":0.298163788127197},{"$f":"(L$5*((90/$G$35)*(90/$G$35))/2)*(1+(SQRT(1+(4/(L$5*((90/$G$35)*(90/$G$35))))*$L$40*(1-(SQRT(2)*Vin_rms_min*(SIN($Q196)/Vout))))))","v":0.39755171750293},null,{"$f":"R511*ABS(1/(Vout/(SQRT(2)*$C$26*SIN($Q196))))","v":0.0881495706147321},{"$f":"S511*ABS(1/(Vout/(SQRT(2)*$C$26*SIN($Q196))))","v":0.0860416308561226},{"$f":"T511*ABS(1/(Vout/(SQRT(2)*$C$26*SIN($Q196))))","v":0.0848012678736007},{"$f":"U511*ABS(1/(Vout/(SQRT(2)*$C$26*SIN($Q196))))","v":0.075004949807368},{"$f":"V511*ABS(1/(Vout/(SQRT(2)*$C$26*SIN($Q196))))","v":0.103746182122444},{"$f":"W511*ABS(1/(Vout/(SQRT(2)*$C$26*SIN($Q196))))","v":0.138328242829925},null,{"$f":"1/(0.0000128*(R511+Y511+$G$40))","v":34408.8855954517},{"$f":"1/(0.0000128*(S511+Z511+$H$40))","v":72821.8909875809},{"$f":"1/(0.0000128*(T511+AA511+$I$40))","v":94113.1405218152},{"$f":"1/(0.0000128*(U511+AB511+$J$40))","v":246944.061206402},{"$f":"1/(0.0000128*(V511+AC511+$K$40))","v":194384.329285172},{"$f":"1/(0.0000128*(W511+AD511+$L$40))","v":145788.246963879}]
[null,null,null,null,null,null,null,null,null,null,null,null,null,null,null,null,null,{"$f":"(G$5*((90/$G$35)*(90/$G$35))/2)*(1+(SQRT(1+(4/(G$5*((90/$G$35)*(90/$G$35))))*$G$40*(1-(SQRT(2)*Vin_rms_min*(SIN($Q197)/Vout))))))","v":0.253507092990267},{"$f":"(H$5*((90/$G$35)*(90/$G$35))/2)*(1+(SQRT(1+(4/(H$5*((90/$G$35)*(90/$G$35))))*$H$40*(1-(SQRT(2)*Vin_rms_min*(SIN($Q197)/Vout))))))","v":0.247425899231888},{"$f":"(I$5*((90/$G$35)*(90/$G$35))/2)*(1+(SQRT(1+(4/(I$5*((90/$G$35)*(90/$G$35))))*$I$40*(1-(SQRT(2)*Vin_rms_min*(SIN($Q197)/Vout))))))","v":0.243847672087037},{"$f":"(J$5*((90/$G$35)*(90/$G$35))/2)*(1+(SQRT(1+(4/(J$5*((90/$G$35)*(90/$G$35))))*$J$40*(1-(SQRT(2)*Vin_rms_min*(SIN($Q197)/Vout))))))","v":0.215584768700485},{"$f":"(K$5*((90/$G$35)*(90/$G$35))/2)*(1+(SQRT(1+(4/(K$5*((90/$G$35)*(90/$G$35))))*$K$40*(1-(SQRT(2)*Vin_rms_min*(SIN($Q197)/Vout))))))","v":0.298163788127197},{"$f":"(L$5*((90/$G$35)*(90/$G$35))/2)*(1+(SQRT(1+(4/(L$5*((90/$G$35)*(90/$G$35))))*$L$40*(1-(SQRT(2)*Vin_rms_min*(SIN($Q197)/Vout))))))","v":0.39755171750293},null,{"$f":"R512*ABS(1/(Vout/(SQRT(2)*$C$26*SIN($Q197))))","v":0.0879021166550476},{"$f":"S512*ABS(1/(Vout/(SQRT(2)*$C$26*SIN($Q197))))","v":0.0857934979302392},{"$f":"T512*ABS(1/(Vout/(SQRT(2)*$C$26*SIN($Q197))))","v":0.0845527683861669},{"$f":"U512*ABS(1/(Vout/(SQRT(2)*$C$26*SIN($Q197))))","v":0.0747527702827984},{"$f":"V512*ABS(1/(Vout/(SQRT(2)*$C$26*SIN($Q197))))","v":0.103386567125654},{"$f":"W512*ABS(1/(Vout/(SQRT(2)*$C$26*SIN($Q197))))","v":0.137848756167539},null,{"$f":"1/(0.0000128*(R512+Y512+$G$40))","v":34410.0965007118},{"$f":"1/(0.0000128*(S512+Z512+$H$40))","v":72828.9245134182},{"$f":"1/(0.0000128*(T512+AA512+$I$40))","v":94126.4560720702},{"$f":"1/(0.0000128*(U512+AB512+$J$40))","v":247123.452188736},{"$f":"1/(0.0000128*(V512+AC512+$K$40))","v":194558.413354673},{"$f":"1/(0.0000128*(W512+AD512+$L$40))","v":145918.810016005}]
[null,null,null,null,null,null,null,null,null,null,null,null,null,null,null,null,null,{"$f":"(G$5*((90/$G$35)*(90/$G$35))/2)*(1+(SQRT(1+(4/(G$5*((90/$G$35)*(90/$G$35))))*$G$40*(1-(SQRT(2)*Vin_rms_min*(SIN($Q198)/Vout))))))","v":0.253679339235329},{"$f":"(H$5*((90/$G$35)*(90/$G$35))/2)*(1+(SQRT(1+(4/(H$5*((90/$G$35)*(90/$G$35))))*$H$40*(1-(SQRT(2)*Vin_rms_min*(SIN($Q198)/Vout))))))","v":0.247574473245947},{"$f":"(I$5*((90/$G$35)*(90/$G$35))/2)*(1+(SQRT(1+(4/(I$5*((90/$G$35)*(90/$G$35))))*$I$40*(1-(SQRT(2)*Vin_rms_min*(SIN($Q198)/Vout))))))","v":0.243982415166098},{"$f":"(J$5*((90/$G$35)*(90/$G$35))/2)*(1+(SQRT(1+(4/(J$5*((90/$G$35)*(90/$G$35))))*$J$40*(1-(SQRT(2)*Vin_rms_min*(SIN($Q198)/Vout))))))","v":0.215607935038981},{"$f":"(K$5*((90/$G$35)*(90/$G$35))/2)*(1+(SQRT(1+(4/(K$5*((90/$G$35)*(90/$G$35))))*$K$40*(1-(SQRT(2)*Vin_rms_min*(SIN($Q198)/Vout))))))","v":0.298163788127197},{"$f":"(L$5*((90/$G$35)*(90/$G$35))/2)*(1+(SQRT(1+(4/(L$5*((90/$G$35)*(90/$G$35))))*$L$40*(1-(SQRT(2)*Vin_rms_min*(SIN($Q198)/Vout))))))","v":0.39755171750293},null,{"$f":"R513*ABS(1/(Vout/(SQRT(2)*$C$26*SIN($Q198))))","v":0.0876470835773804},{"$f":"S513*ABS(1/(Vout/(SQRT(2)*$C$26*SIN($Q198))))","v":0.0855378313962097},{"$f":"T513*ABS(1/(Vout/(SQRT(2)*$C$26*SIN($Q198))))","v":0.0842967629840627},{"$f":"U513*ABS(1/(Vout/(SQRT(2)*$C$26*SIN($Q198))))","v":0.0744932825797751},{"$f":"V513*ABS(1/(Vout/(SQRT(2)*$C$26*SIN($Q198))))","v":0.103016613558308},{"$f":"W513*ABS(1/(Vout/(SQRT(2)*$C$26*SIN($Q198))))","v":0.137355484744411},null,{"$f":"1/(0.0000128*(R513+Y513+$G$40))","v":34411.3512554776},{"$f":"1/(0.0000128*(S513+Z513+$H$40))","v":72836.1959506552},{"$f":"1/(0.0000128*(T513+AA513+$I$40))","v":94140.2098726518},{"$f":"1/(0.0000128*(U513+AB513+$J$40))","v":247308.321851056},{"$f":"1/(0.0000128*(V513+AC513+$K$40))","v":194737.827849437},{"$f":"1/(0.0000128*(W513+AD513+$L$40))","v":146053.370887078}]
[null,null,null,null,null,null,null,null,null,null,null,null,null,null,null,null,null,{"$f":"(G$5*((90/$G$35)*(90/$G$35))/2)*(1+(SQRT(1+(4/(G$5*((90/$G$35)*(90/$G$35))))*$G$40*(1-(SQRT(2)*Vin_rms_min*(SIN($Q199)/Vout))))))","v":0.253856249632206},{"$f":"(H$5*((90/$G$35)*(90/$G$35))/2)*(1+(SQRT(1+(4/(H$5*((90/$G$35)*(90/$G$35))))*$H$40*(1-(SQRT(2)*Vin_rms_min*(SIN($Q199)/Vout))))))","v":0.247727073776231},{"$f":"(I$5*((90/$G$35)*(90/$G$35))/2)*(1+(SQRT(1+(4/(I$5*((90/$G$35)*(90/$G$35))))*$I$40*(1-(SQRT(2)*Vin_rms_min*(SIN($Q199)/Vout))))))","v":0.244120812928606},{"$f":"(J$5*((90/$G$35)*(90/$G$35))/2)*(1+(SQRT(1+(4/(J$5*((90/$G$35)*(90/$G$35))))*$J$40*(1-(SQRT(2)*Vin_rms_min*(SIN($Q199)/Vout))))))","v":0.215631741646381},{"$f":"(K$5*((90/$G$35)*(90/$G$35))/2)*(1+(SQRT(1+(4/(K$5*((90/$G$35)*(90/$G$35))))*$K$40*(1-(SQRT(2)*Vin_rms_min*(SIN($Q199)/Vout))))))","v":0.298163788127197},{"$f":"(L$5*((90/$G$35)*(90/$G$35))/2)*(1+(SQRT(1+(4/(L$5*((90/$G$35)*(90/$G$35))))*$L$40*(1-(SQRT(2)*Vin_rms_min*(SIN($Q199)/Vout))))))","v":0.39755171750293},null,{"$f":"R514*ABS(1/(Vout/(SQRT(2)*$C$26*SIN($Q199))))","v":0.0873844580084912},{"$f":"S514*ABS(1/(Vout/(SQRT(2)*$C$26*SIN($Q199))))","v":0.0852746233639272},{"$f":"T514*ABS(1/(Vout/(SQRT(2)*$C$26*SIN($Q199))))","v":0.0840332469941766},{"$f":"U514*ABS(1/(Vout/(SQRT(2)*$C$26*SIN($Q199))))","v":0.0742265077203973},{"$f":"V514*ABS(1/(Vout/(SQRT(2)*$C$26*SIN($Q199))))","v":0.102636358415453},{"$f":"W514*ABS(1/(Vout/(SQRT(2)*$C$26*SIN($Q199))))","v":0.13684847788727},null,{"$f":"1/(0.0000128*(R514+Y514+$G$40))","v":34412.6504899077},{"$f":"1/(0.0000128*(S514+Z514+$H$40))","v":72843.7075748425},{"$f":"1/(0.0000128*(T514+AA514+$I$40))","v":94154.4052309552},{"$f":"1/(0.0000128*(U514+AB514+$J$40))","v":247498.679843538},{"$f":"1/(0.0000128*(V514+AC514+$K$40))","v":194922.583421976},{"$f":"1/(0.0000128*(W514+AD514+$L$40))","v":146191.937566482}]
[null,null,null,null,null,null,null,null,null,null,null,null,null,null,null,null,null,{"$f":"(G$5*((90/$G$35)*(90/$G$35))/2)*(1+(SQRT(1+(4/(G$5*((90/$G$35)*(90/$G$35))))*$G$40*(1-(SQRT(2)*Vin_rms_min*(SIN($Q200)/Vout))))))","v":0.254037795938966},{"$f":"(H$5*((90/$G$35)*(90/$G$35))/2)*(1+(SQRT(1+(4/(H$5*((90/$G$35)*(90/$G$35))))*$H$40*(1-(SQRT(2)*Vin_rms_min*(SIN($Q200)/Vout))))))","v":0.247883676723125},{"$f":"(I$5*((90/$G$35)*(90/$G$35))/2)*(1+(SQRT(1+(4/(I$5*((90/$G$35)*(90/$G$35))))*$I$40*(1-(SQRT(2)*Vin_rms_min*(SIN($Q200)/Vout))))))","v":0.244262843751146},{"$f":"(J$5*((90/$G$35)*(90/$G$35))/2)*(1+(SQRT(1+(4/(J$5*((90/$G$35)*(90/$G$35))))*$J$40*(1-(SQRT(2)*Vin_rms_min*(SIN($Q200)/Vout))))))","v":0.215656185749493},{"$f":"(K$5*((90/$G$35)*(90/$G$35))/2)*(1+(SQRT(1+(4/(K$5*((90/$G$35)*(90/$G$35))))*$K$40*(1-(SQRT(2)*Vin_rms_min*(SIN($Q200)/Vout))))))","v":0.298163788127197},{"$f":"(L$5*((90/$G$35)*(90/$G$35))/2)*(1+(SQRT(1+(4/(L$5*((90/$G$35)*(90/$G$35))))*$L$40*(1-(SQRT(2)*Vin_rms_min*(SIN($Q200)/Vout))))))","v":0.39755171750293},null,{"$f":"R515*ABS(1/(Vout/(SQRT(2)*$C$26*SIN($Q200))))","v":0.0871142264797681},{"$f":"S515*ABS(1/(Vout/(SQRT(2)*$C$26*SIN($Q200))))","v":0.0850038659597096},{"$f":"T515*ABS(1/(Vout/(SQRT(2)*$C$26*SIN($Q200))))","v":0.0837622158249313},{"$f":"U515*ABS(1/(Vout/(SQRT(2)*$C$26*SIN($Q200))))","v":0.0739524673393791},{"$f":"V515*ABS(1/(Vout/(SQRT(2)*$C$26*SIN($Q200))))","v":0.102245839722286},{"$f":"W515*ABS(1/(Vout/(SQRT(2)*$C$26*SIN($Q200))))","v":0.136327786296381},null,{"$f":"1/(0.0000128*(R515+Y515+$G$40))","v":34413.9948463723},{"$f":"1/(0.0000128*(S515+Z515+$H$40))","v":72851.4617062331},{"$f":"1/(0.0000128*(T515+AA515+$I$40))","v":94169.0455202986},{"$f":"1/(0.0000128*(U515+AB515+$J$40))","v":247694.536072182},{"$f":"1/(0.0000128*(V515+AC515+$K$40))","v":195112.691019927},{"$f":"1/(0.0000128*(W515+AD515+$L$40))","v":146334.518264945}]
[null,null,null,null,null,null,null,null,null,null,null,null,null,null,null,null,null,{"$f":"(G$5*((90/$G$35)*(90/$G$35))/2)*(1+(SQRT(1+(4/(G$5*((90/$G$35)*(90/$G$35))))*$G$40*(1-(SQRT(2)*Vin_rms_min*(SIN($Q201)/Vout))))))","v":0.254223949248374},{"$f":"(H$5*((90/$G$35)*(90/$G$35))/2)*(1+(SQRT(1+(4/(H$5*((90/$G$35)*(90/$G$35))))*$H$40*(1-(SQRT(2)*Vin_rms_min*(SIN($Q201)/Vout))))))","v":0.24804425741673},{"$f":"(I$5*((90/$G$35)*(90/$G$35))/2)*(1+(SQRT(1+(4/(I$5*((90/$G$35)*(90/$G$35))))*$I$40*(1-(SQRT(2)*Vin_rms_min*(SIN($Q201)/Vout))))))","v":0.244408485496356},{"$f":"(J$5*((90/$G$35)*(90/$G$35))/2)*(1+(SQRT(1+(4/(J$5*((90/$G$35)*(90/$G$35))))*$J$40*(1-(SQRT(2)*Vin_rms_min*(SIN($Q201)/Vout))))))","v":0.215681264502717},{"$f":"(K$5*((90/$G$35)*(90/$G$35))/2)*(1+(SQRT(1+(4/(K$5*((90/$G$35)*(90/$G$35))))*$K$40*(1-(SQRT(2)*Vin_rms_min*(SIN($Q201)/Vout))))))","v":0.298163788127197},{"$f":"(L$5*((90/$G$35)*(90/$G$35))/2)*(1+(SQRT(1+(4/(L$5*((90/$G$35)*(90/$G$35))))*$L$40*(1-(SQRT(2)*Vin_rms_min*(SIN($Q201)/Vout))))))","v":0.39755171750293},null,{"$f":"R516*ABS(1/(Vout/(SQRT(2)*$C$26*SIN($Q201))))","v":0.0868363754504031},{"$f":"S516*ABS(1/(Vout/(SQRT(2)*$C$26*SIN($Q201))))","v":0.0847255513457231},{"$f":"T516*ABS(1/(Vout/(SQRT(2)*$C$26*SIN($Q201))))","v":0.0834836649834704},{"$f":"U516*ABS(1/(Vout/(SQRT(2)*$C$26*SIN($Q201))))","v":0.0736711836841053},{"$f":"V516*ABS(1/(Vout/(SQRT(2)*$C$26*SIN($Q201))))","v":0.101845096530351},{"$f":"W516*ABS(1/(Vout/(SQRT(2)*$C$26*SIN($Q201))))","v":0.135793462040468},null,{"$f":"1/(0.0000128*(R516+Y516+$G$40))","v":34415.3849789726},{"$f":"1/(0.0000128*(S516+Z516+$H$40))","v":72859.4607080908},{"$f":"1/(0.0000128*(T516+AA516+$I$40))","v":94184.1341775301},{"$f":"1/(0.0000128*(U516+AB516+$J$40))","v":247895.900696566},{"$f":"1/(0.0000128*(V516+AC516+$K$40))","v":195308.161884663},{"$f":"1/(0.0000128*(W516+AD516+$L$40))","v":146481.121413497}]
[null,null,null,null,null,null,null,null,null,null,null,null,null,null,null,null,null,{"$f":"(G$5*((90/$G$35)*(90/$G$35))/2)*(1+(SQRT(1+(4/(G$5*((90/$G$35)*(90/$G$35))))*$G$40*(1-(SQRT(2)*Vin_rms_min*(SIN($Q202)/Vout))))))","v":0.254414679997976},{"$f":"(H$5*((90/$G$35)*(90/$G$35))/2)*(1+(SQRT(1+(4/(H$5*((90/$G$35)*(90/$G$35))))*$H$40*(1-(SQRT(2)*Vin_rms_min*(SIN($Q202)/Vout))))))","v":0.248208790625289},{"$f":"(I$5*((90/$G$35)*(90/$G$35))/2)*(1+(SQRT(1+(4/(I$5*((90/$G$35)*(90/$G$35))))*$I$40*(1-(SQRT(2)*Vin_rms_min*(SIN($Q202)/Vout))))))","v":0.24455771552034},{"$f":"(J$5*((90/$G$35)*(90/$G$35))/2)*(1+(SQRT(1+(4/(J$5*((90/$G$35)*(90/$G$35))))*$J$40*(1-(SQRT(2)*Vin_rms_min*(SIN($Q202)/Vout))))))","v":0.215706974988526},{"$f":"(K$5*((90/$G$35)*(90/$G$35))/2)*(1+(SQRT(1+(4/(K$5*((90/$G$35)*(90/$G$35))))*$K$40*(1-(SQRT(2)*Vin_rms_min*(SIN($Q202)/Vout))))))","v":0.298163788127197},{"$f":"(L$5*((90/$G$35)*(90/$G$35))/2)*(1+(SQRT(1+(4/(L$5*((90/$G$35)*(90/$G$35))))*$L$40*(1-(SQRT(2)*Vin_rms_min*(SIN($Q202)/Vout))))))","v":0.39755171750293},null,{"$f":"R517*ABS(1/(Vout/(SQRT(2)*$C$26*SIN($Q202))))","v":0.0865508913309549},{"$f":"S517*ABS(1/(Vout/(SQRT(2)*$C$26*SIN($Q202))))","v":0.0844396717397284},{"$f":"T517*ABS(1/(Vout/(SQRT(2)*$C$26*SIN($Q202))))","v":0.0831975900931343},{"$f":"U517*ABS(1/(Vout/(SQRT(2)*$C$26*SIN($Q202))))","v":0.0733826796146726},{"$f":"V517*ABS(1/(Vout/(SQRT(2)*$C$26*SIN($Q202))))","v":0.101434168913634},{"$f":"W517*ABS(1/(Vout/(SQRT(2)*$C$26*SIN($Q202))))","v":0.135245558551513},null,{"$f":"1/(0.0000128*(R517+Y517+$G$40))","v":34416.8215530522},{"$f":"1/(0.0000128*(S517+Z517+$H$40))","v":72867.7069849698},{"$f":"1/(0.0000128*(T517+AA517+$I$40))","v":94199.6747005928},{"$f":"1/(0.0000128*(U517+AB517+$J$40))","v":248102.784127499},{"$f":"1/(0.0000128*(V517+AC517+$K$40))","v":195509.007549849},{"$f":"1/(0.0000128*(W517+AD517+$L$40))","v":146631.755662386}]
[null,null,null,null,null,null,null,null,null,null,null,null,null,null,null,null,null,{"$f":"(G$5*((90/$G$35)*(90/$G$35))/2)*(1+(SQRT(1+(4/(G$5*((90/$G$35)*(90/$G$35))))*$G$40*(1-(SQRT(2)*Vin_rms_min*(SIN($Q203)/Vout))))))","v":0.254609957980338},{"$f":"(H$5*((90/$G$35)*(90/$G$35))/2)*(1+(SQRT(1+(4/(H$5*((90/$G$35)*(90/$G$35))))*$H$40*(1-(SQRT(2)*Vin_rms_min*(SIN($Q203)/Vout))))))","v":0.248377250563747},{"$f":"(I$5*((90/$G$35)*(90/$G$35))/2)*(1+(SQRT(1+(4/(I$5*((90/$G$35)*(90/$G$35))))*$I$40*(1-(SQRT(2)*Vin_rms_min*(SIN($Q203)/Vout))))))","v":0.244710510680183},{"$f":"(J$5*((90/$G$35)*(90/$G$35))/2)*(1+(SQRT(1+(4/(J$5*((90/$G$35)*(90/$G$35))))*$J$40*(1-(SQRT(2)*Vin_rms_min*(SIN($Q203)/Vout))))))","v":0.215733314217951},{"$f":"(K$5*((90/$G$35)*(90/$G$35))/2)*(1+(SQRT(1+(4/(K$5*((90/$G$35)*(90/$G$35))))*$K$40*(1-(SQRT(2)*Vin_rms_min*(SIN($Q203)/Vout))))))","v":0.298163788127197},{"$f":"(L$5*((90/$G$35)*(90/$G$35))/2)*(1+(SQRT(1+(4/(L$5*((90/$G$35)*(90/$G$35))))*$L$40*(1-(SQRT(2)*Vin_rms_min*(SIN($Q203)/Vout))))))","v":0.39755171750293},null,{"$f":"R518*ABS(1/(Vout/(SQRT(2)*$C$26*SIN($Q203))))","v":0.0862577605072791},{"$f":"S518*ABS(1/(Vout/(SQRT(2)*$C$26*SIN($Q203))))","v":0.0841462194351356},{"$f":"T518*ABS(1/(Vout/(SQRT(2)*$C$26*SIN($Q203))))","v":0.0829039869112082},{"$f":"U518*ABS(1/(Vout/(SQRT(2)*$C$26*SIN($Q203))))","v":0.0730869786039187},{"$f":"V518*ABS(1/(Vout/(SQRT(2)*$C$26*SIN($Q203))))","v":0.101013097964554},{"$f":"W518*ABS(1/(Vout/(SQRT(2)*$C$26*SIN($Q203))))","v":0.134684130619406},null,{"$f":"1/(0.0000128*(R518+Y518+$G$40))","v":34418.3052447011},{"$f":"1/(0.0000128*(S518+Z518+$H$40))","v":72876.2029809678},{"$f":"1/(0.0000128*(T518+AA518+$I$40))","v":94215.6706460496},{"$f":"1/(0.0000128*(U518+AB518+$J$40))","v":248315.1970246},{"$f":"1/(0.0000128*(V518+AC518+$K$40))","v":195715.239839921},{"$f":"1/(0.0000128*(W518+AD518+$L$40))","v":146786.429879941}]
[null,null,null,null,null,null,null,null,null,null,null,null,null,null,null,null,null,{"$f":"(G$5*((90/$G$35)*(90/$G$35))/2)*(1+(SQRT(1+(4/(G$5*((90/$G$35)*(90/$G$35))))*$G$40*(1-(SQRT(2)*Vin_rms_min*(SIN($Q204)/Vout))))))","v":0.254809752353432},{"$f":"(H$5*((90/$G$35)*(90/$G$35))/2)*(1+(SQRT(1+(4/(H$5*((90/$G$35)*(90/$G$35))))*$H$40*(1-(SQRT(2)*Vin_rms_min*(SIN($Q204)/Vout))))))","v":0.248549610902439},{"$f":"(I$5*((90/$G$35)*(90/$G$35))/2)*(1+(SQRT(1+(4/(I$5*((90/$G$35)*(90/$G$35))))*$I$40*(1-(SQRT(2)*Vin_rms_min*(SIN($Q204)/Vout))))))","v":0.244866847341595},{"$f":"(J$5*((90/$G$35)*(90/$G$35))/2)*(1+(SQRT(1+(4/(J$5*((90/$G$35)*(90/$G$35))))*$J$40*(1-(SQRT(2)*Vin_rms_min*(SIN($Q204)/Vout))))))","v":0.215760279131077},{"$f":"(K$5*((90/$G$35)*(90/$G$35))/2)*(1+(SQRT(1+(4/(K$5*((90/$G$35)*(90/$G$35))))*$K$40*(1-(SQRT(2)*Vin_rms_min*(SIN($Q204)/Vout))))))","v":0.298163788127197},{"$f":"(L$5*((90/$G$35)*(90/$G$35))/2)*(1+(SQRT(1+(4/(L$5*((90/$G$35)*(90/$G$35))))*$L$40*(1-(SQRT(2)*Vin_rms_min*(SIN($Q204)/Vout))))))","v":0.39755171750293},null,{"$f":"R519*ABS(1/(Vout/(SQRT(2)*$C$26*SIN($Q204))))","v":0.0859569693648067},{"$f":"S519*ABS(1/(Vout/(SQRT(2)*$C$26*SIN($Q204))))","v":0.0838451868213505},{"$f":"T519*ABS(1/(Vout/(SQRT(2)*$C$26*SIN($Q204))))","v":0.0826028513469289},{"$f":"U519*ABS(1/(Vout/(SQRT(2)*$C$26*SIN($Q204))))","v":0.0727841047374353},{"$f":"V519*ABS(1/(Vout/(SQRT(2)*$C$26*SIN($Q204))))","v":0.100581925789855},{"$f":"W519*ABS(1/(Vout/(SQRT(2)*$C$26*SIN($Q204))))","v":0.134109234386473},null,{"$f":"1/(0.0000128*(R519+Y519+$G$40))","v":34419.8367402525},{"$f":"1/(0.0000128*(S519+Z519+$H$40))","v":72884.9511779528},{"$f":"1/(0.0000128*(T519+AA519+$I$40))","v":94232.1256265706},{"$f":"1/(0.0000128*(U519+AB519+$J$40))","v":248533.150293784},{"$f":"1/(0.0000128*(V519+AC519+$K$40))","v":195926.870868515},{"$f":"1/(0.0000128*(W519+AD519+$L$40))","v":146945.153151386}]
[null,null,null,null,null,null,null,null,null,null,null,null,null,null,null,null,null,{"$f":"(G$5*((90/$G$35)*(90/$G$35))/2)*(1+(SQRT(1+(4/(G$5*((90/$G$35)*(90/$G$35))))*$G$40*(1-(SQRT(2)*Vin_rms_min*(SIN($Q205)/Vout))))))","v":0.255014031651164},{"$f":"(H$5*((90/$G$35)*(90/$G$35))/2)*(1+(SQRT(1+(4/(H$5*((90/$G$35)*(90/$G$35))))*$H$40*(1-(SQRT(2)*Vin_rms_min*(SIN($Q205)/Vout))))))","v":0.248725844775895},{"$f":"(I$5*((90/$G$35)*(90/$G$35))/2)*(1+(SQRT(1+(4/(I$5*((90/$G$35)*(90/$G$35))))*$I$40*(1-(SQRT(2)*Vin_rms_min*(SIN($Q205)/Vout))))))","v":0.245026701386655},{"$f":"(J$5*((90/$G$35)*(90/$G$35))/2)*(1+(SQRT(1+(4/(J$5*((90/$G$35)*(90/$G$35))))*$J$40*(1-(SQRT(2)*Vin_rms_min*(SIN($Q205)/Vout))))))","v":0.215787866597555},{"$f":"(K$5*((90/$G$35)*(90/$G$35))/2)*(1+(SQRT(1+(4/(K$5*((90/$G$35)*(90/$G$35))))*$K$40*(1-(SQRT(2)*Vin_rms_min*(SIN($Q205)/Vout))))))","v":0.298163788127197},{"$f":"(L$5*((90/$G$35)*(90/$G$35))/2)*(1+(SQRT(1+(4/(L$5*((90/$G$35)*(90/$G$35))))*$L$40*(1-(SQRT(2)*Vin_rms_min*(SIN($Q205)/Vout))))))","v":0.39755171750293},null,{"$f":"R520*ABS(1/(Vout/(SQRT(2)*$C$26*SIN($Q205))))","v":0.0856485043131498},{"$f":"S520*ABS(1/(Vout/(SQRT(2)*$C$26*SIN($Q205))))","v":0.0835365664043955},{"$f":"T520*ABS(1/(Vout/(SQRT(2)*$C$26*SIN($Q205))))","v":0.0822941794797354},{"$f":"U520*ABS(1/(Vout/(SQRT(2)*$C$26*SIN($Q205))))","v":0.0724740827135646},{"$f":"V520*ABS(1/(Vout/(SQRT(2)*$C$26*SIN($Q205))))","v":0.100140695506395},{"$f":"W520*ABS(1/(Vout/(SQRT(2)*$C$26*SIN($Q205))))","v":0.13352092734186},null,{"$f":"1/(0.0000128*(R520+Y520+$G$40))","v":34421.4167357734},{"$f":"1/(0.0000128*(S520+Z520+$H$40))","v":72893.9540937659},{"$f":"1/(0.0000128*(T520+AA520+$I$40))","v":94249.0433083837},{"$f":"1/(0.0000128*(U520+AB520+$J$40))","v":248756.655084653},{"$f":"1/(0.0000128*(V520+AC520+$K$40))","v":196143.913036813},{"$f":"1/(0.0000128*(W520+AD520+$L$40))","v":147107.93477761}]
[null,null,null,null,null,null,null,null,null,null,null,null,null,null,null,null,null,{"$f":"(G$5*((90/$G$35)*(90/$G$35))/2)*(1+(SQRT(1+(4/(G$5*((90/$G$35)*(90/$G$35))))*$G$40*(1-(SQRT(2)*Vin_rms_min*(SIN($Q206)/Vout))))))","v":0.255222763794035},{"$f":"(H$5*((90/$G$35)*(90/$G$35))/2)*(1+(SQRT(1+(4/(H$5*((90/$G$35)*(90/$G$35))))*$H$40*(1-(SQRT(2)*Vin_rms_min*(SIN($Q206)/Vout))))))","v":0.248905924791763},{"$f":"(I$5*((90/$G$35)*(90/$G$35))/2)*(1+(SQRT(1+(4/(I$5*((90/$G$35)*(90/$G$35))))*$I$40*(1-(SQRT(2)*Vin_rms_min*(SIN($Q206)/Vout))))))","v":0.24519004822166},{"$f":"(J$5*((90/$G$35)*(90/$G$35))/2)*(1+(SQRT(1+(4/(J$5*((90/$G$35)*(90/$G$35))))*$J$40*(1-(SQRT(2)*Vin_rms_min*(SIN($Q206)/Vout))))))","v":0.215816073417116},{"$f":"(K$5*((90/$G$35)*(90/$G$35))/2)*(1+(SQRT(1+(4/(K$5*((90/$G$35)*(90/$G$35))))*$K$40*(1-(SQRT(2)*Vin_rms_min*(SIN($Q206)/Vout))))))","v":0.298163788127197},{"$f":"(L$5*((90/$G$35)*(90/$G$35))/2)*(1+(SQRT(1+(4/(L$5*((90/$G$35)*(90/$G$35))))*$L$40*(1-(SQRT(2)*Vin_rms_min*(SIN($Q206)/Vout))))))","v":0.39755171750293},null,{"$f":"R521*ABS(1/(Vout/(SQRT(2)*$C$26*SIN($Q206))))","v":0.0853323518110171},{"$f":"S521*ABS(1/(Vout/(SQRT(2)*$C$26*SIN($Q206))))","v":0.0832203508277879},{"$f":"T521*ABS(1/(Vout/(SQRT(2)*$C$26*SIN($Q206))))","v":0.0819779675777489},{"$f":"U521*ABS(1/(Vout/(SQRT(2)*$C$26*SIN($Q206))))","v":0.072156937843379},{"$f":"V521*ABS(1/(Vout/(SQRT(2)*$C$26*SIN($Q206))))","v":0.0996894512368342},{"$f":"W521*ABS(1/(Vout/(SQRT(2)*$C$26*SIN($Q206))))","v":0.132919268315779},null,{"$f":"1/(0.0000128*(R521+Y521+$G$40))","v":34423.0459365479},{"$f":"1/(0.0000128*(S521+Z521+$H$40))","v":72903.2142804008},{"$f":"1/(0.0000128*(T521+AA521+$I$40))","v":94266.4274086912},{"$f":"1/(0.0000128*(U521+AB521+$J$40))","v":248985.722787804},{"$f":"1/(0.0000128*(V521+AC521+$K$40))","v":196366.379031833},{"$f":"1/(0.0000128*(W521+AD521+$L$40))","v":147274.784273875}]
[null,null,null,null,null,null,null,null,null,null,null,null,null,null,null,null,null,{"$f":"(G$5*((90/$G$35)*(90/$G$35))/2)*(1+(SQRT(1+(4/(G$5*((90/$G$35)*(90/$G$35))))*$G$40*(1-(SQRT(2)*Vin_rms_min*(SIN($Q207)/Vout))))))","v":0.255435916099924},{"$f":"(H$5*((90/$G$35)*(90/$G$35))/2)*(1+(SQRT(1+(4/(H$5*((90/$G$35)*(90/$G$35))))*$H$40*(1-(SQRT(2)*Vin_rms_min*(SIN($Q207)/Vout))))))","v":0.249089823039832},{"$f":"(I$5*((90/$G$35)*(90/$G$35))/2)*(1+(SQRT(1+(4/(I$5*((90/$G$35)*(90/$G$35))))*$I$40*(1-(SQRT(2)*Vin_rms_min*(SIN($Q207)/Vout))))))","v":0.245356862785065},{"$f":"(J$5*((90/$G$35)*(90/$G$35))/2)*(1+(SQRT(1+(4/(J$5*((90/$G$35)*(90/$G$35))))*$J$40*(1-(SQRT(2)*Vin_rms_min*(SIN($Q207)/Vout))))))","v":0.215844896320105},{"$f":"(K$5*((90/$G$35)*(90/$G$35))/2)*(1+(SQRT(1+(4/(K$5*((90/$G$35)*(90/$G$35))))*$K$40*(1-(SQRT(2)*Vin_rms_min*(SIN($Q207)/Vout))))))","v":0.298163788127197},{"$f":"(L$5*((90/$G$35)*(90/$G$35))/2)*(1+(SQRT(1+(4/(L$5*((90/$G$35)*(90/$G$35))))*$L$40*(1-(SQRT(2)*Vin_rms_min*(SIN($Q207)/Vout))))))","v":0.39755171750293},null,{"$f":"R522*ABS(1/(Vout/(SQRT(2)*$C$26*SIN($Q207))))","v":0.0850084983914158},{"$f":"S522*ABS(1/(Vout/(SQRT(2)*$C$26*SIN($Q207))))","v":0.0828965328936605},{"$f":"T522*ABS(1/(Vout/(SQRT(2)*$C$26*SIN($Q207))))","v":0.0816542121164663},{"$f":"U522*ABS(1/(Vout/(SQRT(2)*$C$26*SIN($Q207))))","v":0.0718326960506415},{"$f":"V522*ABS(1/(Vout/(SQRT(2)*$C$26*SIN($Q207))))","v":0.0992282381052242},{"$f":"W522*ABS(1/(Vout/(SQRT(2)*$C$26*SIN($Q207))))","v":0.132304317473632},null,{"$f":"1/(0.0000128*(R522+Y522+$G$40))","v":34424.7250565555},{"$f":"1/(0.0000128*(S522+Z522+$H$40))","v":72912.7343221617},{"$f":"1/(0.0000128*(T522+AA522+$I$40))","v":94284.2816930537},{"$f":"1/(0.0000128*(U522+AB522+$J$40))","v":249220.365032032},{"$f":"1/(0.0000128*(V522+AC522+$K$40))","v":196594.281824636},{"$f":"1/(0.0000128*(W522+AD522+$L$40))","v":147445.711368477}]
[null,null,null,null,null,null,null,null,null,null,null,null,null,null,null,null,null,{"$f":"(G$5*((90/$G$35)*(90/$G$35))/2)*(1+(SQRT(1+(4/(G$5*((90/$G$35)*(90/$G$35))))*$G$40*(1-(SQRT(2)*Vin_rms_min*(SIN($Q208)/Vout))))))","v":0.255653455294983},{"$f":"(H$5*((90/$G$35)*(90/$G$35))/2)*(1+(SQRT(1+(4/(H$5*((90/$G$35)*(90/$G$35))))*$H$40*(1-(SQRT(2)*Vin_rms_min*(SIN($Q208)/Vout))))))","v":0.249277511101163},{"$f":"(I$5*((90/$G$35)*(90/$G$35))/2)*(1+(SQRT(1+(4/(I$5*((90/$G$35)*(90/$G$35))))*$I$40*(1-(SQRT(2)*Vin_rms_min*(SIN($Q208)/Vout))))))","v":0.245527119555524},{"$f":"(J$5*((90/$G$35)*(90/$G$35))/2)*(1+(SQRT(1+(4/(J$5*((90/$G$35)*(90/$G$35))))*$J$40*(1-(SQRT(2)*Vin_rms_min*(SIN($Q208)/Vout))))))","v":0.215874331968018},{"$f":"(K$5*((90/$G$35)*(90/$G$35))/2)*(1+(SQRT(1+(4/(K$5*((90/$G$35)*(90/$G$35))))*$K$40*(1-(SQRT(2)*Vin_rms_min*(SIN($Q208)/Vout))))))","v":0.298163788127197},{"$f":"(L$5*((90/$G$35)*(90/$G$35))/2)*(1+(SQRT(1+(4/(L$5*((90/$G$35)*(90/$G$35))))*$L$40*(1-(SQRT(2)*Vin_rms_min*(SIN($Q208)/Vout))))))","v":0.39755171750293},null,{"$f":"R523*ABS(1/(Vout/(SQRT(2)*$C$26*SIN($Q208))))","v":0.0846769306871234},{"$f":"S523*ABS(1/(Vout/(SQRT(2)*$C$26*SIN($Q208))))","v":0.0825651055841063},{"$f":"T523*ABS(1/(Vout/(SQRT(2)*$C$26*SIN($Q208))))","v":0.0813229097976528},{"$f":"U523*ABS(1/(Vout/(SQRT(2)*$C$26*SIN($Q208))))","v":0.0715013838717464},{"$f":"V523*ABS(1/(Vout/(SQRT(2)*$C$26*SIN($Q208))))","v":0.0987571022324936},{"$f":"W523*ABS(1/(Vout/(SQRT(2)*$C$26*SIN($Q208))))","v":0.131676136309991},null,{"$f":"1/(0.0000128*(R523+Y523+$G$40))","v":34426.4548179438},{"$f":"1/(0.0000128*(S523+Z523+$H$40))","v":72922.516833801},{"$f":"1/(0.0000128*(T523+AA523+$I$40))","v":94302.6099727429},{"$f":"1/(0.0000128*(U523+AB523+$J$40))","v":249460.593681448},{"$f":"1/(0.0000128*(V523+AC523+$K$40))","v":196827.634668467},{"$f":"1/(0.0000128*(W523+AD523+$L$40))","v":147620.72600135}]
[null,null,null,null,null,null,null,null,null,null,null,null,null,null,null,null,null,{"$f":"(G$5*((90/$G$35)*(90/$G$35))/2)*(1+(SQRT(1+(4/(G$5*((90/$G$35)*(90/$G$35))))*$G$40*(1-(SQRT(2)*Vin_rms_min*(SIN($Q209)/Vout))))))","v":0.255875347524651},{"$f":"(H$5*((90/$G$35)*(90/$G$35))/2)*(1+(SQRT(1+(4/(H$5*((90/$G$35)*(90/$G$35))))*$H$40*(1-(SQRT(2)*Vin_rms_min*(SIN($Q209)/Vout))))))","v":0.249468960057306},{"$f":"(I$5*((90/$G$35)*(90/$G$35))/2)*(1+(SQRT(1+(4/(I$5*((90/$G$35)*(90/$G$35))))*$I$40*(1-(SQRT(2)*Vin_rms_min*(SIN($Q209)/Vout))))))","v":0.245700792560003},{"$f":"(J$5*((90/$G$35)*(90/$G$35))/2)*(1+(SQRT(1+(4/(J$5*((90/$G$35)*(90/$G$35))))*$J$40*(1-(SQRT(2)*Vin_rms_min*(SIN($Q209)/Vout))))))","v":0.21590437695405},{"$f":"(K$5*((90/$G$35)*(90/$G$35))/2)*(1+(SQRT(1+(4/(K$5*((90/$G$35)*(90/$G$35))))*$K$40*(1-(SQRT(2)*Vin_rms_min*(SIN($Q209)/Vout))))))","v":0.298163788127197},{"$f":"(L$5*((90/$G$35)*(90/$G$35))/2)*(1+(SQRT(1+(4/(L$5*((90/$G$35)*(90/$G$35))))*$L$40*(1-(SQRT(2)*Vin_rms_min*(SIN($Q209)/Vout))))))","v":0.39755171750293},null,{"$f":"R524*ABS(1/(Vout/(SQRT(2)*$C$26*SIN($Q209))))","v":0.0843376354564071},{"$f":"S524*ABS(1/(Vout/(SQRT(2)*$C$26*SIN($Q209))))","v":0.0822260620827298},{"$f":"T524*ABS(1/(Vout/(SQRT(2)*$C$26*SIN($Q209))))","v":0.08098405756842},{"$f":"U524*ABS(1/(Vout/(SQRT(2)*$C$26*SIN($Q209))))","v":0.0711630284556393},{"$f":"V524*ABS(1/(Vout/(SQRT(2)*$C$26*SIN($Q209))))","v":0.0982760907318371},{"$f":"W524*ABS(1/(Vout/(SQRT(2)*$C$26*SIN($Q209))))","v":0.131034787642449},null,{"$f":"1/(0.0000128*(R524+Y524+$G$40))","v":34428.2359504957},{"$f":"1/(0.0000128*(S524+Z524+$H$40))","v":72932.5644586377},{"$f":"1/(0.0000128*(T524+AA524+$I$40))","v":94321.4161020656},{"$f":"1/(0.0000128*(U524+AB524+$J$40))","v":249706.420832486},{"$f":"1/(0.0000128*(V524+AC524+$K$40))","v":197066.451096812},{"$f":"1/(0.0000128*(W524+AD524+$L$40))","v":147799.838322609}]
[null,null,null,null,null,null,null,null,null,null,null,null,null,null,null,null,null,{"$f":"(G$5*((90/$G$35)*(90/$G$35))/2)*(1+(SQRT(1+(4/(G$5*((90/$G$35)*(90/$G$35))))*$G$40*(1-(SQRT(2)*Vin_rms_min*(SIN($Q210)/Vout))))))","v":0.256101558364757},{"$f":"(H$5*((90/$G$35)*(90/$G$35))/2)*(1+(SQRT(1+(4/(H$5*((90/$G$35)*(90/$G$35))))*$H$40*(1-(SQRT(2)*Vin_rms_min*(SIN($Q210)/Vout))))))","v":0.249664140499605},{"$f":"(I$5*((90/$G$35)*(90/$G$35))/2)*(1+(SQRT(1+(4/(I$5*((90/$G$35)*(90/$G$35))))*$I$40*(1-(SQRT(2)*Vin_rms_min*(SIN($Q210)/Vout))))))","v":0.245877855381984},{"$f":"(J$5*((90/$G$35)*(90/$G$35))/2)*(1+(SQRT(1+(4/(J$5*((90/$G$35)*(90/$G$35))))*$J$40*(1-(SQRT(2)*Vin_rms_min*(SIN($Q210)/Vout))))))","v":0.215935027803656},{"$f":"(K$5*((90/$G$35)*(90/$G$35))/2)*(1+(SQRT(1+(4/(K$5*((90/$G$35)*(90/$G$35))))*$K$40*(1-(SQRT(2)*Vin_rms_min*(SIN($Q210)/Vout))))))","v":0.298163788127197},{"$f":"(L$5*((90/$G$35)*(90/$G$35))/2)*(1+(SQRT(1+(4/(L$5*((90/$G$35)*(90/$G$35))))*$L$40*(1-(SQRT(2)*Vin_rms_min*(SIN($Q210)/Vout))))))","v":0.39755171750293},null,{"$f":"R525*ABS(1/(Vout/(SQRT(2)*$C$26*SIN($Q210))))","v":0.0839905996089706},{"$f":"S525*ABS(1/(Vout/(SQRT(2)*$C$26*SIN($Q210))))","v":0.0818793957963897},{"$f":"T525*ABS(1/(Vout/(SQRT(2)*$C$26*SIN($Q210))))","v":0.0806376526404709},{"$f":"U525*ABS(1/(Vout/(SQRT(2)*$C$26*SIN($Q210))))","v":0.0708176575637139},{"$f":"V525*ABS(1/(Vout/(SQRT(2)*$C$26*SIN($Q210))))","v":0.0977852517040038},{"$f":"W525*ABS(1/(Vout/(SQRT(2)*$C$26*SIN($Q210))))","v":0.130380335605338},null,{"$f":"1/(0.0000128*(R525+Y525+$G$40))","v":34430.0691910921},{"$f":"1/(0.0000128*(S525+Z525+$H$40))","v":72942.8798666586},{"$f":"1/(0.0000128*(T525+AA525+$I$40))","v":94340.7039756604},{"$f":"1/(0.0000128*(U525+AB525+$J$40))","v":249957.858810821},{"$f":"1/(0.0000128*(V525+AC525+$K$40))","v":197310.744921381},{"$f":"1/(0.0000128*(W525+AD525+$L$40))","v":147983.058691036}]
[null,null,null,null,null,null,null,null,null,null,null,null,null,null,null,null,null,{"$f":"(G$5*((90/$G$35)*(90/$G$35))/2)*(1+(SQRT(1+(4/(G$5*((90/$G$35)*(90/$G$35))))*$G$40*(1-(SQRT(2)*Vin_rms_min*(SIN($Q211)/Vout))))))","v":0.256332052832717},{"$f":"(H$5*((90/$G$35)*(90/$G$35))/2)*(1+(SQRT(1+(4/(H$5*((90/$G$35)*(90/$G$35))))*$H$40*(1-(SQRT(2)*Vin_rms_min*(SIN($Q211)/Vout))))))","v":0.249863022538591},{"$f":"(I$5*((90/$G$35)*(90/$G$35))/2)*(1+(SQRT(1+(4/(I$5*((90/$G$35)*(90/$G$35))))*$I$40*(1-(SQRT(2)*Vin_rms_min*(SIN($Q211)/Vout))))))","v":0.246058281169731},{"$f":"(J$5*((90/$G$35)*(90/$G$35))/2)*(1+(SQRT(1+(4/(J$5*((90/$G$35)*(90/$G$35))))*$J$40*(1-(SQRT(2)*Vin_rms_min*(SIN($Q211)/Vout))))))","v":0.215966280975121},{"$f":"(K$5*((90/$G$35)*(90/$G$35))/2)*(1+(SQRT(1+(4/(K$5*((90/$G$35)*(90/$G$35))))*$K$40*(1-(SQRT(2)*Vin_rms_min*(SIN($Q211)/Vout))))))","v":0.298163788127197},{"$f":"(L$5*((90/$G$35)*(90/$G$35))/2)*(1+(SQRT(1+(4/(L$5*((90/$G$35)*(90/$G$35))))*$L$40*(1-(SQRT(2)*Vin_rms_min*(SIN($Q211)/Vout))))))","v":0.39755171750293},null,{"$f":"R526*ABS(1/(Vout/(SQRT(2)*$C$26*SIN($Q211))))","v":0.0836358102321107},{"$f":"S526*ABS(1/(Vout/(SQRT(2)*$C$26*SIN($Q211))))","v":0.0815251003771151},{"$f":"T526*ABS(1/(Vout/(SQRT(2)*$C$26*SIN($Q211))))","v":0.0802836925095009},{"$f":"U526*ABS(1/(Vout/(SQRT(2)*$C$26*SIN($Q211))))","v":0.0704652995696857},{"$f":"V526*ABS(1/(Vout/(SQRT(2)*$C$26*SIN($Q211))))","v":0.0972846342324876},{"$f":"W526*ABS(1/(Vout/(SQRT(2)*$C$26*SIN($Q211))))","v":0.129712845643317},null,{"$f":"1/(0.0000128*(R526+Y526+$G$40))","v":34431.9552831709},{"$f":"1/(0.0000128*(S526+Z526+$H$40))","v":72953.4657526027},{"$f":"1/(0.0000128*(T526+AA526+$I$40))","v":94360.477525769},{"$f":"1/(0.0000128*(U526+AB526+$J$40))","v":250214.920168169},{"$f":"1/(0.0000128*(V526+AC526+$K$40))","v":197560.530230009},{"$f":"1/(0.0000128*(W526+AD526+$L$40))","v":148170.397672507}]
[null,null,null,null,null,null,null,null,null,null,null,null,null,null,null,null,null,{"$f":"(G$5*((90/$G$35)*(90/$G$35))/2)*(1+(SQRT(1+(4/(G$5*((90/$G$35)*(90/$G$35))))*$G$40*(1-(SQRT(2)*Vin_rms_min*(SIN($Q212)/Vout))))))","v":0.256566795398817},{"$f":"(H$5*((90/$G$35)*(90/$G$35))/2)*(1+(SQRT(1+(4/(H$5*((90/$G$35)*(90/$G$35))))*$H$40*(1-(SQRT(2)*Vin_rms_min*(SIN($Q212)/Vout))))))","v":0.250065575813434},{"$f":"(I$5*((90/$G$35)*(90/$G$35))/2)*(1+(SQRT(1+(4/(I$5*((90/$G$35)*(90/$G$35))))*$I$40*(1-(SQRT(2)*Vin_rms_min*(SIN($Q212)/Vout))))))","v":0.246242042644636},{"$f":"(J$5*((90/$G$35)*(90/$G$35))/2)*(1+(SQRT(1+(4/(J$5*((90/$G$35)*(90/$G$35))))*$J$40*(1-(SQRT(2)*Vin_rms_min*(SIN($Q212)/Vout))))))","v":0.215998132860132},{"$f":"(K$5*((90/$G$35)*(90/$G$35))/2)*(1+(SQRT(1+(4/(K$5*((90/$G$35)*(90/$G$35))))*$K$40*(1-(SQRT(2)*Vin_rms_min*(SIN($Q212)/Vout))))))","v":0.298163788127197},{"$f":"(L$5*((90/$G$35)*(90/$G$35))/2)*(1+(SQRT(1+(4/(L$5*((90/$G$35)*(90/$G$35))))*$L$40*(1-(SQRT(2)*Vin_rms_min*(SIN($Q212)/Vout))))))","v":0.39755171750293},null,{"$f":"R527*ABS(1/(Vout/(SQRT(2)*$C$26*SIN($Q212))))","v":0.0832732546170596},{"$f":"S527*ABS(1/(Vout/(SQRT(2)*$C$26*SIN($Q212))))","v":0.0811631697441771},{"$f":"T527*ABS(1/(Vout/(SQRT(2)*$C$26*SIN($Q212))))","v":0.0799221749747364},{"$f":"U527*ABS(1/(Vout/(SQRT(2)*$C$26*SIN($Q212))))","v":0.0701059834594409},{"$f":"V527*ABS(1/(Vout/(SQRT(2)*$C$26*SIN($Q212))))","v":0.0967742883786184},{"$f":"W527*ABS(1/(Vout/(SQRT(2)*$C$26*SIN($Q212))))","v":0.129032384504825},null,{"$f":"1/(0.0000128*(R527+Y527+$G$40))","v":34433.894976181},{"$f":"1/(0.0000128*(S527+Z527+$H$40))","v":72964.3248340309},{"$f":"1/(0.0000128*(T527+AA527+$I$40))","v":94380.7407194834},{"$f":"1/(0.0000128*(U527+AB527+$J$40))","v":250477.617678999},{"$f":"1/(0.0000128*(V527+AC527+$K$40))","v":197815.821384469},{"$f":"1/(0.0000128*(W527+AD527+$L$40))","v":148361.866038351}]
[null,null,null,null,null,null,null,null,null,null,null,null,null,null,null,null,null,{"$f":"(G$5*((90/$G$35)*(90/$G$35))/2)*(1+(SQRT(1+(4/(G$5*((90/$G$35)*(90/$G$35))))*$G$40*(1-(SQRT(2)*Vin_rms_min*(SIN($Q213)/Vout))))))","v":0.256805749997571},{"$f":"(H$5*((90/$G$35)*(90/$G$35))/2)*(1+(SQRT(1+(4/(H$5*((90/$G$35)*(90/$G$35))))*$H$40*(1-(SQRT(2)*Vin_rms_min*(SIN($Q213)/Vout))))))","v":0.250271769501476},{"$f":"(I$5*((90/$G$35)*(90/$G$35))/2)*(1+(SQRT(1+(4/(I$5*((90/$G$35)*(90/$G$35))))*$I$40*(1-(SQRT(2)*Vin_rms_min*(SIN($Q213)/Vout))))))","v":0.246429112109614},{"$f":"(J$5*((90/$G$35)*(90/$G$35))/2)*(1+(SQRT(1+(4/(J$5*((90/$G$35)*(90/$G$35))))*$J$40*(1-(SQRT(2)*Vin_rms_min*(SIN($Q213)/Vout))))))","v":0.216030579784373},{"$f":"(K$5*((90/$G$35)*(90/$G$35))/2)*(1+(SQRT(1+(4/(K$5*((90/$G$35)*(90/$G$35))))*$K$40*(1-(SQRT(2)*Vin_rms_min*(SIN($Q213)/Vout))))))","v":0.298163788127197},{"$f":"(L$5*((90/$G$35)*(90/$G$35))/2)*(1+(SQRT(1+(4/(L$5*((90/$G$35)*(90/$G$35))))*$L$40*(1-(SQRT(2)*Vin_rms_min*(SIN($Q213)/Vout))))))","v":0.39755171750293},null,{"$f":"R528*ABS(1/(Vout/(SQRT(2)*$C$26*SIN($Q213))))","v":0.0829029202854963},{"$f":"S528*ABS(1/(Vout/(SQRT(2)*$C$26*SIN($Q213))))","v":0.0807935981063011},{"$f":"T528*ABS(1/(Vout/(SQRT(2)*$C$26*SIN($Q213))))","v":0.0795530981585973},{"$f":"U528*ABS(1/(Vout/(SQRT(2)*$C$26*SIN($Q213))))","v":0.0697397388308587},{"$f":"V528*ABS(1/(Vout/(SQRT(2)*$C$26*SIN($Q213))))","v":0.0962542651765563},{"$f":"W528*ABS(1/(Vout/(SQRT(2)*$C$26*SIN($Q213))))","v":0.128339020235408},null,{"$f":"1/(0.0000128*(R528+Y528+$G$40))","v":34435.8890250339},{"$f":"1/(0.0000128*(S528+Z528+$H$40))","v":72975.4598493818},{"$f":"1/(0.0000128*(T528+AA528+$I$40))","v":94401.4975559714},{"$f":"1/(0.0000128*(U528+AB528+$J$40))","v":250745.96433712},{"$f":"1/(0.0000128*(V528+AC528+$K$40))","v":198076.633018199},{"$f":"1/(0.0000128*(W528+AD528+$L$40))","v":148557.474763649}]
[null,null,null,null,null,null,null,null,null,null,null,null,null,null,null,null,null,{"$f":"(G$5*((90/$G$35)*(90/$G$35))/2)*(1+(SQRT(1+(4/(G$5*((90/$G$35)*(90/$G$35))))*$G$40*(1-(SQRT(2)*Vin_rms_min*(SIN($Q214)/Vout))))))","v":0.257048880039145},{"$f":"(H$5*((90/$G$35)*(90/$G$35))/2)*(1+(SQRT(1+(4/(H$5*((90/$G$35)*(90/$G$35))))*$H$40*(1-(SQRT(2)*Vin_rms_min*(SIN($Q214)/Vout))))))","v":0.250481572327815},{"$f":"(I$5*((90/$G$35)*(90/$G$35))/2)*(1+(SQRT(1+(4/(I$5*((90/$G$35)*(90/$G$35))))*$I$40*(1-(SQRT(2)*Vin_rms_min*(SIN($Q214)/Vout))))))","v":0.246619461457564},{"$f":"(J$5*((90/$G$35)*(90/$G$35))/2)*(1+(SQRT(1+(4/(J$5*((90/$G$35)*(90/$G$35))))*$J$40*(1-(SQRT(2)*Vin_rms_min*(SIN($Q214)/Vout))))))","v":0.216063618008116},{"$f":"(K$5*((90/$G$35)*(90/$G$35))/2)*(1+(SQRT(1+(4/(K$5*((90/$G$35)*(90/$G$35))))*$K$40*(1-(SQRT(2)*Vin_rms_min*(SIN($Q214)/Vout))))))","v":0.298163788127197},{"$f":"(L$5*((90/$G$35)*(90/$G$35))/2)*(1+(SQRT(1+(4/(L$5*((90/$G$35)*(90/$G$35))))*$L$40*(1-(SQRT(2)*Vin_rms_min*(SIN($Q214)/Vout))))))","v":0.39755171750293},null,{"$f":"R529*ABS(1/(Vout/(SQRT(2)*$C$26*SIN($Q214))))","v":0.0825247950162055},{"$f":"S529*ABS(1/(Vout/(SQRT(2)*$C$26*SIN($Q214))))","v":0.080416379984001},{"$f":"T529*ABS(1/(Vout/(SQRT(2)*$C$26*SIN($Q214))))","v":0.0791764605264691},{"$f":"U529*ABS(1/(Vout/(SQRT(2)*$C$26*SIN($Q214))))","v":0.0693665958936064},{"$f":"V529*ABS(1/(Vout/(SQRT(2)*$C$26*SIN($Q214))))","v":0.0957246166281882},{"$f":"W529*ABS(1/(Vout/(SQRT(2)*$C$26*SIN($Q214))))","v":0.127632822170918},null,{"$f":"1/(0.0000128*(R529+Y529+$G$40))","v":34437.9381895516},{"$f":"1/(0.0000128*(S529+Z529+$H$40))","v":72986.8735560151},{"$f":"1/(0.0000128*(T529+AA529+$I$40))","v":94422.7520636821},{"$f":"1/(0.0000128*(U529+AB529+$J$40))","v":251019.973352169},{"$f":"1/(0.0000128*(V529+AC529+$K$40))","v":198342.980033945},{"$f":"1/(0.0000128*(W529+AD529+$L$40))","v":148757.235025459}]
[null,null,null,null,null,null,null,null,null,null,null,null,null,null,null,null,null,{"$f":"(G$5*((90/$G$35)*(90/$G$35))/2)*(1+(SQRT(1+(4/(G$5*((90/$G$35)*(90/$G$35))))*$G$40*(1-(SQRT(2)*Vin_rms_min*(SIN($Q215)/Vout))))))","v":0.257296148420841},{"$f":"(H$5*((90/$G$35)*(90/$G$35))/2)*(1+(SQRT(1+(4/(H$5*((90/$G$35)*(90/$G$35))))*$H$40*(1-(SQRT(2)*Vin_rms_min*(SIN($Q215)/Vout))))))","v":0.250694952574945},{"$f":"(I$5*((90/$G$35)*(90/$G$35))/2)*(1+(SQRT(1+(4/(I$5*((90/$G$35)*(90/$G$35))))*$I$40*(1-(SQRT(2)*Vin_rms_min*(SIN($Q215)/Vout))))))","v":0.246813062179875},{"$f":"(J$5*((90/$G$35)*(90/$G$35))/2)*(1+(SQRT(1+(4/(J$5*((90/$G$35)*(90/$G$35))))*$J$40*(1-(SQRT(2)*Vin_rms_min*(SIN($Q215)/Vout))))))","v":0.216097243726828},{"$f":"(K$5*((90/$G$35)*(90/$G$35))/2)*(1+(SQRT(1+(4/(K$5*((90/$G$35)*(90/$G$35))))*$K$40*(1-(SQRT(2)*Vin_rms_min*(SIN($Q215)/Vout))))))","v":0.298163788127197},{"$f":"(L$5*((90/$G$35)*(90/$G$35))/2)*(1+(SQRT(1+(4/(L$5*((90/$G$35)*(90/$G$35))))*$L$40*(1-(SQRT(2)*Vin_rms_min*(SIN($Q215)/Vout))))))","v":0.39755171750293},null,{"$f":"R530*ABS(1/(Vout/(SQRT(2)*$C$26*SIN($Q215))))","v":0.0821388668718637},{"$f":"S530*ABS(1/(Vout/(SQRT(2)*$C$26*SIN($Q215))))","v":0.0800315102320188},{"$f":"T530*ABS(1/(Vout/(SQRT(2)*$C$26*SIN($Q215))))","v":0.0787922609065674},{"$f":"U530*ABS(1/(Vout/(SQRT(2)*$C$26*SIN($Q215))))","v":0.0689865854689057},{"$f":"V530*ABS(1/(Vout/(SQRT(2)*$C$26*SIN($Q215))))","v":0.0951853956979275},{"$f":"W530*ABS(1/(Vout/(SQRT(2)*$C$26*SIN($Q215))))","v":0.12691386093057},null,{"$f":"1/(0.0000128*(R530+Y530+$G$40))","v":34440.0432339117},{"$f":"1/(0.0000128*(S530+Z530+$H$40))","v":72998.5687282443},{"$f":"1/(0.0000128*(T530+AA530+$I$40))","v":94444.5082975318},{"$f":"1/(0.0000128*(U530+AB530+$J$40))","v":251299.658145977},{"$f":"1/(0.0000128*(V530+AC530+$K$40))","v":198614.877601304},{"$f":"1/(0.0000128*(W530+AD530+$L$40))","v":148961.158200978}]
[null,null,null,null,null,null,null,null,null,null,null,null,null,null,null,null,null,{"$f":"(G$5*((90/$G$35)*(90/$G$35))/2)*(1+(SQRT(1+(4/(G$5*((90/$G$35)*(90/$G$35))))*$G$40*(1-(SQRT(2)*Vin_rms_min*(SIN($Q216)/Vout))))))","v":0.257547517538636},{"$f":"(H$5*((90/$G$35)*(90/$G$35))/2)*(1+(SQRT(1+(4/(H$5*((90/$G$35)*(90/$G$35))))*$H$40*(1-(SQRT(2)*Vin_rms_min*(SIN($Q216)/Vout))))))","v":0.250911878092448},{"$f":"(I$5*((90/$G$35)*(90/$G$35))/2)*(1+(SQRT(1+(4/(I$5*((90/$G$35)*(90/$G$35))))*$I$40*(1-(SQRT(2)*Vin_rms_min*(SIN($Q216)/Vout))))))","v":0.247009885374983},{"$f":"(J$5*((90/$G$35)*(90/$G$35))/2)*(1+(SQRT(1+(4/(J$5*((90/$G$35)*(90/$G$35))))*$J$40*(1-(SQRT(2)*Vin_rms_min*(SIN($Q216)/Vout))))))","v":0.216131453071785},{"$f":"(K$5*((90/$G$35)*(90/$G$35))/2)*(1+(SQRT(1+(4/(K$5*((90/$G$35)*(90/$G$35))))*$K$40*(1-(SQRT(2)*Vin_rms_min*(SIN($Q216)/Vout))))))","v":0.298163788127197},{"$f":"(L$5*((90/$G$35)*(90/$G$35))/2)*(1+(SQRT(1+(4/(L$5*((90/$G$35)*(90/$G$35))))*$L$40*(1-(SQRT(2)*Vin_rms_min*(SIN($Q216)/Vout))))))","v":0.39755171750293},null,{"$f":"R531*ABS(1/(Vout/(SQRT(2)*$C$26*SIN($Q216))))","v":0.0817451242259332},{"$f":"S531*ABS(1/(Vout/(SQRT(2)*$C$26*SIN($Q216))))","v":0.0796389840618535},{"$f":"T531*ABS(1/(Vout/(SQRT(2)*$C$26*SIN($Q216))))","v":0.0784004985098815},{"$f":"U531*ABS(1/(Vout/(SQRT(2)*$C$26*SIN($Q216))))","v":0.0685997389892687},{"$f":"V531*ABS(1/(Vout/(SQRT(2)*$C$26*SIN($Q216))))","v":0.0946366563074179},{"$f":"W531*ABS(1/(Vout/(SQRT(2)*$C$26*SIN($Q216))))","v":0.126182208409891},null,{"$f":"1/(0.0000128*(R531+Y531+$G$40))","v":34442.2049260912},{"$f":"1/(0.0000128*(S531+Z531+$H$40))","v":73010.548155359},{"$f":"1/(0.0000128*(T531+AA531+$I$40))","v":94466.7703360742},{"$f":"1/(0.0000128*(U531+AB531+$J$40))","v":251585.032348827},{"$f":"1/(0.0000128*(V531+AC531+$K$40))","v":198892.341154172},{"$f":"1/(0.0000128*(W531+AD531+$L$40))","v":149169.255865629}]
[null,null,null,null,null,null,null,null,null,null,null,null,null,null,null,null,null,{"$f":"(G$5*((90/$G$35)*(90/$G$35))/2)*(1+(SQRT(1+(4/(G$5*((90/$G$35)*(90/$G$35))))*$G$40*(1-(SQRT(2)*Vin_rms_min*(SIN($Q217)/Vout))))))","v":0.257802949298762},{"$f":"(H$5*((90/$G$35)*(90/$G$35))/2)*(1+(SQRT(1+(4/(H$5*((90/$G$35)*(90/$G$35))))*$H$40*(1-(SQRT(2)*Vin_rms_min*(SIN($Q217)/Vout))))))","v":0.251132316306721},{"$f":"(I$5*((90/$G$35)*(90/$G$35))/2)*(1+(SQRT(1+(4/(I$5*((90/$G$35)*(90/$G$35))))*$I$40*(1-(SQRT(2)*Vin_rms_min*(SIN($Q217)/Vout))))))","v":0.247209901756959},{"$f":"(J$5*((90/$G$35)*(90/$G$35))/2)*(1+(SQRT(1+(4/(J$5*((90/$G$35)*(90/$G$35))))*$J$40*(1-(SQRT(2)*Vin_rms_min*(SIN($Q217)/Vout))))))","v":0.216166242110695},{"$f":"(K$5*((90/$G$35)*(90/$G$35))/2)*(1+(SQRT(1+(4/(K$5*((90/$G$35)*(90/$G$35))))*$K$40*(1-(SQRT(2)*Vin_rms_min*(SIN($Q217)/Vout))))))","v":0.298163788127197},{"$f":"(L$5*((90/$G$35)*(90/$G$35))/2)*(1+(SQRT(1+(4/(L$5*((90/$G$35)*(90/$G$35))))*$L$40*(1-(SQRT(2)*Vin_rms_min*(SIN($Q217)/Vout))))))","v":0.39755171750293},null,{"$f":"R532*ABS(1/(Vout/(SQRT(2)*$C$26*SIN($Q217))))","v":0.0813435557896441},{"$f":"S532*ABS(1/(Vout/(SQRT(2)*$C$26*SIN($Q217))))","v":0.0792387970643611},{"$f":"T532*ABS(1/(Vout/(SQRT(2)*$C$26*SIN($Q217))))","v":0.0780011729501819},{"$f":"U532*ABS(1/(Vout/(SQRT(2)*$C$26*SIN($Q217))))","v":0.0682060884982028},{"$f":"V532*ABS(1/(Vout/(SQRT(2)*$C$26*SIN($Q217))))","v":0.0940784533301412},{"$f":"W532*ABS(1/(Vout/(SQRT(2)*$C$26*SIN($Q217))))","v":0.125437937773522},null,{"$f":"1/(0.0000128*(R532+Y532+$G$40))","v":34444.4240373066},{"$f":"1/(0.0000128*(S532+Z532+$H$40))","v":73022.8146396383},{"$f":"1/(0.0000128*(T532+AA532+$I$40))","v":94489.5422786543},{"$f":"1/(0.0000128*(U532+AB532+$J$40))","v":251876.109795587},{"$f":"1/(0.0000128*(V532+AC532+$K$40))","v":199175.386388101},{"$f":"1/(0.0000128*(W532+AD532+$L$40))","v":149381.539791075}]
[null,null,null,null,null,null,null,null,null,null,null,null,null,null,null,null,null,{"$f":"(G$5*((90/$G$35)*(90/$G$35))/2)*(1+(SQRT(1+(4/(G$5*((90/$G$35)*(90/$G$35))))*$G$40*(1-(SQRT(2)*Vin_rms_min*(SIN($Q218)/Vout))))))","v":0.258062405129325},{"$f":"(H$5*((90/$G$35)*(90/$G$35))/2)*(1+(SQRT(1+(4/(H$5*((90/$G$35)*(90/$G$35))))*$H$40*(1-(SQRT(2)*Vin_rms_min*(SIN($Q218)/Vout))))))","v":0.251356234230744},{"$f":"(I$5*((90/$G$35)*(90/$G$35))/2)*(1+(SQRT(1+(4/(I$5*((90/$G$35)*(90/$G$35))))*$I$40*(1-(SQRT(2)*Vin_rms_min*(SIN($Q218)/Vout))))))","v":0.247413081664142},{"$f":"(J$5*((90/$G$35)*(90/$G$35))/2)*(1+(SQRT(1+(4/(J$5*((90/$G$35)*(90/$G$35))))*$J$40*(1-(SQRT(2)*Vin_rms_min*(SIN($Q218)/Vout))))))","v":0.216201606848326},{"$f":"(K$5*((90/$G$35)*(90/$G$35))/2)*(1+(SQRT(1+(4/(K$5*((90/$G$35)*(90/$G$35))))*$K$40*(1-(SQRT(2)*Vin_rms_min*(SIN($Q218)/Vout))))))","v":0.298163788127197},{"$f":"(L$5*((90/$G$35)*(90/$G$35))/2)*(1+(SQRT(1+(4/(L$5*((90/$G$35)*(90/$G$35))))*$L$40*(1-(SQRT(2)*Vin_rms_min*(SIN($Q218)/Vout))))))","v":0.39755171750293},null,{"$f":"R533*ABS(1/(Vout/(SQRT(2)*$C$26*SIN($Q218))))","v":0.0809341506390447},{"$f":"S533*ABS(1/(Vout/(SQRT(2)*$C$26*SIN($Q218))))","v":0.0788309452324107},{"$f":"T533*ABS(1/(Vout/(SQRT(2)*$C$26*SIN($Q218))))","v":0.0775942842640759},{"$f":"U533*ABS(1/(Vout/(SQRT(2)*$C$26*SIN($Q218))))","v":0.0678056666498826},{"$f":"V533*ABS(1/(Vout/(SQRT(2)*$C$26*SIN($Q218))))","v":0.0935108425859299},{"$f":"W533*ABS(1/(Vout/(SQRT(2)*$C$26*SIN($Q218))))","v":0.124681123447907},null,{"$f":"1/(0.0000128*(R533+Y533+$G$40))","v":34446.7013414543},{"$f":"1/(0.0000128*(S533+Z533+$H$40))","v":73035.3709943581},{"$f":"1/(0.0000128*(T533+AA533+$I$40))","v":94512.8282425496},{"$f":"1/(0.0000128*(U533+AB533+$J$40))","v":252172.904521726},{"$f":"1/(0.0000128*(V533+AC533+$K$40))","v":199464.029257542},{"$f":"1/(0.0000128*(W533+AD533+$L$40))","v":149598.021943156}]
[null,null,null,null,null,null,null,null,null,null,null,null,null,null,null,null,null,{"$f":"(G$5*((90/$G$35)*(90/$G$35))/2)*(1+(SQRT(1+(4/(G$5*((90/$G$35)*(90/$G$35))))*$G$40*(1-(SQRT(2)*Vin_rms_min*(SIN($Q219)/Vout))))))","v":0.258325845991956},{"$f":"(H$5*((90/$G$35)*(90/$G$35))/2)*(1+(SQRT(1+(4/(H$5*((90/$G$35)*(90/$G$35))))*$H$40*(1-(SQRT(2)*Vin_rms_min*(SIN($Q219)/Vout))))))","v":0.251583598473868},{"$f":"(I$5*((90/$G$35)*(90/$G$35))/2)*(1+(SQRT(1+(4/(I$5*((90/$G$35)*(90/$G$35))))*$I$40*(1-(SQRT(2)*Vin_rms_min*(SIN($Q219)/Vout))))))","v":0.247619395067791},{"$f":"(J$5*((90/$G$35)*(90/$G$35))/2)*(1+(SQRT(1+(4/(J$5*((90/$G$35)*(90/$G$35))))*$J$40*(1-(SQRT(2)*Vin_rms_min*(SIN($Q219)/Vout))))))","v":0.21623754322715},{"$f":"(K$5*((90/$G$35)*(90/$G$35))/2)*(1+(SQRT(1+(4/(K$5*((90/$G$35)*(90/$G$35))))*$K$40*(1-(SQRT(2)*Vin_rms_min*(SIN($Q219)/Vout))))))","v":0.298163788127197},{"$f":"(L$5*((90/$G$35)*(90/$G$35))/2)*(1+(SQRT(1+(4/(L$5*((90/$G$35)*(90/$G$35))))*$L$40*(1-(SQRT(2)*Vin_rms_min*(SIN($Q219)/Vout))))))","v":0.39755171750293},null,{"$f":"R534*ABS(1/(Vout/(SQRT(2)*$C$26*SIN($Q219))))","v":0.0805168982420997},{"$f":"S534*ABS(1/(Vout/(SQRT(2)*$C$26*SIN($Q219))))","v":0.0784154249835787},{"$f":"T534*ABS(1/(Vout/(SQRT(2)*$C$26*SIN($Q219))))","v":0.0771798329310979},{"$f":"U534*ABS(1/(Vout/(SQRT(2)*$C$26*SIN($Q219))))","v":0.0673985067087876},{"$f":"V534*ABS(1/(Vout/(SQRT(2)*$C$26*SIN($Q219))))","v":0.0929338808353855},{"$f":"W534*ABS(1/(Vout/(SQRT(2)*$C$26*SIN($Q219))))","v":0.123911841113847},null,{"$f":"1/(0.0000128*(R534+Y534+$G$40))","v":34449.0376145486},{"$f":"1/(0.0000128*(S534+Z534+$H$40))","v":73048.2200417908},{"$f":"1/(0.0000128*(T534+AA534+$I$40))","v":94536.6323600983},{"$f":"1/(0.0000128*(U534+AB534+$J$40))","v":252475.430759196},{"$f":"1/(0.0000128*(V534+AC534+$K$40))","v":199758.285972997},{"$f":"1/(0.0000128*(W534+AD534+$L$40))","v":149818.714479747}]
[null,null,null,null,null,null,null,null,null,null,null,null,null,null,null,null,null,{"$f":"(G$5*((90/$G$35)*(90/$G$35))/2)*(1+(SQRT(1+(4/(G$5*((90/$G$35)*(90/$G$35))))*$G$40*(1-(SQRT(2)*Vin_rms_min*(SIN($Q220)/Vout))))))","v":0.258593232393476},{"$f":"(H$5*((90/$G$35)*(90/$G$35))/2)*(1+(SQRT(1+(4/(H$5*((90/$G$35)*(90/$G$35))))*$H$40*(1-(SQRT(2)*Vin_rms_min*(SIN($Q220)/Vout))))))","v":0.251814375251638},{"$f":"(I$5*((90/$G$35)*(90/$G$35))/2)*(1+(SQRT(1+(4/(I$5*((90/$G$35)*(90/$G$35))))*$I$40*(1-(SQRT(2)*Vin_rms_min*(SIN($Q220)/Vout))))))","v":0.247828811580766},{"$f":"(J$5*((90/$G$35)*(90/$G$35))/2)*(1+(SQRT(1+(4/(J$5*((90/$G$35)*(90/$G$35))))*$J$40*(1-(SQRT(2)*Vin_rms_min*(SIN($Q220)/Vout))))))","v":0.216274047127982},{"$f":"(K$5*((90/$G$35)*(90/$G$35))/2)*(1+(SQRT(1+(4/(K$5*((90/$G$35)*(90/$G$35))))*$K$40*(1-(SQRT(2)*Vin_rms_min*(SIN($Q220)/Vout))))))","v":0.298163788127197},{"$f":"(L$5*((90/$G$35)*(90/$G$35))/2)*(1+(SQRT(1+(4/(L$5*((90/$G$35)*(90/$G$35))))*$L$40*(1-(SQRT(2)*Vin_rms_min*(SIN($Q220)/Vout))))))","v":0.39755171750293},null,{"$f":"R535*ABS(1/(Vout/(SQRT(2)*$C$26*SIN($Q220))))","v":0.080091788485819},{"$f":"S535*ABS(1/(Vout/(SQRT(2)*$C$26*SIN($Q220))))","v":0.0779922331828652},{"$f":"T535*ABS(1/(Vout/(SQRT(2)*$C$26*SIN($Q220))))","v":0.0767578198938179},{"$f":"U535*ABS(1/(Vout/(SQRT(2)*$C$26*SIN($Q220))))","v":0.066984642549305},{"$f":"V535*ABS(1/(Vout/(SQRT(2)*$C$26*SIN($Q220))))","v":0.0923476257742022},{"$f":"W535*ABS(1/(Vout/(SQRT(2)*$C$26*SIN($Q220))))","v":0.123130167698936},null,{"$f":"1/(0.0000128*(R535+Y535+$G$40))","v":34451.4336341592},{"$f":"1/(0.0000128*(S535+Z535+$H$40))","v":73061.364611201},{"$f":"1/(0.0000128*(T535+AA535+$I$40))","v":94560.9587758178},{"$f":"1/(0.0000128*(U535+AB535+$J$40))","v":252783.702932206},{"$f":"1/(0.0000128*(V535+AC535+$K$40))","v":200058.172998052},{"$f":"1/(0.0000128*(W535+AD535+$L$40))","v":150043.629748539}]
[null,null,null,null,null,null,null,null,null,null,null,null,null,null,null,null,null,{"$f":"(G$5*((90/$G$35)*(90/$G$35))/2)*(1+(SQRT(1+(4/(G$5*((90/$G$35)*(90/$G$35))))*$G$40*(1-(SQRT(2)*Vin_rms_min*(SIN($Q221)/Vout))))))","v":0.25886452439759},{"$f":"(H$5*((90/$G$35)*(90/$G$35))/2)*(1+(SQRT(1+(4/(H$5*((90/$G$35)*(90/$G$35))))*$H$40*(1-(SQRT(2)*Vin_rms_min*(SIN($Q221)/Vout))))))","v":0.252048530395623},{"$f":"(I$5*((90/$G$35)*(90/$G$35))/2)*(1+(SQRT(1+(4/(I$5*((90/$G$35)*(90/$G$35))))*$I$40*(1-(SQRT(2)*Vin_rms_min*(SIN($Q221)/Vout))))))","v":0.24804130046623},{"$f":"(J$5*((90/$G$35)*(90/$G$35))/2)*(1+(SQRT(1+(4/(J$5*((90/$G$35)*(90/$G$35))))*$J$40*(1-(SQRT(2)*Vin_rms_min*(SIN($Q221)/Vout))))))","v":0.216311114370642},{"$f":"(K$5*((90/$G$35)*(90/$G$35))/2)*(1+(SQRT(1+(4/(K$5*((90/$G$35)*(90/$G$35))))*$K$40*(1-(SQRT(2)*Vin_rms_min*(SIN($Q221)/Vout))))))","v":0.298163788127197},{"$f":"(L$5*((90/$G$35)*(90/$G$35))/2)*(1+(SQRT(1+(4/(L$5*((90/$G$35)*(90/$G$35))))*$L$40*(1-(SQRT(2)*Vin_rms_min*(SIN($Q221)/Vout))))))","v":0.39755171750293},null,{"$f":"R536*ABS(1/(Vout/(SQRT(2)*$C$26*SIN($Q221))))","v":0.0796588117033946},{"$f":"S536*ABS(1/(Vout/(SQRT(2)*$C$26*SIN($Q221))))","v":0.0775613671654159},{"$f":"T536*ABS(1/(Vout/(SQRT(2)*$C$26*SIN($Q221))))","v":0.0763282465779557},{"$f":"U536*ABS(1/(Vout/(SQRT(2)*$C$26*SIN($Q221))))","v":0.0665641086552949},{"$f":"V536*ABS(1/(Vout/(SQRT(2)*$C$26*SIN($Q221))))","v":0.0917521360273975},{"$f":"W536*ABS(1/(Vout/(SQRT(2)*$C$26*SIN($Q221))))","v":0.122336181369863},null,{"$f":"1/(0.0000128*(R536+Y536+$G$40))","v":34453.8901788487},{"$f":"1/(0.0000128*(S536+Z536+$H$40))","v":73074.8075368366},{"$f":"1/(0.0000128*(T536+AA536+$I$40))","v":94585.8116435142},{"$f":"1/(0.0000128*(U536+AB536+$J$40))","v":253097.73565284},{"$f":"1/(0.0000128*(V536+AC536+$K$40))","v":200363.707046304},{"$f":"1/(0.0000128*(W536+AD536+$L$40))","v":150272.780284728}]
[null,null,null,null,null,null,null,null,null,null,null,null,null,null,null,null,null,{"$f":"(G$5*((90/$G$35)*(90/$G$35))/2)*(1+(SQRT(1+(4/(G$5*((90/$G$35)*(90/$G$35))))*$G$40*(1-(SQRT(2)*Vin_rms_min*(SIN($Q222)/Vout))))))","v":0.259139681636574},{"$f":"(H$5*((90/$G$35)*(90/$G$35))/2)*(1+(SQRT(1+(4/(H$5*((90/$G$35)*(90/$G$35))))*$H$40*(1-(SQRT(2)*Vin_rms_min*(SIN($Q222)/Vout))))))","v":0.252286029363261},{"$f":"(I$5*((90/$G$35)*(90/$G$35))/2)*(1+(SQRT(1+(4/(I$5*((90/$G$35)*(90/$G$35))))*$I$40*(1-(SQRT(2)*Vin_rms_min*(SIN($Q222)/Vout))))))","v":0.248256830646354},{"$f":"(J$5*((90/$G$35)*(90/$G$35))/2)*(1+(SQRT(1+(4/(J$5*((90/$G$35)*(90/$G$35))))*$J$40*(1-(SQRT(2)*Vin_rms_min*(SIN($Q222)/Vout))))))","v":0.216348740714614},{"$f":"(K$5*((90/$G$35)*(90/$G$35))/2)*(1+(SQRT(1+(4/(K$5*((90/$G$35)*(90/$G$35))))*$K$40*(1-(SQRT(2)*Vin_rms_min*(SIN($Q222)/Vout))))))","v":0.298163788127197},{"$f":"(L$5*((90/$G$35)*(90/$G$35))/2)*(1+(SQRT(1+(4/(L$5*((90/$G$35)*(90/$G$35))))*$L$40*(1-(SQRT(2)*Vin_rms_min*(SIN($Q222)/Vout))))))","v":0.39755171750293},null,{"$f":"R537*ABS(1/(Vout/(SQRT(2)*$C$26*SIN($Q222))))","v":0.0792179587013302},{"$f":"S537*ABS(1/(Vout/(SQRT(2)*$C$26*SIN($Q222))))","v":0.0771228247592348},{"$f":"T537*ABS(1/(Vout/(SQRT(2)*$C$26*SIN($Q222))))","v":0.0758911149124848},{"$f":"U537*ABS(1/(Vout/(SQRT(2)*$C$26*SIN($Q222))))","v":0.0661369401196184},{"$f":"V537*ABS(1/(Vout/(SQRT(2)*$C$26*SIN($Q222))))","v":0.09114747114345},{"$f":"W537*ABS(1/(Vout/(SQRT(2)*$C$26*SIN($Q222))))","v":0.1215299615246},null,{"$f":"1/(0.0000128*(R537+Y537+$G$40))","v":34456.4080276092},{"$f":"1/(0.0000128*(S537+Z537+$H$40))","v":73088.5516559178},{"$f":"1/(0.0000128*(T537+AA537+$I$40))","v":94611.1951233831},{"$f":"1/(0.0000128*(U537+AB537+$J$40))","v":253417.543716565},{"$f":"1/(0.0000128*(V537+AC537+$K$40))","v":200674.90507817},{"$f":"1/(0.0000128*(W537+AD537+$L$40))","v":150506.178808628}]
[null,null,null,null,null,null,null,null,null,null,null,null,null,null,null,null,null,{"$f":"(G$5*((90/$G$35)*(90/$G$35))/2)*(1+(SQRT(1+(4/(G$5*((90/$G$35)*(90/$G$35))))*$G$40*(1-(SQRT(2)*Vin_rms_min*(SIN($Q223)/Vout))))))","v":0.259418663322975},{"$f":"(H$5*((90/$G$35)*(90/$G$35))/2)*(1+(SQRT(1+(4/(H$5*((90/$G$35)*(90/$G$35))))*$H$40*(1-(SQRT(2)*Vin_rms_min*(SIN($Q223)/Vout))))))","v":0.252526837247711},{"$f":"(I$5*((90/$G$35)*(90/$G$35))/2)*(1+(SQRT(1+(4/(I$5*((90/$G$35)*(90/$G$35))))*$I$40*(1-(SQRT(2)*Vin_rms_min*(SIN($Q223)/Vout))))))","v":0.248475370711046},{"$f":"(J$5*((90/$G$35)*(90/$G$35))/2)*(1+(SQRT(1+(4/(J$5*((90/$G$35)*(90/$G$35))))*$J$40*(1-(SQRT(2)*Vin_rms_min*(SIN($Q223)/Vout))))))","v":0.216386921859714},{"$f":"(K$5*((90/$G$35)*(90/$G$35))/2)*(1+(SQRT(1+(4/(K$5*((90/$G$35)*(90/$G$35))))*$K$40*(1-(SQRT(2)*Vin_rms_min*(SIN($Q223)/Vout))))))","v":0.298163788127197},{"$f":"(L$5*((90/$G$35)*(90/$G$35))/2)*(1+(SQRT(1+(4/(L$5*((90/$G$35)*(90/$G$35))))*$L$40*(1-(SQRT(2)*Vin_rms_min*(SIN($Q223)/Vout))))))","v":0.39755171750293},null,{"$f":"R538*ABS(1/(Vout/(SQRT(2)*$C$26*SIN($Q223))))","v":0.0787692207865411},{"$f":"S538*ABS(1/(Vout/(SQRT(2)*$C$26*SIN($Q223))))","v":0.0766766043078684},{"$f":"T538*ABS(1/(Vout/(SQRT(2)*$C$26*SIN($Q223))))","v":0.0754464273497113},{"$f":"U538*ABS(1/(Vout/(SQRT(2)*$C$26*SIN($Q223))))","v":0.0657031726436251},{"$f":"V538*ABS(1/(Vout/(SQRT(2)*$C$26*SIN($Q223))))","v":0.0905336915883441},{"$f":"W538*ABS(1/(Vout/(SQRT(2)*$C$26*SIN($Q223))))","v":0.120711588784459},null,{"$f":"1/(0.0000128*(R538+Y538+$G$40))","v":34458.9879592997},{"$f":"1/(0.0000128*(S538+Z538+$H$40))","v":73102.5998066247},{"$f":"1/(0.0000128*(T538+AA538+$I$40))","v":94637.1133791068},{"$f":"1/(0.0000128*(U538+AB538+$J$40))","v":253743.142097586},{"$f":"1/(0.0000128*(V538+AC538+$K$40))","v":200991.784297582},{"$f":"1/(0.0000128*(W538+AD538+$L$40))","v":150743.838223187}]
[null,null,null,null,null,null,null,null,null,null,null,null,null,null,null,null,null,{"$f":"(G$5*((90/$G$35)*(90/$G$35))/2)*(1+(SQRT(1+(4/(G$5*((90/$G$35)*(90/$G$35))))*$G$40*(1-(SQRT(2)*Vin_rms_min*(SIN($Q224)/Vout))))))","v":0.259701428261297},{"$f":"(H$5*((90/$G$35)*(90/$G$35))/2)*(1+(SQRT(1+(4/(H$5*((90/$G$35)*(90/$G$35))))*$H$40*(1-(SQRT(2)*Vin_rms_min*(SIN($Q224)/Vout))))))","v":0.252770918787698},{"$f":"(I$5*((90/$G$35)*(90/$G$35))/2)*(1+(SQRT(1+(4/(I$5*((90/$G$35)*(90/$G$35))))*$I$40*(1-(SQRT(2)*Vin_rms_min*(SIN($Q224)/Vout))))))","v":0.248696888926669},{"$f":"(J$5*((90/$G$35)*(90/$G$35))/2)*(1+(SQRT(1+(4/(J$5*((90/$G$35)*(90/$G$35))))*$J$40*(1-(SQRT(2)*Vin_rms_min*(SIN($Q224)/Vout))))))","v":0.216425653446769},{"$f":"(K$5*((90/$G$35)*(90/$G$35))/2)*(1+(SQRT(1+(4/(K$5*((90/$G$35)*(90/$G$35))))*$K$40*(1-(SQRT(2)*Vin_rms_min*(SIN($Q224)/Vout))))))","v":0.298163788127197},{"$f":"(L$5*((90/$G$35)*(90/$G$35))/2)*(1+(SQRT(1+(4/(L$5*((90/$G$35)*(90/$G$35))))*$L$40*(1-(SQRT(2)*Vin_rms_min*(SIN($Q224)/Vout))))))","v":0.39755171750293},null,{"$f":"R539*ABS(1/(Vout/(SQRT(2)*$C$26*SIN($Q224))))","v":0.078312589793409},{"$f":"S539*ABS(1/(Vout/(SQRT(2)*$C$26*SIN($Q224))))","v":0.0762227046930495},{"$f":"T539*ABS(1/(Vout/(SQRT(2)*$C$26*SIN($Q224))))","v":0.0749941868853159},{"$f":"U539*ABS(1/(Vout/(SQRT(2)*$C$26*SIN($Q224))))","v":0.0652628425366006},{"$f":"V539*ABS(1/(Vout/(SQRT(2)*$C$26*SIN($Q224))))","v":0.0899108587395239},{"$f":"W539*ABS(1/(Vout/(SQRT(2)*$C$26*SIN($Q224))))","v":0.119881144986032},null,{"$f":"1/(0.0000128*(R539+Y539+$G$40))","v":34461.6307520842},{"$f":"1/(0.0000128*(S539+Z539+$H$40))","v":73116.9548260834},{"$f":"1/(0.0000128*(T539+AA539+$I$40))","v":94663.5705749449},{"$f":"1/(0.0000128*(U539+AB539+$J$40))","v":254074.545944071},{"$f":"1/(0.0000128*(V539+AC539+$K$40))","v":201314.362148556},{"$f":"1/(0.0000128*(W539+AD539+$L$40))","v":150985.771611417}]
[null,null,null,null,null,null,null,null,null,null,null,null,null,null,null,null,null,{"$f":"(G$5*((90/$G$35)*(90/$G$35))/2)*(1+(SQRT(1+(4/(G$5*((90/$G$35)*(90/$G$35))))*$G$40*(1-(SQRT(2)*Vin_rms_min*(SIN($Q225)/Vout))))))","v":0.259987934859686},{"$f":"(H$5*((90/$G$35)*(90/$G$35))/2)*(1+(SQRT(1+(4/(H$5*((90/$G$35)*(90/$G$35))))*$H$40*(1-(SQRT(2)*Vin_rms_min*(SIN($Q225)/Vout))))))","v":0.253018238377361},{"$f":"(I$5*((90/$G$35)*(90/$G$35))/2)*(1+(SQRT(1+(4/(I$5*((90/$G$35)*(90/$G$35))))*$I$40*(1-(SQRT(2)*Vin_rms_min*(SIN($Q225)/Vout))))))","v":0.248921353244764},{"$f":"(J$5*((90/$G$35)*(90/$G$35))/2)*(1+(SQRT(1+(4/(J$5*((90/$G$35)*(90/$G$35))))*$J$40*(1-(SQRT(2)*Vin_rms_min*(SIN($Q225)/Vout))))))","v":0.216464931058298},{"$f":"(K$5*((90/$G$35)*(90/$G$35))/2)*(1+(SQRT(1+(4/(K$5*((90/$G$35)*(90/$G$35))))*$K$40*(1-(SQRT(2)*Vin_rms_min*(SIN($Q225)/Vout))))))","v":0.298163788127197},{"$f":"(L$5*((90/$G$35)*(90/$G$35))/2)*(1+(SQRT(1+(4/(L$5*((90/$G$35)*(90/$G$35))))*$L$40*(1-(SQRT(2)*Vin_rms_min*(SIN($Q225)/Vout))))))","v":0.39755171750293},null,{"$f":"R540*ABS(1/(Vout/(SQRT(2)*$C$26*SIN($Q225))))","v":0.0778480581107701},{"$f":"S540*ABS(1/(Vout/(SQRT(2)*$C$26*SIN($Q225))))","v":0.0757611253572819},{"$f":"T540*ABS(1/(Vout/(SQRT(2)*$C$26*SIN($Q225))))","v":0.074534397078342},{"$f":"U540*ABS(1/(Vout/(SQRT(2)*$C$26*SIN($Q225))))","v":0.0648159867151714},{"$f":"V540*ABS(1/(Vout/(SQRT(2)*$C$26*SIN($Q225))))","v":0.0892790348797551},{"$f":"W540*ABS(1/(Vout/(SQRT(2)*$C$26*SIN($Q225))))","v":0.119038713173007},null,{"$f":"1/(0.0000128*(R540+Y540+$G$40))","v":34464.3371828701},{"$f":"1/(0.0000128*(S540+Z540+$H$40))","v":73131.6195483544},{"$f":"1/(0.0000128*(T540+AA540+$I$40))","v":94690.5708728227},{"$f":"1/(0.0000128*(U540+AB540+$J$40))","v":254411.770573227},{"$f":"1/(0.0000128*(V540+AC540+$K$40))","v":201642.656311634},{"$f":"1/(0.0000128*(W540+AD540+$L$40))","v":151231.992233725}]
[null,null,null,null,null,null,null,null,null,null,null,null,null,null,null,null,null,{"$f":"(G$5*((90/$G$35)*(90/$G$35))/2)*(1+(SQRT(1+(4/(G$5*((90/$G$35)*(90/$G$35))))*$G$40*(1-(SQRT(2)*Vin_rms_min*(SIN($Q226)/Vout))))))","v":0.260278141141579},{"$f":"(H$5*((90/$G$35)*(90/$G$35))/2)*(1+(SQRT(1+(4/(H$5*((90/$G$35)*(90/$G$35))))*$H$40*(1-(SQRT(2)*Vin_rms_min*(SIN($Q226)/Vout))))))","v":0.253268760076085},{"$f":"(I$5*((90/$G$35)*(90/$G$35))/2)*(1+(SQRT(1+(4/(I$5*((90/$G$35)*(90/$G$35))))*$I$40*(1-(SQRT(2)*Vin_rms_min*(SIN($Q226)/Vout))))))","v":0.24914873131077},{"$f":"(J$5*((90/$G$35)*(90/$G$35))/2)*(1+(SQRT(1+(4/(J$5*((90/$G$35)*(90/$G$35))))*$J$40*(1-(SQRT(2)*Vin_rms_min*(SIN($Q226)/Vout))))))","v":0.216504750219205},{"$f":"(K$5*((90/$G$35)*(90/$G$35))/2)*(1+(SQRT(1+(4/(K$5*((90/$G$35)*(90/$G$35))))*$K$40*(1-(SQRT(2)*Vin_rms_min*(SIN($Q226)/Vout))))))","v":0.298163788127197},{"$f":"(L$5*((90/$G$35)*(90/$G$35))/2)*(1+(SQRT(1+(4/(L$5*((90/$G$35)*(90/$G$35))))*$L$40*(1-(SQRT(2)*Vin_rms_min*(SIN($Q226)/Vout))))))","v":0.39755171750293},null,{"$f":"R541*ABS(1/(Vout/(SQRT(2)*$C$26*SIN($Q226))))","v":0.0773756187088209},{"$f":"S541*ABS(1/(Vout/(SQRT(2)*$C$26*SIN($Q226))))","v":0.0752918663263514},{"$f":"T541*ABS(1/(Vout/(SQRT(2)*$C$26*SIN($Q226))))","v":0.0740670620711182},{"$f":"U541*ABS(1/(Vout/(SQRT(2)*$C$26*SIN($Q226))))","v":0.0643626427026666},{"$f":"V541*ABS(1/(Vout/(SQRT(2)*$C$26*SIN($Q226))))","v":0.0886382831908974},{"$f":"W541*ABS(1/(Vout/(SQRT(2)*$C$26*SIN($Q226))))","v":0.118184377587863},null,{"$f":"1/(0.0000128*(R541+Y541+$G$40))","v":34467.1080267488},{"$f":"1/(0.0000128*(S541+Z541+$H$40))","v":73146.5968024208},{"$f":"1/(0.0000128*(T541+AA541+$I$40))","v":94718.1184294179},{"$f":"1/(0.0000128*(U541+AB541+$J$40))","v":254754.831466232},{"$f":"1/(0.0000128*(V541+AC541+$K$40))","v":201976.684700202},{"$f":"1/(0.0000128*(W541+AD541+$L$40))","v":151482.513525152}]
[null,null,null,null,null,null,null,null,null,null,null,null,null,null,null,null,null,{"$f":"(G$5*((90/$G$35)*(90/$G$35))/2)*(1+(SQRT(1+(4/(G$5*((90/$G$35)*(90/$G$35))))*$G$40*(1-(SQRT(2)*Vin_rms_min*(SIN($Q227)/Vout))))))","v":0.260572004757349},{"$f":"(H$5*((90/$G$35)*(90/$G$35))/2)*(1+(SQRT(1+(4/(H$5*((90/$G$35)*(90/$G$35))))*$H$40*(1-(SQRT(2)*Vin_rms_min*(SIN($Q227)/Vout))))))","v":0.253522447618316},{"$f":"(I$5*((90/$G$35)*(90/$G$35))/2)*(1+(SQRT(1+(4/(I$5*((90/$G$35)*(90/$G$35))))*$I$40*(1-(SQRT(2)*Vin_rms_min*(SIN($Q227)/Vout))))))","v":0.249378990472726},{"$f":"(J$5*((90/$G$35)*(90/$G$35))/2)*(1+(SQRT(1+(4/(J$5*((90/$G$35)*(90/$G$35))))*$J$40*(1-(SQRT(2)*Vin_rms_min*(SIN($Q227)/Vout))))))","v":0.216545106397472},{"$f":"(K$5*((90/$G$35)*(90/$G$35))/2)*(1+(SQRT(1+(4/(K$5*((90/$G$35)*(90/$G$35))))*$K$40*(1-(SQRT(2)*Vin_rms_min*(SIN($Q227)/Vout))))))","v":0.298163788127197},{"$f":"(L$5*((90/$G$35)*(90/$G$35))/2)*(1+(SQRT(1+(4/(L$5*((90/$G$35)*(90/$G$35))))*$L$40*(1-(SQRT(2)*Vin_rms_min*(SIN($Q227)/Vout))))))","v":0.39755171750293},null,{"$f":"R542*ABS(1/(Vout/(SQRT(2)*$C$26*SIN($Q227))))","v":0.0768952651659223},{"$f":"S542*ABS(1/(Vout/(SQRT(2)*$C$26*SIN($Q227))))","v":0.0748149282317489},{"$f":"T542*ABS(1/(Vout/(SQRT(2)*$C$26*SIN($Q227))))","v":0.0735921866091005},{"$f":"U542*ABS(1/(Vout/(SQRT(2)*$C$26*SIN($Q227))))","v":0.0639028486284338},{"$f":"V542*ABS(1/(Vout/(SQRT(2)*$C$26*SIN($Q227))))","v":0.0879886677475855},{"$f":"W542*ABS(1/(Vout/(SQRT(2)*$C$26*SIN($Q227))))","v":0.117318223663447},null,{"$f":"1/(0.0000128*(R542+Y542+$G$40))","v":34469.9440564367},{"$f":"1/(0.0000128*(S542+Z542+$H$40))","v":73161.8894101807},{"$f":"1/(0.0000128*(T542+AA542+$I$40))","v":94746.2173932466},{"$f":"1/(0.0000128*(U542+AB542+$J$40))","v":255103.744263015},{"$f":"1/(0.0000128*(V542+AC542+$K$40))","v":202316.465456673},{"$f":"1/(0.0000128*(W542+AD542+$L$40))","v":151737.349092505}]
[null,null,null,null,null,null,null,null,null,null,null,null,null,null,null,null,null,{"$f":"(G$5*((90/$G$35)*(90/$G$35))/2)*(1+(SQRT(1+(4/(G$5*((90/$G$35)*(90/$G$35))))*$G$40*(1-(SQRT(2)*Vin_rms_min*(SIN($Q228)/Vout))))))","v":0.260869482995902},{"$f":"(H$5*((90/$G$35)*(90/$G$35))/2)*(1+(SQRT(1+(4/(H$5*((90/$G$35)*(90/$G$35))))*$H$40*(1-(SQRT(2)*Vin_rms_min*(SIN($Q228)/Vout))))))","v":0.253779264423353},{"$f":"(I$5*((90/$G$35)*(90/$G$35))/2)*(1+(SQRT(1+(4/(I$5*((90/$G$35)*(90/$G$35))))*$I$40*(1-(SQRT(2)*Vin_rms_min*(SIN($Q228)/Vout))))))","v":0.249612097789962},{"$f":"(J$5*((90/$G$35)*(90/$G$35))/2)*(1+(SQRT(1+(4/(J$5*((90/$G$35)*(90/$G$35))))*$J$40*(1-(SQRT(2)*Vin_rms_min*(SIN($Q228)/Vout))))))","v":0.216585995004865},{"$f":"(K$5*((90/$G$35)*(90/$G$35))/2)*(1+(SQRT(1+(4/(K$5*((90/$G$35)*(90/$G$35))))*$K$40*(1-(SQRT(2)*Vin_rms_min*(SIN($Q228)/Vout))))))","v":0.298163788127197},{"$f":"(L$5*((90/$G$35)*(90/$G$35))/2)*(1+(SQRT(1+(4/(L$5*((90/$G$35)*(90/$G$35))))*$L$40*(1-(SQRT(2)*Vin_rms_min*(SIN($Q228)/Vout))))))","v":0.39755171750293},null,{"$f":"R543*ABS(1/(Vout/(SQRT(2)*$C$26*SIN($Q228))))","v":0.0764069916952844},{"$f":"S543*ABS(1/(Vout/(SQRT(2)*$C$26*SIN($Q228))))","v":0.0743303123329882},{"$f":"T543*ABS(1/(Vout/(SQRT(2)*$C$26*SIN($Q228))))","v":0.0731097760606204},{"$f":"U543*ABS(1/(Vout/(SQRT(2)*$C$26*SIN($Q228))))","v":0.06343664322711},{"$f":"V543*ABS(1/(Vout/(SQRT(2)*$C$26*SIN($Q228))))","v":0.0873302535108226},{"$f":"W543*ABS(1/(Vout/(SQRT(2)*$C$26*SIN($Q228))))","v":0.11644033801443},null,{"$f":"1/(0.0000128*(R543+Y543+$G$40))","v":34472.8460417195},{"$f":"1/(0.0000128*(S543+Z543+$H$40))","v":73177.5001844427},{"$f":"1/(0.0000128*(T543+AA543+$I$40))","v":94774.8719017506},{"$f":"1/(0.0000128*(U543+AB543+$J$40))","v":255458.524756889},{"$f":"1/(0.0000128*(V543+AC543+$K$40))","v":202662.016948526},{"$f":"1/(0.0000128*(W543+AD543+$L$40))","v":151996.512711394}]
[null,null,null,null,null,null,null,null,null,null,null,null,null,null,null,null,null,{"$f":"(G$5*((90/$G$35)*(90/$G$35))/2)*(1+(SQRT(1+(4/(G$5*((90/$G$35)*(90/$G$35))))*$G$40*(1-(SQRT(2)*Vin_rms_min*(SIN($Q229)/Vout))))))","v":0.261170532796242},{"$f":"(H$5*((90/$G$35)*(90/$G$35))/2)*(1+(SQRT(1+(4/(H$5*((90/$G$35)*(90/$G$35))))*$H$40*(1-(SQRT(2)*Vin_rms_min*(SIN($Q229)/Vout))))))","v":0.254039173605121},{"$f":"(I$5*((90/$G$35)*(90/$G$35))/2)*(1+(SQRT(1+(4/(I$5*((90/$G$35)*(90/$G$35))))*$I$40*(1-(SQRT(2)*Vin_rms_min*(SIN($Q229)/Vout))))))","v":0.249848020041772},{"$f":"(J$5*((90/$G$35)*(90/$G$35))/2)*(1+(SQRT(1+(4/(J$5*((90/$G$35)*(90/$G$35))))*$J$40*(1-(SQRT(2)*Vin_rms_min*(SIN($Q229)/Vout))))))","v":0.216627411397644},{"$f":"(K$5*((90/$G$35)*(90/$G$35))/2)*(1+(SQRT(1+(4/(K$5*((90/$G$35)*(90/$G$35))))*$K$40*(1-(SQRT(2)*Vin_rms_min*(SIN($Q229)/Vout))))))","v":0.298163788127197},{"$f":"(L$5*((90/$G$35)*(90/$G$35))/2)*(1+(SQRT(1+(4/(L$5*((90/$G$35)*(90/$G$35))))*$L$40*(1-(SQRT(2)*Vin_rms_min*(SIN($Q229)/Vout))))))","v":0.39755171750293},null,{"$f":"R544*ABS(1/(Vout/(SQRT(2)*$C$26*SIN($Q229))))","v":0.0759107931715154},{"$f":"S544*ABS(1/(Vout/(SQRT(2)*$C$26*SIN($Q229))))","v":0.0738380205398062},{"$f":"T544*ABS(1/(Vout/(SQRT(2)*$C$26*SIN($Q229))))","v":0.0726198364365267},{"$f":"U544*ABS(1/(Vout/(SQRT(2)*$C$26*SIN($Q229))))","v":0.0629640658378438},{"$f":"V544*ABS(1/(Vout/(SQRT(2)*$C$26*SIN($Q229))))","v":0.0866631063214835},{"$f":"W544*ABS(1/(Vout/(SQRT(2)*$C$26*SIN($Q229))))","v":0.115550808428645},null,{"$f":"1/(0.0000128*(R544+Y544+$G$40))","v":34475.8147488973},{"$f":"1/(0.0000128*(S544+Z544+$H$40))","v":73193.431926926},{"$f":"1/(0.0000128*(T544+AA544+$I$40))","v":94804.0860783863},{"$f":"1/(0.0000128*(U544+AB544+$J$40))","v":255819.188889013},{"$f":"1/(0.0000128*(V544+AC544+$K$40))","v":203013.35776421},{"$f":"1/(0.0000128*(W544+AD544+$L$40))","v":152260.018323158}]
[null,null,null,null,null,null,null,null,null,null,null,null,null,null,null,null,null,{"$f":"(G$5*((90/$G$35)*(90/$G$35))/2)*(1+(SQRT(1+(4/(G$5*((90/$G$35)*(90/$G$35))))*$G$40*(1-(SQRT(2)*Vin_rms_min*(SIN($Q230)/Vout))))))","v":0.261475110759001},{"$f":"(H$5*((90/$G$35)*(90/$G$35))/2)*(1+(SQRT(1+(4/(H$5*((90/$G$35)*(90/$G$35))))*$H$40*(1-(SQRT(2)*Vin_rms_min*(SIN($Q230)/Vout))))))","v":0.254302137981903},{"$f":"(I$5*((90/$G$35)*(90/$G$35))/2)*(1+(SQRT(1+(4/(I$5*((90/$G$35)*(90/$G$35))))*$I$40*(1-(SQRT(2)*Vin_rms_min*(SIN($Q230)/Vout))))))","v":0.250086723736059},{"$f":"(J$5*((90/$G$35)*(90/$G$35))/2)*(1+(SQRT(1+(4/(J$5*((90/$G$35)*(90/$G$35))))*$J$40*(1-(SQRT(2)*Vin_rms_min*(SIN($Q230)/Vout))))))","v":0.216669350877274},{"$f":"(K$5*((90/$G$35)*(90/$G$35))/2)*(1+(SQRT(1+(4/(K$5*((90/$G$35)*(90/$G$35))))*$K$40*(1-(SQRT(2)*Vin_rms_min*(SIN($Q230)/Vout))))))","v":0.298163788127197},{"$f":"(L$5*((90/$G$35)*(90/$G$35))/2)*(1+(SQRT(1+(4/(L$5*((90/$G$35)*(90/$G$35))))*$L$40*(1-(SQRT(2)*Vin_rms_min*(SIN($Q230)/Vout))))))","v":0.39755171750293},null,{"$f":"R545*ABS(1/(Vout/(SQRT(2)*$C$26*SIN($Q230))))","v":0.0754066651570161},{"$f":"S545*ABS(1/(Vout/(SQRT(2)*$C$26*SIN($Q230))))","v":0.0733380554342286},{"$f":"T545*ABS(1/(Vout/(SQRT(2)*$C$26*SIN($Q230))))","v":0.0721223744097066},{"$f":"U545*ABS(1/(Vout/(SQRT(2)*$C$26*SIN($Q230))))","v":0.0624851564034693},{"$f":"V545*ABS(1/(Vout/(SQRT(2)*$C$26*SIN($Q230))))","v":0.0859872928937313},{"$f":"W545*ABS(1/(Vout/(SQRT(2)*$C$26*SIN($Q230))))","v":0.114649723858308},null,{"$f":"1/(0.0000128*(R545+Y545+$G$40))","v":34478.8509402335},{"$f":"1/(0.0000128*(S545+Z545+$H$40))","v":73209.6874262659},{"$f":"1/(0.0000128*(T545+AA545+$I$40))","v":94833.8640297178},{"$f":"1/(0.0000128*(U545+AB545+$J$40))","v":256185.752742712},{"$f":"1/(0.0000128*(V545+AC545+$K$40))","v":203370.506708905},{"$f":"1/(0.0000128*(W545+AD545+$L$40))","v":152527.880031679}]
[null,null,null,null,null,null,null,null,null,null,null,null,null,null,null,null,null,{"$f":"(G$5*((90/$G$35)*(90/$G$35))/2)*(1+(SQRT(1+(4/(G$5*((90/$G$35)*(90/$G$35))))*$G$40*(1-(SQRT(2)*Vin_rms_min*(SIN($Q231)/Vout))))))","v":0.261783173157909},{"$f":"(H$5*((90/$G$35)*(90/$G$35))/2)*(1+(SQRT(1+(4/(H$5*((90/$G$35)*(90/$G$35))))*$H$40*(1-(SQRT(2)*Vin_rms_min*(SIN($Q231)/Vout))))))","v":0.254568120086041},{"$f":"(I$5*((90/$G$35)*(90/$G$35))/2)*(1+(SQRT(1+(4/(I$5*((90/$G$35)*(90/$G$35))))*$I$40*(1-(SQRT(2)*Vin_rms_min*(SIN($Q231)/Vout))))))","v":0.250328175117952},{"$f":"(J$5*((90/$G$35)*(90/$G$35))/2)*(1+(SQRT(1+(4/(J$5*((90/$G$35)*(90/$G$35))))*$J$40*(1-(SQRT(2)*Vin_rms_min*(SIN($Q231)/Vout))))))","v":0.216711808691151},{"$f":"(K$5*((90/$G$35)*(90/$G$35))/2)*(1+(SQRT(1+(4/(K$5*((90/$G$35)*(90/$G$35))))*$K$40*(1-(SQRT(2)*Vin_rms_min*(SIN($Q231)/Vout))))))","v":0.298163788127197},{"$f":"(L$5*((90/$G$35)*(90/$G$35))/2)*(1+(SQRT(1+(4/(L$5*((90/$G$35)*(90/$G$35))))*$L$40*(1-(SQRT(2)*Vin_rms_min*(SIN($Q231)/Vout))))))","v":0.39755171750293},null,{"$f":"R546*ABS(1/(Vout/(SQRT(2)*$C$26*SIN($Q231))))","v":0.0748946039282047},{"$f":"S546*ABS(1/(Vout/(SQRT(2)*$C$26*SIN($Q231))))","v":0.0728304202924882},{"$f":"T546*ABS(1/(Vout/(SQRT(2)*$C$26*SIN($Q231))))","v":0.0716173973344737},{"$f":"U546*ABS(1/(Vout/(SQRT(2)*$C$26*SIN($Q231))))","v":0.0619999554696293},{"$f":"V546*ABS(1/(Vout/(SQRT(2)*$C$26*SIN($Q231))))","v":0.0853028808083455},{"$f":"W546*ABS(1/(Vout/(SQRT(2)*$C$26*SIN($Q231))))","v":0.113737174411127},null,{"$f":"1/(0.0000128*(R546+Y546+$G$40))","v":34481.9553734055},{"$f":"1/(0.0000128*(S546+Z546+$H$40))","v":73226.2694560269},{"$f":"1/(0.0000128*(T546+AA546+$I$40))","v":94864.2098425137},{"$f":"1/(0.0000128*(U546+AB546+$J$40))","v":256558.232537612},{"$f":"1/(0.0000128*(V546+AC546+$K$40))","v":203733.482800123},{"$f":"1/(0.0000128*(W546+AD546+$L$40))","v":152800.112100092}]
[null,null,null,null,null,null,null,null,null,null,null,null,null,null,null,null,null,{"$f":"(G$5*((90/$G$35)*(90/$G$35))/2)*(1+(SQRT(1+(4/(G$5*((90/$G$35)*(90/$G$35))))*$G$40*(1-(SQRT(2)*Vin_rms_min*(SIN($Q232)/Vout))))))","v":0.262094675951214},{"$f":"(H$5*((90/$G$35)*(90/$G$35))/2)*(1+(SQRT(1+(4/(H$5*((90/$G$35)*(90/$G$35))))*$H$40*(1-(SQRT(2)*Vin_rms_min*(SIN($Q232)/Vout))))))","v":0.254837082173595},{"$f":"(I$5*((90/$G$35)*(90/$G$35))/2)*(1+(SQRT(1+(4/(I$5*((90/$G$35)*(90/$G$35))))*$I$40*(1-(SQRT(2)*Vin_rms_min*(SIN($Q232)/Vout))))))","v":0.250572340178397},{"$f":"(J$5*((90/$G$35)*(90/$G$35))/2)*(1+(SQRT(1+(4/(J$5*((90/$G$35)*(90/$G$35))))*$J$40*(1-(SQRT(2)*Vin_rms_min*(SIN($Q232)/Vout))))))","v":0.216754780033323},{"$f":"(K$5*((90/$G$35)*(90/$G$35))/2)*(1+(SQRT(1+(4/(K$5*((90/$G$35)*(90/$G$35))))*$K$40*(1-(SQRT(2)*Vin_rms_min*(SIN($Q232)/Vout))))))","v":0.298163788127197},{"$f":"(L$5*((90/$G$35)*(90/$G$35))/2)*(1+(SQRT(1+(4/(L$5*((90/$G$35)*(90/$G$35))))*$L$40*(1-(SQRT(2)*Vin_rms_min*(SIN($Q232)/Vout))))))","v":0.39755171750293},null,{"$f":"R547*ABS(1/(Vout/(SQRT(2)*$C$26*SIN($Q232))))","v":0.0743746065015536},{"$f":"S547*ABS(1/(Vout/(SQRT(2)*$C$26*SIN($Q232))))","v":0.0723151191067809},{"$f":"T547*ABS(1/(Vout/(SQRT(2)*$C$26*SIN($Q232))))","v":0.0711049132658103},{"$f":"U547*ABS(1/(Vout/(SQRT(2)*$C$26*SIN($Q232))))","v":0.0615085041838468},{"$f":"V547*ABS(1/(Vout/(SQRT(2)*$C$26*SIN($Q232))))","v":0.0846099385059644},{"$f":"W547*ABS(1/(Vout/(SQRT(2)*$C$26*SIN($Q232))))","v":0.112813251341286},null,{"$f":"1/(0.0000128*(R547+Y547+$G$40))","v":34485.1288009591},{"$f":"1/(0.0000128*(S547+Z547+$H$40))","v":73243.1807727216},{"$f":"1/(0.0000128*(T547+AA547+$I$40))","v":94895.1275808502},{"$f":"1/(0.0000128*(U547+AB547+$J$40))","v":256936.644623627},{"$f":"1/(0.0000128*(V547+AC547+$K$40))","v":204102.305263163},{"$f":"1/(0.0000128*(W547+AD547+$L$40))","v":153076.728947372}]
[null,null,null,null,null,null,null,null,null,null,null,null,null,null,null,null,null,{"$f":"(G$5*((90/$G$35)*(90/$G$35))/2)*(1+(SQRT(1+(4/(G$5*((90/$G$35)*(90/$G$35))))*$G$40*(1-(SQRT(2)*Vin_rms_min*(SIN($Q233)/Vout))))))","v":0.262409574793048},{"$f":"(H$5*((90/$G$35)*(90/$G$35))/2)*(1+(SQRT(1+(4/(H$5*((90/$G$35)*(90/$G$35))))*$H$40*(1-(SQRT(2)*Vin_rms_min*(SIN($Q233)/Vout))))))","v":0.255108986233955},{"$f":"(I$5*((90/$G$35)*(90/$G$35))/2)*(1+(SQRT(1+(4/(I$5*((90/$G$35)*(90/$G$35))))*$I$40*(1-(SQRT(2)*Vin_rms_min*(SIN($Q233)/Vout))))))","v":0.250819184662703},{"$f":"(J$5*((90/$G$35)*(90/$G$35))/2)*(1+(SQRT(1+(4/(J$5*((90/$G$35)*(90/$G$35))))*$J$40*(1-(SQRT(2)*Vin_rms_min*(SIN($Q233)/Vout))))))","v":0.216798260045228},{"$f":"(K$5*((90/$G$35)*(90/$G$35))/2)*(1+(SQRT(1+(4/(K$5*((90/$G$35)*(90/$G$35))))*$K$40*(1-(SQRT(2)*Vin_rms_min*(SIN($Q233)/Vout))))))","v":0.298163788127197},{"$f":"(L$5*((90/$G$35)*(90/$G$35))/2)*(1+(SQRT(1+(4/(L$5*((90/$G$35)*(90/$G$35))))*$L$40*(1-(SQRT(2)*Vin_rms_min*(SIN($Q233)/Vout))))))","v":0.39755171750293},null,{"$f":"R548*ABS(1/(Vout/(SQRT(2)*$C$26*SIN($Q233))))","v":0.0738466706594241},{"$f":"S548*ABS(1/(Vout/(SQRT(2)*$C$26*SIN($Q233))))","v":0.0717921566068462},{"$f":"T548*ABS(1/(Vout/(SQRT(2)*$C$26*SIN($Q233))))","v":0.0705849309784507},{"$f":"U548*ABS(1/(Vout/(SQRT(2)*$C$26*SIN($Q233))))","v":0.0610108442945439},{"$f":"V548*ABS(1/(Vout/(SQRT(2)*$C$26*SIN($Q233))))","v":0.0839085352802408},{"$f":"W548*ABS(1/(Vout/(SQRT(2)*$C$26*SIN($Q233))))","v":0.111878047040321},null,{"$f":"1/(0.0000128*(R548+Y548+$G$40))","v":34488.3719697658},{"$f":"1/(0.0000128*(S548+Z548+$H$40))","v":73260.4241138393},{"$f":"1/(0.0000128*(T548+AA548+$I$40))","v":94926.621283221},{"$f":"1/(0.0000128*(U548+AB548+$J$40))","v":257321.005474756},{"$f":"1/(0.0000128*(V548+AC548+$K$40))","v":204476.993526402},{"$f":"1/(0.0000128*(W548+AD548+$L$40))","v":153357.745144801}]
[null,null,null,null,null,null,null,null,null,null,null,null,null,null,null,null,null,{"$f":"(G$5*((90/$G$35)*(90/$G$35))/2)*(1+(SQRT(1+(4/(G$5*((90/$G$35)*(90/$G$35))))*$G$40*(1-(SQRT(2)*Vin_rms_min*(SIN($Q234)/Vout))))))","v":0.262727825044719},{"$f":"(H$5*((90/$G$35)*(90/$G$35))/2)*(1+(SQRT(1+(4/(H$5*((90/$G$35)*(90/$G$35))))*$H$40*(1-(SQRT(2)*Vin_rms_min*(SIN($Q234)/Vout))))))","v":0.255383793999406},{"$f":"(I$5*((90/$G$35)*(90/$G$35))/2)*(1+(SQRT(1+(4/(I$5*((90/$G$35)*(90/$G$35))))*$I$40*(1-(SQRT(2)*Vin_rms_min*(SIN($Q234)/Vout))))))","v":0.251068674079052},{"$f":"(J$5*((90/$G$35)*(90/$G$35))/2)*(1+(SQRT(1+(4/(J$5*((90/$G$35)*(90/$G$35))))*$J$40*(1-(SQRT(2)*Vin_rms_min*(SIN($Q234)/Vout))))))","v":0.216842243816424},{"$f":"(K$5*((90/$G$35)*(90/$G$35))/2)*(1+(SQRT(1+(4/(K$5*((90/$G$35)*(90/$G$35))))*$K$40*(1-(SQRT(2)*Vin_rms_min*(SIN($Q234)/Vout))))))","v":0.298163788127197},{"$f":"(L$5*((90/$G$35)*(90/$G$35))/2)*(1+(SQRT(1+(4/(L$5*((90/$G$35)*(90/$G$35))))*$L$40*(1-(SQRT(2)*Vin_rms_min*(SIN($Q234)/Vout))))))","v":0.39755171750293},null,{"$f":"R549*ABS(1/(Vout/(SQRT(2)*$C$26*SIN($Q234))))","v":0.0733107949756804},{"$f":"S549*ABS(1/(Vout/(SQRT(2)*$C$26*SIN($Q234))))","v":0.0712615382813568},{"$f":"T549*ABS(1/(Vout/(SQRT(2)*$C$26*SIN($Q234))))","v":0.0700574599857949},{"$f":"U549*ABS(1/(Vout/(SQRT(2)*$C$26*SIN($Q234))))","v":0.0605070181500059},{"$f":"V549*ABS(1/(Vout/(SQRT(2)*$C$26*SIN($Q234))))","v":0.0831987412709127},{"$f":"W549*ABS(1/(Vout/(SQRT(2)*$C$26*SIN($Q234))))","v":0.110931655027884},null,{"$f":"1/(0.0000128*(R549+Y549+$G$40))","v":34491.6856204846},{"$f":"1/(0.0000128*(S549+Z549+$H$40))","v":73278.0021958829},{"$f":"1/(0.0000128*(T549+AA549+$I$40))","v":94958.694959655},{"$f":"1/(0.0000128*(U549+AB549+$J$40))","v":257711.331682712},{"$f":"1/(0.0000128*(V549+AC549+$K$40))","v":204857.567216427},{"$f":"1/(0.0000128*(W549+AD549+$L$40))","v":153643.17541232}]
[null,null,null,null,null,null,null,null,null,null,null,null,null,null,null,null,null,{"$f":"(G$5*((90/$G$35)*(90/$G$35))/2)*(1+(SQRT(1+(4/(G$5*((90/$G$35)*(90/$G$35))))*$G$40*(1-(SQRT(2)*Vin_rms_min*(SIN($Q235)/Vout))))))","v":0.263049381785942},{"$f":"(H$5*((90/$G$35)*(90/$G$35))/2)*(1+(SQRT(1+(4/(H$5*((90/$G$35)*(90/$G$35))))*$H$40*(1-(SQRT(2)*Vin_rms_min*(SIN($Q235)/Vout))))))","v":0.255661466954638},{"$f":"(I$5*((90/$G$35)*(90/$G$35))/2)*(1+(SQRT(1+(4/(I$5*((90/$G$35)*(90/$G$35))))*$I$40*(1-(SQRT(2)*Vin_rms_min*(SIN($Q235)/Vout))))))","v":0.251320773706969},{"$f":"(J$5*((90/$G$35)*(90/$G$35))/2)*(1+(SQRT(1+(4/(J$5*((90/$G$35)*(90/$G$35))))*$J$40*(1-(SQRT(2)*Vin_rms_min*(SIN($Q235)/Vout))))))","v":0.216886726385338},{"$f":"(K$5*((90/$G$35)*(90/$G$35))/2)*(1+(SQRT(1+(4/(K$5*((90/$G$35)*(90/$G$35))))*$K$40*(1-(SQRT(2)*Vin_rms_min*(SIN($Q235)/Vout))))))","v":0.298163788127197},{"$f":"(L$5*((90/$G$35)*(90/$G$35))/2)*(1+(SQRT(1+(4/(L$5*((90/$G$35)*(90/$G$35))))*$L$40*(1-(SQRT(2)*Vin_rms_min*(SIN($Q235)/Vout))))))","v":0.39755171750293},null,{"$f":"R550*ABS(1/(Vout/(SQRT(2)*$C$26*SIN($Q235))))","v":0.07276697884107},{"$f":"S550*ABS(1/(Vout/(SQRT(2)*$C$26*SIN($Q235))))","v":0.0707232703991069},{"$f":"T550*ABS(1/(Vout/(SQRT(2)*$C$26*SIN($Q235))))","v":0.0695225105586381},{"$f":"U550*ABS(1/(Vout/(SQRT(2)*$C$26*SIN($Q235))))","v":0.0599970686972902},{"$f":"V550*ABS(1/(Vout/(SQRT(2)*$C$26*SIN($Q235))))","v":0.0824806274567895},{"$f":"W550*ABS(1/(Vout/(SQRT(2)*$C$26*SIN($Q235))))","v":0.109974169942386},null,{"$f":"1/(0.0000128*(R550+Y550+$G$40))","v":34495.0704870267},{"$f":"1/(0.0000128*(S550+Z550+$H$40))","v":73295.9177124158},{"$f":"1/(0.0000128*(T550+AA550+$I$40))","v":94991.3525888426},{"$f":"1/(0.0000128*(U550+AB550+$J$40))","v":258107.639950374},{"$f":"1/(0.0000128*(V550+AC550+$K$40))","v":205244.046152996},{"$f":"1/(0.0000128*(W550+AD550+$L$40))","v":153933.034614747}]
[null,null,null,null,null,null,null,null,null,null,null,null,null,null,null,null,null,{"$f":"(G$5*((90/$G$35)*(90/$G$35))/2)*(1+(SQRT(1+(4/(G$5*((90/$G$35)*(90/$G$35))))*$G$40*(1-(SQRT(2)*Vin_rms_min*(SIN($Q236)/Vout))))))","v":0.263374199825989},{"$f":"(H$5*((90/$G$35)*(90/$G$35))/2)*(1+(SQRT(1+(4/(H$5*((90/$G$35)*(90/$G$35))))*$H$40*(1-(SQRT(2)*Vin_rms_min*(SIN($Q236)/Vout))))))","v":0.255941966346195},{"$f":"(I$5*((90/$G$35)*(90/$G$35))/2)*(1+(SQRT(1+(4/(I$5*((90/$G$35)*(90/$G$35))))*$I$40*(1-(SQRT(2)*Vin_rms_min*(SIN($Q236)/Vout))))))","v":0.251575448605736},{"$f":"(J$5*((90/$G$35)*(90/$G$35))/2)*(1+(SQRT(1+(4/(J$5*((90/$G$35)*(90/$G$35))))*$J$40*(1-(SQRT(2)*Vin_rms_min*(SIN($Q236)/Vout))))))","v":0.216931702740008},{"$f":"(K$5*((90/$G$35)*(90/$G$35))/2)*(1+(SQRT(1+(4/(K$5*((90/$G$35)*(90/$G$35))))*$K$40*(1-(SQRT(2)*Vin_rms_min*(SIN($Q236)/Vout))))))","v":0.298163788127197},{"$f":"(L$5*((90/$G$35)*(90/$G$35))/2)*(1+(SQRT(1+(4/(L$5*((90/$G$35)*(90/$G$35))))*$L$40*(1-(SQRT(2)*Vin_rms_min*(SIN($Q236)/Vout))))))","v":0.39755171750293},null,{"$f":"R551*ABS(1/(Vout/(SQRT(2)*$C$26*SIN($Q236))))","v":0.072215222488353},{"$f":"S551*ABS(1/(Vout/(SQRT(2)*$C$26*SIN($Q236))))","v":0.0701773600299827},{"$f":"T551*ABS(1/(Vout/(SQRT(2)*$C$26*SIN($Q236))))","v":0.0689800937437067},{"$f":"U551*ABS(1/(Vout/(SQRT(2)*$C$26*SIN($Q236))))","v":0.0594810394810778},{"$f":"V551*ABS(1/(Vout/(SQRT(2)*$C$26*SIN($Q236))))","v":0.0817542656486544},{"$f":"W551*ABS(1/(Vout/(SQRT(2)*$C$26*SIN($Q236))))","v":0.109005687531539},null,{"$f":"1/(0.0000128*(R551+Y551+$G$40))","v":34498.5272960246},{"$f":"1/(0.0000128*(S551+Z551+$H$40))","v":73314.1733321199},{"$f":"1/(0.0000128*(T551+AA551+$I$40))","v":95024.5981152728},{"$f":"1/(0.0000128*(U551+AB551+$J$40))","v":258509.947085047},{"$f":"1/(0.0000128*(V551+AC551+$K$40))","v":205636.450343824},{"$f":"1/(0.0000128*(W551+AD551+$L$40))","v":154227.337757868}]
[null,null,null,null,null,null,null,null,null,null,null,null,null,null,null,null,null,{"$f":"(G$5*((90/$G$35)*(90/$G$35))/2)*(1+(SQRT(1+(4/(G$5*((90/$G$35)*(90/$G$35))))*$G$40*(1-(SQRT(2)*Vin_rms_min*(SIN($Q237)/Vout))))))","v":0.263702233714768},{"$f":"(H$5*((90/$G$35)*(90/$G$35))/2)*(1+(SQRT(1+(4/(H$5*((90/$G$35)*(90/$G$35))))*$H$40*(1-(SQRT(2)*Vin_rms_min*(SIN($Q237)/Vout))))))","v":0.256225253191868},{"$f":"(I$5*((90/$G$35)*(90/$G$35))/2)*(1+(SQRT(1+(4/(I$5*((90/$G$35)*(90/$G$35))))*$I$40*(1-(SQRT(2)*Vin_rms_min*(SIN($Q237)/Vout))))))","v":0.251832663622765},{"$f":"(J$5*((90/$G$35)*(90/$G$35))/2)*(1+(SQRT(1+(4/(J$5*((90/$G$35)*(90/$G$35))))*$J$40*(1-(SQRT(2)*Vin_rms_min*(SIN($Q237)/Vout))))))","v":0.216977167818835},{"$f":"(K$5*((90/$G$35)*(90/$G$35))/2)*(1+(SQRT(1+(4/(K$5*((90/$G$35)*(90/$G$35))))*$K$40*(1-(SQRT(2)*Vin_rms_min*(SIN($Q237)/Vout))))))","v":0.298163788127197},{"$f":"(L$5*((90/$G$35)*(90/$G$35))/2)*(1+(SQRT(1+(4/(L$5*((90/$G$35)*(90/$G$35))))*$L$40*(1-(SQRT(2)*Vin_rms_min*(SIN($Q237)/Vout))))))","v":0.39755171750293},null,{"$f":"R552*ABS(1/(Vout/(SQRT(2)*$C$26*SIN($Q237))))","v":0.0716555270171667},{"$f":"S552*ABS(1/(Vout/(SQRT(2)*$C$26*SIN($Q237))))","v":0.069623815065705},{"$f":"T552*ABS(1/(Vout/(SQRT(2)*$C$26*SIN($Q237))))","v":0.0684302213819872},{"$f":"U552*ABS(1/(Vout/(SQRT(2)*$C$26*SIN($Q237))))","v":0.0589589746424668},{"$f":"V552*ABS(1/(Vout/(SQRT(2)*$C$26*SIN($Q237))))","v":0.0810197284820826},{"$f":"W552*ABS(1/(Vout/(SQRT(2)*$C$26*SIN($Q237))))","v":0.108026304642777},null,{"$f":"1/(0.0000128*(R552+Y552+$G$40))","v":34502.0567663065},{"$f":"1/(0.0000128*(S552+Z552+$H$40))","v":73332.7716968646},{"$f":"1/(0.0000128*(T552+AA552+$I$40))","v":95058.4354463802},{"$f":"1/(0.0000128*(U552+AB552+$J$40))","v":258918.269991537},{"$f":"1/(0.0000128*(V552+AC552+$K$40))","v":206034.799979193},{"$f":"1/(0.0000128*(W552+AD552+$L$40))","v":154526.099984395}]
[null,null,null,null,null,null,null,null,null,null,null,null,null,null,null,null,null,{"$f":"(G$5*((90/$G$35)*(90/$G$35))/2)*(1+(SQRT(1+(4/(G$5*((90/$G$35)*(90/$G$35))))*$G$40*(1-(SQRT(2)*Vin_rms_min*(SIN($Q238)/Vout))))))","v":0.264033437753807},{"$f":"(H$5*((90/$G$35)*(90/$G$35))/2)*(1+(SQRT(1+(4/(H$5*((90/$G$35)*(90/$G$35))))*$H$40*(1-(SQRT(2)*Vin_rms_min*(SIN($Q238)/Vout))))))","v":0.256511288290015},{"$f":"(I$5*((90/$G$35)*(90/$G$35))/2)*(1+(SQRT(1+(4/(I$5*((90/$G$35)*(90/$G$35))))*$I$40*(1-(SQRT(2)*Vin_rms_min*(SIN($Q238)/Vout))))))","v":0.252092383401904},{"$f":"(J$5*((90/$G$35)*(90/$G$35))/2)*(1+(SQRT(1+(4/(J$5*((90/$G$35)*(90/$G$35))))*$J$40*(1-(SQRT(2)*Vin_rms_min*(SIN($Q238)/Vout))))))","v":0.217023116511339},{"$f":"(K$5*((90/$G$35)*(90/$G$35))/2)*(1+(SQRT(1+(4/(K$5*((90/$G$35)*(90/$G$35))))*$K$40*(1-(SQRT(2)*Vin_rms_min*(SIN($Q238)/Vout))))))","v":0.298163788127197},{"$f":"(L$5*((90/$G$35)*(90/$G$35))/2)*(1+(SQRT(1+(4/(L$5*((90/$G$35)*(90/$G$35))))*$L$40*(1-(SQRT(2)*Vin_rms_min*(SIN($Q238)/Vout))))))","v":0.39755171750293},null,{"$f":"R553*ABS(1/(Vout/(SQRT(2)*$C$26*SIN($Q238))))","v":0.0710878944186109},{"$f":"S553*ABS(1/(Vout/(SQRT(2)*$C$26*SIN($Q238))))","v":0.0690626442403299},{"$f":"T553*ABS(1/(Vout/(SQRT(2)*$C$26*SIN($Q238))))","v":0.0678729061268384},{"$f":"U553*ABS(1/(Vout/(SQRT(2)*$C$26*SIN($Q238))))","v":0.0584309189177062},{"$f":"V553*ABS(1/(Vout/(SQRT(2)*$C$26*SIN($Q238))))","v":0.0802770894101789},{"$f":"W553*ABS(1/(Vout/(SQRT(2)*$C$26*SIN($Q238))))","v":0.107036119213572},null,{"$f":"1/(0.0000128*(R553+Y553+$G$40))","v":34505.6596083741},{"$f":"1/(0.0000128*(S553+Z553+$H$40))","v":73351.7154197876},{"$f":"1/(0.0000128*(T553+AA553+$I$40))","v":95092.8684497043},{"$f":"1/(0.0000128*(U553+AB553+$J$40))","v":259332.625665029},{"$f":"1/(0.0000128*(V553+AC553+$K$40))","v":206439.115426383},{"$f":"1/(0.0000128*(W553+AD553+$L$40))","v":154829.336569787}]
[null,null,null,null,null,null,null,null,null,null,null,null,null,null,null,null,null,{"$f":"(G$5*((90/$G$35)*(90/$G$35))/2)*(1+(SQRT(1+(4/(G$5*((90/$G$35)*(90/$G$35))))*$G$40*(1-(SQRT(2)*Vin_rms_min*(SIN($Q239)/Vout))))))","v":0.264367766007165},{"$f":"(H$5*((90/$G$35)*(90/$G$35))/2)*(1+(SQRT(1+(4/(H$5*((90/$G$35)*(90/$G$35))))*$H$40*(1-(SQRT(2)*Vin_rms_min*(SIN($Q239)/Vout))))))","v":0.256800032228819},{"$f":"(I$5*((90/$G$35)*(90/$G$35))/2)*(1+(SQRT(1+(4/(I$5*((90/$G$35)*(90/$G$35))))*$I$40*(1-(SQRT(2)*Vin_rms_min*(SIN($Q239)/Vout))))))","v":0.252354572391704},{"$f":"(J$5*((90/$G$35)*(90/$G$35))/2)*(1+(SQRT(1+(4/(J$5*((90/$G$35)*(90/$G$35))))*$J$40*(1-(SQRT(2)*Vin_rms_min*(SIN($Q239)/Vout))))))","v":0.217069543658919},{"$f":"(K$5*((90/$G$35)*(90/$G$35))/2)*(1+(SQRT(1+(4/(K$5*((90/$G$35)*(90/$G$35))))*$K$40*(1-(SQRT(2)*Vin_rms_min*(SIN($Q239)/Vout))))))","v":0.298163788127197},{"$f":"(L$5*((90/$G$35)*(90/$G$35))/2)*(1+(SQRT(1+(4/(L$5*((90/$G$35)*(90/$G$35))))*$L$40*(1-(SQRT(2)*Vin_rms_min*(SIN($Q239)/Vout))))))","v":0.39755171750293},null,{"$f":"R554*ABS(1/(Vout/(SQRT(2)*$C$26*SIN($Q239))))","v":0.0705123275995382},{"$f":"S554*ABS(1/(Vout/(SQRT(2)*$C$26*SIN($Q239))))","v":0.0684938571504957},{"$f":"T554*ABS(1/(Vout/(SQRT(2)*$C$26*SIN($Q239))))","v":0.067308161461874},{"$f":"U554*ABS(1/(Vout/(SQRT(2)*$C$26*SIN($Q239))))","v":0.0578969176368692},{"$f":"V554*ABS(1/(Vout/(SQRT(2)*$C$26*SIN($Q239))))","v":0.0795264226962315},{"$f":"W554*ABS(1/(Vout/(SQRT(2)*$C$26*SIN($Q239))))","v":0.106035230261642},null,{"$f":"1/(0.0000128*(R554+Y554+$G$40))","v":34509.3365238859},{"$f":"1/(0.0000128*(S554+Z554+$H$40))","v":73371.0070833899},{"$f":"1/(0.0000128*(T554+AA554+$I$40))","v":95127.9009500617},{"$f":"1/(0.0000128*(U554+AB554+$J$40))","v":259753.03118378},{"$f":"1/(0.0000128*(V554+AC554+$K$40))","v":206849.417223905},{"$f":"1/(0.0000128*(W554+AD554+$L$40))","v":155137.062917929}]
[null,null,null,null,null,null,null,null,null,null,null,null,null,null,null,null,null,{"$f":"(G$5*((90/$G$35)*(90/$G$35))/2)*(1+(SQRT(1+(4/(G$5*((90/$G$35)*(90/$G$35))))*$G$40*(1-(SQRT(2)*Vin_rms_min*(SIN($Q240)/Vout))))))","v":0.264705172312237},{"$f":"(H$5*((90/$G$35)*(90/$G$35))/2)*(1+(SQRT(1+(4/(H$5*((90/$G$35)*(90/$G$35))))*$H$40*(1-(SQRT(2)*Vin_rms_min*(SIN($Q240)/Vout))))))","v":0.257091445395466},{"$f":"(I$5*((90/$G$35)*(90/$G$35))/2)*(1+(SQRT(1+(4/(I$5*((90/$G$35)*(90/$G$35))))*$I$40*(1-(SQRT(2)*Vin_rms_min*(SIN($Q240)/Vout))))))","v":0.252619194853602},{"$f":"(J$5*((90/$G$35)*(90/$G$35))/2)*(1+(SQRT(1+(4/(J$5*((90/$G$35)*(90/$G$35))))*$J$40*(1-(SQRT(2)*Vin_rms_min*(SIN($Q240)/Vout))))))","v":0.217116444055617},{"$f":"(K$5*((90/$G$35)*(90/$G$35))/2)*(1+(SQRT(1+(4/(K$5*((90/$G$35)*(90/$G$35))))*$K$40*(1-(SQRT(2)*Vin_rms_min*(SIN($Q240)/Vout))))))","v":0.298163788127197},{"$f":"(L$5*((90/$G$35)*(90/$G$35))/2)*(1+(SQRT(1+(4/(L$5*((90/$G$35)*(90/$G$35))))*$L$40*(1-(SQRT(2)*Vin_rms_min*(SIN($Q240)/Vout))))))","v":0.39755171750293},null,{"$f":"R555*ABS(1/(Vout/(SQRT(2)*$C$26*SIN($Q240))))","v":0.0699288304065369},{"$f":"S555*ABS(1/(Vout/(SQRT(2)*$C$26*SIN($Q240))))","v":0.0679174642754041},{"$f":"T555*ABS(1/(Vout/(SQRT(2)*$C$26*SIN($Q240))))","v":0.0667360017186065},{"$f":"U555*ABS(1/(Vout/(SQRT(2)*$C$26*SIN($Q240))))","v":0.0573570167224638},{"$f":"V555*ABS(1/(Vout/(SQRT(2)*$C$26*SIN($Q240))))","v":0.0787678034062863},{"$f":"W555*ABS(1/(Vout/(SQRT(2)*$C$26*SIN($Q240))))","v":0.105023737875048},null,{"$f":"1/(0.0000128*(R555+Y555+$G$40))","v":34513.0882051457},{"$f":"1/(0.0000128*(S555+Z555+$H$40))","v":73390.6492376424},{"$f":"1/(0.0000128*(T555+AA555+$I$40))","v":95163.5367267309},{"$f":"1/(0.0000128*(U555+AB555+$J$40))","v":260179.50370159},{"$f":"1/(0.0000128*(V555+AC555+$K$40))","v":207265.72607555},{"$f":"1/(0.0000128*(W555+AD555+$L$40))","v":155449.294556662}]
[null,null,null,null,null,null,null,null,null,null,null,null,null,null,null,null,null,{"$f":"(G$5*((90/$G$35)*(90/$G$35))/2)*(1+(SQRT(1+(4/(G$5*((90/$G$35)*(90/$G$35))))*$G$40*(1-(SQRT(2)*Vin_rms_min*(SIN($Q241)/Vout))))))","v":0.265045610290473},{"$f":"(H$5*((90/$G$35)*(90/$G$35))/2)*(1+(SQRT(1+(4/(H$5*((90/$G$35)*(90/$G$35))))*$H$40*(1-(SQRT(2)*Vin_rms_min*(SIN($Q241)/Vout))))))","v":0.257385487985255},{"$f":"(I$5*((90/$G$35)*(90/$G$35))/2)*(1+(SQRT(1+(4/(I$5*((90/$G$35)*(90/$G$35))))*$I$40*(1-(SQRT(2)*Vin_rms_min*(SIN($Q241)/Vout))))))","v":0.252886214870064},{"$f":"(J$5*((90/$G$35)*(90/$G$35))/2)*(1+(SQRT(1+(4/(J$5*((90/$G$35)*(90/$G$35))))*$J$40*(1-(SQRT(2)*Vin_rms_min*(SIN($Q241)/Vout))))))","v":0.217163812448886},{"$f":"(K$5*((90/$G$35)*(90/$G$35))/2)*(1+(SQRT(1+(4/(K$5*((90/$G$35)*(90/$G$35))))*$K$40*(1-(SQRT(2)*Vin_rms_min*(SIN($Q241)/Vout))))))","v":0.298163788127197},{"$f":"(L$5*((90/$G$35)*(90/$G$35))/2)*(1+(SQRT(1+(4/(L$5*((90/$G$35)*(90/$G$35))))*$L$40*(1-(SQRT(2)*Vin_rms_min*(SIN($Q241)/Vout))))))","v":0.39755171750293},null,{"$f":"R556*ABS(1/(Vout/(SQRT(2)*$C$26*SIN($Q241))))","v":0.0693374076495935},{"$f":"S556*ABS(1/(Vout/(SQRT(2)*$C$26*SIN($Q241))))","v":0.0673334769965237},{"$f":"T556*ABS(1/(Vout/(SQRT(2)*$C$26*SIN($Q241))))","v":0.0661564420938406},{"$f":"U556*ABS(1/(Vout/(SQRT(2)*$C$26*SIN($Q241))))","v":0.0568112626879807},{"$f":"V556*ABS(1/(Vout/(SQRT(2)*$C$26*SIN($Q241))))","v":0.07800130740164},{"$f":"W556*ABS(1/(Vout/(SQRT(2)*$C$26*SIN($Q241))))","v":0.104001743202187},null,{"$f":"1/(0.0000128*(R556+Y556+$G$40))","v":34516.9153345961},{"$f":"1/(0.0000128*(S556+Z556+$H$40))","v":73410.6443981081},{"$f":"1/(0.0000128*(T556+AA556+$I$40))","v":95199.7795106527},{"$f":"1/(0.0000128*(U556+AB556+$J$40))","v":260612.060440085},{"$f":"1/(0.0000128*(V556+AC556+$K$40))","v":207688.062844233},{"$f":"1/(0.0000128*(W556+AD556+$L$40))","v":155766.047133175}]
[null,null,null,null,null,null,null,null,null,null,null,null,null,null,null,null,null,{"$f":"(G$5*((90/$G$35)*(90/$G$35))/2)*(1+(SQRT(1+(4/(G$5*((90/$G$35)*(90/$G$35))))*$G$40*(1-(SQRT(2)*Vin_rms_min*(SIN($Q242)/Vout))))))","v":0.265389033357998},{"$f":"(H$5*((90/$G$35)*(90/$G$35))/2)*(1+(SQRT(1+(4/(H$5*((90/$G$35)*(90/$G$35))))*$H$40*(1-(SQRT(2)*Vin_rms_min*(SIN($Q242)/Vout))))))","v":0.257682120010619},{"$f":"(I$5*((90/$G$35)*(90/$G$35))/2)*(1+(SQRT(1+(4/(I$5*((90/$G$35)*(90/$G$35))))*$I$40*(1-(SQRT(2)*Vin_rms_min*(SIN($Q242)/Vout))))))","v":0.253155596352644},{"$f":"(J$5*((90/$G$35)*(90/$G$35))/2)*(1+(SQRT(1+(4/(J$5*((90/$G$35)*(90/$G$35))))*$J$40*(1-(SQRT(2)*Vin_rms_min*(SIN($Q242)/Vout))))))","v":0.217211643540356},{"$f":"(K$5*((90/$G$35)*(90/$G$35))/2)*(1+(SQRT(1+(4/(K$5*((90/$G$35)*(90/$G$35))))*$K$40*(1-(SQRT(2)*Vin_rms_min*(SIN($Q242)/Vout))))))","v":0.298163788127197},{"$f":"(L$5*((90/$G$35)*(90/$G$35))/2)*(1+(SQRT(1+(4/(L$5*((90/$G$35)*(90/$G$35))))*$L$40*(1-(SQRT(2)*Vin_rms_min*(SIN($Q242)/Vout))))))","v":0.39755171750293},null,{"$f":"R557*ABS(1/(Vout/(SQRT(2)*$C$26*SIN($Q242))))","v":0.0687380651254185},{"$f":"S557*ABS(1/(Vout/(SQRT(2)*$C$26*SIN($Q242))))","v":0.0667419076170054},{"$f":"T557*ABS(1/(Vout/(SQRT(2)*$C$26*SIN($Q242))))","v":0.0655694986668061},{"$f":"U557*ABS(1/(Vout/(SQRT(2)*$C$26*SIN($Q242))))","v":0.0562597026363759},{"$f":"V557*ABS(1/(Vout/(SQRT(2)*$C$26*SIN($Q242))))","v":0.0772270113312545},{"$f":"W557*ABS(1/(Vout/(SQRT(2)*$C$26*SIN($Q242))))","v":0.102969348441673},null,{"$f":"1/(0.0000128*(R557+Y557+$G$40))","v":34520.818584318},{"$f":"1/(0.0000128*(S557+Z557+$H$40))","v":73430.9950440784},{"$f":"1/(0.0000128*(T557+AA557+$I$40))","v":95236.6329816445},{"$f":"1/(0.0000128*(U557+AB557+$J$40))","v":261050.718680778},{"$f":"1/(0.0000128*(V557+AC557+$K$40))","v":208116.448545636},{"$f":"1/(0.0000128*(W557+AD557+$L$40))","v":156087.336409227}]
[null,null,null,null,null,null,null,null,null,null,null,null,null,null,null,null,null,{"$f":"(G$5*((90/$G$35)*(90/$G$35))/2)*(1+(SQRT(1+(4/(G$5*((90/$G$35)*(90/$G$35))))*$G$40*(1-(SQRT(2)*Vin_rms_min*(SIN($Q243)/Vout))))))","v":0.265735394736117},{"$f":"(H$5*((90/$G$35)*(90/$G$35))/2)*(1+(SQRT(1+(4/(H$5*((90/$G$35)*(90/$G$35))))*$H$40*(1-(SQRT(2)*Vin_rms_min*(SIN($Q243)/Vout))))))","v":0.257981301310073},{"$f":"(I$5*((90/$G$35)*(90/$G$35))/2)*(1+(SQRT(1+(4/(I$5*((90/$G$35)*(90/$G$35))))*$I$40*(1-(SQRT(2)*Vin_rms_min*(SIN($Q243)/Vout))))))","v":0.253427303049981},{"$f":"(J$5*((90/$G$35)*(90/$G$35))/2)*(1+(SQRT(1+(4/(J$5*((90/$G$35)*(90/$G$35))))*$J$40*(1-(SQRT(2)*Vin_rms_min*(SIN($Q243)/Vout))))))","v":0.217259931986617},{"$f":"(K$5*((90/$G$35)*(90/$G$35))/2)*(1+(SQRT(1+(4/(K$5*((90/$G$35)*(90/$G$35))))*$K$40*(1-(SQRT(2)*Vin_rms_min*(SIN($Q243)/Vout))))))","v":0.298163788127197},{"$f":"(L$5*((90/$G$35)*(90/$G$35))/2)*(1+(SQRT(1+(4/(L$5*((90/$G$35)*(90/$G$35))))*$L$40*(1-(SQRT(2)*Vin_rms_min*(SIN($Q243)/Vout))))))","v":0.39755171750293},null,{"$f":"R558*ABS(1/(Vout/(SQRT(2)*$C$26*SIN($Q243))))","v":0.0681308096404264},{"$f":"S558*ABS(1/(Vout/(SQRT(2)*$C$26*SIN($Q243))))","v":0.066142769380797},{"$f":"T558*ABS(1/(Vout/(SQRT(2)*$C$26*SIN($Q243))))","v":0.0649751884160208},{"$f":"U558*ABS(1/(Vout/(SQRT(2)*$C$26*SIN($Q243))))","v":0.0557023842584881},{"$f":"V558*ABS(1/(Vout/(SQRT(2)*$C$26*SIN($Q243))))","v":0.0764449926240915},{"$f":"W558*ABS(1/(Vout/(SQRT(2)*$C$26*SIN($Q243))))","v":0.101926656832122},null,{"$f":"1/(0.0000128*(R558+Y558+$G$40))","v":34524.7986155349},{"$f":"1/(0.0000128*(S558+Z558+$H$40))","v":73451.7036167247},{"$f":"1/(0.0000128*(T558+AA558+$I$40))","v":95274.1007656307},{"$f":"1/(0.0000128*(U558+AB558+$J$40))","v":261495.495756921},{"$f":"1/(0.0000128*(V558+AC558+$K$40))","v":208550.904341639},{"$f":"1/(0.0000128*(W558+AD558+$L$40))","v":156413.178256229}]
[null,null,null,null,null,null,null,null,null,null,null,null,null,null,null,null,null,{"$f":"(G$5*((90/$G$35)*(90/$G$35))/2)*(1+(SQRT(1+(4/(G$5*((90/$G$35)*(90/$G$35))))*$G$40*(1-(SQRT(2)*Vin_rms_min*(SIN($Q244)/Vout))))))","v":0.266084647461733},{"$f":"(H$5*((90/$G$35)*(90/$G$35))/2)*(1+(SQRT(1+(4/(H$5*((90/$G$35)*(90/$G$35))))*$H$40*(1-(SQRT(2)*Vin_rms_min*(SIN($Q244)/Vout))))))","v":0.258282991557069},{"$f":"(I$5*((90/$G$35)*(90/$G$35))/2)*(1+(SQRT(1+(4/(I$5*((90/$G$35)*(90/$G$35))))*$I$40*(1-(SQRT(2)*Vin_rms_min*(SIN($Q244)/Vout))))))","v":0.253701298555723},{"$f":"(J$5*((90/$G$35)*(90/$G$35))/2)*(1+(SQRT(1+(4/(J$5*((90/$G$35)*(90/$G$35))))*$J$40*(1-(SQRT(2)*Vin_rms_min*(SIN($Q244)/Vout))))))","v":0.21730867239999},{"$f":"(K$5*((90/$G$35)*(90/$G$35))/2)*(1+(SQRT(1+(4/(K$5*((90/$G$35)*(90/$G$35))))*$K$40*(1-(SQRT(2)*Vin_rms_min*(SIN($Q244)/Vout))))))","v":0.298163788127197},{"$f":"(L$5*((90/$G$35)*(90/$G$35))/2)*(1+(SQRT(1+(4/(L$5*((90/$G$35)*(90/$G$35))))*$L$40*(1-(SQRT(2)*Vin_rms_min*(SIN($Q244)/Vout))))))","v":0.39755171750293},null,{"$f":"R559*ABS(1/(Vout/(SQRT(2)*$C$26*SIN($Q244))))","v":0.0675156490333554},{"$f":"S559*ABS(1/(Vout/(SQRT(2)*$C$26*SIN($Q244))))","v":0.0655360764914482},{"$f":"T559*ABS(1/(Vout/(SQRT(2)*$C$26*SIN($Q244))))","v":0.0643735292358726},{"$f":"U559*ABS(1/(Vout/(SQRT(2)*$C$26*SIN($Q244))))","v":0.0551393558313888},{"$f":"V559*ABS(1/(Vout/(SQRT(2)*$C$26*SIN($Q244))))","v":0.07565532948137},{"$f":"W559*ABS(1/(Vout/(SQRT(2)*$C$26*SIN($Q244))))","v":0.100873772641827},null,{"$f":"1/(0.0000128*(R559+Y559+$G$40))","v":34528.8560781242},{"$f":"1/(0.0000128*(S559+Z559+$H$40))","v":73472.772517266},{"$f":"1/(0.0000128*(T559+AA559+$I$40))","v":95312.1864318901},{"$f":"1/(0.0000128*(U559+AB559+$J$40))","v":261946.409045129},{"$f":"1/(0.0000128*(V559+AC559+$K$40))","v":208991.451533536},{"$f":"1/(0.0000128*(W559+AD559+$L$40))","v":156743.588650152}]
[null,null,null,null,null,null,null,null,null,null,null,null,null,null,null,null,null,{"$f":"(G$5*((90/$G$35)*(90/$G$35))/2)*(1+(SQRT(1+(4/(G$5*((90/$G$35)*(90/$G$35))))*$G$40*(1-(SQRT(2)*Vin_rms_min*(SIN($Q245)/Vout))))))","v":0.266436744397638},{"$f":"(H$5*((90/$G$35)*(90/$G$35))/2)*(1+(SQRT(1+(4/(H$5*((90/$G$35)*(90/$G$35))))*$H$40*(1-(SQRT(2)*Vin_rms_min*(SIN($Q245)/Vout))))))","v":0.258587150268769},{"$f":"(I$5*((90/$G$35)*(90/$G$35))/2)*(1+(SQRT(1+(4/(I$5*((90/$G$35)*(90/$G$35))))*$I$40*(1-(SQRT(2)*Vin_rms_min*(SIN($Q245)/Vout))))))","v":0.253977546316381},{"$f":"(J$5*((90/$G$35)*(90/$G$35))/2)*(1+(SQRT(1+(4/(J$5*((90/$G$35)*(90/$G$35))))*$J$40*(1-(SQRT(2)*Vin_rms_min*(SIN($Q245)/Vout))))))","v":0.217357859349309},{"$f":"(K$5*((90/$G$35)*(90/$G$35))/2)*(1+(SQRT(1+(4/(K$5*((90/$G$35)*(90/$G$35))))*$K$40*(1-(SQRT(2)*Vin_rms_min*(SIN($Q245)/Vout))))))","v":0.298163788127197},{"$f":"(L$5*((90/$G$35)*(90/$G$35))/2)*(1+(SQRT(1+(4/(L$5*((90/$G$35)*(90/$G$35))))*$L$40*(1-(SQRT(2)*Vin_rms_min*(SIN($Q245)/Vout))))))","v":0.39755171750293},null,{"$f":"R560*ABS(1/(Vout/(SQRT(2)*$C$26*SIN($Q245))))","v":0.0668925921975147},{"$f":"S560*ABS(1/(Vout/(SQRT(2)*$C$26*SIN($Q245))))","v":0.0649218441305933},{"$f":"T560*ABS(1/(Vout/(SQRT(2)*$C$26*SIN($Q245))))","v":0.0637645399529123},{"$f":"U560*ABS(1/(Vout/(SQRT(2)*$C$26*SIN($Q245))))","v":0.0545706662166638},{"$f":"V560*ABS(1/(Vout/(SQRT(2)*$C$26*SIN($Q245))))","v":0.0748581008687463},{"$f":"W560*ABS(1/(Vout/(SQRT(2)*$C$26*SIN($Q245))))","v":0.0998108011583284},null,{"$f":"1/(0.0000128*(R560+Y560+$G$40))","v":34532.9916101338},{"$f":"1/(0.0000128*(S560+Z560+$H$40))","v":73494.2041051529},{"$f":"1/(0.0000128*(T560+AA560+$I$40))","v":95350.89349032},{"$f":"1/(0.0000128*(U560+AB560+$J$40))","v":262403.475956786},{"$f":"1/(0.0000128*(V560+AC560+$K$40))","v":209438.111555029},{"$f":"1/(0.0000128*(W560+AD560+$L$40))","v":157078.583666272}]
[null,null,null,null,null,null,null,null,null,null,null,null,null,null,null,null,null,{"$f":"(G$5*((90/$G$35)*(90/$G$35))/2)*(1+(SQRT(1+(4/(G$5*((90/$G$35)*(90/$G$35))))*$G$40*(1-(SQRT(2)*Vin_rms_min*(SIN($Q246)/Vout))))))","v":0.266791638242703},{"$f":"(H$5*((90/$G$35)*(90/$G$35))/2)*(1+(SQRT(1+(4/(H$5*((90/$G$35)*(90/$G$35))))*$H$40*(1-(SQRT(2)*Vin_rms_min*(SIN($Q246)/Vout))))))","v":0.258893736814722},{"$f":"(I$5*((90/$G$35)*(90/$G$35))/2)*(1+(SQRT(1+(4/(I$5*((90/$G$35)*(90/$G$35))))*$I$40*(1-(SQRT(2)*Vin_rms_min*(SIN($Q246)/Vout))))))","v":0.254256009639097},{"$f":"(J$5*((90/$G$35)*(90/$G$35))/2)*(1+(SQRT(1+(4/(J$5*((90/$G$35)*(90/$G$35))))*$J$40*(1-(SQRT(2)*Vin_rms_min*(SIN($Q246)/Vout))))))","v":0.217407487360706},{"$f":"(K$5*((90/$G$35)*(90/$G$35))/2)*(1+(SQRT(1+(4/(K$5*((90/$G$35)*(90/$G$35))))*$K$40*(1-(SQRT(2)*Vin_rms_min*(SIN($Q246)/Vout))))))","v":0.298163788127197},{"$f":"(L$5*((90/$G$35)*(90/$G$35))/2)*(1+(SQRT(1+(4/(L$5*((90/$G$35)*(90/$G$35))))*$L$40*(1-(SQRT(2)*Vin_rms_min*(SIN($Q246)/Vout))))))","v":0.39755171750293},null,{"$f":"R561*ABS(1/(Vout/(SQRT(2)*$C$26*SIN($Q246))))","v":0.0662616491026484},{"$f":"S561*ABS(1/(Vout/(SQRT(2)*$C$26*SIN($Q246))))","v":0.0643000884761039},{"$f":"T561*ABS(1/(Vout/(SQRT(2)*$C$26*SIN($Q246))))","v":0.0631482403418473},{"$f":"U561*ABS(1/(Vout/(SQRT(2)*$C$26*SIN($Q246))))","v":0.053996364858626},{"$f":"V561*ABS(1/(Vout/(SQRT(2)*$C$26*SIN($Q246))))","v":0.0740533865084173},{"$f":"W561*ABS(1/(Vout/(SQRT(2)*$C$26*SIN($Q246))))","v":0.0987378486778897},null,{"$f":"1/(0.0000128*(R561+Y561+$G$40))","v":34537.2058373055},{"$f":"1/(0.0000128*(S561+Z561+$H$40))","v":73516.0006962679},{"$f":"1/(0.0000128*(T561+AA561+$I$40))","v":95390.2253887178},{"$f":"1/(0.0000128*(U561+AB561+$J$40))","v":262866.713929215},{"$f":"1/(0.0000128*(V561+AC561+$K$40))","v":209890.905964995},{"$f":"1/(0.0000128*(W561+AD561+$L$40))","v":157418.179473746}]
[null,null,null,null,null,null,null,null,null,null,null,null,null,null,null,null,null,{"$f":"(G$5*((90/$G$35)*(90/$G$35))/2)*(1+(SQRT(1+(4/(G$5*((90/$G$35)*(90/$G$35))))*$G$40*(1-(SQRT(2)*Vin_rms_min*(SIN($Q247)/Vout))))))","v":0.267149281541947},{"$f":"(H$5*((90/$G$35)*(90/$G$35))/2)*(1+(SQRT(1+(4/(H$5*((90/$G$35)*(90/$G$35))))*$H$40*(1-(SQRT(2)*Vin_rms_min*(SIN($Q247)/Vout))))))","v":0.259202710425455},{"$f":"(I$5*((90/$G$35)*(90/$G$35))/2)*(1+(SQRT(1+(4/(I$5*((90/$G$35)*(90/$G$35))))*$I$40*(1-(SQRT(2)*Vin_rms_min*(SIN($Q247)/Vout))))))","v":0.25453665169934},{"$f":"(J$5*((90/$G$35)*(90/$G$35))/2)*(1+(SQRT(1+(4/(J$5*((90/$G$35)*(90/$G$35))))*$J$40*(1-(SQRT(2)*Vin_rms_min*(SIN($Q247)/Vout))))))","v":0.217457550918396},{"$f":"(K$5*((90/$G$35)*(90/$G$35))/2)*(1+(SQRT(1+(4/(K$5*((90/$G$35)*(90/$G$35))))*$K$40*(1-(SQRT(2)*Vin_rms_min*(SIN($Q247)/Vout))))))","v":0.298163788127197},{"$f":"(L$5*((90/$G$35)*(90/$G$35))/2)*(1+(SQRT(1+(4/(L$5*((90/$G$35)*(90/$G$35))))*$L$40*(1-(SQRT(2)*Vin_rms_min*(SIN($Q247)/Vout))))))","v":0.39755171750293},null,{"$f":"R562*ABS(1/(Vout/(SQRT(2)*$C$26*SIN($Q247))))","v":0.0656228308164043},{"$f":"S562*ABS(1/(Vout/(SQRT(2)*$C$26*SIN($Q247))))","v":0.0636708267198999},{"$f":"T562*ABS(1/(Vout/(SQRT(2)*$C$26*SIN($Q247))))","v":0.0625246511412274},{"$f":"U562*ABS(1/(Vout/(SQRT(2)*$C$26*SIN($Q247))))","v":0.0534165017824571},{"$f":"V562*ABS(1/(Vout/(SQRT(2)*$C$26*SIN($Q247))))","v":0.0732412668711483},{"$f":"W562*ABS(1/(Vout/(SQRT(2)*$C$26*SIN($Q247))))","v":0.0976550224948644},null,{"$f":"1/(0.0000128*(R562+Y562+$G$40))","v":34541.4993726043},{"$f":"1/(0.0000128*(S562+Z562+$H$40))","v":73538.1645611442},{"$f":"1/(0.0000128*(T562+AA562+$I$40))","v":95430.1855100811},{"$f":"1/(0.0000128*(U562+AB562+$J$40))","v":263336.140416621},{"$f":"1/(0.0000128*(V562+AC562+$K$40))","v":210349.856440021},{"$f":"1/(0.0000128*(W562+AD562+$L$40))","v":157762.392330016}]
[null,null,null,null,null,null,null,null,null,null,null,null,null,null,null,null,null,{"$f":"(G$5*((90/$G$35)*(90/$G$35))/2)*(1+(SQRT(1+(4/(G$5*((90/$G$35)*(90/$G$35))))*$G$40*(1-(SQRT(2)*Vin_rms_min*(SIN($Q248)/Vout))))))","v":0.267509626696489},{"$f":"(H$5*((90/$G$35)*(90/$G$35))/2)*(1+(SQRT(1+(4/(H$5*((90/$G$35)*(90/$G$35))))*$H$40*(1-(SQRT(2)*Vin_rms_min*(SIN($Q248)/Vout))))))","v":0.259514030200957},{"$f":"(I$5*((90/$G$35)*(90/$G$35))/2)*(1+(SQRT(1+(4/(I$5*((90/$G$35)*(90/$G$35))))*$I$40*(1-(SQRT(2)*Vin_rms_min*(SIN($Q248)/Vout))))))","v":0.254819435548519},{"$f":"(J$5*((90/$G$35)*(90/$G$35))/2)*(1+(SQRT(1+(4/(J$5*((90/$G$35)*(90/$G$35))))*$J$40*(1-(SQRT(2)*Vin_rms_min*(SIN($Q248)/Vout))))))","v":0.217508044465466},{"$f":"(K$5*((90/$G$35)*(90/$G$35))/2)*(1+(SQRT(1+(4/(K$5*((90/$G$35)*(90/$G$35))))*$K$40*(1-(SQRT(2)*Vin_rms_min*(SIN($Q248)/Vout))))))","v":0.298163788127197},{"$f":"(L$5*((90/$G$35)*(90/$G$35))/2)*(1+(SQRT(1+(4/(L$5*((90/$G$35)*(90/$G$35))))*$L$40*(1-(SQRT(2)*Vin_rms_min*(SIN($Q248)/Vout))))))","v":0.39755171750293},null,{"$f":"R563*ABS(1/(Vout/(SQRT(2)*$C$26*SIN($Q248))))","v":0.0649761495253965},{"$f":"S563*ABS(1/(Vout/(SQRT(2)*$C$26*SIN($Q248))))","v":0.0630340770854095},{"$f":"T563*ABS(1/(Vout/(SQRT(2)*$C$26*SIN($Q248))))","v":0.0618937940688136},{"$f":"U563*ABS(1/(Vout/(SQRT(2)*$C$26*SIN($Q248))))","v":0.0528311275922774},{"$f":"V563*ABS(1/(Vout/(SQRT(2)*$C$26*SIN($Q248))))","v":0.0724218231682264},{"$f":"W563*ABS(1/(Vout/(SQRT(2)*$C$26*SIN($Q248))))","v":0.0965624308909686},null,{"$f":"1/(0.0000128*(R563+Y563+$G$40))","v":34545.8728157549},{"$f":"1/(0.0000128*(S563+Z563+$H$40))","v":73560.6979232012},{"$f":"1/(0.0000128*(T563+AA563+$I$40))","v":95470.7771699274},{"$f":"1/(0.0000128*(U563+AB563+$J$40))","v":263811.772880781},{"$f":"1/(0.0000128*(V563+AC563+$K$40))","v":210814.984766692},{"$f":"1/(0.0000128*(W563+AD563+$L$40))","v":158111.238575019}]
[null,null,null,null,null,null,null,null,null,null,null,null,null,null,null,null,null,{"$f":"(G$5*((90/$G$35)*(90/$G$35))/2)*(1+(SQRT(1+(4/(G$5*((90/$G$35)*(90/$G$35))))*$G$40*(1-(SQRT(2)*Vin_rms_min*(SIN($Q249)/Vout))))))","v":0.267872625973382},{"$f":"(H$5*((90/$G$35)*(90/$G$35))/2)*(1+(SQRT(1+(4/(H$5*((90/$G$35)*(90/$G$35))))*$H$40*(1-(SQRT(2)*Vin_rms_min*(SIN($Q249)/Vout))))))","v":0.259827655119077},{"$f":"(I$5*((90/$G$35)*(90/$G$35))/2)*(1+(SQRT(1+(4/(I$5*((90/$G$35)*(90/$G$35))))*$I$40*(1-(SQRT(2)*Vin_rms_min*(SIN($Q249)/Vout))))))","v":0.255104324121515},{"$f":"(J$5*((90/$G$35)*(90/$G$35))/2)*(1+(SQRT(1+(4/(J$5*((90/$G$35)*(90/$G$35))))*$J$40*(1-(SQRT(2)*Vin_rms_min*(SIN($Q249)/Vout))))))","v":0.217558962404664},{"$f":"(K$5*((90/$G$35)*(90/$G$35))/2)*(1+(SQRT(1+(4/(K$5*((90/$G$35)*(90/$G$35))))*$K$40*(1-(SQRT(2)*Vin_rms_min*(SIN($Q249)/Vout))))))","v":0.298163788127197},{"$f":"(L$5*((90/$G$35)*(90/$G$35))/2)*(1+(SQRT(1+(4/(L$5*((90/$G$35)*(90/$G$35))))*$L$40*(1-(SQRT(2)*Vin_rms_min*(SIN($Q249)/Vout))))))","v":0.39755171750293},null,{"$f":"R564*ABS(1/(Vout/(SQRT(2)*$C$26*SIN($Q249))))","v":0.0643216185558511},{"$f":"S564*ABS(1/(Vout/(SQRT(2)*$C$26*SIN($Q249))))","v":0.0623898588446705},{"$f":"T564*ABS(1/(Vout/(SQRT(2)*$C$26*SIN($Q249))))","v":0.0612556918366224},{"$f":"U564*ABS(1/(Vout/(SQRT(2)*$C$26*SIN($Q249))))","v":0.0522402934691434},{"$f":"V564*ABS(1/(Vout/(SQRT(2)*$C$26*SIN($Q249))))","v":0.0715951373433391},{"$f":"W564*ABS(1/(Vout/(SQRT(2)*$C$26*SIN($Q249))))","v":0.0954601831244521},null,{"$f":"1/(0.0000128*(R564+Y564+$G$40))","v":34550.3267527842},{"$f":"1/(0.0000128*(S564+Z564+$H$40))","v":73583.6029569985},{"$f":"1/(0.0000128*(T564+AA564+$I$40))","v":95512.0036136318},{"$f":"1/(0.0000128*(U564+AB564+$J$40))","v":264293.628781501},{"$f":"1/(0.0000128*(V564+AC564+$K$40))","v":211286.312833644},{"$f":"1/(0.0000128*(W564+AD564+$L$40))","v":158464.734625233}]
[null,null,null,null,null,null,null,null,null,null,null,null,null,null,null,null,null,{"$f":"(G$5*((90/$G$35)*(90/$G$35))/2)*(1+(SQRT(1+(4/(G$5*((90/$G$35)*(90/$G$35))))*$G$40*(1-(SQRT(2)*Vin_rms_min*(SIN($Q250)/Vout))))))","v":0.268238231515322},{"$f":"(H$5*((90/$G$35)*(90/$G$35))/2)*(1+(SQRT(1+(4/(H$5*((90/$G$35)*(90/$G$35))))*$H$40*(1-(SQRT(2)*Vin_rms_min*(SIN($Q250)/Vout))))))","v":0.260143544043819},{"$f":"(I$5*((90/$G$35)*(90/$G$35))/2)*(1+(SQRT(1+(4/(I$5*((90/$G$35)*(90/$G$35))))*$I$40*(1-(SQRT(2)*Vin_rms_min*(SIN($Q250)/Vout))))))","v":0.255391280244123},{"$f":"(J$5*((90/$G$35)*(90/$G$35))/2)*(1+(SQRT(1+(4/(J$5*((90/$G$35)*(90/$G$35))))*$J$40*(1-(SQRT(2)*Vin_rms_min*(SIN($Q250)/Vout))))))","v":0.217610299099195},{"$f":"(K$5*((90/$G$35)*(90/$G$35))/2)*(1+(SQRT(1+(4/(K$5*((90/$G$35)*(90/$G$35))))*$K$40*(1-(SQRT(2)*Vin_rms_min*(SIN($Q250)/Vout))))))","v":0.298163788127197},{"$f":"(L$5*((90/$G$35)*(90/$G$35))/2)*(1+(SQRT(1+(4/(L$5*((90/$G$35)*(90/$G$35))))*$L$40*(1-(SQRT(2)*Vin_rms_min*(SIN($Q250)/Vout))))))","v":0.39755171750293},null,{"$f":"R565*ABS(1/(Vout/(SQRT(2)*$C$26*SIN($Q250))))","v":0.0636592523938257},{"$f":"S565*ABS(1/(Vout/(SQRT(2)*$C$26*SIN($Q250))))","v":0.0617381923350618},{"$f":"T565*ABS(1/(Vout/(SQRT(2)*$C$26*SIN($Q250))))","v":0.0606103681656365},{"$f":"U565*ABS(1/(Vout/(SQRT(2)*$C$26*SIN($Q250))))","v":0.0516440511689708},{"$f":"V565*ABS(1/(Vout/(SQRT(2)*$C$26*SIN($Q250))))","v":0.0707612920643798},{"$f":"W565*ABS(1/(Vout/(SQRT(2)*$C$26*SIN($Q250))))","v":0.094348389419173},null,{"$f":"1/(0.0000128*(R565+Y565+$G$40))","v":34554.8617555715},{"$f":"1/(0.0000128*(S565+Z565+$H$40))","v":73606.881786509},{"$f":"1/(0.0000128*(T565+AA565+$I$40))","v":95553.868013786},{"$f":"1/(0.0000128*(U565+AB565+$J$40))","v":264781.725566814},{"$f":"1/(0.0000128*(V565+AC565+$K$40))","v":211763.862623357},{"$f":"1/(0.0000128*(W565+AD565+$L$40))","v":158822.896967518}]
[null,null,null,null,null,null,null,null,null,null,null,null,null,null,null,null,null,{"$f":"(G$5*((90/$G$35)*(90/$G$35))/2)*(1+(SQRT(1+(4/(G$5*((90/$G$35)*(90/$G$35))))*$G$40*(1-(SQRT(2)*Vin_rms_min*(SIN($Q251)/Vout))))))","v":0.268606395350232},{"$f":"(H$5*((90/$G$35)*(90/$G$35))/2)*(1+(SQRT(1+(4/(H$5*((90/$G$35)*(90/$G$35))))*$H$40*(1-(SQRT(2)*Vin_rms_min*(SIN($Q251)/Vout))))))","v":0.260461655733529},{"$f":"(I$5*((90/$G$35)*(90/$G$35))/2)*(1+(SQRT(1+(4/(I$5*((90/$G$35)*(90/$G$35))))*$I$40*(1-(SQRT(2)*Vin_rms_min*(SIN($Q251)/Vout))))))","v":0.25568026664041},{"$f":"(J$5*((90/$G$35)*(90/$G$35))/2)*(1+(SQRT(1+(4/(J$5*((90/$G$35)*(90/$G$35))))*$J$40*(1-(SQRT(2)*Vin_rms_min*(SIN($Q251)/Vout))))))","v":0.217662048873511},{"$f":"(K$5*((90/$G$35)*(90/$G$35))/2)*(1+(SQRT(1+(4/(K$5*((90/$G$35)*(90/$G$35))))*$K$40*(1-(SQRT(2)*Vin_rms_min*(SIN($Q251)/Vout))))))","v":0.298163788127197},{"$f":"(L$5*((90/$G$35)*(90/$G$35))/2)*(1+(SQRT(1+(4/(L$5*((90/$G$35)*(90/$G$35))))*$L$40*(1-(SQRT(2)*Vin_rms_min*(SIN($Q251)/Vout))))))","v":0.39755171750293},null,{"$f":"R566*ABS(1/(Vout/(SQRT(2)*$C$26*SIN($Q251))))","v":0.0629890667049911},{"$f":"S566*ABS(1/(Vout/(SQRT(2)*$C$26*SIN($Q251))))","v":0.0610790989756584},{"$f":"T566*ABS(1/(Vout/(SQRT(2)*$C$26*SIN($Q251))))","v":0.0599578478001744},{"$f":"U566*ABS(1/(Vout/(SQRT(2)*$C$26*SIN($Q251))))","v":0.0510424530203828},{"$f":"V566*ABS(1/(Vout/(SQRT(2)*$C$26*SIN($Q251))))","v":0.0699203707151816},{"$f":"W566*ABS(1/(Vout/(SQRT(2)*$C$26*SIN($Q251))))","v":0.0932271609535754},null,{"$f":"1/(0.0000128*(R566+Y566+$G$40))","v":34559.4783814051},{"$f":"1/(0.0000128*(S566+Z566+$H$40))","v":73630.5364834103},{"$f":"1/(0.0000128*(T566+AA566+$I$40))","v":95596.3734675763},{"$f":"1/(0.0000128*(U566+AB566+$J$40))","v":265276.080662928},{"$f":"1/(0.0000128*(V566+AC566+$K$40))","v":212247.656203685},{"$f":"1/(0.0000128*(W566+AD566+$L$40))","v":159185.742152764}]
[null,null,null,null,null,null,null,null,null,null,null,null,null,null,null,null,null,{"$f":"(G$5*((90/$G$35)*(90/$G$35))/2)*(1+(SQRT(1+(4/(G$5*((90/$G$35)*(90/$G$35))))*$G$40*(1-(SQRT(2)*Vin_rms_min*(SIN($Q252)/Vout))))))","v":0.268977069400721},{"$f":"(H$5*((90/$G$35)*(90/$G$35))/2)*(1+(SQRT(1+(4/(H$5*((90/$G$35)*(90/$G$35))))*$H$40*(1-(SQRT(2)*Vin_rms_min*(SIN($Q252)/Vout))))))","v":0.260781948848985},{"$f":"(I$5*((90/$G$35)*(90/$G$35))/2)*(1+(SQRT(1+(4/(I$5*((90/$G$35)*(90/$G$35))))*$I$40*(1-(SQRT(2)*Vin_rms_min*(SIN($Q252)/Vout))))))","v":0.255971245939987},{"$f":"(J$5*((90/$G$35)*(90/$G$35))/2)*(1+(SQRT(1+(4/(J$5*((90/$G$35)*(90/$G$35))))*$J$40*(1-(SQRT(2)*Vin_rms_min*(SIN($Q252)/Vout))))))","v":0.217714206014112},{"$f":"(K$5*((90/$G$35)*(90/$G$35))/2)*(1+(SQRT(1+(4/(K$5*((90/$G$35)*(90/$G$35))))*$K$40*(1-(SQRT(2)*Vin_rms_min*(SIN($Q252)/Vout))))))","v":0.298163788127197},{"$f":"(L$5*((90/$G$35)*(90/$G$35))/2)*(1+(SQRT(1+(4/(L$5*((90/$G$35)*(90/$G$35))))*$L$40*(1-(SQRT(2)*Vin_rms_min*(SIN($Q252)/Vout))))))","v":0.39755171750293},null,{"$f":"R567*ABS(1/(Vout/(SQRT(2)*$C$26*SIN($Q252))))","v":0.0623110783539672},{"$f":"S567*ABS(1/(Vout/(SQRT(2)*$C$26*SIN($Q252))))","v":0.0604126012832001},{"$f":"T567*ABS(1/(Vout/(SQRT(2)*$C$26*SIN($Q252))))","v":0.059298156521912},{"$f":"U567*ABS(1/(Vout/(SQRT(2)*$C$26*SIN($Q252))))","v":0.050435551922482},{"$f":"V567*ABS(1/(Vout/(SQRT(2)*$C$26*SIN($Q252))))","v":0.0690724573871787},{"$f":"W567*ABS(1/(Vout/(SQRT(2)*$C$26*SIN($Q252))))","v":0.0920966098495716},null,{"$f":"1/(0.0000128*(R567+Y567+$G$40))","v":34564.1771725465},{"$f":"1/(0.0000128*(S567+Z567+$H$40))","v":73654.5690653958},{"$f":"1/(0.0000128*(T567+AA567+$I$40))","v":95639.5229941839},{"$f":"1/(0.0000128*(U567+AB567+$J$40))","v":265776.711463909},{"$f":"1/(0.0000128*(V567+AC567+$K$40))","v":212737.715719136},{"$f":"1/(0.0000128*(W567+AD567+$L$40))","v":159553.286789352}]
[null,null,null,null,null,null,null,null,null,null,null,null,null,null,null,null,null,{"$f":"(G$5*((90/$G$35)*(90/$G$35))/2)*(1+(SQRT(1+(4/(G$5*((90/$G$35)*(90/$G$35))))*$G$40*(1-(SQRT(2)*Vin_rms_min*(SIN($Q253)/Vout))))))","v":0.26935020549341},{"$f":"(H$5*((90/$G$35)*(90/$G$35))/2)*(1+(SQRT(1+(4/(H$5*((90/$G$35)*(90/$G$35))))*$H$40*(1-(SQRT(2)*Vin_rms_min*(SIN($Q253)/Vout))))))","v":0.261104381961383},{"$f":"(I$5*((90/$G$35)*(90/$G$35))/2)*(1+(SQRT(1+(4/(I$5*((90/$G$35)*(90/$G$35))))*$I$40*(1-(SQRT(2)*Vin_rms_min*(SIN($Q253)/Vout))))))","v":0.256264180685185},{"$f":"(J$5*((90/$G$35)*(90/$G$35))/2)*(1+(SQRT(1+(4/(J$5*((90/$G$35)*(90/$G$35))))*$J$40*(1-(SQRT(2)*Vin_rms_min*(SIN($Q253)/Vout))))))","v":0.217766764770341},{"$f":"(K$5*((90/$G$35)*(90/$G$35))/2)*(1+(SQRT(1+(4/(K$5*((90/$G$35)*(90/$G$35))))*$K$40*(1-(SQRT(2)*Vin_rms_min*(SIN($Q253)/Vout))))))","v":0.298163788127197},{"$f":"(L$5*((90/$G$35)*(90/$G$35))/2)*(1+(SQRT(1+(4/(L$5*((90/$G$35)*(90/$G$35))))*$L$40*(1-(SQRT(2)*Vin_rms_min*(SIN($Q253)/Vout))))))","v":0.39755171750293},null,{"$f":"R568*ABS(1/(Vout/(SQRT(2)*$C$26*SIN($Q253))))","v":0.0616253054232036},{"$f":"S568*ABS(1/(Vout/(SQRT(2)*$C$26*SIN($Q253))))","v":0.0597387228876673},{"$f":"T568*ABS(1/(Vout/(SQRT(2)*$C$26*SIN($Q253))))","v":0.0586313211635472},{"$f":"U568*ABS(1/(Vout/(SQRT(2)*$C$26*SIN($Q253))))","v":0.0498234013425454},{"$f":"V568*ABS(1/(Vout/(SQRT(2)*$C$26*SIN($Q253))))","v":0.0682176368709972},{"$f":"W568*ABS(1/(Vout/(SQRT(2)*$C$26*SIN($Q253))))","v":0.0909568491613296},null,{"$f":"1/(0.0000128*(R568+Y568+$G$40))","v":34568.9586558014},{"$f":"1/(0.0000128*(S568+Z568+$H$40))","v":73678.9814945058},{"$f":"1/(0.0000128*(T568+AA568+$I$40))","v":95683.3195322047},{"$f":"1/(0.0000128*(U568+AB568+$J$40))","v":266283.635321097},{"$f":"1/(0.0000128*(V568+AC568+$K$40))","v":213234.063381857},{"$f":"1/(0.0000128*(W568+AD568+$L$40))","v":159925.547536393}]
[null,null,null,null,null,null,null,null,null,null,null,null,null,null,null,null,null,{"$f":"(G$5*((90/$G$35)*(90/$G$35))/2)*(1+(SQRT(1+(4/(G$5*((90/$G$35)*(90/$G$35))))*$G$40*(1-(SQRT(2)*Vin_rms_min*(SIN($Q254)/Vout))))))","v":0.269725755368133},{"$f":"(H$5*((90/$G$35)*(90/$G$35))/2)*(1+(SQRT(1+(4/(H$5*((90/$G$35)*(90/$G$35))))*$H$40*(1-(SQRT(2)*Vin_rms_min*(SIN($Q254)/Vout))))))","v":0.261428913560211},{"$f":"(I$5*((90/$G$35)*(90/$G$35))/2)*(1+(SQRT(1+(4/(I$5*((90/$G$35)*(90/$G$35))))*$I$40*(1-(SQRT(2)*Vin_rms_min*(SIN($Q254)/Vout))))))","v":0.256559033338146},{"$f":"(J$5*((90/$G$35)*(90/$G$35))/2)*(1+(SQRT(1+(4/(J$5*((90/$G$35)*(90/$G$35))))*$J$40*(1-(SQRT(2)*Vin_rms_min*(SIN($Q254)/Vout))))))","v":0.217819719355186},{"$f":"(K$5*((90/$G$35)*(90/$G$35))/2)*(1+(SQRT(1+(4/(K$5*((90/$G$35)*(90/$G$35))))*$K$40*(1-(SQRT(2)*Vin_rms_min*(SIN($Q254)/Vout))))))","v":0.298163788127197},{"$f":"(L$5*((90/$G$35)*(90/$G$35))/2)*(1+(SQRT(1+(4/(L$5*((90/$G$35)*(90/$G$35))))*$L$40*(1-(SQRT(2)*Vin_rms_min*(SIN($Q254)/Vout))))))","v":0.39755171750293},null,{"$f":"R569*ABS(1/(Vout/(SQRT(2)*$C$26*SIN($Q254))))","v":0.0609317672313952},{"$f":"S569*ABS(1/(Vout/(SQRT(2)*$C$26*SIN($Q254))))","v":0.0590574885474554},{"$f":"T569*ABS(1/(Vout/(SQRT(2)*$C$26*SIN($Q254))))","v":0.0579573696221023},{"$f":"U569*ABS(1/(Vout/(SQRT(2)*$C$26*SIN($Q254))))","v":0.0492060553136412},{"$f":"V569*ABS(1/(Vout/(SQRT(2)*$C$26*SIN($Q254))))","v":0.0673559946479765},{"$f":"W569*ABS(1/(Vout/(SQRT(2)*$C$26*SIN($Q254))))","v":0.0898079928639687},null,{"$f":"1/(0.0000128*(R569+Y569+$G$40))","v":34573.8233420985},{"$f":"1/(0.0000128*(S569+Z569+$H$40))","v":73703.7756754776},{"$f":"1/(0.0000128*(T569+AA569+$I$40))","v":95727.7659370919},{"$f":"1/(0.0000128*(U569+AB569+$J$40))","v":266796.869532253},{"$f":"1/(0.0000128*(V569+AC569+$K$40))","v":213736.721462361},{"$f":"1/(0.0000128*(W569+AD569+$L$40))","v":160302.541096771}]
[null,null,null,null,null,null,null,null,null,null,null,null,null,null,null,null,null,{"$f":"(G$5*((90/$G$35)*(90/$G$35))/2)*(1+(SQRT(1+(4/(G$5*((90/$G$35)*(90/$G$35))))*$G$40*(1-(SQRT(2)*Vin_rms_min*(SIN($Q255)/Vout))))))","v":0.270103670687005},{"$f":"(H$5*((90/$G$35)*(90/$G$35))/2)*(1+(SQRT(1+(4/(H$5*((90/$G$35)*(90/$G$35))))*$H$40*(1-(SQRT(2)*Vin_rms_min*(SIN($Q255)/Vout))))))","v":0.261755502061016},{"$f":"(I$5*((90/$G$35)*(90/$G$35))/2)*(1+(SQRT(1+(4/(I$5*((90/$G$35)*(90/$G$35))))*$I$40*(1-(SQRT(2)*Vin_rms_min*(SIN($Q255)/Vout))))))","v":0.256855766287817},{"$f":"(J$5*((90/$G$35)*(90/$G$35))/2)*(1+(SQRT(1+(4/(J$5*((90/$G$35)*(90/$G$35))))*$J$40*(1-(SQRT(2)*Vin_rms_min*(SIN($Q255)/Vout))))))","v":0.217873063946076},{"$f":"(K$5*((90/$G$35)*(90/$G$35))/2)*(1+(SQRT(1+(4/(K$5*((90/$G$35)*(90/$G$35))))*$K$40*(1-(SQRT(2)*Vin_rms_min*(SIN($Q255)/Vout))))))","v":0.298163788127197},{"$f":"(L$5*((90/$G$35)*(90/$G$35))/2)*(1+(SQRT(1+(4/(L$5*((90/$G$35)*(90/$G$35))))*$L$40*(1-(SQRT(2)*Vin_rms_min*(SIN($Q255)/Vout))))))","v":0.39755171750293},null,{"$f":"R570*ABS(1/(Vout/(SQRT(2)*$C$26*SIN($Q255))))","v":0.0602304843514259},{"$f":"S570*ABS(1/(Vout/(SQRT(2)*$C$26*SIN($Q255))))","v":0.0583689241641401},{"$f":"T570*ABS(1/(Vout/(SQRT(2)*$C$26*SIN($Q255))))","v":0.0572763308718566},{"$f":"U570*ABS(1/(Vout/(SQRT(2)*$C$26*SIN($Q255))))","v":0.0485835684321661},{"$f":"V570*ABS(1/(Vout/(SQRT(2)*$C$26*SIN($Q255))))","v":0.0664876168816208},{"$f":"W570*ABS(1/(Vout/(SQRT(2)*$C$26*SIN($Q255))))","v":0.0886501558421611},null,{"$f":"1/(0.0000128*(R570+Y570+$G$40))","v":34578.7717260757},{"$f":"1/(0.0000128*(S570+Z570+$H$40))","v":73728.953454117},{"$f":"1/(0.0000128*(T570+AA570+$I$40))","v":95772.8649786201},{"$f":"1/(0.0000128*(U570+AB570+$J$40))","v":267316.431330426},{"$f":"1/(0.0000128*(V570+AC570+$K$40))","v":214245.712279953},{"$f":"1/(0.0000128*(W570+AD570+$L$40))","v":160684.284209965}]
[null,null,null,null,null,null,null,null,null,null,null,null,null,null,null,null,null,{"$f":"(G$5*((90/$G$35)*(90/$G$35))/2)*(1+(SQRT(1+(4/(G$5*((90/$G$35)*(90/$G$35))))*$G$40*(1-(SQRT(2)*Vin_rms_min*(SIN($Q256)/Vout))))))","v":0.270483903043347},{"$f":"(H$5*((90/$G$35)*(90/$G$35))/2)*(1+(SQRT(1+(4/(H$5*((90/$G$35)*(90/$G$35))))*$H$40*(1-(SQRT(2)*Vin_rms_min*(SIN($Q256)/Vout))))))","v":0.262084105813066},{"$f":"(I$5*((90/$G$35)*(90/$G$35))/2)*(1+(SQRT(1+(4/(I$5*((90/$G$35)*(90/$G$35))))*$I$40*(1-(SQRT(2)*Vin_rms_min*(SIN($Q256)/Vout))))))","v":0.25715434185685},{"$f":"(J$5*((90/$G$35)*(90/$G$35))/2)*(1+(SQRT(1+(4/(J$5*((90/$G$35)*(90/$G$35))))*$J$40*(1-(SQRT(2)*Vin_rms_min*(SIN($Q256)/Vout))))))","v":0.217926792685685},{"$f":"(K$5*((90/$G$35)*(90/$G$35))/2)*(1+(SQRT(1+(4/(K$5*((90/$G$35)*(90/$G$35))))*$K$40*(1-(SQRT(2)*Vin_rms_min*(SIN($Q256)/Vout))))))","v":0.298163788127197},{"$f":"(L$5*((90/$G$35)*(90/$G$35))/2)*(1+(SQRT(1+(4/(L$5*((90/$G$35)*(90/$G$35))))*$L$40*(1-(SQRT(2)*Vin_rms_min*(SIN($Q256)/Vout))))))","v":0.39755171750293},null,{"$f":"R571*ABS(1/(Vout/(SQRT(2)*$C$26*SIN($Q256))))","v":0.0595214786278314},{"$f":"S571*ABS(1/(Vout/(SQRT(2)*$C$26*SIN($Q256))))","v":0.0576730567968282},{"$f":"T571*ABS(1/(Vout/(SQRT(2)*$C$26*SIN($Q256))))","v":0.0565882349769022},{"$f":"U571*ABS(1/(Vout/(SQRT(2)*$C$26*SIN($Q256))))","v":0.0479559958553028},{"$f":"V571*ABS(1/(Vout/(SQRT(2)*$C$26*SIN($Q256))))","v":0.0656125904089831},{"$f":"W571*ABS(1/(Vout/(SQRT(2)*$C$26*SIN($Q256))))","v":0.0874834538786442},null,{"$f":"1/(0.0000128*(R571+Y571+$G$40))","v":34583.8042856738},{"$f":"1/(0.0000128*(S571+Z571+$H$40))","v":73754.5166156899},{"$f":"1/(0.0000128*(T571+AA571+$I$40))","v":95818.6193383712},{"$f":"1/(0.0000128*(U571+AB571+$J$40))","v":267842.33787254},{"$f":"1/(0.0000128*(V571+AC571+$K$40))","v":214761.05819287},{"$f":"1/(0.0000128*(W571+AD571+$L$40))","v":161070.793644652}]
[null,null,null,null,null,null,null,null,null,null,null,null,null,null,null,null,null,{"$f":"(G$5*((90/$G$35)*(90/$G$35))/2)*(1+(SQRT(1+(4/(G$5*((90/$G$35)*(90/$G$35))))*$G$40*(1-(SQRT(2)*Vin_rms_min*(SIN($Q257)/Vout))))))","v":0.270866403970493},{"$f":"(H$5*((90/$G$35)*(90/$G$35))/2)*(1+(SQRT(1+(4/(H$5*((90/$G$35)*(90/$G$35))))*$H$40*(1-(SQRT(2)*Vin_rms_min*(SIN($Q257)/Vout))))))","v":0.262414683106898},{"$f":"(I$5*((90/$G$35)*(90/$G$35))/2)*(1+(SQRT(1+(4/(I$5*((90/$G$35)*(90/$G$35))))*$I$40*(1-(SQRT(2)*Vin_rms_min*(SIN($Q257)/Vout))))))","v":0.257454722308408},{"$f":"(J$5*((90/$G$35)*(90/$G$35))/2)*(1+(SQRT(1+(4/(J$5*((90/$G$35)*(90/$G$35))))*$J$40*(1-(SQRT(2)*Vin_rms_min*(SIN($Q257)/Vout))))))","v":0.217980899682736},{"$f":"(K$5*((90/$G$35)*(90/$G$35))/2)*(1+(SQRT(1+(4/(K$5*((90/$G$35)*(90/$G$35))))*$K$40*(1-(SQRT(2)*Vin_rms_min*(SIN($Q257)/Vout))))))","v":0.298163788127197},{"$f":"(L$5*((90/$G$35)*(90/$G$35))/2)*(1+(SQRT(1+(4/(L$5*((90/$G$35)*(90/$G$35))))*$L$40*(1-(SQRT(2)*Vin_rms_min*(SIN($Q257)/Vout))))))","v":0.39755171750293},null,{"$f":"R572*ABS(1/(Vout/(SQRT(2)*$C$26*SIN($Q257))))","v":0.0588047731937728},{"$f":"S572*ABS(1/(Vout/(SQRT(2)*$C$26*SIN($Q257))))","v":0.0569699146760849},{"$f":"T572*ABS(1/(Vout/(SQRT(2)*$C$26*SIN($Q257))))","v":0.0558931131033178},{"$f":"U572*ABS(1/(Vout/(SQRT(2)*$C$26*SIN($Q257))))","v":0.0473233932983961},{"$f":"V572*ABS(1/(Vout/(SQRT(2)*$C$26*SIN($Q257))))","v":0.0647310027319815},{"$f":"W572*ABS(1/(Vout/(SQRT(2)*$C$26*SIN($Q257))))","v":0.086308003642642},null,{"$f":"1/(0.0000128*(R572+Y572+$G$40))","v":34588.9214817382},{"$f":"1/(0.0000128*(S572+Z572+$H$40))","v":73780.4668833342},{"$f":"1/(0.0000128*(T572+AA572+$I$40))","v":95865.0316072438},{"$f":"1/(0.0000128*(U572+AB572+$J$40))","v":268374.606227685},{"$f":"1/(0.0000128*(V572+AC572+$K$40))","v":215282.781588111},{"$f":"1/(0.0000128*(W572+AD572+$L$40))","v":161462.086191084}]
[null,null,null,null,null,null,null,null,null,null,null,null,null,null,null,null,null,{"$f":"(G$5*((90/$G$35)*(90/$G$35))/2)*(1+(SQRT(1+(4/(G$5*((90/$G$35)*(90/$G$35))))*$G$40*(1-(SQRT(2)*Vin_rms_min*(SIN($Q258)/Vout))))))","v":0.271251124950446},{"$f":"(H$5*((90/$G$35)*(90/$G$35))/2)*(1+(SQRT(1+(4/(H$5*((90/$G$35)*(90/$G$35))))*$H$40*(1-(SQRT(2)*Vin_rms_min*(SIN($Q258)/Vout))))))","v":0.262747192181753},{"$f":"(I$5*((90/$G$35)*(90/$G$35))/2)*(1+(SQRT(1+(4/(I$5*((90/$G$35)*(90/$G$35))))*$I$40*(1-(SQRT(2)*Vin_rms_min*(SIN($Q258)/Vout))))))","v":0.257756869852877},{"$f":"(J$5*((90/$G$35)*(90/$G$35))/2)*(1+(SQRT(1+(4/(J$5*((90/$G$35)*(90/$G$35))))*$J$40*(1-(SQRT(2)*Vin_rms_min*(SIN($Q258)/Vout))))))","v":0.2180353790128},{"$f":"(K$5*((90/$G$35)*(90/$G$35))/2)*(1+(SQRT(1+(4/(K$5*((90/$G$35)*(90/$G$35))))*$K$40*(1-(SQRT(2)*Vin_rms_min*(SIN($Q258)/Vout))))))","v":0.298163788127197},{"$f":"(L$5*((90/$G$35)*(90/$G$35))/2)*(1+(SQRT(1+(4/(L$5*((90/$G$35)*(90/$G$35))))*$L$40*(1-(SQRT(2)*Vin_rms_min*(SIN($Q258)/Vout))))))","v":0.39755171750293},null,{"$f":"R573*ABS(1/(Vout/(SQRT(2)*$C$26*SIN($Q258))))","v":0.0580803924875159},{"$f":"S573*ABS(1/(Vout/(SQRT(2)*$C$26*SIN($Q258))))","v":0.0562595272174331},{"$f":"T573*ABS(1/(Vout/(SQRT(2)*$C$26*SIN($Q258))))","v":0.0551909975309542},{"$f":"U573*ABS(1/(Vout/(SQRT(2)*$C$26*SIN($Q258))))","v":0.0466858170322471},{"$f":"V573*ABS(1/(Vout/(SQRT(2)*$C$26*SIN($Q258))))","v":0.063842942008649},{"$f":"W573*ABS(1/(Vout/(SQRT(2)*$C$26*SIN($Q258))))","v":0.0851239226781987},null,{"$f":"1/(0.0000128*(R573+Y573+$G$40))","v":34594.1237576277},{"$f":"1/(0.0000128*(S573+Z573+$H$40))","v":73806.8059164935},{"$f":"1/(0.0000128*(T573+AA573+$I$40))","v":95912.1042829837},{"$f":"1/(0.0000128*(U573+AB573+$J$40))","v":268913.253365121},{"$f":"1/(0.0000128*(V573+AC573+$K$40))","v":215810.904870975},{"$f":"1/(0.0000128*(W573+AD573+$L$40))","v":161858.178653232}]
[null,null,null,null,null,null,null,null,null,null,null,null,null,null,null,null,null,{"$f":"(G$5*((90/$G$35)*(90/$G$35))/2)*(1+(SQRT(1+(4/(G$5*((90/$G$35)*(90/$G$35))))*$G$40*(1-(SQRT(2)*Vin_rms_min*(SIN($Q259)/Vout))))))","v":0.271638017422408},{"$f":"(H$5*((90/$G$35)*(90/$G$35))/2)*(1+(SQRT(1+(4/(H$5*((90/$G$35)*(90/$G$35))))*$H$40*(1-(SQRT(2)*Vin_rms_min*(SIN($Q259)/Vout))))))","v":0.263081591232902},{"$f":"(I$5*((90/$G$35)*(90/$G$35))/2)*(1+(SQRT(1+(4/(I$5*((90/$G$35)*(90/$G$35))))*$I$40*(1-(SQRT(2)*Vin_rms_min*(SIN($Q259)/Vout))))))","v":0.258060746654473},{"$f":"(J$5*((90/$G$35)*(90/$G$35))/2)*(1+(SQRT(1+(4/(J$5*((90/$G$35)*(90/$G$35))))*$J$40*(1-(SQRT(2)*Vin_rms_min*(SIN($Q259)/Vout))))))","v":0.218090224719102},{"$f":"(K$5*((90/$G$35)*(90/$G$35))/2)*(1+(SQRT(1+(4/(K$5*((90/$G$35)*(90/$G$35))))*$K$40*(1-(SQRT(2)*Vin_rms_min*(SIN($Q259)/Vout))))))","v":0.298163788127197},{"$f":"(L$5*((90/$G$35)*(90/$G$35))/2)*(1+(SQRT(1+(4/(L$5*((90/$G$35)*(90/$G$35))))*$L$40*(1-(SQRT(2)*Vin_rms_min*(SIN($Q259)/Vout))))))","v":0.39755171750293},null,{"$f":"R574*ABS(1/(Vout/(SQRT(2)*$C$26*SIN($Q259))))","v":0.0573483622684062},{"$f":"S574*ABS(1/(Vout/(SQRT(2)*$C$26*SIN($Q259))))","v":0.0555419250344176},{"$f":"T574*ABS(1/(Vout/(SQRT(2)*$C$26*SIN($Q259))))","v":0.0544819216648254},{"$f":"U574*ABS(1/(Vout/(SQRT(2)*$C$26*SIN($Q259))))","v":0.0460433238803246},{"$f":"V574*ABS(1/(Vout/(SQRT(2)*$C$26*SIN($Q259))))","v":0.0629484970443179},{"$f":"W574*ABS(1/(Vout/(SQRT(2)*$C$26*SIN($Q259))))","v":0.0839313293924239},null,{"$f":"1/(0.0000128*(R574+Y574+$G$40))","v":34599.4115388321},{"$f":"1/(0.0000128*(S574+Z574+$H$40))","v":73833.535309372},{"$f":"1/(0.0000128*(T574+AA574+$I$40))","v":95959.8397677398},{"$f":"1/(0.0000128*(U574+AB574+$J$40))","v":269458.296141982},{"$f":"1/(0.0000128*(V574+AC574+$K$40))","v":216345.450454264},{"$f":"1/(0.0000128*(W574+AD574+$L$40))","v":162259.087840698}]
[null,null,null,null,null,null,null,null,null,null,null,null,null,null,null,null,null,{"$f":"(G$5*((90/$G$35)*(90/$G$35))/2)*(1+(SQRT(1+(4/(G$5*((90/$G$35)*(90/$G$35))))*$G$40*(1-(SQRT(2)*Vin_rms_min*(SIN($Q260)/Vout))))))","v":0.272027032791162},{"$f":"(H$5*((90/$G$35)*(90/$G$35))/2)*(1+(SQRT(1+(4/(H$5*((90/$G$35)*(90/$G$35))))*$H$40*(1-(SQRT(2)*Vin_rms_min*(SIN($Q260)/Vout))))))","v":0.263417838418856},{"$f":"(I$5*((90/$G$35)*(90/$G$35))/2)*(1+(SQRT(1+(4/(I$5*((90/$G$35)*(90/$G$35))))*$I$40*(1-(SQRT(2)*Vin_rms_min*(SIN($Q260)/Vout))))))","v":0.258366314837762},{"$f":"(J$5*((90/$G$35)*(90/$G$35))/2)*(1+(SQRT(1+(4/(J$5*((90/$G$35)*(90/$G$35))))*$J$40*(1-(SQRT(2)*Vin_rms_min*(SIN($Q260)/Vout))))))","v":0.218145430813323},{"$f":"(K$5*((90/$G$35)*(90/$G$35))/2)*(1+(SQRT(1+(4/(K$5*((90/$G$35)*(90/$G$35))))*$K$40*(1-(SQRT(2)*Vin_rms_min*(SIN($Q260)/Vout))))))","v":0.298163788127197},{"$f":"(L$5*((90/$G$35)*(90/$G$35))/2)*(1+(SQRT(1+(4/(L$5*((90/$G$35)*(90/$G$35))))*$L$40*(1-(SQRT(2)*Vin_rms_min*(SIN($Q260)/Vout))))))","v":0.39755171750293},null,{"$f":"R575*ABS(1/(Vout/(SQRT(2)*$C$26*SIN($Q260))))","v":0.0566087096323357},{"$f":"S575*ABS(1/(Vout/(SQRT(2)*$C$26*SIN($Q260))))","v":0.0548171399512284},{"$f":"T575*ABS(1/(Vout/(SQRT(2)*$C$26*SIN($Q260))))","v":0.0537659200461002},{"$f":"U575*ABS(1/(Vout/(SQRT(2)*$C$26*SIN($Q260))))","v":0.0453959712158922},{"$f":"V575*ABS(1/(Vout/(SQRT(2)*$C$26*SIN($Q260))))","v":0.0620477572827393},{"$f":"W575*ABS(1/(Vout/(SQRT(2)*$C$26*SIN($Q260))))","v":0.0827303430436524},null,{"$f":"1/(0.0000128*(R575+Y575+$G$40))","v":34604.7852325971},{"$f":"1/(0.0000128*(S575+Z575+$H$40))","v":73860.6565894102},{"$f":"1/(0.0000128*(T575+AA575+$I$40))","v":96008.2403656409},{"$f":"1/(0.0000128*(U575+AB575+$J$40))","v":270009.751290663},{"$f":"1/(0.0000128*(V575+AC575+$K$40))","v":216886.440747173},{"$f":"1/(0.0000128*(W575+AD575+$L$40))","v":162664.83056038}]
[null,null,null,null,null,null,null,null,null,null,null,null,null,null,null,null,null,{"$f":"(G$5*((90/$G$35)*(90/$G$35))/2)*(1+(SQRT(1+(4/(G$5*((90/$G$35)*(90/$G$35))))*$G$40*(1-(SQRT(2)*Vin_rms_min*(SIN($Q261)/Vout))))))","v":0.272418122435326},{"$f":"(H$5*((90/$G$35)*(90/$G$35))/2)*(1+(SQRT(1+(4/(H$5*((90/$G$35)*(90/$G$35))))*$H$40*(1-(SQRT(2)*Vin_rms_min*(SIN($Q261)/Vout))))))","v":0.263755891868464},{"$f":"(I$5*((90/$G$35)*(90/$G$35))/2)*(1+(SQRT(1+(4/(I$5*((90/$G$35)*(90/$G$35))))*$I$40*(1-(SQRT(2)*Vin_rms_min*(SIN($Q261)/Vout))))))","v":0.258673536494072},{"$f":"(J$5*((90/$G$35)*(90/$G$35))/2)*(1+(SQRT(1+(4/(J$5*((90/$G$35)*(90/$G$35))))*$J$40*(1-(SQRT(2)*Vin_rms_min*(SIN($Q261)/Vout))))))","v":0.218200991276404},{"$f":"(K$5*((90/$G$35)*(90/$G$35))/2)*(1+(SQRT(1+(4/(K$5*((90/$G$35)*(90/$G$35))))*$K$40*(1-(SQRT(2)*Vin_rms_min*(SIN($Q261)/Vout))))))","v":0.298163788127197},{"$f":"(L$5*((90/$G$35)*(90/$G$35))/2)*(1+(SQRT(1+(4/(L$5*((90/$G$35)*(90/$G$35))))*$L$40*(1-(SQRT(2)*Vin_rms_min*(SIN($Q261)/Vout))))))","v":0.39755171750293},null,{"$f":"R576*ABS(1/(Vout/(SQRT(2)*$C$26*SIN($Q261))))","v":0.0558614630266934},{"$f":"S576*ABS(1/(Vout/(SQRT(2)*$C$26*SIN($Q261))))","v":0.054085205014878},{"$f":"T576*ABS(1/(Vout/(SQRT(2)*$C$26*SIN($Q261))))","v":0.0530430283626895},{"$f":"U576*ABS(1/(Vout/(SQRT(2)*$C$26*SIN($Q261))))","v":0.0447438169590514},{"$f":"V576*ABS(1/(Vout/(SQRT(2)*$C$26*SIN($Q261))))","v":0.0611408127971387},{"$f":"W576*ABS(1/(Vout/(SQRT(2)*$C$26*SIN($Q261))))","v":0.0815210837295183},null,{"$f":"1/(0.0000128*(R576+Y576+$G$40))","v":34610.2452275576},{"$f":"1/(0.0000128*(S576+Z576+$H$40))","v":73888.1712157828},{"$f":"1/(0.0000128*(T576+AA576+$I$40))","v":96057.3082803978},{"$f":"1/(0.0000128*(U576+AB576+$J$40))","v":270567.63540591},{"$f":"1/(0.0000128*(V576+AC576+$K$40))","v":217433.898143853},{"$f":"1/(0.0000128*(W576+AD576+$L$40))","v":163075.42360789}]
[null,null,null,null,null,null,null,null,null,null,null,null,null,null,null,null,null,{"$f":"(G$5*((90/$G$35)*(90/$G$35))/2)*(1+(SQRT(1+(4/(G$5*((90/$G$35)*(90/$G$35))))*$G$40*(1-(SQRT(2)*Vin_rms_min*(SIN($Q262)/Vout))))))","v":0.272811237715462},{"$f":"(H$5*((90/$G$35)*(90/$G$35))/2)*(1+(SQRT(1+(4/(H$5*((90/$G$35)*(90/$G$35))))*$H$40*(1-(SQRT(2)*Vin_rms_min*(SIN($Q262)/Vout))))))","v":0.264095709687895},{"$f":"(I$5*((90/$G$35)*(90/$G$35))/2)*(1+(SQRT(1+(4/(I$5*((90/$G$35)*(90/$G$35))))*$I$40*(1-(SQRT(2)*Vin_rms_min*(SIN($Q262)/Vout))))))","v":0.25898237368781},{"$f":"(J$5*((90/$G$35)*(90/$G$35))/2)*(1+(SQRT(1+(4/(J$5*((90/$G$35)*(90/$G$35))))*$J$40*(1-(SQRT(2)*Vin_rms_min*(SIN($Q262)/Vout))))))","v":0.218256900059351},{"$f":"(K$5*((90/$G$35)*(90/$G$35))/2)*(1+(SQRT(1+(4/(K$5*((90/$G$35)*(90/$G$35))))*$K$40*(1-(SQRT(2)*Vin_rms_min*(SIN($Q262)/Vout))))))","v":0.298163788127197},{"$f":"(L$5*((90/$G$35)*(90/$G$35))/2)*(1+(SQRT(1+(4/(L$5*((90/$G$35)*(90/$G$35))))*$L$40*(1-(SQRT(2)*Vin_rms_min*(SIN($Q262)/Vout))))))","v":0.39755171750293},null,{"$f":"R577*ABS(1/(Vout/(SQRT(2)*$C$26*SIN($Q262))))","v":0.0551066522647944},{"$f":"S577*ABS(1/(Vout/(SQRT(2)*$C$26*SIN($Q262))))","v":0.0533461545069267},{"$f":"T577*ABS(1/(Vout/(SQRT(2)*$C$26*SIN($Q262))))","v":0.0523132834594239},{"$f":"U577*ABS(1/(Vout/(SQRT(2)*$C$26*SIN($Q262))))","v":0.0440869195736984},{"$f":"V577*ABS(1/(Vout/(SQRT(2)*$C$26*SIN($Q262))))","v":0.060227754281209},{"$f":"W577*ABS(1/(Vout/(SQRT(2)*$C$26*SIN($Q262))))","v":0.0803036723749453},null,{"$f":"1/(0.0000128*(R577+Y577+$G$40))","v":34615.7918933787},{"$f":"1/(0.0000128*(S577+Z577+$H$40))","v":73916.0805779187},{"$f":"1/(0.0000128*(T577+AA577+$I$40))","v":96107.0456129276},{"$f":"1/(0.0000128*(U577+AB577+$J$40))","v":271131.964931582},{"$f":"1/(0.0000128*(V577+AC577+$K$40))","v":217987.845011623},{"$f":"1/(0.0000128*(W577+AD577+$L$40))","v":163490.883758717}]
[null,null,null,null,null,null,null,null,null,null,null,null,null,null,null,null,null,{"$f":"(G$5*((90/$G$35)*(90/$G$35))/2)*(1+(SQRT(1+(4/(G$5*((90/$G$35)*(90/$G$35))))*$G$40*(1-(SQRT(2)*Vin_rms_min*(SIN($Q263)/Vout))))))","v":0.273206329982046},{"$f":"(H$5*((90/$G$35)*(90/$G$35))/2)*(1+(SQRT(1+(4/(H$5*((90/$G$35)*(90/$G$35))))*$H$40*(1-(SQRT(2)*Vin_rms_min*(SIN($Q263)/Vout))))))","v":0.264437249967504},{"$f":"(I$5*((90/$G$35)*(90/$G$35))/2)*(1+(SQRT(1+(4/(I$5*((90/$G$35)*(90/$G$35))))*$I$40*(1-(SQRT(2)*Vin_rms_min*(SIN($Q263)/Vout))))))","v":0.259292788462682},{"$f":"(J$5*((90/$G$35)*(90/$G$35))/2)*(1+(SQRT(1+(4/(J$5*((90/$G$35)*(90/$G$35))))*$J$40*(1-(SQRT(2)*Vin_rms_min*(SIN($Q263)/Vout))))))","v":0.218313151084039},{"$f":"(K$5*((90/$G$35)*(90/$G$35))/2)*(1+(SQRT(1+(4/(K$5*((90/$G$35)*(90/$G$35))))*$K$40*(1-(SQRT(2)*Vin_rms_min*(SIN($Q263)/Vout))))))","v":0.298163788127197},{"$f":"(L$5*((90/$G$35)*(90/$G$35))/2)*(1+(SQRT(1+(4/(L$5*((90/$G$35)*(90/$G$35))))*$L$40*(1-(SQRT(2)*Vin_rms_min*(SIN($Q263)/Vout))))))","v":0.39755171750293},null,{"$f":"R578*ABS(1/(Vout/(SQRT(2)*$C$26*SIN($Q263))))","v":0.054344308539782},{"$f":"S578*ABS(1/(Vout/(SQRT(2)*$C$26*SIN($Q263))))","v":0.0526000239547521},{"$f":"T578*ABS(1/(Vout/(SQRT(2)*$C$26*SIN($Q263))))","v":0.0515767233478171},{"$f":"U578*ABS(1/(Vout/(SQRT(2)*$C$26*SIN($Q263))))","v":0.0434253380643953},{"$f":"V578*ABS(1/(Vout/(SQRT(2)*$C$26*SIN($Q263))))","v":0.0593086730400407},{"$f":"W578*ABS(1/(Vout/(SQRT(2)*$C$26*SIN($Q263))))","v":0.0790782307200542},null,{"$f":"1/(0.0000128*(R578+Y578+$G$40))","v":34621.4255804055},{"$f":"1/(0.0000128*(S578+Z578+$H$40))","v":73944.3859940418},{"$f":"1/(0.0000128*(T578+AA578+$I$40))","v":96157.4543590036},{"$f":"1/(0.0000128*(U578+AB578+$J$40))","v":271702.756147091},{"$f":"1/(0.0000128*(V578+AC578+$K$40))","v":218548.30367884},{"$f":"1/(0.0000128*(W578+AD578+$L$40))","v":163911.22775913}]
[null,null,null,null,null,null,null,null,null,null,null,null,null,null,null,null,null,{"$f":"(G$5*((90/$G$35)*(90/$G$35))/2)*(1+(SQRT(1+(4/(G$5*((90/$G$35)*(90/$G$35))))*$G$40*(1-(SQRT(2)*Vin_rms_min*(SIN($Q264)/Vout))))))","v":0.2736033505833},{"$f":"(H$5*((90/$G$35)*(90/$G$35))/2)*(1+(SQRT(1+(4/(H$5*((90/$G$35)*(90/$G$35))))*$H$40*(1-(SQRT(2)*Vin_rms_min*(SIN($Q264)/Vout))))))","v":0.264780470788586},{"$f":"(I$5*((90/$G$35)*(90/$G$35))/2)*(1+(SQRT(1+(4/(I$5*((90/$G$35)*(90/$G$35))))*$I$40*(1-(SQRT(2)*Vin_rms_min*(SIN($Q264)/Vout))))))","v":0.259604742847801},{"$f":"(J$5*((90/$G$35)*(90/$G$35))/2)*(1+(SQRT(1+(4/(J$5*((90/$G$35)*(90/$G$35))))*$J$40*(1-(SQRT(2)*Vin_rms_min*(SIN($Q264)/Vout))))))","v":0.218369738244012},{"$f":"(K$5*((90/$G$35)*(90/$G$35))/2)*(1+(SQRT(1+(4/(K$5*((90/$G$35)*(90/$G$35))))*$K$40*(1-(SQRT(2)*Vin_rms_min*(SIN($Q264)/Vout))))))","v":0.298163788127197},{"$f":"(L$5*((90/$G$35)*(90/$G$35))/2)*(1+(SQRT(1+(4/(L$5*((90/$G$35)*(90/$G$35))))*$L$40*(1-(SQRT(2)*Vin_rms_min*(SIN($Q264)/Vout))))))","v":0.39755171750293},null,{"$f":"R579*ABS(1/(Vout/(SQRT(2)*$C$26*SIN($Q264))))","v":0.0535744644379967},{"$f":"S579*ABS(1/(Vout/(SQRT(2)*$C$26*SIN($Q264))))","v":0.0518468501423571},{"$f":"T579*ABS(1/(Vout/(SQRT(2)*$C$26*SIN($Q264))))","v":0.0508333872154112},{"$f":"U579*ABS(1/(Vout/(SQRT(2)*$C$26*SIN($Q264))))","v":0.042759131973154},{"$f":"V579*ABS(1/(Vout/(SQRT(2)*$C$26*SIN($Q264))))","v":0.0583836609809921},{"$f":"W579*ABS(1/(Vout/(SQRT(2)*$C$26*SIN($Q264))))","v":0.0778448813079895},null,{"$f":"1/(0.0000128*(R579+Y579+$G$40))","v":34627.1466193202},{"$f":"1/(0.0000128*(S579+Z579+$H$40))","v":73973.0887097355},{"$f":"1/(0.0000128*(T579+AA579+$I$40))","v":96208.5364069276},{"$f":"1/(0.0000128*(U579+AB579+$J$40))","v":272280.025153517},{"$f":"1/(0.0000128*(V579+AC579+$K$40))","v":219115.296422424},{"$f":"1/(0.0000128*(W579+AD579+$L$40))","v":164336.472316818}]
[null,null,null,null,null,null,null,null,null,null,null,null,null,null,null,null,null,{"$f":"(G$5*((90/$G$35)*(90/$G$35))/2)*(1+(SQRT(1+(4/(G$5*((90/$G$35)*(90/$G$35))))*$G$40*(1-(SQRT(2)*Vin_rms_min*(SIN($Q265)/Vout))))))","v":0.274002250872884},{"$f":"(H$5*((90/$G$35)*(90/$G$35))/2)*(1+(SQRT(1+(4/(H$5*((90/$G$35)*(90/$G$35))))*$H$40*(1-(SQRT(2)*Vin_rms_min*(SIN($Q265)/Vout))))))","v":0.26512533023001},{"$f":"(I$5*((90/$G$35)*(90/$G$35))/2)*(1+(SQRT(1+(4/(I$5*((90/$G$35)*(90/$G$35))))*$I$40*(1-(SQRT(2)*Vin_rms_min*(SIN($Q265)/Vout))))))","v":0.259918198863712},{"$f":"(J$5*((90/$G$35)*(90/$G$35))/2)*(1+(SQRT(1+(4/(J$5*((90/$G$35)*(90/$G$35))))*$J$40*(1-(SQRT(2)*Vin_rms_min*(SIN($Q265)/Vout))))))","v":0.218426655405287},{"$f":"(K$5*((90/$G$35)*(90/$G$35))/2)*(1+(SQRT(1+(4/(K$5*((90/$G$35)*(90/$G$35))))*$K$40*(1-(SQRT(2)*Vin_rms_min*(SIN($Q265)/Vout))))))","v":0.298163788127197},{"$f":"(L$5*((90/$G$35)*(90/$G$35))/2)*(1+(SQRT(1+(4/(L$5*((90/$G$35)*(90/$G$35))))*$L$40*(1-(SQRT(2)*Vin_rms_min*(SIN($Q265)/Vout))))))","v":0.39755171750293},null,{"$f":"R580*ABS(1/(Vout/(SQRT(2)*$C$26*SIN($Q265))))","v":0.0527971539518085},{"$f":"S580*ABS(1/(Vout/(SQRT(2)*$C$26*SIN($Q265))))","v":0.0510866711207121},{"$f":"T580*ABS(1/(Vout/(SQRT(2)*$C$26*SIN($Q265))))","v":0.0500833154346989},{"$f":"U580*ABS(1/(Vout/(SQRT(2)*$C$26*SIN($Q265))))","v":0.0420883613761322},{"$f":"V580*ABS(1/(Vout/(SQRT(2)*$C$26*SIN($Q265))))","v":0.0574528106044983},{"$f":"W580*ABS(1/(Vout/(SQRT(2)*$C$26*SIN($Q265))))","v":0.0766037474726644},null,{"$f":"1/(0.0000128*(R580+Y580+$G$40))","v":34632.9553208085},{"$f":"1/(0.0000128*(S580+Z580+$H$40))","v":74002.1898965282},{"$f":"1/(0.0000128*(T580+AA580+$I$40))","v":96260.2935352273},{"$f":"1/(0.0000128*(U580+AB580+$J$40))","v":272863.787859379},{"$f":"1/(0.0000128*(V580+AC580+$K$40))","v":219688.845454999},{"$f":"1/(0.0000128*(W580+AD580+$L$40))","v":164766.63409125}]
[null,null,null,null,null,null,null,null,null,null,null,null,null,null,null,null,null,{"$f":"(G$5*((90/$G$35)*(90/$G$35))/2)*(1+(SQRT(1+(4/(G$5*((90/$G$35)*(90/$G$35))))*$G$40*(1-(SQRT(2)*Vin_rms_min*(SIN($Q266)/Vout))))))","v":0.274402982217446},{"$f":"(H$5*((90/$G$35)*(90/$G$35))/2)*(1+(SQRT(1+(4/(H$5*((90/$G$35)*(90/$G$35))))*$H$40*(1-(SQRT(2)*Vin_rms_min*(SIN($Q266)/Vout))))))","v":0.265471786374737},{"$f":"(I$5*((90/$G$35)*(90/$G$35))/2)*(1+(SQRT(1+(4/(I$5*((90/$G$35)*(90/$G$35))))*$I$40*(1-(SQRT(2)*Vin_rms_min*(SIN($Q266)/Vout))))))","v":0.260233118528298},{"$f":"(J$5*((90/$G$35)*(90/$G$35))/2)*(1+(SQRT(1+(4/(J$5*((90/$G$35)*(90/$G$35))))*$J$40*(1-(SQRT(2)*Vin_rms_min*(SIN($Q266)/Vout))))))","v":0.218483896407161},{"$f":"(K$5*((90/$G$35)*(90/$G$35))/2)*(1+(SQRT(1+(4/(K$5*((90/$G$35)*(90/$G$35))))*$K$40*(1-(SQRT(2)*Vin_rms_min*(SIN($Q266)/Vout))))))","v":0.298163788127197},{"$f":"(L$5*((90/$G$35)*(90/$G$35))/2)*(1+(SQRT(1+(4/(L$5*((90/$G$35)*(90/$G$35))))*$L$40*(1-(SQRT(2)*Vin_rms_min*(SIN($Q266)/Vout))))))","v":0.39755171750293},null,{"$f":"R581*ABS(1/(Vout/(SQRT(2)*$C$26*SIN($Q266))))","v":0.0520124124919068},{"$f":"S581*ABS(1/(Vout/(SQRT(2)*$C$26*SIN($Q266))))","v":0.0503195262176283},{"$f":"T581*ABS(1/(Vout/(SQRT(2)*$C$26*SIN($Q266))))","v":0.0493265495716197},{"$f":"U581*ABS(1/(Vout/(SQRT(2)*$C$26*SIN($Q266))))","v":0.0414130868802409},{"$f":"V581*ABS(1/(Vout/(SQRT(2)*$C$26*SIN($Q266))))","v":0.0565162149948213},{"$f":"W581*ABS(1/(Vout/(SQRT(2)*$C$26*SIN($Q266))))","v":0.0753549533264284},null,{"$f":"1/(0.0000128*(R581+Y581+$G$40))","v":34638.8519752335},{"$f":"1/(0.0000128*(S581+Z581+$H$40))","v":74031.6906505018},{"$f":"1/(0.0000128*(T581+AA581+$I$40))","v":96312.7274103779},{"$f":"1/(0.0000128*(U581+AB581+$J$40))","v":273454.059966075},{"$f":"1/(0.0000128*(V581+AC581+$K$40))","v":220268.972911684},{"$f":"1/(0.0000128*(W581+AD581+$L$40))","v":165201.729683763}]
[null,null,null,null,null,null,null,null,null,null,null,null,null,null,null,null,null,{"$f":"(G$5*((90/$G$35)*(90/$G$35))/2)*(1+(SQRT(1+(4/(G$5*((90/$G$35)*(90/$G$35))))*$G$40*(1-(SQRT(2)*Vin_rms_min*(SIN($Q267)/Vout))))))","v":0.274805496004032},{"$f":"(H$5*((90/$G$35)*(90/$G$35))/2)*(1+(SQRT(1+(4/(H$5*((90/$G$35)*(90/$G$35))))*$H$40*(1-(SQRT(2)*Vin_rms_min*(SIN($Q267)/Vout))))))","v":0.265819797316228},{"$f":"(I$5*((90/$G$35)*(90/$G$35))/2)*(1+(SQRT(1+(4/(I$5*((90/$G$35)*(90/$G$35))))*$I$40*(1-(SQRT(2)*Vin_rms_min*(SIN($Q267)/Vout))))))","v":0.260549463862601},{"$f":"(J$5*((90/$G$35)*(90/$G$35))/2)*(1+(SQRT(1+(4/(J$5*((90/$G$35)*(90/$G$35))))*$J$40*(1-(SQRT(2)*Vin_rms_min*(SIN($Q267)/Vout))))))","v":0.218541455063003},{"$f":"(K$5*((90/$G$35)*(90/$G$35))/2)*(1+(SQRT(1+(4/(K$5*((90/$G$35)*(90/$G$35))))*$K$40*(1-(SQRT(2)*Vin_rms_min*(SIN($Q267)/Vout))))))","v":0.298163788127197},{"$f":"(L$5*((90/$G$35)*(90/$G$35))/2)*(1+(SQRT(1+(4/(L$5*((90/$G$35)*(90/$G$35))))*$L$40*(1-(SQRT(2)*Vin_rms_min*(SIN($Q267)/Vout))))))","v":0.39755171750293},null,{"$f":"R582*ABS(1/(Vout/(SQRT(2)*$C$26*SIN($Q267))))","v":0.051220276899044},{"$f":"S582*ABS(1/(Vout/(SQRT(2)*$C$26*SIN($Q267))))","v":0.0495454560471569},{"$f":"T582*ABS(1/(Vout/(SQRT(2)*$C$26*SIN($Q267))))","v":0.048563132393626},{"$f":"U582*ABS(1/(Vout/(SQRT(2)*$C$26*SIN($Q267))))","v":0.0407333696196627},{"$f":"V582*ABS(1/(Vout/(SQRT(2)*$C$26*SIN($Q267))))","v":0.0555739678107415},{"$f":"W582*ABS(1/(Vout/(SQRT(2)*$C$26*SIN($Q267))))","v":0.0740986237476553},null,{"$f":"1/(0.0000128*(R582+Y582+$G$40))","v":34644.8368523183},{"$f":"1/(0.0000128*(S582+Z582+$H$40))","v":74061.5919909224},{"$f":"1/(0.0000128*(T582+AA582+$I$40))","v":96365.839584548},{"$f":"1/(0.0000128*(U582+AB582+$J$40))","v":274050.856952962},{"$f":"1/(0.0000128*(V582+AC582+$K$40))","v":220855.700836488},{"$f":"1/(0.0000128*(W582+AD582+$L$40))","v":165641.775627366}]
[null,null,null,null,null,null,null,null,null,null,null,null,null,null,null,null,null,{"$f":"(G$5*((90/$G$35)*(90/$G$35))/2)*(1+(SQRT(1+(4/(G$5*((90/$G$35)*(90/$G$35))))*$G$40*(1-(SQRT(2)*Vin_rms_min*(SIN($Q268)/Vout))))))","v":0.275209743647362},{"$f":"(H$5*((90/$G$35)*(90/$G$35))/2)*(1+(SQRT(1+(4/(H$5*((90/$G$35)*(90/$G$35))))*$H$40*(1-(SQRT(2)*Vin_rms_min*(SIN($Q268)/Vout))))))","v":0.266169321164728},{"$f":"(I$5*((90/$G$35)*(90/$G$35))/2)*(1+(SQRT(1+(4/(I$5*((90/$G$35)*(90/$G$35))))*$I$40*(1-(SQRT(2)*Vin_rms_min*(SIN($Q268)/Vout))))))","v":0.260867196896527},{"$f":"(J$5*((90/$G$35)*(90/$G$35))/2)*(1+(SQRT(1+(4/(J$5*((90/$G$35)*(90/$G$35))))*$J$40*(1-(SQRT(2)*Vin_rms_min*(SIN($Q268)/Vout))))))","v":0.218599325161063},{"$f":"(K$5*((90/$G$35)*(90/$G$35))/2)*(1+(SQRT(1+(4/(K$5*((90/$G$35)*(90/$G$35))))*$K$40*(1-(SQRT(2)*Vin_rms_min*(SIN($Q268)/Vout))))))","v":0.298163788127197},{"$f":"(L$5*((90/$G$35)*(90/$G$35))/2)*(1+(SQRT(1+(4/(L$5*((90/$G$35)*(90/$G$35))))*$L$40*(1-(SQRT(2)*Vin_rms_min*(SIN($Q268)/Vout))))))","v":0.39755171750293},null,{"$f":"R583*ABS(1/(Vout/(SQRT(2)*$C$26*SIN($Q268))))","v":0.050420785455229},{"$f":"S583*ABS(1/(Vout/(SQRT(2)*$C$26*SIN($Q268))))","v":0.0487645025185114},{"$f":"T583*ABS(1/(Vout/(SQRT(2)*$C$26*SIN($Q268))))","v":0.0477931078773156},{"$f":"U583*ABS(1/(Vout/(SQRT(2)*$C$26*SIN($Q268))))","v":0.0400492712522806},{"$f":"V583*ABS(1/(Vout/(SQRT(2)*$C$26*SIN($Q268))))","v":0.054626163276192},{"$f":"W583*ABS(1/(Vout/(SQRT(2)*$C$26*SIN($Q268))))","v":0.072834884368256},null,{"$f":"1/(0.0000128*(R583+Y583+$G$40))","v":34650.9102008372},{"$f":"1/(0.0000128*(S583+Z583+$H$40))","v":74091.8948588939},{"$f":"1/(0.0000128*(T583+AA583+$I$40))","v":96419.6314933705},{"$f":"1/(0.0000128*(U583+AB583+$J$40))","v":274654.194062091},{"$f":"1/(0.0000128*(V583+AC583+$K$40))","v":221449.051168325},{"$f":"1/(0.0000128*(W583+AD583+$L$40))","v":166086.788376244}]
[null,null,null,null,null,null,null,null,null,null,null,null,null,null,null,null,null,{"$f":"(G$5*((90/$G$35)*(90/$G$35))/2)*(1+(SQRT(1+(4/(G$5*((90/$G$35)*(90/$G$35))))*$G$40*(1-(SQRT(2)*Vin_rms_min*(SIN($Q269)/Vout))))))","v":0.275615676596956},{"$f":"(H$5*((90/$G$35)*(90/$G$35))/2)*(1+(SQRT(1+(4/(H$5*((90/$G$35)*(90/$G$35))))*$H$40*(1-(SQRT(2)*Vin_rms_min*(SIN($Q269)/Vout))))))","v":0.266520316053438},{"$f":"(I$5*((90/$G$35)*(90/$G$35))/2)*(1+(SQRT(1+(4/(I$5*((90/$G$35)*(90/$G$35))))*$I$40*(1-(SQRT(2)*Vin_rms_min*(SIN($Q269)/Vout))))))","v":0.261186279674461},{"$f":"(J$5*((90/$G$35)*(90/$G$35))/2)*(1+(SQRT(1+(4/(J$5*((90/$G$35)*(90/$G$35))))*$J$40*(1-(SQRT(2)*Vin_rms_min*(SIN($Q269)/Vout))))))","v":0.218657500465268},{"$f":"(K$5*((90/$G$35)*(90/$G$35))/2)*(1+(SQRT(1+(4/(K$5*((90/$G$35)*(90/$G$35))))*$K$40*(1-(SQRT(2)*Vin_rms_min*(SIN($Q269)/Vout))))))","v":0.298163788127197},{"$f":"(L$5*((90/$G$35)*(90/$G$35))/2)*(1+(SQRT(1+(4/(L$5*((90/$G$35)*(90/$G$35))))*$L$40*(1-(SQRT(2)*Vin_rms_min*(SIN($Q269)/Vout))))))","v":0.39755171750293},null,{"$f":"R584*ABS(1/(Vout/(SQRT(2)*$C$26*SIN($Q269))))","v":0.0496139778943664},{"$f":"S584*ABS(1/(Vout/(SQRT(2)*$C$26*SIN($Q269))))","v":0.0479767088445102},{"$f":"T584*ABS(1/(Vout/(SQRT(2)*$C$26*SIN($Q269))))","v":0.0470165212156283},{"$f":"U584*ABS(1/(Vout/(SQRT(2)*$C$26*SIN($Q269))))","v":0.0393608539560155},{"$f":"V584*ABS(1/(Vout/(SQRT(2)*$C$26*SIN($Q269))))","v":0.0536728961708366},{"$f":"W584*ABS(1/(Vout/(SQRT(2)*$C$26*SIN($Q269))))","v":0.0715638615611155},null,{"$f":"1/(0.0000128*(R584+Y584+$G$40))","v":34657.072248315},{"$f":"1/(0.0000128*(S584+Z584+$H$40))","v":74122.6001160338},{"$f":"1/(0.0000128*(T584+AA584+$I$40))","v":96474.1044537379},{"$f":"1/(0.0000128*(U584+AB584+$J$40))","v":275264.08628258},{"$f":"1/(0.0000128*(V584+AC584+$K$40))","v":222049.04572663},{"$f":"1/(0.0000128*(W584+AD584+$L$40))","v":166536.784294972}]
[null,null,null,null,null,null,null,null,null,null,null,null,null,null,null,null,null,{"$f":"(G$5*((90/$G$35)*(90/$G$35))/2)*(1+(SQRT(1+(4/(G$5*((90/$G$35)*(90/$G$35))))*$G$40*(1-(SQRT(2)*Vin_rms_min*(SIN($Q270)/Vout))))))","v":0.276023246344129},{"$f":"(H$5*((90/$G$35)*(90/$G$35))/2)*(1+(SQRT(1+(4/(H$5*((90/$G$35)*(90/$G$35))))*$H$40*(1-(SQRT(2)*Vin_rms_min*(SIN($Q270)/Vout))))))","v":0.266872740144573},{"$f":"(I$5*((90/$G$35)*(90/$G$35))/2)*(1+(SQRT(1+(4/(I$5*((90/$G$35)*(90/$G$35))))*$I$40*(1-(SQRT(2)*Vin_rms_min*(SIN($Q270)/Vout))))))","v":0.261506674260776},{"$f":"(J$5*((90/$G$35)*(90/$G$35))/2)*(1+(SQRT(1+(4/(J$5*((90/$G$35)*(90/$G$35))))*$J$40*(1-(SQRT(2)*Vin_rms_min*(SIN($Q270)/Vout))))))","v":0.218715974716017},{"$f":"(K$5*((90/$G$35)*(90/$G$35))/2)*(1+(SQRT(1+(4/(K$5*((90/$G$35)*(90/$G$35))))*$K$40*(1-(SQRT(2)*Vin_rms_min*(SIN($Q270)/Vout))))))","v":0.298163788127197},{"$f":"(L$5*((90/$G$35)*(90/$G$35))/2)*(1+(SQRT(1+(4/(L$5*((90/$G$35)*(90/$G$35))))*$L$40*(1-(SQRT(2)*Vin_rms_min*(SIN($Q270)/Vout))))))","v":0.39755171750293},null,{"$f":"R585*ABS(1/(Vout/(SQRT(2)*$C$26*SIN($Q270))))","v":0.0487998954123391},{"$f":"S585*ABS(1/(Vout/(SQRT(2)*$C$26*SIN($Q270))))","v":0.0471821195495351},{"$f":"T585*ABS(1/(Vout/(SQRT(2)*$C$26*SIN($Q270))))","v":0.0462334188246021},{"$f":"U585*ABS(1/(Vout/(SQRT(2)*$C$26*SIN($Q270))))","v":0.0386681804250739},{"$f":"V585*ABS(1/(Vout/(SQRT(2)*$C$26*SIN($Q270))))","v":0.0527142618205914},{"$f":"W585*ABS(1/(Vout/(SQRT(2)*$C$26*SIN($Q270))))","v":0.0702856824274553},null,{"$f":"1/(0.0000128*(R585+Y585+$G$40))","v":34663.3232007348},{"$f":"1/(0.0000128*(S585+Z585+$H$40))","v":74153.7085431726},{"$f":"1/(0.0000128*(T585+AA585+$I$40))","v":96529.2596616223},{"$f":"1/(0.0000128*(U585+AB585+$J$40))","v":275880.548334619},{"$f":"1/(0.0000128*(V585+AC585+$K$40))","v":222655.706196569},{"$f":"1/(0.0000128*(W585+AD585+$L$40))","v":166991.779647427}]
[null,null,null,null,null,null,null,null,null,null,null,null,null,null,null,null,null,{"$f":"(G$5*((90/$G$35)*(90/$G$35))/2)*(1+(SQRT(1+(4/(G$5*((90/$G$35)*(90/$G$35))))*$G$40*(1-(SQRT(2)*Vin_rms_min*(SIN($Q271)/Vout))))))","v":0.276432404428845},{"$f":"(H$5*((90/$G$35)*(90/$G$35))/2)*(1+(SQRT(1+(4/(H$5*((90/$G$35)*(90/$G$35))))*$H$40*(1-(SQRT(2)*Vin_rms_min*(SIN($Q271)/Vout))))))","v":0.267226551635295},{"$f":"(I$5*((90/$G$35)*(90/$G$35))/2)*(1+(SQRT(1+(4/(I$5*((90/$G$35)*(90/$G$35))))*$I$40*(1-(SQRT(2)*Vin_rms_min*(SIN($Q271)/Vout))))))","v":0.261828342745238},{"$f":"(J$5*((90/$G$35)*(90/$G$35))/2)*(1+(SQRT(1+(4/(J$5*((90/$G$35)*(90/$G$35))))*$J$40*(1-(SQRT(2)*Vin_rms_min*(SIN($Q271)/Vout))))))","v":0.218774741630983},{"$f":"(K$5*((90/$G$35)*(90/$G$35))/2)*(1+(SQRT(1+(4/(K$5*((90/$G$35)*(90/$G$35))))*$K$40*(1-(SQRT(2)*Vin_rms_min*(SIN($Q271)/Vout))))))","v":0.298163788127197},{"$f":"(L$5*((90/$G$35)*(90/$G$35))/2)*(1+(SQRT(1+(4/(L$5*((90/$G$35)*(90/$G$35))))*$L$40*(1-(SQRT(2)*Vin_rms_min*(SIN($Q271)/Vout))))))","v":0.39755171750293},null,{"$f":"R586*ABS(1/(Vout/(SQRT(2)*$C$26*SIN($Q271))))","v":0.0479785806765294},{"$f":"S586*ABS(1/(Vout/(SQRT(2)*$C$26*SIN($Q271))))","v":0.0463807804770044},{"$f":"T586*ABS(1/(Vout/(SQRT(2)*$C$26*SIN($Q271))))","v":0.0454438483496892},{"$f":"U586*ABS(1/(Vout/(SQRT(2)*$C$26*SIN($Q271))))","v":0.0379713138661023},{"$f":"V586*ABS(1/(Vout/(SQRT(2)*$C$26*SIN($Q271))))","v":0.0517503560880926},{"$f":"W586*ABS(1/(Vout/(SQRT(2)*$C$26*SIN($Q271))))","v":0.0690004747841234},null,{"$f":"1/(0.0000128*(R586+Y586+$G$40))","v":34669.6632422544},{"$f":"1/(0.0000128*(S586+Z586+$H$40))","v":74185.2208390749},{"$f":"1/(0.0000128*(T586+AA586+$I$40))","v":96585.0981899209},{"$f":"1/(0.0000128*(U586+AB586+$J$40))","v":276503.594653105},{"$f":"1/(0.0000128*(V586+AC586+$K$40))","v":223269.054113835},{"$f":"1/(0.0000128*(W586+AD586+$L$40))","v":167451.790585377}]
[null,null,null,null,null,null,null,null,null,null,null,null,null,null,null,null,null,{"$f":"(G$5*((90/$G$35)*(90/$G$35))/2)*(1+(SQRT(1+(4/(G$5*((90/$G$35)*(90/$G$35))))*$G$40*(1-(SQRT(2)*Vin_rms_min*(SIN($Q272)/Vout))))))","v":0.276843102446429},{"$f":"(H$5*((90/$G$35)*(90/$G$35))/2)*(1+(SQRT(1+(4/(H$5*((90/$G$35)*(90/$G$35))))*$H$40*(1-(SQRT(2)*Vin_rms_min*(SIN($Q272)/Vout))))))","v":0.267581708763546},{"$f":"(I$5*((90/$G$35)*(90/$G$35))/2)*(1+(SQRT(1+(4/(I$5*((90/$G$35)*(90/$G$35))))*$I$40*(1-(SQRT(2)*Vin_rms_min*(SIN($Q272)/Vout))))))","v":0.262151247248318},{"$f":"(J$5*((90/$G$35)*(90/$G$35))/2)*(1+(SQRT(1+(4/(J$5*((90/$G$35)*(90/$G$35))))*$J$40*(1-(SQRT(2)*Vin_rms_min*(SIN($Q272)/Vout))))))","v":0.218833794905907},{"$f":"(K$5*((90/$G$35)*(90/$G$35))/2)*(1+(SQRT(1+(4/(K$5*((90/$G$35)*(90/$G$35))))*$K$40*(1-(SQRT(2)*Vin_rms_min*(SIN($Q272)/Vout))))))","v":0.298163788127197},{"$f":"(L$5*((90/$G$35)*(90/$G$35))/2)*(1+(SQRT(1+(4/(L$5*((90/$G$35)*(90/$G$35))))*$L$40*(1-(SQRT(2)*Vin_rms_min*(SIN($Q272)/Vout))))))","v":0.39755171750293},null,{"$f":"R587*ABS(1/(Vout/(SQRT(2)*$C$26*SIN($Q272))))","v":0.0471500778347786},{"$f":"S587*ABS(1/(Vout/(SQRT(2)*$C$26*SIN($Q272))))","v":0.0455727387963572},{"$f":"T587*ABS(1/(Vout/(SQRT(2)*$C$26*SIN($Q272))))","v":0.0446478586716254},{"$f":"U587*ABS(1/(Vout/(SQRT(2)*$C$26*SIN($Q272))))","v":0.0372703179942513},{"$f":"V587*ABS(1/(Vout/(SQRT(2)*$C$26*SIN($Q272))))","v":0.0507812753631101},{"$f":"W587*ABS(1/(Vout/(SQRT(2)*$C$26*SIN($Q272))))","v":0.0677083671508134},null,{"$f":"1/(0.0000128*(R587+Y587+$G$40))","v":34676.0925349312},{"$f":"1/(0.0000128*(S587+Z587+$H$40))","v":74217.1376191845},{"$f":"1/(0.0000128*(T587+AA587+$I$40))","v":96641.6209863261},{"$f":"1/(0.0000128*(U587+AB587+$J$40))","v":277133.239370897},{"$f":"1/(0.0000128*(V587+AC587+$K$40))","v":223889.110849021},{"$f":"1/(0.0000128*(W587+AD587+$L$40))","v":167916.833136766}]
[null,null,null,null,null,null,null,null,null,null,null,null,null,null,null,null,null,{"$f":"(G$5*((90/$G$35)*(90/$G$35))/2)*(1+(SQRT(1+(4/(G$5*((90/$G$35)*(90/$G$35))))*$G$40*(1-(SQRT(2)*Vin_rms_min*(SIN($Q273)/Vout))))))","v":0.277255292054145},{"$f":"(H$5*((90/$G$35)*(90/$G$35))/2)*(1+(SQRT(1+(4/(H$5*((90/$G$35)*(90/$G$35))))*$H$40*(1-(SQRT(2)*Vin_rms_min*(SIN($Q273)/Vout))))))","v":0.267938169813749},{"$f":"(I$5*((90/$G$35)*(90/$G$35))/2)*(1+(SQRT(1+(4/(I$5*((90/$G$35)*(90/$G$35))))*$I$40*(1-(SQRT(2)*Vin_rms_min*(SIN($Q273)/Vout))))))","v":0.262475349926395},{"$f":"(J$5*((90/$G$35)*(90/$G$35))/2)*(1+(SQRT(1+(4/(J$5*((90/$G$35)*(90/$G$35))))*$J$40*(1-(SQRT(2)*Vin_rms_min*(SIN($Q273)/Vout))))))","v":0.218893128215388},{"$f":"(K$5*((90/$G$35)*(90/$G$35))/2)*(1+(SQRT(1+(4/(K$5*((90/$G$35)*(90/$G$35))))*$K$40*(1-(SQRT(2)*Vin_rms_min*(SIN($Q273)/Vout))))))","v":0.298163788127197},{"$f":"(L$5*((90/$G$35)*(90/$G$35))/2)*(1+(SQRT(1+(4/(L$5*((90/$G$35)*(90/$G$35))))*$L$40*(1-(SQRT(2)*Vin_rms_min*(SIN($Q273)/Vout))))))","v":0.39755171750293},null,{"$f":"R588*ABS(1/(Vout/(SQRT(2)*$C$26*SIN($Q273))))","v":0.0463144325237795},{"$f":"S588*ABS(1/(Vout/(SQRT(2)*$C$26*SIN($Q273))))","v":0.0447580430095467},{"$f":"T588*ABS(1/(Vout/(SQRT(2)*$C$26*SIN($Q273))))","v":0.0438454999118553},{"$f":"U588*ABS(1/(Vout/(SQRT(2)*$C$26*SIN($Q273))))","v":0.0365652570291455},{"$f":"V588*ABS(1/(Vout/(SQRT(2)*$C$26*SIN($Q273))))","v":0.0498071165529088},{"$f":"W588*ABS(1/(Vout/(SQRT(2)*$C$26*SIN($Q273))))","v":0.0664094887372118},null,{"$f":"1/(0.0000128*(R588+Y588+$G$40))","v":34682.6112184557},{"$f":"1/(0.0000128*(S588+Z588+$H$40))","v":74249.4594143918},{"$f":"1/(0.0000128*(T588+AA588+$I$40))","v":96698.8288712205},{"$f":"1/(0.0000128*(U588+AB588+$J$40))","v":277769.496301687},{"$f":"1/(0.0000128*(V588+AC588+$K$40))","v":224515.897591557},{"$f":"1/(0.0000128*(W588+AD588+$L$40))","v":168386.923193667}]
[null,null,null,null,null,null,null,null,null,null,null,null,null,null,null,null,null,{"$f":"(G$5*((90/$G$35)*(90/$G$35))/2)*(1+(SQRT(1+(4/(G$5*((90/$G$35)*(90/$G$35))))*$G$40*(1-(SQRT(2)*Vin_rms_min*(SIN($Q274)/Vout))))))","v":0.277668924977638},{"$f":"(H$5*((90/$G$35)*(90/$G$35))/2)*(1+(SQRT(1+(4/(H$5*((90/$G$35)*(90/$G$35))))*$H$40*(1-(SQRT(2)*Vin_rms_min*(SIN($Q274)/Vout))))))","v":0.268295893122408},{"$f":"(I$5*((90/$G$35)*(90/$G$35))/2)*(1+(SQRT(1+(4/(I$5*((90/$G$35)*(90/$G$35))))*$I$40*(1-(SQRT(2)*Vin_rms_min*(SIN($Q274)/Vout))))))","v":0.262800612976863},{"$f":"(J$5*((90/$G$35)*(90/$G$35))/2)*(1+(SQRT(1+(4/(J$5*((90/$G$35)*(90/$G$35))))*$J$40*(1-(SQRT(2)*Vin_rms_min*(SIN($Q274)/Vout))))))","v":0.218952735213679},{"$f":"(K$5*((90/$G$35)*(90/$G$35))/2)*(1+(SQRT(1+(4/(K$5*((90/$G$35)*(90/$G$35))))*$K$40*(1-(SQRT(2)*Vin_rms_min*(SIN($Q274)/Vout))))))","v":0.298163788127197},{"$f":"(L$5*((90/$G$35)*(90/$G$35))/2)*(1+(SQRT(1+(4/(L$5*((90/$G$35)*(90/$G$35))))*$L$40*(1-(SQRT(2)*Vin_rms_min*(SIN($Q274)/Vout))))))","v":0.39755171750293},null,{"$f":"R589*ABS(1/(Vout/(SQRT(2)*$C$26*SIN($Q274))))","v":0.0454716918769025},{"$f":"S589*ABS(1/(Vout/(SQRT(2)*$C$26*SIN($Q274))))","v":0.0439367429570415},{"$f":"T589*ABS(1/(Vout/(SQRT(2)*$C$26*SIN($Q274))))","v":0.0430368234375071},{"$f":"U589*ABS(1/(Vout/(SQRT(2)*$C$26*SIN($Q274))))","v":0.035856195690761},{"$f":"V589*ABS(1/(Vout/(SQRT(2)*$C$26*SIN($Q274))))","v":0.0488279770725581},{"$f":"W589*ABS(1/(Vout/(SQRT(2)*$C$26*SIN($Q274))))","v":0.0651039694300774},null,{"$f":"1/(0.0000128*(R589+Y589+$G$40))","v":34689.2194098935},{"$f":"1/(0.0000128*(S589+Z589+$H$40))","v":74282.1866698242},{"$f":"1/(0.0000128*(T589+AA589+$I$40))","v":96756.7225355983},{"$f":"1/(0.0000128*(U589+AB589+$J$40))","v":278412.378922484},{"$f":"1/(0.0000128*(V589+AC589+$K$40))","v":225149.435333214},{"$f":"1/(0.0000128*(W589+AD589+$L$40))","v":168862.07649991}]
[null,null,null,null,null,null,null,null,null,null,null,null,null,null,null,null,null,{"$f":"(G$5*((90/$G$35)*(90/$G$35))/2)*(1+(SQRT(1+(4/(G$5*((90/$G$35)*(90/$G$35))))*$G$40*(1-(SQRT(2)*Vin_rms_min*(SIN($Q275)/Vout))))))","v":0.278083953017234},{"$f":"(H$5*((90/$G$35)*(90/$G$35))/2)*(1+(SQRT(1+(4/(H$5*((90/$G$35)*(90/$G$35))))*$H$40*(1-(SQRT(2)*Vin_rms_min*(SIN($Q275)/Vout))))))","v":0.268654837083588},{"$f":"(I$5*((90/$G$35)*(90/$G$35))/2)*(1+(SQRT(1+(4/(I$5*((90/$G$35)*(90/$G$35))))*$I$40*(1-(SQRT(2)*Vin_rms_min*(SIN($Q275)/Vout))))))","v":0.263126998643138},{"$f":"(J$5*((90/$G$35)*(90/$G$35))/2)*(1+(SQRT(1+(4/(J$5*((90/$G$35)*(90/$G$35))))*$J$40*(1-(SQRT(2)*Vin_rms_min*(SIN($Q275)/Vout))))))","v":0.219012609535474},{"$f":"(K$5*((90/$G$35)*(90/$G$35))/2)*(1+(SQRT(1+(4/(K$5*((90/$G$35)*(90/$G$35))))*$K$40*(1-(SQRT(2)*Vin_rms_min*(SIN($Q275)/Vout))))))","v":0.298163788127197},{"$f":"(L$5*((90/$G$35)*(90/$G$35))/2)*(1+(SQRT(1+(4/(L$5*((90/$G$35)*(90/$G$35))))*$L$40*(1-(SQRT(2)*Vin_rms_min*(SIN($Q275)/Vout))))))","v":0.39755171750293},null,{"$f":"R590*ABS(1/(Vout/(SQRT(2)*$C$26*SIN($Q275))))","v":0.0446219045314511},{"$f":"S590*ABS(1/(Vout/(SQRT(2)*$C$26*SIN($Q275))))","v":0.0431088898233315},{"$f":"T590*ABS(1/(Vout/(SQRT(2)*$C$26*SIN($Q275))))","v":0.0422218818659189},{"$f":"U590*ABS(1/(Vout/(SQRT(2)*$C$26*SIN($Q275))))","v":0.0351431991952094},{"$f":"V590*ABS(1/(Vout/(SQRT(2)*$C$26*SIN($Q275))))","v":0.0478439548351899},{"$f":"W590*ABS(1/(Vout/(SQRT(2)*$C$26*SIN($Q275))))","v":0.0637919397802532},null,{"$f":"1/(0.0000128*(R590+Y590+$G$40))","v":34695.9172034355},{"$f":"1/(0.0000128*(S590+Z590+$H$40))","v":74315.3197436606},{"$f":"1/(0.0000128*(T590+AA590+$I$40))","v":96815.3025390102},{"$f":"1/(0.0000128*(U590+AB590+$J$40))","v":279061.900355695},{"$f":"1/(0.0000128*(V590+AC590+$K$40))","v":225789.744851151},{"$f":"1/(0.0000128*(W590+AD590+$L$40))","v":169342.308638363}]
[null,null,null,null,null,null,null,null,null,null,null,null,null,null,null,null,null,{"$f":"(G$5*((90/$G$35)*(90/$G$35))/2)*(1+(SQRT(1+(4/(G$5*((90/$G$35)*(90/$G$35))))*$G$40*(1-(SQRT(2)*Vin_rms_min*(SIN($Q276)/Vout))))))","v":0.278500328054108},{"$f":"(H$5*((90/$G$35)*(90/$G$35))/2)*(1+(SQRT(1+(4/(H$5*((90/$G$35)*(90/$G$35))))*$H$40*(1-(SQRT(2)*Vin_rms_min*(SIN($Q276)/Vout))))))","v":0.269014960154279},{"$f":"(I$5*((90/$G$35)*(90/$G$35))/2)*(1+(SQRT(1+(4/(I$5*((90/$G$35)*(90/$G$35))))*$I$40*(1-(SQRT(2)*Vin_rms_min*(SIN($Q276)/Vout))))))","v":0.263454469219563},{"$f":"(J$5*((90/$G$35)*(90/$G$35))/2)*(1+(SQRT(1+(4/(J$5*((90/$G$35)*(90/$G$35))))*$J$40*(1-(SQRT(2)*Vin_rms_min*(SIN($Q276)/Vout))))))","v":0.219072744796698},{"$f":"(K$5*((90/$G$35)*(90/$G$35))/2)*(1+(SQRT(1+(4/(K$5*((90/$G$35)*(90/$G$35))))*$K$40*(1-(SQRT(2)*Vin_rms_min*(SIN($Q276)/Vout))))))","v":0.298163788127197},{"$f":"(L$5*((90/$G$35)*(90/$G$35))/2)*(1+(SQRT(1+(4/(L$5*((90/$G$35)*(90/$G$35))))*$L$40*(1-(SQRT(2)*Vin_rms_min*(SIN($Q276)/Vout))))))","v":0.39755171750293},null,{"$f":"R591*ABS(1/(Vout/(SQRT(2)*$C$26*SIN($Q276))))","v":0.0437651206353469},{"$f":"S591*ABS(1/(Vout/(SQRT(2)*$C$26*SIN($Q276))))","v":0.0422745361419383},{"$f":"T591*ABS(1/(Vout/(SQRT(2)*$C$26*SIN($Q276))))","v":0.0414007290687118},{"$f":"U591*ABS(1/(Vout/(SQRT(2)*$C$26*SIN($Q276))))","v":0.0344263332504274},{"$f":"V591*ABS(1/(Vout/(SQRT(2)*$C$26*SIN($Q276))))","v":0.0468551482422081},{"$f":"W591*ABS(1/(Vout/(SQRT(2)*$C$26*SIN($Q276))))","v":0.0624735309896108},null,{"$f":"1/(0.0000128*(R591+Y591+$G$40))","v":34702.7046701576},{"$f":"1/(0.0000128*(S591+Z591+$H$40))","v":74348.8589059674},{"$f":"1/(0.0000128*(T591+AA591+$I$40))","v":96874.5693075358},{"$f":"1/(0.0000128*(U591+AB591+$J$40))","v":279718.073350812},{"$f":"1/(0.0000128*(V591+AC591+$K$40))","v":226436.846690505},{"$f":"1/(0.0000128*(W591+AD591+$L$40))","v":169827.635017878}]
[null,null,null,null,null,null,null,null,null,null,null,null,null,null,null,null,null,{"$f":"(G$5*((90/$G$35)*(90/$G$35))/2)*(1+(SQRT(1+(4/(G$5*((90/$G$35)*(90/$G$35))))*$G$40*(1-(SQRT(2)*Vin_rms_min*(SIN($Q277)/Vout))))))","v":0.278918002056318},{"$f":"(H$5*((90/$G$35)*(90/$G$35))/2)*(1+(SQRT(1+(4/(H$5*((90/$G$35)*(90/$G$35))))*$H$40*(1-(SQRT(2)*Vin_rms_min*(SIN($Q277)/Vout))))))","v":0.269376220859653},{"$f":"(I$5*((90/$G$35)*(90/$G$35))/2)*(1+(SQRT(1+(4/(I$5*((90/$G$35)*(90/$G$35))))*$I$40*(1-(SQRT(2)*Vin_rms_min*(SIN($Q277)/Vout))))))","v":0.263782987056214},{"$f":"(J$5*((90/$G$35)*(90/$G$35))/2)*(1+(SQRT(1+(4/(J$5*((90/$G$35)*(90/$G$35))))*$J$40*(1-(SQRT(2)*Vin_rms_min*(SIN($Q277)/Vout))))))","v":0.219133134595292},{"$f":"(K$5*((90/$G$35)*(90/$G$35))/2)*(1+(SQRT(1+(4/(K$5*((90/$G$35)*(90/$G$35))))*$K$40*(1-(SQRT(2)*Vin_rms_min*(SIN($Q277)/Vout))))))","v":0.298163788127197},{"$f":"(L$5*((90/$G$35)*(90/$G$35))/2)*(1+(SQRT(1+(4/(L$5*((90/$G$35)*(90/$G$35))))*$L$40*(1-(SQRT(2)*Vin_rms_min*(SIN($Q277)/Vout))))))","v":0.39755171750293},null,{"$f":"R592*ABS(1/(Vout/(SQRT(2)*$C$26*SIN($Q277))))","v":0.0429013918532419},{"$f":"S592*ABS(1/(Vout/(SQRT(2)*$C$26*SIN($Q277))))","v":0.0414337357999285},{"$f":"T592*ABS(1/(Vout/(SQRT(2)*$C$26*SIN($Q277))))","v":0.0405734201754115},{"$f":"U592*ABS(1/(Vout/(SQRT(2)*$C$26*SIN($Q277))))","v":0.0337056640517724},{"$f":"V592*ABS(1/(Vout/(SQRT(2)*$C$26*SIN($Q277))))","v":0.0458616561734479},{"$f":"W592*ABS(1/(Vout/(SQRT(2)*$C$26*SIN($Q277))))","v":0.0611488748979305},null,{"$f":"1/(0.0000128*(R592+Y592+$G$40))","v":34709.5818577877},{"$f":"1/(0.0000128*(S592+Z592+$H$40))","v":74382.8043375593},{"$f":"1/(0.0000128*(T592+AA592+$I$40))","v":96934.5231317796},{"$f":"1/(0.0000128*(U592+AB592+$J$40))","v":280380.910265682},{"$f":"1/(0.0000128*(V592+AC592+$K$40))","v":227090.761146511},{"$f":"1/(0.0000128*(W592+AD592+$L$40))","v":170318.070859883}]
[null,null,null,null,null,null,null,null,null,null,null,null,null,null,null,null,null,{"$f":"(G$5*((90/$G$35)*(90/$G$35))/2)*(1+(SQRT(1+(4/(G$5*((90/$G$35)*(90/$G$35))))*$G$40*(1-(SQRT(2)*Vin_rms_min*(SIN($Q278)/Vout))))))","v":0.279336927084703},{"$f":"(H$5*((90/$G$35)*(90/$G$35))/2)*(1+(SQRT(1+(4/(H$5*((90/$G$35)*(90/$G$35))))*$H$40*(1-(SQRT(2)*Vin_rms_min*(SIN($Q278)/Vout))))))","v":0.269738577798206},{"$f":"(I$5*((90/$G$35)*(90/$G$35))/2)*(1+(SQRT(1+(4/(I$5*((90/$G$35)*(90/$G$35))))*$I$40*(1-(SQRT(2)*Vin_rms_min*(SIN($Q278)/Vout))))))","v":0.264112514563613},{"$f":"(J$5*((90/$G$35)*(90/$G$35))/2)*(1+(SQRT(1+(4/(J$5*((90/$G$35)*(90/$G$35))))*$J$40*(1-(SQRT(2)*Vin_rms_min*(SIN($Q278)/Vout))))))","v":0.219193772511995},{"$f":"(K$5*((90/$G$35)*(90/$G$35))/2)*(1+(SQRT(1+(4/(K$5*((90/$G$35)*(90/$G$35))))*$K$40*(1-(SQRT(2)*Vin_rms_min*(SIN($Q278)/Vout))))))","v":0.298163788127197},{"$f":"(L$5*((90/$G$35)*(90/$G$35))/2)*(1+(SQRT(1+(4/(L$5*((90/$G$35)*(90/$G$35))))*$L$40*(1-(SQRT(2)*Vin_rms_min*(SIN($Q278)/Vout))))))","v":0.39755171750293},null,{"$f":"R593*ABS(1/(Vout/(SQRT(2)*$C$26*SIN($Q278))))","v":0.0420307713720569},{"$f":"S593*ABS(1/(Vout/(SQRT(2)*$C$26*SIN($Q278))))","v":0.0405865440419281},{"$f":"T593*ABS(1/(Vout/(SQRT(2)*$C$26*SIN($Q278))))","v":0.0397400115766153},{"$f":"U593*ABS(1/(Vout/(SQRT(2)*$C$26*SIN($Q278))))","v":0.0329812582775235},{"$f":"V593*ABS(1/(Vout/(SQRT(2)*$C$26*SIN($Q278))))","v":0.0448635779772882},{"$f":"W593*ABS(1/(Vout/(SQRT(2)*$C$26*SIN($Q278))))","v":0.0598181039697176},null,{"$f":"1/(0.0000128*(R593+Y593+$G$40))","v":34716.5487904825},{"$f":"1/(0.0000128*(S593+Z593+$H$40))","v":74417.1561288822},{"$f":"1/(0.0000128*(T593+AA593+$I$40))","v":96995.164164894},{"$f":"1/(0.0000128*(U593+AB593+$J$40))","v":281050.42304737},{"$f":"1/(0.0000128*(V593+AC593+$K$40))","v":227751.508246148},{"$f":"1/(0.0000128*(W593+AD593+$L$40))","v":170813.631184611}]
[null,null,null,null,null,null,null,null,null,null,null,null,null,null,null,null,null,{"$f":"(G$5*((90/$G$35)*(90/$G$35))/2)*(1+(SQRT(1+(4/(G$5*((90/$G$35)*(90/$G$35))))*$G$40*(1-(SQRT(2)*Vin_rms_min*(SIN($Q279)/Vout))))))","v":0.279757055298651},{"$f":"(H$5*((90/$G$35)*(90/$G$35))/2)*(1+(SQRT(1+(4/(H$5*((90/$G$35)*(90/$G$35))))*$H$40*(1-(SQRT(2)*Vin_rms_min*(SIN($Q279)/Vout))))))","v":0.270101989646788},{"$f":"(I$5*((90/$G$35)*(90/$G$35))/2)*(1+(SQRT(1+(4/(I$5*((90/$G$35)*(90/$G$35))))*$I$40*(1-(SQRT(2)*Vin_rms_min*(SIN($Q279)/Vout))))))","v":0.264443014217331},{"$f":"(J$5*((90/$G$35)*(90/$G$35))/2)*(1+(SQRT(1+(4/(J$5*((90/$G$35)*(90/$G$35))))*$J$40*(1-(SQRT(2)*Vin_rms_min*(SIN($Q279)/Vout))))))","v":0.219254652111129},{"$f":"(K$5*((90/$G$35)*(90/$G$35))/2)*(1+(SQRT(1+(4/(K$5*((90/$G$35)*(90/$G$35))))*$K$40*(1-(SQRT(2)*Vin_rms_min*(SIN($Q279)/Vout))))))","v":0.298163788127197},{"$f":"(L$5*((90/$G$35)*(90/$G$35))/2)*(1+(SQRT(1+(4/(L$5*((90/$G$35)*(90/$G$35))))*$L$40*(1-(SQRT(2)*Vin_rms_min*(SIN($Q279)/Vout))))))","v":0.39755171750293},null,{"$f":"R594*ABS(1/(Vout/(SQRT(2)*$C$26*SIN($Q279))))","v":0.0411533139059465},{"$f":"S594*ABS(1/(Vout/(SQRT(2)*$C$26*SIN($Q279))))","v":0.0397330174736387},{"$f":"T594*ABS(1/(Vout/(SQRT(2)*$C$26*SIN($Q279))))","v":0.0389005609267041},{"$f":"U594*ABS(1/(Vout/(SQRT(2)*$C$26*SIN($Q279))))","v":0.0322531830842869},{"$f":"V594*ABS(1/(Vout/(SQRT(2)*$C$26*SIN($Q279))))","v":0.043861013460717},{"$f":"W594*ABS(1/(Vout/(SQRT(2)*$C$26*SIN($Q279))))","v":0.058481351280956},null,{"$f":"1/(0.0000128*(R594+Y594+$G$40))","v":34723.6054686122},{"$f":"1/(0.0000128*(S594+Z594+$H$40))","v":74451.91427892},{"$f":"1/(0.0000128*(T594+AA594+$I$40))","v":97056.4924206277},{"$f":"1/(0.0000128*(U594+AB594+$J$40))","v":281726.623212598},{"$f":"1/(0.0000128*(V594+AC594+$K$40))","v":228419.107729293},{"$f":"1/(0.0000128*(W594+AD594+$L$40))","v":171314.33079697}]
[null,null,null,null,null,null,null,null,null,null,null,null,null,null,null,null,null,{"$f":"(G$5*((90/$G$35)*(90/$G$35))/2)*(1+(SQRT(1+(4/(G$5*((90/$G$35)*(90/$G$35))))*$G$40*(1-(SQRT(2)*Vin_rms_min*(SIN($Q280)/Vout))))))","v":0.280178338961729},{"$f":"(H$5*((90/$G$35)*(90/$G$35))/2)*(1+(SQRT(1+(4/(H$5*((90/$G$35)*(90/$G$35))))*$H$40*(1-(SQRT(2)*Vin_rms_min*(SIN($Q280)/Vout))))))","v":0.270466415165526},{"$f":"(I$5*((90/$G$35)*(90/$G$35))/2)*(1+(SQRT(1+(4/(I$5*((90/$G$35)*(90/$G$35))))*$I$40*(1-(SQRT(2)*Vin_rms_min*(SIN($Q280)/Vout))))))","v":0.26477444856251},{"$f":"(J$5*((90/$G$35)*(90/$G$35))/2)*(1+(SQRT(1+(4/(J$5*((90/$G$35)*(90/$G$35))))*$J$40*(1-(SQRT(2)*Vin_rms_min*(SIN($Q280)/Vout))))))","v":0.219315766941371},{"$f":"(K$5*((90/$G$35)*(90/$G$35))/2)*(1+(SQRT(1+(4/(K$5*((90/$G$35)*(90/$G$35))))*$K$40*(1-(SQRT(2)*Vin_rms_min*(SIN($Q280)/Vout))))))","v":0.298163788127197},{"$f":"(L$5*((90/$G$35)*(90/$G$35))/2)*(1+(SQRT(1+(4/(L$5*((90/$G$35)*(90/$G$35))))*$L$40*(1-(SQRT(2)*Vin_rms_min*(SIN($Q280)/Vout))))))","v":0.39755171750293},null,{"$f":"R595*ABS(1/(Vout/(SQRT(2)*$C$26*SIN($Q280))))","v":0.0402690757006877},{"$f":"S595*ABS(1/(Vout/(SQRT(2)*$C$26*SIN($Q280))))","v":0.0388732140648527},{"$f":"T595*ABS(1/(Vout/(SQRT(2)*$C$26*SIN($Q280))))","v":0.0380551271460994},{"$f":"U595*ABS(1/(Vout/(SQRT(2)*$C$26*SIN($Q280))))","v":0.0315215061023071},{"$f":"V595*ABS(1/(Vout/(SQRT(2)*$C$26*SIN($Q280))))","v":0.0428540628793505},{"$f":"W595*ABS(1/(Vout/(SQRT(2)*$C$26*SIN($Q280))))","v":0.0571387505058006},null,{"$f":"1/(0.0000128*(R595+Y595+$G$40))","v":34730.7518685537},{"$f":"1/(0.0000128*(S595+Z595+$H$40))","v":74487.0786941249},{"$f":"1/(0.0000128*(T595+AA595+$I$40))","v":97118.5077713993},{"$f":"1/(0.0000128*(U595+AB595+$J$40))","v":282409.521827758},{"$f":"1/(0.0000128*(V595+AC595+$K$40))","v":229093.579029386},{"$f":"1/(0.0000128*(W595+AD595+$L$40))","v":171820.18427204}]
[null,null,null,null,null,null,null,null,null,null,null,null,null,null,null,null,null,{"$f":"(G$5*((90/$G$35)*(90/$G$35))/2)*(1+(SQRT(1+(4/(G$5*((90/$G$35)*(90/$G$35))))*$G$40*(1-(SQRT(2)*Vin_rms_min*(SIN($Q281)/Vout))))))","v":0.280600730447195},{"$f":"(H$5*((90/$G$35)*(90/$G$35))/2)*(1+(SQRT(1+(4/(H$5*((90/$G$35)*(90/$G$35))))*$H$40*(1-(SQRT(2)*Vin_rms_min*(SIN($Q281)/Vout))))))","v":0.270831813202629},{"$f":"(I$5*((90/$G$35)*(90/$G$35))/2)*(1+(SQRT(1+(4/(I$5*((90/$G$35)*(90/$G$35))))*$I$40*(1-(SQRT(2)*Vin_rms_min*(SIN($Q281)/Vout))))))","v":0.265106780218272},{"$f":"(J$5*((90/$G$35)*(90/$G$35))/2)*(1+(SQRT(1+(4/(J$5*((90/$G$35)*(90/$G$35))))*$J$40*(1-(SQRT(2)*Vin_rms_min*(SIN($Q281)/Vout))))))","v":0.219377110536535},{"$f":"(K$5*((90/$G$35)*(90/$G$35))/2)*(1+(SQRT(1+(4/(K$5*((90/$G$35)*(90/$G$35))))*$K$40*(1-(SQRT(2)*Vin_rms_min*(SIN($Q281)/Vout))))))","v":0.298163788127197},{"$f":"(L$5*((90/$G$35)*(90/$G$35))/2)*(1+(SQRT(1+(4/(L$5*((90/$G$35)*(90/$G$35))))*$L$40*(1-(SQRT(2)*Vin_rms_min*(SIN($Q281)/Vout))))))","v":0.39755171750293},null,{"$f":"R596*ABS(1/(Vout/(SQRT(2)*$C$26*SIN($Q281))))","v":0.0393781145374949},{"$f":"S596*ABS(1/(Vout/(SQRT(2)*$C$26*SIN($Q281))))","v":0.0380071931519705},{"$f":"T596*ABS(1/(Vout/(SQRT(2)*$C$26*SIN($Q281))))","v":0.0372037704230642},{"$f":"U596*ABS(1/(Vout/(SQRT(2)*$C$26*SIN($Q281))))","v":0.0307862954306814},{"$f":"V596*ABS(1/(Vout/(SQRT(2)*$C$26*SIN($Q281))))","v":0.0418428269274076},{"$f":"W596*ABS(1/(Vout/(SQRT(2)*$C$26*SIN($Q281))))","v":0.0557904359032101},null,{"$f":"1/(0.0000128*(R596+Y596+$G$40))","v":34737.987942493},{"$f":"1/(0.0000128*(S596+Z596+$H$40))","v":74522.6491873701},{"$f":"1/(0.0000128*(T596+AA596+$I$40))","v":97181.2099463979},{"$f":"1/(0.0000128*(U596+AB596+$J$40))","v":283099.129488498},{"$f":"1/(0.0000128*(V596+AC596+$K$40))","v":229774.941253579},{"$f":"1/(0.0000128*(W596+AD596+$L$40))","v":172331.205940184}]
[null,null,null,null,null,null,null,null,null,null,null,null,null,null,null,null,null,{"$f":"(G$5*((90/$G$35)*(90/$G$35))/2)*(1+(SQRT(1+(4/(G$5*((90/$G$35)*(90/$G$35))))*$G$40*(1-(SQRT(2)*Vin_rms_min*(SIN($Q282)/Vout))))))","v":0.281024182243365},{"$f":"(H$5*((90/$G$35)*(90/$G$35))/2)*(1+(SQRT(1+(4/(H$5*((90/$G$35)*(90/$G$35))))*$H$40*(1-(SQRT(2)*Vin_rms_min*(SIN($Q282)/Vout))))))","v":0.271198142699098},{"$f":"(I$5*((90/$G$35)*(90/$G$35))/2)*(1+(SQRT(1+(4/(I$5*((90/$G$35)*(90/$G$35))))*$I$40*(1-(SQRT(2)*Vin_rms_min*(SIN($Q282)/Vout))))))","v":0.265439971882043},{"$f":"(J$5*((90/$G$35)*(90/$G$35))/2)*(1+(SQRT(1+(4/(J$5*((90/$G$35)*(90/$G$35))))*$J$40*(1-(SQRT(2)*Vin_rms_min*(SIN($Q282)/Vout))))))","v":0.219438676416344},{"$f":"(K$5*((90/$G$35)*(90/$G$35))/2)*(1+(SQRT(1+(4/(K$5*((90/$G$35)*(90/$G$35))))*$K$40*(1-(SQRT(2)*Vin_rms_min*(SIN($Q282)/Vout))))))","v":0.298163788127197},{"$f":"(L$5*((90/$G$35)*(90/$G$35))/2)*(1+(SQRT(1+(4/(L$5*((90/$G$35)*(90/$G$35))))*$L$40*(1-(SQRT(2)*Vin_rms_min*(SIN($Q282)/Vout))))))","v":0.39755171750293},null,{"$f":"R597*ABS(1/(Vout/(SQRT(2)*$C$26*SIN($Q282))))","v":0.0384804897362583},{"$f":"S597*ABS(1/(Vout/(SQRT(2)*$C$26*SIN($Q282))))","v":0.0371350154400151},{"$f":"T597*ABS(1/(Vout/(SQRT(2)*$C$26*SIN($Q282))))","v":0.0363465522150481},{"$f":"U597*ABS(1/(Vout/(SQRT(2)*$C$26*SIN($Q282))))","v":0.0300476196324795},{"$f":"V597*ABS(1/(Vout/(SQRT(2)*$C$26*SIN($Q282))))","v":0.0408274067276409},{"$f":"W597*ABS(1/(Vout/(SQRT(2)*$C$26*SIN($Q282))))","v":0.0544365423035212},null,{"$f":"1/(0.0000128*(R597+Y597+$G$40))","v":34745.3136182356},{"$f":"1/(0.0000128*(S597+Z597+$H$40))","v":74558.6254769272},{"$f":"1/(0.0000128*(T597+AA597+$I$40))","v":97244.598529709},{"$f":"1/(0.0000128*(U597+AB597+$J$40))","v":283795.456298864},{"$f":"1/(0.0000128*(V597+AC597+$K$40))","v":230463.213162379},{"$f":"1/(0.0000128*(W597+AD597+$L$40))","v":172847.409871784}]
[null,null,null,null,null,null,null,null,null,null,null,null,null,null,null,null,null,{"$f":"(G$5*((90/$G$35)*(90/$G$35))/2)*(1+(SQRT(1+(4/(G$5*((90/$G$35)*(90/$G$35))))*$G$40*(1-(SQRT(2)*Vin_rms_min*(SIN($Q283)/Vout))))))","v":0.281448646958863},{"$f":"(H$5*((90/$G$35)*(90/$G$35))/2)*(1+(SQRT(1+(4/(H$5*((90/$G$35)*(90/$G$35))))*$H$40*(1-(SQRT(2)*Vin_rms_min*(SIN($Q283)/Vout))))))","v":0.271565362693315},{"$f":"(I$5*((90/$G$35)*(90/$G$35))/2)*(1+(SQRT(1+(4/(I$5*((90/$G$35)*(90/$G$35))))*$I$40*(1-(SQRT(2)*Vin_rms_min*(SIN($Q283)/Vout))))))","v":0.265773986333777},{"$f":"(J$5*((90/$G$35)*(90/$G$35))/2)*(1+(SQRT(1+(4/(J$5*((90/$G$35)*(90/$G$35))))*$J$40*(1-(SQRT(2)*Vin_rms_min*(SIN($Q283)/Vout))))))","v":0.219500458087196},{"$f":"(K$5*((90/$G$35)*(90/$G$35))/2)*(1+(SQRT(1+(4/(K$5*((90/$G$35)*(90/$G$35))))*$K$40*(1-(SQRT(2)*Vin_rms_min*(SIN($Q283)/Vout))))))","v":0.298163788127197},{"$f":"(L$5*((90/$G$35)*(90/$G$35))/2)*(1+(SQRT(1+(4/(L$5*((90/$G$35)*(90/$G$35))))*$L$40*(1-(SQRT(2)*Vin_rms_min*(SIN($Q283)/Vout))))))","v":0.39755171750293},null,{"$f":"R598*ABS(1/(Vout/(SQRT(2)*$C$26*SIN($Q283))))","v":0.0375762621582085},{"$f":"S598*ABS(1/(Vout/(SQRT(2)*$C$26*SIN($Q283))))","v":0.036256743004149},{"$f":"T598*ABS(1/(Vout/(SQRT(2)*$C$26*SIN($Q283))))","v":0.0354835352495754},{"$f":"U598*ABS(1/(Vout/(SQRT(2)*$C$26*SIN($Q283))))","v":0.0293055477297671},{"$f":"V598*ABS(1/(Vout/(SQRT(2)*$C$26*SIN($Q283))))","v":0.0398079038212241},{"$f":"W598*ABS(1/(Vout/(SQRT(2)*$C$26*SIN($Q283))))","v":0.0530772050949655},null,{"$f":"1/(0.0000128*(R598+Y598+$G$40))","v":34752.7287990257},{"$f":"1/(0.0000128*(S598+Z598+$H$40))","v":74595.0071854663},{"$f":"1/(0.0000128*(T598+AA598+$I$40))","v":97308.6729584672},{"$f":"1/(0.0000128*(U598+AB598+$J$40))","v":284498.511850005},{"$f":"1/(0.0000128*(V598+AC598+$K$40))","v":231158.413148764},{"$f":"1/(0.0000128*(W598+AD598+$L$40))","v":173368.809861573}]
[null,null,null,null,null,null,null,null,null,null,null,null,null,null,null,null,null,{"$f":"(G$5*((90/$G$35)*(90/$G$35))/2)*(1+(SQRT(1+(4/(G$5*((90/$G$35)*(90/$G$35))))*$G$40*(1-(SQRT(2)*Vin_rms_min*(SIN($Q284)/Vout))))))","v":0.281874077327745},{"$f":"(H$5*((90/$G$35)*(90/$G$35))/2)*(1+(SQRT(1+(4/(H$5*((90/$G$35)*(90/$G$35))))*$H$40*(1-(SQRT(2)*Vin_rms_min*(SIN($Q284)/Vout))))))","v":0.271933432325531},{"$f":"(I$5*((90/$G$35)*(90/$G$35))/2)*(1+(SQRT(1+(4/(I$5*((90/$G$35)*(90/$G$35))))*$I$40*(1-(SQRT(2)*Vin_rms_min*(SIN($Q284)/Vout))))))","v":0.26610878644009},{"$f":"(J$5*((90/$G$35)*(90/$G$35))/2)*(1+(SQRT(1+(4/(J$5*((90/$G$35)*(90/$G$35))))*$J$40*(1-(SQRT(2)*Vin_rms_min*(SIN($Q284)/Vout))))))","v":0.219562449042938},{"$f":"(K$5*((90/$G$35)*(90/$G$35))/2)*(1+(SQRT(1+(4/(K$5*((90/$G$35)*(90/$G$35))))*$K$40*(1-(SQRT(2)*Vin_rms_min*(SIN($Q284)/Vout))))))","v":0.298163788127197},{"$f":"(L$5*((90/$G$35)*(90/$G$35))/2)*(1+(SQRT(1+(4/(L$5*((90/$G$35)*(90/$G$35))))*$L$40*(1-(SQRT(2)*Vin_rms_min*(SIN($Q284)/Vout))))))","v":0.39755171750293},null,{"$f":"R599*ABS(1/(Vout/(SQRT(2)*$C$26*SIN($Q284))))","v":0.0366654942080052},{"$f":"S599*ABS(1/(Vout/(SQRT(2)*$C$26*SIN($Q284))))","v":0.0353724392906893},{"$f":"T599*ABS(1/(Vout/(SQRT(2)*$C$26*SIN($Q284))))","v":0.0346147835246786},{"$f":"U599*ABS(1/(Vout/(SQRT(2)*$C$26*SIN($Q284))))","v":0.0285601491985332},{"$f":"V599*ABS(1/(Vout/(SQRT(2)*$C$26*SIN($Q284))))","v":0.0387844201575984},{"$f":"W599*ABS(1/(Vout/(SQRT(2)*$C$26*SIN($Q284))))","v":0.0517125602101312},null,{"$f":"1/(0.0000128*(R599+Y599+$G$40))","v":34760.2333633739},{"$f":"1/(0.0000128*(S599+Z599+$H$40))","v":74631.7938390798},{"$f":"1/(0.0000128*(T599+AA599+$I$40))","v":97373.4325210347},{"$f":"1/(0.0000128*(U599+AB599+$J$40))","v":285208.305198428},{"$f":"1/(0.0000128*(V599+AC599+$K$40))","v":231860.559216766},{"$f":"1/(0.0000128*(W599+AD599+$L$40))","v":173895.419412574}]
[null,null,null,null,null,null,null,null,null,null,null,null,null,null,null,null,null,{"$f":"(G$5*((90/$G$35)*(90/$G$35))/2)*(1+(SQRT(1+(4/(G$5*((90/$G$35)*(90/$G$35))))*$G$40*(1-(SQRT(2)*Vin_rms_min*(SIN($Q285)/Vout))))))","v":0.282300426214487},{"$f":"(H$5*((90/$G$35)*(90/$G$35))/2)*(1+(SQRT(1+(4/(H$5*((90/$G$35)*(90/$G$35))))*$H$40*(1-(SQRT(2)*Vin_rms_min*(SIN($Q285)/Vout))))))","v":0.272302310842251},{"$f":"(I$5*((90/$G$35)*(90/$G$35))/2)*(1+(SQRT(1+(4/(I$5*((90/$G$35)*(90/$G$35))))*$I$40*(1-(SQRT(2)*Vin_rms_min*(SIN($Q285)/Vout))))))","v":0.26644433515829},{"$f":"(J$5*((90/$G$35)*(90/$G$35))/2)*(1+(SQRT(1+(4/(J$5*((90/$G$35)*(90/$G$35))))*$J$40*(1-(SQRT(2)*Vin_rms_min*(SIN($Q285)/Vout))))))","v":0.219624642765624},{"$f":"(K$5*((90/$G$35)*(90/$G$35))/2)*(1+(SQRT(1+(4/(K$5*((90/$G$35)*(90/$G$35))))*$K$40*(1-(SQRT(2)*Vin_rms_min*(SIN($Q285)/Vout))))))","v":0.298163788127197},{"$f":"(L$5*((90/$G$35)*(90/$G$35))/2)*(1+(SQRT(1+(4/(L$5*((90/$G$35)*(90/$G$35))))*$L$40*(1-(SQRT(2)*Vin_rms_min*(SIN($Q285)/Vout))))))","v":0.39755171750293},null,{"$f":"R600*ABS(1/(Vout/(SQRT(2)*$C$26*SIN($Q285))))","v":0.0357482498352533},{"$f":"S600*ABS(1/(Vout/(SQRT(2)*$C$26*SIN($Q285))))","v":0.0344821691176251},{"$f":"T600*ABS(1/(Vout/(SQRT(2)*$C$26*SIN($Q285))))","v":0.0337403623088746},{"$f":"U600*ABS(1/(Vout/(SQRT(2)*$C$26*SIN($Q285))))","v":0.0278114939635216},{"$f":"V600*ABS(1/(Vout/(SQRT(2)*$C$26*SIN($Q285))))","v":0.0377570580842771},{"$f":"W600*ABS(1/(Vout/(SQRT(2)*$C$26*SIN($Q285))))","v":0.0503427441123695},null,{"$f":"1/(0.0000128*(R600+Y600+$G$40))","v":34767.8271648934},{"$f":"1/(0.0000128*(S600+Z600+$H$40))","v":74668.9848663301},{"$f":"1/(0.0000128*(T600+AA600+$I$40))","v":97438.8763552068},{"$f":"1/(0.0000128*(U600+AB600+$J$40))","v":285924.844843799},{"$f":"1/(0.0000128*(V600+AC600+$K$40))","v":232569.668959507},{"$f":"1/(0.0000128*(W600+AD600+$L$40))","v":174427.25171963}]
[null,null,null,null,null,null,null,null,null,null,null,null,null,null,null,null,null,{"$f":"(G$5*((90/$G$35)*(90/$G$35))/2)*(1+(SQRT(1+(4/(G$5*((90/$G$35)*(90/$G$35))))*$G$40*(1-(SQRT(2)*Vin_rms_min*(SIN($Q286)/Vout))))))","v":0.282727646618861},{"$f":"(H$5*((90/$G$35)*(90/$G$35))/2)*(1+(SQRT(1+(4/(H$5*((90/$G$35)*(90/$G$35))))*$H$40*(1-(SQRT(2)*Vin_rms_min*(SIN($Q286)/Vout))))))","v":0.27267195760051},{"$f":"(I$5*((90/$G$35)*(90/$G$35))/2)*(1+(SQRT(1+(4/(I$5*((90/$G$35)*(90/$G$35))))*$I$40*(1-(SQRT(2)*Vin_rms_min*(SIN($Q286)/Vout))))))","v":0.266780595540331},{"$f":"(J$5*((90/$G$35)*(90/$G$35))/2)*(1+(SQRT(1+(4/(J$5*((90/$G$35)*(90/$G$35))))*$J$40*(1-(SQRT(2)*Vin_rms_min*(SIN($Q286)/Vout))))))","v":0.219687032726281},{"$f":"(K$5*((90/$G$35)*(90/$G$35))/2)*(1+(SQRT(1+(4/(K$5*((90/$G$35)*(90/$G$35))))*$K$40*(1-(SQRT(2)*Vin_rms_min*(SIN($Q286)/Vout))))))","v":0.298163788127197},{"$f":"(L$5*((90/$G$35)*(90/$G$35))/2)*(1+(SQRT(1+(4/(L$5*((90/$G$35)*(90/$G$35))))*$L$40*(1-(SQRT(2)*Vin_rms_min*(SIN($Q286)/Vout))))))","v":0.39755171750293},null,{"$f":"R601*ABS(1/(Vout/(SQRT(2)*$C$26*SIN($Q286))))","v":0.0348245945354449},{"$f":"S601*ABS(1/(Vout/(SQRT(2)*$C$26*SIN($Q286))))","v":0.0335859986746351},{"$f":"T601*ABS(1/(Vout/(SQRT(2)*$C$26*SIN($Q286))))","v":0.0328603381406874},{"$f":"U601*ABS(1/(Vout/(SQRT(2)*$C$26*SIN($Q286))))","v":0.0270596523929662},{"$f":"V601*ABS(1/(Vout/(SQRT(2)*$C$26*SIN($Q286))))","v":0.0367259203366116},{"$f":"W601*ABS(1/(Vout/(SQRT(2)*$C$26*SIN($Q286))))","v":0.0489678937821488},null,{"$f":"1/(0.0000128*(R601+Y601+$G$40))","v":34775.5100321453},{"$f":"1/(0.0000128*(S601+Z601+$H$40))","v":74706.5795973202},{"$f":"1/(0.0000128*(T601+AA601+$I$40))","v":97505.0034464444},{"$f":"1/(0.0000128*(U601+AB601+$J$40))","v":286648.138706285},{"$f":"1/(0.0000128*(V601+AC601+$K$40))","v":233285.759536689},{"$f":"1/(0.0000128*(W601+AD601+$L$40))","v":174964.319652517}]
[null,null,null,null,null,null,null,null,null,null,null,null,null,null,null,null,null,{"$f":"(G$5*((90/$G$35)*(90/$G$35))/2)*(1+(SQRT(1+(4/(G$5*((90/$G$35)*(90/$G$35))))*$G$40*(1-(SQRT(2)*Vin_rms_min*(SIN($Q287)/Vout))))))","v":0.283155691680681},{"$f":"(H$5*((90/$G$35)*(90/$G$35))/2)*(1+(SQRT(1+(4/(H$5*((90/$G$35)*(90/$G$35))))*$H$40*(1-(SQRT(2)*Vin_rms_min*(SIN($Q287)/Vout))))))","v":0.273042332072046},{"$f":"(I$5*((90/$G$35)*(90/$G$35))/2)*(1+(SQRT(1+(4/(I$5*((90/$G$35)*(90/$G$35))))*$I$40*(1-(SQRT(2)*Vin_rms_min*(SIN($Q287)/Vout))))))","v":0.267117530736658},{"$f":"(J$5*((90/$G$35)*(90/$G$35))/2)*(1+(SQRT(1+(4/(J$5*((90/$G$35)*(90/$G$35))))*$J$40*(1-(SQRT(2)*Vin_rms_min*(SIN($Q287)/Vout))))))","v":0.219749612385663},{"$f":"(K$5*((90/$G$35)*(90/$G$35))/2)*(1+(SQRT(1+(4/(K$5*((90/$G$35)*(90/$G$35))))*$K$40*(1-(SQRT(2)*Vin_rms_min*(SIN($Q287)/Vout))))))","v":0.298163788127197},{"$f":"(L$5*((90/$G$35)*(90/$G$35))/2)*(1+(SQRT(1+(4/(L$5*((90/$G$35)*(90/$G$35))))*$L$40*(1-(SQRT(2)*Vin_rms_min*(SIN($Q287)/Vout))))))","v":0.39755171750293},null,{"$f":"R602*ABS(1/(Vout/(SQRT(2)*$C$26*SIN($Q287))))","v":0.0338945953503301},{"$f":"S602*ABS(1/(Vout/(SQRT(2)*$C$26*SIN($Q287))))","v":0.0326839955226083},{"$f":"T602*ABS(1/(Vout/(SQRT(2)*$C$26*SIN($Q287))))","v":0.0319747788277148},{"$f":"U602*ABS(1/(Vout/(SQRT(2)*$C$26*SIN($Q287))))","v":0.0263046952932294},{"$f":"V602*ABS(1/(Vout/(SQRT(2)*$C$26*SIN($Q287))))","v":0.0356911100275172},{"$f":"W602*ABS(1/(Vout/(SQRT(2)*$C$26*SIN($Q287))))","v":0.0475881467033562},null,{"$f":"1/(0.0000128*(R602+Y602+$G$40))","v":34783.2817684911},{"$f":"1/(0.0000128*(S602+Z602+$H$40))","v":74744.5772627892},{"$f":"1/(0.0000128*(T602+AA602+$I$40))","v":97571.8126261322},{"$f":"1/(0.0000128*(U602+AB602+$J$40))","v":287378.194103437},{"$f":"1/(0.0000128*(V602+AC602+$K$40))","v":234008.847651519},{"$f":"1/(0.0000128*(W602+AD602+$L$40))","v":175506.635738639}]
[null,null,null,null,null,null,null,null,null,null,null,null,null,null,null,null,null,{"$f":"(G$5*((90/$G$35)*(90/$G$35))/2)*(1+(SQRT(1+(4/(G$5*((90/$G$35)*(90/$G$35))))*$G$40*(1-(SQRT(2)*Vin_rms_min*(SIN($Q288)/Vout))))))","v":0.283584514684434},{"$f":"(H$5*((90/$G$35)*(90/$G$35))/2)*(1+(SQRT(1+(4/(H$5*((90/$G$35)*(90/$G$35))))*$H$40*(1-(SQRT(2)*Vin_rms_min*(SIN($Q288)/Vout))))))","v":0.273413393847373},{"$f":"(I$5*((90/$G$35)*(90/$G$35))/2)*(1+(SQRT(1+(4/(I$5*((90/$G$35)*(90/$G$35))))*$I$40*(1-(SQRT(2)*Vin_rms_min*(SIN($Q288)/Vout))))))","v":0.267455103999974},{"$f":"(J$5*((90/$G$35)*(90/$G$35))/2)*(1+(SQRT(1+(4/(J$5*((90/$G$35)*(90/$G$35))))*$J$40*(1-(SQRT(2)*Vin_rms_min*(SIN($Q288)/Vout))))))","v":0.219812375195007},{"$f":"(K$5*((90/$G$35)*(90/$G$35))/2)*(1+(SQRT(1+(4/(K$5*((90/$G$35)*(90/$G$35))))*$K$40*(1-(SQRT(2)*Vin_rms_min*(SIN($Q288)/Vout))))))","v":0.298163788127197},{"$f":"(L$5*((90/$G$35)*(90/$G$35))/2)*(1+(SQRT(1+(4/(L$5*((90/$G$35)*(90/$G$35))))*$L$40*(1-(SQRT(2)*Vin_rms_min*(SIN($Q288)/Vout))))))","v":0.39755171750293},null,{"$f":"R603*ABS(1/(Vout/(SQRT(2)*$C$26*SIN($Q288))))","v":0.032958320867717},{"$f":"S603*ABS(1/(Vout/(SQRT(2)*$C$26*SIN($Q288))))","v":0.0317762285926673},{"$f":"T603*ABS(1/(Vout/(SQRT(2)*$C$26*SIN($Q288))))","v":0.0310837534452427},{"$f":"U603*ABS(1/(Vout/(SQRT(2)*$C$26*SIN($Q288))))","v":0.0255466939033456},{"$f":"V603*ABS(1/(Vout/(SQRT(2)*$C$26*SIN($Q288))))","v":0.0346527306371625},{"$f":"W603*ABS(1/(Vout/(SQRT(2)*$C$26*SIN($Q288))))","v":0.04620364084955},null,{"$f":"1/(0.0000128*(R603+Y603+$G$40))","v":34791.1421519554},{"$f":"1/(0.0000128*(S603+Z603+$H$40))","v":74782.9769932303},{"$f":"1/(0.0000128*(T603+AA603+$I$40))","v":97639.3025698655},{"$f":"1/(0.0000128*(U603+AB603+$J$40))","v":288115.017726599},{"$f":"1/(0.0000128*(V603+AC603+$K$40))","v":234738.949527063},{"$f":"1/(0.0000128*(W603+AD603+$L$40))","v":176054.212145298}]
[null,null,null,null,null,null,null,null,null,null,null,null,null,null,null,null,null,{"$f":"(G$5*((90/$G$35)*(90/$G$35))/2)*(1+(SQRT(1+(4/(G$5*((90/$G$35)*(90/$G$35))))*$G$40*(1-(SQRT(2)*Vin_rms_min*(SIN($Q289)/Vout))))))","v":0.284014069063783},{"$f":"(H$5*((90/$G$35)*(90/$G$35))/2)*(1+(SQRT(1+(4/(H$5*((90/$G$35)*(90/$G$35))))*$H$40*(1-(SQRT(2)*Vin_rms_min*(SIN($Q289)/Vout))))))","v":0.273785102639754},{"$f":"(I$5*((90/$G$35)*(90/$G$35))/2)*(1+(SQRT(1+(4/(I$5*((90/$G$35)*(90/$G$35))))*$I$40*(1-(SQRT(2)*Vin_rms_min*(SIN($Q289)/Vout))))))","v":0.267793278688911},{"$f":"(J$5*((90/$G$35)*(90/$G$35))/2)*(1+(SQRT(1+(4/(J$5*((90/$G$35)*(90/$G$35))))*$J$40*(1-(SQRT(2)*Vin_rms_min*(SIN($Q289)/Vout))))))","v":0.219875314596787},{"$f":"(K$5*((90/$G$35)*(90/$G$35))/2)*(1+(SQRT(1+(4/(K$5*((90/$G$35)*(90/$G$35))))*$K$40*(1-(SQRT(2)*Vin_rms_min*(SIN($Q289)/Vout))))))","v":0.298163788127197},{"$f":"(L$5*((90/$G$35)*(90/$G$35))/2)*(1+(SQRT(1+(4/(L$5*((90/$G$35)*(90/$G$35))))*$L$40*(1-(SQRT(2)*Vin_rms_min*(SIN($Q289)/Vout))))))","v":0.39755171750293},null,{"$f":"R604*ABS(1/(Vout/(SQRT(2)*$C$26*SIN($Q289))))","v":0.0320158412207022},{"$f":"S604*ABS(1/(Vout/(SQRT(2)*$C$26*SIN($Q289))))","v":0.0308627681846968},{"$f":"T604*ABS(1/(Vout/(SQRT(2)*$C$26*SIN($Q289))))","v":0.0301873323344062},{"$f":"U604*ABS(1/(Vout/(SQRT(2)*$C$26*SIN($Q289))))","v":0.024785719889467},{"$f":"V604*ABS(1/(Vout/(SQRT(2)*$C$26*SIN($Q289))))","v":0.0336108860026213},{"$f":"W604*ABS(1/(Vout/(SQRT(2)*$C$26*SIN($Q289))))","v":0.0448145146701618},null,{"$f":"1/(0.0000128*(R604+Y604+$G$40))","v":34799.0909350959},{"$f":"1/(0.0000128*(S604+Z604+$H$40))","v":74821.7778180337},{"$f":"1/(0.0000128*(T604+AA604+$I$40))","v":97707.4717957634},{"$f":"1/(0.0000128*(U604+AB604+$J$40))","v":288858.615616848},{"$f":"1/(0.0000128*(V604+AC604+$K$40))","v":235476.080882023},{"$f":"1/(0.0000128*(W604+AD604+$L$40))","v":176607.060661517}]
[null,null,null,null,null,null,null,null,null,null,null,null,null,null,null,null,null,{"$f":"(G$5*((90/$G$35)*(90/$G$35))/2)*(1+(SQRT(1+(4/(G$5*((90/$G$35)*(90/$G$35))))*$G$40*(1-(SQRT(2)*Vin_rms_min*(SIN($Q290)/Vout))))))","v":0.284444308405961},{"$f":"(H$5*((90/$G$35)*(90/$G$35))/2)*(1+(SQRT(1+(4/(H$5*((90/$G$35)*(90/$G$35))))*$H$40*(1-(SQRT(2)*Vin_rms_min*(SIN($Q290)/Vout))))))","v":0.274157418289067},{"$f":"(I$5*((90/$G$35)*(90/$G$35))/2)*(1+(SQRT(1+(4/(I$5*((90/$G$35)*(90/$G$35))))*$I$40*(1-(SQRT(2)*Vin_rms_min*(SIN($Q290)/Vout))))))","v":0.268132018271613},{"$f":"(J$5*((90/$G$35)*(90/$G$35))/2)*(1+(SQRT(1+(4/(J$5*((90/$G$35)*(90/$G$35))))*$J$40*(1-(SQRT(2)*Vin_rms_min*(SIN($Q290)/Vout))))))","v":0.219938424025455},{"$f":"(K$5*((90/$G$35)*(90/$G$35))/2)*(1+(SQRT(1+(4/(K$5*((90/$G$35)*(90/$G$35))))*$K$40*(1-(SQRT(2)*Vin_rms_min*(SIN($Q290)/Vout))))))","v":0.298163788127197},{"$f":"(L$5*((90/$G$35)*(90/$G$35))/2)*(1+(SQRT(1+(4/(L$5*((90/$G$35)*(90/$G$35))))*$L$40*(1-(SQRT(2)*Vin_rms_min*(SIN($Q290)/Vout))))))","v":0.39755171750293},null,{"$f":"R605*ABS(1/(Vout/(SQRT(2)*$C$26*SIN($Q290))))","v":0.0310672280863349},{"$f":"S605*ABS(1/(Vout/(SQRT(2)*$C$26*SIN($Q290))))","v":0.0299436859653779},{"$f":"T605*ABS(1/(Vout/(SQRT(2)*$C$26*SIN($Q290))))","v":0.0292855870998999},{"$f":"U605*ABS(1/(Vout/(SQRT(2)*$C$26*SIN($Q290))))","v":0.0240218453392147},{"$f":"V605*ABS(1/(Vout/(SQRT(2)*$C$26*SIN($Q290))))","v":0.0325656803074889},{"$f":"W605*ABS(1/(Vout/(SQRT(2)*$C$26*SIN($Q290))))","v":0.0434209070766518},null,{"$f":"1/(0.0000128*(R605+Y605+$G$40))","v":34807.127844882},{"$f":"1/(0.0000128*(S605+Z605+$H$40))","v":74860.9786646527},{"$f":"1/(0.0000128*(T605+AA605+$I$40))","v":97776.3186628094},{"$f":"1/(0.0000128*(U605+AB605+$J$40))","v":289608.993140455},{"$f":"1/(0.0000128*(V605+AC605+$K$40))","v":236220.25690592},{"$f":"1/(0.0000128*(W605+AD605+$L$40))","v":177165.19267944}]
[null,null,null,null,null,null,null,null,null,null,null,null,null,null,null,null,null,{"$f":"(G$5*((90/$G$35)*(90/$G$35))/2)*(1+(SQRT(1+(4/(G$5*((90/$G$35)*(90/$G$35))))*$G$40*(1-(SQRT(2)*Vin_rms_min*(SIN($Q291)/Vout))))))","v":0.284875186456043},{"$f":"(H$5*((90/$G$35)*(90/$G$35))/2)*(1+(SQRT(1+(4/(H$5*((90/$G$35)*(90/$G$35))))*$H$40*(1-(SQRT(2)*Vin_rms_min*(SIN($Q291)/Vout))))))","v":0.274530300765584},{"$f":"(I$5*((90/$G$35)*(90/$G$35))/2)*(1+(SQRT(1+(4/(I$5*((90/$G$35)*(90/$G$35))))*$I$40*(1-(SQRT(2)*Vin_rms_min*(SIN($Q291)/Vout))))))","v":0.268471286329236},{"$f":"(J$5*((90/$G$35)*(90/$G$35))/2)*(1+(SQRT(1+(4/(J$5*((90/$G$35)*(90/$G$35))))*$J$40*(1-(SQRT(2)*Vin_rms_min*(SIN($Q291)/Vout))))))","v":0.220001696908192},{"$f":"(K$5*((90/$G$35)*(90/$G$35))/2)*(1+(SQRT(1+(4/(K$5*((90/$G$35)*(90/$G$35))))*$K$40*(1-(SQRT(2)*Vin_rms_min*(SIN($Q291)/Vout))))))","v":0.298163788127197},{"$f":"(L$5*((90/$G$35)*(90/$G$35))/2)*(1+(SQRT(1+(4/(L$5*((90/$G$35)*(90/$G$35))))*$L$40*(1-(SQRT(2)*Vin_rms_min*(SIN($Q291)/Vout))))))","v":0.39755171750293},null,{"$f":"R606*ABS(1/(Vout/(SQRT(2)*$C$26*SIN($Q291))))","v":0.0301125546837154},{"$f":"S606*ABS(1/(Vout/(SQRT(2)*$C$26*SIN($Q291))))","v":0.0290190549657299},{"$f":"T606*ABS(1/(Vout/(SQRT(2)*$C$26*SIN($Q291))))","v":0.0283785906072376},{"$f":"U606*ABS(1/(Vout/(SQRT(2)*$C$26*SIN($Q291))))","v":0.0232551427559322},{"$f":"V606*ABS(1/(Vout/(SQRT(2)*$C$26*SIN($Q291))))","v":0.0315172180714636},{"$f":"W606*ABS(1/(Vout/(SQRT(2)*$C$26*SIN($Q291))))","v":0.0420229574286181},null,{"$f":"1/(0.0000128*(R606+Y606+$G$40))","v":34815.2525825827},{"$f":"1/(0.0000128*(S606+Z606+$H$40))","v":74900.5783577942},{"$f":"1/(0.0000128*(T606+AA606+$I$40))","v":97845.8413692207},{"$f":"1/(0.0000128*(U606+AB606+$J$40))","v":290366.154963862},{"$f":"1/(0.0000128*(V606+AC606+$K$40))","v":236971.492233687},{"$f":"1/(0.0000128*(W606+AD606+$L$40))","v":177728.619175265}]
[null,null,null,null,null,null,null,null,null,null,null,null,null,null,null,null,null,{"$f":"(G$5*((90/$G$35)*(90/$G$35))/2)*(1+(SQRT(1+(4/(G$5*((90/$G$35)*(90/$G$35))))*$G$40*(1-(SQRT(2)*Vin_rms_min*(SIN($Q292)/Vout))))))","v":0.285306657121107},{"$f":"(H$5*((90/$G$35)*(90/$G$35))/2)*(1+(SQRT(1+(4/(H$5*((90/$G$35)*(90/$G$35))))*$H$40*(1-(SQRT(2)*Vin_rms_min*(SIN($Q292)/Vout))))))","v":0.274903710173638},{"$f":"(I$5*((90/$G$35)*(90/$G$35))/2)*(1+(SQRT(1+(4/(I$5*((90/$G$35)*(90/$G$35))))*$I$40*(1-(SQRT(2)*Vin_rms_min*(SIN($Q292)/Vout))))))","v":0.268811046559349},{"$f":"(J$5*((90/$G$35)*(90/$G$35))/2)*(1+(SQRT(1+(4/(J$5*((90/$G$35)*(90/$G$35))))*$J$40*(1-(SQRT(2)*Vin_rms_min*(SIN($Q292)/Vout))))))","v":0.22006512666564},{"$f":"(K$5*((90/$G$35)*(90/$G$35))/2)*(1+(SQRT(1+(4/(K$5*((90/$G$35)*(90/$G$35))))*$K$40*(1-(SQRT(2)*Vin_rms_min*(SIN($Q292)/Vout))))))","v":0.298163788127197},{"$f":"(L$5*((90/$G$35)*(90/$G$35))/2)*(1+(SQRT(1+(4/(L$5*((90/$G$35)*(90/$G$35))))*$L$40*(1-(SQRT(2)*Vin_rms_min*(SIN($Q292)/Vout))))))","v":0.39755171750293},null,{"$f":"R607*ABS(1/(Vout/(SQRT(2)*$C$26*SIN($Q292))))","v":0.0291518957715298},{"$f":"S607*ABS(1/(Vout/(SQRT(2)*$C$26*SIN($Q292))))","v":0.028088949578162},{"$f":"T607*ABS(1/(Vout/(SQRT(2)*$C$26*SIN($Q292))))","v":0.0274664169795646},{"$f":"U607*ABS(1/(Vout/(SQRT(2)*$C$26*SIN($Q292))))","v":0.022485685052845},{"$f":"V607*ABS(1/(Vout/(SQRT(2)*$C$26*SIN($Q292))))","v":0.0304656041398955},{"$f":"W607*ABS(1/(Vout/(SQRT(2)*$C$26*SIN($Q292))))","v":0.0406208055198606},null,{"$f":"1/(0.0000128*(R607+Y607+$G$40))","v":34823.4648236618},{"$f":"1/(0.0000128*(S607+Z607+$H$40))","v":74940.5756186333},{"$f":"1/(0.0000128*(T607+AA607+$I$40))","v":97916.0379508447},{"$f":"1/(0.0000128*(U607+AB607+$J$40))","v":291130.10502818},{"$f":"1/(0.0000128*(V607+AC607+$K$40))","v":237729.800919645},{"$f":"1/(0.0000128*(W607+AD607+$L$40))","v":178297.350689734}]
[null,null,null,null,null,null,null,null,null,null,null,null,null,null,null,null,null,{"$f":"(G$5*((90/$G$35)*(90/$G$35))/2)*(1+(SQRT(1+(4/(G$5*((90/$G$35)*(90/$G$35))))*$G$40*(1-(SQRT(2)*Vin_rms_min*(SIN($Q293)/Vout))))))","v":0.285738674474279},{"$f":"(H$5*((90/$G$35)*(90/$G$35))/2)*(1+(SQRT(1+(4/(H$5*((90/$G$35)*(90/$G$35))))*$H$40*(1-(SQRT(2)*Vin_rms_min*(SIN($Q293)/Vout))))))","v":0.275277606755211},{"$f":"(I$5*((90/$G$35)*(90/$G$35))/2)*(1+(SQRT(1+(4/(I$5*((90/$G$35)*(90/$G$35))))*$I$40*(1-(SQRT(2)*Vin_rms_min*(SIN($Q293)/Vout))))))","v":0.269151262779269},{"$f":"(J$5*((90/$G$35)*(90/$G$35))/2)*(1+(SQRT(1+(4/(J$5*((90/$G$35)*(90/$G$35))))*$J$40*(1-(SQRT(2)*Vin_rms_min*(SIN($Q293)/Vout))))))","v":0.220128706712648},{"$f":"(K$5*((90/$G$35)*(90/$G$35))/2)*(1+(SQRT(1+(4/(K$5*((90/$G$35)*(90/$G$35))))*$K$40*(1-(SQRT(2)*Vin_rms_min*(SIN($Q293)/Vout))))))","v":0.298163788127197},{"$f":"(L$5*((90/$G$35)*(90/$G$35))/2)*(1+(SQRT(1+(4/(L$5*((90/$G$35)*(90/$G$35))))*$L$40*(1-(SQRT(2)*Vin_rms_min*(SIN($Q293)/Vout))))))","v":0.39755171750293},null,{"$f":"R608*ABS(1/(Vout/(SQRT(2)*$C$26*SIN($Q293))))","v":0.0281853276450247},{"$f":"S608*ABS(1/(Vout/(SQRT(2)*$C$26*SIN($Q293))))","v":0.0271534455530356},{"$f":"T608*ABS(1/(Vout/(SQRT(2)*$C$26*SIN($Q293))))","v":0.0265491415940222},{"$f":"U608*ABS(1/(Vout/(SQRT(2)*$C$26*SIN($Q293))))","v":0.0217135455471221},{"$f":"V608*ABS(1/(Vout/(SQRT(2)*$C$26*SIN($Q293))))","v":0.0294109436733013},{"$f":"W608*ABS(1/(Vout/(SQRT(2)*$C$26*SIN($Q293))))","v":0.0392145915644017},null,{"$f":"1/(0.0000128*(R608+Y608+$G$40))","v":34831.7642176823},{"$f":"1/(0.0000128*(S608+Z608+$H$40))","v":74980.9690640522},{"$f":"1/(0.0000128*(T608+AA608+$I$40))","v":97986.9062795838},{"$f":"1/(0.0000128*(U608+AB608+$J$40))","v":291900.846523189},{"$f":"1/(0.0000128*(V608+AC608+$K$40))","v":238495.196410876},{"$f":"1/(0.0000128*(W608+AD608+$L$40))","v":178871.397308157}]
[null,null,null,null,null,null,null,null,null,null,null,null,null,null,null,null,null,{"$f":"(G$5*((90/$G$35)*(90/$G$35))/2)*(1+(SQRT(1+(4/(G$5*((90/$G$35)*(90/$G$35))))*$G$40*(1-(SQRT(2)*Vin_rms_min*(SIN($Q294)/Vout))))))","v":0.286171192758664},{"$f":"(H$5*((90/$G$35)*(90/$G$35))/2)*(1+(SQRT(1+(4/(H$5*((90/$G$35)*(90/$G$35))))*$H$40*(1-(SQRT(2)*Vin_rms_min*(SIN($Q294)/Vout))))))","v":0.275651950893412},{"$f":"(I$5*((90/$G$35)*(90/$G$35))/2)*(1+(SQRT(1+(4/(I$5*((90/$G$35)*(90/$G$35))))*$I$40*(1-(SQRT(2)*Vin_rms_min*(SIN($Q294)/Vout))))))","v":0.269491898929291},{"$f":"(J$5*((90/$G$35)*(90/$G$35))/2)*(1+(SQRT(1+(4/(J$5*((90/$G$35)*(90/$G$35))))*$J$40*(1-(SQRT(2)*Vin_rms_min*(SIN($Q294)/Vout))))))","v":0.220192430458996},{"$f":"(K$5*((90/$G$35)*(90/$G$35))/2)*(1+(SQRT(1+(4/(K$5*((90/$G$35)*(90/$G$35))))*$K$40*(1-(SQRT(2)*Vin_rms_min*(SIN($Q294)/Vout))))))","v":0.298163788127197},{"$f":"(L$5*((90/$G$35)*(90/$G$35))/2)*(1+(SQRT(1+(4/(L$5*((90/$G$35)*(90/$G$35))))*$L$40*(1-(SQRT(2)*Vin_rms_min*(SIN($Q294)/Vout))))))","v":0.39755171750293},null,{"$f":"R609*ABS(1/(Vout/(SQRT(2)*$C$26*SIN($Q294))))","v":0.0272129281324233},{"$f":"S609*ABS(1/(Vout/(SQRT(2)*$C$26*SIN($Q294))))","v":0.0262126199947412},{"$f":"T609*ABS(1/(Vout/(SQRT(2)*$C$26*SIN($Q294))))","v":0.0256268410776683},{"$f":"U609*ABS(1/(Vout/(SQRT(2)*$C$26*SIN($Q294))))","v":0.0209387979538442},{"$f":"V609*ABS(1/(Vout/(SQRT(2)*$C$26*SIN($Q294))))","v":0.0283533421368488},{"$f":"W609*ABS(1/(Vout/(SQRT(2)*$C$26*SIN($Q294))))","v":0.037804456182465},null,{"$f":"1/(0.0000128*(R609+Y609+$G$40))","v":34840.1503882191},{"$f":"1/(0.0000128*(S609+Z609+$H$40))","v":75021.7572059026},{"$f":"1/(0.0000128*(T609+AA609+$I$40))","v":98058.44406185},{"$f":"1/(0.0000128*(U609+AB609+$J$40))","v":292678.381860853},{"$f":"1/(0.0000128*(V609+AC609+$K$40))","v":239267.691519959},{"$f":"1/(0.0000128*(W609+AD609+$L$40))","v":179450.768639969}]
[null,null,null,null,null,null,null,null,null,null,null,null,null,null,null,null,null,{"$f":"(G$5*((90/$G$35)*(90/$G$35))/2)*(1+(SQRT(1+(4/(G$5*((90/$G$35)*(90/$G$35))))*$G$40*(1-(SQRT(2)*Vin_rms_min*(SIN($Q295)/Vout))))))","v":0.286604166391178},{"$f":"(H$5*((90/$G$35)*(90/$G$35))/2)*(1+(SQRT(1+(4/(H$5*((90/$G$35)*(90/$G$35))))*$H$40*(1-(SQRT(2)*Vin_rms_min*(SIN($Q295)/Vout))))))","v":0.276026703115872},{"$f":"(I$5*((90/$G$35)*(90/$G$35))/2)*(1+(SQRT(1+(4/(I$5*((90/$G$35)*(90/$G$35))))*$I$40*(1-(SQRT(2)*Vin_rms_min*(SIN($Q295)/Vout))))))","v":0.269832919075848},{"$f":"(J$5*((90/$G$35)*(90/$G$35))/2)*(1+(SQRT(1+(4/(J$5*((90/$G$35)*(90/$G$35))))*$J$40*(1-(SQRT(2)*Vin_rms_min*(SIN($Q295)/Vout))))))","v":0.220256291310128},{"$f":"(K$5*((90/$G$35)*(90/$G$35))/2)*(1+(SQRT(1+(4/(K$5*((90/$G$35)*(90/$G$35))))*$K$40*(1-(SQRT(2)*Vin_rms_min*(SIN($Q295)/Vout))))))","v":0.298163788127197},{"$f":"(L$5*((90/$G$35)*(90/$G$35))/2)*(1+(SQRT(1+(4/(L$5*((90/$G$35)*(90/$G$35))))*$L$40*(1-(SQRT(2)*Vin_rms_min*(SIN($Q295)/Vout))))))","v":0.39755171750293},null,{"$f":"R610*ABS(1/(Vout/(SQRT(2)*$C$26*SIN($Q295))))","v":0.0262347765907859},{"$f":"S610*ABS(1/(Vout/(SQRT(2)*$C$26*SIN($Q295))))","v":0.0252665513572904},{"$f":"T610*ABS(1/(Vout/(SQRT(2)*$C$26*SIN($Q295))))","v":0.0246995933029549},{"$f":"U610*ABS(1/(Vout/(SQRT(2)*$C$26*SIN($Q295))))","v":0.0201615163798754},{"$f":"V610*ABS(1/(Vout/(SQRT(2)*$C$26*SIN($Q295))))","v":0.0272929052898103},{"$f":"W610*ABS(1/(Vout/(SQRT(2)*$C$26*SIN($Q295))))","v":0.0363905403864137},null,{"$f":"1/(0.0000128*(R610+Y610+$G$40))","v":34848.6229327797},{"$f":"1/(0.0000128*(S610+Z610+$H$40))","v":75062.9384502938},{"$f":"1/(0.0000128*(T610+AA610+$I$40))","v":98130.6488370466},{"$f":"1/(0.0000128*(U610+AB610+$J$40))","v":293462.712648331},{"$f":"1/(0.0000128*(V610+AC610+$K$40))","v":240047.298397082},{"$f":"1/(0.0000128*(W610+AD610+$L$40))","v":180035.473797811}]
[null,null,null,null,null,null,null,null,null,null,null,null,null,null,null,null,null,{"$f":"(G$5*((90/$G$35)*(90/$G$35))/2)*(1+(SQRT(1+(4/(G$5*((90/$G$35)*(90/$G$35))))*$G$40*(1-(SQRT(2)*Vin_rms_min*(SIN($Q296)/Vout))))))","v":0.287037549966258},{"$f":"(H$5*((90/$G$35)*(90/$G$35))/2)*(1+(SQRT(1+(4/(H$5*((90/$G$35)*(90/$G$35))))*$H$40*(1-(SQRT(2)*Vin_rms_min*(SIN($Q296)/Vout))))))","v":0.27640182409804},{"$f":"(I$5*((90/$G$35)*(90/$G$35))/2)*(1+(SQRT(1+(4/(I$5*((90/$G$35)*(90/$G$35))))*$I$40*(1-(SQRT(2)*Vin_rms_min*(SIN($Q296)/Vout))))))","v":0.270174287414587},{"$f":"(J$5*((90/$G$35)*(90/$G$35))/2)*(1+(SQRT(1+(4/(J$5*((90/$G$35)*(90/$G$35))))*$J$40*(1-(SQRT(2)*Vin_rms_min*(SIN($Q296)/Vout))))))","v":0.220320282667873},{"$f":"(K$5*((90/$G$35)*(90/$G$35))/2)*(1+(SQRT(1+(4/(K$5*((90/$G$35)*(90/$G$35))))*$K$40*(1-(SQRT(2)*Vin_rms_min*(SIN($Q296)/Vout))))))","v":0.298163788127197},{"$f":"(L$5*((90/$G$35)*(90/$G$35))/2)*(1+(SQRT(1+(4/(L$5*((90/$G$35)*(90/$G$35))))*$L$40*(1-(SQRT(2)*Vin_rms_min*(SIN($Q296)/Vout))))))","v":0.39755171750293},null,{"$f":"R611*ABS(1/(Vout/(SQRT(2)*$C$26*SIN($Q296))))","v":0.025250953901318},{"$f":"S611*ABS(1/(Vout/(SQRT(2)*$C$26*SIN($Q296))))","v":0.0243153194394262},{"$f":"T611*ABS(1/(Vout/(SQRT(2)*$C$26*SIN($Q296))))","v":0.0237674773827645},{"$f":"U611*ABS(1/(Vout/(SQRT(2)*$C$26*SIN($Q296))))","v":0.0193817753176398},{"$f":"V611*ABS(1/(Vout/(SQRT(2)*$C$26*SIN($Q296))))","v":0.0262297391749868},{"$f":"W611*ABS(1/(Vout/(SQRT(2)*$C$26*SIN($Q296))))","v":0.0349729855666491},null,{"$f":"1/(0.0000128*(R611+Y611+$G$40))","v":34857.1814227339},{"$f":"1/(0.0000128*(S611+Z611+$H$40))","v":75104.5110969046},{"$f":"1/(0.0000128*(T611+AA611+$I$40))","v":98203.5179760811},{"$f":"1/(0.0000128*(U611+AB611+$J$40))","v":294253.839660493},{"$f":"1/(0.0000128*(V611+AC611+$K$40))","v":240834.028501511},{"$f":"1/(0.0000128*(W611+AD611+$L$40))","v":180625.521376133}]
[null,null,null,null,null,null,null,null,null,null,null,null,null,null,null,null,null,{"$f":"(G$5*((90/$G$35)*(90/$G$35))/2)*(1+(SQRT(1+(4/(G$5*((90/$G$35)*(90/$G$35))))*$G$40*(1-(SQRT(2)*Vin_rms_min*(SIN($Q297)/Vout))))))","v":0.287471298259477},{"$f":"(H$5*((90/$G$35)*(90/$G$35))/2)*(1+(SQRT(1+(4/(H$5*((90/$G$35)*(90/$G$35))))*$H$40*(1-(SQRT(2)*Vin_rms_min*(SIN($Q297)/Vout))))))","v":0.276777274666394},{"$f":"(I$5*((90/$G$35)*(90/$G$35))/2)*(1+(SQRT(1+(4/(I$5*((90/$G$35)*(90/$G$35))))*$I$40*(1-(SQRT(2)*Vin_rms_min*(SIN($Q297)/Vout))))))","v":0.270515968273357},{"$f":"(J$5*((90/$G$35)*(90/$G$35))/2)*(1+(SQRT(1+(4/(J$5*((90/$G$35)*(90/$G$35))))*$J$40*(1-(SQRT(2)*Vin_rms_min*(SIN($Q297)/Vout))))))","v":0.22038439793117},{"$f":"(K$5*((90/$G$35)*(90/$G$35))/2)*(1+(SQRT(1+(4/(K$5*((90/$G$35)*(90/$G$35))))*$K$40*(1-(SQRT(2)*Vin_rms_min*(SIN($Q297)/Vout))))))","v":0.298163788127197},{"$f":"(L$5*((90/$G$35)*(90/$G$35))/2)*(1+(SQRT(1+(4/(L$5*((90/$G$35)*(90/$G$35))))*$L$40*(1-(SQRT(2)*Vin_rms_min*(SIN($Q297)/Vout))))))","v":0.39755171750293},null,{"$f":"R612*ABS(1/(Vout/(SQRT(2)*$C$26*SIN($Q297))))","v":0.0242615424641283},{"$f":"S612*ABS(1/(Vout/(SQRT(2)*$C$26*SIN($Q297))))","v":0.0233590053792546},{"$f":"T612*ABS(1/(Vout/(SQRT(2)*$C$26*SIN($Q297))))","v":0.0228305736650093},{"$f":"U612*ABS(1/(Vout/(SQRT(2)*$C$26*SIN($Q297))))","v":0.0185996496388041},{"$f":"V612*ABS(1/(Vout/(SQRT(2)*$C$26*SIN($Q297))))","v":0.025163950108104},{"$f":"W612*ABS(1/(Vout/(SQRT(2)*$C$26*SIN($Q297))))","v":0.0335519334774719},null,{"$f":"1/(0.0000128*(R612+Y612+$G$40))","v":34865.8254032511},{"$f":"1/(0.0000128*(S612+Z612+$H$40))","v":75146.4733383195},{"$f":"1/(0.0000128*(T612+AA612+$I$40))","v":98277.0486799063},{"$f":"1/(0.0000128*(U612+AB612+$J$40))","v":295051.762811934},{"$f":"1/(0.0000128*(V612+AC612+$K$40))","v":241627.892572411},{"$f":"1/(0.0000128*(W612+AD612+$L$40))","v":181220.919429308}]
[null,null,null,null,null,null,null,null,null,null,null,null,null,null,null,null,null,{"$f":"(G$5*((90/$G$35)*(90/$G$35))/2)*(1+(SQRT(1+(4/(G$5*((90/$G$35)*(90/$G$35))))*$G$40*(1-(SQRT(2)*Vin_rms_min*(SIN($Q298)/Vout))))))","v":0.287905366231044},{"$f":"(H$5*((90/$G$35)*(90/$G$35))/2)*(1+(SQRT(1+(4/(H$5*((90/$G$35)*(90/$G$35))))*$H$40*(1-(SQRT(2)*Vin_rms_min*(SIN($Q298)/Vout))))))","v":0.277153015801561},{"$f":"(I$5*((90/$G$35)*(90/$G$35))/2)*(1+(SQRT(1+(4/(I$5*((90/$G$35)*(90/$G$35))))*$I$40*(1-(SQRT(2)*Vin_rms_min*(SIN($Q298)/Vout))))))","v":0.270857926115127},{"$f":"(J$5*((90/$G$35)*(90/$G$35))/2)*(1+(SQRT(1+(4/(J$5*((90/$G$35)*(90/$G$35))))*$J$40*(1-(SQRT(2)*Vin_rms_min*(SIN($Q298)/Vout))))))","v":0.22044863049678},{"$f":"(K$5*((90/$G$35)*(90/$G$35))/2)*(1+(SQRT(1+(4/(K$5*((90/$G$35)*(90/$G$35))))*$K$40*(1-(SQRT(2)*Vin_rms_min*(SIN($Q298)/Vout))))))","v":0.298163788127197},{"$f":"(L$5*((90/$G$35)*(90/$G$35))/2)*(1+(SQRT(1+(4/(L$5*((90/$G$35)*(90/$G$35))))*$L$40*(1-(SQRT(2)*Vin_rms_min*(SIN($Q298)/Vout))))))","v":0.39755171750293},null,{"$f":"R613*ABS(1/(Vout/(SQRT(2)*$C$26*SIN($Q298))))","v":0.0232666261924407},{"$f":"S613*ABS(1/(Vout/(SQRT(2)*$C$26*SIN($Q298))))","v":0.0223976916483998},{"$f":"T613*ABS(1/(Vout/(SQRT(2)*$C$26*SIN($Q298))))","v":0.021888963726793},{"$f":"U613*ABS(1/(Vout/(SQRT(2)*$C$26*SIN($Q298))))","v":0.0178152145878655},{"$f":"V613*ABS(1/(Vout/(SQRT(2)*$C$26*SIN($Q298))))","v":0.0240956446671801},{"$f":"W613*ABS(1/(Vout/(SQRT(2)*$C$26*SIN($Q298))))","v":0.0321275262229068},null,{"$f":"1/(0.0000128*(R613+Y613+$G$40))","v":34874.5543932464},{"$f":"1/(0.0000128*(S613+Z613+$H$40))","v":75188.8232593907},{"$f":"1/(0.0000128*(T613+AA613+$I$40))","v":98351.2379780921},{"$f":"1/(0.0000128*(U613+AB613+$J$40))","v":295856.481128483},{"$f":"1/(0.0000128*(V613+AC613+$K$40))","v":242428.900599005},{"$f":"1/(0.0000128*(W613+AD613+$L$40))","v":181821.675449254}]
[null,null,null,null,null,null,null,null,null,null,null,null,null,null,null,null,null,{"$f":"(G$5*((90/$G$35)*(90/$G$35))/2)*(1+(SQRT(1+(4/(G$5*((90/$G$35)*(90/$G$35))))*$G$40*(1-(SQRT(2)*Vin_rms_min*(SIN($Q299)/Vout))))))","v":0.288339709029213},{"$f":"(H$5*((90/$G$35)*(90/$G$35))/2)*(1+(SQRT(1+(4/(H$5*((90/$G$35)*(90/$G$35))))*$H$40*(1-(SQRT(2)*Vin_rms_min*(SIN($Q299)/Vout))))))","v":0.277529008641346},{"$f":"(I$5*((90/$G$35)*(90/$G$35))/2)*(1+(SQRT(1+(4/(I$5*((90/$G$35)*(90/$G$35))))*$I$40*(1-(SQRT(2)*Vin_rms_min*(SIN($Q299)/Vout))))))","v":0.271200125540816},{"$f":"(J$5*((90/$G$35)*(90/$G$35))/2)*(1+(SQRT(1+(4/(J$5*((90/$G$35)*(90/$G$35))))*$J$40*(1-(SQRT(2)*Vin_rms_min*(SIN($Q299)/Vout))))))","v":0.220512973759998},{"$f":"(K$5*((90/$G$35)*(90/$G$35))/2)*(1+(SQRT(1+(4/(K$5*((90/$G$35)*(90/$G$35))))*$K$40*(1-(SQRT(2)*Vin_rms_min*(SIN($Q299)/Vout))))))","v":0.298163788127197},{"$f":"(L$5*((90/$G$35)*(90/$G$35))/2)*(1+(SQRT(1+(4/(L$5*((90/$G$35)*(90/$G$35))))*$L$40*(1-(SQRT(2)*Vin_rms_min*(SIN($Q299)/Vout))))))","v":0.39755171750293},null,{"$f":"R614*ABS(1/(Vout/(SQRT(2)*$C$26*SIN($Q299))))","v":0.0222662905062638},{"$f":"S614*ABS(1/(Vout/(SQRT(2)*$C$26*SIN($Q299))))","v":0.0214314620456856},{"$f":"T614*ABS(1/(Vout/(SQRT(2)*$C$26*SIN($Q299))))","v":0.020942730368141},{"$f":"U614*ABS(1/(Vout/(SQRT(2)*$C$26*SIN($Q299))))","v":0.0170285457756455},{"$f":"V614*ABS(1/(Vout/(SQRT(2)*$C$26*SIN($Q299))))","v":0.0230249296818692},{"$f":"W614*ABS(1/(Vout/(SQRT(2)*$C$26*SIN($Q299))))","v":0.0306999062424923},null,{"$f":"1/(0.0000128*(R614+Y614+$G$40))","v":34883.3678853352},{"$f":"1/(0.0000128*(S614+Z614+$H$40))","v":75231.5588366243},{"$f":"1/(0.0000128*(T614+AA614+$I$40))","v":98426.082727428},{"$f":"1/(0.0000128*(U614+AB614+$J$40))","v":296667.9927182},{"$f":"1/(0.0000128*(V614+AC614+$K$40))","v":243237.061790078},{"$f":"1/(0.0000128*(W614+AD614+$L$40))","v":182427.796342559}]
[null,null,null,null,null,null,null,null,null,null,null,null,null,null,null,null,null,{"$f":"(G$5*((90/$G$35)*(90/$G$35))/2)*(1+(SQRT(1+(4/(G$5*((90/$G$35)*(90/$G$35))))*$G$40*(1-(SQRT(2)*Vin_rms_min*(SIN($Q300)/Vout))))))","v":0.288774281993581},{"$f":"(H$5*((90/$G$35)*(90/$G$35))/2)*(1+(SQRT(1+(4/(H$5*((90/$G$35)*(90/$G$35))))*$H$40*(1-(SQRT(2)*Vin_rms_min*(SIN($Q300)/Vout))))))","v":0.277905214483678},{"$f":"(I$5*((90/$G$35)*(90/$G$35))/2)*(1+(SQRT(1+(4/(I$5*((90/$G$35)*(90/$G$35))))*$I$40*(1-(SQRT(2)*Vin_rms_min*(SIN($Q300)/Vout))))))","v":0.271542531292055},{"$f":"(J$5*((90/$G$35)*(90/$G$35))/2)*(1+(SQRT(1+(4/(J$5*((90/$G$35)*(90/$G$35))))*$J$40*(1-(SQRT(2)*Vin_rms_min*(SIN($Q300)/Vout))))))","v":0.220577421115364},{"$f":"(K$5*((90/$G$35)*(90/$G$35))/2)*(1+(SQRT(1+(4/(K$5*((90/$G$35)*(90/$G$35))))*$K$40*(1-(SQRT(2)*Vin_rms_min*(SIN($Q300)/Vout))))))","v":0.298163788127197},{"$f":"(L$5*((90/$G$35)*(90/$G$35))/2)*(1+(SQRT(1+(4/(L$5*((90/$G$35)*(90/$G$35))))*$L$40*(1-(SQRT(2)*Vin_rms_min*(SIN($Q300)/Vout))))))","v":0.39755171750293},null,{"$f":"R615*ABS(1/(Vout/(SQRT(2)*$C$26*SIN($Q300))))","v":0.0212606223255199},{"$f":"S615*ABS(1/(Vout/(SQRT(2)*$C$26*SIN($Q300))))","v":0.0204604016903467},{"$f":"T615*ABS(1/(Vout/(SQRT(2)*$C$26*SIN($Q300))))","v":0.0199919576052981},{"$f":"U615*ABS(1/(Vout/(SQRT(2)*$C$26*SIN($Q300))))","v":0.01623971917269},{"$f":"V615*ABS(1/(Vout/(SQRT(2)*$C$26*SIN($Q300))))","v":0.0219519122227775},{"$f":"W615*ABS(1/(Vout/(SQRT(2)*$C$26*SIN($Q300))))","v":0.0292692162970367},null,{"$f":"1/(0.0000128*(R615+Y615+$G$40))","v":34892.2653457955},{"$f":"1/(0.0000128*(S615+Z615+$H$40))","v":75274.6779375918},{"$f":"1/(0.0000128*(T615+AA615+$I$40))","v":98501.5796105557},{"$f":"1/(0.0000128*(U615+AB615+$J$40))","v":297486.294741873},{"$f":"1/(0.0000128*(V615+AC615+$K$40))","v":244052.384542801},{"$f":"1/(0.0000128*(W615+AD615+$L$40))","v":183039.2884071}]
[null,null,null,null,null,null,null,null,null,null,null,null,null,null,null,null,null,{"$f":"(G$5*((90/$G$35)*(90/$G$35))/2)*(1+(SQRT(1+(4/(G$5*((90/$G$35)*(90/$G$35))))*$G$40*(1-(SQRT(2)*Vin_rms_min*(SIN($Q301)/Vout))))))","v":0.289209040658287},{"$f":"(H$5*((90/$G$35)*(90/$G$35))/2)*(1+(SQRT(1+(4/(H$5*((90/$G$35)*(90/$G$35))))*$H$40*(1-(SQRT(2)*Vin_rms_min*(SIN($Q301)/Vout))))))","v":0.278281594789472},{"$f":"(I$5*((90/$G$35)*(90/$G$35))/2)*(1+(SQRT(1+(4/(I$5*((90/$G$35)*(90/$G$35))))*$I$40*(1-(SQRT(2)*Vin_rms_min*(SIN($Q301)/Vout))))))","v":0.271885108253862},{"$f":"(J$5*((90/$G$35)*(90/$G$35))/2)*(1+(SQRT(1+(4/(J$5*((90/$G$35)*(90/$G$35))))*$J$40*(1-(SQRT(2)*Vin_rms_min*(SIN($Q301)/Vout))))))","v":0.220641965957363},{"$f":"(K$5*((90/$G$35)*(90/$G$35))/2)*(1+(SQRT(1+(4/(K$5*((90/$G$35)*(90/$G$35))))*$K$40*(1-(SQRT(2)*Vin_rms_min*(SIN($Q301)/Vout))))))","v":0.298163788127197},{"$f":"(L$5*((90/$G$35)*(90/$G$35))/2)*(1+(SQRT(1+(4/(L$5*((90/$G$35)*(90/$G$35))))*$L$40*(1-(SQRT(2)*Vin_rms_min*(SIN($Q301)/Vout))))))","v":0.39755171750293},null,{"$f":"R616*ABS(1/(Vout/(SQRT(2)*$C$26*SIN($Q301))))","v":0.0202497100626395},{"$f":"S616*ABS(1/(Vout/(SQRT(2)*$C$26*SIN($Q301))))","v":0.0194845970147727},{"$f":"T616*ABS(1/(Vout/(SQRT(2)*$C$26*SIN($Q301))))","v":0.0190367306636003},{"$f":"U616*ABS(1/(Vout/(SQRT(2)*$C$26*SIN($Q301))))","v":0.0154488111025769},{"$f":"V616*ABS(1/(Vout/(SQRT(2)*$C$26*SIN($Q301))))","v":0.0208766995907567},{"$f":"W616*ABS(1/(Vout/(SQRT(2)*$C$26*SIN($Q301))))","v":0.0278355994543423},null,{"$f":"1/(0.0000128*(R616+Y616+$G$40))","v":34901.2462145388},{"$f":"1/(0.0000128*(S616+Z616+$H$40))","v":75318.1783203669},{"$f":"1/(0.0000128*(T616+AA616+$I$40))","v":98577.7251346337},{"$f":"1/(0.0000128*(U616+AB616+$J$40))","v":298311.383383001},{"$f":"1/(0.0000128*(V616+AC616+$K$40))","v":244874.876410877},{"$f":"1/(0.0000128*(W616+AD616+$L$40))","v":183656.157308158}]
[null,null,null,null,null,null,null,null,null,null,null,null,null,null,null,null,null,{"$f":"(G$5*((90/$G$35)*(90/$G$35))/2)*(1+(SQRT(1+(4/(G$5*((90/$G$35)*(90/$G$35))))*$G$40*(1-(SQRT(2)*Vin_rms_min*(SIN($Q302)/Vout))))))","v":0.289643940755123},{"$f":"(H$5*((90/$G$35)*(90/$G$35))/2)*(1+(SQRT(1+(4/(H$5*((90/$G$35)*(90/$G$35))))*$H$40*(1-(SQRT(2)*Vin_rms_min*(SIN($Q302)/Vout))))))","v":0.278658111185404},{"$f":"(I$5*((90/$G$35)*(90/$G$35))/2)*(1+(SQRT(1+(4/(I$5*((90/$G$35)*(90/$G$35))))*$I$40*(1-(SQRT(2)*Vin_rms_min*(SIN($Q302)/Vout))))))","v":0.272227821457252},{"$f":"(J$5*((90/$G$35)*(90/$G$35))/2)*(1+(SQRT(1+(4/(J$5*((90/$G$35)*(90/$G$35))))*$J$40*(1-(SQRT(2)*Vin_rms_min*(SIN($Q302)/Vout))))))","v":0.220706601681123},{"$f":"(K$5*((90/$G$35)*(90/$G$35))/2)*(1+(SQRT(1+(4/(K$5*((90/$G$35)*(90/$G$35))))*$K$40*(1-(SQRT(2)*Vin_rms_min*(SIN($Q302)/Vout))))))","v":0.298163788127197},{"$f":"(L$5*((90/$G$35)*(90/$G$35))/2)*(1+(SQRT(1+(4/(L$5*((90/$G$35)*(90/$G$35))))*$L$40*(1-(SQRT(2)*Vin_rms_min*(SIN($Q302)/Vout))))))","v":0.39755171750293},null,{"$f":"R617*ABS(1/(Vout/(SQRT(2)*$C$26*SIN($Q302))))","v":0.0192336436146231},{"$f":"S617*ABS(1/(Vout/(SQRT(2)*$C$26*SIN($Q302))))","v":0.0185041357567887},{"$f":"T617*ABS(1/(Vout/(SQRT(2)*$C$26*SIN($Q302))))","v":0.0180771359699207},{"$f":"U617*ABS(1/(Vout/(SQRT(2)*$C$26*SIN($Q302))))","v":0.0146558982351307},{"$f":"V617*ABS(1/(Vout/(SQRT(2)*$C$26*SIN($Q302))))","v":0.0197993993061741},{"$f":"W617*ABS(1/(Vout/(SQRT(2)*$C$26*SIN($Q302))))","v":0.0263991990748988},null,{"$f":"1/(0.0000128*(R617+Y617+$G$40))","v":34910.3099050891},{"$f":"1/(0.0000128*(S617+Z617+$H$40))","v":75362.0576329877},{"$f":"1/(0.0000128*(T617+AA617+$I$40))","v":98654.5156300335},{"$f":"1/(0.0000128*(U617+AB617+$J$40))","v":299143.253817267},{"$f":"1/(0.0000128*(V617+AC617+$K$40))","v":245704.544072011},{"$f":"1/(0.0000128*(W617+AD617+$L$40))","v":184278.408054009}]
[null,null,null,null,null,null,null,null,null,null,null,null,null,null,null,null,null,{"$f":"(G$5*((90/$G$35)*(90/$G$35))/2)*(1+(SQRT(1+(4/(G$5*((90/$G$35)*(90/$G$35))))*$G$40*(1-(SQRT(2)*Vin_rms_min*(SIN($Q303)/Vout))))))","v":0.290078938216534},{"$f":"(H$5*((90/$G$35)*(90/$G$35))/2)*(1+(SQRT(1+(4/(H$5*((90/$G$35)*(90/$G$35))))*$H$40*(1-(SQRT(2)*Vin_rms_min*(SIN($Q303)/Vout))))))","v":0.279034725466603},{"$f":"(I$5*((90/$G$35)*(90/$G$35))/2)*(1+(SQRT(1+(4/(I$5*((90/$G$35)*(90/$G$35))))*$I$40*(1-(SQRT(2)*Vin_rms_min*(SIN($Q303)/Vout))))))","v":0.272570636081767},{"$f":"(J$5*((90/$G$35)*(90/$G$35))/2)*(1+(SQRT(1+(4/(J$5*((90/$G$35)*(90/$G$35))))*$J$40*(1-(SQRT(2)*Vin_rms_min*(SIN($Q303)/Vout))))))","v":0.220771321683111},{"$f":"(K$5*((90/$G$35)*(90/$G$35))/2)*(1+(SQRT(1+(4/(K$5*((90/$G$35)*(90/$G$35))))*$K$40*(1-(SQRT(2)*Vin_rms_min*(SIN($Q303)/Vout))))))","v":0.298163788127197},{"$f":"(L$5*((90/$G$35)*(90/$G$35))/2)*(1+(SQRT(1+(4/(L$5*((90/$G$35)*(90/$G$35))))*$L$40*(1-(SQRT(2)*Vin_rms_min*(SIN($Q303)/Vout))))))","v":0.39755171750293},null,{"$f":"R618*ABS(1/(Vout/(SQRT(2)*$C$26*SIN($Q303))))","v":0.0182125143545761},{"$f":"S618*ABS(1/(Vout/(SQRT(2)*$C$26*SIN($Q303))))","v":0.0175191069514748},{"$f":"T618*ABS(1/(Vout/(SQRT(2)*$C$26*SIN($Q303))))","v":0.0171132611446941},{"$f":"U618*ABS(1/(Vout/(SQRT(2)*$C$26*SIN($Q303))))","v":0.0138610575795442},{"$f":"V618*ABS(1/(Vout/(SQRT(2)*$C$26*SIN($Q303))))","v":0.0187201190981602},{"$f":"W618*ABS(1/(Vout/(SQRT(2)*$C$26*SIN($Q303))))","v":0.024960158797547},null,{"$f":"1/(0.0000128*(R618+Y618+$G$40))","v":34919.4558045704},{"$f":"1/(0.0000128*(S618+Z618+$H$40))","v":75406.3134129446},{"$f":"1/(0.0000128*(T618+AA618+$I$40))","v":98731.947249068},{"$f":"1/(0.0000128*(U618+AB618+$J$40))","v":299981.900181498},{"$f":"1/(0.0000128*(V618+AC618+$K$40))","v":246541.393294674},{"$f":"1/(0.0000128*(W618+AD618+$L$40))","v":184906.044971006}]
[null,null,null,null,null,null,null,null,null,null,null,null,null,null,null,null,null,{"$f":"(G$5*((90/$G$35)*(90/$G$35))/2)*(1+(SQRT(1+(4/(G$5*((90/$G$35)*(90/$G$35))))*$G$40*(1-(SQRT(2)*Vin_rms_min*(SIN($Q304)/Vout))))))","v":0.29051398917854},{"$f":"(H$5*((90/$G$35)*(90/$G$35))/2)*(1+(SQRT(1+(4/(H$5*((90/$G$35)*(90/$G$35))))*$H$40*(1-(SQRT(2)*Vin_rms_min*(SIN($Q304)/Vout))))))","v":0.27941139959927},{"$f":"(I$5*((90/$G$35)*(90/$G$35))/2)*(1+(SQRT(1+(4/(I$5*((90/$G$35)*(90/$G$35))))*$I$40*(1-(SQRT(2)*Vin_rms_min*(SIN($Q304)/Vout))))))","v":0.272913517457937},{"$f":"(J$5*((90/$G$35)*(90/$G$35))/2)*(1+(SQRT(1+(4/(J$5*((90/$G$35)*(90/$G$35))))*$J$40*(1-(SQRT(2)*Vin_rms_min*(SIN($Q304)/Vout))))))","v":0.220836119361824},{"$f":"(K$5*((90/$G$35)*(90/$G$35))/2)*(1+(SQRT(1+(4/(K$5*((90/$G$35)*(90/$G$35))))*$K$40*(1-(SQRT(2)*Vin_rms_min*(SIN($Q304)/Vout))))))","v":0.298163788127197},{"$f":"(L$5*((90/$G$35)*(90/$G$35))/2)*(1+(SQRT(1+(4/(L$5*((90/$G$35)*(90/$G$35))))*$L$40*(1-(SQRT(2)*Vin_rms_min*(SIN($Q304)/Vout))))))","v":0.39755171750293},null,{"$f":"R619*ABS(1/(Vout/(SQRT(2)*$C$26*SIN($Q304))))","v":0.0171864151227198},{"$f":"S619*ABS(1/(Vout/(SQRT(2)*$C$26*SIN($Q304))))","v":0.016529600922529},{"$f":"T619*ABS(1/(Vout/(SQRT(2)*$C$26*SIN($Q304))))","v":0.0161451949935229},{"$f":"U619*ABS(1/(Vout/(SQRT(2)*$C$26*SIN($Q304))))","v":0.0130643664774101},{"$f":"V619*ABS(1/(Vout/(SQRT(2)*$C$26*SIN($Q304))))","v":0.0176389668938366},{"$f":"W619*ABS(1/(Vout/(SQRT(2)*$C$26*SIN($Q304))))","v":0.0235186225251155},null,{"$f":"1/(0.0000128*(R619+Y619+$G$40))","v":34928.683273702},{"$f":"1/(0.0000128*(S619+Z619+$H$40))","v":75450.9430866942},{"$f":"1/(0.0000128*(T619+AA619+$I$40))","v":98810.0159647532},{"$f":"1/(0.0000128*(U619+AB619+$J$40))","v":300827.315542116},{"$f":"1/(0.0000128*(V619+AC619+$K$40))","v":247385.42890418},{"$f":"1/(0.0000128*(W619+AD619+$L$40))","v":185539.071678135}]
[null,null,null,null,null,null,null,null,null,null,null,null,null,null,null,null,null,{"$f":"(G$5*((90/$G$35)*(90/$G$35))/2)*(1+(SQRT(1+(4/(G$5*((90/$G$35)*(90/$G$35))))*$G$40*(1-(SQRT(2)*Vin_rms_min*(SIN($Q305)/Vout))))))","v":0.290949049983551},{"$f":"(H$5*((90/$G$35)*(90/$G$35))/2)*(1+(SQRT(1+(4/(H$5*((90/$G$35)*(90/$G$35))))*$H$40*(1-(SQRT(2)*Vin_rms_min*(SIN($Q305)/Vout))))))","v":0.27978809572321},{"$f":"(I$5*((90/$G$35)*(90/$G$35))/2)*(1+(SQRT(1+(4/(I$5*((90/$G$35)*(90/$G$35))))*$I$40*(1-(SQRT(2)*Vin_rms_min*(SIN($Q305)/Vout))))))","v":0.273256431069665},{"$f":"(J$5*((90/$G$35)*(90/$G$35))/2)*(1+(SQRT(1+(4/(J$5*((90/$G$35)*(90/$G$35))))*$J$40*(1-(SQRT(2)*Vin_rms_min*(SIN($Q305)/Vout))))))","v":0.220900988118468},{"$f":"(K$5*((90/$G$35)*(90/$G$35))/2)*(1+(SQRT(1+(4/(K$5*((90/$G$35)*(90/$G$35))))*$K$40*(1-(SQRT(2)*Vin_rms_min*(SIN($Q305)/Vout))))))","v":0.298163788127197},{"$f":"(L$5*((90/$G$35)*(90/$G$35))/2)*(1+(SQRT(1+(4/(L$5*((90/$G$35)*(90/$G$35))))*$L$40*(1-(SQRT(2)*Vin_rms_min*(SIN($Q305)/Vout))))))","v":0.39755171750293},null,{"$f":"R620*ABS(1/(Vout/(SQRT(2)*$C$26*SIN($Q305))))","v":0.0161554402168824},{"$f":"S620*ABS(1/(Vout/(SQRT(2)*$C$26*SIN($Q305))))","v":0.0155357092731777},{"$f":"T620*ABS(1/(Vout/(SQRT(2)*$C$26*SIN($Q305))))","v":0.0151730274983685},{"$f":"U620*ABS(1/(Vout/(SQRT(2)*$C$26*SIN($Q305))))","v":0.0122659025956604},{"$f":"V620*ABS(1/(Vout/(SQRT(2)*$C$26*SIN($Q305))))","v":0.0165560508075227},{"$f":"W620*ABS(1/(Vout/(SQRT(2)*$C$26*SIN($Q305))))","v":0.0220747344100303},null,{"$f":"1/(0.0000128*(R620+Y620+$G$40))","v":34937.9916468024},{"$f":"1/(0.0000128*(S620+Z620+$H$40))","v":75495.9439691984},{"$f":"1/(0.0000128*(T620+AA620+$I$40))","v":98888.7175696022},{"$f":"1/(0.0000128*(U620+AB620+$J$40))","v":301679.49186308},{"$f":"1/(0.0000128*(V620+AC620+$K$40))","v":248236.65474805},{"$f":"1/(0.0000128*(W620+AD620+$L$40))","v":186177.491061037}]
[null,null,null,null,null,null,null,null,null,null,null,null,null,null,null,null,null,{"$f":"(G$5*((90/$G$35)*(90/$G$35))/2)*(1+(SQRT(1+(4/(G$5*((90/$G$35)*(90/$G$35))))*$G$40*(1-(SQRT(2)*Vin_rms_min*(SIN($Q306)/Vout))))))","v":0.2913840771831},{"$f":"(H$5*((90/$G$35)*(90/$G$35))/2)*(1+(SQRT(1+(4/(H$5*((90/$G$35)*(90/$G$35))))*$H$40*(1-(SQRT(2)*Vin_rms_min*(SIN($Q306)/Vout))))))","v":0.280164776154285},{"$f":"(I$5*((90/$G$35)*(90/$G$35))/2)*(1+(SQRT(1+(4/(I$5*((90/$G$35)*(90/$G$35))))*$I$40*(1-(SQRT(2)*Vin_rms_min*(SIN($Q306)/Vout))))))","v":0.273599342556545},{"$f":"(J$5*((90/$G$35)*(90/$G$35))/2)*(1+(SQRT(1+(4/(J$5*((90/$G$35)*(90/$G$35))))*$J$40*(1-(SQRT(2)*Vin_rms_min*(SIN($Q306)/Vout))))))","v":0.220965921357645},{"$f":"(K$5*((90/$G$35)*(90/$G$35))/2)*(1+(SQRT(1+(4/(K$5*((90/$G$35)*(90/$G$35))))*$K$40*(1-(SQRT(2)*Vin_rms_min*(SIN($Q306)/Vout))))))","v":0.298163788127197},{"$f":"(L$5*((90/$G$35)*(90/$G$35))/2)*(1+(SQRT(1+(4/(L$5*((90/$G$35)*(90/$G$35))))*$L$40*(1-(SQRT(2)*Vin_rms_min*(SIN($Q306)/Vout))))))","v":0.39755171750293},null,{"$f":"R621*ABS(1/(Vout/(SQRT(2)*$C$26*SIN($Q306))))","v":0.0151196853824768},{"$f":"S621*ABS(1/(Vout/(SQRT(2)*$C$26*SIN($Q306))))","v":0.0145375248766356},{"$f":"T621*ABS(1/(Vout/(SQRT(2)*$C$26*SIN($Q306))))","v":0.0141968498083305},{"$f":"U621*ABS(1/(Vout/(SQRT(2)*$C$26*SIN($Q306))))","v":0.0114657439194158},{"$f":"V621*ABS(1/(Vout/(SQRT(2)*$C$26*SIN($Q306))))","v":0.0154714791299247},{"$f":"W621*ABS(1/(Vout/(SQRT(2)*$C$26*SIN($Q306))))","v":0.0206286388398996},null,{"$f":"1/(0.0000128*(R621+Y621+$G$40))","v":34947.3802318006},{"$f":"1/(0.0000128*(S621+Z621+$H$40))","v":75541.313263491},{"$f":"1/(0.0000128*(T621+AA621+$I$40))","v":98968.0476744547},{"$f":"1/(0.0000128*(U621+AB621+$J$40))","v":302538.419973315},{"$f":"1/(0.0000128*(V621+AC621+$K$40))","v":249095.07366068},{"$f":"1/(0.0000128*(W621+AD621+$L$40))","v":186821.30524551}]
[null,null,null,null,null,null,null,null,null,null,null,null,null,null,null,null,null,{"$f":"(G$5*((90/$G$35)*(90/$G$35))/2)*(1+(SQRT(1+(4/(G$5*((90/$G$35)*(90/$G$35))))*$G$40*(1-(SQRT(2)*Vin_rms_min*(SIN($Q307)/Vout))))))","v":0.291819027540483},{"$f":"(H$5*((90/$G$35)*(90/$G$35))/2)*(1+(SQRT(1+(4/(H$5*((90/$G$35)*(90/$G$35))))*$H$40*(1-(SQRT(2)*Vin_rms_min*(SIN($Q307)/Vout))))))","v":0.280541403386799},{"$f":"(I$5*((90/$G$35)*(90/$G$35))/2)*(1+(SQRT(1+(4/(I$5*((90/$G$35)*(90/$G$35))))*$I$40*(1-(SQRT(2)*Vin_rms_min*(SIN($Q307)/Vout))))))","v":0.273942217716114},{"$f":"(J$5*((90/$G$35)*(90/$G$35))/2)*(1+(SQRT(1+(4/(J$5*((90/$G$35)*(90/$G$35))))*$J$40*(1-(SQRT(2)*Vin_rms_min*(SIN($Q307)/Vout))))))","v":0.221030912488026},{"$f":"(K$5*((90/$G$35)*(90/$G$35))/2)*(1+(SQRT(1+(4/(K$5*((90/$G$35)*(90/$G$35))))*$K$40*(1-(SQRT(2)*Vin_rms_min*(SIN($Q307)/Vout))))))","v":0.298163788127197},{"$f":"(L$5*((90/$G$35)*(90/$G$35))/2)*(1+(SQRT(1+(4/(L$5*((90/$G$35)*(90/$G$35))))*$L$40*(1-(SQRT(2)*Vin_rms_min*(SIN($Q307)/Vout))))))","v":0.39755171750293},null,{"$f":"R622*ABS(1/(Vout/(SQRT(2)*$C$26*SIN($Q307))))","v":0.0140792478019665},{"$f":"S622*ABS(1/(Vout/(SQRT(2)*$C$26*SIN($Q307))))","v":0.013535141866122},{"$f":"T622*ABS(1/(Vout/(SQRT(2)*$C$26*SIN($Q307))))","v":0.013216754230018},{"$f":"U622*ABS(1/(Vout/(SQRT(2)*$C$26*SIN($Q307))))","v":0.0106639687447453},{"$f":"V622*ABS(1/(Vout/(SQRT(2)*$C$26*SIN($Q307))))","v":0.0143853603173066},{"$f":"W622*ABS(1/(Vout/(SQRT(2)*$C$26*SIN($Q307))))","v":0.0191804804230754},null,{"$f":"1/(0.0000128*(R622+Y622+$G$40))","v":34956.8483102565},{"$f":"1/(0.0000128*(S622+Z622+$H$40))","v":75587.0480602696},{"$f":"1/(0.0000128*(T622+AA622+$I$40))","v":99048.0017073397},{"$f":"1/(0.0000128*(U622+AB622+$J$40))","v":303404.089533633},{"$f":"1/(0.0000128*(V622+AC622+$K$40))","v":249960.687427283},{"$f":"1/(0.0000128*(W622+AD622+$L$40))","v":187470.515570462}]
[null,null,null,null,null,null,null,null,null,null,null,null,null,null,null,null,null,{"$f":"(G$5*((90/$G$35)*(90/$G$35))/2)*(1+(SQRT(1+(4/(G$5*((90/$G$35)*(90/$G$35))))*$G$40*(1-(SQRT(2)*Vin_rms_min*(SIN($Q308)/Vout))))))","v":0.292253858033318},{"$f":"(H$5*((90/$G$35)*(90/$G$35))/2)*(1+(SQRT(1+(4/(H$5*((90/$G$35)*(90/$G$35))))*$H$40*(1-(SQRT(2)*Vin_rms_min*(SIN($Q308)/Vout))))))","v":0.280917940095802},{"$f":"(I$5*((90/$G$35)*(90/$G$35))/2)*(1+(SQRT(1+(4/(I$5*((90/$G$35)*(90/$G$35))))*$I$40*(1-(SQRT(2)*Vin_rms_min*(SIN($Q308)/Vout))))))","v":0.274285022506029},{"$f":"(J$5*((90/$G$35)*(90/$G$35))/2)*(1+(SQRT(1+(4/(J$5*((90/$G$35)*(90/$G$35))))*$J$40*(1-(SQRT(2)*Vin_rms_min*(SIN($Q308)/Vout))))))","v":0.221095954923019},{"$f":"(K$5*((90/$G$35)*(90/$G$35))/2)*(1+(SQRT(1+(4/(K$5*((90/$G$35)*(90/$G$35))))*$K$40*(1-(SQRT(2)*Vin_rms_min*(SIN($Q308)/Vout))))))","v":0.298163788127197},{"$f":"(L$5*((90/$G$35)*(90/$G$35))/2)*(1+(SQRT(1+(4/(L$5*((90/$G$35)*(90/$G$35))))*$L$40*(1-(SQRT(2)*Vin_rms_min*(SIN($Q308)/Vout))))))","v":0.39755171750293},null,{"$f":"R623*ABS(1/(Vout/(SQRT(2)*$C$26*SIN($Q308))))","v":0.0130342260838274},{"$f":"S623*ABS(1/(Vout/(SQRT(2)*$C$26*SIN($Q308))))","v":0.0125286556244344},{"$f":"T623*ABS(1/(Vout/(SQRT(2)*$C$26*SIN($Q308))))","v":0.0122328342175168},{"$f":"U623*ABS(1/(Vout/(SQRT(2)*$C$26*SIN($Q308))))","v":0.00986065567133694},{"$f":"V623*ABS(1/(Vout/(SQRT(2)*$C$26*SIN($Q308))))","v":0.0132978029806445},{"$f":"W623*ABS(1/(Vout/(SQRT(2)*$C$26*SIN($Q308))))","v":0.0177304039741926},null,{"$f":"1/(0.0000128*(R623+Y623+$G$40))","v":34966.395137389},{"$f":"1/(0.0000128*(S623+Z623+$H$40))","v":75633.145337515},{"$f":"1/(0.0000128*(T623+AA623+$I$40))","v":99128.5749123744},{"$f":"1/(0.0000128*(U623+AB623+$J$40))","v":304276.489003152},{"$f":"1/(0.0000128*(V623+AC623+$K$40))","v":250833.496747115},{"$f":"1/(0.0000128*(W623+AD623+$L$40))","v":188125.122560336}]
[null,null,null,null,null,null,null,null,null,null,null,null,null,null,null,null,null,{"$f":"(G$5*((90/$G$35)*(90/$G$35))/2)*(1+(SQRT(1+(4/(G$5*((90/$G$35)*(90/$G$35))))*$G$40*(1-(SQRT(2)*Vin_rms_min*(SIN($Q309)/Vout))))))","v":0.292688525856006},{"$f":"(H$5*((90/$G$35)*(90/$G$35))/2)*(1+(SQRT(1+(4/(H$5*((90/$G$35)*(90/$G$35))))*$H$40*(1-(SQRT(2)*Vin_rms_min*(SIN($Q309)/Vout))))))","v":0.28129434913932},{"$f":"(I$5*((90/$G$35)*(90/$G$35))/2)*(1+(SQRT(1+(4/(I$5*((90/$G$35)*(90/$G$35))))*$I$40*(1-(SQRT(2)*Vin_rms_min*(SIN($Q309)/Vout))))))","v":0.274627723046187},{"$f":"(J$5*((90/$G$35)*(90/$G$35))/2)*(1+(SQRT(1+(4/(J$5*((90/$G$35)*(90/$G$35))))*$J$40*(1-(SQRT(2)*Vin_rms_min*(SIN($Q309)/Vout))))))","v":0.221161042081439},{"$f":"(K$5*((90/$G$35)*(90/$G$35))/2)*(1+(SQRT(1+(4/(K$5*((90/$G$35)*(90/$G$35))))*$K$40*(1-(SQRT(2)*Vin_rms_min*(SIN($Q309)/Vout))))))","v":0.298163788127197},{"$f":"(L$5*((90/$G$35)*(90/$G$35))/2)*(1+(SQRT(1+(4/(L$5*((90/$G$35)*(90/$G$35))))*$L$40*(1-(SQRT(2)*Vin_rms_min*(SIN($Q309)/Vout))))))","v":0.39755171750293},null,{"$f":"R624*ABS(1/(Vout/(SQRT(2)*$C$26*SIN($Q309))))","v":0.0119847202510077},{"$f":"S624*ABS(1/(Vout/(SQRT(2)*$C$26*SIN($Q309))))","v":0.0115181627730859},{"$f":"T624*ABS(1/(Vout/(SQRT(2)*$C$26*SIN($Q309))))","v":0.0112451843619555},{"$f":"U624*ABS(1/(Vout/(SQRT(2)*$C$26*SIN($Q309))))","v":0.00905588359507942},{"$f":"V624*ABS(1/(Vout/(SQRT(2)*$C$26*SIN($Q309))))","v":0.0122089158747658},{"$f":"W624*ABS(1/(Vout/(SQRT(2)*$C$26*SIN($Q309))))","v":0.0162785544996877},null,{"$f":"1/(0.0000128*(R624+Y624+$G$40))","v":34976.0199421116},{"$f":"1/(0.0000128*(S624+Z624+$H$40))","v":75679.6019601369},{"$f":"1/(0.0000128*(T624+AA624+$I$40))","v":99209.7623486979},{"$f":"1/(0.0000128*(U624+AB624+$J$40))","v":305155.605605202},{"$f":"1/(0.0000128*(V624+AC624+$K$40))","v":251713.501195987},{"$f":"1/(0.0000128*(W624+AD624+$L$40))","v":188785.125896991}]
[null,null,null,null,null,null,null,null,null,null,null,null,null,null,null,null,null,{"$f":"(G$5*((90/$G$35)*(90/$G$35))/2)*(1+(SQRT(1+(4/(G$5*((90/$G$35)*(90/$G$35))))*$G$40*(1-(SQRT(2)*Vin_rms_min*(SIN($Q310)/Vout))))))","v":0.293122988422122},{"$f":"(H$5*((90/$G$35)*(90/$G$35))/2)*(1+(SQRT(1+(4/(H$5*((90/$G$35)*(90/$G$35))))*$H$40*(1-(SQRT(2)*Vin_rms_min*(SIN($Q310)/Vout))))))","v":0.281670593560513},{"$f":"(I$5*((90/$G$35)*(90/$G$35))/2)*(1+(SQRT(1+(4/(I$5*((90/$G$35)*(90/$G$35))))*$I$40*(1-(SQRT(2)*Vin_rms_min*(SIN($Q310)/Vout))))))","v":0.274970285620767},{"$f":"(J$5*((90/$G$35)*(90/$G$35))/2)*(1+(SQRT(1+(4/(J$5*((90/$G$35)*(90/$G$35))))*$J$40*(1-(SQRT(2)*Vin_rms_min*(SIN($Q310)/Vout))))))","v":0.221226167388168},{"$f":"(K$5*((90/$G$35)*(90/$G$35))/2)*(1+(SQRT(1+(4/(K$5*((90/$G$35)*(90/$G$35))))*$K$40*(1-(SQRT(2)*Vin_rms_min*(SIN($Q310)/Vout))))))","v":0.298163788127197},{"$f":"(L$5*((90/$G$35)*(90/$G$35))/2)*(1+(SQRT(1+(4/(L$5*((90/$G$35)*(90/$G$35))))*$L$40*(1-(SQRT(2)*Vin_rms_min*(SIN($Q310)/Vout))))))","v":0.39755171750293},null,{"$f":"R625*ABS(1/(Vout/(SQRT(2)*$C$26*SIN($Q310))))","v":0.0109308317288931},{"$f":"S625*ABS(1/(Vout/(SQRT(2)*$C$26*SIN($Q310))))","v":0.0105037611610098},{"$f":"T625*ABS(1/(Vout/(SQRT(2)*$C$26*SIN($Q310))))","v":0.0102539003806753},{"$f":"U625*ABS(1/(Vout/(SQRT(2)*$C$26*SIN($Q310))))","v":0.00824973170055709},{"$f":"V625*ABS(1/(Vout/(SQRT(2)*$C$26*SIN($Q310))))","v":0.0111188078874736},{"$f":"W625*ABS(1/(Vout/(SQRT(2)*$C$26*SIN($Q310))))","v":0.0148250771832982},null,{"$f":"1/(0.0000128*(R625+Y625+$G$40))","v":34985.7219270768},{"$f":"1/(0.0000128*(S625+Z625+$H$40))","v":75726.4146796477},{"$f":"1/(0.0000128*(T625+AA625+$I$40))","v":99291.5588894427},{"$f":"1/(0.0000128*(U625+AB625+$J$40))","v":306041.425292743},{"$f":"1/(0.0000128*(V625+AC625+$K$40))","v":252600.699188046},{"$f":"1/(0.0000128*(W625+AD625+$L$40))","v":189450.524391035}]
[null,null,null,null,null,null,null,null,null,null,null,null,null,null,null,null,null,{"$f":"(G$5*((90/$G$35)*(90/$G$35))/2)*(1+(SQRT(1+(4/(G$5*((90/$G$35)*(90/$G$35))))*$G$40*(1-(SQRT(2)*Vin_rms_min*(SIN($Q311)/Vout))))))","v":0.293557203366718},{"$f":"(H$5*((90/$G$35)*(90/$G$35))/2)*(1+(SQRT(1+(4/(H$5*((90/$G$35)*(90/$G$35))))*$H$40*(1-(SQRT(2)*Vin_rms_min*(SIN($Q311)/Vout))))))","v":0.282046636589767},{"$f":"(I$5*((90/$G$35)*(90/$G$35))/2)*(1+(SQRT(1+(4/(I$5*((90/$G$35)*(90/$G$35))))*$I$40*(1-(SQRT(2)*Vin_rms_min*(SIN($Q311)/Vout))))))","v":0.27531267668022},{"$f":"(J$5*((90/$G$35)*(90/$G$35))/2)*(1+(SQRT(1+(4/(J$5*((90/$G$35)*(90/$G$35))))*$J$40*(1-(SQRT(2)*Vin_rms_min*(SIN($Q311)/Vout))))))","v":0.221291324274809},{"$f":"(K$5*((90/$G$35)*(90/$G$35))/2)*(1+(SQRT(1+(4/(K$5*((90/$G$35)*(90/$G$35))))*$K$40*(1-(SQRT(2)*Vin_rms_min*(SIN($Q311)/Vout))))))","v":0.298163788127197},{"$f":"(L$5*((90/$G$35)*(90/$G$35))/2)*(1+(SQRT(1+(4/(L$5*((90/$G$35)*(90/$G$35))))*$L$40*(1-(SQRT(2)*Vin_rms_min*(SIN($Q311)/Vout))))))","v":0.39755171750293},null,{"$f":"R626*ABS(1/(Vout/(SQRT(2)*$C$26*SIN($Q311))))","v":0.00987266333278127},{"$f":"S626*ABS(1/(Vout/(SQRT(2)*$C$26*SIN($Q311))))","v":0.00948554985283587},{"$f":"T626*ABS(1/(Vout/(SQRT(2)*$C$26*SIN($Q311))))","v":0.00925907910600717},{"$f":"U626*ABS(1/(Vout/(SQRT(2)*$C$26*SIN($Q311))))","v":0.00744227945345731},{"$f":"V626*ABS(1/(Vout/(SQRT(2)*$C$26*SIN($Q311))))","v":0.0100275880286584},{"$f":"W626*ABS(1/(Vout/(SQRT(2)*$C$26*SIN($Q311))))","v":0.0133701173715446},null,{"$f":"1/(0.0000128*(R626+Y626+$G$40))","v":34995.5002687286},{"$f":"1/(0.0000128*(S626+Z626+$H$40))","v":75773.5801338624},{"$f":"1/(0.0000128*(T626+AA626+$I$40))","v":99373.9592207424},{"$f":"1/(0.0000128*(U626+AB626+$J$40))","v":306933.932713279},{"$f":"1/(0.0000128*(V626+AC626+$K$40))","v":253495.087936826},{"$f":"1/(0.0000128*(W626+AD626+$L$40))","v":190121.315952619}]
[null,null,null,null,null,null,null,null,null,null,null,null,null,null,null,null,null,{"$f":"(G$5*((90/$G$35)*(90/$G$35))/2)*(1+(SQRT(1+(4/(G$5*((90/$G$35)*(90/$G$35))))*$G$40*(1-(SQRT(2)*Vin_rms_min*(SIN($Q312)/Vout))))))","v":0.293991128548539},{"$f":"(H$5*((90/$G$35)*(90/$G$35))/2)*(1+(SQRT(1+(4/(H$5*((90/$G$35)*(90/$G$35))))*$H$40*(1-(SQRT(2)*Vin_rms_min*(SIN($Q312)/Vout))))))","v":0.282422441646713},{"$f":"(I$5*((90/$G$35)*(90/$G$35))/2)*(1+(SQRT(1+(4/(I$5*((90/$G$35)*(90/$G$35))))*$I$40*(1-(SQRT(2)*Vin_rms_min*(SIN($Q312)/Vout))))))","v":0.275654862843193},{"$f":"(J$5*((90/$G$35)*(90/$G$35))/2)*(1+(SQRT(1+(4/(J$5*((90/$G$35)*(90/$G$35))))*$J$40*(1-(SQRT(2)*Vin_rms_min*(SIN($Q312)/Vout))))))","v":0.221356506180338},{"$f":"(K$5*((90/$G$35)*(90/$G$35))/2)*(1+(SQRT(1+(4/(K$5*((90/$G$35)*(90/$G$35))))*$K$40*(1-(SQRT(2)*Vin_rms_min*(SIN($Q312)/Vout))))))","v":0.298163788127197},{"$f":"(L$5*((90/$G$35)*(90/$G$35))/2)*(1+(SQRT(1+(4/(L$5*((90/$G$35)*(90/$G$35))))*$L$40*(1-(SQRT(2)*Vin_rms_min*(SIN($Q312)/Vout))))))","v":0.39755171750293},null,{"$f":"R627*ABS(1/(Vout/(SQRT(2)*$C$26*SIN($Q312))))","v":0.00881031925486992},{"$f":"S627*ABS(1/(Vout/(SQRT(2)*$C$26*SIN($Q312))))","v":0.00846362911674255},{"$f":"T627*ABS(1/(Vout/(SQRT(2)*$C$26*SIN($Q312))))","v":0.00826081847365997},{"$f":"U627*ABS(1/(Vout/(SQRT(2)*$C$26*SIN($Q312))))","v":0.00663360659289208},{"$f":"V627*ABS(1/(Vout/(SQRT(2)*$C$26*SIN($Q312))))","v":0.00893536541939663},{"$f":"W627*ABS(1/(Vout/(SQRT(2)*$C$26*SIN($Q312))))","v":0.0119138205591955},null,{"$f":"1/(0.0000128*(R627+Y627+$G$40))","v":35005.3541173622},{"$f":"1/(0.0000128*(S627+Z627+$H$40))","v":75821.0948466277},{"$f":"1/(0.0000128*(T627+AA627+$I$40))","v":99456.9578407776},{"$f":"1/(0.0000128*(U627+AB627+$J$40))","v":307833.111173275},{"$f":"1/(0.0000128*(V627+AC627+$K$40))","v":254396.663415572},{"$f":"1/(0.0000128*(W627+AD627+$L$40))","v":190797.497561679}]
[null,null,null,null,null,null,null,null,null,null,null,null,null,null,null,null,null,{"$f":"(G$5*((90/$G$35)*(90/$G$35))/2)*(1+(SQRT(1+(4/(G$5*((90/$G$35)*(90/$G$35))))*$G$40*(1-(SQRT(2)*Vin_rms_min*(SIN($Q313)/Vout))))))","v":0.294424722052173},{"$f":"(H$5*((90/$G$35)*(90/$G$35))/2)*(1+(SQRT(1+(4/(H$5*((90/$G$35)*(90/$G$35))))*$H$40*(1-(SQRT(2)*Vin_rms_min*(SIN($Q313)/Vout))))))","v":0.282797972342175},{"$f":"(I$5*((90/$G$35)*(90/$G$35))/2)*(1+(SQRT(1+(4/(I$5*((90/$G$35)*(90/$G$35))))*$I$40*(1-(SQRT(2)*Vin_rms_min*(SIN($Q313)/Vout))))))","v":0.275996810898387},{"$f":"(J$5*((90/$G$35)*(90/$G$35))/2)*(1+(SQRT(1+(4/(J$5*((90/$G$35)*(90/$G$35))))*$J$40*(1-(SQRT(2)*Vin_rms_min*(SIN($Q313)/Vout))))))","v":0.221421706551755},{"$f":"(K$5*((90/$G$35)*(90/$G$35))/2)*(1+(SQRT(1+(4/(K$5*((90/$G$35)*(90/$G$35))))*$K$40*(1-(SQRT(2)*Vin_rms_min*(SIN($Q313)/Vout))))))","v":0.298163788127197},{"$f":"(L$5*((90/$G$35)*(90/$G$35))/2)*(1+(SQRT(1+(4/(L$5*((90/$G$35)*(90/$G$35))))*$L$40*(1-(SQRT(2)*Vin_rms_min*(SIN($Q313)/Vout))))))","v":0.39755171750293},null,{"$f":"R628*ABS(1/(Vout/(SQRT(2)*$C$26*SIN($Q313))))","v":0.00774390505076614},{"$f":"S628*ABS(1/(Vout/(SQRT(2)*$C$26*SIN($Q313))))","v":0.00743810041189043},{"$f":"T628*ABS(1/(Vout/(SQRT(2)*$C$26*SIN($Q313))))","v":0.00725921751072462},{"$f":"U628*ABS(1/(Vout/(SQRT(2)*$C$26*SIN($Q313))))","v":0.00582379312363431},{"$f":"V628*ABS(1/(Vout/(SQRT(2)*$C$26*SIN($Q313))))","v":0.00784224928103901},{"$f":"W628*ABS(1/(Vout/(SQRT(2)*$C$26*SIN($Q313))))","v":0.0104563323747187},null,{"$f":"1/(0.0000128*(R628+Y628+$G$40))","v":35015.2825971927},{"$f":"1/(0.0000128*(S628+Z628+$H$40))","v":75868.9552275778},{"$f":"1/(0.0000128*(T628+AA628+$I$40))","v":99540.549058861},{"$f":"1/(0.0000128*(U628+AB628+$J$40))","v":308738.942602101},{"$f":"1/(0.0000128*(V628+AC628+$K$40))","v":255305.420316839},{"$f":"1/(0.0000128*(W628+AD628+$L$40))","v":191479.065237629}]
[null,null,null,null,null,null,null,null,null,null,null,null,null,null,null,null,null,{"$f":"(G$5*((90/$G$35)*(90/$G$35))/2)*(1+(SQRT(1+(4/(G$5*((90/$G$35)*(90/$G$35))))*$G$40*(1-(SQRT(2)*Vin_rms_min*(SIN($Q314)/Vout))))))","v":0.294857942190118},{"$f":"(H$5*((90/$G$35)*(90/$G$35))/2)*(1+(SQRT(1+(4/(H$5*((90/$G$35)*(90/$G$35))))*$H$40*(1-(SQRT(2)*Vin_rms_min*(SIN($Q314)/Vout))))))","v":0.283173192480059},{"$f":"(I$5*((90/$G$35)*(90/$G$35))/2)*(1+(SQRT(1+(4/(I$5*((90/$G$35)*(90/$G$35))))*$I$40*(1-(SQRT(2)*Vin_rms_min*(SIN($Q314)/Vout))))))","v":0.276338487806358},{"$f":"(J$5*((90/$G$35)*(90/$G$35))/2)*(1+(SQRT(1+(4/(J$5*((90/$G$35)*(90/$G$35))))*$J$40*(1-(SQRT(2)*Vin_rms_min*(SIN($Q314)/Vout))))))","v":0.221486918844715},{"$f":"(K$5*((90/$G$35)*(90/$G$35))/2)*(1+(SQRT(1+(4/(K$5*((90/$G$35)*(90/$G$35))))*$K$40*(1-(SQRT(2)*Vin_rms_min*(SIN($Q314)/Vout))))))","v":0.298163788127197},{"$f":"(L$5*((90/$G$35)*(90/$G$35))/2)*(1+(SQRT(1+(4/(L$5*((90/$G$35)*(90/$G$35))))*$L$40*(1-(SQRT(2)*Vin_rms_min*(SIN($Q314)/Vout))))))","v":0.39755171750293},null,{"$f":"R629*ABS(1/(Vout/(SQRT(2)*$C$26*SIN($Q314))))","v":0.00667352762552017},{"$f":"S629*ABS(1/(Vout/(SQRT(2)*$C$26*SIN($Q314))))","v":0.006409066375441},{"$f":"T629*ABS(1/(Vout/(SQRT(2)*$C$26*SIN($Q314))))","v":0.00625437632329785},{"$f":"U629*ABS(1/(Vout/(SQRT(2)*$C$26*SIN($Q314))))","v":0.00501291930826984},{"$f":"V629*ABS(1/(Vout/(SQRT(2)*$C$26*SIN($Q314))))","v":0.00674834892428847},{"$f":"W629*ABS(1/(Vout/(SQRT(2)*$C$26*SIN($Q314))))","v":0.00899779856571797},null,{"$f":"1/(0.0000128*(R629+Y629+$G$40))","v":35025.2848064311},{"$f":"1/(0.0000128*(S629+Z629+$H$40))","v":75917.1575719197},{"$f":"1/(0.0000128*(T629+AA629+$I$40))","v":99624.7269945612},{"$f":"1/(0.0000128*(U629+AB629+$J$40))","v":309651.407515481},{"$f":"1/(0.0000128*(V629+AC629+$K$40))","v":256221.352011344},{"$f":"1/(0.0000128*(W629+AD629+$L$40))","v":192166.014008508}]
[null,null,null,null,null,null,null,null,null,null,null,null,null,null,null,null,null,{"$f":"(G$5*((90/$G$35)*(90/$G$35))/2)*(1+(SQRT(1+(4/(G$5*((90/$G$35)*(90/$G$35))))*$G$40*(1-(SQRT(2)*Vin_rms_min*(SIN($Q315)/Vout))))))","v":0.295290747504766},{"$f":"(H$5*((90/$G$35)*(90/$G$35))/2)*(1+(SQRT(1+(4/(H$5*((90/$G$35)*(90/$G$35))))*$H$40*(1-(SQRT(2)*Vin_rms_min*(SIN($Q315)/Vout))))))","v":0.283548066059167},{"$f":"(I$5*((90/$G$35)*(90/$G$35))/2)*(1+(SQRT(1+(4/(I$5*((90/$G$35)*(90/$G$35))))*$I$40*(1-(SQRT(2)*Vin_rms_min*(SIN($Q315)/Vout))))))","v":0.276679860701259},{"$f":"(J$5*((90/$G$35)*(90/$G$35))/2)*(1+(SQRT(1+(4/(J$5*((90/$G$35)*(90/$G$35))))*$J$40*(1-(SQRT(2)*Vin_rms_min*(SIN($Q315)/Vout))))))","v":0.221552136524177},{"$f":"(K$5*((90/$G$35)*(90/$G$35))/2)*(1+(SQRT(1+(4/(K$5*((90/$G$35)*(90/$G$35))))*$K$40*(1-(SQRT(2)*Vin_rms_min*(SIN($Q315)/Vout))))))","v":0.298163788127197},{"$f":"(L$5*((90/$G$35)*(90/$G$35))/2)*(1+(SQRT(1+(4/(L$5*((90/$G$35)*(90/$G$35))))*$L$40*(1-(SQRT(2)*Vin_rms_min*(SIN($Q315)/Vout))))))","v":0.39755171750293},null,{"$f":"R630*ABS(1/(Vout/(SQRT(2)*$C$26*SIN($Q315))))","v":0.00559929521919035},{"$f":"S630*ABS(1/(Vout/(SQRT(2)*$C$26*SIN($Q315))))","v":0.00537663080916593},{"$f":"T630*ABS(1/(Vout/(SQRT(2)*$C$26*SIN($Q315))))","v":0.00524639608373036},{"$f":"U630*ABS(1/(Vout/(SQRT(2)*$C$26*SIN($Q315))))","v":0.0042010656592659},{"$f":"V630*ABS(1/(Vout/(SQRT(2)*$C$26*SIN($Q315))))","v":0.00565377373826911},{"$f":"W630*ABS(1/(Vout/(SQRT(2)*$C$26*SIN($Q315))))","v":0.00753836498435882},null,{"$f":"1/(0.0000128*(R630+Y630+$G$40))","v":35035.359817368},{"$f":"1/(0.0000128*(S630+Z630+$H$40))","v":75965.6980602462},{"$f":"1/(0.0000128*(T630+AA630+$I$40))","v":99709.4855768676},{"$f":"1/(0.0000128*(U630+AB630+$J$40))","v":310570.484978475},{"$f":"1/(0.0000128*(V630+AC630+$K$40))","v":257144.450506105},{"$f":"1/(0.0000128*(W630+AD630+$L$40))","v":192858.337879579}]
[null,null,null,null,null,null,null,null,null,null,null,null,null,null,null,null,null,{"$f":"(G$5*((90/$G$35)*(90/$G$35))/2)*(1+(SQRT(1+(4/(G$5*((90/$G$35)*(90/$G$35))))*$G$40*(1-(SQRT(2)*Vin_rms_min*(SIN($Q316)/Vout))))))","v":0.295723096770329},{"$f":"(H$5*((90/$G$35)*(90/$G$35))/2)*(1+(SQRT(1+(4/(H$5*((90/$G$35)*(90/$G$35))))*$H$40*(1-(SQRT(2)*Vin_rms_min*(SIN($Q316)/Vout))))))","v":0.283922557274959},{"$f":"(I$5*((90/$G$35)*(90/$G$35))/2)*(1+(SQRT(1+(4/(I$5*((90/$G$35)*(90/$G$35))))*$I$40*(1-(SQRT(2)*Vin_rms_min*(SIN($Q316)/Vout))))))","v":0.277020896892526},{"$f":"(J$5*((90/$G$35)*(90/$G$35))/2)*(1+(SQRT(1+(4/(J$5*((90/$G$35)*(90/$G$35))))*$J$40*(1-(SQRT(2)*Vin_rms_min*(SIN($Q316)/Vout))))))","v":0.221617353065022},{"$f":"(K$5*((90/$G$35)*(90/$G$35))/2)*(1+(SQRT(1+(4/(K$5*((90/$G$35)*(90/$G$35))))*$K$40*(1-(SQRT(2)*Vin_rms_min*(SIN($Q316)/Vout))))))","v":0.298163788127197},{"$f":"(L$5*((90/$G$35)*(90/$G$35))/2)*(1+(SQRT(1+(4/(L$5*((90/$G$35)*(90/$G$35))))*$L$40*(1-(SQRT(2)*Vin_rms_min*(SIN($Q316)/Vout))))))","v":0.39755171750293},null,{"$f":"R631*ABS(1/(Vout/(SQRT(2)*$C$26*SIN($Q316))))","v":0.00452131739194451},{"$f":"S631*ABS(1/(Vout/(SQRT(2)*$C$26*SIN($Q316))))","v":0.00434089866565144},{"$f":"T631*ABS(1/(Vout/(SQRT(2)*$C$26*SIN($Q316))))","v":0.00423537901750362},{"$f":"U631*ABS(1/(Vout/(SQRT(2)*$C$26*SIN($Q316))))","v":0.00338831293095712},{"$f":"V631*ABS(1/(Vout/(SQRT(2)*$C$26*SIN($Q316))))","v":0.00455863317958739},{"$f":"W631*ABS(1/(Vout/(SQRT(2)*$C$26*SIN($Q316))))","v":0.00607817757278319},null,{"$f":"1/(0.0000128*(R631+Y631+$G$40))","v":35045.5066764667},{"$f":"1/(0.0000128*(S631+Z631+$H$40))","v":76014.5727583784},{"$f":"1/(0.0000128*(T631+AA631+$I$40))","v":99794.8185433958},{"$f":"1/(0.0000128*(U631+AB631+$J$40))","v":311496.15256799},{"$f":"1/(0.0000128*(V631+AC631+$K$40))","v":258074.706401831},{"$f":"1/(0.0000128*(W631+AD631+$L$40))","v":193556.029801374}]
[null,null,null,null,null,null,null,null,null,null,null,null,null,null,null,null,null,{"$f":"(G$5*((90/$G$35)*(90/$G$35))/2)*(1+(SQRT(1+(4/(G$5*((90/$G$35)*(90/$G$35))))*$G$40*(1-(SQRT(2)*Vin_rms_min*(SIN($Q317)/Vout))))))","v":0.296154948994683},{"$f":"(H$5*((90/$G$35)*(90/$G$35))/2)*(1+(SQRT(1+(4/(H$5*((90/$G$35)*(90/$G$35))))*$H$40*(1-(SQRT(2)*Vin_rms_min*(SIN($Q317)/Vout))))))","v":0.284296630521244},{"$f":"(I$5*((90/$G$35)*(90/$G$35))/2)*(1+(SQRT(1+(4/(I$5*((90/$G$35)*(90/$G$35))))*$I$40*(1-(SQRT(2)*Vin_rms_min*(SIN($Q317)/Vout))))))","v":0.2773615638665},{"$f":"(J$5*((90/$G$35)*(90/$G$35))/2)*(1+(SQRT(1+(4/(J$5*((90/$G$35)*(90/$G$35))))*$J$40*(1-(SQRT(2)*Vin_rms_min*(SIN($Q317)/Vout))))))","v":0.22168256195269},{"$f":"(K$5*((90/$G$35)*(90/$G$35))/2)*(1+(SQRT(1+(4/(K$5*((90/$G$35)*(90/$G$35))))*$K$40*(1-(SQRT(2)*Vin_rms_min*(SIN($Q317)/Vout))))))","v":0.298163788127197},{"$f":"(L$5*((90/$G$35)*(90/$G$35))/2)*(1+(SQRT(1+(4/(L$5*((90/$G$35)*(90/$G$35))))*$L$40*(1-(SQRT(2)*Vin_rms_min*(SIN($Q317)/Vout))))))","v":0.39755171750293},null,{"$f":"R632*ABS(1/(Vout/(SQRT(2)*$C$26*SIN($Q317))))","v":0.00343970500870356},{"$f":"S632*ABS(1/(Vout/(SQRT(2)*$C$26*SIN($Q317))))","v":0.0033019760341031},{"$f":"T632*ABS(1/(Vout/(SQRT(2)*$C$26*SIN($Q317))))","v":0.00322142838973993},{"$f":"U632*ABS(1/(Vout/(SQRT(2)*$C$26*SIN($Q317))))","v":0.00257474211144989},{"$f":"V632*ABS(1/(Vout/(SQRT(2)*$C$26*SIN($Q317))))","v":0.00346303676138656},{"$f":"W632*ABS(1/(Vout/(SQRT(2)*$C$26*SIN($Q317))))","v":0.00461738234851541},null,{"$f":"1/(0.0000128*(R632+Y632+$G$40))","v":35055.724404462},{"$f":"1/(0.0000128*(S632+Z632+$H$40))","v":76063.7776172371},{"$f":"1/(0.0000128*(T632+AA632+$I$40))","v":99880.7194396354},{"$f":"1/(0.0000128*(U632+AB632+$J$40))","v":312428.386334841},{"$f":"1/(0.0000128*(V632+AC632+$K$40))","v":259012.108849596},{"$f":"1/(0.0000128*(W632+AD632+$L$40))","v":194259.081637197}]
[null,null,null,null,null,null,null,null,null,null,null,null,null,null,null,null,null,{"$f":"(G$5*((90/$G$35)*(90/$G$35))/2)*(1+(SQRT(1+(4/(G$5*((90/$G$35)*(90/$G$35))))*$G$40*(1-(SQRT(2)*Vin_rms_min*(SIN($Q318)/Vout))))))","v":0.296586263421137},{"$f":"(H$5*((90/$G$35)*(90/$G$35))/2)*(1+(SQRT(1+(4/(H$5*((90/$G$35)*(90/$G$35))))*$H$40*(1-(SQRT(2)*Vin_rms_min*(SIN($Q318)/Vout))))))","v":0.284670250391812},{"$f":"(I$5*((90/$G$35)*(90/$G$35))/2)*(1+(SQRT(1+(4/(I$5*((90/$G$35)*(90/$G$35))))*$I$40*(1-(SQRT(2)*Vin_rms_min*(SIN($Q318)/Vout))))))","v":0.277701829288003},{"$f":"(J$5*((90/$G$35)*(90/$G$35))/2)*(1+(SQRT(1+(4/(J$5*((90/$G$35)*(90/$G$35))))*$J$40*(1-(SQRT(2)*Vin_rms_min*(SIN($Q318)/Vout))))))","v":0.221747756683794},{"$f":"(K$5*((90/$G$35)*(90/$G$35))/2)*(1+(SQRT(1+(4/(K$5*((90/$G$35)*(90/$G$35))))*$K$40*(1-(SQRT(2)*Vin_rms_min*(SIN($Q318)/Vout))))))","v":0.298163788127197},{"$f":"(L$5*((90/$G$35)*(90/$G$35))/2)*(1+(SQRT(1+(4/(L$5*((90/$G$35)*(90/$G$35))))*$L$40*(1-(SQRT(2)*Vin_rms_min*(SIN($Q318)/Vout))))))","v":0.39755171750293},null,{"$f":"R633*ABS(1/(Vout/(SQRT(2)*$C$26*SIN($Q318))))","v":0.0023545702233331},{"$f":"S633*ABS(1/(Vout/(SQRT(2)*$C$26*SIN($Q318))))","v":0.00225997012575589},{"$f":"T633*ABS(1/(Vout/(SQRT(2)*$C$26*SIN($Q318))))","v":0.00220464849135041},{"$f":"U633*ABS(1/(Vout/(SQRT(2)*$C$26*SIN($Q318))))","v":0.0017604344144462},{"$f":"V633*ABS(1/(Vout/(SQRT(2)*$C$26*SIN($Q318))))","v":0.00236709404239544},{"$f":"W633*ABS(1/(Vout/(SQRT(2)*$C$26*SIN($Q318))))","v":0.00315612538986058},null,{"$f":"1/(0.0000128*(R633+Y633+$G$40))","v":35066.0119964689},{"$f":"1/(0.0000128*(S633+Z633+$H$40))","v":76113.3084727437},{"$f":"1/(0.0000128*(T633+AA633+$I$40))","v":99967.1816182404},{"$f":"1/(0.0000128*(U633+AB633+$J$40))","v":313367.160765346},{"$f":"1/(0.0000128*(V633+AC633+$K$40))","v":259956.645506778},{"$f":"1/(0.0000128*(W633+AD633+$L$40))","v":194967.484130083}]
[null,null,null,null,null,null,null,null,null,null,null,null,null,null,null,null,null,{"$f":"(G$5*((90/$G$35)*(90/$G$35))/2)*(1+(SQRT(1+(4/(G$5*((90/$G$35)*(90/$G$35))))*$G$40*(1-(SQRT(2)*Vin_rms_min*(SIN($Q319)/Vout))))))","v":0.297016999530148},{"$f":"(H$5*((90/$G$35)*(90/$G$35))/2)*(1+(SQRT(1+(4/(H$5*((90/$G$35)*(90/$G$35))))*$H$40*(1-(SQRT(2)*Vin_rms_min*(SIN($Q319)/Vout))))))","v":0.285043381682006},{"$f":"(I$5*((90/$G$35)*(90/$G$35))/2)*(1+(SQRT(1+(4/(I$5*((90/$G$35)*(90/$G$35))))*$I$40*(1-(SQRT(2)*Vin_rms_min*(SIN($Q319)/Vout))))))","v":0.278041661001854},{"$f":"(J$5*((90/$G$35)*(90/$G$35))/2)*(1+(SQRT(1+(4/(J$5*((90/$G$35)*(90/$G$35))))*$J$40*(1-(SQRT(2)*Vin_rms_min*(SIN($Q319)/Vout))))))","v":0.221812930766739},{"$f":"(K$5*((90/$G$35)*(90/$G$35))/2)*(1+(SQRT(1+(4/(K$5*((90/$G$35)*(90/$G$35))))*$K$40*(1-(SQRT(2)*Vin_rms_min*(SIN($Q319)/Vout))))))","v":0.298163788127197},{"$f":"(L$5*((90/$G$35)*(90/$G$35))/2)*(1+(SQRT(1+(4/(L$5*((90/$G$35)*(90/$G$35))))*$L$40*(1-(SQRT(2)*Vin_rms_min*(SIN($Q319)/Vout))))))","v":0.39755171750293},null,{"$f":"R634*ABS(1/(Vout/(SQRT(2)*$C$26*SIN($Q319))))","v":0.0012660264623891},{"$f":"S634*ABS(1/(Vout/(SQRT(2)*$C$26*SIN($Q319))))","v":0.00121498925889481},{"$f":"T634*ABS(1/(Vout/(SQRT(2)*$C$26*SIN($Q319))))","v":0.00118514462482554},{"$f":"U634*ABS(1/(Vout/(SQRT(2)*$C$26*SIN($Q319))))","v":0.000945471270987865},{"$f":"V634*ABS(1/(Vout/(SQRT(2)*$C$26*SIN($Q319))))","v":0.00127091461597265},{"$f":"W634*ABS(1/(Vout/(SQRT(2)*$C$26*SIN($Q319))))","v":0.00169455282129687},null,{"$f":"1/(0.0000128*(R634+Y634+$G$40))","v":35076.3684220982},{"$f":"1/(0.0000128*(S634+Z634+$H$40))","v":76163.1610457519},{"$f":"1/(0.0000128*(T634+AA634+$I$40))","v":100054.198238364},{"$f":"1/(0.0000128*(U634+AB634+$J$40))","v":314312.448742498},{"$f":"1/(0.0000128*(V634+AC634+$K$40))","v":260908.302492277},{"$f":"1/(0.0000128*(W634+AD634+$L$40))","v":195681.226869208}]
[null,null,null,null,null,null,null,null,null,null,null,null,null,null,null,null,null,{"$f":"(G$5*((90/$G$35)*(90/$G$35))/2)*(1+(SQRT(1+(4/(G$5*((90/$G$35)*(90/$G$35))))*$G$40*(1-(SQRT(2)*Vin_rms_min*(SIN($Q320)/Vout))))))","v":0.297447117040957},{"$f":"(H$5*((90/$G$35)*(90/$G$35))/2)*(1+(SQRT(1+(4/(H$5*((90/$G$35)*(90/$G$35))))*$H$40*(1-(SQRT(2)*Vin_rms_min*(SIN($Q320)/Vout))))))","v":0.285415989390239},{"$f":"(I$5*((90/$G$35)*(90/$G$35))/2)*(1+(SQRT(1+(4/(I$5*((90/$G$35)*(90/$G$35))))*$I$40*(1-(SQRT(2)*Vin_rms_min*(SIN($Q320)/Vout))))))","v":0.278381027034328},{"$f":"(J$5*((90/$G$35)*(90/$G$35))/2)*(1+(SQRT(1+(4/(J$5*((90/$G$35)*(90/$G$35))))*$J$40*(1-(SQRT(2)*Vin_rms_min*(SIN($Q320)/Vout))))))","v":0.221878077722329},{"$f":"(K$5*((90/$G$35)*(90/$G$35))/2)*(1+(SQRT(1+(4/(K$5*((90/$G$35)*(90/$G$35))))*$K$40*(1-(SQRT(2)*Vin_rms_min*(SIN($Q320)/Vout))))))","v":0.298163788127197},{"$f":"(L$5*((90/$G$35)*(90/$G$35))/2)*(1+(SQRT(1+(4/(L$5*((90/$G$35)*(90/$G$35))))*$L$40*(1-(SQRT(2)*Vin_rms_min*(SIN($Q320)/Vout))))))","v":0.39755171750293},null,{"$f":"R635*ABS(1/(Vout/(SQRT(2)*$C$26*SIN($Q320))))","v":0.000174188408423451},{"$f":"S635*ABS(1/(Vout/(SQRT(2)*$C$26*SIN($Q320))))","v":0.000167142843491217},{"$f":"T635*ABS(1/(Vout/(SQRT(2)*$C$26*SIN($Q320))))","v":0.000163023089673176},{"$f":"U635*ABS(1/(Vout/(SQRT(2)*$C$26*SIN($Q320))))","v":0.000129934321122318},{"$f":"V635*ABS(1/(Vout/(SQRT(2)*$C$26*SIN($Q320))))","v":0.00017460809914736},{"$f":"W635*ABS(1/(Vout/(SQRT(2)*$C$26*SIN($Q320))))","v":0.000232810798863146},null,{"$f":"1/(0.0000128*(R635+Y635+$G$40))","v":35086.7926255797},{"$f":"1/(0.0000128*(S635+Z635+$H$40))","v":76213.3309420085},{"$f":"1/(0.0000128*(T635+AA635+$I$40))","v":100141.762265036},{"$f":"1/(0.0000128*(U635+AB635+$J$40))","v":315264.221506694},{"$f":"1/(0.0000128*(V635+AC635+$K$40))","v":261867.064341017},{"$f":"1/(0.0000128*(W635+AD635+$L$40))","v":196400.298255763}]

{"sheet":"data","index":2,"n_rows":64,"n_cols":24,"rows_kept":64,"cut":false,"hidden":false,"merged":[[10,0,10,5],[10,6,10,8],[10,9,10,11],[11,0,12,0]]}
[]
[]
[]
[]
[]
[]
[]
[]
[]
[]
["Data For Open Loop Voltage Bode Plot",null,null,null,null,null,"Data for Compensator Bode Plot",null,null,"Total Closed Loop Bode Plot"]
["Log scale converter","frequency","w","Plant Transfer function","Plant Gain","Plant Phase","Compensator Transfer Function","Compensator Gain","Compensator Phase","Close Loop Transfer function","Gain","Closed Loop Phase"]
[null,"Hz","rad",null,"dB","degrees",null,"dB","degrees",null,"dB","degrees"]
[-2,{"$f":"10^A14","v":0.01},{"$f":"2*PI()*B14","v":0.0628318530717959},{"$f":"IMDIV(Vin_rms_min^2*Rload/(4*Lbst*uH*Vout_nom*Kpwm),COMPLEX(1,(C14*Rload*Cout*uF/2)))","v":"113.314420844929-0.391586527279432i"},{"$f":"20*LOG(IMABS(D14))","v":41.0857555326533},{"$f":"180/PI()*IMARGUMENT(D14)","v":-0.197999211820415},{"$f":"IMPRODUCT(gm*µS*Vosreg/Vout_nom,IMDIV((COMPLEX(1,C14*(Rz*kΩ)*(Cz*uF))),IMPRODUCT((COMPLEX(0,C14*((Cz*uF)+(Cp*uF)))),(COMPLEX(1,C14*((Rz*kΩ)*(Cz*uF)*(Cp*uF))/((Cz*uF)+(Cp*uF)))))))","v":"0.0565354987156244-17.9958276987801i"},{"$f":"20*LOG(IMABS(G14))","v":25.1034793899802},{"$f":"(180/PI()*IMARGUMENT(G14))+180","v":90.1799992124112},{"$f":"IMPRODUCT((D14),(G14))","v":"-0.640636379944107-2039.20893185201i"},{"$f":"20*LOG(IMABS(J14))","v":66.1892349226335},{"$f":"(180/PI()*IMARGUMENT(J14))+180","v":89.9820000005922},null,null,"mV",{"$f":"10^-3","v":0.001},null,"COMP",0.5,1,1.25,2.5,3.75,5]
[-1.9,{"$f":"10^A15","v":0.0125892541179417},{"$f":"2*PI()*B15","v":0.0791006165022012},{"$f":"IMDIV(Vin_rms_min^2*Rload/(4*Lbst*uH*Vout_nom*Kpwm),COMPLEX(1,(C15*Rload*Cout*uF/2)))","v":"113.313629367297-0.492974786758031i"},{"$f":"20*LOG(IMABS(D15))","v":41.0857251979822},{"$f":"180/PI()*IMARGUMENT(D15)","v":-0.249265658915572},{"$f":"IMPRODUCT(gm*µS*Vosreg/Vout_nom,IMDIV((COMPLEX(1,C15*(Rz*kΩ)*(Cz*uF))),IMPRODUCT((COMPLEX(0,C15*((Cz*uF)+(Cp*uF)))),(COMPLEX(1,C15*((Rz*kΩ)*(Cz*uF)*(Cp*uF))/((Cz*uF)+(Cp*uF)))))))","v":"0.0565354954520204-14.2946023001535i"},{"$f":"20*LOG(IMABS(G15))","v":23.1035094739477},{"$f":"(180/PI()*IMARGUMENT(G15))+180","v":90.2266050026833},{"$f":"IMPRODUCT((D15),(G15))","v":"-0.640636342962288-1619.80113756632i"},{"$f":"20*LOG(IMABS(J15))","v":64.1892346719299},{"$f":"(180/PI()*IMARGUMENT(J15))+180","v":89.9773393437692},null,null,"uF",{"$f":"(10^-6)","v":1E-006},null,3,0.15,0.45,0.21,0.6]
[-1.8,{"$f":"10^A16","v":0.0158489319246111},{"$f":"2*PI()*B16","v":0.0995817762032062},{"$f":"IMDIV(Vin_rms_min^2*Rload/(4*Lbst*uH*Vout_nom*Kpwm),COMPLEX(1,(C16*Rload*Cout*uF/2)))","v":"113.312374982433-0.620611616160494i"},{"$f":"20*LOG(IMABS(D16))","v":41.0856771212025},{"$f":"180/PI()*IMARGUMENT(D16)","v":-0.313805714335574},{"$f":"IMPRODUCT(gm*µS*Vosreg/Vout_nom,IMDIV((COMPLEX(1,C16*(Rz*kΩ)*(Cz*uF))),IMPRODUCT((COMPLEX(0,C16*((Cz*uF)+(Cp*uF)))),(COMPLEX(1,C16*((Rz*kΩ)*(Cz*uF)*(Cp*uF))/((Cz*uF)+(Cp*uF)))))))","v":"0.0565354902795572-11.3546165995396i"},{"$f":"20*LOG(IMABS(G16))","v":21.103557153389},{"$f":"(180/PI()*IMARGUMENT(G16))+180","v":90.2852776392296},{"$f":"IMPRODUCT((D16),(G16))","v":"-0.640636284350165-1286.65366049078i"},{"$f":"20*LOG(IMABS(J16))","v":62.1892342745915},{"$f":"(180/PI()*IMARGUMENT(J16))+180","v":89.9714719248932},null,null,"kHz",{"$f":"10^3","v":1000},null,3.5,0.11,0.39,0.16,0.52]
[-1.7,{"$f":"10^A17","v":0.0199526231496888},{"$f":"2*PI()*B17","v":0.125366028613816},{"$f":"IMDIV(Vin_rms_min^2*Rload/(4*Lbst*uH*Vout_nom*Kpwm),COMPLEX(1,(C17*Rload*Cout*uF/2)))","v":"113.31038697329-0.781290026854479i"},{"$f":"20*LOG(IMABS(D17))","v":41.0856009257318},{"$f":"180/PI()*IMARGUMENT(D17)","v":-0.395055677753186},{"$f":"IMPRODUCT(gm*µS*Vosreg/Vout_nom,IMDIV((COMPLEX(1,C17*(Rz*kΩ)*(Cz*uF))),IMPRODUCT((COMPLEX(0,C17*((Cz*uF)+(Cp*uF)))),(COMPLEX(1,C17*((Rz*kΩ)*(Cz*uF)*(Cp*uF))/((Cz*uF)+(Cp*uF)))))))","v":"0.0565354820817575-9.01930563766695i"},{"$f":"20*LOG(IMABS(G17))","v":19.1036327191209},{"$f":"(180/PI()*IMARGUMENT(G17))+180","v":90.359140960788},{"$f":"IMPRODUCT((D17),(G17))","v":"-0.64063619145612-1022.02518264273i"},{"$f":"20*LOG(IMABS(J17))","v":60.1892336448526},{"$f":"(180/PI()*IMARGUMENT(J17))+180","v":89.9640852830344},null,null,"mΩ",{"$f":"10^-3","v":0.001}]
[-1.6,{"$f":"10^A18","v":0.0251188643150958},{"$f":"2*PI()*B18","v":0.157826479197648},{"$f":"IMDIV(Vin_rms_min^2*Rload/(4*Lbst*uH*Vout_nom*Kpwm),COMPLEX(1,(C18*Rload*Cout*uF/2)))","v":"113.307236334017-0.983558519801759i"},{"$f":"20*LOG(IMABS(D18))","v":41.0854801667872},{"$f":"180/PI()*IMARGUMENT(D18)","v":-0.497341022086867},{"$f":"IMPRODUCT(gm*µS*Vosreg/Vout_nom,IMDIV((COMPLEX(1,C18*(Rz*kΩ)*(Cz*uF))),IMPRODUCT((COMPLEX(0,C18*((Cz*uF)+(Cp*uF)))),(COMPLEX(1,C18*((Rz*kΩ)*(Cz*uF)*(Cp*uF))/((Cz*uF)+(Cp*uF)))))))","v":"0.0565354690891254-7.16430559005828i"},{"$f":"20*LOG(IMABS(G18))","v":17.1037524799968},{"$f":"(180/PI()*IMARGUMENT(G18))+180","v":90.4521270757059},{"$f":"IMPRODUCT((D18),(G18))","v":"-0.640636044229141-811.823272604146i"},{"$f":"20*LOG(IMABS(J18))","v":58.1892326467839},{"$f":"(180/PI()*IMARGUMENT(J18))+180","v":89.9547860536182},null,null,"ms",{"$f":"10^-3","v":0.001}]
[-1.5,{"$f":"10^A19","v":0.0316227766016838},{"$f":"2*PI()*B19","v":0.198691765315922},{"$f":"IMDIV(Vin_rms_min^2*Rload/(4*Lbst*uH*Vout_nom*Kpwm),COMPLEX(1,(C19*Rload*Cout*uF/2)))","v":"113.302243266165-1.23817225008445i"},{"$f":"20*LOG(IMABS(D19))","v":41.0852887836359},{"$f":"180/PI()*IMARGUMENT(D19)","v":-0.626106053849933},{"$f":"IMPRODUCT(gm*µS*Vosreg/Vout_nom,IMDIV((COMPLEX(1,C19*(Rz*kΩ)*(Cz*uF))),IMPRODUCT((COMPLEX(0,C19*((Cz*uF)+(Cp*uF)))),(COMPLEX(1,C19*((Rz*kΩ)*(Cz*uF)*(Cp*uF))/((Cz*uF)+(Cp*uF)))))))","v":"0.0565354484972035-5.69083093988048i"},{"$f":"20*LOG(IMABS(G19))","v":15.1039422813165},{"$f":"(180/PI()*IMARGUMENT(G19))+180","v":90.5691850746933},{"$f":"IMPRODUCT((D19),(G19))","v":"-0.640635810890127-644.853912160432i"},{"$f":"20*LOG(IMABS(J19))","v":56.1892310649524},{"$f":"(180/PI()*IMARGUMENT(J19))+180","v":89.9430790208432},null,null,"mA",{"$f":"10^-3","v":0.001}]
[-1.4,{"$f":"10^A20","v":0.0398107170553497},{"$f":"2*PI()*B20","v":0.250138112470457},{"$f":"IMDIV(Vin_rms_min^2*Rload/(4*Lbst*uH*Vout_nom*Kpwm),COMPLEX(1,(C20*Rload*Cout*uF/2)))","v":"113.294330688257-1.55865765175804i"},{"$f":"20*LOG(IMABS(D20))","v":41.0849854790568},{"$f":"180/PI()*IMARGUMENT(D20)","v":-0.7882024721296},{"$f":"IMPRODUCT(gm*µS*Vosreg/Vout_nom,IMDIV((COMPLEX(1,C20*(Rz*kΩ)*(Cz*uF))),IMPRODUCT((COMPLEX(0,C20*((Cz*uF)+(Cp*uF)))),(COMPLEX(1,C20*((Rz*kΩ)*(Cz*uF)*(Cp*uF))/((Cz*uF)+(Cp*uF)))))))","v":"0.0565354158612371-4.5204137889467i"},{"$f":"20*LOG(IMABS(G20))","v":13.1042430788624},{"$f":"(180/PI()*IMARGUMENT(G20))+180","v":90.716543218794},{"$f":"IMPRODUCT((D20),(G20))","v":"-0.640635441073202-512.225374011212i"},{"$f":"20*LOG(IMABS(J20))","v":54.1892285579192},{"$f":"(180/PI()*IMARGUMENT(J20))+180","v":89.9283407466641},null,null,"us",{"$f":"10^-6","v":1E-006}]
[-1.3,{"$f":"10^A21","v":0.0501187233627272},{"$f":"2*PI()*B21","v":0.314905226247286},{"$f":"IMDIV(Vin_rms_min^2*Rload/(4*Lbst*uH*Vout_nom*Kpwm),COMPLEX(1,(C21*Rload*Cout*uF/2)))","v":"113.281792360957-1.96201656492188i"},{"$f":"20*LOG(IMABS(D21))","v":41.0845048170796},{"$f":"180/PI()*IMARGUMENT(D21)","v":-0.992251513622766},{"$f":"IMPRODUCT(gm*µS*Vosreg/Vout_nom,IMDIV((COMPLEX(1,C21*(Rz*kΩ)*(Cz*uF))),IMPRODUCT((COMPLEX(0,C21*((Cz*uF)+(Cp*uF)))),(COMPLEX(1,C21*((Rz*kΩ)*(Cz*uF)*(Cp*uF))/((Cz*uF)+(Cp*uF)))))))","v":"0.0565353641367938-3.5907251559976i"},{"$f":"20*LOG(IMABS(G21))","v":11.1047197674629},{"$f":"(180/PI()*IMARGUMENT(G21))+180","v":90.9020378861201},{"$f":"IMPRODUCT((D21),(G21))","v":"-0.640634854953621-406.874704867925i"},{"$f":"20*LOG(IMABS(J21))","v":52.1892245845425},{"$f":"(180/PI()*IMARGUMENT(J21))+180","v":89.9097863724976},null,null,"\u009dµS",{"$f":"10^-6","v":1E-006}]
[-1.2,{"$f":"10^A22","v":0.0630957344480193},{"$f":"2*PI()*B22","v":0.3964421916295},{"$f":"IMDIV(Vin_rms_min^2*Rload/(4*Lbst*uH*Vout_nom*Kpwm),COMPLEX(1,(C22*Rload*Cout*uF/2)))","v":"113.261926135156-2.46959934238599i"},{"$f":"20*LOG(IMABS(D22))","v":41.0837431281375},{"$f":"180/PI()*IMARGUMENT(D22)","v":-1.24909761500321},{"$f":"IMPRODUCT(gm*µS*Vosreg/Vout_nom,IMDIV((COMPLEX(1,C22*(Rz*kΩ)*(Cz*uF))),IMPRODUCT((COMPLEX(0,C22*((Cz*uF)+(Cp*uF)))),(COMPLEX(1,C22*((Rz*kΩ)*(Cz*uF)*(Cp*uF))/((Cz*uF)+(Cp*uF)))))))","v":"0.0565352821592694-2.8522557311531i"},{"$f":"20*LOG(IMABS(G22))","v":9.10547515903462},{"$f":"(180/PI()*IMARGUMENT(G22))+180","v":91.1355254417445},{"$f":"IMPRODUCT((D22),(G22))","v":"-0.640633926018992-323.19159743608i"},{"$f":"20*LOG(IMABS(J22))","v":50.1892182871721},{"$f":"(180/PI()*IMARGUMENT(J22))+180","v":89.8864278267412},null,null,"uH",{"$f":"10^-6","v":1E-006}]
[-1.1,{"$f":"10^A23","v":0.0794328234724281},{"$f":"2*PI()*B23","v":0.49909114934975},{"$f":"IMDIV(Vin_rms_min^2*Rload/(4*Lbst*uH*Vout_nom*Kpwm),COMPLEX(1,(C23*Rload*Cout*uF/2)))","v":"113.230454558092-3.10817747387361i"},{"$f":"20*LOG(IMABS(D23))","v":41.0825362060943},{"$f":"180/PI()*IMARGUMENT(D23)","v":-1.57237505418615},{"$f":"IMPRODUCT(gm*µS*Vosreg/Vout_nom,IMDIV((COMPLEX(1,C23*(Rz*kΩ)*(Cz*uF))),IMPRODUCT((COMPLEX(0,C23*((Cz*uF)+(Cp*uF)))),(COMPLEX(1,C23*((Rz*kΩ)*(Cz*uF)*(Cp*uF))/((Cz*uF)+(Cp*uF)))))))","v":"0.0565351522341361-2.2656793246005i"},{"$f":"20*LOG(IMABS(G23))","v":7.10667210043722},{"$f":"(180/PI()*IMARGUMENT(G23))+180","v":91.4293962687257},{"$f":"IMPRODUCT((D23),(G23))","v":"-0.640632453762285-256.719621094042i"},{"$f":"20*LOG(IMABS(J23))","v":48.1892083065316},{"$f":"(180/PI()*IMARGUMENT(J23))+180","v":89.8570212145397},null,null,"ns",{"$f":"10^-9","v":1E-009}]
[-1,{"$f":"10^A24","v":0.1},{"$f":"2*PI()*B24","v":0.628318530717959},{"$f":"IMDIV(Vin_rms_min^2*Rload/(4*Lbst*uH*Vout_nom*Kpwm),COMPLEX(1,(C24*Rload*Cout*uF/2)))","v":"113.180611279858-3.91124114618165i"},{"$f":"20*LOG(IMABS(D24))","v":41.0806240503464},{"$f":"180/PI()*IMARGUMENT(D24)","v":-1.9792123776733},{"$f":"IMPRODUCT(gm*µS*Vosreg/Vout_nom,IMDIV((COMPLEX(1,C24*(Rz*kΩ)*(Cz*uF))),IMPRODUCT((COMPLEX(0,C24*((Cz*uF)+(Cp*uF)))),(COMPLEX(1,C24*((Rz*kΩ)*(Cz*uF)*(Cp*uF))/((Cz*uF)+(Cp*uF)))))))","v":"0.0565349463178995-1.79975860353496i"},{"$f":"20*LOG(IMABS(G24))","v":5.10856843798273},{"$f":"(180/PI()*IMARGUMENT(G24))+180","v":91.7992129698459},{"$f":"IMPRODUCT((D24),(G24))","v":"-0.640630120406541-203.918900712506i"},{"$f":"20*LOG(IMABS(J24))","v":46.1891924883291},{"$f":"(180/PI()*IMARGUMENT(J24))+180","v":89.8200005921727},null,null,"mW",{"$f":"10^-3","v":0.001},null,null,"determin Vff"]
[-0.9,{"$f":"10^A25","v":0.125892541179417},{"$f":"2*PI()*B25","v":0.791006165022012},{"$f":"IMDIV(Vin_rms_min^2*Rload/(4*Lbst*uH*Vout_nom*Kpwm),COMPLEX(1,(C25*Rload*Cout*uF/2)))","v":"113.101704830932-4.92052801876718i"},{"$f":"20*LOG(IMABS(D25))","v":41.0775952112102},{"$f":"180/PI()*IMARGUMENT(D25)","v":-2.49110145984049},{"$f":"IMPRODUCT(gm*µS*Vosreg/Vout_nom,IMDIV((COMPLEX(1,C25*(Rz*kΩ)*(Cz*uF))),IMPRODUCT((COMPLEX(0,C25*((Cz*uF)+(Cp*uF)))),(COMPLEX(1,C25*((Rz*kΩ)*(Cz*uF)*(Cp*uF))/((Cz*uF)+(Cp*uF)))))))","v":"0.0565346199657309-1.42968159018373i"},{"$f":"20*LOG(IMABS(G25))","v":3.11157220707574},{"$f":"(180/PI()*IMARGUMENT(G25))+180","v":92.2644960672535},{"$f":"IMPRODUCT((D25),(G25))","v":"-0.640626422321648-161.977605396749i"},{"$f":"20*LOG(IMABS(J25))","v":44.1891674182859},{"$f":"(180/PI()*IMARGUMENT(J25))+180","v":89.7733946074129},null,null,"pF",{"$f":"10^-12","v":1E-012}]
[-0.8,{"$f":"10^A26","v":0.158489319246111},{"$f":"2*PI()*B26","v":0.995817762032062},{"$f":"IMDIV(Vin_rms_min^2*Rload/(4*Lbst*uH*Vout_nom*Kpwm),COMPLEX(1,(C26*Rload*Cout*uF/2)))","v":"112.976871658161-6.18774065228071i"},{"$f":"20*LOG(IMABS(D26))","v":41.0727991474305},{"$f":"180/PI()*IMARGUMENT(D26)","v":-3.13495632921781},{"$f":"IMPRODUCT(gm*µS*Vosreg/Vout_nom,IMDIV((COMPLEX(1,C26*(Rz*kΩ)*(Cz*uF))),IMPRODUCT((COMPLEX(0,C26*((Cz*uF)+(Cp*uF)))),(COMPLEX(1,C26*((Rz*kΩ)*(Cz*uF)*(Cp*uF))/((Cz*uF)+(Cp*uF)))))))","v":"0.0565341027401185-1.13574033332003i"},{"$f":"20*LOG(IMABS(G26))","v":1.11632853781088},{"$f":"(180/PI()*IMARGUMENT(G26))+180","v":92.8496779120359},{"$f":"IMPRODUCT((D26),(G26))","v":"-0.640620561339535-128.662208240259i"},{"$f":"20*LOG(IMABS(J26))","v":42.1891276852414},{"$f":"(180/PI()*IMARGUMENT(J26))+180","v":89.7147215828181},null,null,"MHz",{"$f":"10^6","v":1000000}]
[-0.7,{"$f":"10^A27","v":0.199526231496888},{"$f":"2*PI()*B27","v":1.25366028613816},{"$f":"IMDIV(Vin_rms_min^2*Rload/(4*Lbst*uH*Vout_nom*Kpwm),COMPLEX(1,(C27*Rload*Cout*uF/2)))","v":"112.779587887151-7.77630097316321i"},{"$f":"20*LOG(IMABS(D27))","v":41.0652087311827},{"$f":"180/PI()*IMARGUMENT(D27)","v":-3.94437639378804},{"$f":"IMPRODUCT(gm*µS*Vosreg/Vout_nom,IMDIV((COMPLEX(1,C27*(Rz*kΩ)*(Cz*uF))),IMPRODUCT((COMPLEX(0,C27*((Cz*uF)+(Cp*uF)))),(COMPLEX(1,C27*((Rz*kΩ)*(Cz*uF)*(Cp*uF))/((Cz*uF)+(Cp*uF)))))))","v":"0.0565332830121521-0.902281387611051i"},{"$f":"20*LOG(IMABS(G27))","v":-0.876144017828399},{"$f":"(180/PI()*IMARGUMENT(G27))+180","v":93.585233880806},{"$f":"IMPRODUCT((D27),(G27))","v":"-0.640611272528677-102.198542876725i"},{"$f":"20*LOG(IMABS(J27))","v":40.1890647133544},{"$f":"(180/PI()*IMARGUMENT(J27))+180","v":89.640857487018},null,null,"uA",{"$f":"10^-6","v":1E-006}]
[-0.6,{"$f":"10^A28","v":0.251188643150958},{"$f":"2*PI()*B28","v":1.57826479197648},{"$f":"IMDIV(Vin_rms_min^2*Rload/(4*Lbst*uH*Vout_nom*Kpwm),COMPLEX(1,(C28*Rload*Cout*uF/2)))","v":"112.468321639645-9.76276357410956i"},{"$f":"20*LOG(IMABS(D28))","v":41.0532058406764},{"$f":"180/PI()*IMARGUMENT(D28)","v":-4.96109939250289},{"$f":"IMPRODUCT(gm*µS*Vosreg/Vout_nom,IMDIV((COMPLEX(1,C28*(Rz*kΩ)*(Cz*uF))),IMPRODUCT((COMPLEX(0,C28*((Cz*uF)+(Cp*uF)))),(COMPLEX(1,C28*((Rz*kΩ)*(Cz*uF)*(Cp*uF))/((Cz*uF)+(Cp*uF)))))))","v":"0.0565319838795708-0.716872209807699i"},{"$f":"20*LOG(IMABS(G28))","v":-2.86424092916692},{"$f":"(180/PI()*IMARGUMENT(G28))+180","v":94.5089692198419},{"$f":"IMPRODUCT((D28),(G28))","v":"-0.640596551307234-81.177322660167i"},{"$f":"20*LOG(IMABS(J28))","v":38.1889649115094},{"$f":"(180/PI()*IMARGUMENT(J28))+180","v":89.5478698273389},null,null,"kΩ",{"$f":"10^3","v":1000}]
[-0.5,{"$f":"10^A29","v":0.316227766016838},{"$f":"2*PI()*B29","v":1.98691765315922},{"$f":"IMDIV(Vin_rms_min^2*Rload/(4*Lbst*uH*Vout_nom*Kpwm),COMPLEX(1,(C29*Rload*Cout*uF/2)))","v":"111.978502016069-12.2370634336528i"},{"$f":"20*LOG(IMABS(D29))","v":41.0342502329387},{"$f":"180/PI()*IMARGUMENT(D29)","v":-6.23656220211311},{"$f":"IMPRODUCT(gm*µS*Vosreg/Vout_nom,IMDIV((COMPLEX(1,C29*(Rz*kΩ)*(Cz*uF))),IMPRODUCT((COMPLEX(0,C29*((Cz*uF)+(Cp*uF)))),(COMPLEX(1,C29*((Rz*kΩ)*(Cz*uF)*(Cp*uF))/((Cz*uF)+(Cp*uF)))))))","v":"0.0565299250154872-0.569639078953739i"},{"$f":"20*LOG(IMABS(G29))","v":-4.84544349199605},{"$f":"(180/PI()*IMARGUMENT(G29))+180","v":95.6673709484318},{"$f":"IMPRODUCT((D29),(G29))","v":"-0.640573221129497-64.4790910293671i"},{"$f":"20*LOG(IMABS(J29))","v":36.1888067409427},{"$f":"(180/PI()*IMARGUMENT(J29))+180","v":89.4308087463186},null,null,"nC",{"$f":"10^-9","v":1E-009}]
[-0.4,{"$f":"10^A30","v":0.398107170553497},{"$f":"2*PI()*B30","v":2.50138112470457},{"$f":"IMDIV(Vin_rms_min^2*Rload/(4*Lbst*uH*Vout_nom*Kpwm),COMPLEX(1,(C30*Rload*Cout*uF/2)))","v":"111.210869781599-15.2999423793518i"},{"$f":"20*LOG(IMABS(D30))","v":41.0043760722266},{"$f":"180/PI()*IMARGUMENT(D30)","v":-7.83334800146288},{"$f":"IMPRODUCT(gm*µS*Vosreg/Vout_nom,IMDIV((COMPLEX(1,C30*(Rz*kΩ)*(Cz*uF))),IMPRODUCT((COMPLEX(0,C30*((Cz*uF)+(Cp*uF)))),(COMPLEX(1,C30*((Rz*kΩ)*(Cz*uF)*(Cp*uF))/((Cz*uF)+(Cp*uF)))))))","v":"0.056526662242987-0.45274128169345i"},{"$f":"20*LOG(IMABS(G30))","v":-6.81582000293912},{"$f":"(180/PI()*IMARGUMENT(G30))+180","v":97.1167924547566},{"$f":"IMPRODUCT((D30),(G30))","v":"-0.640536248770409-51.2146063983793i"},{"$f":"20*LOG(IMABS(J30))","v":34.1885560692875},{"$f":"(180/PI()*IMARGUMENT(J30))+180","v":89.2834444532937},null,null,"nF",{"$f":"10^-9","v":1E-009}]
[-0.3,{"$f":"10^A31","v":0.501187233627272},{"$f":"2*PI()*B31","v":3.14905226247286},{"$f":"IMDIV(Vin_rms_min^2*Rload/(4*Lbst*uH*Vout_nom*Kpwm),COMPLEX(1,(C31*Rload*Cout*uF/2)))","v":"110.015581263797-19.0544648297314i"},{"$f":"20*LOG(IMABS(D31))","v":40.9574456752016},{"$f":"180/PI()*IMARGUMENT(D31)","v":-9.82602894954819},{"$f":"IMPRODUCT(gm*µS*Vosreg/Vout_nom,IMDIV((COMPLEX(1,C31*(Rz*kΩ)*(Cz*uF))),IMPRODUCT((COMPLEX(0,C31*((Cz*uF)+(Cp*uF)))),(COMPLEX(1,C31*((Rz*kΩ)*(Cz*uF)*(Cp*uF))/((Cz*uF)+(Cp*uF)))))))","v":"0.0565214918684961-0.359953559618178i"},{"$f":"20*LOG(IMABS(G31))","v":-8.76928686407904},{"$f":"(180/PI()*IMARGUMENT(G31))+180","v":98.9239664685065},{"$f":"IMPRODUCT((D31),(G31))","v":"-0.640477660271623-40.6774868682989i"},{"$f":"20*LOG(IMABS(J31))","v":32.1881588111226},{"$f":"(180/PI()*IMARGUMENT(J31))+180","v":89.0979375189584},null,null,"uC",{"$f":"10^-6","v":1E-006}]
[-0.2,{"$f":"10^A32","v":0.630957344480193},{"$f":"2*PI()*B32","v":3.964421916295},{"$f":"IMDIV(Vin_rms_min^2*Rload/(4*Lbst*uH*Vout_nom*Kpwm),COMPLEX(1,(C32*Rload*Cout*uF/2)))","v":"108.172926019542-23.5863715263896i"},{"$f":"20*LOG(IMABS(D32))","v":40.8840894713657},{"$f":"180/PI()*IMARGUMENT(D32)","v":-12.3004345538051},{"$f":"IMPRODUCT(gm*µS*Vosreg/Vout_nom,IMDIV((COMPLEX(1,C32*(Rz*kΩ)*(Cz*uF))),IMPRODUCT((COMPLEX(0,C32*((Cz*uF)+(Cp*uF)))),(COMPLEX(1,C32*((Rz*kΩ)*(Cz*uF)*(Cp*uF))/((Cz*uF)+(Cp*uF)))))))","v":"0.056513299314344-0.286334579441547i"},{"$f":"20*LOG(IMABS(G32))","v":-10.6965601975794},{"$f":"(180/PI()*IMARGUMENT(G32))+180","v":101.164860046636},{"$f":"IMPRODUCT((D32),(G32))","v":"-0.640384825710076-32.3065929525773i"},{"$f":"20*LOG(IMABS(J32))","v":30.1875292737863},{"$f":"(180/PI()*IMARGUMENT(J32))+180","v":88.8644254928305},null,null,"MΩ",{"$f":"10^6","v":1000000}]
[-0.1,{"$f":"10^A33","v":0.794328234724282},{"$f":"2*PI()*B33","v":4.9909114934975},{"$f":"IMDIV(Vin_rms_min^2*Rload/(4*Lbst*uH*Vout_nom*Kpwm),COMPLEX(1,(C33*Rload*Cout*uF/2)))","v":"105.375682412516-28.9256387468272i"},{"$f":"20*LOG(IMABS(D33))","v":40.770307699689},{"$f":"180/PI()*IMARGUMENT(D33)","v":-15.3496211712782},{"$f":"IMPRODUCT(gm*µS*Vosreg/Vout_nom,IMDIV((COMPLEX(1,C33*(Rz*kΩ)*(Cz*uF))),IMPRODUCT((COMPLEX(0,C33*((Cz*uF)+(Cp*uF)))),(COMPLEX(1,C33*((Rz*kΩ)*(Cz*uF)*(Cp*uF))/((Cz*uF)+(Cp*uF)))))))","v":"0.056500319854752-0.227963764841743i"},{"$f":"20*LOG(IMABS(G33))","v":-12.5837759884522},{"$f":"(180/PI()*IMARGUMENT(G33))+180","v":103.920127029115},{"$f":"IMPRODUCT((D33),(G33))","v":"-0.640237747959008-25.6561451267237i"},{"$f":"20*LOG(IMABS(J33))","v":28.1865317112368},{"$f":"(180/PI()*IMARGUMENT(J33))+180","v":88.5705058578368},null,null,"mH",{"$f":"10^-3","v":0.001}]
[0,{"$f":"10^A34","v":1},{"$f":"2*PI()*B34","v":6.28318530717959},{"$f":"IMDIV(Vin_rms_min^2*Rload/(4*Lbst*uH*Vout_nom*Kpwm),COMPLEX(1,(C34*Rload*Cout*uF/2)))","v":"101.227019375926-34.9815466457822i"},{"$f":"20*LOG(IMABS(D34))","v":40.59586819097},{"$f":"180/PI()*IMARGUMENT(D34)","v":-19.0638798291453},{"$f":"IMPRODUCT(gm*µS*Vosreg/Vout_nom,IMDIV((COMPLEX(1,C34*(Rz*kΩ)*(Cz*uF))),IMPRODUCT((COMPLEX(0,C34*((Cz*uF)+(Cp*uF)))),(COMPLEX(1,C34*((Rz*kΩ)*(Cz*uF)*(Cp*uF))/((Cz*uF)+(Cp*uF)))))))","v":"0.0564797610056751-0.181732463398813i"},{"$f":"20*LOG(IMABS(G34))","v":-14.4109170406142},{"$f":"(180/PI()*IMARGUMENT(G34))+180","v":107.264471654984},{"$f":"IMPRODUCT((D34),(G34))","v":"-0.64000478376934-20.3719849878691i"},{"$f":"20*LOG(IMABS(J34))","v":26.1849511503558},{"$f":"(180/PI()*IMARGUMENT(J34))+180","v":88.2005918258383}]
[0.1,{"$f":"10^A35","v":1.25892541179417},{"$f":"2*PI()*B35","v":7.91006165022012},{"$f":"IMDIV(Vin_rms_min^2*Rload/(4*Lbst*uH*Vout_nom*Kpwm),COMPLEX(1,(C35*Rload*Cout*uF/2)))","v":"95.2816733326415-41.4526150608531i"},{"$f":"20*LOG(IMABS(D35))","v":40.3329974544026},{"$f":"180/PI()*IMARGUMENT(D35)","v":-23.5116124923425},{"$f":"IMPRODUCT(gm*µS*Vosreg/Vout_nom,IMDIV((COMPLEX(1,C35*(Rz*kΩ)*(Cz*uF))),IMPRODUCT((COMPLEX(0,C35*((Cz*uF)+(Cp*uF)))),(COMPLEX(1,C35*((Rz*kΩ)*(Cz*uF)*(Cp*uF))/((Cz*uF)+(Cp*uF)))))))","v":"0.0564472080551579-0.145178303880403i"},{"$f":"20*LOG(IMABS(G35))","v":-16.150550146537},{"$f":"(180/PI()*IMARGUMENT(G35))+180","v":111.24672719041},{"$f":"IMPRODUCT((D35),(G35))","v":"-0.639635907490696-16.1727161120899i"},{"$f":"20*LOG(IMABS(J35))","v":24.1824473078656},{"$f":"(180/PI()*IMARGUMENT(J35))+180","v":87.735114698067}]
[0.2,{"$f":"10^A36","v":1.58489319246111},{"$f":"2*PI()*B36","v":9.95817762032062},{"$f":"IMDIV(Vin_rms_min^2*Rload/(4*Lbst*uH*Vout_nom*Kpwm),COMPLEX(1,(C36*Rload*Cout*uF/2)))","v":"87.167653868453-47.7417038982775i"},{"$f":"20*LOG(IMABS(D36))","v":39.9464572687412},{"$f":"180/PI()*IMARGUMENT(D36)","v":-28.7095104259335},{"$f":"IMPRODUCT(gm*µS*Vosreg/Vout_nom,IMDIV((COMPLEX(1,C36*(Rz*kΩ)*(Cz*uF))),IMPRODUCT((COMPLEX(0,C36*((Cz*uF)+(Cp*uF)))),(COMPLEX(1,C36*((Rz*kΩ)*(Cz*uF)*(Cp*uF))/((Cz*uF)+(Cp*uF)))))))","v":"0.0563956919006635-0.116353876085007i"},{"$f":"20*LOG(IMABS(G36))","v":-17.767975329222},{"$f":"(180/PI()*IMARGUMENT(G36))+180","v":115.859056675144},{"$f":"IMPRODUCT((D36),(G36))","v":"-0.639052148198322-12.8347208206907i"},{"$f":"20*LOG(IMABS(J36))","v":22.1784819395192},{"$f":"(180/PI()*IMARGUMENT(J36))+180","v":87.1495462492101}]
[0.3,{"$f":"10^A37","v":1.99526231496888},{"$f":"2*PI()*B37","v":12.5366028613816},{"$f":"IMDIV(Vin_rms_min^2*Rload/(4*Lbst*uH*Vout_nom*Kpwm),COMPLEX(1,(C37*Rload*Cout*uF/2)))","v":"76.8019474999178-52.9559533132932i"},{"$f":"20*LOG(IMABS(D37))","v":39.3966260260015},{"$f":"180/PI()*IMARGUMENT(D37)","v":-34.5867741384413},{"$f":"IMPRODUCT(gm*µS*Vosreg/Vout_nom,IMDIV((COMPLEX(1,C37*(Rz*kΩ)*(Cz*uF))),IMPRODUCT((COMPLEX(0,C37*((Cz*uF)+(Cp*uF)))),(COMPLEX(1,C37*((Rz*kΩ)*(Cz*uF)*(Cp*uF))/((Cz*uF)+(Cp*uF)))))))","v":"0.0563142366335293-0.0937226480958085i"},{"$f":"20*LOG(IMABS(G37))","v":-19.2244213647411},{"$f":"(180/PI()*IMARGUMENT(G37))+180","v":120.999994736544},{"$f":"IMPRODUCT((D37),(G37))","v":"-0.638129131533579-10.1802559846465i"},{"$f":"20*LOG(IMABS(J37))","v":20.1722046612604},{"$f":"(180/PI()*IMARGUMENT(J37))+180","v":86.4132205981032}]
[0.4,{"$f":"10^A38","v":2.51188643150958},{"$f":"2*PI()*B38","v":15.7826479197648},{"$f":"IMDIV(Vin_rms_min^2*Rload/(4*Lbst*uH*Vout_nom*Kpwm),COMPLEX(1,(C38*Rload*Cout*uF/2)))","v":"64.6225067769593-56.095284968435i"},{"$f":"20*LOG(IMABS(D38))","v":38.6467417059884},{"$f":"180/PI()*IMARGUMENT(D38)","v":-40.9594718478685},{"$f":"IMPRODUCT(gm*µS*Vosreg/Vout_nom,IMDIV((COMPLEX(1,C38*(Rz*kΩ)*(Cz*uF))),IMPRODUCT((COMPLEX(0,C38*((Cz*uF)+(Cp*uF)))),(COMPLEX(1,C38*((Rz*kΩ)*(Cz*uF)*(Cp*uF))/((Cz*uF)+(Cp*uF)))))))","v":"0.056185619621-0.0760763990240413i"},{"$f":"20*LOG(IMABS(G38))","v":-20.4844673121997},{"$f":"(180/PI()*IMARGUMENT(G38))+180","v":126.447426720405},{"$f":"IMPRODUCT((D38),(G38))","v":"-0.636671697900236-8.06799595526586i"},{"$f":"20*LOG(IMABS(J38))","v":18.1622743937887},{"$f":"(180/PI()*IMARGUMENT(J38))+180","v":85.4879548725366}]
[0.5,{"$f":"10^A39","v":3.16227766016838},{"$f":"2*PI()*B39","v":19.8691765315922},{"$f":"IMDIV(Vin_rms_min^2*Rload/(4*Lbst*uH*Vout_nom*Kpwm),COMPLEX(1,(C39*Rload*Cout*uF/2)))","v":"51.6427996923321-56.435494701993i"},{"$f":"20*LOG(IMABS(D39))","v":37.6730014831911},{"$f":"180/PI()*IMARGUMENT(D39)","v":-47.5390982876868},{"$f":"IMPRODUCT(gm*µS*Vosreg/Vout_nom,IMDIV((COMPLEX(1,C39*(Rz*kΩ)*(Cz*uF))),IMPRODUCT((COMPLEX(0,C39*((Cz*uF)+(Cp*uF)))),(COMPLEX(1,C39*((Rz*kΩ)*(Cz*uF)*(Cp*uF))/((Cz*uF)+(Cp*uF)))))))","v":"0.0559829744841002-0.0624694257563426i"},{"$f":"20*LOG(IMABS(G39))","v":-21.5264191396042},{"$f":"(180/PI()*IMARGUMENT(G39))+180","v":131.865614640445},{"$f":"IMPRODUCT((D39),(G39))","v":"-0.634375408845293-6.38552290112906i"},{"$f":"20*LOG(IMABS(J39))","v":16.1465823435869},{"$f":"(180/PI()*IMARGUMENT(J39))+180","v":84.3265163527584}]
[0.6,{"$f":"10^A40","v":3.98107170553497},{"$f":"2*PI()*B40","v":25.0138112470457},{"$f":"IMDIV(Vin_rms_min^2*Rload/(4*Lbst*uH*Vout_nom*Kpwm),COMPLEX(1,(C40*Rload*Cout*uF/2)))","v":"39.1728160413527-53.8923784560501i"},{"$f":"20*LOG(IMABS(D40))","v":36.4727516291367},{"$f":"180/PI()*IMARGUMENT(D40)","v":-53.9876777604269},{"$f":"IMPRODUCT(gm*µS*Vosreg/Vout_nom,IMDIV((COMPLEX(1,C40*(Rz*kΩ)*(Cz*uF))),IMPRODUCT((COMPLEX(0,C40*((Cz*uF)+(Cp*uF)))),(COMPLEX(1,C40*((Rz*kΩ)*(Cz*uF)*(Cp*uF))/((Cz*uF)+(Cp*uF)))))))","v":"0.0556647808294918-0.0521653724102419i"},{"$f":"20*LOG(IMABS(G40))","v":-22.3509239475902},{"$f":"(180/PI()*IMARGUMENT(G40))+180","v":136.858765685058},{"$f":"IMPRODUCT((D40),(G40))","v":"-0.630769772817653-5.04337197229112i"},{"$f":"20*LOG(IMABS(J40))","v":14.1218276815465},{"$f":"(180/PI()*IMARGUMENT(J40))+180","v":82.8710879246307}]
[0.7,{"$f":"10^A41","v":5.01187233627272},{"$f":"2*PI()*B41","v":31.4905226247286},{"$f":"IMDIV(Vin_rms_min^2*Rload/(4*Lbst*uH*Vout_nom*Kpwm),COMPLEX(1,(C41*Rload*Cout*uF/2)))","v":"28.3307115601059-49.0681902346996i"},{"$f":"20*LOG(IMABS(D41))","v":35.065478523265},{"$f":"180/PI()*IMARGUMENT(D41)","v":-59.9989677383585},{"$f":"IMPRODUCT(gm*µS*Vosreg/Vout_nom,IMDIV((COMPLEX(1,C41*(Rz*kΩ)*(Cz*uF))),IMPRODUCT((COMPLEX(0,C41*((Cz*uF)+(Cp*uF)))),(COMPLEX(1,C41*((Rz*kΩ)*(Cz*uF)*(Cp*uF))/((Cz*uF)+(Cp*uF)))))))","v":"0.0551678208971179-0.0445926789564827i"},{"$f":"20*LOG(IMABS(G41))","v":-22.9825975775028},{"$f":"(180/PI()*IMARGUMENT(G41))+180","v":141.051058449059},{"$f":"IMPRODUCT((D41),(G41))","v":"-0.625138432875749-3.97032745582213i"},{"$f":"20*LOG(IMABS(J41))","v":12.0828809457622},{"$f":"(180/PI()*IMARGUMENT(J41))+180","v":81.0520907107007}]
[0.8,{"$f":"10^A42","v":6.30957344480193},{"$f":"2*PI()*B42","v":39.64421916295},{"$f":"IMDIV(Vin_rms_min^2*Rload/(4*Lbst*uH*Vout_nom*Kpwm),COMPLEX(1,(C42*Rload*Cout*uF/2)))","v":"19.6924196327545-42.9379829873334i"},{"$f":"20*LOG(IMABS(D42))","v":33.4858945157207},{"$f":"180/PI()*IMARGUMENT(D42)","v":-65.3626406942566},{"$f":"IMPRODUCT(gm*µS*Vosreg/Vout_nom,IMDIV((COMPLEX(1,C42*(Rz*kΩ)*(Cz*uF))),IMPRODUCT((COMPLEX(0,C42*((Cz*uF)+(Cp*uF)))),(COMPLEX(1,C42*((Rz*kΩ)*(Cz*uF)*(Cp*uF))/((Cz*uF)+(Cp*uF)))))))","v":"0.0543981151601008-0.0393042906602649i"},{"$f":"20*LOG(IMABS(G42))","v":-23.4640333477286},{"$f":"(180/PI()*IMARGUMENT(G42))+180","v":144.150745222343},{"$f":"IMPRODUCT((D42),(G42))","v":"-0.616416452736052-3.1097419283371i"},{"$f":"20*LOG(IMABS(J42))","v":10.0218611679921},{"$f":"(180/PI()*IMARGUMENT(J42))+180","v":78.788104528086}]
[0.9,{"$f":"10^A43","v":7.94328234724282},{"$f":"2*PI()*B43","v":49.909114934975},{"$f":"IMDIV(Vin_rms_min^2*Rload/(4*Lbst*uH*Vout_nom*Kpwm),COMPLEX(1,(C43*Rload*Cout*uF/2)))","v":"13.2765490147408-36.444144589409i"},{"$f":"20*LOG(IMABS(D43))","v":31.7737557298531},{"$f":"180/PI()*IMARGUMENT(D43)","v":-69.983391149551},{"$f":"IMPRODUCT(gm*µS*Vosreg/Vout_nom,IMDIV((COMPLEX(1,C43*(Rz*kΩ)*(Cz*uF))),IMPRODUCT((COMPLEX(0,C43*((Cz*uF)+(Cp*uF)))),(COMPLEX(1,C43*((Rz*kΩ)*(Cz*uF)*(Cp*uF))/((Cz*uF)+(Cp*uF)))))))","v":"0.0532212572693719-0.0359365116665044i"},{"$f":"20*LOG(IMABS(G43))","v":-23.8468817841083},{"$f":"(180/PI()*IMARGUMENT(G43))+180","v":145.971655385978},{"$f":"IMPRODUCT((D43),(G43))","v":"-0.603080796450124-2.41671605371428i"},{"$f":"20*LOG(IMABS(J43))","v":7.92687394574482},{"$f":"(180/PI()*IMARGUMENT(J43))+180","v":75.9882642364275}]
[1,{"$f":"10^A44","v":10},{"$f":"2*PI()*B44","v":62.8318530717959},{"$f":"IMDIV(Vin_rms_min^2*Rload/(4*Lbst*uH*Vout_nom*Kpwm),COMPLEX(1,(C44*Rload*Cout*uF/2)))","v":"8.75551199616321-30.25687738212i"},{"$f":"20*LOG(IMABS(D44))","v":29.9657191724243},{"$f":"180/PI()*IMARGUMENT(D44)","v":-73.8610040114904},{"$f":"IMPRODUCT(gm*µS*Vosreg/Vout_nom,IMDIV((COMPLEX(1,C44*(Rz*kΩ)*(Cz*uF))),IMPRODUCT((COMPLEX(0,C44*((Cz*uF)+(Cp*uF)))),(COMPLEX(1,C44*((Rz*kΩ)*(Cz*uF)*(Cp*uF))/((Cz*uF)+(Cp*uF)))))))","v":"0.0514569107658441-0.0341614752214696i"},{"$f":"20*LOG(IMABS(G44))","v":-24.1852594290429},{"$f":"(180/PI()*IMARGUMENT(G44))+180","v":146.420409520978},{"$f":"IMPRODUCT((D44),(G44))","v":"-0.583087967472488-1.85602664561304i"},{"$f":"20*LOG(IMABS(J44))","v":5.78045974338139},{"$f":"(180/PI()*IMARGUMENT(J44))+180","v":72.559405509488}]
[1.1,{"$f":"10^A45","v":12.5892541179417},{"$f":"2*PI()*B45","v":79.1006165022012},{"$f":"IMDIV(Vin_rms_min^2*Rload/(4*Lbst*uH*Vout_nom*Kpwm),COMPLEX(1,(C45*Rload*Cout*uF/2)))","v":"5.68650313283031-24.7393246951717i"},{"$f":"20*LOG(IMABS(D45))","v":28.0913565258297},{"$f":"180/PI()*IMARGUMENT(D45)","v":-77.0550257880443},{"$f":"IMPRODUCT(gm*µS*Vosreg/Vout_nom,IMDIV((COMPLEX(1,C45*(Rz*kΩ)*(Cz*uF))),IMPRODUCT((COMPLEX(0,C45*((Cz*uF)+(Cp*uF)))),(COMPLEX(1,C45*((Rz*kΩ)*(Cz*uF)*(Cp*uF))/((Cz*uF)+(Cp*uF)))))))","v":"0.0488882697206091-0.0336300413133211i"},{"$f":"20*LOG(IMABS(G45))","v":-24.5332872111947},{"$f":"(180/PI()*IMARGUMENT(G45))+180","v":145.476076001165},{"$f":"IMPRODUCT((D45),(G45))","v":"-0.553981212637393-1.40070011368869i"},{"$f":"20*LOG(IMABS(J45))","v":3.55806931463495},{"$f":"(180/PI()*IMARGUMENT(J45))+180","v":68.4210502131208}]
[1.2,{"$f":"10^A46","v":15.8489319246111},{"$f":"2*PI()*B46","v":99.5817762032062},{"$f":"IMDIV(Vin_rms_min^2*Rload/(4*Lbst*uH*Vout_nom*Kpwm),COMPLEX(1,(C46*Rload*Cout*uF/2)))","v":"3.65564192310652-20.0219423726218i"},{"$f":"20*LOG(IMABS(D46))","v":26.1725401903424},{"$f":"180/PI()*IMARGUMENT(D46)","v":-79.6528081808583},{"$f":"IMPRODUCT(gm*µS*Vosreg/Vout_nom,IMDIV((COMPLEX(1,C46*(Rz*kΩ)*(Cz*uF))),IMPRODUCT((COMPLEX(0,C46*((Cz*uF)+(Cp*uF)))),(COMPLEX(1,C46*((Rz*kΩ)*(Cz*uF)*(Cp*uF))/((Cz*uF)+(Cp*uF)))))))","v":"0.0453040338529479-0.0339118692512505i"},{"$f":"20*LOG(IMABS(G46))","v":-24.945148811871},{"$f":"(180/PI()*IMARGUMENT(G46))+180","v":143.183686988414},{"$f":"IMPRODUCT((D46),(G46))","v":"-0.51336616645775-1.03104440597681i"},{"$f":"20*LOG(IMABS(J46))","v":1.22739137847139},{"$f":"(180/PI()*IMARGUMENT(J46))+180","v":63.5308788075557}]
[1.3,{"$f":"10^A47","v":19.9526231496888},{"$f":"2*PI()*B47","v":125.366028613816},{"$f":"IMDIV(Vin_rms_min^2*Rload/(4*Lbst*uH*Vout_nom*Kpwm),COMPLEX(1,(C47*Rload*Cout*uF/2)))","v":"2.33434581549003-16.0956215364596i"},{"$f":"20*LOG(IMABS(D47))","v":24.2245556372093},{"$f":"180/PI()*IMARGUMENT(D47)","v":-81.7479368861769},{"$f":"IMPRODUCT(gm*µS*Vosreg/Vout_nom,IMDIV((COMPLEX(1,C47*(Rz*kΩ)*(Cz*uF))),IMPRODUCT((COMPLEX(0,C47*((Cz*uF)+(Cp*uF)))),(COMPLEX(1,C47*((Rz*kΩ)*(Cz*uF)*(Cp*uF))/((Cz*uF)+(Cp*uF)))))))","v":"0.040587876906031-0.0344609748874003i"},{"$f":"20*LOG(IMABS(G47))","v":-25.4745696442792},{"$f":"(180/PI()*IMARGUMENT(G47))+180","v":139.667211128128},{"$f":"IMPRODUCT((D47),(G47))","v":"-0.459924668949816-0.733730938173994i"},{"$f":"20*LOG(IMABS(J47))","v":-1.25001400706986},{"$f":"(180/PI()*IMARGUMENT(J47))+180","v":57.9192742419513}]
[1.4,{"$f":"10^A48","v":25.1188643150958},{"$f":"2*PI()*B48","v":157.826479197648},{"$f":"IMDIV(Vin_rms_min^2*Rload/(4*Lbst*uH*Vout_nom*Kpwm),COMPLEX(1,(C48*Rload*Cout*uF/2)))","v":"1.48415580041972-12.8831496508556i"},{"$f":"20*LOG(IMABS(D48))","v":22.2576986357772},{"$f":"180/PI()*IMARGUMENT(D48)","v":-83.4284198278266},{"$f":"IMPRODUCT(gm*µS*Vosreg/Vout_nom,IMDIV((COMPLEX(1,C48*(Rz*kΩ)*(Cz*uF))),IMPRODUCT((COMPLEX(0,C48*((Cz*uF)+(Cp*uF)))),(COMPLEX(1,C48*((Rz*kΩ)*(Cz*uF)*(Cp*uF))/((Cz*uF)+(Cp*uF)))))))","v":"0.0348397493370109-0.0346574358460333i"},{"$f":"20*LOG(IMABS(G48))","v":-26.1709257716067},{"$f":"(180/PI()*IMARGUMENT(G48))+180","v":135.150304930939},{"$f":"IMPRODUCT((D48),(G48))","v":"-0.39478931645568-0.500282738945573i"},{"$f":"20*LOG(IMABS(J48))","v":-3.9132271358295},{"$f":"(180/PI()*IMARGUMENT(J48))+180","v":51.7218851031125}]
[1.5,{"$f":"10^A49","v":31.6227766016838},{"$f":"2*PI()*B49","v":198.691765315922},{"$f":"IMDIV(Vin_rms_min^2*Rload/(4*Lbst*uH*Vout_nom*Kpwm),COMPLEX(1,(C49*Rload*Cout*uF/2)))","v":"0.940987306325137-10.2831535968489i"},{"$f":"20*LOG(IMABS(D49))","v":20.2787413478437},{"$f":"180/PI()*IMARGUMENT(D49)","v":-84.7715586522669},{"$f":"IMPRODUCT(gm*µS*Vosreg/Vout_nom,IMDIV((COMPLEX(1,C49*(Rz*kΩ)*(Cz*uF))),IMPRODUCT((COMPLEX(0,C49*((Cz*uF)+(Cp*uF)))),(COMPLEX(1,C49*((Rz*kΩ)*(Cz*uF)*(Cp*uF))/((Cz*uF)+(Cp*uF)))))))","v":"0.0284532611491526-0.0339579182078405i"},{"$f":"20*LOG(IMABS(G49))","v":-27.0713982015801},{"$f":"(180/PI()*IMARGUMENT(G49))+180","v":129.959563681498},{"$f":"IMPRODUCT((D49),(G49))","v":"-0.322420331195549-0.324543224710795i"},{"$f":"20*LOG(IMABS(J49))","v":-6.7926568537364},{"$f":"(180/PI()*IMARGUMENT(J49))+180","v":45.1880050292313}]
[1.6,{"$f":"10^A50","v":39.8107170553497},{"$f":"2*PI()*B50","v":250.138112470457},{"$f":"IMDIV(Vin_rms_min^2*Rload/(4*Lbst*uH*Vout_nom*Kpwm),COMPLEX(1,(C50*Rload*Cout*uF/2)))","v":"0.595547952124111-8.1933082346484i"},{"$f":"20*LOG(IMABS(D50))","v":18.292071054372},{"$f":"180/PI()*IMARGUMENT(D50)","v":-85.8426463763029},{"$f":"IMPRODUCT(gm*µS*Vosreg/Vout_nom,IMDIV((COMPLEX(1,C50*(Rz*kΩ)*(Cz*uF))),IMPRODUCT((COMPLEX(0,C50*((Cz*uF)+(Cp*uF)))),(COMPLEX(1,C50*((Rz*kΩ)*(Cz*uF)*(Cp*uF))/((Cz*uF)+(Cp*uF)))))))","v":"0.022047777704704-0.0320952905767501i"},{"$f":"20*LOG(IMABS(G50))","v":-28.1924001922697},{"$f":"(180/PI()*IMARGUMENT(G50))+180","v":124.487019319753},{"$f":"IMPRODUCT((D50),(G50))","v":"-0.249836099714996-0.199758523199461i"},{"$f":"20*LOG(IMABS(J50))","v":-9.90032913789777},{"$f":"(180/PI()*IMARGUMENT(J50))+180","v":38.6443729434505}]
[1.7,{"$f":"10^A51","v":50.1187233627272},{"$f":"2*PI()*B51","v":314.905226247286},{"$f":"IMDIV(Vin_rms_min^2*Rload/(4*Lbst*uH*Vout_nom*Kpwm),COMPLEX(1,(C51*Rload*Cout*uF/2)))","v":"0.37649558968696-6.52082358683124i"},{"$f":"20*LOG(IMABS(D51))","v":16.3005026302813},{"$f":"180/PI()*IMARGUMENT(D51)","v":-86.6955576408093},{"$f":"IMPRODUCT(gm*µS*Vosreg/Vout_nom,IMDIV((COMPLEX(1,C51*(Rz*kΩ)*(Cz*uF))),IMPRODUCT((COMPLEX(0,C51*((Cz*uF)+(Cp*uF)))),(COMPLEX(1,C51*((Rz*kΩ)*(Cz*uF)*(Cp*uF))/((Cz*uF)+(Cp*uF)))))))","v":"0.0162498851879974-0.0291765049976833i"},{"$f":"20*LOG(IMABS(G51))","v":-29.5259770146163},{"$f":"(180/PI()*IMARGUMENT(G51))+180","v":119.115666450761},{"$f":"IMPRODUCT((D51),(G51))","v":"-0.184136831863992-0.1169474600713i"},{"$f":"20*LOG(IMABS(J51))","v":-13.225474384335},{"$f":"(180/PI()*IMARGUMENT(J51))+180","v":32.420108809952}]
[1.8,{"$f":"10^A52","v":63.0957344480193},{"$f":"2*PI()*B52","v":396.4421916295},{"$f":"IMDIV(Vin_rms_min^2*Rload/(4*Lbst*uH*Vout_nom*Kpwm),COMPLEX(1,(C52*Rload*Cout*uF/2)))","v":"0.237844291926347-5.18603317968162i"},{"$f":"20*LOG(IMABS(D52))","v":14.3058310299677},{"$f":"180/PI()*IMARGUMENT(D52)","v":-87.3741140571079},{"$f":"IMPRODUCT(gm*µS*Vosreg/Vout_nom,IMDIV((COMPLEX(1,C52*(Rz*kΩ)*(Cz*uF))),IMPRODUCT((COMPLEX(0,C52*((Cz*uF)+(Cp*uF)))),(COMPLEX(1,C52*((Rz*kΩ)*(Cz*uF)*(Cp*uF))/((Cz*uF)+(Cp*uF)))))))","v":"0.0114696015252387-0.0255873134952105i"},{"$f":"20*LOG(IMABS(G52))","v":-31.0443250830476},{"$f":"(180/PI()*IMARGUMENT(G52))+180","v":114.144472654584},{"$f":"IMPRODUCT((D52),(G52))","v":"-0.129968677511629-0.0655675305281806i"},{"$f":"20*LOG(IMABS(J52))","v":-16.7384940530799},{"$f":"(180/PI()*IMARGUMENT(J52))+180","v":26.7703585974762}]
[1.9,{"$f":"10^A53","v":79.4328234724281},{"$f":"2*PI()*B53","v":499.09114934975},{"$f":"IMDIV(Vin_rms_min^2*Rload/(4*Lbst*uH*Vout_nom*Kpwm),COMPLEX(1,(C53*Rload*Cout*uF/2)))","v":"0.150185937245628-4.12260596198495i"},{"$f":"20*LOG(IMABS(D53))","v":12.3091963897346},{"$f":"180/PI()*IMARGUMENT(D53)","v":-87.9136456936779},{"$f":"IMPRODUCT(gm*µS*Vosreg/Vout_nom,IMDIV((COMPLEX(1,C53*(Rz*kΩ)*(Cz*uF))),IMPRODUCT((COMPLEX(0,C53*((Cz*uF)+(Cp*uF)))),(COMPLEX(1,C53*((Rz*kΩ)*(Cz*uF)*(Cp*uF))/((Cz*uF)+(Cp*uF)))))))","v":"0.00782249375482711-0.0217862252380191i"},{"$f":"20*LOG(IMABS(G53))","v":-32.7097214917208},{"$f":"(180/PI()*IMARGUMENT(G53))+180","v":109.751024163279},{"$f":"IMPRODUCT((D53),(G53))","v":"-0.0886411934992378-0.0355210440476566i"},{"$f":"20*LOG(IMABS(J53))","v":-20.4005251019863},{"$f":"(180/PI()*IMARGUMENT(J53))+180","v":21.8373784696012}]
[2,{"$f":"10^A54","v":100},{"$f":"2*PI()*B54","v":628.318530717959},{"$f":"IMDIV(Vin_rms_min^2*Rload/(4*Lbst*uH*Vout_nom*Kpwm),COMPLEX(1,(C54*Rload*Cout*uF/2)))","v":"0.0948072922903359-3.27630482262665i"},{"$f":"20*LOG(IMABS(D54))","v":10.3113211307916},{"$f":"180/PI()*IMARGUMENT(D54)","v":-88.3424795416383},{"$f":"IMPRODUCT(gm*µS*Vosreg/Vout_nom,IMDIV((COMPLEX(1,C54*(Rz*kΩ)*(Cz*uF))),IMPRODUCT((COMPLEX(0,C54*((Cz*uF)+(Cp*uF)))),(COMPLEX(1,C54*((Rz*kΩ)*(Cz*uF)*(Cp*uF))/((Cz*uF)+(Cp*uF)))))))","v":"0.00520124764520304-0.0181397823854341i"},{"$f":"20*LOG(IMABS(G54))","v":-34.4842231619256},{"$f":"(180/PI()*IMARGUMENT(G54))+180","v":105.999266693051},{"$f":"IMPRODUCT((D54),(G54))","v":"-0.0589383403050225-0.0187606563943532i"},{"$f":"20*LOG(IMABS(J54))","v":-24.172902031134},{"$f":"(180/PI()*IMARGUMENT(J54))+180","v":17.6567871514128}]
[2.1,{"$f":"10^A55","v":125.892541179417},{"$f":"2*PI()*B55","v":791.006165022012},{"$f":"IMDIV(Vin_rms_min^2*Rload/(4*Lbst*uH*Vout_nom*Kpwm),COMPLEX(1,(C55*Rload*Cout*uF/2)))","v":"0.0598378332041186-2.60326522313092i"},{"$f":"20*LOG(IMABS(D55))","v":8.31266228682427},{"$f":"180/PI()*IMARGUMENT(D55)","v":-88.6832491518519},{"$f":"IMPRODUCT(gm*µS*Vosreg/Vout_nom,IMDIV((COMPLEX(1,C55*(Rz*kΩ)*(Cz*uF))),IMPRODUCT((COMPLEX(0,C55*((Cz*uF)+(Cp*uF)))),(COMPLEX(1,C55*((Rz*kΩ)*(Cz*uF)*(Cp*uF))/((Cz*uF)+(Cp*uF)))))))","v":"0.00339710317632865-0.0148651057724782i"},{"$f":"20*LOG(IMABS(G55))","v":-36.3355522657589},{"$f":"(180/PI()*IMARGUMENT(G55))+180","v":102.872674480846},{"$f":"IMPRODUCT((D55),(G55))","v":"-0.0384945376024129-0.0097330562780991i"},{"$f":"20*LOG(IMABS(J55))","v":-28.0228899789346},{"$f":"(180/PI()*IMARGUMENT(J55))+180","v":14.1894253289939}]
[2.2,{"$f":"10^A56","v":158.489319246111},{"$f":"2*PI()*B56","v":995.817762032062},{"$f":"IMDIV(Vin_rms_min^2*Rload/(4*Lbst*uH*Vout_nom*Kpwm),COMPLEX(1,(C56*Rload*Cout*uF/2)))","v":"0.0377624794015324-2.06825012495287i"},{"$f":"20*LOG(IMABS(D56))","v":6.31350871222451},{"$f":"180/PI()*IMARGUMENT(D56)","v":-88.9539996675363},{"$f":"IMPRODUCT(gm*µS*Vosreg/Vout_nom,IMDIV((COMPLEX(1,C56*(Rz*kΩ)*(Cz*uF))),IMPRODUCT((COMPLEX(0,C56*((Cz*uF)+(Cp*uF)))),(COMPLEX(1,C56*((Rz*kΩ)*(Cz*uF)*(Cp*uF))/((Cz*uF)+(Cp*uF)))))))","v":"0.00219203563460418-0.012049798944732i"},{"$f":"20*LOG(IMABS(G56))","v":-38.2390099658198},{"$f":"(180/PI()*IMARGUMENT(G56))+180","v":100.310199842532},{"$f":"IMPRODUCT((D56),(G56))","v":"-0.0248392214725998-0.00498870825961429i"},{"$f":"20*LOG(IMABS(J56))","v":-31.9255012535953},{"$f":"(180/PI()*IMARGUMENT(J56))+180","v":11.3562001749962}]
[2.3,{"$f":"10^A57","v":199.526231496888},{"$f":"2*PI()*B57","v":1253.66028613816},{"$f":"IMDIV(Vin_rms_min^2*Rload/(4*Lbst*uH*Vout_nom*Kpwm),COMPLEX(1,(C57*Rload*Cout*uF/2)))","v":"0.023829444351634-1.64307154134106i"},{"$f":"20*LOG(IMABS(D57))","v":4.31404285543988},{"$f":"180/PI()*IMARGUMENT(D57)","v":-89.1690983373757},{"$f":"IMPRODUCT(gm*µS*Vosreg/Vout_nom,IMDIV((COMPLEX(1,C57*(Rz*kΩ)*(Cz*uF))),IMPRODUCT((COMPLEX(0,C57*((Cz*uF)+(Cp*uF)))),(COMPLEX(1,C57*((Rz*kΩ)*(Cz*uF)*(Cp*uF))/((Cz*uF)+(Cp*uF)))))))","v":"0.0014031584829128-0.00969734734588052i"},{"$f":"20*LOG(IMABS(G57))","v":-40.1769529466467},{"$f":"(180/PI()*IMARGUMENT(G57))+180","v":98.2332758059203},{"$f":"IMPRODUCT((D57),(G57))","v":"-0.0158999989635305-0.00253657217020244i"},{"$f":"20*LOG(IMABS(J57))","v":-35.8629100912068},{"$f":"(180/PI()*IMARGUMENT(J57))+180","v":9.06417746854456}]
[2.4,{"$f":"10^A58","v":251.188643150958},{"$f":"2*PI()*B58","v":1578.26479197648},{"$f":"IMDIV(Vin_rms_min^2*Rload/(4*Lbst*uH*Vout_nom*Kpwm),COMPLEX(1,(C58*Rload*Cout*uF/2)))","v":"0.0150365298664149-1.3052394124916i"},{"$f":"20*LOG(IMABS(D58))","v":2.31437991082983},{"$f":"180/PI()*IMARGUMENT(D58)","v":-89.3399742740913},{"$f":"IMPRODUCT(gm*µS*Vosreg/Vout_nom,IMDIV((COMPLEX(1,C58*(Rz*kΩ)*(Cz*uF))),IMPRODUCT((COMPLEX(0,C58*((Cz*uF)+(Cp*uF)))),(COMPLEX(1,C58*((Rz*kΩ)*(Cz*uF)*(Cp*uF))/((Cz*uF)+(Cp*uF)))))))","v":"0.00089351713684648-0.00776745928817096i"},{"$f":"20*LOG(IMABS(G58))","v":-42.1373284008134},{"$f":"(180/PI()*IMARGUMENT(G58))+180","v":96.5620842612952},{"$f":"IMPRODUCT((D58),(G58))","v":"-0.0101249586007303-0.00128304941632142i"},{"$f":"20*LOG(IMABS(J58))","v":-39.8229484899836},{"$f":"(180/PI()*IMARGUMENT(J58))+180","v":7.22210998720394}]
[2.5,{"$f":"10^A59","v":316.227766016838},{"$f":"2*PI()*B59","v":1986.91765315922},{"$f":"IMDIV(Vin_rms_min^2*Rload/(4*Lbst*uH*Vout_nom*Kpwm),COMPLEX(1,(C59*Rload*Cout*uF/2)))","v":"0.00948787357985296-1.0368392928714i"},{"$f":"20*LOG(IMABS(D59))","v":0.314592591863981},{"$f":"180/PI()*IMARGUMENT(D59)","v":-89.4757143718409},{"$f":"IMPRODUCT(gm*µS*Vosreg/Vout_nom,IMDIV((COMPLEX(1,C59*(Rz*kΩ)*(Cz*uF))),IMPRODUCT((COMPLEX(0,C59*((Cz*uF)+(Cp*uF)))),(COMPLEX(1,C59*((Rz*kΩ)*(Cz*uF)*(Cp*uF))/((Cz*uF)+(Cp*uF)))))))","v":"0.000567078712664649-0.00620277100204498i"},{"$f":"20*LOG(IMABS(G59))","v":-44.1121364969025},{"$f":"(180/PI()*IMARGUMENT(G59))+180","v":95.2236564834129},{"$f":"IMPRODUCT((D59),(G59))","v":"-0.00642589632846796-0.00064682059855381i"},{"$f":"20*LOG(IMABS(J59))","v":-43.7975439050385},{"$f":"(180/PI()*IMARGUMENT(J59))+180","v":5.747942111572}]
[2.6,{"$f":"10^A60","v":398.107170553497},{"$f":"2*PI()*B60","v":2501.38112470457},{"$f":"IMDIV(Vin_rms_min^2*Rload/(4*Lbst*uH*Vout_nom*Kpwm),COMPLEX(1,(C60*Rload*Cout*uF/2)))","v":"0.00598662850408327-0.823616174740271i"},{"$f":"20*LOG(IMABS(D60))","v":-1.68527321011622},{"$f":"180/PI()*IMARGUMENT(D60)","v":-89.5835408329139},{"$f":"IMPRODUCT(gm*µS*Vosreg/Vout_nom,IMDIV((COMPLEX(1,C60*(Rz*kΩ)*(Cz*uF))),IMPRODUCT((COMPLEX(0,C60*((Cz*uF)+(Cp*uF)))),(COMPLEX(1,C60*((Rz*kΩ)*(Cz*uF)*(Cp*uF))/((Cz*uF)+(Cp*uF)))))))","v":"0.000359131869203244-0.00494366270258791i"},{"$f":"20*LOG(IMABS(G60))","v":-46.0961646834527},{"$f":"(180/PI()*IMARGUMENT(G60))+180","v":94.1549473328294},{"$f":"IMPRODUCT((D60),(G60))","v":"-0.00406953057522671-0.000325382688390382i"},{"$f":"20*LOG(IMABS(J60))","v":-47.7814378935689},{"$f":"(180/PI()*IMARGUMENT(J60))+180","v":4.57140649991536}]
[2.7,{"$f":"10^A61","v":501.187233627272},{"$f":"2*PI()*B61","v":3149.05226247286},{"$f":"IMDIV(Vin_rms_min^2*Rload/(4*Lbst*uH*Vout_nom*Kpwm),COMPLEX(1,(C61*Rload*Cout*uF/2)))","v":"0.00377738087104177-0.654234337799667i"},{"$f":"20*LOG(IMABS(D61))","v":-3.68518853475637},{"$f":"180/PI()*IMARGUMENT(D61)","v":-89.6691925750265},{"$f":"IMPRODUCT(gm*µS*Vosreg/Vout_nom,IMDIV((COMPLEX(1,C61*(Rz*kΩ)*(Cz*uF))),IMPRODUCT((COMPLEX(0,C61*((Cz*uF)+(Cp*uF)))),(COMPLEX(1,C61*((Rz*kΩ)*(Cz*uF)*(Cp*uF))/((Cz*uF)+(Cp*uF)))))))","v":"0.000227129344997032-0.00393527450264335i"},{"$f":"20*LOG(IMABS(G61))","v":-48.0860563334444},{"$f":"(180/PI()*IMARGUMENT(G61))+180","v":93.3032337564171},{"$f":"IMPRODUCT((D61),(G61))","v":"-0.00257373375425374-0.000163460847247587i"},{"$f":"20*LOG(IMABS(J61))","v":-51.7712448682008},{"$f":"(180/PI()*IMARGUMENT(J61))+180","v":3.63404118139036}]
[2.8,{"$f":"10^A62","v":630.957344480193},{"$f":"2*PI()*B62","v":3964.421916295},{"$f":"IMDIV(Vin_rms_min^2*Rload/(4*Lbst*uH*Vout_nom*Kpwm),COMPLEX(1,(C62*Rload*Cout*uF/2)))","v":"0.00238339552409897-0.519683199801555i"},{"$f":"20*LOG(IMABS(D62))","v":-5.68513510736672},{"$f":"180/PI()*IMARGUMENT(D62)","v":-89.7372292445404},{"$f":"IMPRODUCT(gm*µS*Vosreg/Vout_nom,IMDIV((COMPLEX(1,C62*(Rz*kΩ)*(Cz*uF))),IMPRODUCT((COMPLEX(0,C62*((Cz*uF)+(Cp*uF)))),(COMPLEX(1,C62*((Rz*kΩ)*(Cz*uF)*(Cp*uF))/((Cz*uF)+(Cp*uF)))))))","v":"0.00014352171589763-0.00313011754647385i"},{"$f":"20*LOG(IMABS(G62))","v":-50.0796660654601},{"$f":"(180/PI()*IMARGUMENT(G62))+180","v":92.625279381362},{"$f":"IMPRODUCT((D62),(G62))","v":"-0.00162632743329124-8.20461327088595e-05i"},{"$f":"20*LOG(IMABS(J62))","v":-55.7648011728268},{"$f":"(180/PI()*IMARGUMENT(J62))+180","v":2.88805013682165}]
[2.9,{"$f":"10^A63","v":794.328234724281},{"$f":"2*PI()*B63","v":4990.9114934975},{"$f":"IMDIV(Vin_rms_min^2*Rload/(4*Lbst*uH*Vout_nom*Kpwm),COMPLEX(1,(C63*Rload*Cout*uF/2)))","v":"0.00150383258371323-0.412802242949271i"},{"$f":"20*LOG(IMABS(D63))","v":-7.68510139662459},{"$f":"180/PI()*IMARGUMENT(D63)","v":-89.7912732296194},{"$f":"IMPRODUCT(gm*µS*Vosreg/Vout_nom,IMDIV((COMPLEX(1,C63*(Rz*kΩ)*(Cz*uF))),IMPRODUCT((COMPLEX(0,C63*((Cz*uF)+(Cp*uF)))),(COMPLEX(1,C63*((Rz*kΩ)*(Cz*uF)*(Cp*uF))/((Cz*uF)+(Cp*uF)))))))","v":"9.06409983151504e-05-0.00248845982572886i"},{"$f":"20*LOG(IMABS(G63))","v":-52.0756291545275},{"$f":"(180/PI()*IMARGUMENT(G63))+180","v":92.0860500438796},{"$f":"IMPRODUCT((D63),(G63))","v":"-0.00102710548866334-4.11590343768476e-05i"},{"$f":"20*LOG(IMABS(J63))","v":-59.7607305511521},{"$f":"(180/PI()*IMARGUMENT(J63))+180","v":2.29477681426005}]
[3,{"$f":"10^A64","v":1000},{"$f":"2*PI()*B64","v":6283.18530717959},{"$f":"IMDIV(Vin_rms_min^2*Rload/(4*Lbst*uH*Vout_nom*Kpwm),COMPLEX(1,(C64*Rload*Cout*uF/2)))","v":"0.000948858860719054-0.327902082874141i"},{"$f":"20*LOG(IMABS(D64))","v":-9.68508012644966},{"$f":"180/PI()*IMARGUMENT(D64)","v":-89.8342021622711},{"$f":"IMPRODUCT(gm*µS*Vosreg/Vout_nom,IMDIV((COMPLEX(1,C64*(Rz*kΩ)*(Cz*uF))),IMPRODUCT((COMPLEX(0,C64*((Cz*uF)+(Cp*uF)))),(COMPLEX(1,C64*((Rz*kΩ)*(Cz*uF)*(Cp*uF))/((Cz*uF)+(Cp*uF)))))))","v":"5.7224461628464e-05-0.00197771758195243i"},{"$f":"20*LOG(IMABS(G64))","v":-54.0730800715386},{"$f":"(180/PI()*IMARGUMENT(G64))+180","v":91.6573678830852},{"$f":"IMPRODUCT((D64),(G64))","v":"-0.000648443416521546-2.06405950109601e-05i"},{"$f":"20*LOG(IMABS(J64))","v":-63.7581601979884},{"$f":"(180/PI()*IMARGUMENT(J64))+180","v":1.82316572081405}]