Workbook
Name ACS: Calculations!$B$84
Name adc: Control_Loop_Tables!$B$35
Name adc_ea: Control_Loop_Tables!$B$59
Name ADC_VINmin: Calculations!$B$136
Name arCss: Calculations!$B$183
Name aRUV_lower: Calculations!$B$191
Name aRUV_upper: Calculations!$B$190
Name aRUV_upper_SEL: Calculations!$B$192
Name aTSSmax: Calculations!$B$184
Name Ccomp: Calculations!$B$170
Name Ccomp_S: Calculations!$B$179
Name CHF: Calculations!$B$171
Name CHF_S: Calculations!$B$180
Name COUT: Calculations!$B$115
Name DC_VIN_var_DCM: Control_Loop_Tables!$B$65
Name EFF_est: Calculations!$B$8
Name EFF_IOUT: 'Plot Management'!$B$3
Name Eff_Plot_image: INDIRECT('Plot Management'!$A$1)
Name EFF_VIN: 'Plot Management'!$B$5
Name eta: Calculations!$B$7
Name Fco_calc: Calculations!$B$167
Name Fcross: Calculations!$B$168
Name fp_lf_VINmin: Calculations!$B$139
Name fsw: Calculations!$B$6
Name fz_esr_VINmin: Calculations!$B$142
Name fz_rhp_VINmin: Calculations!$B$145
Name Gcomp: Control_Loop_Tables!$B$28
Name gfs: Calculations!$B$209
Name Graph_Text: Calculations!$B$21
Name IHYS: Calculations!$G$184
Name IHYSmin: Calculations!$G$186
Name IOUT: Calculations!$B$10
Name IOUT_np: Calculations!$B$12
Name IOUT_vari: Control_Loop_Tables!$B$15
Name IQ: EC_Table!$D$6
Name Isl: Control_Loop_Tables!$B$26
Name ISS: Calculations!$G$183
Name k_slope_selected: Calculations!$B$98
Name Kd: Control_Loop_Tables!$B$33
Name Kd_VINmin: Calculations!$B$132
Name kex: Control_Loop_Tables!$B$31
Name Kex_VINmin: Calculations!$B$130
Name km: Control_Loop_Tables!$B$32
Name Km_VINmin: Calculations!$B$131
Name Lm: Calculations!$B$42
Name LO: Calculations!$B$187
Name M_LIMIT: Calculations!$B$82
Name np: Calculations!$B$11
Name pTSSmin: Calculations!$B$182
Name Q: Control_Loop_Tables!$B$49
Name Q_VINmin: Calculations!$B$153
Name Qg_tot: Calculations!$B$204
Name Qg_tot_HS: Calculations!$B$221
Name Qgd: Calculations!$B$205
Name Qgs: Calculations!$B$206
Name Qrr: Calculations!$B$229
Name R_RT: Calculations!$B$24
Name R_sl: Control_Loop_Tables!$B$24
Name Rcomp: Calculations!$B$169
Name Rcomp_S: Calculations!$B$178

Sheet LM5122_Quickstart
E1: LM5122 Boost Controller Design Tool
A3: About | F3: = Input Box | J3: http://www.ti.com/product/lm5122 | O3: TERMS OF USE
A6: Specifications
H7: Minimum Input Supply Voltage (VIN_MIN) | I7: 18 | J7: V
H8: Typical Input Supply Voltage (VIN_Typ) | I8: 20 | J8: V
H9: Maximum Input Supply Voltage (VIN_MAX) | I9: 60 | J9: V
H10: Target Output Voltage (VOUT) | I10: 60 | J10: V
H11: Maximum Total Load Current (IOUT) | I11: 7.52 | J11: A
H12: Number of Phase (nP) | I12: 2
H13: Light load operation switching mode | I13: FPWM
H14: Output Power Per Phase, POUT | I14: =I10*I15 -> 225.6 | J14: W
H15: Maximum Load Current per Phase (IOUT/nP) | I15: =Calculations!B12 -> 3.76 | J15: A
H16: Total Output Power, POUT | I16: =I15*I12*I10 -> 451.2 | J16: W
H17: Switching Freqeuncy | I17: 130 | J17: kHz
A19: Timing Resistor
H20: Calculate RT resistor (RRT) | I20: =Calculations!B24/1000 -> 69.230769 | J20: kΩ
H21: Maximum SYNCIN Freqeuncy | I21: =Calculations!B26/1000 -> 182 | J21: kHz
H22: Minimum SYNCIN Freqeuncy | I22: =Calculations!B27/1000 -> 104 | J22: kHz
A24: Inductor Selection
H25: Selected Ripple Ratio (RR) | I25: 30 | J25: %
H26: Calculated Inductor Value (LCALC) | I26: =Calculations!B41*(10^6) -> 28.490028 | J26: uH
H27: Selected Inductor Value (LM) | I27: 10 | J27: uH
H28: Selected Inductor (RLM) | I28: 2.05 | J28: mΩ
H29: Average Inductor Current at VIN_MIN (ILAVG_VIN_MIN) | I29: =Calculations!B45 -> 13.333333 | J29: A
H30: Peak Inductor Current at VIN_MIN (ILPEAK_VIN_MIN) | I30: =Calculations!B57 -> 18.179487 | J30: A
H32: Average Inductor Current at VIN_TYP (ILAVG_VIN_TYP) | I32: =Calculations!B46 -> 12 | J32: A
H33: Peak Inductor Current at VIN_TYP (ILPEAK_VIN_TYP) | I33: =Calculations!B58 -> 17.128205 | J33: A
H35: Average Inductor Current at VIN_MAX (ILAVG_VIN_MAX) | I35: =Calculations!B47 -> 4 | J35: A
H36: Peak Inductor Current at VIN_MAX (ILPEAK_VIN_MAX) | I36: =Calculations!B59 -> 4 | J36: A
A38: Current Limit Calcualtions
H39: Selected margin for current limit (MLIMIT) | I39: 25 | J39: %
H40: Target Peak Current Limit (ILPEAK_LIMIT_TARGET) | I40: =Calculations!B83 -> 22.724359 | J40: A
H41: Calculated Current Sense Resistor (RCS_CALC) | I41: =Calculations!B86*1000 -> 3.3004231 | J41: mΩ
H42: Selected Current Sense Resistor (RCS) | I42: 2 | J42: mΩ
H43: Limited Peak Inductor Current (ILPEAK_LIMIT) | I43: =Calculations!B89 -> 37.5 | J43: A
H45: Total maximum ouput current at peak current limit (IOUT_LIMIT_VIN_MIN) | I45: =Calculations!B93 -> 19.592308 | J45: A
H46: Total maximum ouput current at peak current limit (IOUT_LIMIT_VIN_TYP) | I46: =Calculations!B94 -> 21.581197 | J46: A
H47: Total maximum ouput current at peak current limit (IOUT_LIMIT_VIN_MAX) | I47: =Calculations!B95 -> 75 | J47: A
A49: Slope Compenstation
H50: Selected K Factor (KSLOPE) | I50: 1
H51: Minimum slope compensation resistor (RSL_MIN) | I51: =Calculations!B99/1000 -> 39.461538 | J51: kΩ
H52: Calculated slope Compensation Resistor (RSL_calc) | I52: =Calculations!B100/1000 -> 71.428571 | J52: kΩ
H53: Selected Slope Compensation Resistor (RSL) | I53: 40.2 | J53: kΩ
A55: Output Capacitance (per phase)
H56: Desired output ripple | I56: 24 | J56: mV
H57: Calculated minimum output capacitance | I57: =Calculations!B112*(10^6) -> 2314.1026 | J57: uF
H58: Selected output capacitance (COUT) | I58: 3640 | J58: uF
H59: Total sereies resistance of output capacitance (RESR) | I59: 15 | J59: mΩ
A61: Feedback Resistor Calculations
H62: Selected Top Feedback Resistor (RFB2) | I62: 28.8 | J62: kΩ
H63: Calculated Bottom Feedback Resistor (RFB1) | I63: =Calculations!B161/1000 -> 0.5877551 | J63: kΩ
H64: Selected Bottom Feedback Resistor (RFB1) | I64: 0.576 | J64: kΩ
A66: Soft-Start Capacitor Calculation
H67: Desired minimum soft-start time at maximum input voltage (TSS_MIN) | I67: 2 | J67: ms
H68: Maximum soft-start time at minimum input voltage (TSS_MAX) | I68: =aTSSmax -> #DIV/0! | J68: ms
H69: Calculated soft-start capacitor (CSS) | I69: =arCss -> #DIV/0! | J69: nF
A71: UVLO Resistor Divider Selection
A72: Desired voltage On (VUVLO_ON) | I72: 8.3 | J72: V
A73: Desired voltage OFF (VUVLO_OFF) | I73: 7.85 | J73: V
A74: Calculated top UVLO resistor value (RUVT_CALC) | I74: =aRUV_upper -> 45 | J74: kΩ
A75: Selected top UVLO resistor value (RUVT) | I75: 47.5 | J75: kΩ
A76: Bottom UVLO Resistor (RUVB) | I76: =aRUV_lower -> 8.028169 | J76: kΩ
A78: Compensation Calcualtions
H79: Suggested Cross over frequency | I79: =Calculations!B167/1000 -> 4.5714718 | J79: kHz
H80: Selected cross over frequency | I80: 1.36 | J80: kHz
G82: Selected Vin | I82: =VIN_TYP -> 20 | J82: V
G84: Calculated | I84: Selected
F85: RCOMP | G85: =Calculations!B169/1000 -> 53.746612 | H85: kΩ | I85: 56 | J85: kΩ
F86: CCOMP | G86: =Calculations!B170*10^9 -> 540.36064 | H86: nF | I86: 470 | J86: nF
F87: CHF | G87: =Calculations!B171*10^12 -> 1017.7914 | H87: pF | I87: 1000 | J87: pF
A89: Efficiency / Power Loss Analyzer
A92: Low-Side MOSFET Parameters (QLS)
G93: On-State Resistance, RDS(on) | H93: 1 | I93: mΩ
G94: Total Gate Charge, QG | H94: 10 | I94: nC
G95: Gate-Drain Charge, QGD | H95: 2.4 | I95: nC
G96: Gate-Source Charge, QGS | H96: 4.5 | I96: nC
G97: Gate Resistance, RG | H97: 0 | I97: Ω
G98: Gate-Source Threshold Voltage, VTH | H98: 1.7 | I98: V
A100: High-Side MOSFET Parameters (QHS)
G101: On-State Resistance, (RDS(on)) | H101: 1 | I101: mΩ
G102: Total Gate Charge, (QG) | H102: 10 | I102: nC
G103: Gate-Drain Charge, (QGD) | H103: 2.4 | I103: nC
G104: Gate-Source Charge, (QGS) | H104: 4.5 | I104: nC
G105: Gate Resistance, (RG) | H105: 0 | I105: Ω
G106: Gate-Source Threshold Voltage, (VTH) | H106: 1.7 | I106: V
G107: Body Diode Reverse Recovery Charge (QRR) | H107: 33 | I107: nC
G108: Body Diode Forward Voltage Drop (VD_BD) | H108: 0.8 | I108: V

Sheet Licenses
A5: Version Number | B5: 1.1.0
A35: Version History
A36: Version | B36: Change List Description
A37: 1.0.0 | B37: Initial Release
A38: 1.1.0 | B38: Adjusted compensation network calculation

Sheet Eff_vs_IOUT
A1: EXCEL Variables Names/Calculations
R5: Operation Variables | V5: Duty Cycle | Y5: Inductor | AE5: Low-Side MOSFET | AJ5: High-Side MOSFET Losses | AP5: Other Losses | AU5: Total Losses
R6: VOUT | S6: IOUT | T6: VIN | U6: IIN | V6: DCM/CCM | W6: DC | X6: DC_off | Y6: dIL | Z6: ILPEAK | AA6: ILRMS | AB6: PLac (W) | AC6: PL_DCR (W) | AD6: PL_tot (W) | AE6: ISWAVG (A) | AF6: ISWRMS | AG6: PQ_COND (W) | AH6: PQ_SW (W) | AI6: PQ_tot (W) | AJ6: IDAVG (A) | AK6: IHSRMS | AL6: PD_COND (W) | AM6: PD_SW (W) | AN6: Dead Time losses | AO6: PHS_tot (W) | AP6: PRCS (W) | AQ6: PL_DCR (W) | AR6: PL_CORE (W) | AS6: PG_drv (W) | AT6: PIQ (W) | AU6: PTOTAL (W) | AV6: POUT (W) | AW6: Eff
Q7: 0 | R7: =VOUT -> 60 | S7: =Q7*$O$12 -> 0 | T7: =Vin_vari -> 20 | U7: =(R7*S7)/(T7*EFF_est) -> 0 | V7: =IF(Calculations!$B$17=3,2,IF((S7*R7/T7)<((T7*(1-(T7/R7)))/(2*Lm*fsw)),1,2)) -> 2 | W7: =CHOOSE(V7,SQRT((2*S7*Lm*fsw*(R7-T7))/((T7)^2)),1-(T7/R7)) -> 0.66666667 | X7: =CHOOSE(V7,(Lm*Z7*fsw)/(R7-T7),1-W7) -> 0.33333333 | Y7: =(T7*W7)/(Lm*fsw) -> 10.25641 | Z7: =CHOOSE(V7,Y7,U7+(0.5*Y7)) -> 5.1282051 | AA7: =CHOOSE(V7,Z7*SQRT((W7+X7)/3),SQRT((U7^2)+((Y7^2)/12))) -> 2.9607706 | AB7: 0 | AC7: =(AA7^2)*Rdcr -> 0.017970633 | AD7: =AB7+AC7 -> 0.017970633 | AE7: =U7*W7 -> 0 | AF7: =CHOOSE(V7,Z7*SQRT(W7/3),SQRT(W7*((Z7^2)+((Y7^2)/3)-(Z7*Y7)))) -> 2.4174591 | AG7: =(AF7^2)*RDS_on -> 0.0058441084 | AH7: =((R7*U7)/2)*fsw*(tr_sw+tf_sw) -> 0 | AI7: =AG7+AH7 -> 0.0058441084 | AJ7: =X7*U7 -> 0 | AK7: =CHOOSE(V7,Z7*SQRT(X7/3),SQRT(X7*((Z7^2)+((Y7^2)/3)-(Y7*Z7)))) -> 1.7094017 | AL7: =(AK7^2)*RDS_on_HS -> 0.0029220542 | AM7: =CHOOSE(V7,0,(R7+Vd_rect)*Qrr*fsw) -> 0.260832 | AN7: =Vd_rect*t_dead*fsw*Z7 -> 0.042666667 | AO7: =AL7+AM7+AN7 -> 0.30642072 | AP7: =(AA7^2)*Rcs -> 0.017532325 | AQ7: =Rdcr*AA7^2 -> 0.017970633 | AR7: =ABS(7.759*10^-3*fsw^0.9458*(0.00787*Y7)^2.304) -> 1.6152231 | AS7: =(Qg_tot+Qg_tot_HS)*VCC*fsw -> 0.01976 | AT7: =IQ*T7 -> 0.08 | AU7: =AP7+AO7+AI7+AD7+AS7+AT7+AQ7+AR7 -> 2.0807215 | AV7: =R7*S7 -> 0 | AW7: =(AV7/(AV7+AU7))*100 -> 0
M8: =fsw -> 130000 | Q8: 1 | R8: =VOUT -> 60 | S8: =Q8*$O$12 -> 0.050133333 | T8: =Vin_vari -> 20 | U8: =(R8*S8)/(T8*EFF_est) -> 0.1504 | V8: =IF(Calculations!$B$17=3,2,IF((S8*R8/T8)<((T8*(1-(T8/R8)))/(2*Lm*fsw)),1,2)) -> 2 | W8: =CHOOSE(V8,SQRT((2*S8*Lm*fsw*(R8-T8))/((T8)^2)),1-(T8/R8)) -> 0.66666667 | X8: =CHOOSE(V8,(Lm*Z8*fsw)/(R8-T8),1-W8) -> 0.33333333 | Y8: =(T8*W8)/(Lm*fsw) -> 10.25641 | Z8: =CHOOSE(V8,Y8,U8+(0.5*Y8)) -> 5.2786051 | AA8: =CHOOSE(V8,Z8*SQRT((W8+X8)/3),SQRT((U8^2)+((Y8^2)/12))) -> 2.9645881 | AB8: 0 | AC8: =(AA8^2)*Rdcr -> 0.018017005 | AD8: =AB8+AC8 -> 0.018017005 | AE8: =U8*W8 -> 0.10026667 | AF8: =CHOOSE(V8,Z8*SQRT(W8/3),SQRT(W8*((Z8^2)+((Y8^2)/3)-(Z8*Y8)))) -> 2.4205761 | AG8: =(AF8^2)*RDS_on -> 0.0058591885 | AH8: =((R8*U8)/2)*fsw*(tr_sw+tf_sw) -> 0.009405215 | AI8: =AG8+AH8 -> 0.015264404 | AJ8: =X8*U8 -> 0.050133333 | AK8: =CHOOSE(V8,Z8*SQRT(X8/3),SQRT(X8*((Z8^2)+((Y8^2)/3)-(Y8*Z8)))) -> 1.7116058 | AL8: =(AK8^2)*RDS_on_HS -> 0.0029295943 | AM8: =CHOOSE(V8,(R8+Vd_rect)*Qrr*fsw,(R8+Vd_rect)*Qrr*fsw) -> 0.260832 | AN8: =Vd_rect*t_dead*fsw*Z8 -> 0.043917995 | AO8: =AL8+AM8+AN8 -> 0.30767959 | AP8: =(AA8^2)*Rcs -> 0.017577566 | AQ8: =Rdcr*AA8^2 -> 0.018017005 | AR8: =ABS(7.759*10^-3*fsw^0.9458*(0.00787*Y8)^2.304) -> 1.6152231 | AS8: =(Qg_tot+Qg_tot_HS)*VCC*fsw -> 0.01976 | AT8: =IQ*T8 -> 0.08 | AU8: =AP8+AO8+AI8+AD8+AS8+AT8+AQ8+AR8 -> 2.0915387 | AV8: =R8*S8 -> 3.008 | AW8: =(AV8/(AV8+AU8))*100 -> 58.985728
N9: VIN_VAR | O9: =Vin_vari -> 20 | P9: V | Q9: 2 | R9: =VOUT -> 60 | S9: =Q9*$O$12 -> 0.10026667 | T9: =Vin_vari -> 20 | U9: =(R9*S9)/(T9*EFF_est) -> 0.3008 | V9: =IF(Calculations!$B$17=3,2,IF((S9*R9/T9)<((T9*(1-(T9/R9)))/(2*Lm*fsw)),1,2)) -> 2 | W9: =CHOOSE(V9,SQRT((2*S9*Lm*fsw*(R9-T9))/((T9)^2)),1-(T9/R9)) -> 0.66666667 | X9: =CHOOSE(V9,(Lm*Z9*fsw)/(R9-T9),1-W9) -> 0.33333333 | Y9: =(T9*W9)/(Lm*fsw) -> 10.25641 | Z9: =CHOOSE(V9,Y9,U9+(0.5*Y9)) -> 5.4290051 | AA9: =CHOOSE(V9,Z9*SQRT((W9+X9)/3),SQRT((U9^2)+((Y9^2)/12))) -> 2.9760113 | AB9: 0 | AC9: =(AA9^2)*Rdcr -> 0.018156119 | AD9: =AB9+AC9 -> 0.018156119 | AE9: =U9*W9 -> 0.20053333 | AF9: =CHOOSE(V9,Z9*SQRT(W9/3),SQRT(W9*((Z9^2)+((Y9^2)/3)-(Z9*Y9)))) -> 2.4299031 | AG9: =(AF9^2)*RDS_on -> 0.0059044288 | AH9: =((R9*U9)/2)*fsw*(tr_sw+tf_sw) -> 0.01881043 | AI9: =AG9+AH9 -> 0.024714859 | AJ9: =X9*U9 -> 0.10026667 | AK9: =CHOOSE(V9,Z9*SQRT(X9/3),SQRT(X9*((Z9^2)+((Y9^2)/3)-(Y9*Z9)))) -> 1.7182009 | AL9: =(AK9^2)*RDS_on_HS -> 0.0029522144 | AM9: =CHOOSE(V9,(R9+Vd_rect)*Qrr*fsw,(R9+Vd_rect)*Qrr*fsw) -> 0.260832 | AN9: =Vd_rect*t_dead*fsw*Z9 -> 0.045169323 | AO9: =AL9+AM9+AN9 -> 0.30895354 | AP9: =(AA9^2)*Rcs -> 0.017713287 | AQ9: =Rdcr*AA9^2 -> 0.018156119 | AR9: =ABS(7.759*10^-3*fsw^0.9458*(0.00787*Y9)^2.304) -> 1.6152231 | AS9: =(Qg_tot+Qg_tot_HS)*VCC*fsw -> 0.01976 | AT9: =IQ*T9 -> 0.08 | AU9: =AP9+AO9+AI9+AD9+AS9+AT9+AQ9+AR9 -> 2.102677 | AV9: =R9*S9 -> 6.016 | AW9: =(AV9/(AV9+AU9))*100 -> 74.100743
Q10: 3 | R10: =VOUT -> 60 | S10: =Q10*$O$12 -> 0.1504 | T10: =Vin_vari -> 20 | U10: =(R10*S10)/(T10*EFF_est) -> 0.4512 | V10: =IF(Calculations!$B$17=3,2,IF((S10*R10/T10)<((T10*(1-(T10/R10)))/(2*Lm*fsw)),1,2)) -> 2 | W10: =CHOOSE(V10,SQRT((2*S10*Lm*fsw*(R10-T10))/((T10)^2)),1-(T10/R10)) -> 0.66666667 | X10: =CHOOSE(V10,(Lm*Z10*fsw)/(R10-T10),1-W10) -> 0.33333333 | Y10: =(T10*W10)/(Lm*fsw) -> 10.25641 | Z10: =CHOOSE(V10,Y10,U10+(0.5*Y10)) -> 5.5794051 | AA10: =CHOOSE(V10,Z10*SQRT((W10+X10)/3),SQRT((U10^2)+((Y10^2)/12))) -> 2.9949531 | AB10: 0 | AC10: =(AA10^2)*Rdcr -> 0.018387975 | AD10: =AB10+AC10 -> 0.018387975 | AE10: =U10*W10 -> 0.3008 | AF10: =CHOOSE(V10,Z10*SQRT(W10/3),SQRT(W10*((Z10^2)+((Y10^2)/3)-(Z10*Y10)))) -> 2.445369 | AG10: =(AF10^2)*RDS_on -> 0.0059798294 | AH10: =((R10*U10)/2)*fsw*(tr_sw+tf_sw) -> 0.028215645 | AI10: =AG10+AH10 -> 0.034195474 | AJ10: =X10*U10 -> 0.1504 | AK10: =CHOOSE(V10,Z10*SQRT(X10/3),SQRT(X10*((Z10^2)+((Y10^2)/3)-(Y10*Z10)))) -> 1.729137 | AL10: =(AK10^2)*RDS_on_HS -> 0.0029899147 | AM10: =CHOOSE(V10,(R10+Vd_rect)*Qrr*fsw,(R10+Vd_rect)*Qrr*fsw) -> 0.260832 | AN10: =Vd_rect*t_dead*fsw*Z10 -> 0.046420651 | AO10: =AL10+AM10+AN10 -> 0.31024257 | AP10: =(AA10^2)*Rcs -> 0.017939488 | AQ10: =Rdcr*AA10^2 -> 0.018387975 | AR10: =ABS(7.759*10^-3*fsw^0.9458*(0.00787*Y10)^2.304) -> 1.6152231 | AS10: =(Qg_tot+Qg_tot_HS)*VCC*fsw -> 0.01976 | AT10: =IQ*T10 -> 0.08 | AU10: =AP10+AO10+AI10+AD10+AS10+AT10+AQ10+AR10 -> 2.1141366 | AV10: =R10*S10 -> 9.024 | AW10: =(AV10/(AV10+AU10))*100 -> 81.018938
N11: Steps | O11: 150 | Q11: 4 | R11: =VOUT -> 60 | S11: =Q11*$O$12 -> 0.20053333 | T11: =Vin_vari -> 20 | U11: =(R11*S11)/(T11*EFF_est) -> 0.6016 | V11: =IF(Calculations!$B$17=3,2,IF((S11*R11/T11)<((T11*(1-(T11/R11)))/(2*Lm*fsw)),1,2)) -> 2 | W11: =CHOOSE(V11,SQRT((2*S11*Lm*fsw*(R11-T11))/((T11)^2)),1-(T11/R11)) -> 0.66666667 | X11: =CHOOSE(V11,(Lm*Z11*fsw)/(R11-T11),1-W11) -> 0.33333333 | Y11: =(T11*W11)/(Lm*fsw) -> 10.25641 | Z11: =CHOOSE(V11,Y11,U11+(0.5*Y11)) -> 5.7298051 | AA11: =CHOOSE(V11,Z11*SQRT((W11+X11)/3),SQRT((U11^2)+((Y11^2)/12))) -> 3.0212721 | AB11: 0 | AC11: =(AA11^2)*Rdcr -> 0.018712575 | AD11: =AB11+AC11 -> 0.018712575 | AE11: =U11*W11 -> 0.40106667 | AF11: =CHOOSE(V11,Z11*SQRT(W11/3),SQRT(W11*((Z11^2)+((Y11^2)/3)-(Z11*Y11)))) -> 2.4668583 | AG11: =(AF11^2)*RDS_on -> 0.0060853901 | AH11: =((R11*U11)/2)*fsw*(tr_sw+tf_sw) -> 0.03762086 | AI11: =AG11+AH11 -> 0.04370625 | AJ11: =X11*U11 -> 0.20053333 | AK11: =CHOOSE(V11,Z11*SQRT(X11/3),SQRT(X11*((Z11^2)+((Y11^2)/3)-(Y11*Z11)))) -> 1.7443323 | AL11: =(AK11^2)*RDS_on_HS -> 0.0030426951 | AM11: =CHOOSE(V11,(R11+Vd_rect)*Qrr*fsw,(R11+Vd_rect)*Qrr*fsw) -> 0.260832 | AN11: =Vd_rect*t_dead*fsw*Z11 -> 0.047671979 | AO11: =AL11+AM11+AN11 -> 0.31154667 | AP11: =(AA11^2)*Rcs -> 0.01825617 | AQ11: =Rdcr*AA11^2 -> 0.018712575 | AR11: =ABS(7.759*10^-3*fsw^0.9458*(0.00787*Y11)^2.304) -> 1.6152231 | AS11: =(Qg_tot+Qg_tot_HS)*VCC*fsw -> 0.01976 | AT11: =IQ*T11 -> 0.08 | AU11: =AP11+AO11+AI11+AD11+AS11+AT11+AQ11+AR11 -> 2.1259174 | AV11: =R11*S11 -> 12.032 | AW11: =(AV11/(AV11+AU11))*100 -> 84.984251
N12: Step size | O12: =IOUT/(O11) -> 0.050133333 | Q12: 5 | R12: =VOUT -> 60 | S12: =Q12*$O$12 -> 0.25066667 | T12: =Vin_vari -> 20 | U12: =(R12*S12)/(T12*EFF_est) -> 0.752 | V12: =IF(Calculations!$B$17=3,2,IF((S12*R12/T12)<((T12*(1-(T12/R12)))/(2*Lm*fsw)),1,2)) -> 2 | W12: =CHOOSE(V12,SQRT((2*S12*Lm*fsw*(R12-T12))/((T12)^2)),1-(T12/R12)) -> 0.66666667 | X12: =CHOOSE(V12,(Lm*Z12*fsw)/(R12-T12),1-W12) -> 0.33333333 | Y12: =(T12*W12)/(Lm*fsw) -> 10.25641 | Z12: =CHOOSE(V12,Y12,U12+(0.5*Y12)) -> 5.8802051 | AA12: =CHOOSE(V12,Z12*SQRT((W12+X12)/3),SQRT((U12^2)+((Y12^2)/12))) -> 3.0547777 | AB12: 0 | AC12: =(AA12^2)*Rdcr -> 0.019129917 | AD12: =AB12+AC12 -> 0.019129917 | AE12: =U12*W12 -> 0.50133333 | AF12: =CHOOSE(V12,Z12*SQRT(W12/3),SQRT(W12*((Z12^2)+((Y12^2)/3)-(Z12*Y12)))) -> 2.4942155 | AG12: =(AF12^2)*RDS_on -> 0.0062211111 | AH12: =((R12*U12)/2)*fsw*(tr_sw+tf_sw) -> 0.047026075 | AI12: =AG12+AH12 -> 0.053247186 | AJ12: =X12*U12 -> 0.25066667 | AK12: =CHOOSE(V12,Z12*SQRT(X12/3),SQRT(X12*((Z12^2)+((Y12^2)/3)-(Y12*Z12)))) -> 1.7636767 | AL12: =(AK12^2)*RDS_on_HS -> 0.0031105555 | AM12: =CHOOSE(V12,(R12+Vd_rect)*Qrr*fsw,(R12+Vd_rect)*Qrr*fsw) -> 0.260832 | AN12: =Vd_rect*t_dead*fsw*Z12 -> 0.048923307 | AO12: =AL12+AM12+AN12 -> 0.31286586 | AP12: =(AA12^2)*Rcs -> 0.018663333 | AQ12: =Rdcr*AA12^2 -> 0.019129917 | AR12: =ABS(7.759*10^-3*fsw^0.9458*(0.00787*Y12)^2.304) -> 1.6152231 | AS12: =(Qg_tot+Qg_tot_HS)*VCC*fsw -> 0.01976 | AT12: =IQ*T12 -> 0.08 | AU12: =AP12+AO12+AI12+AD12+AS12+AT12+AQ12+AR12 -> 2.1380193 | AV12: =R12*S12 -> 15.04 | AW12: =(AV12/(AV12+AU12))*100 -> 87.553749
Q13: 6 | R13: =VOUT -> 60 | S13: =Q13*$O$12 -> 0.3008 | T13: =Vin_vari -> 20 | U13: =(R13*S13)/(T13*EFF_est) -> 0.9024 | V13: =IF(Calculations!$B$17=3,2,IF((S13*R13/T13)<((T13*(1-(T13/R13)))/(2*Lm*fsw)),1,2)) -> 2 | W13: =CHOOSE(V13,SQRT((2*S13*Lm*fsw*(R13-T13))/((T13)^2)),1-(T13/R13)) -> 0.66666667 | X13: =CHOOSE(V13,(Lm*Z13*fsw)/(R13-T13),1-W13) -> 0.33333333 | Y13: =(T13*W13)/(Lm*fsw) -> 10.25641 | Z13: =CHOOSE(V13,Y13,U13+(0.5*Y13)) -> 6.0306051 | AA13: =CHOOSE(V13,Z13*SQRT((W13+X13)/3),SQRT((U13^2)+((Y13^2)/12))) -> 3.0952364 | AB13: 0 | AC13: =(AA13^2)*Rdcr -> 0.019640001 | AD13: =AB13+AC13 -> 0.019640001 | AE13: =U13*W13 -> 0.6016 | AF13: =CHOOSE(V13,Z13*SQRT(W13/3),SQRT(W13*((Z13^2)+((Y13^2)/3)-(Z13*Y13)))) -> 2.5272499 | AG13: =(AF13^2)*RDS_on -> 0.0063869922 | AH13: =((R13*U13)/2)*fsw*(tr_sw+tf_sw) -> 0.05643129 | AI13: =AG13+AH13 -> 0.062818282 | AJ13: =X13*U13 -> 0.3008 | AK13: =CHOOSE(V13,Z13*SQRT(X13/3),SQRT(X13*((Z13^2)+((Y13^2)/3)-(Y13*Z13)))) -> 1.7870356 | AL13: =(AK13^2)*RDS_on_HS -> 0.0031934961 | AM13: =CHOOSE(V13,(R13+Vd_rect)*Qrr*fsw,(R13+Vd_rect)*Qrr*fsw) -> 0.260832 | AN13: =Vd_rect*t_dead*fsw*Z13 -> 0.050174635 | AO13: =AL13+AM13+AN13 -> 0.31420013 | AP13: =(AA13^2)*Rcs -> 0.019160977 | AQ13: =Rdcr*AA13^2 -> 0.019640001 | AR13: =ABS(7.759*10^-3*fsw^0.9458*(0.00787*Y13)^2.304) -> 1.6152231 | AS13: =(Qg_tot+Qg_tot_HS)*VCC*fsw -> 0.01976 | AT13: =IQ*T13 -> 0.08 | AU13: =AP13+AO13+AI13+AD13+AS13+AT13+AQ13+AR13 -> 2.1504425 | AV13: =R13*S13 -> 18.048 | AW13: =(AV13/(AV13+AU13))*100 -> 89.353424
Q14: 7 | R14: =VOUT -> 60 | S14: =Q14*$O$12 -> 0.35093333 | T14: =Vin_vari -> 20 | U14: =(R14*S14)/(T14*EFF_est) -> 1.0528 | V14: =IF(Calculations!$B$17=3,2,IF((S14*R14/T14)<((T14*(1-(T14/R14)))/(2*Lm*fsw)),1,2)) -> 2 | W14: =CHOOSE(V14,SQRT((2*S14*Lm*fsw*(R14-T14))/((T14)^2)),1-(T14/R14)) -> 0.66666667 | X14: =CHOOSE(V14,(Lm*Z14*fsw)/(R14-T14),1-W14) -> 0.33333333 | Y14: =(T14*W14)/(Lm*fsw) -> 10.25641 | Z14: =CHOOSE(V14,Y14,U14+(0.5*Y14)) -> 6.1810051 | AA14: =CHOOSE(V14,Z14*SQRT((W14+X14)/3),SQRT((U14^2)+((Y14^2)/12))) -> 3.1423797 | AB14: 0 | AC14: =(AA14^2)*Rdcr -> 0.020242828 | AD14: =AB14+AC14 -> 0.020242828 | AE14: =U14*W14 -> 0.70186667 | AF14: =CHOOSE(V14,Z14*SQRT(W14/3),SQRT(W14*((Z14^2)+((Y14^2)/3)-(Z14*Y14)))) -> 2.5657423 | AG14: =(AF14^2)*RDS_on -> 0.0065830336 | AH14: =((R14*U14)/2)*fsw*(tr_sw+tf_sw) -> 0.065836505 | AI14: =AG14+AH14 -> 0.072419539 | AJ14: =X14*U14 -> 0.35093333 | AK14: =CHOOSE(V14,Z14*SQRT(X14/3),SQRT(X14*((Z14^2)+((Y14^2)/3)-(Y14*Z14)))) -> 1.8142538 | AL14: =(AK14^2)*RDS_on_HS -> 0.0032915168 | AM14: =CHOOSE(V14,(R14+Vd_rect)*Qrr*fsw,(R14+Vd_rect)*Qrr*fsw) -> 0.260832 | AN14: =Vd_rect*t_dead*fsw*Z14 -> 0.051425963 | AO14: =AL14+AM14+AN14 -> 0.31554948 | AP14: =(AA14^2)*Rcs -> 0.019749101 | AQ14: =Rdcr*AA14^2 -> 0.020242828 | AR14: =ABS(7.759*10^-3*fsw^0.9458*(0.00787*Y14)^2.304) -> 1.6152231 | AS14: =(Qg_tot+Qg_tot_HS)*VCC*fsw -> 0.01976 | AT14: =IQ*T14 -> 0.08 | AU14: =AP14+AO14+AI14+AD14+AS14+AT14+AQ14+AR14 -> 2.1631869 | AV14: =R14*S14 -> 21.056 | AW14: =(AV14/(AV14+AU14))*100 -> 90.683623
O15: =0.205*2.5/(Lm*fsw) -> 0.39423077 | Q15: 8 | R15: =VOUT -> 60 | S15: =Q15*$O$12 -> 0.40106667 | T15: =Vin_vari -> 20 | U15: =(R15*S15)/(T15*EFF_est) -> 1.2032 | V15: =IF(Calculations!$B$17=3,2,IF((S15*R15/T15)<((T15*(1-(T15/R15)))/(2*Lm*fsw)),1,2)) -> 2 | W15: =CHOOSE(V15,SQRT((2*S15*Lm*fsw*(R15-T15))/((T15)^2)),1-(T15/R15)) -> 0.66666667 | X15: =CHOOSE(V15,(Lm*Z15*fsw)/(R15-T15),1-W15) -> 0.33333333 | Y15: =(T15*W15)/(Lm*fsw) -> 10.25641 | Z15: =CHOOSE(V15,Y15,U15+(0.5*Y15)) -> 6.3314051 | AA15: =CHOOSE(V15,Z15*SQRT((W15+X15)/3),SQRT((U15^2)+((Y15^2)/12))) -> 3.1959119 | AB15: 0 | AC15: =(AA15^2)*Rdcr -> 0.020938398 | AD15: =AB15+AC15 -> 0.020938398 | AE15: =U15*W15 -> 0.80213333 | AF15: =CHOOSE(V15,Z15*SQRT(W15/3),SQRT(W15*((Z15^2)+((Y15^2)/3)-(Z15*Y15)))) -> 2.6094511 | AG15: =(AF15^2)*RDS_on -> 0.0068092352 | AH15: =((R15*U15)/2)*fsw*(tr_sw+tf_sw) -> 0.07524172 | AI15: =AG15+AH15 -> 0.082050956 | AJ15: =X15*U15 -> 0.40106667 | AK15: =CHOOSE(V15,Z15*SQRT(X15/3),SQRT(X15*((Z15^2)+((Y15^2)/3)-(Y15*Z15)))) -> 1.8451606 | AL15: =(AK15^2)*RDS_on_HS -> 0.0034046176 | AM15: =CHOOSE(V15,(R15+Vd_rect)*Qrr*fsw,(R15+Vd_rect)*Qrr*fsw) -> 0.260832 | AN15: =Vd_rect*t_dead*fsw*Z15 -> 0.052677291 | AO15: =AL15+AM15+AN15 -> 0.31691391 | AP15: =(AA15^2)*Rcs -> 0.020427706 | AQ15: =Rdcr*AA15^2 -> 0.020938398 | AR15: =ABS(7.759*10^-3*fsw^0.9458*(0.00787*Y15)^2.304) -> 1.6152231 | AS15: =(Qg_tot+Qg_tot_HS)*VCC*fsw -> 0.01976 | AT15: =IQ*T15 -> 0.08 | AU15: =AP15+AO15+AI15+AD15+AS15+AT15+AQ15+AR15 -> 2.1762525 | AV15: =R15*S15 -> 24.064 | AW15: =(AV15/(AV15+AU15))*100 -> 91.706435
Q16: 9 | R16: =VOUT -> 60 | S16: =Q16*$O$12 -> 0.4512 | T16: =Vin_vari -> 20 | U16: =(R16*S16)/(T16*EFF_est) -> 1.3536 | V16: =IF(Calculations!$B$17=3,2,IF((S16*R16/T16)<((T16*(1-(T16/R16)))/(2*Lm*fsw)),1,2)) -> 2 | W16: =CHOOSE(V16,SQRT((2*S16*Lm*fsw*(R16-T16))/((T16)^2)),1-(T16/R16)) -> 0.66666667 | X16: =CHOOSE(V16,(Lm*Z16*fsw)/(R16-T16),1-W16) -> 0.33333333 | Y16: =(T16*W16)/(Lm*fsw) -> 10.25641 | Z16: =CHOOSE(V16,Y16,U16+(0.5*Y16)) -> 6.4818051 | AA16: =CHOOSE(V16,Z16*SQRT((W16+X16)/3),SQRT((U16^2)+((Y16^2)/12))) -> 3.2555177 | AB16: 0 | AC16: =(AA16^2)*Rdcr -> 0.021726711 | AD16: =AB16+AC16 -> 0.021726711 | AE16: =U16*W16 -> 0.9024 | AF16: =CHOOSE(V16,Z16*SQRT(W16/3),SQRT(W16*((Z16^2)+((Y16^2)/3)-(Z16*Y16)))) -> 2.6581191 | AG16: =(AF16^2)*RDS_on -> 0.007065597 | AH16: =((R16*U16)/2)*fsw*(tr_sw+tf_sw) -> 0.084646935 | AI16: =AG16+AH16 -> 0.091712532 | AJ16: =X16*U16 -> 0.4512 | AK16: =CHOOSE(V16,Z16*SQRT(X16/3),SQRT(X16*((Z16^2)+((Y16^2)/3)-(Y16*Z16)))) -> 1.879574 | AL16: =(AK16^2)*RDS_on_HS -> 0.0035327985 | AM16: =CHOOSE(V16,(R16+Vd_rect)*Qrr*fsw,(R16+Vd_rect)*Qrr*fsw) -> 0.260832 | AN16: =Vd_rect*t_dead*fsw*Z16 -> 0.053928619 | AO16: =AL16+AM16+AN16 -> 0.31829342 | AP16: =(AA16^2)*Rcs -> 0.021196791 | AQ16: =Rdcr*AA16^2 -> 0.021726711 | AR16: =ABS(7.759*10^-3*fsw^0.9458*(0.00787*Y16)^2.304) -> 1.6152231 | AS16: =(Qg_tot+Qg_tot_HS)*VCC*fsw -> 0.01976 | AT16: =IQ*T16 -> 0.08 | AU16: =AP16+AO16+AI16+AD16+AS16+AT16+AQ16+AR16 -> 2.1896393 | AV16: =R16*S16 -> 27.072 | AW16: =(AV16/(AV16+AU16))*100 -> 92.517031
Q17: 10 | R17: =VOUT -> 60 | S17: =Q17*$O$12 -> 0.50133333 | T17: =Vin_vari -> 20 | U17: =(R17*S17)/(T17*EFF_est) -> 1.504 | V17: =IF(Calculations!$B$17=3,2,IF((S17*R17/T17)<((T17*(1-(T17/R17)))/(2*Lm*fsw)),1,2)) -> 2 | W17: =CHOOSE(V17,SQRT((2*S17*Lm*fsw*(R17-T17))/((T17)^2)),1-(T17/R17)) -> 0.66666667 | X17: =CHOOSE(V17,(Lm*Z17*fsw)/(R17-T17),1-W17) -> 0.33333333 | Y17: =(T17*W17)/(Lm*fsw) -> 10.25641 | Z17: =CHOOSE(V17,Y17,U17+(0.5*Y17)) -> 6.6322051 | AA17: =CHOOSE(V17,Z17*SQRT((W17+X17)/3),SQRT((U17^2)+((Y17^2)/12))) -> 3.3208702 | AB17: 0 | AC17: =(AA17^2)*Rdcr -> 0.022607766 | AD17: =AB17+AC17 -> 0.022607766 | AE17: =U17*W17 -> 1.0026667 | AF17: =CHOOSE(V17,Z17*SQRT(W17/3),SQRT(W17*((Z17^2)+((Y17^2)/3)-(Z17*Y17)))) -> 2.7114791 | AG17: =(AF17^2)*RDS_on -> 0.0073521191 | AH17: =((R17*U17)/2)*fsw*(tr_sw+tf_sw) -> 0.09405215 | AI17: =AG17+AH17 -> 0.10140427 | AJ17: =X17*U17 -> 0.50133333 | AK17: =CHOOSE(V17,Z17*SQRT(X17/3),SQRT(X17*((Z17^2)+((Y17^2)/3)-(Y17*Z17)))) -> 1.9173053 | AL17: =(AK17^2)*RDS_on_HS -> 0.0036760595 | AM17: =CHOOSE(V17,(R17+Vd_rect)*Qrr*fsw,(R17+Vd_rect)*Qrr*fsw) -> 0.260832 | AN17: =Vd_rect*t_dead*fsw*Z17 -> 0.055179947 | AO17: =AL17+AM17+AN17 -> 0.31968801 | AP17: =(AA17^2)*Rcs -> 0.022056357 | AQ17: =Rdcr*AA17^2 -> 0.022607766 | AR17: =ABS(7.759*10^-3*fsw^0.9458*(0.00787*Y17)^2.304) -> 1.6152231 | AS17: =(Qg_tot+Qg_tot_HS)*VCC*fsw -> 0.01976 | AT17: =IQ*T17 -> 0.08 | AU17: =AP17+AO17+AI17+AD17+AS17+AT17+AQ17+AR17 -> 2.2033473 | AV17: =R17*S17 -> 30.08 | AW17: =(AV17/(AV17+AU17))*100 -> 93.174973
Q18: 11 | R18: =VOUT -> 60 | S18: =Q18*$O$12 -> 0.55146667 | T18: =Vin_vari -> 20 | U18: =(R18*S18)/(T18*EFF_est) -> 1.6544 | V18: =IF(Calculations!$B$17=3,2,IF((S18*R18/T18)<((T18*(1-(T18/R18)))/(2*Lm*fsw)),1,2)) -> 2 | W18: =CHOOSE(V18,SQRT((2*S18*Lm*fsw*(R18-T18))/((T18)^2)),1-(T18/R18)) -> 0.66666667 | X18: =CHOOSE(V18,(Lm*Z18*fsw)/(R18-T18),1-W18) -> 0.33333333 | Y18: =(T18*W18)/(Lm*fsw) -> 10.25641 | Z18: =CHOOSE(V18,Y18,U18+(0.5*Y18)) -> 6.7826051 | AA18: =CHOOSE(V18,Z18*SQRT((W18+X18)/3),SQRT((U18^2)+((Y18^2)/12))) -> 3.3916371 | AB18: 0 | AC18: =(AA18^2)*Rdcr -> 0.023581564 | AD18: =AB18+AC18 -> 0.023581564 | AE18: =U18*W18 -> 1.1029333 | AF18: =CHOOSE(V18,Z18*SQRT(W18/3),SQRT(W18*((Z18^2)+((Y18^2)/3)-(Z18*Y18)))) -> 2.7692601 | AG18: =(AF18^2)*RDS_on -> 0.0076688013 | AH18: =((R18*U18)/2)*fsw*(tr_sw+tf_sw) -> 0.10345737 | AI18: =AG18+AH18 -> 0.11112617 | AJ18: =X18*U18 -> 0.55146667 | AK18: =CHOOSE(V18,Z18*SQRT(X18/3),SQRT(X18*((Z18^2)+((Y18^2)/3)-(Y18*Z18)))) -> 1.9581626 | AL18: =(AK18^2)*RDS_on_HS -> 0.0038344007 | AM18: =CHOOSE(V18,(R18+Vd_rect)*Qrr*fsw,(R18+Vd_rect)*Qrr*fsw) -> 0.260832 | AN18: =Vd_rect*t_dead*fsw*Z18 -> 0.056431275 | AO18: =AL18+AM18+AN18 -> 0.32109768 | AP18: =(AA18^2)*Rcs -> 0.023006404 | AQ18: =Rdcr*AA18^2 -> 0.023581564 | AR18: =ABS(7.759*10^-3*fsw^0.9458*(0.00787*Y18)^2.304) -> 1.6152231 | AS18: =(Qg_tot+Qg_tot_HS)*VCC*fsw -> 0.01976 | AT18: =IQ*T18 -> 0.08 | AU18: =AP18+AO18+AI18+AD18+AS18+AT18+AQ18+AR18 -> 2.2173765 | AV18: =R18*S18 -> 33.088 | AW18: =(AV18/(AV18+AU18))*100 -> 93.719437
Q19: 12 | R19: =VOUT -> 60 | S19: =Q19*$O$12 -> 0.6016 | T19: =Vin_vari -> 20 | U19: =(R19*S19)/(T19*EFF_est) -> 1.8048 | V19: =IF(Calculations!$B$17=3,2,IF((S19*R19/T19)<((T19*(1-(T19/R19)))/(2*Lm*fsw)),1,2)) -> 2 | W19: =CHOOSE(V19,SQRT((2*S19*Lm*fsw*(R19-T19))/((T19)^2)),1-(T19/R19)) -> 0.66666667 | X19: =CHOOSE(V19,(Lm*Z19*fsw)/(R19-T19),1-W19) -> 0.33333333 | Y19: =(T19*W19)/(Lm*fsw) -> 10.25641 | Z19: =CHOOSE(V19,Y19,U19+(0.5*Y19)) -> 6.9330051 | AA19: =CHOOSE(V19,Z19*SQRT((W19+X19)/3),SQRT((U19^2)+((Y19^2)/12))) -> 3.4674869 | AB19: 0 | AC19: =(AA19^2)*Rdcr -> 0.024648105 | AD19: =AB19+AC19 -> 0.024648105 | AE19: =U19*W19 -> 1.2032 | AF19: =CHOOSE(V19,Z19*SQRT(W19/3),SQRT(W19*((Z19^2)+((Y19^2)/3)-(Z19*Y19)))) -> 2.8311912 | AG19: =(AF19^2)*RDS_on -> 0.0080156438 | AH19: =((R19*U19)/2)*fsw*(tr_sw+tf_sw) -> 0.11286258 | AI19: =AG19+AH19 -> 0.12087822 | AJ19: =X19*U19 -> 0.6016 | AK19: =CHOOSE(V19,Z19*SQRT(X19/3),SQRT(X19*((Z19^2)+((Y19^2)/3)-(Y19*Z19)))) -> 2.0019545 | AL19: =(AK19^2)*RDS_on_HS -> 0.0040078219 | AM19: =CHOOSE(V19,(R19+Vd_rect)*Qrr*fsw,(R19+Vd_rect)*Qrr*fsw) -> 0.260832 | AN19: =Vd_rect*t_dead*fsw*Z19 -> 0.057682603 | AO19: =AL19+AM19+AN19 -> 0.32252242 | AP19: =(AA19^2)*Rcs -> 0.024046931 | AQ19: =Rdcr*AA19^2 -> 0.024648105 | AR19: =ABS(7.759*10^-3*fsw^0.9458*(0.00787*Y19)^2.304) -> 1.6152231 | AS19: =(Qg_tot+Qg_tot_HS)*VCC*fsw -> 0.01976 | AT19: =IQ*T19 -> 0.08 | AU19: =AP19+AO19+AI19+AD19+AS19+AT19+AQ19+AR19 -> 2.2317269 | AV19: =R19*S19 -> 36.096 | AW19: =(AV19/(AV19+AU19))*100 -> 94.177252
Q20: 13 | R20: =VOUT -> 60 | S20: =Q20*$O$12 -> 0.65173333 | T20: =Vin_vari -> 20 | U20: =(R20*S20)/(T20*EFF_est) -> 1.9552 | V20: =IF(Calculations!$B$17=3,2,IF((S20*R20/T20)<((T20*(1-(T20/R20)))/(2*Lm*fsw)),1,2)) -> 2 | W20: =CHOOSE(V20,SQRT((2*S20*Lm*fsw*(R20-T20))/((T20)^2)),1-(T20/R20)) -> 0.66666667 | X20: =CHOOSE(V20,(Lm*Z20*fsw)/(R20-T20),1-W20) -> 0.33333333 | Y20: =(T20*W20)/(Lm*fsw) -> 10.25641 | Z20: =CHOOSE(V20,Y20,U20+(0.5*Y20)) -> 7.0834051 | AA20: =CHOOSE(V20,Z20*SQRT((W20+X20)/3),SQRT((U20^2)+((Y20^2)/12))) -> 3.5480938 | AB20: 0 | AC20: =(AA20^2)*Rdcr -> 0.025807388 | AD20: =AB20+AC20 -> 0.025807388 | AE20: =U20*W20 -> 1.3034667 | AF20: =CHOOSE(V20,Z20*SQRT(W20/3),SQRT(W20*((Z20^2)+((Y20^2)/3)-(Z20*Y20)))) -> 2.8970065 | AG20: =(AF20^2)*RDS_on -> 0.0083926464 | AH20: =((R20*U20)/2)*fsw*(tr_sw+tf_sw) -> 0.1222678 | AI20: =AG20+AH20 -> 0.13066044 | AJ20: =X20*U20 -> 0.65173333 | AK20: =CHOOSE(V20,Z20*SQRT(X20/3),SQRT(X20*((Z20^2)+((Y20^2)/3)-(Y20*Z20)))) -> 2.0484929 | AL20: =(AK20^2)*RDS_on_HS -> 0.0041963232 | AM20: =CHOOSE(V20,(R20+Vd_rect)*Qrr*fsw,(R20+Vd_rect)*Qrr*fsw) -> 0.260832 | AN20: =Vd_rect*t_dead*fsw*Z20 -> 0.058933931 | AO20: =AL20+AM20+AN20 -> 0.32396225 | AP20: =(AA20^2)*Rcs -> 0.025177939 | AQ20: =Rdcr*AA20^2 -> 0.025807388 | AR20: =ABS(7.759*10^-3*fsw^0.9458*(0.00787*Y20)^2.304) -> 1.6152231 | AS20: =(Qg_tot+Qg_tot_HS)*VCC*fsw -> 0.01976 | AT20: =IQ*T20 -> 0.08 | AU20: =AP20+AO20+AI20+AD20+AS20+AT20+AQ20+AR20 -> 2.2463985 | AV20: =R20*S20 -> 39.104 | AW20: =(AV20/(AV20+AU20))*100 -> 94.567408
Q21: 14 | R21: =VOUT -> 60 | S21: =Q21*$O$12 -> 0.70186667 | T21: =Vin_vari -> 20 | U21: =(R21*S21)/(T21*EFF_est) -> 2.1056 | V21: =IF(Calculations!$B$17=3,2,IF((S21*R21/T21)<((T21*(1-(T21/R21)))/(2*Lm*fsw)),1,2)) -> 2 | W21: =CHOOSE(V21,SQRT((2*S21*Lm*fsw*(R21-T21))/((T21)^2)),1-(T21/R21)) -> 0.66666667 | X21: =CHOOSE(V21,(Lm*Z21*fsw)/(R21-T21),1-W21) -> 0.33333333 | Y21: =(T21*W21)/(Lm*fsw) -> 10.25641 | Z21: =CHOOSE(V21,Y21,U21+(0.5*Y21)) -> 7.2338051 | AA21: =CHOOSE(V21,Z21*SQRT((W21+X21)/3),SQRT((U21^2)+((Y21^2)/12))) -> 3.6331411 | AB21: 0 | AC21: =(AA21^2)*Rdcr -> 0.027059414 | AD21: =AB21+AC21 -> 0.027059414 | AE21: =U21*W21 -> 1.4037333 | AF21: =CHOOSE(V21,Z21*SQRT(W21/3),SQRT(W21*((Z21^2)+((Y21^2)/3)-(Z21*Y21)))) -> 2.9664473 | AG21: =(AF21^2)*RDS_on -> 0.0087998093 | AH21: =((R21*U21)/2)*fsw*(tr_sw+tf_sw) -> 0.13167301 | AI21: =AG21+AH21 -> 0.14047282 | AJ21: =X21*U21 -> 0.70186667 | AK21: =CHOOSE(V21,Z21*SQRT(X21/3),SQRT(X21*((Z21^2)+((Y21^2)/3)-(Y21*Z21)))) -> 2.097595 | AL21: =(AK21^2)*RDS_on_HS -> 0.0043999047 | AM21: =CHOOSE(V21,(R21+Vd_rect)*Qrr*fsw,(R21+Vd_rect)*Qrr*fsw) -> 0.260832 | AN21: =Vd_rect*t_dead*fsw*Z21 -> 0.060185259 | AO21: =AL21+AM21+AN21 -> 0.32541716 | AP21: =(AA21^2)*Rcs -> 0.026399428 | AQ21: =Rdcr*AA21^2 -> 0.027059414 | AR21: =ABS(7.759*10^-3*fsw^0.9458*(0.00787*Y21)^2.304) -> 1.6152231 | AS21: =(Qg_tot+Qg_tot_HS)*VCC*fsw -> 0.01976 | AT21: =IQ*T21 -> 0.08 | AU21: =AP21+AO21+AI21+AD21+AS21+AT21+AQ21+AR21 -> 2.2613914 | AV21: =R21*S21 -> 42.112 | AW21: =(AV21/(AV21+AU21))*100 -> 94.903722
Q22: 15 | R22: =VOUT -> 60 | S22: =Q22*$O$12 -> 0.752 | T22: =Vin_vari -> 20 | U22: =(R22*S22)/(T22*EFF_est) -> 2.256 | V22: =IF(Calculations!$B$17=3,2,IF((S22*R22/T22)<((T22*(1-(T22/R22)))/(2*Lm*fsw)),1,2)) -> 2 | W22: =CHOOSE(V22,SQRT((2*S22*Lm*fsw*(R22-T22))/((T22)^2)),1-(T22/R22)) -> 0.66666667 | X22: =CHOOSE(V22,(Lm*Z22*fsw)/(R22-T22),1-W22) -> 0.33333333 | Y22: =(T22*W22)/(Lm*fsw) -> 10.25641 | Z22: =CHOOSE(V22,Y22,U22+(0.5*Y22)) -> 7.3842051 | AA22: =CHOOSE(V22,Z22*SQRT((W22+X22)/3),SQRT((U22^2)+((Y22^2)/12))) -> 3.7223244 | AB22: 0 | AC22: =(AA22^2)*Rdcr -> 0.028404182 | AD22: =AB22+AC22 -> 0.028404182 | AE22: =U22*W22 -> 1.504 | AF22: =CHOOSE(V22,Z22*SQRT(W22/3),SQRT(W22*((Z22^2)+((Y22^2)/3)-(Z22*Y22)))) -> 3.0392651 | AG22: =(AF22^2)*RDS_on -> 0.0092371324 | AH22: =((R22*U22)/2)*fsw*(tr_sw+tf_sw) -> 0.14107823 | AI22: =AG22+AH22 -> 0.15031536 | AJ22: =X22*U22 -> 0.752 | AK22: =CHOOSE(V22,Z22*SQRT(X22/3),SQRT(X22*((Z22^2)+((Y22^2)/3)-(Y22*Z22)))) -> 2.149085 | AL22: =(AK22^2)*RDS_on_HS -> 0.0046185662 | AM22: =CHOOSE(V22,(R22+Vd_rect)*Qrr*fsw,(R22+Vd_rect)*Qrr*fsw) -> 0.260832 | AN22: =Vd_rect*t_dead*fsw*Z22 -> 0.061436587 | AO22: =AL22+AM22+AN22 -> 0.32688715 | AP22: =(AA22^2)*Rcs -> 0.027711397 | AQ22: =Rdcr*AA22^2 -> 0.028404182 | AR22: =ABS(7.759*10^-3*fsw^0.9458*(0.00787*Y22)^2.304) -> 1.6152231 | AS22: =(Qg_tot+Qg_tot_HS)*VCC*fsw -> 0.01976 | AT22: =IQ*T22 -> 0.08 | AU22: =AP22+AO22+AI22+AD22+AS22+AT22+AQ22+AR22 -> 2.2767054 | AV22: =R22*S22 -> 45.12 | AW22: =(AV22/(AV22+AU22))*100 -> 95.19649
Q23: 16 | R23: =VOUT -> 60 | S23: =Q23*$O$12 -> 0.80213333 | T23: =Vin_vari -> 20 | U23: =(R23*S23)/(T23*EFF_est) -> 2.4064 | V23: =IF(Calculations!$B$17=3,2,IF((S23*R23/T23)<((T23*(1-(T23/R23)))/(2*Lm*fsw)),1,2)) -> 2 | W23: =CHOOSE(V23,SQRT((2*S23*Lm*fsw*(R23-T23))/((T23)^2)),1-(T23/R23)) -> 0.66666667 | X23: =CHOOSE(V23,(Lm*Z23*fsw)/(R23-T23),1-W23) -> 0.33333333 | Y23: =(T23*W23)/(Lm*fsw) -> 10.25641 | Z23: =CHOOSE(V23,Y23,U23+(0.5*Y23)) -> 7.5346051 | AA23: =CHOOSE(V23,Z23*SQRT((W23+X23)/3),SQRT((U23^2)+((Y23^2)/12))) -> 3.8153537 | AB23: 0 | AC23: =(AA23^2)*Rdcr -> 0.029841693 | AD23: =AB23+AC23 -> 0.029841693 | AE23: =U23*W23 -> 1.6042667 | AF23: =CHOOSE(V23,Z23*SQRT(W23/3),SQRT(W23*((Z23^2)+((Y23^2)/3)-(Z23*Y23)))) -> 3.1152232 | AG23: =(AF23^2)*RDS_on -> 0.0097046157 | AH23: =((R23*U23)/2)*fsw*(tr_sw+tf_sw) -> 0.15048344 | AI23: =AG23+AH23 -> 0.16018806 | AJ23: =X23*U23 -> 0.80213333 | AK23: =CHOOSE(V23,Z23*SQRT(X23/3),SQRT(X23*((Z23^2)+((Y23^2)/3)-(Y23*Z23)))) -> 2.2027955 | AL23: =(AK23^2)*RDS_on_HS -> 0.0048523079 | AM23: =CHOOSE(V23,(R23+Vd_rect)*Qrr*fsw,(R23+Vd_rect)*Qrr*fsw) -> 0.260832 | AN23: =Vd_rect*t_dead*fsw*Z23 -> 0.062687915 | AO23: =AL23+AM23+AN23 -> 0.32837222 | AP23: =(AA23^2)*Rcs -> 0.029113847 | AQ23: =Rdcr*AA23^2 -> 0.029841693 | AR23: =ABS(7.759*10^-3*fsw^0.9458*(0.00787*Y23)^2.304) -> 1.6152231 | AS23: =(Qg_tot+Qg_tot_HS)*VCC*fsw -> 0.01976 | AT23: =IQ*T23 -> 0.08 | AU23: =AP23+AO23+AI23+AD23+AS23+AT23+AQ23+AR23 -> 2.2923406 | AV23: =R23*S23 -> 48.128 | AW23: =(AV23/(AV23+AU23))*100 -> 95.45354
Q24: 17 | R24: =VOUT -> 60 | S24: =Q24*$O$12 -> 0.85226667 | T24: =Vin_vari -> 20 | U24: =(R24*S24)/(T24*EFF_est) -> 2.5568 | V24: =IF(Calculations!$B$17=3,2,IF((S24*R24/T24)<((T24*(1-(T24/R24)))/(2*Lm*fsw)),1,2)) -> 2 | W24: =CHOOSE(V24,SQRT((2*S24*Lm*fsw*(R24-T24))/((T24)^2)),1-(T24/R24)) -> 0.66666667 | X24: =CHOOSE(V24,(Lm*Z24*fsw)/(R24-T24),1-W24) -> 0.33333333 | Y24: =(T24*W24)/(Lm*fsw) -> 10.25641 | Z24: =CHOOSE(V24,Y24,U24+(0.5*Y24)) -> 7.6850051 | AA24: =CHOOSE(V24,Z24*SQRT((W24+X24)/3),SQRT((U24^2)+((Y24^2)/12))) -> 3.9119546 | AB24: 0 | AC24: =(AA24^2)*Rdcr -> 0.031371947 | AD24: =AB24+AC24 -> 0.031371947 | AE24: =U24*W24 -> 1.7045333 | AF24: =CHOOSE(V24,Z24*SQRT(W24/3),SQRT(W24*((Z24^2)+((Y24^2)/3)-(Z24*Y24)))) -> 3.1940976 | AG24: =(AF24^2)*RDS_on -> 0.010202259 | AH24: =((R24*U24)/2)*fsw*(tr_sw+tf_sw) -> 0.15988866 | AI24: =AG24+AH24 -> 0.17009091 | AJ24: =X24*U24 -> 0.85226667 | AK24: =CHOOSE(V24,Z24*SQRT(X24/3),SQRT(X24*((Z24^2)+((Y24^2)/3)-(Y24*Z24)))) -> 2.258568 | AL24: =(AK24^2)*RDS_on_HS -> 0.0051011296 | AM24: =CHOOSE(V24,(R24+Vd_rect)*Qrr*fsw,(R24+Vd_rect)*Qrr*fsw) -> 0.260832 | AN24: =Vd_rect*t_dead*fsw*Z24 -> 0.063939243 | AO24: =AL24+AM24+AN24 -> 0.32987237 | AP24: =(AA24^2)*Rcs -> 0.030606778 | AQ24: =Rdcr*AA24^2 -> 0.031371947 | AR24: =ABS(7.759*10^-3*fsw^0.9458*(0.00787*Y24)^2.304) -> 1.6152231 | AS24: =(Qg_tot+Qg_tot_HS)*VCC*fsw -> 0.01976 | AT24: =IQ*T24 -> 0.08 | AU24: =AP24+AO24+AI24+AD24+AS24+AT24+AQ24+AR24 -> 2.3082971 | AV24: =R24*S24 -> 51.136 | AW24: =(AV24/(AV24+AU24))*100 -> 95.680929
Q25: 18 | R25: =VOUT -> 60 | S25: =Q25*$O$12 -> 0.9024 | T25: =Vin_vari -> 20 | U25: =(R25*S25)/(T25*EFF_est) -> 2.7072 | V25: =IF(Calculations!$B$17=3,2,IF((S25*R25/T25)<((T25*(1-(T25/R25)))/(2*Lm*fsw)),1,2)) -> 2 | W25: =CHOOSE(V25,SQRT((2*S25*Lm*fsw*(R25-T25))/((T25)^2)),1-(T25/R25)) -> 0.66666667 | X25: =CHOOSE(V25,(Lm*Z25*fsw)/(R25-T25),1-W25) -> 0.33333333 | Y25: =(T25*W25)/(Lm*fsw) -> 10.25641 | Z25: =CHOOSE(V25,Y25,U25+(0.5*Y25)) -> 7.8354051 | AA25: =CHOOSE(V25,Z25*SQRT((W25+X25)/3),SQRT((U25^2)+((Y25^2)/12))) -> 4.0118692 | AB25: 0 | AC25: =(AA25^2)*Rdcr -> 0.032994944 | AD25: =AB25+AC25 -> 0.032994944 | AE25: =U25*W25 -> 1.8048 | AF25: =CHOOSE(V25,Z25*SQRT(W25/3),SQRT(W25*((Z25^2)+((Y25^2)/3)-(Z25*Y25)))) -> 3.2756775 | AG25: =(AF25^2)*RDS_on -> 0.010730063 | AH25: =((R25*U25)/2)*fsw*(tr_sw+tf_sw) -> 0.16929387 | AI25: =AG25+AH25 -> 0.18002393 | AJ25: =X25*U25 -> 0.9024 | AK25: =CHOOSE(V25,Z25*SQRT(X25/3),SQRT(X25*((Z25^2)+((Y25^2)/3)-(Y25*Z25)))) -> 2.3162538 | AL25: =(AK25^2)*RDS_on_HS -> 0.0053650315 | AM25: =CHOOSE(V25,(R25+Vd_rect)*Qrr*fsw,(R25+Vd_rect)*Qrr*fsw) -> 0.260832 | AN25: =Vd_rect*t_dead*fsw*Z25 -> 0.065190571 | AO25: =AL25+AM25+AN25 -> 0.3313876 | AP25: =(AA25^2)*Rcs -> 0.032190189 | AQ25: =Rdcr*AA25^2 -> 0.032994944 | AR25: =ABS(7.759*10^-3*fsw^0.9458*(0.00787*Y25)^2.304) -> 1.6152231 | AS25: =(Qg_tot+Qg_tot_HS)*VCC*fsw -> 0.01976 | AT25: =IQ*T25 -> 0.08 | AU25: =AP25+AO25+AI25+AD25+AS25+AT25+AQ25+AR25 -> 2.3245747 | AV25: =R25*S25 -> 54.144 | AW25: =(AV25/(AV25+AU25))*100 -> 95.883419
Q26: 19 | R26: =VOUT -> 60 | S26: =Q26*$O$12 -> 0.95253333 | T26: =Vin_vari -> 20 | U26: =(R26*S26)/(T26*EFF_est) -> 2.8576 | V26: =IF(Calculations!$B$17=3,2,IF((S26*R26/T26)<((T26*(1-(T26/R26)))/(2*Lm*fsw)),1,2)) -> 2 | W26: =CHOOSE(V26,SQRT((2*S26*Lm*fsw*(R26-T26))/((T26)^2)),1-(T26/R26)) -> 0.66666667 | X26: =CHOOSE(V26,(Lm*Z26*fsw)/(R26-T26),1-W26) -> 0.33333333 | Y26: =(T26*W26)/(Lm*fsw) -> 10.25641 | Z26: =CHOOSE(V26,Y26,U26+(0.5*Y26)) -> 7.9858051 | AA26: =CHOOSE(V26,Z26*SQRT((W26+X26)/3),SQRT((U26^2)+((Y26^2)/12))) -> 4.1148561 | AB26: 0 | AC26: =(AA26^2)*Rdcr -> 0.034710683 | AD26: =AB26+AC26 -> 0.034710683 | AE26: =U26*W26 -> 1.9050667 | AF26: =CHOOSE(V26,Z26*SQRT(W26/3),SQRT(W26*((Z26^2)+((Y26^2)/3)-(Z26*Y26)))) -> 3.3597659 | AG26: =(AF26^2)*RDS_on -> 0.011288027 | AH26: =((R26*U26)/2)*fsw*(tr_sw+tf_sw) -> 0.17869909 | AI26: =AG26+AH26 -> 0.18998711 | AJ26: =X26*U26 -> 0.95253333 | AK26: =CHOOSE(V26,Z26*SQRT(X26/3),SQRT(X26*((Z26^2)+((Y26^2)/3)-(Y26*Z26)))) -> 2.3757133 | AL26: =(AK26^2)*RDS_on_HS -> 0.0056440135 | AM26: =CHOOSE(V26,(R26+Vd_rect)*Qrr*fsw,(R26+Vd_rect)*Qrr*fsw) -> 0.260832 | AN26: =Vd_rect*t_dead*fsw*Z26 -> 0.066441899 | AO26: =AL26+AM26+AN26 -> 0.33291791 | AP26: =(AA26^2)*Rcs -> 0.033864081 | AQ26: =Rdcr*AA26^2 -> 0.034710683 | AR26: =ABS(7.759*10^-3*fsw^0.9458*(0.00787*Y26)^2.304) -> 1.6152231 | AS26: =(Qg_tot+Qg_tot_HS)*VCC*fsw -> 0.01976 | AT26: =IQ*T26 -> 0.08 | AU26: =AP26+AO26+AI26+AD26+AS26+AT26+AQ26+AR26 -> 2.3411736 | AV26: =R26*S26 -> 57.152 | AW26: =(AV26/(AV26+AU26))*100 -> 96.064803
Q27: 20 | R27: =VOUT -> 60 | S27: =Q27*$O$12 -> 1.0026667 | T27: =Vin_vari -> 20 | U27: =(R27*S27)/(T27*EFF_est) -> 3.008 | V27: =IF(Calculations!$B$17=3,2,IF((S27*R27/T27)<((T27*(1-(T27/R27)))/(2*Lm*fsw)),1,2)) -> 2 | W27: =CHOOSE(V27,SQRT((2*S27*Lm*fsw*(R27-T27))/((T27)^2)),1-(T27/R27)) -> 0.66666667 | X27: =CHOOSE(V27,(Lm*Z27*fsw)/(R27-T27),1-W27) -> 0.33333333 | Y27: =(T27*W27)/(Lm*fsw) -> 10.25641 | Z27: =CHOOSE(V27,Y27,U27+(0.5*Y27)) -> 8.1362051 | AA27: =CHOOSE(V27,Z27*SQRT((W27+X27)/3),SQRT((U27^2)+((Y27^2)/12))) -> 4.2206903 | AB27: 0 | AC27: =(AA27^2)*Rdcr -> 0.036519165 | AD27: =AB27+AC27 -> 0.036519165 | AE27: =U27*W27 -> 2.0053333 | AF27: =CHOOSE(V27,Z27*SQRT(W27/3),SQRT(W27*((Z27^2)+((Y27^2)/3)-(Z27*Y27)))) -> 3.4461792 | AG27: =(AF27^2)*RDS_on -> 0.011876151 | AH27: =((R27*U27)/2)*fsw*(tr_sw+tf_sw) -> 0.1881043 | AI27: =AG27+AH27 -> 0.19998045 | AJ27: =X27*U27 -> 1.0026667 | AK27: =CHOOSE(V27,Z27*SQRT(X27/3),SQRT(X27*((Z27^2)+((Y27^2)/3)-(Y27*Z27)))) -> 2.4368167 | AL27: =(AK27^2)*RDS_on_HS -> 0.0059380755 | AM27: =CHOOSE(V27,(R27+Vd_rect)*Qrr*fsw,(R27+Vd_rect)*Qrr*fsw) -> 0.260832 | AN27: =Vd_rect*t_dead*fsw*Z27 -> 0.067693227 | AO27: =AL27+AM27+AN27 -> 0.3344633 | AP27: =(AA27^2)*Rcs -> 0.035628453 | AQ27: =Rdcr*AA27^2 -> 0.036519165 | AR27: =ABS(7.759*10^-3*fsw^0.9458*(0.00787*Y27)^2.304) -> 1.6152231 | AS27: =(Qg_tot+Qg_tot_HS)*VCC*fsw -> 0.01976 | AT27: =IQ*T27 -> 0.08 | AU27: =AP27+AO27+AI27+AD27+AS27+AT27+AQ27+AR27 -> 2.3580937 | AV27: =R27*S27 -> 60.16 | AW27: =(AV27/(AV27+AU27))*100 -> 96.228142
... Q157: 150 | R157: =VOUT -> 60 | S157: =Q157*$O$12 -> 7.52 | T157: =Vin_vari -> 20 | U157: =(R157*S157)/(T157*EFF_est) -> 22.56 | V157: =IF(Calculations!$B$17=3,2,IF((S157*R157/T157)<((T157*(1-(T157/R157)))/(2*Lm*fsw)),1,2)) -> 2 | W157: =CHOOSE(V157,SQRT((2*S157*Lm*fsw*(R157-T157))/((T157)^2)),1-(T157/R157)) -> 0.66666667 | X157: =CHOOSE(V157,(Lm*Z157*fsw)/(R157-T157),1-W157) -> 0.33333333 | Y157: =(T157*W157)/(Lm*fsw) -> 10.25641 | Z157: =CHOOSE(V157,Y157,U157+(0.5*Y157)) -> 27.688205 | AA157: =CHOOSE(V157,Z157*SQRT((W157+X157)/3),SQRT((U157^2)+((Y157^2)/12))) -> 22.753456 | AB157: 0 | AC157: =(AA157^2)*Rdcr -> 1.0613255 | AD157: =AB157+AC157 -> 1.0613255 | AE157: =U157*W157 -> 15.04 | AF157: =CHOOSE(V157,Z157*SQRT(W157/3),SQRT(W157*((Z157^2)+((Y157^2)/3)-(Z157*Y157)))) -> 18.578119 | AG157: =(AF157^2)*RDS_on -> 0.34514651 | AH157: =((R157*U157)/2)*fsw*(tr_sw+tf_sw) -> 1.4107823 | AI157: =AG157+AH157 -> 1.7559288 | AJ157: =X157*U157 -> 7.52 | AK157: =CHOOSE(V157,Z157*SQRT(X157/3),SQRT(X157*((Z157^2)+((Y157^2)/3)-(Y157*Z157)))) -> 13.136714 | AL157: =(AK157^2)*RDS_on_HS -> 0.17257325 | AM157: =CHOOSE(V157,(R157+Vd_rect)*Qrr*fsw,(R157+Vd_rect)*Qrr*fsw) -> 0.260832 | AN157: =Vd_rect*t_dead*fsw*Z157 -> 0.23036587 | AO157: =AL157+AM157+AN157 -> 0.66377112 | AP157: =(AA157^2)*Rcs -> 1.0354395 | AQ157: =Rdcr*AA157^2 -> 1.0613255 | AR157: =ABS(7.759*10^-3*fsw^0.9458*(0.00787*Y157)^2.304) -> 1.6152231 | AS157: =(Qg_tot+Qg_tot_HS)*VCC*fsw -> 0.01976 | AT157: =IQ*T157 -> 0.08 | AU157: =AP157+AO157+AI157+AD157+AS157+AT157+AQ157+AR157 -> 7.2927736 | AV157: =R157*S157 -> 451.2 | AW157: =(AV157/(AV157+AU157))*100 -> 98.409403

Sheet Eff_vs_VIN
A1: EXCEL Variables Names/Calculations
R5: Operation Variables | V5: Duty Cycle | Y5: Inductor | AE5: Low-Side MOSFET | AJ5: High-Side MOSFET Losses | AP5: Other Losses | AU5: Total Losses
R6: VOUT | S6: IOUT | T6: VIN | U6: IIN | V6: DCM/CCM | W6: DC | X6: DC_off | Y6: dIL | Z6: ILPEAK | AA6: ILRMS | AB6: PLac (W) | AC6: PL_DCR (W) | AD6: PL_tot (W) | AE6: ISWAVG (A) | AF6: ISWRMS | AG6: PQ_COND (W) | AH6: PQ_SW (W) | AI6: PQ_tot (W) | AJ6: IDAVG (A) | AK6: IHSRMS | AL6: PD_COND (W) | AM6: PD_SW (W) | AN6: Dead Time losses | AO6: PHS_tot (W) | AP6: PRCS (W) | AQ6: PL_DCR (W) | AR6: PL_CORE (W) | AS6: PG_drv (W) | AT6: PIQ (W) | AU6: PTOTAL (W) | AV6: POUT (W) | AW6: Eff
Q7: 0 | R7: =VOUT -> 60 | S7: =IOUT -> 7.52 | T7: =VIN_MIN+($O$12)*(Q7) -> 18 | U7: =(R7*S7)/(T7*EFF_est) -> 25.066667 | V7: =IF(Calculations!$B$17=3,2,IF((S7*R7/T7)<((T7*(1-(T7/R7)))/(2*Lm*fsw)),1,2)) -> 2 | W7: =CHOOSE(V7,SQRT((2*S7*Lm*fsw*(R7-T7))/((T7)^2)),1-(T7/R7)) -> 0.7 | X7: =CHOOSE(V7,(Lm*Z7*fsw)/(R7-T7),1-W7) -> 0.3 | Y7: =(T7*W7)/(Lm*fsw) -> 9.6923077 | Z7: =CHOOSE(V7,Y7,U7+(0.5*Y7)) -> 29.912821 | AA7: =CHOOSE(V7,Z7*SQRT((W7+X7)/3),SQRT((U7^2)+((Y7^2)/12))) -> 25.222335 | AB7: 0 | AC7: =(AA7^2)*Rdcr -> 1.3041407 | AD7: =AB7+AC7 -> 1.3041407 | AE7: =U7*W7 -> 17.546667 | AF7: =CHOOSE(V7,Z7*SQRT(W7/3),SQRT(W7*((Z7^2)+((Y7^2)/3)-(Z7*Y7)))) -> 21.102519 | AG7: =(AF7^2)*RDS_on -> 0.44531633 | AH7: =((R7*U7)/2)*fsw*(tr_sw+tf_sw) -> 1.5675358 | AI7: =AG7+AH7 -> 2.0128522 | AJ7: =X7*U7 -> 7.52 | AK7: =CHOOSE(V7,Z7*SQRT(X7/3),SQRT(X7*((Z7^2)+((Y7^2)/3)-(Y7*Z7)))) -> 13.814842 | AL7: =(AK7^2)*RDS_on_HS -> 0.19084985 | AM7: =CHOOSE(V7,0,(R7+Vd_rect)*Qrr*fsw) -> 0.260832 | AN7: =Vd_rect*t_dead*fsw*Z7 -> 0.24887467 | AO7: =AL7+AM7+AN7 -> 0.70055652 | AP7: =(AA7^2)*Rcs -> 1.2723324 | AQ7: =Rdcr*AA7^2 -> 1.3041407 | AR7: =ABS(7.759*10^-3*fsw^0.9458*(0.00787*Y7)^2.304) -> 1.4178406 | AS7: =(Qg_tot+Qg_tot_HS)*VCC*fsw -> 0.01976 | AT7: =IQ*T7 -> 0.072 | AU7: =AP7+AO7+AI7+AD7+AS7+AT7+AQ7+AR7 -> 8.103623 | AV7: =R7*S7 -> 451.2 | AW7: =(AV7/(AV7+AU7))*100 -> 98.235672
M8: =fsw -> 130000 | Q8: 1 | R8: =VOUT -> 60 | S8: =IOUT -> 7.52 | T8: =VIN_MIN+($O$12)*(Q8) -> 18.28 | U8: =(R8*S8)/(T8*EFF_est) -> 24.682713 | V8: =IF(Calculations!$B$17=3,2,IF((S8*R8/T8)<((T8*(1-(T8/R8)))/(2*Lm*fsw)),1,2)) -> 2 | W8: =CHOOSE(V8,SQRT((2*S8*Lm*fsw*(R8-T8))/((T8)^2)),1-(T8/R8)) -> 0.69533333 | X8: =CHOOSE(V8,(Lm*Z8*fsw)/(R8-T8),1-W8) -> 0.30466667 | Y8: =(T8*W8)/(Lm*fsw) -> 9.7774564 | Z8: =CHOOSE(V8,Y8,U8+(0.5*Y8)) -> 29.571442 | AA8: =CHOOSE(V8,Z8*SQRT((W8+X8)/3),SQRT((U8^2)+((Y8^2)/12))) -> 24.843568 | AB8: 0 | AC8: =(AA8^2)*Rdcr -> 1.2652659 | AD8: =AB8+AC8 -> 1.2652659 | AE8: =U8*W8 -> 17.162713 | AF8: =CHOOSE(V8,Z8*SQRT(W8/3),SQRT(W8*((Z8^2)+((Y8^2)/3)-(Z8*Y8)))) -> 20.716219 | AG8: =(AF8^2)*RDS_on -> 0.42916174 | AH8: =((R8*U8)/2)*fsw*(tr_sw+tf_sw) -> 1.5435254 | AI8: =AG8+AH8 -> 1.9726872 | AJ8: =X8*U8 -> 7.52 | AK8: =CHOOSE(V8,Z8*SQRT(X8/3),SQRT(X8*((Z8^2)+((Y8^2)/3)-(Y8*Z8)))) -> 13.71281 | AL8: =(AK8^2)*RDS_on_HS -> 0.18804115 | AM8: =CHOOSE(V8,(R8+Vd_rect)*Qrr*fsw,(R8+Vd_rect)*Qrr*fsw) -> 0.260832 | AN8: =Vd_rect*t_dead*fsw*Z8 -> 0.24603439 | AO8: =AL8+AM8+AN8 -> 0.69490754 | AP8: =(AA8^2)*Rcs -> 1.2344058 | AQ8: =Rdcr*AA8^2 -> 1.2652659 | AR8: =ABS(7.759*10^-3*fsw^0.9458*(0.00787*Y8)^2.304) -> 1.4467037 | AS8: =(Qg_tot+Qg_tot_HS)*VCC*fsw -> 0.01976 | AT8: =IQ*T8 -> 0.07312 | AU8: =AP8+AO8+AI8+AD8+AS8+AT8+AQ8+AR8 -> 7.9721161 | AV8: =R8*S8 -> 451.2 | AW8: =(AV8/(AV8+AU8))*100 -> 98.263807
N9: VIN_VAR | O9: =Vin_vari -> 20 | P9: V | Q9: 2 | R9: =VOUT -> 60 | S9: =IOUT -> 7.52 | T9: =VIN_MIN+($O$12)*(Q9) -> 18.56 | U9: =(R9*S9)/(T9*EFF_est) -> 24.310345 | V9: =IF(Calculations!$B$17=3,2,IF((S9*R9/T9)<((T9*(1-(T9/R9)))/(2*Lm*fsw)),1,2)) -> 2 | W9: =CHOOSE(V9,SQRT((2*S9*Lm*fsw*(R9-T9))/((T9)^2)),1-(T9/R9)) -> 0.69066667 | X9: =CHOOSE(V9,(Lm*Z9*fsw)/(R9-T9),1-W9) -> 0.30933333 | Y9: =(T9*W9)/(Lm*fsw) -> 9.8605949 | Z9: =CHOOSE(V9,Y9,U9+(0.5*Y9)) -> 29.240642 | AA9: =CHOOSE(V9,Z9*SQRT((W9+X9)/3),SQRT((U9^2)+((Y9^2)/12))) -> 24.476427 | AB9: 0 | AC9: =(AA9^2)*Rdcr -> 1.2281457 | AD9: =AB9+AC9 -> 1.2281457 | AE9: =U9*W9 -> 16.790345 | AF9: =CHOOSE(V9,Z9*SQRT(W9/3),SQRT(W9*((Z9^2)+((Y9^2)/3)-(Z9*Y9)))) -> 20.341467 | AG9: =(AF9^2)*RDS_on -> 0.41377528 | AH9: =((R9*U9)/2)*fsw*(tr_sw+tf_sw) -> 1.5202395 | AI9: =AG9+AH9 -> 1.9340148 | AJ9: =X9*U9 -> 7.52 | AK9: =CHOOSE(V9,Z9*SQRT(X9/3),SQRT(X9*((Z9^2)+((Y9^2)/3)-(Y9*Z9)))) -> 13.613236 | AL9: =(AK9^2)*RDS_on_HS -> 0.1853202 | AM9: =CHOOSE(V9,(R9+Vd_rect)*Qrr*fsw,(R9+Vd_rect)*Qrr*fsw) -> 0.260832 | AN9: =Vd_rect*t_dead*fsw*Z9 -> 0.24328214 | AO9: =AL9+AM9+AN9 -> 0.68943434 | AP9: =(AA9^2)*Rcs -> 1.198191 | AQ9: =Rdcr*AA9^2 -> 1.2281457 | AR9: =ABS(7.759*10^-3*fsw^0.9458*(0.00787*Y9)^2.304) -> 1.4752035 | AS9: =(Qg_tot+Qg_tot_HS)*VCC*fsw -> 0.01976 | AT9: =IQ*T9 -> 0.07424 | AU9: =AP9+AO9+AI9+AD9+AS9+AT9+AQ9+AR9 -> 7.847135 | AV9: =R9*S9 -> 451.2 | AW9: =(AV9/(AV9+AU9))*100 -> 98.29056
Q10: 3 | R10: =VOUT -> 60 | S10: =IOUT -> 7.52 | T10: =VIN_MIN+($O$12)*(Q10) -> 18.84 | U10: =(R10*S10)/(T10*EFF_est) -> 23.949045 | V10: =IF(Calculations!$B$17=3,2,IF((S10*R10/T10)<((T10*(1-(T10/R10)))/(2*Lm*fsw)),1,2)) -> 2 | W10: =CHOOSE(V10,SQRT((2*S10*Lm*fsw*(R10-T10))/((T10)^2)),1-(T10/R10)) -> 0.686 | X10: =CHOOSE(V10,(Lm*Z10*fsw)/(R10-T10),1-W10) -> 0.314 | Y10: =(T10*W10)/(Lm*fsw) -> 9.9417231 | Z10: =CHOOSE(V10,Y10,U10+(0.5*Y10)) -> 28.919906 | AA10: =CHOOSE(V10,Z10*SQRT((W10+X10)/3),SQRT((U10^2)+((Y10^2)/12))) -> 24.12039 | AB10: 0 | AC10: =(AA10^2)*Rdcr -> 1.1926761 | AD10: =AB10+AC10 -> 1.1926761 | AE10: =U10*W10 -> 16.429045 | AF10: =CHOOSE(V10,Z10*SQRT(W10/3),SQRT(W10*((Z10^2)+((Y10^2)/3)-(Z10*Y10)))) -> 19.977741 | AG10: =(AF10^2)*RDS_on -> 0.39911015 | AH10: =((R10*U10)/2)*fsw*(tr_sw+tf_sw) -> 1.4976457 | AI10: =AG10+AH10 -> 1.8967559 | AJ10: =X10*U10 -> 7.52 | AK10: =CHOOSE(V10,Z10*SQRT(X10/3),SQRT(X10*((Z10^2)+((Y10^2)/3)-(Y10*Z10)))) -> 13.51603 | AL10: =(AK10^2)*RDS_on_HS -> 0.18268307 | AM10: =CHOOSE(V10,(R10+Vd_rect)*Qrr*fsw,(R10+Vd_rect)*Qrr*fsw) -> 0.260832 | AN10: =Vd_rect*t_dead*fsw*Z10 -> 0.24061362 | AO10: =AL10+AM10+AN10 -> 0.68412869 | AP10: =(AA10^2)*Rcs -> 1.1635864 | AQ10: =Rdcr*AA10^2 -> 1.1926761 | AR10: =ABS(7.759*10^-3*fsw^0.9458*(0.00787*Y10)^2.304) -> 1.5033179 | AS10: =(Qg_tot+Qg_tot_HS)*VCC*fsw -> 0.01976 | AT10: =IQ*T10 -> 0.07536 | AU10: =AP10+AO10+AI10+AD10+AS10+AT10+AQ10+AR10 -> 7.7282611 | AV10: =R10*S10 -> 451.2 | AW10: =(AV10/(AV10+AU10))*100 -> 98.31602
N11: Steps | O11: 150 | Q11: 4 | R11: =VOUT -> 60 | S11: =IOUT -> 7.52 | T11: =VIN_MIN+($O$12)*(Q11) -> 19.12 | U11: =(R11*S11)/(T11*EFF_est) -> 23.598326 | V11: =IF(Calculations!$B$17=3,2,IF((S11*R11/T11)<((T11*(1-(T11/R11)))/(2*Lm*fsw)),1,2)) -> 2 | W11: =CHOOSE(V11,SQRT((2*S11*Lm*fsw*(R11-T11))/((T11)^2)),1-(T11/R11)) -> 0.68133333 | X11: =CHOOSE(V11,(Lm*Z11*fsw)/(R11-T11),1-W11) -> 0.31866667 | Y11: =(T11*W11)/(Lm*fsw) -> 10.020841 | Z11: =CHOOSE(V11,Y11,U11+(0.5*Y11)) -> 28.608747 | AA11: =CHOOSE(V11,Z11*SQRT((W11+X11)/3),SQRT((U11^2)+((Y11^2)/12))) -> 23.774968 | AB11: 0 | AC11: =(AA11^2)*Rdcr -> 1.1587607 | AD11: =AB11+AC11 -> 1.1587607 | AE11: =U11*W11 -> 16.078326 | AF11: =CHOOSE(V11,Z11*SQRT(W11/3),SQRT(W11*((Z11^2)+((Y11^2)/3)-(Z11*Y11)))) -> 19.624553 | AG11: =(AF11^2)*RDS_on -> 0.38512306 | AH11: =((R11*U11)/2)*fsw*(tr_sw+tf_sw) -> 1.4757137 | AI11: =AG11+AH11 -> 1.8608367 | AJ11: =X11*U11 -> 7.52 | AK11: =CHOOSE(V11,Z11*SQRT(X11/3),SQRT(X11*((Z11^2)+((Y11^2)/3)-(Y11*Z11)))) -> 13.421105 | AL11: =(AK11^2)*RDS_on_HS -> 0.18012605 | AM11: =CHOOSE(V11,(R11+Vd_rect)*Qrr*fsw,(R11+Vd_rect)*Qrr*fsw) -> 0.260832 | AN11: =Vd_rect*t_dead*fsw*Z11 -> 0.23802477 | AO11: =AL11+AM11+AN11 -> 0.67898282 | AP11: =(AA11^2)*Rcs -> 1.1304982 | AQ11: =Rdcr*AA11^2 -> 1.1587607 | AR11: =ABS(7.759*10^-3*fsw^0.9458*(0.00787*Y11)^2.304) -> 1.5310253 | AS11: =(Qg_tot+Qg_tot_HS)*VCC*fsw -> 0.01976 | AT11: =IQ*T11 -> 0.07648 | AU11: =AP11+AO11+AI11+AD11+AS11+AT11+AQ11+AR11 -> 7.6151044 | AV11: =R11*S11 -> 451.2 | AW11: =(AV11/(AV11+AU11))*100 -> 98.340267
N12: Step size | O12: =(VIN_MAX-VIN_MIN)/(O11) -> 0.28 | Q12: 5 | R12: =VOUT -> 60 | S12: =IOUT -> 7.52 | T12: =VIN_MIN+($O$12)*(Q12) -> 19.4 | U12: =(R12*S12)/(T12*EFF_est) -> 23.257732 | V12: =IF(Calculations!$B$17=3,2,IF((S12*R12/T12)<((T12*(1-(T12/R12)))/(2*Lm*fsw)),1,2)) -> 2 | W12: =CHOOSE(V12,SQRT((2*S12*Lm*fsw*(R12-T12))/((T12)^2)),1-(T12/R12)) -> 0.67666667 | X12: =CHOOSE(V12,(Lm*Z12*fsw)/(R12-T12),1-W12) -> 0.32333333 | Y12: =(T12*W12)/(Lm*fsw) -> 10.097949 | Z12: =CHOOSE(V12,Y12,U12+(0.5*Y12)) -> 28.306706 | AA12: =CHOOSE(V12,Z12*SQRT((W12+X12)/3),SQRT((U12^2)+((Y12^2)/12))) -> 23.439699 | AB12: 0 | AC12: =(AA12^2)*Rdcr -> 1.1263099 | AD12: =AB12+AC12 -> 1.1263099 | AE12: =U12*W12 -> 15.737732 | AF12: =CHOOSE(V12,Z12*SQRT(W12/3),SQRT(W12*((Z12^2)+((Y12^2)/3)-(Z12*Y12)))) -> 19.281438 | AG12: =(AF12^2)*RDS_on -> 0.37177385 | AH12: =((R12*U12)/2)*fsw*(tr_sw+tf_sw) -> 1.4544147 | AI12: =AG12+AH12 -> 1.8261885 | AJ12: =X12*U12 -> 7.52 | AK12: =CHOOSE(V12,Z12*SQRT(X12/3),SQRT(X12*((Z12^2)+((Y12^2)/3)-(Y12*Z12)))) -> 13.328377 | AL12: =(AK12^2)*RDS_on_HS -> 0.17764563 | AM12: =CHOOSE(V12,(R12+Vd_rect)*Qrr*fsw,(R12+Vd_rect)*Qrr*fsw) -> 0.260832 | AN12: =Vd_rect*t_dead*fsw*Z12 -> 0.2355118 | AO12: =AL12+AM12+AN12 -> 0.67398943 | AP12: =(AA12^2)*Rcs -> 1.098839 | AQ12: =Rdcr*AA12^2 -> 1.1263099 | AR12: =ABS(7.759*10^-3*fsw^0.9458*(0.00787*Y12)^2.304) -> 1.5583046 | AS12: =(Qg_tot+Qg_tot_HS)*VCC*fsw -> 0.01976 | AT12: =IQ*T12 -> 0.0776 | AU12: =AP12+AO12+AI12+AD12+AS12+AT12+AQ12+AR12 -> 7.5073014 | AV12: =R12*S12 -> 451.2 | AW12: =(AV12/(AV12+AU12))*100 -> 98.363379
Q13: 6 | R13: =VOUT -> 60 | S13: =IOUT -> 7.52 | T13: =VIN_MIN+($O$12)*(Q13) -> 19.68 | U13: =(R13*S13)/(T13*EFF_est) -> 22.926829 | V13: =IF(Calculations!$B$17=3,2,IF((S13*R13/T13)<((T13*(1-(T13/R13)))/(2*Lm*fsw)),1,2)) -> 2 | W13: =CHOOSE(V13,SQRT((2*S13*Lm*fsw*(R13-T13))/((T13)^2)),1-(T13/R13)) -> 0.672 | X13: =CHOOSE(V13,(Lm*Z13*fsw)/(R13-T13),1-W13) -> 0.328 | Y13: =(T13*W13)/(Lm*fsw) -> 10.173046 | Z13: =CHOOSE(V13,Y13,U13+(0.5*Y13)) -> 28.013352 | AA13: =CHOOSE(V13,Z13*SQRT((W13+X13)/3),SQRT((U13^2)+((Y13^2)/12))) -> 23.114146 | AB13: 0 | AC13: =(AA13^2)*Rdcr -> 1.0952407 | AD13: =AB13+AC13 -> 1.0952407 | AE13: =U13*W13 -> 15.406829 | AF13: =CHOOSE(V13,Z13*SQRT(W13/3),SQRT(W13*((Z13^2)+((Y13^2)/3)-(Z13*Y13)))) -> 18.947961 | AG13: =(AF13^2)*RDS_on -> 0.35902523 | AH13: =((R13*U13)/2)*fsw*(tr_sw+tf_sw) -> 1.4337218 | AI13: =AG13+AH13 -> 1.792747 | AJ13: =X13*U13 -> 7.52 | AK13: =CHOOSE(V13,Z13*SQRT(X13/3),SQRT(X13*((Z13^2)+((Y13^2)/3)-(Y13*Z13)))) -> 13.237768 | AL13: =(AK13^2)*RDS_on_HS -> 0.17523851 | AM13: =CHOOSE(V13,(R13+Vd_rect)*Qrr*fsw,(R13+Vd_rect)*Qrr*fsw) -> 0.260832 | AN13: =Vd_rect*t_dead*fsw*Z13 -> 0.23307109 | AO13: =AL13+AM13+AN13 -> 0.6691416 | AP13: =(AA13^2)*Rcs -> 1.0685275 | AQ13: =Rdcr*AA13^2 -> 1.0952407 | AR13: =ABS(7.759*10^-3*fsw^0.9458*(0.00787*Y13)^2.304) -> 1.5851351 | AS13: =(Qg_tot+Qg_tot_HS)*VCC*fsw -> 0.01976 | AT13: =IQ*T13 -> 0.07872 | AU13: =AP13+AO13+AI13+AD13+AS13+AT13+AQ13+AR13 -> 7.4045126 | AV13: =R13*S13 -> 451.2 | AW13: =(AV13/(AV13+AU13))*100 -> 98.385425
Q14: 7 | R14: =VOUT -> 60 | S14: =IOUT -> 7.52 | T14: =VIN_MIN+($O$12)*(Q14) -> 19.96 | U14: =(R14*S14)/(T14*EFF_est) -> 22.60521 | V14: =IF(Calculations!$B$17=3,2,IF((S14*R14/T14)<((T14*(1-(T14/R14)))/(2*Lm*fsw)),1,2)) -> 2 | W14: =CHOOSE(V14,SQRT((2*S14*Lm*fsw*(R14-T14))/((T14)^2)),1-(T14/R14)) -> 0.66733333 | X14: =CHOOSE(V14,(Lm*Z14*fsw)/(R14-T14),1-W14) -> 0.33266667 | Y14: =(T14*W14)/(Lm*fsw) -> 10.246133 | Z14: =CHOOSE(V14,Y14,U14+(0.5*Y14)) -> 27.728277 | AA14: =CHOOSE(V14,Z14*SQRT((W14+X14)/3),SQRT((U14^2)+((Y14^2)/12))) -> 22.797898 | AB14: 0 | AC14: =(AA14^2)*Rdcr -> 1.0654755 | AD14: =AB14+AC14 -> 1.0654755 | AE14: =U14*W14 -> 15.08521 | AF14: =CHOOSE(V14,Z14*SQRT(W14/3),SQRT(W14*((Z14^2)+((Y14^2)/3)-(Z14*Y14)))) -> 18.62371 | AG14: =(AF14^2)*RDS_on -> 0.34684259 | AH14: =((R14*U14)/2)*fsw*(tr_sw+tf_sw) -> 1.4136095 | AI14: =AG14+AH14 -> 1.7604521 | AJ14: =X14*U14 -> 7.52 | AK14: =CHOOSE(V14,Z14*SQRT(X14/3),SQRT(X14*((Z14^2)+((Y14^2)/3)-(Y14*Z14)))) -> 13.149203 | AL14: =(AK14^2)*RDS_on_HS -> 0.17290155 | AM14: =CHOOSE(V14,(R14+Vd_rect)*Qrr*fsw,(R14+Vd_rect)*Qrr*fsw) -> 0.260832 | AN14: =Vd_rect*t_dead*fsw*Z14 -> 0.23069927 | AO14: =AL14+AM14+AN14 -> 0.66443282 | AP14: =(AA14^2)*Rcs -> 1.0394883 | AQ14: =Rdcr*AA14^2 -> 1.0654755 | AR14: =ABS(7.759*10^-3*fsw^0.9458*(0.00787*Y14)^2.304) -> 1.6114966 | AS14: =(Qg_tot+Qg_tot_HS)*VCC*fsw -> 0.01976 | AT14: =IQ*T14 -> 0.07984 | AU14: =AP14+AO14+AI14+AD14+AS14+AT14+AQ14+AR14 -> 7.3064208 | AV14: =R14*S14 -> 451.2 | AW14: =(AV14/(AV14+AU14))*100 -> 98.406474
O15: =0.205*2.5/(Lm*fsw) -> 0.39423077 | Q15: 8 | R15: =VOUT -> 60 | S15: =IOUT -> 7.52 | T15: =VIN_MIN+($O$12)*(Q15) -> 20.24 | U15: =(R15*S15)/(T15*EFF_est) -> 22.29249 | V15: =IF(Calculations!$B$17=3,2,IF((S15*R15/T15)<((T15*(1-(T15/R15)))/(2*Lm*fsw)),1,2)) -> 2 | W15: =CHOOSE(V15,SQRT((2*S15*Lm*fsw*(R15-T15))/((T15)^2)),1-(T15/R15)) -> 0.66266667 | X15: =CHOOSE(V15,(Lm*Z15*fsw)/(R15-T15),1-W15) -> 0.33733333 | Y15: =(T15*W15)/(Lm*fsw) -> 10.31721 | Z15: =CHOOSE(V15,Y15,U15+(0.5*Y15)) -> 27.451095 | AA15: =CHOOSE(V15,Z15*SQRT((W15+X15)/3),SQRT((U15^2)+((Y15^2)/12))) -> 22.490565 | AB15: 0 | AC15: =(AA15^2)*Rdcr -> 1.0369423 | AD15: =AB15+AC15 -> 1.0369423 | AE15: =U15*W15 -> 14.77249 | AF15: =CHOOSE(V15,Z15*SQRT(W15/3),SQRT(W15*((Z15^2)+((Y15^2)/3)-(Z15*Y15)))) -> 18.308296 | AG15: =(AF15^2)*RDS_on -> 0.33519371 | AH15: =((R15*U15)/2)*fsw*(tr_sw+tf_sw) -> 1.3940536 | AI15: =AG15+AH15 -> 1.7292473 | AJ15: =X15*U15 -> 7.52 | AK15: =CHOOSE(V15,Z15*SQRT(X15/3),SQRT(X15*((Z15^2)+((Y15^2)/3)-(Y15*Z15)))) -> 13.062611 | AL15: =(AK15^2)*RDS_on_HS -> 0.17063181 | AM15: =CHOOSE(V15,(R15+Vd_rect)*Qrr*fsw,(R15+Vd_rect)*Qrr*fsw) -> 0.260832 | AN15: =Vd_rect*t_dead*fsw*Z15 -> 0.22839311 | AO15: =AL15+AM15+AN15 -> 0.65985692 | AP15: =(AA15^2)*Rcs -> 1.011651 | AQ15: =Rdcr*AA15^2 -> 1.0369423 | AR15: =ABS(7.759*10^-3*fsw^0.9458*(0.00787*Y15)^2.304) -> 1.6373693 | AS15: =(Qg_tot+Qg_tot_HS)*VCC*fsw -> 0.01976 | AT15: =IQ*T15 -> 0.08096 | AU15: =AP15+AO15+AI15+AD15+AS15+AT15+AQ15+AR15 -> 7.2127292 | AV15: =R15*S15 -> 451.2 | AW15: =(AV15/(AV15+AU15))*100 -> 98.426586
Q16: 9 | R16: =VOUT -> 60 | S16: =IOUT -> 7.52 | T16: =VIN_MIN+($O$12)*(Q16) -> 20.52 | U16: =(R16*S16)/(T16*EFF_est) -> 21.988304 | V16: =IF(Calculations!$B$17=3,2,IF((S16*R16/T16)<((T16*(1-(T16/R16)))/(2*Lm*fsw)),1,2)) -> 2 | W16: =CHOOSE(V16,SQRT((2*S16*Lm*fsw*(R16-T16))/((T16)^2)),1-(T16/R16)) -> 0.658 | X16: =CHOOSE(V16,(Lm*Z16*fsw)/(R16-T16),1-W16) -> 0.342 | Y16: =(T16*W16)/(Lm*fsw) -> 10.386277 | Z16: =CHOOSE(V16,Y16,U16+(0.5*Y16)) -> 27.181443 | AA16: =CHOOSE(V16,Z16*SQRT((W16+X16)/3),SQRT((U16^2)+((Y16^2)/12))) -> 22.19178 | AB16: 0 | AC16: =(AA16^2)*Rdcr -> 1.0095739 | AD16: =AB16+AC16 -> 1.0095739 | AE16: =U16*W16 -> 14.468304 | AF16: =CHOOSE(V16,Z16*SQRT(W16/3),SQRT(W16*((Z16^2)+((Y16^2)/3)-(Z16*Y16)))) -> 18.00135 | AG16: =(AF16^2)*RDS_on -> 0.3240486 | AH16: =((R16*U16)/2)*fsw*(tr_sw+tf_sw) -> 1.3750314 | AI16: =AG16+AH16 -> 1.69908 | AJ16: =X16*U16 -> 7.52 | AK16: =CHOOSE(V16,Z16*SQRT(X16/3),SQRT(X16*((Z16^2)+((Y16^2)/3)-(Y16*Z16)))) -> 12.977923 | AL16: =(AK16^2)*RDS_on_HS -> 0.16842648 | AM16: =CHOOSE(V16,(R16+Vd_rect)*Qrr*fsw,(R16+Vd_rect)*Qrr*fsw) -> 0.260832 | AN16: =Vd_rect*t_dead*fsw*Z16 -> 0.2261496 | AO16: =AL16+AM16+AN16 -> 0.65540808 | AP16: =(AA16^2)*Rcs -> 0.98495016 | AQ16: =Rdcr*AA16^2 -> 1.0095739 | AR16: =ABS(7.759*10^-3*fsw^0.9458*(0.00787*Y16)^2.304) -> 1.6627339 | AS16: =(Qg_tot+Qg_tot_HS)*VCC*fsw -> 0.01976 | AT16: =IQ*T16 -> 0.08208 | AU16: =AP16+AO16+AI16+AD16+AS16+AT16+AQ16+AR16 -> 7.12316 | AV16: =R16*S16 -> 451.2 | AW16: =(AV16/(AV16+AU16))*100 -> 98.445821
Q17: 10 | R17: =VOUT -> 60 | S17: =IOUT -> 7.52 | T17: =VIN_MIN+($O$12)*(Q17) -> 20.8 | U17: =(R17*S17)/(T17*EFF_est) -> 21.692308 | V17: =IF(Calculations!$B$17=3,2,IF((S17*R17/T17)<((T17*(1-(T17/R17)))/(2*Lm*fsw)),1,2)) -> 2 | W17: =CHOOSE(V17,SQRT((2*S17*Lm*fsw*(R17-T17))/((T17)^2)),1-(T17/R17)) -> 0.65333333 | X17: =CHOOSE(V17,(Lm*Z17*fsw)/(R17-T17),1-W17) -> 0.34666667 | Y17: =(T17*W17)/(Lm*fsw) -> 10.453333 | Z17: =CHOOSE(V17,Y17,U17+(0.5*Y17)) -> 26.918974 | AA17: =CHOOSE(V17,Z17*SQRT((W17+X17)/3),SQRT((U17^2)+((Y17^2)/12))) -> 21.901192 | AB17: 0 | AC17: =(AA17^2)*Rdcr -> 0.98330757 | AD17: =AB17+AC17 -> 0.98330757 | AE17: =U17*W17 -> 14.172308 | AF17: =CHOOSE(V17,Z17*SQRT(W17/3),SQRT(W17*((Z17^2)+((Y17^2)/3)-(Z17*Y17)))) -> 17.702523 | AG17: =(AF17^2)*RDS_on -> 0.31337932 | AH17: =((R17*U17)/2)*fsw*(tr_sw+tf_sw) -> 1.3565214 | AI17: =AG17+AH17 -> 1.6699007 | AJ17: =X17*U17 -> 7.52 | AK17: =CHOOSE(V17,Z17*SQRT(X17/3),SQRT(X17*((Z17^2)+((Y17^2)/3)-(Y17*Z17)))) -> 12.895073 | AL17: =(AK17^2)*RDS_on_HS -> 0.16628291 | AM17: =CHOOSE(V17,(R17+Vd_rect)*Qrr*fsw,(R17+Vd_rect)*Qrr*fsw) -> 0.260832 | AN17: =Vd_rect*t_dead*fsw*Z17 -> 0.22396587 | AO17: =AL17+AM17+AN17 -> 0.65108077 | AP17: =(AA17^2)*Rcs -> 0.95932446 | AQ17: =Rdcr*AA17^2 -> 0.98330757 | AR17: =ABS(7.759*10^-3*fsw^0.9458*(0.00787*Y17)^2.304) -> 1.6875716 | AS17: =(Qg_tot+Qg_tot_HS)*VCC*fsw -> 0.01976 | AT17: =IQ*T17 -> 0.0832 | AU17: =AP17+AO17+AI17+AD17+AS17+AT17+AQ17+AR17 -> 7.0374527 | AV17: =R17*S17 -> 451.2 | AW17: =(AV17/(AV17+AU17))*100 -> 98.464234
Q18: 11 | R18: =VOUT -> 60 | S18: =IOUT -> 7.52 | T18: =VIN_MIN+($O$12)*(Q18) -> 21.08 | U18: =(R18*S18)/(T18*EFF_est) -> 21.404175 | V18: =IF(Calculations!$B$17=3,2,IF((S18*R18/T18)<((T18*(1-(T18/R18)))/(2*Lm*fsw)),1,2)) -> 2 | W18: =CHOOSE(V18,SQRT((2*S18*Lm*fsw*(R18-T18))/((T18)^2)),1-(T18/R18)) -> 0.64866667 | X18: =CHOOSE(V18,(Lm*Z18*fsw)/(R18-T18),1-W18) -> 0.35133333 | Y18: =(T18*W18)/(Lm*fsw) -> 10.518379 | Z18: =CHOOSE(V18,Y18,U18+(0.5*Y18)) -> 26.663364 | AA18: =CHOOSE(V18,Z18*SQRT((W18+X18)/3),SQRT((U18^2)+((Y18^2)/12))) -> 21.618473 | AB18: 0 | AC18: =(AA18^2)*Rdcr -> 0.95808468 | AD18: =AB18+AC18 -> 0.95808468 | AE18: =U18*W18 -> 13.884175 | AF18: =CHOOSE(V18,Z18*SQRT(W18/3),SQRT(W18*((Z18^2)+((Y18^2)/3)-(Z18*Y18)))) -> 17.411485 | AG18: =(AF18^2)*RDS_on -> 0.3031598 | AH18: =((R18*U18)/2)*fsw*(tr_sw+tf_sw) -> 1.3385031 | AI18: =AG18+AH18 -> 1.6416629 | AJ18: =X18*U18 -> 7.52 | AK18: =CHOOSE(V18,Z18*SQRT(X18/3),SQRT(X18*((Z18^2)+((Y18^2)/3)-(Y18*Z18)))) -> 12.813999 | AL18: =(AK18^2)*RDS_on_HS -> 0.16419858 | AM18: =CHOOSE(V18,(R18+Vd_rect)*Qrr*fsw,(R18+Vd_rect)*Qrr*fsw) -> 0.260832 | AN18: =Vd_rect*t_dead*fsw*Z18 -> 0.22183919 | AO18: =AL18+AM18+AN18 -> 0.64686977 | AP18: =(AA18^2)*Rcs -> 0.93471676 | AQ18: =Rdcr*AA18^2 -> 0.95808468 | AR18: =ABS(7.759*10^-3*fsw^0.9458*(0.00787*Y18)^2.304) -> 1.7118641 | AS18: =(Qg_tot+Qg_tot_HS)*VCC*fsw -> 0.01976 | AT18: =IQ*T18 -> 0.08432 | AU18: =AP18+AO18+AI18+AD18+AS18+AT18+AQ18+AR18 -> 6.9553628 | AV18: =R18*S18 -> 451.2 | AW18: =(AV18/(AV18+AU18))*100 -> 98.481877
Q19: 12 | R19: =VOUT -> 60 | S19: =IOUT -> 7.52 | T19: =VIN_MIN+($O$12)*(Q19) -> 21.36 | U19: =(R19*S19)/(T19*EFF_est) -> 21.123596 | V19: =IF(Calculations!$B$17=3,2,IF((S19*R19/T19)<((T19*(1-(T19/R19)))/(2*Lm*fsw)),1,2)) -> 2 | W19: =CHOOSE(V19,SQRT((2*S19*Lm*fsw*(R19-T19))/((T19)^2)),1-(T19/R19)) -> 0.644 | X19: =CHOOSE(V19,(Lm*Z19*fsw)/(R19-T19),1-W19) -> 0.356 | Y19: =(T19*W19)/(Lm*fsw) -> 10.581415 | Z19: =CHOOSE(V19,Y19,U19+(0.5*Y19)) -> 26.414303 | AA19: =CHOOSE(V19,Z19*SQRT((W19+X19)/3),SQRT((U19^2)+((Y19^2)/12))) -> 21.343308 | AB19: 0 | AC19: =(AA19^2)*Rdcr -> 0.93385047 | AD19: =AB19+AC19 -> 0.93385047 | AE19: =U19*W19 -> 13.603596 | AF19: =CHOOSE(V19,Z19*SQRT(W19/3),SQRT(W19*((Z19^2)+((Y19^2)/3)-(Z19*Y19)))) -> 17.127922 | AG19: =(AF19^2)*RDS_on -> 0.29336571 | AH19: =((R19*U19)/2)*fsw*(tr_sw+tf_sw) -> 1.3209572 | AI19: =AG19+AH19 -> 1.6143229 | AJ19: =X19*U19 -> 7.52 | AK19: =CHOOSE(V19,Z19*SQRT(X19/3),SQRT(X19*((Z19^2)+((Y19^2)/3)-(Y19*Z19)))) -> 12.734642 | AL19: =(AK19^2)*RDS_on_HS -> 0.16217111 | AM19: =CHOOSE(V19,(R19+Vd_rect)*Qrr*fsw,(R19+Vd_rect)*Qrr*fsw) -> 0.260832 | AN19: =Vd_rect*t_dead*fsw*Z19 -> 0.219767 | AO19: =AL19+AM19+AN19 -> 0.64277011 | AP19: =(AA19^2)*Rcs -> 0.91107363 | AQ19: =Rdcr*AA19^2 -> 0.93385047 | AR19: =ABS(7.759*10^-3*fsw^0.9458*(0.00787*Y19)^2.304) -> 1.7355934 | AS19: =(Qg_tot+Qg_tot_HS)*VCC*fsw -> 0.01976 | AT19: =IQ*T19 -> 0.08544 | AU19: =AP19+AO19+AI19+AD19+AS19+AT19+AQ19+AR19 -> 6.876661 | AV19: =R19*S19 -> 451.2 | AW19: =(AV19/(AV19+AU19))*100 -> 98.498797
Q20: 13 | R20: =VOUT -> 60 | S20: =IOUT -> 7.52 | T20: =VIN_MIN+($O$12)*(Q20) -> 21.64 | U20: =(R20*S20)/(T20*EFF_est) -> 20.850277 | V20: =IF(Calculations!$B$17=3,2,IF((S20*R20/T20)<((T20*(1-(T20/R20)))/(2*Lm*fsw)),1,2)) -> 2 | W20: =CHOOSE(V20,SQRT((2*S20*Lm*fsw*(R20-T20))/((T20)^2)),1-(T20/R20)) -> 0.63933333 | X20: =CHOOSE(V20,(Lm*Z20*fsw)/(R20-T20),1-W20) -> 0.36066667 | Y20: =(T20*W20)/(Lm*fsw) -> 10.642441 | Z20: =CHOOSE(V20,Y20,U20+(0.5*Y20)) -> 26.171498 | AA20: =CHOOSE(V20,Z20*SQRT((W20+X20)/3),SQRT((U20^2)+((Y20^2)/12))) -> 21.075401 | AB20: 0 | AC20: =(AA20^2)*Rdcr -> 0.91055368 | AD20: =AB20+AC20 -> 0.91055368 | AE20: =U20*W20 -> 13.330277 | AF20: =CHOOSE(V20,Z20*SQRT(W20/3),SQRT(W20*((Z20^2)+((Y20^2)/3)-(Z20*Y20)))) -> 16.851537 | AG20: =(AF20^2)*RDS_on -> 0.2839743 | AH20: =((R20*U20)/2)*fsw*(tr_sw+tf_sw) -> 1.3038653 | AI20: =AG20+AH20 -> 1.5878396 | AJ20: =X20*U20 -> 7.52 | AK20: =CHOOSE(V20,Z20*SQRT(X20/3),SQRT(X20*((Z20^2)+((Y20^2)/3)-(Y20*Z20)))) -> 12.656944 | AL20: =(AK20^2)*RDS_on_HS -> 0.16019822 | AM20: =CHOOSE(V20,(R20+Vd_rect)*Qrr*fsw,(R20+Vd_rect)*Qrr*fsw) -> 0.260832 | AN20: =Vd_rect*t_dead*fsw*Z20 -> 0.21774686 | AO20: =AL20+AM20+AN20 -> 0.63877709 | AP20: =(AA20^2)*Rcs -> 0.88834505 | AQ20: =Rdcr*AA20^2 -> 0.91055368 | AR20: =ABS(7.759*10^-3*fsw^0.9458*(0.00787*Y20)^2.304) -> 1.7587423 | AS20: =(Qg_tot+Qg_tot_HS)*VCC*fsw -> 0.01976 | AT20: =IQ*T20 -> 0.08656 | AU20: =AP20+AO20+AI20+AD20+AS20+AT20+AQ20+AR20 -> 6.8011314 | AV20: =R20*S20 -> 451.2 | AW20: =(AV20/(AV20+AU20))*100 -> 98.51504
Q21: 14 | R21: =VOUT -> 60 | S21: =IOUT -> 7.52 | T21: =VIN_MIN+($O$12)*(Q21) -> 21.92 | U21: =(R21*S21)/(T21*EFF_est) -> 20.583942 | V21: =IF(Calculations!$B$17=3,2,IF((S21*R21/T21)<((T21*(1-(T21/R21)))/(2*Lm*fsw)),1,2)) -> 2 | W21: =CHOOSE(V21,SQRT((2*S21*Lm*fsw*(R21-T21))/((T21)^2)),1-(T21/R21)) -> 0.63466667 | X21: =CHOOSE(V21,(Lm*Z21*fsw)/(R21-T21),1-W21) -> 0.36533333 | Y21: =(T21*W21)/(Lm*fsw) -> 10.701456 | Z21: =CHOOSE(V21,Y21,U21+(0.5*Y21)) -> 25.93467 | AA21: =CHOOSE(V21,Z21*SQRT((W21+X21)/3),SQRT((U21^2)+((Y21^2)/12))) -> 20.814468 | AB21: 0 | AC21: =(AA21^2)*Rdcr -> 0.88814627 | AD21: =AB21+AC21 -> 0.88814627 | AE21: =U21*W21 -> 13.063942 | AF21: =CHOOSE(V21,Z21*SQRT(W21/3),SQRT(W21*((Z21^2)+((Y21^2)/3)-(Z21*Y21)))) -> 16.582048 | AG21: =(AF21^2)*RDS_on -> 0.27496431 | AH21: =((R21*U21)/2)*fsw*(tr_sw+tf_sw) -> 1.2872101 | AI21: =AG21+AH21 -> 1.5621744 | AJ21: =X21*U21 -> 7.52 | AK21: =CHOOSE(V21,Z21*SQRT(X21/3),SQRT(X21*((Z21^2)+((Y21^2)/3)-(Y21*Z21)))) -> 12.58085 | AL21: =(AK21^2)*RDS_on_HS -> 0.15827777 | AM21: =CHOOSE(V21,(R21+Vd_rect)*Qrr*fsw,(R21+Vd_rect)*Qrr*fsw) -> 0.260832 | AN21: =Vd_rect*t_dead*fsw*Z21 -> 0.21577645 | AO21: =AL21+AM21+AN21 -> 0.63488623 | AP21: =(AA21^2)*Rcs -> 0.86648417 | AQ21: =Rdcr*AA21^2 -> 0.88814627 | AR21: =ABS(7.759*10^-3*fsw^0.9458*(0.00787*Y21)^2.304) -> 1.7812939 | AS21: =(Qg_tot+Qg_tot_HS)*VCC*fsw -> 0.01976 | AT21: =IQ*T21 -> 0.08768 | AU21: =AP21+AO21+AI21+AD21+AS21+AT21+AQ21+AR21 -> 6.7285712 | AV21: =R21*S21 -> 451.2 | AW21: =(AV21/(AV21+AU21))*100 -> 98.53065
Q22: 15 | R22: =VOUT -> 60 | S22: =IOUT -> 7.52 | T22: =VIN_MIN+($O$12)*(Q22) -> 22.2 | U22: =(R22*S22)/(T22*EFF_est) -> 20.324324 | V22: =IF(Calculations!$B$17=3,2,IF((S22*R22/T22)<((T22*(1-(T22/R22)))/(2*Lm*fsw)),1,2)) -> 2 | W22: =CHOOSE(V22,SQRT((2*S22*Lm*fsw*(R22-T22))/((T22)^2)),1-(T22/R22)) -> 0.63 | X22: =CHOOSE(V22,(Lm*Z22*fsw)/(R22-T22),1-W22) -> 0.37 | Y22: =(T22*W22)/(Lm*fsw) -> 10.758462 | Z22: =CHOOSE(V22,Y22,U22+(0.5*Y22)) -> 25.703555 | AA22: =CHOOSE(V22,Z22*SQRT((W22+X22)/3),SQRT((U22^2)+((Y22^2)/12))) -> 20.560242 | AB22: 0 | AC22: =(AA22^2)*Rdcr -> 0.86658324 | AD22: =AB22+AC22 -> 0.86658324 | AE22: =U22*W22 -> 12.804324 | AF22: =CHOOSE(V22,Z22*SQRT(W22/3),SQRT(W22*((Z22^2)+((Y22^2)/3)-(Z22*Y22)))) -> 16.319186 | AG22: =(AF22^2)*RDS_on -> 0.26631583 | AH22: =((R22*U22)/2)*fsw*(tr_sw+tf_sw) -> 1.270975 | AI22: =AG22+AH22 -> 1.5372908 | AJ22: =X22*U22 -> 7.52 | AK22: =CHOOSE(V22,Z22*SQRT(X22/3),SQRT(X22*((Z22^2)+((Y22^2)/3)-(Y22*Z22)))) -> 12.506307 | AL22: =(AK22^2)*RDS_on_HS -> 0.15640771 | AM22: =CHOOSE(V22,(R22+Vd_rect)*Qrr*fsw,(R22+Vd_rect)*Qrr*fsw) -> 0.260832 | AN22: =Vd_rect*t_dead*fsw*Z22 -> 0.21385358 | AO22: =AL22+AM22+AN22 -> 0.63109329 | AP22: =(AA22^2)*Rcs -> 0.84544707 | AQ22: =Rdcr*AA22^2 -> 0.86658324 | AR22: =ABS(7.759*10^-3*fsw^0.9458*(0.00787*Y22)^2.304) -> 1.8032318 | AS22: =(Qg_tot+Qg_tot_HS)*VCC*fsw -> 0.01976 | AT22: =IQ*T22 -> 0.0888 | AU22: =AP22+AO22+AI22+AD22+AS22+AT22+AQ22+AR22 -> 6.6587895 | AV22: =R22*S22 -> 451.2 | AW22: =(AV22/(AV22+AU22))*100 -> 98.545667
Q23: 16 | R23: =VOUT -> 60 | S23: =IOUT -> 7.52 | T23: =VIN_MIN+($O$12)*(Q23) -> 22.48 | U23: =(R23*S23)/(T23*EFF_est) -> 20.071174 | V23: =IF(Calculations!$B$17=3,2,IF((S23*R23/T23)<((T23*(1-(T23/R23)))/(2*Lm*fsw)),1,2)) -> 2 | W23: =CHOOSE(V23,SQRT((2*S23*Lm*fsw*(R23-T23))/((T23)^2)),1-(T23/R23)) -> 0.62533333 | X23: =CHOOSE(V23,(Lm*Z23*fsw)/(R23-T23),1-W23) -> 0.37466667 | Y23: =(T23*W23)/(Lm*fsw) -> 10.813456 | Z23: =CHOOSE(V23,Y23,U23+(0.5*Y23)) -> 25.477903 | AA23: =CHOOSE(V23,Z23*SQRT((W23+X23)/3),SQRT((U23^2)+((Y23^2)/12))) -> 20.312466 | AB23: 0 | AC23: =(AA23^2)*Rdcr -> 0.84582237 | AD23: =AB23+AC23 -> 0.84582237 | AE23: =U23*W23 -> 12.551174 | AF23: =CHOOSE(V23,Z23*SQRT(W23/3),SQRT(W23*((Z23^2)+((Y23^2)/3)-(Z23*Y23)))) -> 16.062696 | AG23: =(AF23^2)*RDS_on -> 0.25801021 | AH23: =((R23*U23)/2)*fsw*(tr_sw+tf_sw) -> 1.2551444 | AI23: =AG23+AH23 -> 1.5131546 | AJ23: =X23*U23 -> 7.52 | AK23: =CHOOSE(V23,Z23*SQRT(X23/3),SQRT(X23*((Z23^2)+((Y23^2)/3)-(Y23*Z23)))) -> 12.433265 | AL23: =(AK23^2)*RDS_on_HS -> 0.15458607 | AM23: =CHOOSE(V23,(R23+Vd_rect)*Qrr*fsw,(R23+Vd_rect)*Qrr*fsw) -> 0.260832 | AN23: =Vd_rect*t_dead*fsw*Z23 -> 0.21197615 | AO23: =AL23+AM23+AN23 -> 0.62739422 | AP23: =(AA23^2)*Rcs -> 0.82519256 | AQ23: =Rdcr*AA23^2 -> 0.84582237 | AR23: =ABS(7.759*10^-3*fsw^0.9458*(0.00787*Y23)^2.304) -> 1.8245402 | AS23: =(Qg_tot+Qg_tot_HS)*VCC*fsw -> 0.01976 | AT23: =IQ*T23 -> 0.08992 | AU23: =AP23+AO23+AI23+AD23+AS23+AT23+AQ23+AR23 -> 6.5916063 | AV23: =R23*S23 -> 451.2 | AW23: =(AV23/(AV23+AU23))*100 -> 98.560129
Q24: 17 | R24: =VOUT -> 60 | S24: =IOUT -> 7.52 | T24: =VIN_MIN+($O$12)*(Q24) -> 22.76 | U24: =(R24*S24)/(T24*EFF_est) -> 19.824253 | V24: =IF(Calculations!$B$17=3,2,IF((S24*R24/T24)<((T24*(1-(T24/R24)))/(2*Lm*fsw)),1,2)) -> 2 | W24: =CHOOSE(V24,SQRT((2*S24*Lm*fsw*(R24-T24))/((T24)^2)),1-(T24/R24)) -> 0.62066667 | X24: =CHOOSE(V24,(Lm*Z24*fsw)/(R24-T24),1-W24) -> 0.37933333 | Y24: =(T24*W24)/(Lm*fsw) -> 10.866441 | Z24: =CHOOSE(V24,Y24,U24+(0.5*Y24)) -> 25.257474 | AA24: =CHOOSE(V24,Z24*SQRT((W24+X24)/3),SQRT((U24^2)+((Y24^2)/12))) -> 20.070899 | AB24: 0 | AC24: =(AA24^2)*Rdcr -> 0.82582399 | AD24: =AB24+AC24 -> 0.82582399 | AE24: =U24*W24 -> 12.304253 | AF24: =CHOOSE(V24,Z24*SQRT(W24/3),SQRT(W24*((Z24^2)+((Y24^2)/3)-(Z24*Y24)))) -> 15.812336 | AG24: =(AF24^2)*RDS_on -> 0.25002996 | AH24: =((R24*U24)/2)*fsw*(tr_sw+tf_sw) -> 1.2397032 | AI24: =AG24+AH24 -> 1.4897332 | AJ24: =X24*U24 -> 7.52 | AK24: =CHOOSE(V24,Z24*SQRT(X24/3),SQRT(X24*((Z24^2)+((Y24^2)/3)-(Y24*Z24)))) -> 12.361675 | AL24: =(AK24^2)*RDS_on_HS -> 0.15281101 | AM24: =CHOOSE(V24,(R24+Vd_rect)*Qrr*fsw,(R24+Vd_rect)*Qrr*fsw) -> 0.260832 | AN24: =Vd_rect*t_dead*fsw*Z24 -> 0.21014218 | AO24: =AL24+AM24+AN24 -> 0.62378519 | AP24: =(AA24^2)*Rcs -> 0.80568194 | AQ24: =Rdcr*AA24^2 -> 0.82582399 | AR24: =ABS(7.759*10^-3*fsw^0.9458*(0.00787*Y24)^2.304) -> 1.8452039 | AS24: =(Qg_tot+Qg_tot_HS)*VCC*fsw -> 0.01976 | AT24: =IQ*T24 -> 0.09104 | AU24: =AP24+AO24+AI24+AD24+AS24+AT24+AQ24+AR24 -> 6.5268522 | AV24: =R24*S24 -> 451.2 | AW24: =(AV24/(AV24+AU24))*100 -> 98.574073
Q25: 18 | R25: =VOUT -> 60 | S25: =IOUT -> 7.52 | T25: =VIN_MIN+($O$12)*(Q25) -> 23.04 | U25: =(R25*S25)/(T25*EFF_est) -> 19.583333 | V25: =IF(Calculations!$B$17=3,2,IF((S25*R25/T25)<((T25*(1-(T25/R25)))/(2*Lm*fsw)),1,2)) -> 2 | W25: =CHOOSE(V25,SQRT((2*S25*Lm*fsw*(R25-T25))/((T25)^2)),1-(T25/R25)) -> 0.616 | X25: =CHOOSE(V25,(Lm*Z25*fsw)/(R25-T25),1-W25) -> 0.384 | Y25: =(T25*W25)/(Lm*fsw) -> 10.917415 | Z25: =CHOOSE(V25,Y25,U25+(0.5*Y25)) -> 25.042041 | AA25: =CHOOSE(V25,Z25*SQRT((W25+X25)/3),SQRT((U25^2)+((Y25^2)/12))) -> 19.835308 | AB25: 0 | AC25: =(AA25^2)*Rdcr -> 0.80655085 | AD25: =AB25+AC25 -> 0.80655085 | AE25: =U25*W25 -> 12.063333 | AF25: =CHOOSE(V25,Z25*SQRT(W25/3),SQRT(W25*((Z25^2)+((Y25^2)/3)-(Z25*Y25)))) -> 15.567874 | AG25: =(AF25^2)*RDS_on -> 0.2423587 | AH25: =((R25*U25)/2)*fsw*(tr_sw+tf_sw) -> 1.2246374 | AI25: =AG25+AH25 -> 1.4669961 | AJ25: =X25*U25 -> 7.52 | AK25: =CHOOSE(V25,Z25*SQRT(X25/3),SQRT(X25*((Z25^2)+((Y25^2)/3)-(Y25*Z25)))) -> 12.291491 | AL25: =(AK25^2)*RDS_on_HS -> 0.15108075 | AM25: =CHOOSE(V25,(R25+Vd_rect)*Qrr*fsw,(R25+Vd_rect)*Qrr*fsw) -> 0.260832 | AN25: =Vd_rect*t_dead*fsw*Z25 -> 0.20834978 | AO25: =AL25+AM25+AN25 -> 0.62026253 | AP25: =(AA25^2)*Rcs -> 0.78687888 | AQ25: =Rdcr*AA25^2 -> 0.80655085 | AR25: =ABS(7.759*10^-3*fsw^0.9458*(0.00787*Y25)^2.304) -> 1.8652079 | AS25: =(Qg_tot+Qg_tot_HS)*VCC*fsw -> 0.01976 | AT25: =IQ*T25 -> 0.09216 | AU25: =AP25+AO25+AI25+AD25+AS25+AT25+AQ25+AR25 -> 6.4643671 | AV25: =R25*S25 -> 451.2 | AW25: =(AV25/(AV25+AU25))*100 -> 98.587531
Q26: 19 | R26: =VOUT -> 60 | S26: =IOUT -> 7.52 | T26: =VIN_MIN+($O$12)*(Q26) -> 23.32 | U26: =(R26*S26)/(T26*EFF_est) -> 19.348199 | V26: =IF(Calculations!$B$17=3,2,IF((S26*R26/T26)<((T26*(1-(T26/R26)))/(2*Lm*fsw)),1,2)) -> 2 | W26: =CHOOSE(V26,SQRT((2*S26*Lm*fsw*(R26-T26))/((T26)^2)),1-(T26/R26)) -> 0.61133333 | X26: =CHOOSE(V26,(Lm*Z26*fsw)/(R26-T26),1-W26) -> 0.38866667 | Y26: =(T26*W26)/(Lm*fsw) -> 10.966379 | Z26: =CHOOSE(V26,Y26,U26+(0.5*Y26)) -> 24.831389 | AA26: =CHOOSE(V26,Z26*SQRT((W26+X26)/3),SQRT((U26^2)+((Y26^2)/12))) -> 19.605474 | AB26: 0 | AC26: =(AA26^2)*Rdcr -> 0.78796792 | AD26: =AB26+AC26 -> 0.78796792 | AE26: =U26*W26 -> 11.828199 | AF26: =CHOOSE(V26,Z26*SQRT(W26/3),SQRT(W26*((Z26^2)+((Y26^2)/3)-(Z26*Y26)))) -> 15.32909 | AG26: =(AF26^2)*RDS_on -> 0.234981 | AH26: =((R26*U26)/2)*fsw*(tr_sw+tf_sw) -> 1.2099333 | AI26: =AG26+AH26 -> 1.4449143 | AJ26: =X26*U26 -> 7.52 | AK26: =CHOOSE(V26,Z26*SQRT(X26/3),SQRT(X26*((Z26^2)+((Y26^2)/3)-(Y26*Z26)))) -> 12.222667 | AL26: =(AK26^2)*RDS_on_HS -> 0.14939359 | AM26: =CHOOSE(V26,(R26+Vd_rect)*Qrr*fsw,(R26+Vd_rect)*Qrr*fsw) -> 0.260832 | AN26: =Vd_rect*t_dead*fsw*Z26 -> 0.20659715 | AO26: =AL26+AM26+AN26 -> 0.61682275 | AP26: =(AA26^2)*Rcs -> 0.76874919 | AQ26: =Rdcr*AA26^2 -> 0.78796792 | AR26: =ABS(7.759*10^-3*fsw^0.9458*(0.00787*Y26)^2.304) -> 1.8845381 | AS26: =(Qg_tot+Qg_tot_HS)*VCC*fsw -> 0.01976 | AT26: =IQ*T26 -> 0.09328 | AU26: =AP26+AO26+AI26+AD26+AS26+AT26+AQ26+AR26 -> 6.4040002 | AV26: =R26*S26 -> 451.2 | AW26: =(AV26/(AV26+AU26))*100 -> 98.600537
Q27: 20 | R27: =VOUT -> 60 | S27: =IOUT -> 7.52 | T27: =VIN_MIN+($O$12)*(Q27) -> 23.6 | U27: =(R27*S27)/(T27*EFF_est) -> 19.118644 | V27: =IF(Calculations!$B$17=3,2,IF((S27*R27/T27)<((T27*(1-(T27/R27)))/(2*Lm*fsw)),1,2)) -> 2 | W27: =CHOOSE(V27,SQRT((2*S27*Lm*fsw*(R27-T27))/((T27)^2)),1-(T27/R27)) -> 0.60666667 | X27: =CHOOSE(V27,(Lm*Z27*fsw)/(R27-T27),1-W27) -> 0.39333333 | Y27: =(T27*W27)/(Lm*fsw) -> 11.013333 | Z27: =CHOOSE(V27,Y27,U27+(0.5*Y27)) -> 24.625311 | AA27: =CHOOSE(V27,Z27*SQRT((W27+X27)/3),SQRT((U27^2)+((Y27^2)/12))) -> 19.381185 | AB27: 0 | AC27: =(AA27^2)*Rdcr -> 0.7700422 | AD27: =AB27+AC27 -> 0.7700422 | AE27: =U27*W27 -> 11.598644 | AF27: =CHOOSE(V27,Z27*SQRT(W27/3),SQRT(W27*((Z27^2)+((Y27^2)/3)-(Z27*Y27)))) -> 15.095775 | AG27: =(AF27^2)*RDS_on -> 0.22788241 | AH27: =((R27*U27)/2)*fsw*(tr_sw+tf_sw) -> 1.1955782 | AI27: =AG27+AH27 -> 1.4234606 | AJ27: =X27*U27 -> 7.52 | AK27: =CHOOSE(V27,Z27*SQRT(X27/3),SQRT(X27*((Z27^2)+((Y27^2)/3)-(Y27*Z27)))) -> 12.155161 | AL27: =(AK27^2)*RDS_on_HS -> 0.14774794 | AM27: =CHOOSE(V27,(R27+Vd_rect)*Qrr*fsw,(R27+Vd_rect)*Qrr*fsw) -> 0.260832 | AN27: =Vd_rect*t_dead*fsw*Z27 -> 0.20488259 | AO27: =AL27+AM27+AN27 -> 0.61346252 | AP27: =(AA27^2)*Rcs -> 0.75126069 | AQ27: =Rdcr*AA27^2 -> 0.7700422 | AR27: =ABS(7.759*10^-3*fsw^0.9458*(0.00787*Y27)^2.304) -> 1.9031807 | AS27: =(Qg_tot+Qg_tot_HS)*VCC*fsw -> 0.01976 | AT27: =IQ*T27 -> 0.0944 | AU27: =AP27+AO27+AI27+AD27+AS27+AT27+AQ27+AR27 -> 6.345609 | AV27: =R27*S27 -> 451.2 | AW27: =(AV27/(AV27+AU27))*100 -> 98.61312
... Q157: 150 | R157: =VOUT -> 60 | S157: =IOUT -> 7.52 | T157: =VIN_MIN+($O$12)*(Q157) -> 60 | U157: =(R157*S157)/(T157*EFF_est) -> 7.52 | V157: =IF(Calculations!$B$17=3,2,IF((S157*R157/T157)<((T157*(1-(T157/R157)))/(2*Lm*fsw)),1,2)) -> 2 | W157: =CHOOSE(V157,SQRT((2*S157*Lm*fsw*(R157-T157))/((T157)^2)),1-(T157/R157)) -> -2.220446e-16 | X157: =CHOOSE(V157,(Lm*Z157*fsw)/(R157-T157),1-W157) -> 1 | Y157: =(T157*W157)/(Lm*fsw) -> -1.0248213e-14 | Z157: =CHOOSE(V157,Y157,U157+(0.5*Y157)) -> 7.52 | AA157: =CHOOSE(V157,Z157*SQRT((W157+X157)/3),SQRT((U157^2)+((Y157^2)/12))) -> 7.52 | AB157: 0 | AC157: =(AA157^2)*Rdcr -> 0.11592832 | AD157: =AB157+AC157 -> 0.11592832 | AE157: =U157*W157 -> -1.6697754e-15 | AF157: =CHOOSE(V157,Z157*SQRT(W157/3),SQRT(W157*((Z157^2)+((Y157^2)/3)-(Z157*Y157)))) -> #NUM! | AG157: =(AF157^2)*RDS_on -> #NUM! | AH157: =((R157*U157)/2)*fsw*(tr_sw+tf_sw) -> 0.47026075 | AI157: =AG157+AH157 -> #NUM! | AJ157: =X157*U157 -> 7.52 | AK157: =CHOOSE(V157,Z157*SQRT(X157/3),SQRT(X157*((Z157^2)+((Y157^2)/3)-(Y157*Z157)))) -> 7.52 | AL157: =(AK157^2)*RDS_on_HS -> 0.0565504 | AM157: =CHOOSE(V157,(R157+Vd_rect)*Qrr*fsw,(R157+Vd_rect)*Qrr*fsw) -> 0.260832 | AN157: =Vd_rect*t_dead*fsw*Z157 -> 0.0625664 | AO157: =AL157+AM157+AN157 -> 0.3799488 | AP157: =(AA157^2)*Rcs -> 0.1131008 | AQ157: =Rdcr*AA157^2 -> 0.11592832 | AR157: =ABS(7.759*10^-3*fsw^0.9458*(0.00787*Y157)^2.304) -> #NUM! | AS157: =(Qg_tot+Qg_tot_HS)*VCC*fsw -> 0.01976 | AT157: =IQ*T157 -> 0.24 | AU157: =AP157+AO157+AI157+AD157+AS157+AT157+AQ157+AR157 -> #NUM! | AV157: =R157*S157 -> 451.2 | AW157: =(AV157/(AV157+AU157))*100 -> #NUM!

Sheet Plot Management
A1: =IF(Calculations!B20=1, "EFF_IOUT", "EFF_VIN") -> EFF_IOUT

Sheet Calculations
A1: Variable Name | C1: Unit | D1: Desciption | E1: Flags
A2: Operational Parameters
A3: VIN_MIN | B3: =LM5122_Quickstart!I7 -> 18 | C3: V | D3: Minimum Input Supply Voltage (VIN_MIN) | E3: =IF(OR(VIN_MIN>VIN_TYP,VIN_MIN<EC_Table!E8,VIN_MIN<EC_Table!E7),1,0) -> 0
A4: VIN_TYP | B4: =LM5122_Quickstart!I8 -> 20 | C4: V | D4: Typical Input Supply Voltage (VIN_TYP) | E4: =IF(VIN_TYP>VIN_MAX,1,0) -> 0
A5: VIN_MAX | B5: =LM5122_Quickstart!I9 -> 60 | C5: V | D5: Maximum Input Supply Voltage (VIN_MAX) | E5: =IF(VIN_MAX>VOUT,1,0) -> 0
A6: fsw | B6: =LM5122_Quickstart!I17*1000 -> 130000 | C6: Hz | D6: Selected Switching Freqeuncy | E6: =IF(OR(fsw<EC_Table!C43,fsw>EC_Table!E43),1,0) -> 0
A7: eta | B7: 0.94 | D7: Estimated Efficiency (η) Constant Guess is 94%
A8: EFF_est | B8: 1 | D8: Est. Eff 100% for simplicity Eff calculations
A9: VOUT | B9: =LM5122_Quickstart!I10 -> 60 | C9: V | D9: Target Output Voltage (VOUT) | E9: =IF(VOUT>EC_Table!E119-5,1,0) -> 0
A10: IOUT | B10: =LM5122_Quickstart!I11 -> 7.52 | C10: A | D10: Maximum Total Load Current (IOUT)
A11: np | B11: =LM5122_Quickstart!I12 -> 2 | D11: Number of Phase (nP)
A12: IOUT_np | B12: =B10/B11 -> 3.76 | C12: A | D12: Maximum Load Current per Phase (IOUT/nP)
A14: VCC | B14: =EC_Table!D10 -> 7.6 | C14: V | D14: VCC rail Voltage (Typical) | E14: =IF(OR(VCC<EC_Table!E17,VCC>EC_Table!E123),1,0) -> 0
A15: VCC_min | D15: VCC rail Voltage (at VIN Min)
A17: SW_mode | B17: =IF(LM5122_Quickstart!I13="FPWM",3,IF(LM5122_Quickstart!I13="DEM",2,1)) -> 3 | D17: selected switching mode (1 = SKIP, 2 = DEM, 3 =FPWM) Will change the effieciency calculations accordingly | K17: SKIP
K18: DEM
K19: FPWM
A20: Eff_Graph | B20: 1 | D20: selected Efficency graph (1 = Iout, 2 = Vin) | K20: Efficiency vs IOUT Plot | L20: 1
B21: =IF(B20=1,CONCATENATE("V = ",VIN_TYP,"V"),"") -> V = 20V | C21: =IF(B20=1,"IN","") -> IN | K21: Efficiency vs VIN Plot | L21: 2
A22: Freqeuncy Calculations
A23: fsw_max | B23: =(VIN_MIN/(VOUT*EC_Table!E61)) -> 750000 | C23: Hz | D23: max switching freqeuncy based on output voltage and maximum t_off | E23: =IF(B23<fsw,1,0) -> 0
A24: R_RT | B24: =(9*(10^9))/fsw -> 69230.769 | C24: Ohm | D24: RT resistor value based on the datasheet equation
A26: Maximum SYNCIN Freqeuncy | B26: =fsw*1.4 -> 182000 | C26: Hz | D26: This is the maximum switching frequnecy based SYNCIN freqeuncy range
A27: Minimum SYNCIN Freqeuncy | B27: =0.8*fsw -> 104000 | C27: Hz | D27: This is the maximum switching frequnecy based SYNCIN freqeuncy range
A30: Switching Parameters
A31: Maximum Duty Cycle (VIN_MIN) | B31: =1-(VIN_MIN/VOUT) -> 0.7 | C31: %
A32: Maximum on Time | B32: =B31/fsw -> 5.3846154e-06 | C32: s | D32: on time at full load and VIN_MIN
A33: Minimum Off time | B33: =(1/fsw)-B32 -> 2.3076923e-06 | C33: s | D33: off time at full load and VIN_MIN | E33: =IF(B33<EC_Table!E61,1,0) -> 0
A34: Minimum Duty Cycle | B34: =1-(VIN_MAX/VOUT) -> 0 | C34: %
A35: Minimum on Time | B35: =B34/fsw -> 0 | C35: s | D35: on time at full load and VIN_MAX
A36: Maximum off time | B36: =(1/fsw)-B35 -> 7.6923077e-06 | C36: s | D36: off time at full load and VIN_MAX
A38: Inductor Selection (Per Phase Calculations)
A40: RR | B40: =LM5122_Quickstart!I25/100 -> 0.3 | C40: % | D40: Ripple ratio of inductor current
A41: L_Calc | B41: =(VIN_TYP*(1-(VIN_TYP/VOUT)))/(((VOUT*IOUT_np)/(eta*VIN_TYP))*RR*fsw) -> 2.8490028e-05 | C41: H | D41: VIN_TYP used for calculation
A42: Lm | B42: =LM5122_Quickstart!I27/(10^6) -> 1e-05 | C42: H | D42: Selected inductor value (per phase)
A43: R_Lm | B43: =LM5122_Quickstart!I28/1000 -> 0.00205 | C43: Ohm | D43: Inductor DCR (used for efficency calcualtions
A45: IL_AVG_VIN_MIN | B45: =(VOUT*IOUT_np)/(VIN_MIN*eta) -> 13.333333 | C45: A | D45: @ IOUT MAX
A46: IL_AVG_VIN_TYP | B46: =(VOUT*IOUT_np)/(VIN_TYP*eta) -> 12 | C46: A | D46: @ IOUT MAX
A47: IL_AVG_VIN_MAX | B47: =(VOUT*IOUT_np)/(VIN_MAX*eta) -> 4 | C47: A | D47: @ IOUT MAX | E47: =(VIN_MAX/Lm)*((1-(VIN_MAX/VOUT))/(2*fsw)) -> 0
E48: =SQRT((2*Lm*fsw*(VOUT-VIN_MAX)*((VOUT/VIN_MAX)*IOUT_np))/(VIN_MAX*VOUT)) -> 0
A49: Duty Cycle at VIN_MIN | B49: =IF((VIN_MIN/Lm)*((1-(VIN_MIN/VOUT))/(2*fsw))<B45,(1-(VIN_MIN/VOUT)),SQRT((2*Lm*fsw*(VOUT-VIN_MIN)*((VOUT/VIN_MIN)*IOUT_np))/(VIN_MIN*VOUT))) -> 0.7 | C49: % | D49: @ IOUT MAX | E49: =(VIN_MAX/VOUT) -> 1
A50: Duty Cycle at VIN_TYP | B50: =IF((VIN_TYP/Lm)*((1-(VIN_TYP/VOUT))/(2*fsw))<B46,(1-(VIN_TYP/VOUT)),SQRT((2*Lm*fsw*(VOUT-VIN_TYP)*((VOUT/VIN_TYP)*IOUT_np))/(VIN_TYP*VOUT))) -> 0.66666667 | C50: % | D50: @ IOUT MAX
A51: Duty Cycle at VIN_MAX | B51: =IF((VIN_MAX/Lm)*((1-(VIN_MAX/VOUT))/(2*fsw))<B47,(1-(VIN_MAX/VOUT)),SQRT((2*Lm*fsw*(VOUT-VIN_MAX)*((VOUT/VIN_MAX)*IOUT_np))/(VIN_MAX*VOUT))) -> 0 | C51: % | D51: @ IOUT MAX
A53: IL_Ripple_VIN_MIN | B53: =B49*VIN_MIN/(Lm*fsw) -> 9.6923077 | C53: A | D53: @ IOUT MAX
A54: IL_Ripple_VIN_TYP | B54: =B50*VIN_TYP/(Lm*fsw) -> 10.25641 | C54: A | D54: @ IOUT MAX
A55: IL_Ripple_VIN_MAX | B55: =B51*VIN_MAX/(Lm*fsw) -> 0 | C55: A | D55: @ IOUT MAX
A57: IL_PEAK_VIN_MIN | B57: =B45+(B53/2) -> 18.179487 | C57: A | D57: @ IOUT MAX
A58: IL_PEAK_VIN_TYP | B58: =B46+(B54/2) -> 17.128205 | C58: A | D58: @ IOUT MAX
A59: IL_PEAK_VIN_MAX | B59: =B47+(B55/2) -> 4 | C59: A | D59: @ IOUT MAX
A81: Current Limit Calculations
A82: M_LIMIT | B82: =LM5122_Quickstart!I39/100 -> 0.25 | D82: Margin above the maximum peak limit
A83: IPEAK_LIMIT | B83: =MAX(B57:B59)*(1+M_LIMIT) -> 22.724359 | C83: A | D83: Target Peak Limit Value
A84: Acs | B84: =EC_Table!D72 -> 10 | D84: Current Sense Amplifier Gain
A85: VCL_Typ | B85: =EC_Table!D68 -> 0.075 | D85: Typical Current Limit Value
A86: Rcs_calc | B86: =VCL/B83 -> 0.0033004231 | C86: Ohm | D86: Calculated Current Sense Resistor (Typical Peak Current Limit)
A87: Rcs | B87: =LM5122_Quickstart!I42/1000 -> 0.002 | C87: Ohm | D87: Selected Current Sense Resistor
A89: IL_PEAK_VIN_MIN | B89: =VCL/Rcs -> 37.5 | C89: A | D89: Peak Current Limit @ VIN_MIN | E89: =IF(B89<B57,1,0) -> 0
A90: IL_PEAK_VIN_TYP | B90: =VCL/Rcs -> 37.5 | C90: A | D90: Peak Current Limit @ VIN_TYP | E90: =IF(B90<B58,1,0) -> 0
A91: IL_PEAK_VIN_MAX | B91: =VCL/Rcs -> 37.5 | C91: A | D91: Peak Current Limit @ VIN_MAX | E91: =IF(B91<B59,1,0) -> 0
A93: IL_OUT_VIN_MIN | B93: =(VIN_MIN*(B89-(B53/2))*np)/(VOUT) -> 19.592308 | C93: A | D93: Maximum IOUT when peak current limit occurs @ VIN_MIN
A94: IL_OUT_VIN_TYP | B94: =(VIN_TYP*(B90-(B54/2))*np)/(VOUT) -> 21.581197 | C94: A | D94: Maximum IOUT when peak current limit occurs @ VIN_TYP
A95: IL_OUT_VIN_MAX | B95: =(VIN_MAX*(B91-(B55/2))*np)/(VOUT) -> 75 | C95: A | D95: Maximum IOUT when peak current limit occurs @ VIN_MAX
A97: Slope Compensation
A98: K_slope_selected | B98: =LM5122_Quickstart!I50 -> 1 | D98: Slope Compensation k factor
A99: R_slope_min | B99: =((5.7*10^9)/fsw)*(1.2-(VIN_MIN/VOUT)) -> 39461.538 | C99: Ohm | D99: Minimum value of the slope resistor
A100: R_slope_calc | B100: =(Lm*(6*10^9))/(((k_slope_selected*VOUT)-VIN_MIN)*Rcs*EC_Table!D72) -> 71428.571 | C100: Ohm | D100: Calcualted R slope value for the chossen k Factor
A101: R_slope | B101: =LM5122_Quickstart!I53*1000 -> 40200 | C101: Ohm | D101: Selected R Slope Value | E101: =IF(B101<B99,1,0) -> 0
A103: K_slope @ VIN_MIN | B103: =(1+(Lm*6*10^9/(VIN_MIN*Rcs*ACS*Rslope)))*(VIN_MIN/VOUT) -> 1.5437811 | D103: K slope at VIN_MIN
A104: Sub_Har_VIN_MIN | D104: Check for Subharmonic Osillation
A105: K_slope @ VIN_TYP | B105: =(1+(Lm*6*10^9/(VIN_TYP*Rcs*ACS*Rslope)))*(VIN_TYP/VOUT) -> 1.5771144 | D105: K slope at VIN_TYP
A106: Sub_Har_VIN_TYP | D106: Check for Subharmonic Osillation
A107: K_slope @ VIN_MAX | B107: =(1+(Lm*6*10^9/(VIN_MAX*Rcs*ACS*Rslope)))*(VIN_MAX/VOUT) -> 2.2437811 | D107: K slope at VIN_MAX
A108: Sub_Har_VIN_MAX | D108: Check for Subharmonic Osillation
A110: OUTPUT Capacitance Selection
A111: Vout_ripple | B111: =LM5122_Quickstart!I56/1000 -> 0.024 | C111: V | D111: Output ripple due to capacitive ripple
A112: Cout_Calc | B112: =(IOUT*1-(VIN_MIN/VOUT))/(B111*fsw) -> 0.0023141026 | C112: F | D112: Output capacitance at VIN MIN and IOUT max
A113: Cout_Calc_Ripple_VINmin | B113: =1/((((VIN_MIN*B111)/(VOUT*IOUT))-RESR)*4*fsw) -> -0.00013694639 | C113: F | D113: Calculated output capacitance at VIN MIN and IOUT max from Datasheet (not used)
A114: Cout_Calc_FRHP | B114: =(IOUT-0.5*IOUT)/(B111*(w_RHP/5)) -> 0.005454321 | C114: F | D114: Based on Itransient and Fcrossover from LM5123
A115: Cout | B115: =LM5122_Quickstart!I58/(10^6) -> 0.00364 | C115: F | D115: Selected total amount of output capacitance
A117: Resr | B117: =LM5122_Quickstart!I59/1000 -> 0.015 | C117: Ohm | D117: Total series resistance of the output capacitance
A120: Control Loop Calculations (@ VIN_MIN)
A121: w_RHP | B121: =((VOUT/IOUT_np)*((VIN_MIN/VOUT)^2))/Lm -> 143617.02 | C121: RAD/s | D121: Right half plane zero at VIN_MIN and IOUT_MAX
A122: RHP Freq | B122: =w_RHP/(2*PI()) -> 22857.359 | C122: Hz
A123: w_Z_ESR | B123: =1/(COUT*RESR) -> 18315.018 | C123: RAD/s | D123: Zero due to output capacitance and ESR
A124: ESR zero Freq | B124: =w_Z_ESR/(2*PI()) -> 2914.9257 | C124: Hz
A125: w_p_low | B125: =2/(COUT*(VOUT/IOUT_np)) -> 34.432234 | C125: RAD/s | D125: Low Freqeuncy pole to to ROUT and COUT (dominant load pole)
A126: Low Freq Pole | B126: =w_p_low/(2*PI()) -> 5.4800603 | C126: Hz
A127: ADC | B127: =Gcomp*(VIN_MIN/IOUT_np)/(2*Rcs*ACS) -> 89.760638 | C127: V/V | D127: DC gain of the Plant function | E127: Rload * D' = Vin_min/Iout
A128: Qfact | B128: =1/(PI()*(B103-0.5)) -> 0.30495847 | D128: Quatility Factor due to slope compensation
A130: Kex_VINmin | B130: =(Rcs*ACS/(2*Lm*fsw))*(1-(VIN_MIN/VOUT))*(VIN_MIN/VOUT) -> 0.0016153846 | E130: Slope compensation parameters. Will change pole and DC gain equation
A131: Km_VINmin | B131: =1/((0.5-(1-(VIN_MIN/VOUT)))*(Rcs*ACS/(Lm*fsw))+(Vslo*ACS/VOUT)) -> 5.078125 | E131: Slope compensation parameters. Will change pole and DC gain equation
A132: Kd_VINmin | B132: =2+((VOUT*((VIN_MIN/VOUT)^2))/(IOUT_np*Rcs*ACS))*((1/Km_VINmin)+(Kex_VINmin/(VIN_MIN/VOUT))) -> 16.527414 | E132: Slope compensation parameters. Will change pole and DC gain equation
A136: ADC_VINmin | B136: =((VIN_MIN/VOUT)*(VOUT/IOUT_np))/(Kd_VINmin*Rcs*ACS) -> 14.482707
A138: wp_lf_VINmin | B138: =Kd_VINmin/(COUT*(VOUT/IOUT_np)) -> 284.5379 | C138: rad | E138: Low frequency pole based on the minimum input voltage
A139: fp_lf_VINmin | B139: =B138/(2*PI()) -> 45.285613 | C139: Hz | E139: Plant low frequency pole. IN Hz!!!
A141: wz_esr_VINmin | B141: =1/(COUT*RESR) -> 18315.018 | C141: raf | E141: ESR zero based on the minimum input voltage
A142: fz_esr_VINmin | B142: =B141/(2*PI()) -> 2914.9257 | C142: Hz | E142: Plant capacitor ESR zero (In Hz)
A144: wz_RHP_VINmin | B144: =((VOUT/IOUT_np)*((VIN_MIN/VOUT)^2))/(Lm) -> 143617.02 | E144: RHP_zero location based on the minimum input voltage
A145: fz_rhp_VINmin | B145: =B144/(2*PI()) -> 22857.359 | C145: Hz | E145: Plant RHP Zero, (IN Hz)
B146: =fsw/10 -> 13000 | C146: Hz | E146: 1/10 the swictching frequency
...

Sheet EC_Table
A1: DATASHEET Parameters | H1: Not in datasheet but practical litmits
A3: Parameter | B3: Test Conditions | C3: Min | D3: Typ | E3: Max | F3: Units
A4: VIN Supply
A5: VIN shutdown current | B5: UVLO = 0V | D5: =9*(10^-6) -> 9e-06 | E5: =17*(10^-6) -> 1.7e-05 | F5: A
A6: VIN operating current (no RT resistor) | B6: UVLO = 2 V, no Switching | D6: =4*(10^-3) -> 0.004 | E6: =5*(10^-3) -> 0.005 | F6: A
A7: VIN Minimum operation voltage | E7: 3 | F7: V
A8: VIN Minimum start-up voltage | E8: 4.5 | F8: V
A9: VCC Regulator
A10: Vcc regulation | B10: No load | C10: 6.9 | D10: 7.6 | E10: 8.3 | F10: V
A11: Vcc dropout (VIN to VCC) | B11: VIN=4.5V, no external load | E11: 0.25 | F11: V
B12: VIN=4.5V, IVCC = 25mA | D12: 0.28 | E12: 0.5 | F12: V
A13: VCC sourcing current limit | B13: VCC=0V | C13: =50*(10^-3) -> 0.05 | D13: =62*(10^-3) -> 0.062 | F13: A
A14: VCC operating current | B14: VCC = 8.3V | D14: =3.5*(10^-3) -> 0.0035 | E14: =5*(10^-3) -> 0.005 | F14: A
B15: VCC= 12V | D15: =4.5*(10^-3) -> 0.0045 | E15: =8*(10^-3) -> 0.008 | F15: A
A16: VCC undervoltage threshold | B16: VCC rising, VIN = 4.5V | C16: 3.9 | D16: 4 | E16: 4.1 | F16: V
B17: VCC falling, VIN = 4.5V | E17: 3.7 | F17: V
A18: VCC undervoltage hysteresis | D18: 0.385 | F18: V
A19: Undervoltage Lockout
A20: UVLO threshold | B20: UVLO rising | C20: 1.17 | D20: 1.2 | E20: 1.23 | F20: V
A21: UVLO hysteresis current | B21: UVLO = 1.4V | C21: =7.5*(10^-6) -> 7.5e-06 | D21: =10*(10^-6) -> 1e-05 | E21: =13*(10^-6) -> 1.3e-05 | F21: A
A22: UVLO standby enable threshold | B22: UVLO rising | C22: 0.3 | D22: 0.4 | E22: 0.5 | F22: V
A23: UVLO standy enable hystersis | D23: 0.1 | E23: 0.125 | F23: V
A24: MODE
A25: diode emulation mode threshold | B25: Mode rising | C25: 1.2 | D25: 1.24 | E25: 1.28 | F25: V
A26: diode emulation mode hystersis | D26: 0.1 | F26: V
A27: Default MODE voltage | C27: =145*(10^-3) -> 0.145 | D27: =155*(10^-3) -> 0.155 | E27: =170*(10^-3) -> 0.17 | F27: V
A28: Default skip cycle threshold | B28: COMP rising, measured at comp | D28: 1.29 | F28: V
B29: COMP falling, measured at COMP | D29: 1.245 | F29: V
A30: skip cycle hysteresis | D30: =40*(10^-3) -> 0.04 | F30: V
A31: ERROR AMPLIFIER
A32: FB reference voltage | B32: mearued at FB, VFB=VCOMP | C32: 1.188 | D32: 1.2 | E32: 1.212 | F32: V
A33: FB input bias current | B33: VFB=VREF | D33: =5*(10^-9) -> 5e-09 | F33: A
A34: COMP output high voltage | B34: I source - 2mA, VCC =4.5V | C34: 2.75 | F34: V
B35: I source - 2mA, VCC =12V | C35: 3.4 | F35: V
A36: COMP output low voltage | B36: Isink = 2mA | E36: 0.25 | F36: V
A37: DC gain | D37: 80 | F37: dB
A38: Unity gain bandwidth | D38: =3*(10^6) -> 3000000 | F38: Hz
A39: slave mode threshold | B39: FB rising | D39: 2.7 | E39: 3.4 | F39: V
A40: Oscillator
A41: switching frequency 1 | B41: RT =20kOhm | C41: =400*(10^3) -> 400000 | D41: =450*(10^3) -> 450000 | E41: =500*(10^3) -> 500000 | F41: Hz
A42: switching frequency 2 | B42: RT = 10kOhm | C42: =775*(10^3) -> 775000 | D42: =875*(10^3) -> 875000 | E42: =975*(10^3) -> 975000 | F42: Hz
A43: Switching Freqeuncy Range | C43: 25000 | E43: =1*(10^6) -> 1000000 | F43: Hz
A44: RT output voltage | D44: 1.2 | F44: V
A45: RT SYNC rising threshold | B45: RT rising | D45: 2.5 | E45: 2.9 | F45: V
A46: RT SYNC falling Threshold | B46: RT falling | C46: 1.6 | D46: 2 | F46: V
A47: Minimum sync pulse width | C47: =100*(10^-9) -> 1e-07 | F47: s
A48: SYNCOUT
A49: SYNCOUT high-state voltage | B49: ISYNCOUT = –1 mA | C49: 3.3 | D49: 4.3 | F49: V
A50: SYNCOUT low-state voltage | B50: ISYNCOUT = 1 mA | D50: 0.15 | E50: 0.25 | F50: V
A51: OPT
A52: Synchronization selection threshold | B52: OPT rising | C52: 2 | D52: 3 | E52: 4 | F52: V
A53: SLOPE COMPENSATION
A54: SLOPE output voltage | C54: 1.17 | D54: 1.2 | E54: 1.23 | F54: V
A55: Slope compensation amplitude | B55: RSLOPE = 20 kΩ, fSW = 100 kHz, 50% duty cycle, TJ = –40°C to 125°C | C55: 1.375 | D55: 1.65 | E55: 1.925 | F55: V
B56: RSLOPE= 20 kΩ, fSW= 100 kHz, 50% duty cycle, TJ = 25°C | C56: 1.4 | D56: 1.65 | E56: 1.9 | F56: V
A57: SOFT START
A58: SS current source | B58: VSS = 0 V | C58: =7.5*(10^-6) -> 7.5e-06 | D58: =10*(10^-6) -> 1e-05 | E58: =12*(10^-6) -> 1.2e-05 | F58: A
A59: SS discharge switch RDS-ON | D59: 13 | F59: Ohm
A60: PWM COMPARATOR
A61: Forced LO off-time | B61: VVCC = 5.5 V | D61: =300*(10^-9) -> 3e-07 | E61: =400*(10^-9) -> 4e-07 | F61: s
B62: VVCC = 4.5 V | D62: =560*(10^-9) -> 5.6e-07 | E62: =750*(10^-9) -> 7.5e-07 | F62: s
A63: Minimum LO on-time | B63: RSLOPE = 20 kΩ | D63: =150*(10^-9) -> 1.5e-07 | F63: s
B64: RSLOPE = 200 kΩ | D64: =300*(10^-9) -> 3e-07 | F64: s
A65: Minimum LO on-time | B65: TJ = –40°C to 125°C | C65: 0.95 | D65: 1.1 | E65: 1.25 | F65: V
B66: TJ = 25°C | C66: 1 | D66: 1.1 | E66: 1.2 | F66: V
A67: CURRENT SENSE / CYCLE-BY-CYCLE CURRENT LIMIT
A68: Cycle-by-cycle current limit threshold | B68: CSP to CSN, TJ = –40°C to 125°C | C68: =65.5*(10^-3) -> 0.0655 | D68: =75*(10^-3) -> 0.075 | E68: =87.5*(10^-3) -> 0.0875 | F68: V
B69: CSP to CSN, TJ = 25°C | C69: =67*(10^-3) -> 0.067 | D69: =75*(10^-3) -> 0.075 | E69: =86*(10^-3) -> 0.086 | F69: V
A70: Zero cross detection threshold | B70: CSP to CSN, rising | D70: =7*(10^-3) -> 0.007 | F70: V
B71: CSP to CSN, falling | C71: =5*(10^-3) -> 0.005 | D71: =6*(10^-3) -> 0.006 | E71: =12*(10^-3) -> 0.012 | F71: V
A72: Current sense amplifier gain | D72: 10 | F72: V/V
A73: CSP input bias current | D73: =12*(10^-6) -> 1.2e-05 | F73: A
A74: CSN input bias current | D74: =11*(10^-6) -> 1.1e-05 | F74: A
A75: Bias current matching | B75: ICSP – ICSN | C75: =-1.75*(10^-6) -> -1.75e-06 | D75: =1*(10^-6) -> 1e-06 | E75: =3.75*(10^-6) -> 3.75e-06 | F75: A
A76: CS to LO delay | B76: Current sense / current limit delay | D76: =150*(10^-9) -> 1.5e-07 | F76: s
A77: HICCUP-MODE RESTART
A78: Restart threshold | B78: RES rising | C78: 1.15 | D78: 1.2 | E78: 1.25 | F78: V
A79: Hiccup counter upper threshold | B79: RES rising | D79: 4.2 | F79: V
B80: RES rising, VVIN = VVCC = 4.5 V | D80: 3.6 | F80: V
A81: Hiccup counter lower threshold | B81: RES falling | D81: 2.15 | F81: V
B82: RES falling, VVIN = VVCC = 4.5 V | D82: 1.85 | F82: V
A83: RES current source1 | B83: Fault-state charging current | C83: =20*(10^-6) -> 2e-05 | D83: =30*(10^-6) -> 3e-05 | E83: =40*(10^-6) -> 4e-05 | F83: A
A84: RES current sink1 | B84: Normal-state discharging current | D84: =5*(10^-6) -> 5e-06 | F84: A
A85: RES current source2 | B85: Hiccup-mode off-time charging current | D85: =10*(10^-6) -> 1e-05 | F85: A
A86: RES current sink2 | B86: Hiccup-mode off-time discharging current | D86: =5*(10^-6) -> 5e-06 | F86: A
A87: Hiccup cycle | D87: 8 | F87: Cycles
A88: RES discharge switch RDS-ON | D88: 40 | F88: Ohm
A89: Ratio of hiccup mode off-time to restart delay time | D89: 122
A90: HO GATE DRIVER
A91: HO high-state voltage drop | B91: IHO = –100 mA, VOHH = VBST –VHO | D91: 0.15 | E91: 0.24 | F91: V
A92: HO low-state voltage drop | B92: IHO = 100 mA, VOLH = VHO –VSW | D92: 0.1 | E92: 0.18 | F92: V
A93: HO rise time (10% to 90%) | B93: CLOAD = 4700 pF, VBST = 12 V | D93: =25*(10^-9) -> 2.5e-08 | F93: s
A94: HO fall time (90% to 10%) | B94: CLOAD = 4700 pF, VBST = 12 V | D94: =20*(10^-9) -> 2e-08 | F94: s
A95: Peak HO source current | B95: VHO = 0 V, VSW = 0 V, VBST = 4.5 V | D95: 0.8 | F95: A
B96: VHO = 0 V, VSW = 0 V, VBST = 7.6 V | D96: 1.9 | F96: A
A97: Peak HO sink current | B97: VHO = VBST = 4.5 V | D97: 1.9 | F97: A
B98: VHO = VBST= 7.6 V | D98: 3.2 | F98: A
A99: BST charge pump sourcing current | B99: VVIN = VSW = 9. V , VBST - VSW = 5 V | C99: =100*(10^-6) -> 0.0001 | D99: =200*(10^-6) -> 0.0002 | F99: A
A100: BST charge pump regulation | B100: BST to SW, IBST= –70 μA, VVIN = VSW = 9 V | C100: 5.3 | D100: 6.2 | E100: 6.75 | F100: V
B101: BST to SW, IBST = –70 μA, VVIN = VSW = 12 V | C101: 7 | D101: 8.5 | E101: 9 | F101: V
...

Sheet Control_Loop_Tables
C2: Input from user =
C3: Output = | N3: Operating mode
C4: Constant | O4: CCM Plant Transfer Function | AE4: DCM Operation Loop Model | AR4: Error Amplifier | BE4: CCM Open Loop Response | BH4: DCM Open Loop Response | BK4: Displayed Loop Calclation
A5: Variable Name | B5: Value | C5: STD Units | E5: Notes | P5: wp_lf | S5: wz_esr | V5: wz_esr | Y5: Sampling | AB5: Total | AF5: wp_lf | AI5: wz_esr | AL5: wz_RHP | AO5: Total | AS5: wp0_ea | AV5: wp1_ea | AY5: wz_ea | BB5: Total | BE5: Total | BH5: Total | BK5: Total
O6: ADC | P6: Complex | Q6: Gain | R6: Phase | S6: Complex | T6: Gain | U6: Phase | V6: Complex | W6: Gain | X6: Phase | Y6: Complex | Z6: Gain | AA6: Phase | AB6: COMPLEX | AC6: Gain | AD6: Phase | AE6: ADC | AF6: Complex | AG6: Gain | AH6: Phase | AI6: Complex | AJ6: Gain | AK6: Phase | AL6: Complex | AM6: Gain | AN6: Phase | AO6: COMPLEX | AP6: Gain | AQ6: Phase | AR6: ADC_ea | AS6: Complex | AT6: Gain | AU6: Phase | AV6: Complex | AW6: Gain | AX6: Phase | AY6: Complex | AZ6: Gain | BA6: Phase | BB6: COMPLEX | BC6: Gain | BD6: Phase | BE6: COMPLEX | BF6: Gain | BG6: Phase | BH6: COMPLEX | BI6: Gain | BJ6: Phase | BK6: Gain | BL6: Phase
M7: Frcoss (VIN)min | N7: =Fcross -> 1360 | O7: =COMPLEX(ADC_VINmin,0) -> 14.482707399797 | P7: =IMSUM(COMPLEX(1,0),IMDIV(COMPLEX(0,2*PI()*N7),COMPLEX(wp_lf_VINmin,0))) -> 1+30.0316129339691i | Q7: =IMABS(P7) -> 30.048257 | R7: =IMARGUMENT(P7) -> 1.5375104 | S7: =IMSUM(COMPLEX(1,0),IMDIV(COMPLEX(0,2*PI()*N7),COMPLEX(wz_esr_VINmin,0))) -> 1+0.466564208169928i | T7: =IMABS(S7) -> 1.1034864 | U7: =IMARGUMENT(S7) -> 0.43654302 | V7: =IMSUB(COMPLEX(1,0),IMDIV(COMPLEX(0,2*PI()*N7),COMPLEX(wz_RHP_VINmin,0))) -> 1-0.0594994377533213i | W7: =IMABS(V7) -> 1.0017685 | X7: =IMARGUMENT(V7) -> -0.059429374 | Y7: =IMSUM(COMPLEX(1,0),IMDIV(COMPLEX(0,2*PI()*N7),COMPLEX(Q_VINmin*(wsl_VINmin/2),0)),IMDIV(IMPOWER(COMPLEX(0,2*PI()*N7),2),IMPOWER(COMPLEX(wsl_VINmin/2,0),2))) -> 0.999562224852071+0.841366844826017i | Z7: =IMABS(Y7) -> 1.3065308 | AA7: =IMARGUMENT(Y7) -> 0.69967639 | AB7: =(IMDIV(IMPRODUCT(O7,S7,V7),IMPRODUCT(P7,Y7))) -> -0.116328126528938-0.390854227086358i | AC7: =20*LOG(IMABS(AB7)) -> -7.7910968 | AD7: =(180/PI())*IMARGUMENT(AB7) -> -106.57434 | AE7: =COMPLEX($B$67,0) -> 118.329284003155 | AF7: =IMSUM(COMPLEX(1,0),IMDIV(COMPLEX(0,2*PI()*N7),COMPLEX(wp_lf_DCM,0))) -> 1+198.537960923374i | AG7: =IMABS(AF7) -> 198.54048 | AH7: =IMARGUMENT(AF7) -> 1.5657595 | AI7: =IMSUM(COMPLEX(1,0),IMDIV(COMPLEX(0,2*PI()*N7),COMPLEX(wz1_dcm,0))) -> 1+0.466564208169928i | AJ7: =IMABS(AI7) -> 1.1034864 | AK7: =IMARGUMENT(AI7) -> 0.43654302 | AL7: =IMSUB(COMPLEX(1,0),IMDIV(COMPLEX(0,2*PI()*N7),COMPLEX(wz2_dcm,0))) -> 1-0.0324957096171546i | AM7: =IMABS(AL7) -> 1.0005278 | AN7: =IMARGUMENT(AL7) -> -0.032484279 | AO7: =(IMDIV(IMPRODUCT(AE7,AI7,AL7),IMPRODUCT(AF7))) -> 0.261747101431252-0.603721153690082i | AP7: =20*LOG(IMABS(AO7)) -> -3.6352135 | AQ7: =(180/PI())*IMARGUMENT(AO7) -> -66.560553 | AR7: =COMPLEX(adc_ea,0) -> -1.94444444444444 | AS7: =IMSUM(COMPLEX(1,0), IMDIV(COMPLEX(0,2*PI()*N7), COMPLEX(wp0_ea,0))) -> 1+0.478527392994796i | AT7: =IMABS(AS7) -> 1.1085975 | AU7: =IMARGUMENT(AS7) -> 0.44632244 | AV7: =IMSUM(COMPLEX(1,0),IMDIV(COMPLEX(0,2*PI()*N7),COMPLEX(wp1_ea,0))) -> 1+0.478527392994796i | AW7: =IMABS(AV7) -> 1.1085975 | AX7: =IMARGUMENT(AV7) -> 0.44632244 | AY7: =IMSUM(COMPLEX(1,0),IMDIV(COMPLEX(wz_ea,0),COMPLEX(0,2*PI()*N7))) -> 1-0.00444626494870528i | AZ7: =IMABS(AY7) -> 1.0000099 | BA7: =IMARGUMENT(AY7) -> -0.0044462356 | BB7: =IMDIV(IMPRODUCT(AR7,AY7), AS7) -> -1.57878400206866+0.764136907789845i | BC7: =20*LOG(IMABS(BB7)) -> 4.8805186 | BD7: =(180/PI())*IMARGUMENT(BB7) -> 154.17286 | BE7: =IMPRODUCT(AB7,BB7) -> 0.482323125636866+0.528183785970045i | BF7: =20*LOG(IMABS(BE7)) -> -2.9105783 | BG7: =(180/PI())*IMARGUMENT(BE7) -> 47.598518 | BH7: =IMPRODUCT(AO7,BB7) -> 0.0480834792205534+1.15315591986697i | BI7: =20*LOG(IMABS(BH7)) -> 1.245305 | BJ7: =(180/PI())*IMARGUMENT(BH7) -> 87.612304 | BK7: =IF($B$19=0,BF7,BI7) -> -2.9105783 | BL7: =IF($B$19=0,BG7,BJ7) -> 47.598518
A8: Input Parameters | M8: Fcross (VINvar) | N8: =Fcross -> 1360 | O8: =COMPLEX(adc,0) -> 99.7340425531915 | P8: =IMSUM(COMPLEX(1,0),IMDIV(COMPLEX(0,2*PI()*N8),COMPLEX(wp_lf,0))) -> 1+248.172451154217i | Q8: =IMABS(P8) -> 248.17447 | R8: =IMARGUMENT(P8) -> 1.5667669 | S8: =IMSUM(COMPLEX(1,0),IMDIV(COMPLEX(0,2*PI()*N8),COMPLEX(wz_esr,0))) -> 1+0.466564208169928i | T8: =IMABS(S8) -> 1.1034864 | U8: =IMARGUMENT(S8) -> 0.43654302 | V8: =IMSUB(COMPLEX(1,0),IMDIV(COMPLEX(0,2*PI()*N8),COMPLEX(wz_rhp,0))) -> 1-0.0481945445801903i | W8: =IMABS(V8) -> 1.0011607 | X8: =IMARGUMENT(V8) -> -0.048157282 | Y8: =IMSUM(COMPLEX(1,0),IMDIV(COMPLEX(0,2*PI()*N8),COMPLEX(Q*(wsl/2),0)),IMDIV(IMPOWER(COMPLEX(0,2*PI()*N8),2),IMPOWER(COMPLEX(wsl/2,0),2))) -> 0.999562224852071+0.0744960227189704i | Z8: =IMABS(Y8) -> 1.0023344 | AA8: =IMARGUMENT(Y8) -> 0.074391117 | AB8: =(IMDIV(IMPRODUCT(O8,S8,V8),IMPRODUCT(P8,Y8))) -> 0.138502898864512-0.420728383296876i | AC8: =20*LOG(IMABS(AB8)) -> -7.0731112 | AD8: =(180/PI())*IMARGUMENT(AB8) -> -71.778564 | AE8: =COMPLEX($B$67,0) -> 118.329284003155 | AF8: =IMSUM(COMPLEX(1,0),IMDIV(COMPLEX(0,2*PI()*N8),COMPLEX(wp_lf_DCM,0))) -> 1+198.537960923374i | AG8: =IMABS(AF8) -> 198.54048 | AH8: =IMARGUMENT(AF8) -> 1.5657595 | AI8: =IMSUM(COMPLEX(1,0),IMDIV(COMPLEX(0,2*PI()*N8),COMPLEX(wz1_dcm,0))) -> 1+0.466564208169928i | AJ8: =IMABS(AI8) -> 1.1034864 | AK8: =IMARGUMENT(AI8) -> 0.43654302 | AL8: =IMSUB(COMPLEX(1,0),IMDIV(COMPLEX(0,2*PI()*N8),COMPLEX(wz2_dcm,0))) -> 1-0.0324957096171546i | AM8: =IMABS(AL8) -> 1.0005278 | AN8: =IMARGUMENT(AL8) -> -0.032484279 | AO8: =(IMDIV(IMPRODUCT(AE8,AI8,AL8),IMPRODUCT(AF8))) -> 0.261747101431252-0.603721153690082i | AP8: =20*LOG(IMABS(AO8)) -> -3.6352135 | AQ8: =(180/PI())*IMARGUMENT(AO8) -> -66.560553 | AR8: =COMPLEX(adc_ea,0) -> -1.94444444444444 | AS8: =IMSUM(COMPLEX(1,0), IMDIV(COMPLEX(0,2*PI()*N8), COMPLEX(wp0_ea,0))) -> 1+0.478527392994796i | AT8: =IMABS(AS8) -> 1.1085975 | AU8: =IMARGUMENT(AS8) -> 0.44632244 | AV8: =IMSUM(COMPLEX(1,0),IMDIV(COMPLEX(0,2*PI()*N8),COMPLEX(wp1_ea,0))) -> 1+0.478527392994796i | AW8: =IMABS(AV8) -> 1.1085975 | AX8: =IMARGUMENT(AV8) -> 0.44632244 | AY8: =IMSUM(COMPLEX(1,0),IMDIV(COMPLEX(wz_ea,0),COMPLEX(0,2*PI()*N8))) -> 1-0.00444626494870528i | AZ8: =IMABS(AY8) -> 1.0000099 | BA8: =IMARGUMENT(AY8) -> -0.0044462356 | BB8: =IMDIV(IMPRODUCT(AR8,AY8), AS8) -> -1.57878400206866+0.764136907789845i | BC8: =20*LOG(IMABS(BB8)) -> 4.8805186 | BD8: =(180/PI())*IMARGUMENT(BB8) -> 154.17286 | BE8: =IMPRODUCT(AB8,BB8) -> 0.10282792486447+0.770074417623577i | BF8: =20*LOG(IMABS(BE8)) -> -2.1925927 | BG8: =(180/PI())*IMARGUMENT(BE8) -> 82.394294 | BH8: =IMPRODUCT(AO8,BB8) -> 0.0480834792205534+1.15315591986697i | BI8: =20*LOG(IMABS(BH8)) -> 1.245305 | BJ8: =(180/PI())*IMARGUMENT(BH8) -> 87.612304 | BK8: =IF($B$19=0,BF8,BI8) -> -2.1925927 | BL8: =IF($B$19=0,BG8,BJ8) -> 82.394294
A9: VIN_min | B9: =VIN_MIN -> 18 | C9: V | E9: Minimum input voltage | M9: wz_RHP | N9: =wz_rhp/(2*PI()) -> 28218.962 | O9: =COMPLEX(adc,0) -> 99.7340425531915 | P9: =IMSUM(COMPLEX(1,0),IMDIV(COMPLEX(0,2*PI()*N9),COMPLEX(wp_lf,0))) -> 1+5149.38886373925i | Q9: =IMABS(P9) -> 5149.389 | R9: =IMARGUMENT(P9) -> 1.5706021 | S9: =IMSUM(COMPLEX(1,0),IMDIV(COMPLEX(0,2*PI()*N9),COMPLEX(wz_esr,0))) -> 1+9.68085106382979i | T9: =IMABS(S9) -> 9.7323624 | U9: =IMARGUMENT(S9) -> 1.4678647 | V9: =IMSUB(COMPLEX(1,0),IMDIV(COMPLEX(0,2*PI()*N9),COMPLEX(wz_rhp,0))) -> 1-i | W9: =IMABS(V9) -> 1.4142136 | X9: =IMARGUMENT(V9) -> -0.78539816 | Y9: =IMSUM(COMPLEX(1,0),IMDIV(COMPLEX(0,2*PI()*N9),COMPLEX(Q*(wsl/2),0)),IMDIV(IMPOWER(COMPLEX(0,2*PI()*N9),2),IMPOWER(COMPLEX(wsl/2,0),2))) -> 0.811524309950534+1.54573558828878i | Z9: =IMABS(Y9) -> 1.7458151 | AA9: =IMARGUMENT(Y9) -> 1.0873427 | AB9: =(IMDIV(IMPRODUCT(O9,S9,V9),IMPRODUCT(P9,Y9))) -> -0.0601197702765647-0.140360804175084i | AC9: =20*LOG(IMABS(AB9)) -> -16.323545 | AD9: =(180/PI())*IMARGUMENT(AB9) -> -113.18657 | AE9: =COMPLEX($B$67,0) -> 118.329284003155 | AF9: =IMSUM(COMPLEX(1,0),IMDIV(COMPLEX(0,2*PI()*N9),COMPLEX(wp_lf_DCM,0))) -> 1+4119.5110909914i | AG9: =IMABS(AF9) -> 4119.5112 | AH9: =IMARGUMENT(AF9) -> 1.5705536 | AI9: =IMSUM(COMPLEX(1,0),IMDIV(COMPLEX(0,2*PI()*N9),COMPLEX(wz1_dcm,0))) -> 1+9.68085106382979i | AJ9: =IMABS(AI9) -> 9.7323624 | AK9: =IMARGUMENT(AI9) -> 1.4678647 | AL9: =IMSUB(COMPLEX(1,0),IMDIV(COMPLEX(0,2*PI()*N9),COMPLEX(wz2_dcm,0))) -> 1-0.674261161718945i | AM9: =IMABS(AL9) -> 1.2060796 | AN9: =IMARGUMENT(AL9) -> -0.59324192 | AO9: =(IMDIV(IMPRODUCT(AE9,AI9,AL9),IMPRODUCT(AF9))) -> 0.258758737761061-0.216155670807344i | AP9: =20*LOG(IMABS(AO9)) -> -9.4431839 | AQ9: =(180/PI())*IMARGUMENT(AO9) -> -39.873898 | AR9: =COMPLEX(adc_ea,0) -> -1.94444444444444 | AS9: =IMSUM(COMPLEX(1,0), IMDIV(COMPLEX(0,2*PI()*N9), COMPLEX(wp0_ea,0))) -> 1+9.92907801418437i | AT9: =IMABS(AS9) -> 9.9793081 | AU9: =IMARGUMENT(AS9) -> 1.4704205 | AV9: =IMSUM(COMPLEX(1,0),IMDIV(COMPLEX(0,2*PI()*N9),COMPLEX(wp1_ea,0))) -> 1+9.92907801418437i | AW9: =IMABS(AV9) -> 9.9793081 | AX9: =IMARGUMENT(AV9) -> 1.4704205 | AY9: =IMSUM(COMPLEX(1,0),IMDIV(COMPLEX(wz_ea,0),COMPLEX(0,2*PI()*N9))) -> 1-0.000214285714285715i | AZ9: =IMABS(AY9) -> 1 | BA9: =IMARGUMENT(AY9) -> -0.00021428571 | BB9: =IMDIV(IMPRODUCT(AR9,AY9), AS9) -> -0.0194836204802208+0.19387105441354i | BC9: =20*LOG(IMABS(BB9)) -> -14.206098 | BD9: =(180/PI())*IMARGUMENT(BB9) -> 95.738833 | BE9: =IMPRODUCT(AB9,BB9) -> 0.0283832478911826-0.00892074661577147i | BF9: =20*LOG(IMABS(BE9)) -> -30.529642 | BG9: =(180/PI())*IMARGUMENT(BE9) -> -17.447735 | BH9: =IMPRODUCT(AO9,BB9) -> 0.0368647707744083+0.0543773243831114i | BI9: =20*LOG(IMABS(BH9)) -> -23.649282 | BJ9: =(180/PI())*IMARGUMENT(BH9) -> 55.864935 | BK9: =IF($B$19=0,BF9,BI9) -> -30.529642 | BL9: =IF($B$19=0,BG9,BJ9) -> -17.447735
A10: VIN_nom | B10: =VIN_TYP -> 20 | C10: V | E10: Nominal input voltage | M10: wz_esr | N10: =wz_esr/(2*PI()) -> 2914.9257 | O10: =COMPLEX(adc,0) -> 99.7340425531915 | P10: =IMSUM(COMPLEX(1,0),IMDIV(COMPLEX(0,2*PI()*N10),COMPLEX(wp_lf,0))) -> 1+531.914893617021i | Q10: =IMABS(P10) -> 531.91583 | R10: =IMARGUMENT(P10) -> 1.5689163 | S10: =IMSUM(COMPLEX(1,0),IMDIV(COMPLEX(0,2*PI()*N10),COMPLEX(wz_esr,0))) -> 1+i | T10: =IMABS(S10) -> 1.4142136 | U10: =IMARGUMENT(S10) -> 0.78539816 | V10: =IMSUB(COMPLEX(1,0),IMDIV(COMPLEX(0,2*PI()*N10),COMPLEX(wz_rhp,0))) -> 1-0.103296703296703i | W10: =IMABS(V10) -> 1.0053209 | X10: =IMARGUMENT(V10) -> -0.10293164 | Y10: =IMSUM(COMPLEX(1,0),IMDIV(COMPLEX(0,2*PI()*N10),COMPLEX(Q*(wsl/2),0)),IMDIV(IMPOWER(COMPLEX(0,2*PI()*N10),2),IMPOWER(COMPLEX(wsl/2,0),2))) -> 0.997988925012345+0.159669390438621i | Z10: =IMABS(Y10) -> 1.0106811 | AA10: =IMARGUMENT(Y10) -> 0.15864663 | AB10: =(IMDIV(IMPRODUCT(O10,S10,V10),IMPRODUCT(P10,Y10))) -> 0.132358790479459-0.228143775556739i | AC10: =20*LOG(IMABS(AB10)) -> -11.575878 | AD10: =(180/PI())*IMARGUMENT(AB10) -> -59.879615 | AE10: =COMPLEX($B$67,0) -> 118.329284003155 | AF10: =IMSUM(COMPLEX(1,0),IMDIV(COMPLEX(0,2*PI()*N10),COMPLEX(wp_lf_DCM,0))) -> 1+425.531914893617i | AG10: =IMABS(AF10) -> 425.53309 | AH10: =IMARGUMENT(AF10) -> 1.5684463 | AI10: =IMSUM(COMPLEX(1,0),IMDIV(COMPLEX(0,2*PI()*N10),COMPLEX(wz1_dcm,0))) -> 1+i | AJ10: =IMABS(AI10) -> 1.4142136 | AK10: =IMARGUMENT(AI10) -> 0.78539816 | AL10: =IMSUB(COMPLEX(1,0),IMDIV(COMPLEX(0,2*PI()*N10),COMPLEX(wz2_dcm,0))) -> 1-0.0696489551665723i | AM10: =IMABS(AL10) -> 1.0024226 | AN10: =IMARGUMENT(AL10) -> -0.06953666 | AO10: =(IMDIV(IMPRODUCT(AE10,AI10,AL10),IMPRODUCT(AF10))) -> 0.259403821223591-0.296831769269145i | AP10: =20*LOG(IMABS(AO10)) -> -8.0855055 | AQ10: =(180/PI())*IMARGUMENT(AO10) -> -48.849512 | AR10: =COMPLEX(adc_ea,0) -> -1.94444444444444 | AS10: =IMSUM(COMPLEX(1,0), IMDIV(COMPLEX(0,2*PI()*N10), COMPLEX(wp0_ea,0))) -> 1+1.02564102564102i | AT10: =IMABS(AS10) -> 1.4324593 | AU10: =IMARGUMENT(AS10) -> 0.79805572 | AV10: =IMSUM(COMPLEX(1,0),IMDIV(COMPLEX(0,2*PI()*N10),COMPLEX(wp1_ea,0))) -> 1+1.02564102564102i | AW10: =IMABS(AV10) -> 1.4324593 | AX10: =IMARGUMENT(AV10) -> 0.79805572 | AY10: =IMSUM(COMPLEX(1,0),IMDIV(COMPLEX(wz_ea,0),COMPLEX(0,2*PI()*N10))) -> 1-0.00207446808510639i | AZ10: =IMABS(AY10) -> 1.0000022 | BA10: =IMARGUMENT(AY10) -> -0.0020744651 | BB10: =IMDIV(IMPRODUCT(AR10,AY10), AS10) -> -0.945596746814649+0.973876505189051i | BC10: =20*LOG(IMABS(BB10)) -> 2.6542839 | BD10: =(180/PI())*IMARGUMENT(BB10) -> 134.15592 | BE10: =IMPRODUCT(AB10,BB10) -> 0.0970258211301341+0.344633128275649i | BF10: =20*LOG(IMABS(BE10)) -> -8.9215939 | BG10: =(180/PI())*IMARGUMENT(BE10) -> 74.276303 | BH10: =IMPRODUCT(AO10,BB10) -> 0.0437860766246012+0.533310442218056i | BI10: =20*LOG(IMABS(BH10)) -> -5.4312215 | BJ10: =(180/PI())*IMARGUMENT(BH10) -> 85.306405 | BK10: =IF($B$19=0,BF10,BI10) -> -8.9215939 | BL10: =IF($B$19=0,BG10,BJ10) -> 74.276303
A11: VIN_max | B11: =VIN_MAX -> 60 | C11: V | E11: Maximum input voltage | M11: wp_lf | N11: =wp_lf/(2*PI()) -> 5.4800603 | O11: =COMPLEX(adc,0) -> 99.7340425531915 | P11: =IMSUM(COMPLEX(1,0),IMDIV(COMPLEX(0,2*PI()*N11),COMPLEX(wp_lf,0))) -> 1+i | Q11: =IMABS(P11) -> 1.4142136 | R11: =IMARGUMENT(P11) -> 0.78539816 | S11: =IMSUM(COMPLEX(1,0),IMDIV(COMPLEX(0,2*PI()*N11),COMPLEX(wz_esr,0))) -> 1+0.00188i | T11: =IMABS(S11) -> 1.0000018 | U11: =IMARGUMENT(S11) -> 0.0018799978 | V11: =IMSUB(COMPLEX(1,0),IMDIV(COMPLEX(0,2*PI()*N11),COMPLEX(wz_rhp,0))) -> 1-0.000194197802197802i | W11: =IMABS(V11) -> 1 | X11: =IMARGUMENT(V11) -> -0.0001941978 | Y11: =IMSUM(COMPLEX(1,0),IMDIV(COMPLEX(0,2*PI()*N11),COMPLEX(Q*(wsl/2),0)),IMDIV(IMPOWER(COMPLEX(0,2*PI()*N11),2),IMPOWER(COMPLEX(wsl/2,0),2))) -> 0.999999992892057+0.000300178454024608i | Z11: =IMABS(Y11) -> 1 | AA11: =IMARGUMENT(Y11) -> 0.00030017845 | AB11: =(IMDIV(IMPRODUCT(O11,S11,V11),IMPRODUCT(P11,Y11))) -> 49.9361574959037-49.7979636610919i | AC11: =20*LOG(IMABS(AB11)) -> 36.966584 | AD11: =(180/PI())*IMARGUMENT(AB11) -> -44.92061 | AE11: =COMPLEX($B$67,0) -> 118.329284003155 | AF11: =IMSUM(COMPLEX(1,0),IMDIV(COMPLEX(0,2*PI()*N11),COMPLEX(wp_lf_DCM,0))) -> 1+0.8i | AG11: =IMABS(AF11) -> 1.2806248 | AH11: =IMARGUMENT(AF11) -> 0.67474094 | AI11: =IMSUM(COMPLEX(1,0),IMDIV(COMPLEX(0,2*PI()*N11),COMPLEX(wz1_dcm,0))) -> 1+0.00188i | AJ11: =IMABS(AI11) -> 1.0000018 | AK11: =IMARGUMENT(AI11) -> 0.0018799978 | AL11: =IMSUB(COMPLEX(1,0),IMDIV(COMPLEX(0,2*PI()*N11),COMPLEX(wz2_dcm,0))) -> 1-0.000130940035713156i | AM11: =IMABS(AL11) -> 1 | AN11: =IMARGUMENT(AL11) -> -0.00013094003 | AO11: =(IMDIV(IMPRODUCT(AE11,AI11,AL11),IMPRODUCT(AF11))) -> 72.2529787454592-57.5954179831147i | AP11: =20*LOG(IMABS(AO11)) -> 39.313422 | AQ11: =(180/PI())*IMARGUMENT(AO11) -> -38.559595 | AR11: =COMPLEX(adc_ea,0) -> -1.94444444444444 | AS11: =IMSUM(COMPLEX(1,0), IMDIV(COMPLEX(0,2*PI()*N11), COMPLEX(wp0_ea,0))) -> 1+0.00192820512820512i | AT11: =IMABS(AS11) -> 1.0000019 | AU11: =IMARGUMENT(AS11) -> 0.0019282027 | AV11: =IMSUM(COMPLEX(1,0),IMDIV(COMPLEX(0,2*PI()*N11),COMPLEX(wp1_ea,0))) -> 1+0.00192820512820512i | AW11: =IMABS(AV11) -> 1.0000019 | AX11: =IMARGUMENT(AV11) -> 0.0019282027 | AY11: =IMSUM(COMPLEX(1,0),IMDIV(COMPLEX(wz_ea,0),COMPLEX(0,2*PI()*N11))) -> 1-1.10344047080127i | AZ11: =IMABS(AY11) -> 1.4891544 | BA11: =IMARGUMENT(AY11) -> -0.83453538 | BB11: =IMDIV(IMPRODUCT(AR11,AY11), AS11) -> -1.94030011461785+2.14931998985595i | BC11: =20*LOG(IMABS(BB11)) -> 9.2346893 | BD11: =(180/PI())*IMARGUMENT(BB11) -> 132.07417 | BE11: =IMPRODUCT(AB11,BB11) -> 10.140626638028+203.951776121893i | BF11: =20*LOG(IMABS(BE11)) -> 46.201273 | BG11: =(180/PI())*IMARGUMENT(BE11) -> 87.153557 | BH11: =IMPRODUCT(AO11,BB11) -> -16.4014797460783+267.047167658353i | BI11: =20*LOG(IMABS(BH11)) -> 48.548111 | BJ11: =(180/PI())*IMARGUMENT(BH11) -> 93.514572 | BK11: =IF($B$19=0,BF11,BI11) -> 46.201273 | BL11: =IF($B$19=0,BG11,BJ11) -> 87.153557 | BN11: XOVER SEARCH
A12: Fsw | B12: =fsw -> 130000 | C12: Hz | E12: Switching frequnecy | M12: wz_ea | N12: =wz_ea/(2*PI()) -> 6.0469203 | O12: =COMPLEX(adc,0) -> 99.7340425531915 | P12: =IMSUM(COMPLEX(1,0),IMDIV(COMPLEX(0,2*PI()*N12),COMPLEX(wp_lf,0))) -> 1+1.10344047080127i | Q12: =IMABS(P12) -> 1.4891544 | R12: =IMARGUMENT(P12) -> 0.83453538 | S12: =IMSUM(COMPLEX(1,0),IMDIV(COMPLEX(0,2*PI()*N12),COMPLEX(wz_esr,0))) -> 1+0.00207446808510639i | T12: =IMABS(S12) -> 1.0000022 | U12: =IMARGUMENT(S12) -> 0.0020744651 | V12: =IMSUB(COMPLEX(1,0),IMDIV(COMPLEX(0,2*PI()*N12),COMPLEX(wz_rhp,0))) -> 1-0.000214285714285715i | W12: =IMABS(V12) -> 1 | X12: =IMARGUMENT(V12) -> -0.00021428571 | Y12: =IMSUM(COMPLEX(1,0),IMDIV(COMPLEX(0,2*PI()*N12),COMPLEX(Q*(wsl/2),0)),IMDIV(IMPOWER(COMPLEX(0,2*PI()*N12),2),IMPOWER(COMPLEX(wsl/2,0),2))) -> 0.999999991345504+0.000331229054633311i | Z12: =IMABS(Y12) -> 1 | AA12: =IMARGUMENT(Y12) -> 0.00033122905 | AB12: =(IMDIV(IMPRODUCT(O12,S12,V12),IMPRODUCT(P12,Y12))) -> 45.0501723107125-49.5576946794935i | AC12: =20*LOG(IMABS(AB12)) -> 36.518092 | AD12: =(180/PI())*IMARGUMENT(AB12) -> -47.727753 | AE12: =COMPLEX($B$67,0) -> 118.329284003155 | AF12: =IMSUM(COMPLEX(1,0),IMDIV(COMPLEX(0,2*PI()*N12),COMPLEX(wp_lf_DCM,0))) -> 1+0.882752376641015i | AG12: =IMABS(AF12) -> 1.333886 | AH12: =IMARGUMENT(AF12) -> 0.72320389 | AI12: =IMSUM(COMPLEX(1,0),IMDIV(COMPLEX(0,2*PI()*N12),COMPLEX(wz1_dcm,0))) -> 1+0.00207446808510639i | AJ12: =IMABS(AI12) -> 1.0000022 | AK12: =IMARGUMENT(AI12) -> 0.0020744651 | AL12: =IMSUB(COMPLEX(1,0),IMDIV(COMPLEX(0,2*PI()*N12),COMPLEX(wz2_dcm,0))) -> 1-0.00014448453465406i | AM12: =IMABS(AL12) -> 1 | AN12: =IMARGUMENT(AL12) -> -0.00014448453 | AO12: =(IMDIV(IMPRODUCT(AE12,AI12,AL12),IMPRODUCT(AF12))) -> 66.618406427881-58.5791830305862i | AP12: =20*LOG(IMABS(AO12)) -> 38.959489 | AQ12: =(180/PI())*IMARGUMENT(AO12) -> -41.325951 | AR12: =COMPLEX(adc_ea,0) -> -1.94444444444444 | AS12: =IMSUM(COMPLEX(1,0), IMDIV(COMPLEX(0,2*PI()*N12), COMPLEX(wp0_ea,0))) -> 1+0.00212765957446808i | AT12: =IMABS(AS12) -> 1.0000023 | AU12: =IMARGUMENT(AS12) -> 0.0021276564 | AV12: =IMSUM(COMPLEX(1,0),IMDIV(COMPLEX(0,2*PI()*N12),COMPLEX(wp1_ea,0))) -> 1+0.00212765957446808i | AW12: =IMABS(AV12) -> 1.0000023 | AX12: =IMARGUMENT(AV12) -> 0.0021276564 | AY12: =IMSUM(COMPLEX(1,0),IMDIV(COMPLEX(wz_ea,0),COMPLEX(0,2*PI()*N12))) -> 1-i | AZ12: =IMABS(AY12) -> 1.4142136 | BA12: =IMARGUMENT(AY12) -> -0.78539816 | BB12: =IMDIV(IMPRODUCT(AR12,AY12), AS12) -> -1.94029854499929+1.94857273922103i | BC12: =20*LOG(IMABS(BB12)) -> 8.7861911 | BD12: =(180/PI())*IMARGUMENT(BB12) -> 134.87809 | BE12: =IMPRODUCT(AB12,BB12) -> 9.15598908465735+183.940260542005i | BF12: =20*LOG(IMABS(BE12)) -> 45.304283 | BG12: =(180/PI())*IMARGUMENT(BE12) -> 87.150342 | BH12: =IMPRODUCT(AO12,BB12) -> -15.1137979229494+243.471914297209i | BI12: =20*LOG(IMABS(BH12)) -> 47.745681 | BJ12: =(180/PI())*IMARGUMENT(BH12) -> 93.552143 | BK12: =IF($B$19=0,BF12,BI12) -> 45.304283 | BL12: =IF($B$19=0,BG12,BJ12) -> 87.150342 | BN12: xover | BO12: =SUM(BN19:BN559)/1000 -> 1.0471285
M13: wp1_ea | N13: =wp1_ea/(2*PI()) -> 2842.0526 | O13: =COMPLEX(adc,0) -> 99.7340425531915 | P13: =IMSUM(COMPLEX(1,0),IMDIV(COMPLEX(0,2*PI()*N13),COMPLEX(wp_lf,0))) -> 1+518.617021276597i | Q13: =IMABS(P13) -> 518.61799 | R13: =IMARGUMENT(P13) -> 1.5688681 | S13: =IMSUM(COMPLEX(1,0),IMDIV(COMPLEX(0,2*PI()*N13),COMPLEX(wz_esr,0))) -> 1+0.975000000000003i | T13: =IMABS(S13) -> 1.3966478 | U13: =IMARGUMENT(S13) -> 0.77274061 | V13: =IMSUB(COMPLEX(1,0),IMDIV(COMPLEX(0,2*PI()*N13),COMPLEX(wz_rhp,0))) -> 1-0.100714285714286i | W13: =IMABS(V13) -> 1.0050589 | X13: =IMARGUMENT(V13) -> -0.10037582 | Y13: =IMSUM(COMPLEX(1,0),IMDIV(COMPLEX(0,2*PI()*N13),COMPLEX(Q*(wsl/2),0)),IMDIV(IMPOWER(COMPLEX(0,2*PI()*N13),2),IMPOWER(COMPLEX(wsl/2,0),2))) -> 0.99808822183986+0.155677655677656i | Z13: =IMABS(Y13) -> 1.0101562 | AA13: =IMARGUMENT(Y13) -> 0.15472911 | AB13: =(IMDIV(IMPRODUCT(O13,S13,V13),IMPRODUCT(P13,Y13))) -> 0.132680277705381-0.231965465250065i | AC13: =20*LOG(IMABS(AB13)) -> -11.462286 | AD13: =(180/PI())*IMARGUMENT(AB13) -> -60.231182 | AE13: =COMPLEX($B$67,0) -> 118.329284003155 | AF13: =IMSUM(COMPLEX(1,0),IMDIV(COMPLEX(0,2*PI()*N13),COMPLEX(wp_lf_DCM,0))) -> 1+414.893617021278i | AG13: =IMABS(AF13) -> 414.89482 | AH13: =IMARGUMENT(AF13) -> 1.5683861 | AI13: =IMSUM(COMPLEX(1,0),IMDIV(COMPLEX(0,2*PI()*N13),COMPLEX(wz1_dcm,0))) -> 1+0.975000000000003i | AJ13: =IMABS(AI13) -> 1.3966478 | AK13: =IMARGUMENT(AI13) -> 0.77274061 | AL13: =IMSUB(COMPLEX(1,0),IMDIV(COMPLEX(0,2*PI()*N13),COMPLEX(wz2_dcm,0))) -> 1-0.0679077312874082i | AM13: =IMABS(AL13) -> 1.0023031 | AN13: =IMARGUMENT(AL13) -> -0.067803635 | AO13: =(IMDIV(IMPRODUCT(AE13,AI13,AL13),IMPRODUCT(AF13))) -> 0.259437687714653-0.303461966010345i | AP13: =20*LOG(IMABS(AO13)) -> -7.9751964 | AQ13: =(180/PI())*IMARGUMENT(AO13) -> -49.471989 | AR13: =COMPLEX(adc_ea,0) -> -1.94444444444444 | AS13: =IMSUM(COMPLEX(1,0), IMDIV(COMPLEX(0,2*PI()*N13), COMPLEX(wp0_ea,0))) -> 1+i | AT13: =IMABS(AS13) -> 1.4142136 | AU13: =IMARGUMENT(AS13) -> 0.78539816 | AV13: =IMSUM(COMPLEX(1,0),IMDIV(COMPLEX(0,2*PI()*N13),COMPLEX(wp1_ea,0))) -> 1+i | AW13: =IMABS(AV13) -> 1.4142136 | AX13: =IMARGUMENT(AV13) -> 0.78539816 | AY13: =IMSUM(COMPLEX(1,0),IMDIV(COMPLEX(wz_ea,0),COMPLEX(0,2*PI()*N13))) -> 1-0.00212765957446808i | AZ13: =IMABS(AY13) -> 1.0000023 | BA13: =IMARGUMENT(AY13) -> -0.0021276564 | BB13: =IMDIV(IMPRODUCT(AR13,AY13), AS13) -> -0.970153664302598+0.974290780141842i | BC13: =20*LOG(IMABS(BB13)) -> 2.7656305 | BD13: =(180/PI())*IMARGUMENT(BB13) -> 134.87809 | BE13: =IMPRODUCT(AB13,BB13) -> 0.0972815565078895+0.354311317379019i | BF13: =20*LOG(IMABS(BE13)) -> -8.6966555 | BG13: =(180/PI())*IMARGUMENT(BE13) -> 74.646912 | BH13: =IMPRODUCT(AO13,BB13) -> 0.0439657722130324+0.547172485463111i | BI13: =20*LOG(IMABS(BH13)) -> -5.2095659 | BJ13: =(180/PI())*IMARGUMENT(BH13) -> 85.406105 | BK13: =IF($B$19=0,BF13,BI13) -> -8.6966555 | BL13: =IF($B$19=0,BG13,BJ13) -> 74.646912
A14: VIN_VAR | B14: =LM5122_Quickstart!I82 -> 20 | C14: V | D14: Variable input voltage | BN14: phase margin | BO14: =SUM(BO19:BO559) -> 84.094187
A15: IOUT_VAR | B15: =B18 -> 3.76 | C15: A | D15: Variable output current (Can add this a different revision, not needed right now) | N15: Selected VIN | O15: =B14 -> 20 | P15: V
O16: CCM Plant Transfer Function | AE16: DCM Plant Transfer Function | AR16: Error Amplifier | BE16: CCM Open Loop Response | BH16: DCM Open Loop Response | BK16: Displayed Loop Calclation
A17: VOUT | B17: =VOUT -> 60 | C17: V | E17: Output Voltage | P17: wp_lf | S17: wz_esr | V17: wz_RHP | Y17: Sampling | AB17: Total | AF17: wp_lf | AI17: wz_esr | AL17: wz_RHP | AO17: Total | AS17: wp0_ea | AV17: wp1_ea | AY17: wz_ea | BB17: Total | BE17: Total | BH17: Total
A18: IOUT | B18: =IOUT_np -> 3.76 | C18: A | E18: Maximum Output current (per phase) | N18: Frequency | O18: ADC | P18: Complex | Q18: Gain | R18: Phase | S18: Complex | T18: Gain | U18: Phase | V18: Complex | W18: Gain | X18: Phase | Y18: Complex | Z18: Gain | AA18: Phase | AB18: COMPLEX | AC18: Gain | AD18: Phase | AE18: ADC | AF18: Complex | AG18: Gain | AH18: Phase | AI18: Complex | AJ18: Gain | AK18: Phase | AL18: Complex | AM18: Gain | AN18: Phase | AO18: COMPLEX | AP18: Gain | AQ18: Phase | AR18: ADC_ea | AS18: Complex | AT18: Gain | AU18: Phase | AV18: Complex | AW18: Gain | AX18: Phase | AY18: Complex | AZ18: Gain | BA18: Phase | BB18: COMPLEX | BC18: Gain | BD18: Phase | BE18: COMPLEX | BF18: Gain | BG18: Phase | BH18: COMPLEX | BI18: Gain | BJ18: Phase | BK18: Gain(dB) | BL18: Phase (deg) | BN18: Gain Cross | BO18: Phase Cross
A19: DEM_DCM_mode | B19: 0 | E19: ALWAYS SET TO CCM. (No DCM calculation for LM5122 required) | J19: Selection: | K19: =IF(Calculations!B17=2,1,0) -> 0 | M19: 1 | N19: =10^(1+(M19/100)) -> 10.23293 | O19: =COMPLEX(adc,0) -> 99.7340425531915 | P19: =IMSUM(COMPLEX(1,0),IMDIV(COMPLEX(0,2*PI()*N19),COMPLEX(wp_lf,0))) -> 1+1.86730242752388i | Q19: =IMABS(P19) -> 2.1182111 | R19: =IMARGUMENT(P19) -> 1.0791289 | S19: =IMSUM(COMPLEX(1,0),IMDIV(COMPLEX(0,2*PI()*N19),COMPLEX(wz_esr,0))) -> 1+0.0035105285637449i | T19: =IMABS(S19) -> 1.0000062 | U19: =IMARGUMENT(S19) -> 0.0035105141 | V19: =IMSUB(COMPLEX(1,0),IMDIV(COMPLEX(0,2*PI()*N19),COMPLEX(wz_rhp,0))) -> 1-0.000362626027463759i | W19: =IMABS(V19) -> 1.0000001 | X19: =IMARGUMENT(V19) -> -0.00036262601 | Y19: =IMSUM(COMPLEX(1,0),IMDIV(COMPLEX(0,2*PI()*N19),COMPLEX(Q*(wsl/2),0)),IMDIV(IMPOWER(COMPLEX(0,2*PI()*N19),2),IMPOWER(COMPLEX(wsl/2,0),2))) -> 0.999999975215892+0.000560523955890517i | Z19: =IMABS(Y19) -> 1.0000001 | AA19: =IMARGUMENT(Y19) -> 0.00056052391 | AB19: =(IMDIV(IMPRODUCT(O19,S19,V19),IMPRODUCT(P19,Y19))) -> 22.3356876267939-41.4494341477209i | AC19: =20*LOG(IMABS(AB19)) -> 33.457537 | AD19: =(180/PI())*IMARGUMENT(AB19) -> -61.681286 | AE19: =COMPLEX($B$67,0) -> 118.329284003155 | AF19: =IMSUM(COMPLEX(1,0),IMDIV(COMPLEX(0,2*PI()*N19),COMPLEX(wp_lf_DCM,0))) -> 1+1.49384194201911i | AG19: =IMABS(AF19) -> 1.7976551 | AH19: =IMARGUMENT(AF19) -> 0.98089354 | AI19: =IMSUM(COMPLEX(1,0),IMDIV(COMPLEX(0,2*PI()*N19),COMPLEX(wz1_dcm,0))) -> 1+0.0035105285637449i | AJ19: =IMABS(AI19) -> 1.0000062 | AK19: =IMARGUMENT(AI19) -> 0.0035105141 | AL19: =IMSUB(COMPLEX(1,0),IMDIV(COMPLEX(0,2*PI()*N19),COMPLEX(wz2_dcm,0))) -> 1-0.00024450464654724i | AM19: =IMABS(AL19) -> 1 | AN19: =IMARGUMENT(AL19) -> -0.00024450464 | AO19: =(IMDIV(IMPRODUCT(AE19,AI19,AL19),IMPRODUCT(AF19))) -> 36.7954075419627-54.5800567882109i | AP19: =20*LOG(IMABS(AO19)) -> 36.367771 | AQ19: =(180/PI())*IMARGUMENT(AO19) -> -56.013931 | AR19: =COMPLEX(adc_ea,0) -> -1.94444444444444 | AS19: =IMSUM(COMPLEX(1,0), IMDIV(COMPLEX(0,2*PI()*N19), COMPLEX(wp0_ea,0))) -> 1+0.00360054211666142i | AT19: =IMABS(AS19) -> 1.0000065 | AU19: =IMARGUMENT(AS19) -> 0.0036005266 | AV19: =IMSUM(COMPLEX(1,0),IMDIV(COMPLEX(0,2*PI()*N19),COMPLEX(wp1_ea,0))) -> 1+0.00360054211666142i | AW19: =IMABS(AV19) -> 1.0000065 | AX19: =IMARGUMENT(AV19) -> 0.0036005266 | AY19: =IMSUM(COMPLEX(1,0),IMDIV(COMPLEX(wz_ea,0),COMPLEX(0,2*PI()*N19))) -> 1-0.590927561886414i | AZ19: =IMABS(AY19) -> 1.1615487 | BA19: =IMARGUMENT(AY19) -> -0.53372188 | BB19: =IMDIV(IMPRODUCT(AR19,AY19), AS19) -> -1.94028217497425+1.15601188246834i | BC19: =20*LOG(IMABS(BB19)) -> 7.0766029 | BD19: =(180/PI())*IMARGUMENT(BB19) -> 149.21369 | BE19: =IMPRODUCT(AB19,BB19) -> 4.57850182829323+106.243918539267i | BF19: =20*LOG(IMABS(BE19)) -> 40.534139 | BG19: =(180/PI())*IMARGUMENT(BE19) -> 87.532408 | BH19: =IMPRODUCT(AO19,BB19) -> -8.29827918161474+148.436639634022i | BI19: =20*LOG(IMABS(BH19)) -> 43.444374 | BJ19: =(180/PI())*IMARGUMENT(BH19) -> 93.199762 | BK19: =IF($B$19=0,BF19,BI19) -> 40.534139 | BL19: =IF($B$19=0,BG19,BJ19) -> 87.532408 | BN19: =SUM((BK20<0)*(BK19>0))*N19 -> 0 | BO19: =IF(BN19>0,BL19,0) -> 0
A20: Component Selection | M20: 2 | N20: =10^(1+(M20/100)) -> 10.471285 | O20: =COMPLEX(adc,0) -> 99.7340425531915 | P20: =IMSUM(COMPLEX(1,0),IMDIV(COMPLEX(0,2*PI()*N20),COMPLEX(wp_lf,0))) -> 1+1.91079748855403i | Q20: =IMABS(P20) -> 2.1566518 | R20: =IMARGUMENT(P20) -> 1.0886502 | S20: =IMSUM(COMPLEX(1,0),IMDIV(COMPLEX(0,2*PI()*N20),COMPLEX(wz_esr,0))) -> 1+0.00359229927848158i | T20: =IMABS(S20) -> 1.0000065 | U20: =IMARGUMENT(S20) -> 0.0035922838 | V20: =IMSUB(COMPLEX(1,0),IMDIV(COMPLEX(0,2*PI()*N20),COMPLEX(wz_rhp,0))) -> 1-0.000371072672722273i | W20: =IMABS(V20) -> 1.0000001 | X20: =IMARGUMENT(V20) -> -0.00037107266 | Y20: =IMSUM(COMPLEX(1,0),IMDIV(COMPLEX(0,2*PI()*N20),COMPLEX(Q*(wsl/2),0)),IMDIV(IMPOWER(COMPLEX(0,2*PI()*N20),2),IMPOWER(COMPLEX(wsl/2,0),2))) -> 0.999999974047853+0.000573580236068252i | Z20: =IMABS(Y20) -> 1.0000001 | AA20: =IMARGUMENT(Y20) -> 0.00057358019 | AB20: =(IMDIV(IMPRODUCT(O20,S20,V20),IMPRODUCT(P20,Y20))) -> 21.5514354692865-40.9163684515074i | AC20: =20*LOG(IMABS(AB20)) -> 33.301323 | AD20: =(180/PI())*IMARGUMENT(AB20) -> -62.223364 | AE20: =COMPLEX($B$67,0) -> 118.329284003155 | AF20: =IMSUM(COMPLEX(1,0),IMDIV(COMPLEX(0,2*PI()*N20),COMPLEX(wp_lf_DCM,0))) -> 1+1.52863799084322i | AG20: =IMABS(AF20) -> 1.826673 | AH20: =IMARGUMENT(AF20) -> 0.99149024 | AI20: =IMSUM(COMPLEX(1,0),IMDIV(COMPLEX(0,2*PI()*N20),COMPLEX(wz1_dcm,0))) -> 1+0.00359229927848158i | AJ20: =IMABS(AI20) -> 1.0000065 | AK20: =IMARGUMENT(AI20) -> 0.0035922838 | AL20: =IMSUB(COMPLEX(1,0),IMDIV(COMPLEX(0,2*PI()*N20),COMPLEX(wz2_dcm,0))) -> 1-0.000250199891391873i | AM20: =IMABS(AL20) -> 1 | AN20: =IMARGUMENT(AL20) -> -0.00025019989 | AO20: =(IMDIV(IMPRODUCT(AE20,AI20,AL20),IMPRODUCT(AF20))) -> 35.6438104739019-54.0910146012801i | AP20: =20*LOG(IMABS(AO20)) -> 36.228685 | AQ20: =(180/PI())*IMARGUMENT(AO20) -> -56.616719 | AR20: =COMPLEX(adc_ea,0) -> -1.94444444444444 | AS20: =IMSUM(COMPLEX(1,0), IMDIV(COMPLEX(0,2*PI()*N20), COMPLEX(wp0_ea,0))) -> 1+0.00368440951639135i | AT20: =IMABS(AS20) -> 1.0000068 | AU20: =IMARGUMENT(AS20) -> 0.0036843928 | AV20: =IMSUM(COMPLEX(1,0),IMDIV(COMPLEX(0,2*PI()*N20),COMPLEX(wp1_ea,0))) -> 1+0.00368440951639135i | AW20: =IMABS(AV20) -> 1.0000068 | AX20: =IMARGUMENT(AV20) -> 0.0036843928 | AY20: =IMSUM(COMPLEX(1,0),IMDIV(COMPLEX(wz_ea,0),COMPLEX(0,2*PI()*N20))) -> 1-0.577476408364071i | AZ20: =IMABS(AY20) -> 1.1547636 | BA20: =IMARGUMENT(AY20) -> -0.52369337 | BB20: =IMDIV(IMPRODUCT(AR20,AY20), AS20) -> -1.94028098953624+1.13001958378357i | BC20: =20*LOG(IMABS(BB20)) -> 7.0257136 | BD20: =(180/PI())*IMARGUMENT(BB20) -> 149.78348 | BE20: =IMPRODUCT(AB20,BB20) -> 4.42045710923396+103.742796006262i | BF20: =20*LOG(IMABS(BE20)) -> 40.327037 | BG20: =(180/PI())*IMARGUMENT(BE20) -> 87.560116 | BH20: =IMPRODUCT(AO20,BB20) -> -8.03510205097503+145.22997121177i | BI20: =20*LOG(IMABS(BH20)) -> 43.254399 | BJ20: =(180/PI())*IMARGUMENT(BH20) -> 93.166761 | BK20: =IF($B$19=0,BF20,BI20) -> 40.327037 | BL20: =IF($B$19=0,BG20,BJ20) -> 87.560116 | BN20: =SUM((BK21<0)*(BK20>0))*N20 -> 0 | BO20: =IF(BN20>0,BL20,0) -> 0
A21: LM | B21: =Lm -> 1e-05 | C21: H | E21: filter Inductor | M21: 3 | N21: =10^(1+(M21/100)) -> 10.715193 | O21: =COMPLEX(adc,0) -> 99.7340425531915 | P21: =IMSUM(COMPLEX(1,0),IMDIV(COMPLEX(0,2*PI()*N21),COMPLEX(wp_lf,0))) -> 1+1.955305679705i | Q21: =IMABS(P21) -> 2.1961831 | R21: =IMARGUMENT(P21) -> 1.0980474 | S21: =IMSUM(COMPLEX(1,0),IMDIV(COMPLEX(0,2*PI()*N21),COMPLEX(wz_esr,0))) -> 1+0.00367597467784541i | T21: =IMABS(S21) -> 1.0000068 | U21: =IMARGUMENT(S21) -> 0.0036759581 | V21: =IMSUB(COMPLEX(1,0),IMDIV(COMPLEX(0,2*PI()*N21),COMPLEX(wz_rhp,0))) -> 1-0.000379716065623591i | W21: =IMABS(V21) -> 1.0000001 | X21: =IMARGUMENT(V21) -> -0.00037971605 | Y21: =IMSUM(COMPLEX(1,0),IMDIV(COMPLEX(0,2*PI()*N21),COMPLEX(Q*(wsl/2),0)),IMDIV(IMPOWER(COMPLEX(0,2*PI()*N21),2),IMPOWER(COMPLEX(wsl/2,0),2))) -> 0.999999972824766+0.000586940636079383i | Z21: =IMABS(Y21) -> 1.0000001 | AA21: =IMARGUMENT(Y21) -> 0.00058694058 | AB21: =(IMDIV(IMPRODUCT(O21,S21,V21),IMPRODUCT(P21,Y21))) -> 20.7874992317589-40.3757042494429i | AC21: =20*LOG(IMABS(AB21)) -> 33.143556 | AD21: =(180/PI())*IMARGUMENT(AB21) -> -62.75825 | AE21: =COMPLEX($B$67,0) -> 118.329284003155 | AF21: =IMSUM(COMPLEX(1,0),IMDIV(COMPLEX(0,2*PI()*N21),COMPLEX(wp_lf_DCM,0))) -> 1+1.564244543764i | AG21: =IMABS(AF21) -> 1.8565724 | AH21: =IMARGUMENT(AF21) -> 1.0019897 | AI21: =IMSUM(COMPLEX(1,0),IMDIV(COMPLEX(0,2*PI()*N21),COMPLEX(wz1_dcm,0))) -> 1+0.00367597467784541i | AJ21: =IMABS(AI21) -> 1.0000068 | AK21: =IMARGUMENT(AI21) -> 0.0036759581 | AL21: =IMSUB(COMPLEX(1,0),IMDIV(COMPLEX(0,2*PI()*N21),COMPLEX(wz2_dcm,0))) -> 1-0.00025602779553071i | AM21: =IMABS(AL21) -> 1 | AN21: =IMARGUMENT(AL21) -> -0.00025602779 | AO21: =(IMDIV(IMPRODUCT(AE21,AI21,AL21),IMPRODUCT(AF21))) -> 34.513261165243-53.5825005993202i | AP21: =20*LOG(IMABS(AO21)) -> 36.087666 | AQ21: =(180/PI())*IMARGUMENT(AO21) -> -57.213831 | AR21: =COMPLEX(adc_ea,0) -> -1.94444444444444 | AS21: =IMSUM(COMPLEX(1,0), IMDIV(COMPLEX(0,2*PI()*N21), COMPLEX(wp0_ea,0))) -> 1+0.00377023043881579i | AT21: =IMABS(AS21) -> 1.0000071 | AU21: =IMARGUMENT(AS21) -> 0.0037702126 | AV21: =IMSUM(COMPLEX(1,0),IMDIV(COMPLEX(0,2*PI()*N21),COMPLEX(wp1_ea,0))) -> 1+0.00377023043881579i | AW21: =IMABS(AV21) -> 1.0000071 | AX21: =IMARGUMENT(AV21) -> 0.0037702126 | AY21: =IMSUM(COMPLEX(1,0),IMDIV(COMPLEX(wz_ea,0),COMPLEX(0,2*PI()*N21))) -> 1-0.564331440477248i | AZ21: =IMABS(AY21) -> 1.1482465 | BA21: =IMARGUMENT(AY21) -> -0.51377961 | BB21: =IMDIV(IMPRODUCT(AR21,AY21), AS21) -> -1.94027974823181+1.10462643602791i | BC21: =20*LOG(IMABS(BB21)) -> 6.9765515 | BD21: =(180/PI())*IMARGUMENT(BB21) -> 150.34658 | BE21: =IMPRODUCT(AB21,BB21) -> 4.26650651141295+101.302582466102i | BF21: =20*LOG(IMABS(BE21)) -> 40.120107 | BG21: =(180/PI())*IMARGUMENT(BE21) -> 87.58833 | BH21: =IMPRODUCT(AO21,BB21) -> -7.77673501386596+142.089301449143i | BI21: =20*LOG(IMABS(BH21)) -> 43.064218 | BJ21: =(180/PI())*IMARGUMENT(BH21) -> 93.132748 | BK21: =IF($B$19=0,BF21,BI21) -> 40.120107 | BL21: =IF($B$19=0,BG21,BJ21) -> 87.58833 | BN21: =SUM((BK22<0)*(BK21>0))*N21 -> 0 | BO21: =IF(BN21>0,BL21,0) -> 0
M22: 4 | N22: =10^(1+(M22/100)) -> 10.964782 | O22: =COMPLEX(adc,0) -> 99.7340425531915 | P22: =IMSUM(COMPLEX(1,0),IMDIV(COMPLEX(0,2*PI()*N22),COMPLEX(wp_lf,0))) -> 1+2.00085059980889i | Q22: =IMABS(P22) -> 2.2368288 | R22: =IMARGUMENT(P22) -> 1.1073188 | S22: =IMSUM(COMPLEX(1,0),IMDIV(COMPLEX(0,2*PI()*N22),COMPLEX(wz_esr,0))) -> 1+0.00376159912764071i | T22: =IMABS(S22) -> 1.0000071 | U22: =IMARGUMENT(S22) -> 0.0037615814 | V22: =IMSUB(COMPLEX(1,0),IMDIV(COMPLEX(0,2*PI()*N22),COMPLEX(wz_rhp,0))) -> 1-0.00038856078900904i | W22: =IMABS(V22) -> 1.0000001 | X22: =IMARGUMENT(V22) -> -0.00038856077 | Y22: =IMSUM(COMPLEX(1,0),IMDIV(COMPLEX(0,2*PI()*N22),COMPLEX(Q*(wsl/2),0)),IMDIV(IMPOWER(COMPLEX(0,2*PI()*N22),2),IMPOWER(COMPLEX(wsl/2,0),2))) -> 0.999999971544037+0.000600612239784841i | Z22: =IMABS(Y22) -> 1.0000002 | AA22: =IMARGUMENT(Y22) -> 0.00060061218 | AB22: =(IMDIV(IMPRODUCT(O22,S22,V22),IMPRODUCT(P22,Y22))) -> 20.0438781631763-39.8283005639036i | AC22: =20*LOG(IMABS(AB22)) -> 32.984274 | AD22: =(180/PI())*IMARGUMENT(AB22) -> -63.285845 | AE22: =COMPLEX($B$67,0) -> 118.329284003155 | AF22: =IMSUM(COMPLEX(1,0),IMDIV(COMPLEX(0,2*PI()*N22),COMPLEX(wp_lf_DCM,0))) -> 1+1.60068047984711i | AG22: =IMABS(AF22) -> 1.8873733 | AH22: =IMARGUMENT(AF22) -> 1.0123881 | AI22: =IMSUM(COMPLEX(1,0),IMDIV(COMPLEX(0,2*PI()*N22),COMPLEX(wz1_dcm,0))) -> 1+0.00376159912764071i | AJ22: =IMABS(AI22) -> 1.0000071 | AK22: =IMARGUMENT(AI22) -> 0.0037615814 | AL22: =IMSUB(COMPLEX(1,0),IMDIV(COMPLEX(0,2*PI()*N22),COMPLEX(wz2_dcm,0))) -> 1-0.000261991448995665i | AM22: =IMABS(AL22) -> 1 | AN22: =IMARGUMENT(AL22) -> -0.00026199144 | AO22: =(IMDIV(IMPRODUCT(AE22,AI22,AL22),IMPRODUCT(AF22))) -> 33.4043532270814-53.055590081601i | AP22: =20*LOG(IMABS(AO22)) -> 35.94475 | AQ22: =(180/PI())*IMARGUMENT(AO22) -> -57.805054 | AR22: =COMPLEX(adc_ea,0) -> -1.94444444444444 | AS22: =IMSUM(COMPLEX(1,0), IMDIV(COMPLEX(0,2*PI()*N22), COMPLEX(wp0_ea,0))) -> 1+0.00385805038732379i | AT22: =IMABS(AS22) -> 1.0000074 | AU22: =IMARGUMENT(AS22) -> 0.0038580312 | AV22: =IMSUM(COMPLEX(1,0),IMDIV(COMPLEX(0,2*PI()*N22),COMPLEX(wp1_ea,0))) -> 1+0.00385805038732379i | AW22: =IMABS(AV22) -> 1.0000074 | AX22: =IMARGUMENT(AV22) -> 0.0038580312 | AY22: =IMSUM(COMPLEX(1,0),IMDIV(COMPLEX(wz_ea,0),COMPLEX(0,2*PI()*N22))) -> 1-0.551485688589975i | AZ22: =IMABS(AY22) -> 1.1419879 | BA22: =IMARGUMENT(AY22) -> -0.50398314 | BB22: =IMDIV(IMPRODUCT(AR22,AY22), AS22) -> -1.9402784484282+1.07981897538886i | BC22: =20*LOG(IMABS(BB22)) -> 6.9290765 | BD22: =(180/PI())*IMARGUMENT(BB22) -> 150.90284 | BE22: =IMPRODUCT(AB22,BB22) -> 4.11664988346236+98.9217532026431i | BF22: =20*LOG(IMABS(BE22)) -> 39.913351 | BG22: =(180/PI())*IMARGUMENT(BE22) -> 87.616999 | BH22: =IMPRODUCT(AO22,BB22) -> -7.52331372962329+139.013272479166i | BI22: =20*LOG(IMABS(BH22)) -> 42.873827 | BJ22: =(180/PI())*IMARGUMENT(BH22) -> 93.097791 | BK22: =IF($B$19=0,BF22,BI22) -> 39.913351 | BL22: =IF($B$19=0,BG22,BJ22) -> 87.616999 | BN22: =SUM((BK23<0)*(BK22>0))*N22 -> 0 | BO22: =IF(BN22>0,BL22,0) -> 0
A23: R_cs | B23: =Rcs -> 0.002 | C23: Ω | E23: Current sense resistor | M23: 5 | N23: =10^(1+(M23/100)) -> 11.220185 | O23: =COMPLEX(adc,0) -> 99.7340425531915 | P23: =IMSUM(COMPLEX(1,0),IMDIV(COMPLEX(0,2*PI()*N23),COMPLEX(wp_lf,0))) -> 1+2.04745639738518i | Q23: =IMABS(P23) -> 2.2786131 | R23: =IMARGUMENT(P23) -> 1.1164629 | S23: =IMSUM(COMPLEX(1,0),IMDIV(COMPLEX(0,2*PI()*N23),COMPLEX(wz_esr,0))) -> 1+0.00384921802708413i | T23: =IMABS(S23) -> 1.0000074 | U23: =IMARGUMENT(S23) -> 0.003849199 | V23: =IMSUB(COMPLEX(1,0),IMDIV(COMPLEX(0,2*PI()*N23),COMPLEX(wz_rhp,0))) -> 1-0.000397611532468031i | W23: =IMABS(V23) -> 1.0000001 | X23: =IMARGUMENT(V23) -> -0.00039761151 | Y23: =IMSUM(COMPLEX(1,0),IMDIV(COMPLEX(0,2*PI()*N23),COMPLEX(Q*(wsl/2),0)),IMDIV(IMPOWER(COMPLEX(0,2*PI()*N23),2),IMPOWER(COMPLEX(wsl/2,0),2))) -> 0.999999970202949+0.000614602296049876i | Z23: =IMABS(Y23) -> 1.0000002 | AA23: =IMARGUMENT(Y23) -> 0.00061460224 | AB23: =(IMDIV(IMPRODUCT(O23,S23,V23),IMPRODUCT(P23,Y23))) -> 19.3205296354543-39.2749962996062i | AC23: =20*LOG(IMABS(AB23)) -> 32.82352 | AD23: =(180/PI())*IMARGUMENT(AB23) -> -63.806066 | AE23: =COMPLEX($B$67,0) -> 118.329284003155 | AF23: =IMSUM(COMPLEX(1,0),IMDIV(COMPLEX(0,2*PI()*N23),COMPLEX(wp_lf_DCM,0))) -> 1+1.63796511790814i | AG23: =IMABS(AF23) -> 1.9190961 | AH23: =IMARGUMENT(AF23) -> 1.0226821 | AI23: =IMSUM(COMPLEX(1,0),IMDIV(COMPLEX(0,2*PI()*N23),COMPLEX(wz1_dcm,0))) -> 1+0.00384921802708413i | AJ23: =IMABS(AI23) -> 1.0000074 | AK23: =IMARGUMENT(AI23) -> 0.003849199 | AL23: =IMSUB(COMPLEX(1,0),IMDIV(COMPLEX(0,2*PI()*N23),COMPLEX(wz2_dcm,0))) -> 1-0.000268094013794745i | AM23: =IMABS(AL23) -> 1 | AN23: =IMARGUMENT(AL23) -> -0.00026809401 | AO23: =(IMDIV(IMPRODUCT(AE23,AI23,AL23),IMPRODUCT(AF23))) -> 32.3176127848373-52.5113705952066i | AP23: =20*LOG(IMABS(AO23)) -> 35.799975 | AQ23: =(180/PI())*IMARGUMENT(AO23) -> -58.390184 | AR23: =COMPLEX(adc_ea,0) -> -1.94444444444444 | AS23: =IMSUM(COMPLEX(1,0), IMDIV(COMPLEX(0,2*PI()*N23), COMPLEX(wp0_ea,0))) -> 1+0.00394791592521448i | AT23: =IMABS(AS23) -> 1.0000078 | AU23: =IMARGUMENT(AS23) -> 0.0039478954 | AV23: =IMSUM(COMPLEX(1,0),IMDIV(COMPLEX(0,2*PI()*N23),COMPLEX(wp1_ea,0))) -> 1+0.00394791592521448i | AW23: =IMABS(AV23) -> 1.0000078 | AX23: =IMARGUMENT(AV23) -> 0.0039478954 | AY23: =IMSUM(COMPLEX(1,0),IMDIV(COMPLEX(wz_ea,0),COMPLEX(0,2*PI()*N23))) -> 1-0.538932341714569i | AZ23: =IMABS(AY23) -> 1.1359789 | BA23: =IMARGUMENT(AY23) -> -0.49430628 | BB23: =IMDIV(IMPRODUCT(AR23,AY23), AS23) -> -1.94027708736861+1.05558404859088i | BC23: =20*LOG(IMABS(BB23)) -> 6.8832484 | BD23: =(180/PI())*IMARGUMENT(BB23) -> 151.45214 | BE23: =IMPRODUCT(AB23,BB23) -> 3.97087863483197+96.5988183201258i | BF23: =20*LOG(IMABS(BE23)) -> 39.706769 | BG23: =(180/PI())*IMARGUMENT(BE23) -> 87.646073 | BH23: =IMPRODUCT(AO23,BB23) -> -7.2749584349264+136.000565736412i | BI23: =20*LOG(IMABS(BH23)) -> 42.683223 | BJ23: =(180/PI())*IMARGUMENT(BH23) -> 93.061954 | BK23: =IF($B$19=0,BF23,BI23) -> 39.706769 | BL23: =IF($B$19=0,BG23,BJ23) -> 87.646073 | BN23: =SUM((BK24<0)*(BK23>0))*N23 -> 0 | BO23: =IF(BN23>0,BL23,0) -> 0
A24: R_sl | B24: =Rslope -> 40200 | C24: Ω | E24: External Slope Compensation Resistor | M24: 6 | N24: =10^(1+(M24/100)) -> 11.481536 | O24: =COMPLEX(adc,0) -> 99.7340425531915 | P24: =IMSUM(COMPLEX(1,0),IMDIV(COMPLEX(0,2*PI()*N24),COMPLEX(wp_lf,0))) -> 1+2.09514778344465i | Q24: =IMABS(P24) -> 2.3215607 | R24: =IMARGUMENT(P24) -> 1.1254785 | S24: =IMSUM(COMPLEX(1,0),IMDIV(COMPLEX(0,2*PI()*N24),COMPLEX(wz_esr,0))) -> 1+0.00393887783287594i | T24: =IMABS(S24) -> 1.0000078 | U24: =IMARGUMENT(S24) -> 0.0039388575 | V24: =IMSUB(COMPLEX(1,0),IMDIV(COMPLEX(0,2*PI()*N24),COMPLEX(wz_rhp,0))) -> 1-0.000406873094824548i | W24: =IMABS(V24) -> 1.0000001 | X24: =IMARGUMENT(V24) -> -0.00040687307 | Y24: =IMSUM(COMPLEX(1,0),IMDIV(COMPLEX(0,2*PI()*N24),COMPLEX(Q*(wsl/2),0)),IMDIV(IMPOWER(COMPLEX(0,2*PI()*N24),2),IMPOWER(COMPLEX(wsl/2,0),2))) -> 0.999999968798657+0.0006289182225875i | Z24: =IMABS(Y24) -> 1.0000002 | AA24: =IMARGUMENT(Y24) -> 0.00062891816 | AB24: =(IMDIV(IMPRODUCT(O24,S24,V24),IMPRODUCT(P24,Y24))) -> 18.6173715117955-38.7166083104046i | AC24: =20*LOG(IMABS(AB24)) -> 32.661334 | AD24: =(180/PI())*IMARGUMENT(AB24) -> -64.318836 | AE24: =COMPLEX($B$67,0) -> 118.329284003155 | AF24: =IMSUM(COMPLEX(1,0),IMDIV(COMPLEX(0,2*PI()*N24),COMPLEX(wp_lf_DCM,0))) -> 1+1.67611822675572i | AG24: =IMABS(AF24) -> 1.9517613 | AH24: =IMARGUMENT(AF24) -> 1.0328683 | AI24: =IMSUM(COMPLEX(1,0),IMDIV(COMPLEX(0,2*PI()*N24),COMPLEX(wz1_dcm,0))) -> 1+0.00393887783287594i | AJ24: =IMABS(AI24) -> 1.0000078 | AK24: =IMARGUMENT(AI24) -> 0.0039388575 | AL24: =IMSUB(COMPLEX(1,0),IMDIV(COMPLEX(0,2*PI()*N24),COMPLEX(wz2_dcm,0))) -> 1-0.000274338725588582i | AM24: =IMABS(AL24) -> 1 | AN24: =IMARGUMENT(AL24) -> -0.00027433872 | AO24: =(IMDIV(IMPRODUCT(AE24,AI24,AL24),IMPRODUCT(AF24))) -> 31.2534991067798-51.9509372140004i | AP24: =20*LOG(IMABS(AO24)) -> 35.653378 | AQ24: =(180/PI())*IMARGUMENT(AO24) -> -58.969034 | AR24: =COMPLEX(adc_ea,0) -> -1.94444444444444 | AS24: =IMSUM(COMPLEX(1,0), IMDIV(COMPLEX(0,2*PI()*N24), COMPLEX(wp0_ea,0))) -> 1+0.00403987470038557i | AT24: =IMABS(AS24) -> 1.0000082 | AU24: =IMARGUMENT(AS24) -> 0.0040398527 | AV24: =IMSUM(COMPLEX(1,0),IMDIV(COMPLEX(0,2*PI()*N24),COMPLEX(wp1_ea,0))) -> 1+0.00403987470038557i | AW24: =IMABS(AV24) -> 1.0000082 | AX24: =IMARGUMENT(AV24) -> 0.0040398527 | AY24: =IMSUM(COMPLEX(1,0),IMDIV(COMPLEX(wz_ea,0),COMPLEX(0,2*PI()*N24))) -> 1-0.526664743900353i | AZ24: =IMABS(AY24) -> 1.1302105 | BA24: =IMARGUMENT(AY24) -> -0.48475115 | BB24: =IMDIV(IMPRODUCT(AR24,AY24), AS24) -> -1.94027566216629+1.03190880592116i | BC24: =20*LOG(IMABS(BB24)) -> 6.8390266 | BD24: =(180/PI())*IMARGUMENT(BB24) -> 151.99434 | BE24: =IMPRODUCT(AB24,BB24) -> 3.82917621306203+94.3323224324307i | BF24: =20*LOG(IMABS(BE24)) -> 39.500361 | BG24: =(180/PI())*IMARGUMENT(BE24) -> 87.675502 | BH24: =IMPRODUCT(AO24,BB24) -> -7.03177408743642+133.049900047189i | BI24: =20*LOG(IMABS(BH24)) -> 42.492405 | BJ24: =(180/PI())*IMARGUMENT(BH24) -> 93.025305 | BK24: =IF($B$19=0,BF24,BI24) -> 39.500361 | BL24: =IF($B$19=0,BG24,BJ24) -> 87.675502 | BN24: =SUM((BK25<0)*(BK24>0))*N24 -> 0 | BO24: =IF(BN24>0,BL24,0) -> 0
A25: Rsl_int | B25: 1000 | C25: Ω | E25: Internal Slope Compensation Resistor | M25: 7 | N25: =10^(1+(M25/100)) -> 11.748976 | O25: =COMPLEX(adc,0) -> 99.7340425531915 | P25: =IMSUM(COMPLEX(1,0),IMDIV(COMPLEX(0,2*PI()*N25),COMPLEX(wp_lf,0))) -> 1+2.14395004459147i | Q25: =IMABS(P25) -> 2.3656969 | R25: =IMARGUMENT(P25) -> 1.1343645 | S25: =IMSUM(COMPLEX(1,0),IMDIV(COMPLEX(0,2*PI()*N25),COMPLEX(wz_esr,0))) -> 1+0.00403062608383196i | T25: =IMABS(S25) -> 1.0000081 | U25: =IMARGUMENT(S25) -> 0.0040306043 | V25: =IMSUB(COMPLEX(1,0),IMDIV(COMPLEX(0,2*PI()*N25),COMPLEX(wz_rhp,0))) -> 1-0.000416350386681543i | W25: =IMABS(V25) -> 1.0000001 | X25: =IMARGUMENT(V25) -> -0.00041635036 | Y25: =IMSUM(COMPLEX(1,0),IMDIV(COMPLEX(0,2*PI()*N25),COMPLEX(Q*(wsl/2),0)),IMDIV(IMPOWER(COMPLEX(0,2*PI()*N25),2),IMPOWER(COMPLEX(wsl/2,0),2))) -> 0.999999967328183+0.000643567609891456i | Z25: =IMABS(Y25) -> 1.0000002 | AA25: =IMARGUMENT(Y25) -> 0.00064356754 | AB25: =(IMDIV(IMPRODUCT(O25,S25,V25),IMPRODUCT(P25,Y25))) -> 17.9342845711328-38.153929702052i | AC25: =20*LOG(IMABS(AB25)) -> 32.497756 | AD25: =(180/PI())*IMARGUMENT(AB25) -> -64.824092 | AE25: =COMPLEX($B$67,0) -> 118.329284003155 | AF25: =IMSUM(COMPLEX(1,0),IMDIV(COMPLEX(0,2*PI()*N25),COMPLEX(wp_lf_DCM,0))) -> 1+1.71516003567317i | AG25: =IMABS(AF25) -> 1.9853901 | AH25: =IMARGUMENT(AF25) -> 1.0429438 | AI25: =IMSUM(COMPLEX(1,0),IMDIV(COMPLEX(0,2*PI()*N25),COMPLEX(wz1_dcm,0))) -> 1+0.00403062608383196i | AJ25: =IMABS(AI25) -> 1.0000081 | AK25: =IMARGUMENT(AI25) -> 0.0040306043 | AL25: =IMSUB(COMPLEX(1,0),IMDIV(COMPLEX(0,2*PI()*N25),COMPLEX(wz2_dcm,0))) -> 1-0.000280728895406029i | AM25: =IMABS(AL25) -> 1 | AN25: =IMARGUMENT(AL25) -> -0.00028072889 | AO25: =(IMDIV(IMPRODUCT(AE25,AI25,AL25),IMPRODUCT(AF25))) -> 30.2124055872819-51.3753879954629i | AP25: =20*LOG(IMABS(AO25)) -> 35.504998 | AQ25: =(180/PI())*IMARGUMENT(AO25) -> -59.541424 | AR25: =COMPLEX(adc_ea,0) -> -1.94444444444444 | AS25: =IMSUM(COMPLEX(1,0), IMDIV(COMPLEX(0,2*PI()*N25), COMPLEX(wp0_ea,0))) -> 1+0.00413397547059687i | AT25: =IMABS(AS25) -> 1.0000085 | AU25: =IMARGUMENT(AS25) -> 0.0041339519 | AV25: =IMSUM(COMPLEX(1,0),IMDIV(COMPLEX(0,2*PI()*N25),COMPLEX(wp1_ea,0))) -> 1+0.00413397547059687i | AW25: =IMABS(AV25) -> 1.0000085 | AX25: =IMARGUMENT(AV25) -> 0.0041339519 | AY25: =IMSUM(COMPLEX(1,0),IMDIV(COMPLEX(wz_ea,0),COMPLEX(0,2*PI()*N25))) -> 1-0.514676390704584i | AZ25: =IMABS(AY25) -> 1.1246741 | BA25: =IMARGUMENT(AY25) -> -0.47531967 | BB25: =IMDIV(IMPRODUCT(AR25,AY25), AS25) -> -1.94027416979851+1.00878069441642i | BC25: =20*LOG(IMABS(BB25)) -> 6.7963703 | BD25: =(180/PI())*IMARGUMENT(BB25) -> 152.52933 | BE25: =IMPRODUCT(AB25,BB25) -> 3.69151859236636+92.1208443207287i | BF25: =20*LOG(IMABS(BE25)) -> 39.294127 | BG25: =(180/PI())*IMARGUMENT(BE25) -> 87.705239 | BH25: =IMPRODUCT(AO25,BB25) -> -6.79385059050318+130.160029779302i | BI25: =20*LOG(IMABS(BH25)) -> 42.301369 | BJ25: =(180/PI())*IMARGUMENT(BH25) -> 92.987907 | BK25: =IF($B$19=0,BF25,BI25) -> 39.294127 | BL25: =IF($B$19=0,BG25,BJ25) -> 87.705239 | BN25: =SUM((BK26<0)*(BK25>0))*N25 -> 0 | BO25: =IF(BN25>0,BL25,0) -> 0
A26: Isl | B26: =Vsl/(R_sl+Rsl_int) -> 2.9126214e-05 | C26: A | E26: Internal Slope Compensation current | M26: 8 | N26: =10^(1+(M26/100)) -> 12.022644 | O26: =COMPLEX(adc,0) -> 99.7340425531915 | P26: =IMSUM(COMPLEX(1,0),IMDIV(COMPLEX(0,2*PI()*N26),COMPLEX(wp_lf,0))) -> 1+2.19388905643046i | Q26: =IMABS(P26) -> 2.4110473 | R26: =IMARGUMENT(P26) -> 1.14312 | S26: =IMSUM(COMPLEX(1,0),IMDIV(COMPLEX(0,2*PI()*N26),COMPLEX(wz_esr,0))) -> 1+0.00412451142608926i | T26: =IMABS(S26) -> 1.0000085 | U26: =IMARGUMENT(S26) -> 0.004124488 | V26: =IMSUB(COMPLEX(1,0),IMDIV(COMPLEX(0,2*PI()*N26),COMPLEX(wz_rhp,0))) -> 1-0.000426048433024605i | W26: =IMABS(V26) -> 1.0000001 | X26: =IMARGUMENT(V26) -> -0.00042604841 | Y26: =IMSUM(COMPLEX(1,0),IMDIV(COMPLEX(0,2*PI()*N26),COMPLEX(Q*(wsl/2),0)),IMDIV(IMPOWER(COMPLEX(0,2*PI()*N26),2),IMPOWER(COMPLEX(wsl/2,0),2))) -> 0.999999965788408+0.0006585582252608i | Z26: =IMABS(Y26) -> 1.0000002 | AA26: =IMARGUMENT(Y26) -> 0.00065855815 | AB26: =(IMDIV(IMPRODUCT(O26,S26,V26),IMPRODUCT(P26,Y26))) -> 17.2711149670311-37.5877283658332i | AC26: =20*LOG(IMABS(AB26)) -> 32.332827 | AD26: =(180/PI())*IMARGUMENT(AB26) -> -65.321781 | AE26: =COMPLEX($B$67,0) -> 118.329284003155 | AF26: =IMSUM(COMPLEX(1,0),IMDIV(COMPLEX(0,2*PI()*N26),COMPLEX(wp_lf_DCM,0))) -> 1+1.75511124514436i | AG26: =IMABS(AF26) -> 2.0200038 | AH26: =IMARGUMENT(AF26) -> 1.0529056 | AI26: =IMSUM(COMPLEX(1,0),IMDIV(COMPLEX(0,2*PI()*N26),COMPLEX(wz1_dcm,0))) -> 1+0.00412451142608926i | AJ26: =IMABS(AI26) -> 1.0000085 | AK26: =IMARGUMENT(AI26) -> 0.004124488 | AL26: =IMSUB(COMPLEX(1,0),IMDIV(COMPLEX(0,2*PI()*N26),COMPLEX(wz2_dcm,0))) -> 1-0.000287267911399706i | AM26: =IMABS(AL26) -> 1 | AN26: =IMARGUMENT(AL26) -> -0.0002872679 | AO26: =(IMDIV(IMPRODUCT(AE26,AI26,AL26),IMPRODUCT(AF26))) -> 29.1946610571011-50.7858196418572i | AP26: =20*LOG(IMABS(AO26)) -> 35.354875 | AQ26: =(180/PI())*IMARGUMENT(AO26) -> -60.107191 | AR26: =COMPLEX(adc_ea,0) -> -1.94444444444444 | AS26: =IMSUM(COMPLEX(1,0), IMDIV(COMPLEX(0,2*PI()*N26), COMPLEX(wp0_ea,0))) -> 1+0.0042302681293223i | AT26: =IMABS(AS26) -> 1.0000089 | AU26: =IMARGUMENT(AS26) -> 0.0042302429 | AV26: =IMSUM(COMPLEX(1,0),IMDIV(COMPLEX(0,2*PI()*N26),COMPLEX(wp1_ea,0))) -> 1+0.0042302681293223i | AW26: =IMABS(AV26) -> 1.0000089 | AX26: =IMARGUMENT(AV26) -> 0.0042302429 | AY26: =IMSUM(COMPLEX(1,0),IMDIV(COMPLEX(wz_ea,0),COMPLEX(0,2*PI()*N26))) -> 1-0.502960925743716i | AZ26: =IMABS(AY26) -> 1.1193613 | BA26: =IMARGUMENT(AY26) -> -0.46601354 | BB26: =IMDIV(IMPRODUCT(AR26,AY26), AS26) -> -1.94027260710006+0.986187451207013i | BC26: =20*LOG(IMABS(BB26)) -> 6.7552387 | BD26: =(180/PI())*IMARGUMENT(BB26) -> 153.05702 | BE26: =IMPRODUCT(AB26,BB26) -> 3.55787476915629+89.9629965601838i | BF26: =20*LOG(IMABS(BE26)) -> 39.088066 | BG26: =(180/PI())*IMARGUMENT(BE26) -> 87.735235 | BH26: =IMPRODUCT(AO26,BB26) -> -6.56126309260193+127.329743056975i | BI26: =20*LOG(IMABS(BH26)) -> 42.110114 | BJ26: =(180/PI())*IMARGUMENT(BH26) -> 92.949825 | BK26: =IF($B$19=0,BF26,BI26) -> 39.088066 | BL26: =IF($B$19=0,BG26,BJ26) -> 87.735235 | BN26: =SUM((BK27<0)*(BK26>0))*N26 -> 0 | BO26: =IF(BN26>0,BL26,0) -> 0
A27: Vsl | B27: 1.2 | C27: V | E27: Slope output voltage (datasheet) | M27: 9 | N27: =10^(1+(M27/100)) -> 12.302688 | O27: =COMPLEX(adc,0) -> 99.7340425531915 | P27: =IMSUM(COMPLEX(1,0),IMDIV(COMPLEX(0,2*PI()*N27),COMPLEX(wp_lf,0))) -> 1+2.24499129728672i | Q27: =IMABS(P27) -> 2.4576383 | R27: =IMARGUMENT(P27) -> 1.1517443 | S27: =IMSUM(COMPLEX(1,0),IMDIV(COMPLEX(0,2*PI()*N27),COMPLEX(wz_esr,0))) -> 1+0.00422058363889904i | T27: =IMABS(S27) -> 1.0000089 | U27: =IMARGUMENT(S27) -> 0.0042205586 | V27: =IMSUB(COMPLEX(1,0),IMDIV(COMPLEX(0,2*PI()*N27),COMPLEX(wz_rhp,0))) -> 1-0.000435972375886274i | W27: =IMABS(V27) -> 1.0000001 | X27: =IMARGUMENT(V27) -> -0.00043597235 | Y27: =IMSUM(COMPLEX(1,0),IMDIV(COMPLEX(0,2*PI()*N27),COMPLEX(Q*(wsl/2),0)),IMDIV(IMPOWER(COMPLEX(0,2*PI()*N27),2),IMPOWER(COMPLEX(wsl/2,0),2))) -> 0.999999964176065+0.000673898016918228i | Z27: =IMABS(Y27) -> 1.0000002 | AA27: =IMARGUMENT(Y27) -> 0.00067389794 | AB27: =(IMDIV(IMPRODUCT(O27,S27,V27),IMPRODUCT(P27,Y27))) -> 16.6276767008914-37.0187457362002i | AC27: =20*LOG(IMABS(AB27)) -> 32.166586 | AD27: =(180/PI())*IMARGUMENT(AB27) -> -65.811857 | AE27: =COMPLEX($B$67,0) -> 118.329284003155 | AF27: =IMSUM(COMPLEX(1,0),IMDIV(COMPLEX(0,2*PI()*N27),COMPLEX(wp_lf_DCM,0))) -> 1+1.79599303782938i | AG27: =IMABS(AF27) -> 2.0556242 | AH27: =IMARGUMENT(AF27) -> 1.0627512 | AI27: =IMSUM(COMPLEX(1,0),IMDIV(COMPLEX(0,2*PI()*N27),COMPLEX(wz1_dcm,0))) -> 1+0.00422058363889904i | AJ27: =IMABS(AI27) -> 1.0000089 | AK27: =IMARGUMENT(AI27) -> 0.0042205586 | AL27: =IMSUB(COMPLEX(1,0),IMDIV(COMPLEX(0,2*PI()*N27),COMPLEX(wz2_dcm,0))) -> 1-0.000293959240642448i | AM27: =IMABS(AL27) -> 1 | AN27: =IMARGUMENT(AL27) -> -0.00029395923 | AO27: =(IMDIV(IMPRODUCT(AE27,AI27,AL27),IMPRODUCT(AF27))) -> 28.2005313913256-50.1833233883146i | AP27: =20*LOG(IMABS(AO27)) -> 35.203048 | AQ27: =(180/PI())*IMARGUMENT(AO27) -> -60.666179 | AR27: =COMPLEX(adc_ea,0) -> -1.94444444444444 | AS27: =IMSUM(COMPLEX(1,0), IMDIV(COMPLEX(0,2*PI()*N27), COMPLEX(wp0_ea,0))) -> 1+0.00432880373220413i | AT27: =IMABS(AS27) -> 1.0000094 | AU27: =IMARGUMENT(AS27) -> 0.0043287767 | AV27: =IMSUM(COMPLEX(1,0),IMDIV(COMPLEX(0,2*PI()*N27),COMPLEX(wp1_ea,0))) -> 1+0.00432880373220413i | AW27: =IMABS(AV27) -> 1.0000094 | AX27: =IMARGUMENT(AV27) -> 0.0043287767 | AY27: =IMSUM(COMPLEX(1,0),IMDIV(COMPLEX(wz_ea,0),COMPLEX(0,2*PI()*N27))) -> 1-0.49151213732315i | AZ27: =IMABS(AY27) -> 1.114264 | BA27: =IMARGUMENT(AY27) -> -0.45683429 | BB27: =IMDIV(IMPRODUCT(AR27,AY27), AS27) -> -1.9402709707566+0.96411709701471i | BC27: =20*LOG(IMABS(BB27)) -> 6.7155911 | BD27: =(180/PI())*IMARGUMENT(BB27) -> 153.5773 | BE27: =IMPRODUCT(AB27,BB27) -> 3.42820726044556+87.8574251167315i | BF27: =20*LOG(IMABS(BE27)) -> 38.882177 | BG27: =(180/PI())*IMARGUMENT(BE27) -> 87.765445 | BH27: =IMPRODUCT(AO27,BB27) -> -6.33407235480702+124.557860045715i | BI27: =20*LOG(IMABS(BH27)) -> 41.918639 | BJ27: =(180/PI())*IMARGUMENT(BH27) -> 92.911123 | BK27: =IF($B$19=0,BF27,BI27) -> 38.882177 | BL27: =IF($B$19=0,BG27,BJ27) -> 87.765445 | BN27: =SUM((BK28<0)*(BK27>0))*N27 -> 0 | BO27: =IF(BN27>0,BL27,0) -> 0
A28: Gcomp | B28: 0.75 | C28: V/V | E28: Gain of Error Amplifier | M28: 10 | N28: =10^(1+(M28/100)) -> 12.589254 | O28: =COMPLEX(adc,0) -> 99.7340425531915 | P28: =IMSUM(COMPLEX(1,0),IMDIV(COMPLEX(0,2*PI()*N28),COMPLEX(wp_lf,0))) -> 1+2.29728386224478i | Q28: =IMABS(P28) -> 2.5054966 | R28: =IMARGUMENT(P28) -> 1.1602367 | S28: =IMSUM(COMPLEX(1,0),IMDIV(COMPLEX(0,2*PI()*N28),COMPLEX(wz_esr,0))) -> 1+0.0043188936610202i | T28: =IMABS(S28) -> 1.0000093 | U28: =IMARGUMENT(S28) -> 0.0043188668 | V28: =IMSUB(COMPLEX(1,0),IMDIV(COMPLEX(0,2*PI()*N28),COMPLEX(wz_rhp,0))) -> 1-0.000446127477072416i | W28: =IMABS(V28) -> 1.0000001 | X28: =IMARGUMENT(V28) -> -0.00044612745 | Y28: =IMSUM(COMPLEX(1,0),IMDIV(COMPLEX(0,2*PI()*N28),COMPLEX(Q*(wsl/2),0)),IMDIV(IMPOWER(COMPLEX(0,2*PI()*N28),2),IMPOWER(COMPLEX(wsl/2,0),2))) -> 0.999999962487735+0.00068959511822432i | Z28: =IMABS(Y28) -> 1.0000002 | AA28: =IMARGUMENT(Y28) -> 0.00068959503 | AB28: =(IMDIV(IMPRODUCT(O28,S28,V28),IMPRODUCT(P28,Y28))) -> 16.003754090921-36.4476957640412i | AC28: =20*LOG(IMABS(AB28)) -> 31.999072 | AD28: =(180/PI())*IMARGUMENT(AB28) -> -66.294288 | AE28: =COMPLEX($B$67,0) -> 118.329284003155 | AF28: =IMSUM(COMPLEX(1,0),IMDIV(COMPLEX(0,2*PI()*N28),COMPLEX(wp_lf_DCM,0))) -> 1+1.83782708979583i | AG28: =IMABS(AF28) -> 2.0922735 | AH28: =IMARGUMENT(AF28) -> 1.0724781 | AI28: =IMSUM(COMPLEX(1,0),IMDIV(COMPLEX(0,2*PI()*N28),COMPLEX(wz1_dcm,0))) -> 1+0.0043188936610202i | AJ28: =IMABS(AI28) -> 1.0000093 | AK28: =IMARGUMENT(AI28) -> 0.0043188668 | AL28: =IMSUB(COMPLEX(1,0),IMDIV(COMPLEX(0,2*PI()*N28),COMPLEX(wz2_dcm,0))) -> 1-0.000300806430965589i | AM28: =IMABS(AL28) -> 1 | AN28: =IMARGUMENT(AL28) -> -0.00030080642 | AO28: =(IMDIV(IMPRODUCT(AE28,AI28,AL28),IMPRODUCT(AF28))) -> 27.2302213844728-49.5689811365272i | AP28: =20*LOG(IMABS(AO28)) -> 35.049557 | AQ28: =(180/PI())*IMARGUMENT(AO28) -> -61.21825 | AR28: =COMPLEX(adc_ea,0) -> -1.94444444444444 | AS28: =IMSUM(COMPLEX(1,0), IMDIV(COMPLEX(0,2*PI()*N28), COMPLEX(wp0_ea,0))) -> 1+0.00442963452412326i | AT28: =IMABS(AS28) -> 1.0000098 | AU28: =IMARGUMENT(AS28) -> 0.0044296056 | AV28: =IMSUM(COMPLEX(1,0),IMDIV(COMPLEX(0,2*PI()*N28),COMPLEX(wp1_ea,0))) -> 1+0.00442963452412326i | AW28: =IMABS(AV28) -> 1.0000098 | AX28: =IMARGUMENT(AV28) -> 0.0044296056 | AY28: =IMSUM(COMPLEX(1,0),IMDIV(COMPLEX(wz_ea,0),COMPLEX(0,2*PI()*N28))) -> 1-0.480323955143726i | AZ28: =IMABS(AY28) -> 1.1093742 | BA28: =IMARGUMENT(AY28) -> -0.44778323 | BB28: =IMDIV(IMPRODUCT(AR28,AY28), AS28) -> -1.94026925729761+0.942557929801018i | BC28: =20*LOG(IMABS(BB28)) -> 6.6773868 | BD28: =(180/PI())*IMARGUMENT(BB28) -> 154.09011 | BE28: =IMPRODUCT(AB28,BB28) -> 3.30247260140713+85.8028089152885i | BF28: =20*LOG(IMABS(BE28)) -> 38.676459 | BG28: =(180/PI())*IMARGUMENT(BE28) -> 87.795825 | BH28: =IMPRODUCT(AO28,BB28) -> -6.11232517930974+121.843231310941i | BI28: =20*LOG(IMABS(BH28)) -> 41.726944 | BJ28: =(180/PI())*IMARGUMENT(BH28) -> 92.871863 | BK28: =IF($B$19=0,BF28,BI28) -> 38.676459 | BL28: =IF($B$19=0,BG28,BJ28) -> 87.795825 | BN28: =SUM((BK29<0)*(BK28>0))*N28 -> 0 | BO28: =IF(BN28>0,BL28,0) -> 0
A29: Acs | B29: 10 | C29: V/V | E29: Current sense amplifier gain (datasheet) | M29: 11 | N29: =10^(1+(M29/100)) -> 12.882496 | O29: =COMPLEX(adc,0) -> 99.7340425531915 | P29: =IMSUM(COMPLEX(1,0),IMDIV(COMPLEX(0,2*PI()*N29),COMPLEX(wp_lf,0))) -> 1+2.35079447751475i | Q29: =IMABS(P29) -> 2.5546496 | R29: =IMARGUMENT(P29) -> 1.168597 | S29: =IMSUM(COMPLEX(1,0),IMDIV(COMPLEX(0,2*PI()*N29),COMPLEX(wz_esr,0))) -> 1+0.00441949361772773i | T29: =IMABS(S29) -> 1.0000098 | U29: =IMARGUMENT(S29) -> 0.0044194648 | V29: =IMSUB(COMPLEX(1,0),IMDIV(COMPLEX(0,2*PI()*N29),COMPLEX(wz_rhp,0))) -> 1-0.000456519120952095i | W29: =IMABS(V29) -> 1.0000001 | X29: =IMARGUMENT(V29) -> -0.00045651909 | Y29: =IMSUM(COMPLEX(1,0),IMDIV(COMPLEX(0,2*PI()*N29),COMPLEX(Q*(wsl/2),0)),IMDIV(IMPOWER(COMPLEX(0,2*PI()*N29),2),IMPOWER(COMPLEX(wsl/2,0),2))) -> 0.999999960719837+0.000705657851989964i | Z29: =IMABS(Y29) -> 1.0000002 | AA29: =IMARGUMENT(Y29) -> 0.00070565776 | AB29: =(IMDIV(IMPRODUCT(O29,S29,V29),IMPRODUCT(P29,Y29))) -> 15.3991042199923-35.8752640959367i | AC29: =20*LOG(IMABS(AB29)) -> 31.830326 | AD29: =(180/PI())*IMARGUMENT(AB29) -> -66.769047 | AE29: =COMPLEX($B$67,0) -> 118.329284003155 | AF29: =IMSUM(COMPLEX(1,0),IMDIV(COMPLEX(0,2*PI()*N29),COMPLEX(wp_lf_DCM,0))) -> 1+1.8806355820118i | AG29: =IMABS(AF29) -> 2.1299742 | AH29: =IMARGUMENT(AF29) -> 1.0820841 | AI29: =IMSUM(COMPLEX(1,0),IMDIV(COMPLEX(0,2*PI()*N29),COMPLEX(wz1_dcm,0))) -> 1+0.00441949361772773i | AJ29: =IMABS(AI29) -> 1.0000098 | AK29: =IMARGUMENT(AI29) -> 0.0044194648 | AL29: =IMSUB(COMPLEX(1,0),IMDIV(COMPLEX(0,2*PI()*N29),COMPLEX(wz2_dcm,0))) -> 1-0.000307813112840071i | AM29: =IMABS(AL29) -> 1 | AN29: =IMARGUMENT(AL29) -> -0.0003078131 | AO29: =(IMDIV(IMPRODUCT(AE29,AI29,AL29),IMPRODUCT(AF29))) -> 26.2838768615818-48.9438618489143i | AP29: =20*LOG(IMABS(AO29)) -> 34.894443 | AQ29: =(180/PI())*IMARGUMENT(AO29) -> -61.763272 | AR29: =COMPLEX(adc_ea,0) -> -1.94444444444444 | AS29: =IMSUM(COMPLEX(1,0), IMDIV(COMPLEX(0,2*PI()*N29), COMPLEX(wp0_ea,0))) -> 1+0.00453281396690022i | AT29: =IMABS(AS29) -> 1.0000103 | AU29: =IMARGUMENT(AS29) -> 0.0045327829 | AV29: =IMSUM(COMPLEX(1,0),IMDIV(COMPLEX(0,2*PI()*N29),COMPLEX(wp1_ea,0))) -> 1+0.00453281396690022i | AW29: =IMABS(AV29) -> 1.0000103 | AX29: =IMARGUMENT(AV29) -> 0.0045327829 | AY29: =IMSUM(COMPLEX(1,0),IMDIV(COMPLEX(wz_ea,0),COMPLEX(0,2*PI()*N29))) -> 1-0.469390447083159i | AZ29: =IMABS(AY29) -> 1.1046843 | BA29: =IMARGUMENT(AY29) -> -0.4388615 | BB29: =IMDIV(IMPRODUCT(AR29,AY29), AS29) -> -1.94026746308902+0.921498518562352i | BC29: =20*LOG(IMABS(BB29)) -> 6.6405852 | BD29: =(180/PI())*IMARGUMENT(BB29) -> 154.59538 | BE29: =IMPRODUCT(AB29,BB29) -> 3.18062183867093+83.7978593809819i | BF29: =20*LOG(IMABS(BE29)) -> 38.470911 | BG29: =(180/PI())*IMARGUMENT(BE29) -> 87.826331 | BH29: =IMPRODUCT(AO29,BB29) -> -5.89605489187056+119.184736253395i | BI29: =20*LOG(IMABS(BH29)) -> 41.535028 | BJ29: =(180/PI())*IMARGUMENT(BH29) -> 92.832107 | BK29: =IF($B$19=0,BF29,BI29) -> 38.470911 | BL29: =IF($B$19=0,BG29,BJ29) -> 87.826331 | BN29: =SUM((BK30<0)*(BK29>0))*N29 -> 0 | BO29: =IF(BN29>0,BL29,0) -> 0
M30: 12 | N30: =10^(1+(M30/100)) -> 13.182567 | O30: =COMPLEX(adc,0) -> 99.7340425531915 | P30: =IMSUM(COMPLEX(1,0),IMDIV(COMPLEX(0,2*PI()*N30),COMPLEX(wp_lf,0))) -> 1+2.40555151513314i | Q30: =IMABS(P30) -> 2.6051254 | R30: =IMARGUMENT(P30) -> 1.1768248 | S30: =IMSUM(COMPLEX(1,0),IMDIV(COMPLEX(0,2*PI()*N30),COMPLEX(wz_esr,0))) -> 1+0.00452243684845031i | T30: =IMABS(S30) -> 1.0000102 | U30: =IMARGUMENT(S30) -> 0.004522406 | V30: =IMSUB(COMPLEX(1,0),IMDIV(COMPLEX(0,2*PI()*N30),COMPLEX(wz_rhp,0))) -> 1-0.000467152817312449i | W30: =IMABS(V30) -> 1.0000001 | X30: =IMARGUMENT(V30) -> -0.00046715278 | Y30: =IMSUM(COMPLEX(1,0),IMDIV(COMPLEX(0,2*PI()*N30),COMPLEX(Q*(wsl/2),0)),IMDIV(IMPOWER(COMPLEX(0,2*PI()*N30),2),IMPOWER(COMPLEX(wsl/2,0),2))) -> 0.999999958868619+0.00072209473488922i | Z30: =IMABS(Y30) -> 1.0000002 | AA30: =IMARGUMENT(Y30) -> 0.00072209464 | AB30: =(IMDIV(IMPRODUCT(O30,S30,V30),IMPRODUCT(P30,Y30))) -> 14.8134593472226-35.3021074487393i | AC30: =20*LOG(IMABS(AB30)) -> 31.660384 | AD30: =(180/PI())*IMARGUMENT(AB30) -> -67.23612 | AE30: =COMPLEX($B$67,0) -> 118.329284003155 | AF30: =IMSUM(COMPLEX(1,0),IMDIV(COMPLEX(0,2*PI()*N30),COMPLEX(wp_lf_DCM,0))) -> 1+1.92444121210651i | AG30: =IMABS(AF30) -> 2.1687494 | AH30: =IMARGUMENT(AF30) -> 1.0915673 | AI30: =IMSUM(COMPLEX(1,0),IMDIV(COMPLEX(0,2*PI()*N30),COMPLEX(wz1_dcm,0))) -> 1+0.00452243684845031i | AJ30: =IMABS(AI30) -> 1.0000102 | AK30: =IMARGUMENT(AI30) -> 0.004522406 | AL30: =IMSUB(COMPLEX(1,0),IMDIV(COMPLEX(0,2*PI()*N30),COMPLEX(wz2_dcm,0))) -> 1-0.00031498300130137i | AM30: =IMABS(AL30) -> 1 | AN30: =IMARGUMENT(AL30) -> -0.00031498299 | AO30: =(IMDIV(IMPRODUCT(AE30,AI30,AL30),IMPRODUCT(AF30))) -> 25.3615869939565-48.309018214385i | AP30: =20*LOG(IMABS(AO30)) -> 34.737747 | AQ30: =(180/PI())*IMARGUMENT(AO30) -> -62.301129 | AR30: =COMPLEX(adc_ea,0) -> -1.94444444444444 | AS30: =IMSUM(COMPLEX(1,0), IMDIV(COMPLEX(0,2*PI()*N30), COMPLEX(wp0_ea,0))) -> 1+0.00463839676764132i | AT30: =IMABS(AS30) -> 1.0000108 | AU30: =IMARGUMENT(AS30) -> 0.0046383635 | AV30: =IMSUM(COMPLEX(1,0),IMDIV(COMPLEX(0,2*PI()*N30),COMPLEX(wp1_ea,0))) -> 1+0.00463839676764132i | AW30: =IMABS(AV30) -> 1.0000108 | AX30: =IMARGUMENT(AV30) -> 0.0046383635 | AY30: =IMSUM(COMPLEX(1,0),IMDIV(COMPLEX(wz_ea,0),COMPLEX(0,2*PI()*N30))) -> 1-0.458705816050751i | AZ30: =IMABS(AY30) -> 1.1001868 | BA30: =IMARGUMENT(AY30) -> -0.43007005 | BB30: =IMDIV(IMPRODUCT(AR30,AY30), AS30) -> -1.94026558432555+0.900927697268937i | BC30: =20*LOG(IMABS(BB30)) -> 6.6051461 | BD30: =(180/PI())*IMARGUMENT(BB30) -> 155.09304 | BE30: =IMPRODUCT(AB30,BB30) -> 3.06260101631164+81.8413199552318i | BF30: =20*LOG(IMABS(BE30)) -> 38.26553 | BG30: =(180/PI())*IMARGUMENT(BE30) -> 87.856923 | BH30: =IMPRODUCT(AO30,BB30) -> -5.68528187104327+116.581281623478i | BI30: =20*LOG(IMABS(BH30)) -> 41.342893 | BJ30: =(180/PI())*IMARGUMENT(BH30) -> 92.791913 | BK30: =IF($B$19=0,BF30,BI30) -> 38.26553 | BL30: =IF($B$19=0,BG30,BJ30) -> 87.856923 | BN30: =SUM((BK31<0)*(BK30>0))*N30 -> 0 | BO30: =IF(BN30>0,BL30,0) -> 0
A31: Kex | B31: =(Rcs*ACS/(2*Lm*fsw))*(1-(B14/VOUT))*(B14/VOUT) -> 0.0017094017 | E31: Slope compensation parameters. Will change pole and DC gain equation | M31: 13 | N31: =10^(1+(M31/100)) -> 13.489629 | O31: =COMPLEX(adc,0) -> 99.7340425531915 | P31: =IMSUM(COMPLEX(1,0),IMDIV(COMPLEX(0,2*PI()*N31),COMPLEX(wp_lf,0))) -> 1+2.46158400800609i | Q31: =IMABS(P31) -> 2.6569524 | R31: =IMARGUMENT(P31) -> 1.1849201 | S31: =IMSUM(COMPLEX(1,0),IMDIV(COMPLEX(0,2*PI()*N31),COMPLEX(wz_esr,0))) -> 1+0.00462777793505146i | T31: =IMABS(S31) -> 1.0000107 | U31: =IMARGUMENT(S31) -> 0.0046277449 | V31: =IMSUB(COMPLEX(1,0),IMDIV(COMPLEX(0,2*PI()*N31),COMPLEX(wz_rhp,0))) -> 1-0.00047803420428004i | W31: =IMABS(V31) -> 1.0000001 | X31: =IMARGUMENT(V31) -> -0.00047803417 | Y31: =IMSUM(COMPLEX(1,0),IMDIV(COMPLEX(0,2*PI()*N31),COMPLEX(Q*(wsl/2),0)),IMDIV(IMPOWER(COMPLEX(0,2*PI()*N31),2),IMPOWER(COMPLEX(wsl/2,0),2))) -> 0.999999956930157+0.000738914481974968i | Z31: =IMABS(Y31) -> 1.0000002 | AA31: =IMARGUMENT(Y31) -> 0.00073891438 | AB31: =(IMDIV(IMPRODUCT(O31,S31,V31),IMPRODUCT(P31,Y31))) -> 14.2465292698114-34.7288531680046i | AC31: =20*LOG(IMABS(AB31)) -> 31.489285 | AD31: =(180/PI())*IMARGUMENT(AB31) -> -67.695497 | AE31: =COMPLEX($B$67,0) -> 118.329284003155 | AF31: =IMSUM(COMPLEX(1,0),IMDIV(COMPLEX(0,2*PI()*N31),COMPLEX(wp_lf_DCM,0))) -> 1+1.96926720640488i | AG31: =IMABS(AF31) -> 2.2086225 | AH31: =IMARGUMENT(AF31) -> 1.1009257 | AI31: =IMSUM(COMPLEX(1,0),IMDIV(COMPLEX(0,2*PI()*N31),COMPLEX(wz1_dcm,0))) -> 1+0.00462777793505146i | AJ31: =IMABS(AI31) -> 1.0000107 | AK31: =IMARGUMENT(AI31) -> 0.0046277449 | AL31: =IMSUB(COMPLEX(1,0),IMDIV(COMPLEX(0,2*PI()*N31),COMPLEX(wz2_dcm,0))) -> 1-0.000322319897919252i | AM31: =IMABS(AL31) -> 1.0000001 | AN31: =IMARGUMENT(AL31) -> -0.00032231989 | AO31: =(IMDIV(IMPRODUCT(AE31,AI31,AL31),IMPRODUCT(AF31))) -> 24.4633867884478-47.6654835932491i | AP31: =20*LOG(IMABS(AO31)) -> 34.579508 | AQ31: =(180/PI())*IMARGUMENT(AO31) -> -62.831716 | AR31: =COMPLEX(adc_ea,0) -> -1.94444444444444 | AS31: =IMSUM(COMPLEX(1,0), IMDIV(COMPLEX(0,2*PI()*N31), COMPLEX(wp0_ea,0))) -> 1+0.00474643890774507i | AT31: =IMABS(AS31) -> 1.0000113 | AU31: =IMARGUMENT(AS31) -> 0.0047464033 | AV31: =IMSUM(COMPLEX(1,0),IMDIV(COMPLEX(0,2*PI()*N31),COMPLEX(wp1_ea,0))) -> 1+0.00474643890774507i | AW31: =IMABS(AV31) -> 1.0000113 | AX31: =IMARGUMENT(AV31) -> 0.0047464033 | AY31: =IMSUM(COMPLEX(1,0),IMDIV(COMPLEX(wz_ea,0),COMPLEX(0,2*PI()*N31))) -> 1-0.448264396913704i | AZ31: =IMABS(AY31) -> 1.0958745 | BA31: =IMARGUMENT(AY31) -> -0.42140966 | BB31: =IMDIV(IMPRODUCT(AR31,AY31), AS31) -> -1.94026361702258+0.880834558944207i | BC31: =20*LOG(IMABS(BB31)) -> 6.5710296 | BD31: =(180/PI())*IMARGUMENT(BB31) -> 155.58306 | BE31: =IMPRODUCT(AB31,BB31) -> 2.94835165181513+79.9319655886588i | BF31: =20*LOG(IMABS(BE31)) -> 38.060315 | BG31: =(180/PI())*IMARGUMENT(BE31) -> 87.887559 | BH31: =IMPRODUCT(AO31,BB31) -> -5.48001411705422+114.031800115852i | BI31: =20*LOG(IMABS(BH31)) -> 41.150538 | BJ31: =(180/PI())*IMARGUMENT(BH31) -> 92.75134 | BK31: =IF($B$19=0,BF31,BI31) -> 38.060315 | BL31: =IF($B$19=0,BG31,BJ31) -> 87.887559 | BN31: =SUM((BK32<0)*(BK31>0))*N31 -> 0 | BO31: =IF(BN31>0,BL31,0) -> 0
A32: Km | B32: =1/((0.5-(1-(Vin_vari/VOUT)))*(Rcs*ACS/(Lm*fsw))+(Vslo*ACS/VOUT)) -> 5.0649351 | E32: Slope compensation parameters. Will change pole and DC gain equation | M32: 14 | N32: =10^(1+(M32/100)) -> 13.803843 | O32: =COMPLEX(adc,0) -> 99.7340425531915 | P32: =IMSUM(COMPLEX(1,0),IMDIV(COMPLEX(0,2*PI()*N32),COMPLEX(wp_lf,0))) -> 1+2.51892166530301i | Q32: =IMABS(P32) -> 2.7101598 | R32: =IMARGUMENT(P32) -> 1.1928829 | S32: =IMSUM(COMPLEX(1,0),IMDIV(COMPLEX(0,2*PI()*N32),COMPLEX(wz_esr,0))) -> 1+0.00473557273076966i | T32: =IMABS(S32) -> 1.0000112 | U32: =IMARGUMENT(S32) -> 0.0047355373 | V32: =IMSUB(COMPLEX(1,0),IMDIV(COMPLEX(0,2*PI()*N32),COMPLEX(wz_rhp,0))) -> 1-0.000489169051310272i | W32: =IMABS(V32) -> 1.0000001 | X32: =IMARGUMENT(V32) -> -0.00048916901 | Y32: =IMSUM(COMPLEX(1,0),IMDIV(COMPLEX(0,2*PI()*N32),COMPLEX(Q*(wsl/2),0)),IMDIV(IMPOWER(COMPLEX(0,2*PI()*N32),2),IMPOWER(COMPLEX(wsl/2,0),2))) -> 0.999999954900338+0.000756126011299749i | Z32: =IMABS(Y32) -> 1.0000002 | AA32: =IMARGUMENT(Y32) -> 0.0007561259 | AB32: =(IMDIV(IMPRODUCT(O32,S32,V32),IMPRODUCT(P32,Y32))) -> 13.6980036233654-34.1560989582254i | AC32: =20*LOG(IMABS(AB32)) -> 31.317067 | AD32: =(180/PI())*IMARGUMENT(AB32) -> -68.14718 | AE32: =COMPLEX($B$67,0) -> 118.329284003155 | AF32: =IMSUM(COMPLEX(1,0),IMDIV(COMPLEX(0,2*PI()*N32),COMPLEX(wp_lf_DCM,0))) -> 1+2.01513733224241i | AG32: =IMABS(AF32) -> 2.2496174 | AH32: =IMARGUMENT(AF32) -> 1.110158 | AI32: =IMSUM(COMPLEX(1,0),IMDIV(COMPLEX(0,2*PI()*N32),COMPLEX(wz1_dcm,0))) -> 1+0.00473557273076966i | AJ32: =IMABS(AI32) -> 1.0000112 | AK32: =IMARGUMENT(AI32) -> 0.0047355373 | AL32: =IMSUB(COMPLEX(1,0),IMDIV(COMPLEX(0,2*PI()*N32),COMPLEX(wz2_dcm,0))) -> 1-0.000329827692813418i | AM32: =IMABS(AL32) -> 1.0000001 | AN32: =IMARGUMENT(AL32) -> -0.00032982768 | AO32: =(IMDIV(IMPRODUCT(AE32,AI32,AL32),IMPRODUCT(AF32))) -> 23.5892597197817-47.0142692454524i | AP32: =20*LOG(IMABS(AO32)) -> 34.419769 | AQ32: =(180/PI())*IMARGUMENT(AO32) -> -63.354937 | AR32: =COMPLEX(adc_ea,0) -> -1.94444444444444 | AS32: =IMSUM(COMPLEX(1,0), IMDIV(COMPLEX(0,2*PI()*N32), COMPLEX(wp0_ea,0))) -> 1+0.00485699767258425i | AT32: =IMABS(AS32) -> 1.0000118 | AU32: =IMARGUMENT(AS32) -> 0.0048569595 | AV32: =IMSUM(COMPLEX(1,0),IMDIV(COMPLEX(0,2*PI()*N32),COMPLEX(wp1_ea,0))) -> 1+0.00485699767258425i | AW32: =IMABS(AV32) -> 1.0000118 | AX32: =IMARGUMENT(AV32) -> 0.0048569595 | AY32: =IMSUM(COMPLEX(1,0),IMDIV(COMPLEX(wz_ea,0),COMPLEX(0,2*PI()*N32))) -> 1-0.43806065349338i | AZ32: =IMABS(AY32) -> 1.0917404 | BA32: =IMARGUMENT(AY32) -> -0.41288093 | BB32: =IMDIV(IMPRODUCT(AR32,AY32), AS32) -> -1.94026155700776+0.861208449881495i | BC32: =20*LOG(IMABS(BB32)) -> 6.5381961 | BD32: =(180/PI())*IMARGUMENT(BB32) -> 156.06538 | BE32: =IMPRODUCT(AB32,BB32) -> 2.83781119964335+78.0686022129472i | BF32: =20*LOG(IMABS(BE32)) -> 37.855263 | BG32: =(180/PI())*IMARGUMENT(BE32) -> 87.918202 | BH32: =IMPRODUCT(AO32,BB32) -> -5.28024785337677+111.535249044889i | BI32: =20*LOG(IMABS(BH32)) -> 40.957965 | BJ32: =(180/PI())*IMARGUMENT(BH32) -> 92.710445 | BK32: =IF($B$19=0,BF32,BI32) -> 37.855263 | BL32: =IF($B$19=0,BG32,BJ32) -> 87.918202 | BN32: =SUM((BK33<0)*(BK32>0))*N32 -> 0 | BO32: =IF(BN32>0,BL32,0) -> 0
A33: Kd | B33: =2+((VOUT*((Vin_vari/VOUT)^2))/(IOUT_vari*Rcs*ACS))*((1/km)+(kex/(Vin_vari/VOUT))) -> 19.957811 | E33: Slope compensation parameters. Will change pole and DC gain equation | M33: 15 | N33: =10^(1+(M33/100)) -> 14.125375 | O33: =COMPLEX(adc,0) -> 99.7340425531915 | P33: =IMSUM(COMPLEX(1,0),IMDIV(COMPLEX(0,2*PI()*N33),COMPLEX(wp_lf,0))) -> 1+2.57759488820874i | Q33: =IMABS(P33) -> 2.7647776 | R33: =IMARGUMENT(P33) -> 1.2007134 | S33: =IMSUM(COMPLEX(1,0),IMDIV(COMPLEX(0,2*PI()*N33),COMPLEX(wz_esr,0))) -> 1+0.00484587838983242i | T33: =IMABS(S33) -> 1.0000117 | U33: =IMARGUMENT(S33) -> 0.0048458405 | V33: =IMSUB(COMPLEX(1,0),IMDIV(COMPLEX(0,2*PI()*N33),COMPLEX(wz_rhp,0))) -> 1-0.000500563262246426i | W33: =IMABS(V33) -> 1.0000001 | X33: =IMARGUMENT(V33) -> -0.00050056322 | Y33: =IMSUM(COMPLEX(1,0),IMDIV(COMPLEX(0,2*PI()*N33),COMPLEX(Q*(wsl/2),0)),IMDIV(IMPOWER(COMPLEX(0,2*PI()*N33),2),IMPOWER(COMPLEX(wsl/2,0),2))) -> 0.999999952774856+0.000773738448644231i | Z33: =IMABS(Y33) -> 1.0000003 | AA33: =IMARGUMENT(Y33) -> 0.00077373833 | AB33: =(IMDIV(IMPRODUCT(O33,S33,V33),IMPRODUCT(P33,Y33))) -> 13.1675541105809-33.5844127724233i | AC33: =20*LOG(IMABS(AB33)) -> 31.143765 | AD33: =(180/PI())*IMARGUMENT(AB33) -> -68.591176 | AE33: =COMPLEX($B$67,0) -> 118.329284003155 | AF33: =IMSUM(COMPLEX(1,0),IMDIV(COMPLEX(0,2*PI()*N33),COMPLEX(wp_lf_DCM,0))) -> 1+2.06207591056699i | AG33: =IMABS(AF33) -> 2.2917585 | AH33: =IMARGUMENT(AF33) -> 1.1192625 | AI33: =IMSUM(COMPLEX(1,0),IMDIV(COMPLEX(0,2*PI()*N33),COMPLEX(wz1_dcm,0))) -> 1+0.00484587838983242i | AJ33: =IMABS(AI33) -> 1.0000117 | AK33: =IMARGUMENT(AI33) -> 0.0048458405 | AL33: =IMSUB(COMPLEX(1,0),IMDIV(COMPLEX(0,2*PI()*N33),COMPLEX(wz2_dcm,0))) -> 1-0.0003375103667161i | AM33: =IMABS(AL33) -> 1.0000001 | AN33: =IMARGUMENT(AL33) -> -0.00033751035 | AO33: =(IMDIV(IMPRODUCT(AE33,AI33,AL33),IMPRODUCT(AF33))) -> 22.7391404763974-46.3563618431797i | AP33: =20*LOG(IMABS(AO33)) -> 34.25857 | AQ33: =(180/PI())*IMARGUMENT(AO33) -> -63.870709 | AR33: =COMPLEX(adc_ea,0) -> -1.94444444444444 | AS33: =IMSUM(COMPLEX(1,0), IMDIV(COMPLEX(0,2*PI()*N33), COMPLEX(wp0_ea,0))) -> 1+0.00497013168187939i | AT33: =IMABS(AS33) -> 1.0000124 | AU33: =IMARGUMENT(AS33) -> 0.0049700908 | AV33: =IMSUM(COMPLEX(1,0),IMDIV(COMPLEX(0,2*PI()*N33),COMPLEX(wp1_ea,0))) -> 1+0.00497013168187939i | AW33: =IMABS(AV33) -> 1.0000124 | AX33: =IMARGUMENT(AV33) -> 0.0049700908 | AY33: =IMSUM(COMPLEX(1,0),IMDIV(COMPLEX(wz_ea,0),COMPLEX(0,2*PI()*N33))) -> 1-0.428089175629957i | AZ33: =IMABS(AY33) -> 1.0877777 | BA33: =IMARGUMENT(AY33) -> -0.40448429 | BB33: =IMDIV(IMPRODUCT(AR33,AY33), AS33) -> -1.94025939991211+0.842038963995037i | BC33: =20*LOG(IMABS(BB33)) -> 6.5066066 | BD33: =(180/PI())*IMARGUMENT(BB33) -> 156.53999 | BE33: =IMPRODUCT(AB33,BB33) -> 2.73091350036707+76.2500661938448i | BF33: =20*LOG(IMABS(BE33)) -> 37.650372 | BG33: =(180/PI())*IMARGUMENT(BE33) -> 87.948815 | BH33: =IMPRODUCT(AO33,BB33) -> -5.08596815424189+109.09060910084i | BI33: =20*LOG(IMABS(BH33)) -> 40.765177 | BJ33: =(180/PI())*IMARGUMENT(BH33) -> 92.669283 | BK33: =IF($B$19=0,BF33,BI33) -> 37.650372 | BL33: =IF($B$19=0,BG33,BJ33) -> 87.948815 | BN33: =SUM((BK34<0)*(BK33>0))*N33 -> 0 | BO33: =IF(BN33>0,BL33,0) -> 0
M34: 16 | N34: =10^(1+(M34/100)) -> 14.454398 | O34: =COMPLEX(adc,0) -> 99.7340425531915 | P34: =IMSUM(COMPLEX(1,0),IMDIV(COMPLEX(0,2*PI()*N34),COMPLEX(wp_lf,0))) -> 1+2.63763478604269i | Q34: =IMABS(P34) -> 2.8208363 | R34: =IMARGUMENT(P34) -> 1.2084119 | S34: =IMSUM(COMPLEX(1,0),IMDIV(COMPLEX(0,2*PI()*N34),COMPLEX(wz_esr,0))) -> 1+0.00495875339776026i | T34: =IMABS(S34) -> 1.0000123 | U34: =IMARGUMENT(S34) -> 0.0049587128 | V34: =IMSUB(COMPLEX(1,0),IMDIV(COMPLEX(0,2*PI()*N34),COMPLEX(wz_rhp,0))) -> 1-0.000512222878449961i | W34: =IMABS(V34) -> 1.0000001 | X34: =IMARGUMENT(V34) -> -0.00051222283 | Y34: =IMSUM(COMPLEX(1,0),IMDIV(COMPLEX(0,2*PI()*N34),COMPLEX(Q*(wsl/2),0)),IMDIV(IMPOWER(COMPLEX(0,2*PI()*N34),2),IMPOWER(COMPLEX(wsl/2,0),2))) -> 0.999999950549204+0.000791761132355823i | Z34: =IMABS(Y34) -> 1.0000003 | AA34: =IMARGUMENT(Y34) -> 0.00079176101 | AB34: =(IMDIV(IMPRODUCT(O34,S34,V34),IMPRODUCT(P34,Y34))) -> 12.6548366497463-33.0143328484522i | AC34: =20*LOG(IMABS(AB34)) -> 30.969417 | AD34: =(180/PI())*IMARGUMENT(AB34) -> -69.027502 | AE34: =COMPLEX($B$67,0) -> 118.329284003155 | AF34: =IMSUM(COMPLEX(1,0),IMDIV(COMPLEX(0,2*PI()*N34),COMPLEX(wp_lf_DCM,0))) -> 1+2.11010782883415i | AG34: =IMABS(AF34) -> 2.3350707 | AH34: =IMARGUMENT(AF34) -> 1.1282382 | AI34: =IMSUM(COMPLEX(1,0),IMDIV(COMPLEX(0,2*PI()*N34),COMPLEX(wz1_dcm,0))) -> 1+0.00495875339776026i | AJ34: =IMABS(AI34) -> 1.0000123 | AK34: =IMARGUMENT(AI34) -> 0.0049587128 | AL34: =IMSUB(COMPLEX(1,0),IMDIV(COMPLEX(0,2*PI()*N34),COMPLEX(wz2_dcm,0))) -> 1-0.000345371993082693i | AM34: =IMABS(AL34) -> 1.0000001 | AN34: =IMARGUMENT(AL34) -> -0.00034537198 | AO34: =(IMDIV(IMPRODUCT(AE34,AI34,AL34),IMPRODUCT(AF34))) -> 21.9129177914994-45.6927212659931i | AP34: =20*LOG(IMABS(AO34)) -> 34.095951 | AQ34: =(180/PI())*IMARGUMENT(AO34) -> -64.378961 | AR34: =COMPLEX(adc_ea,0) -> -1.94444444444444 | AS34: =IMSUM(COMPLEX(1,0), IMDIV(COMPLEX(0,2*PI()*N34), COMPLEX(wp0_ea,0))) -> 1+0.00508590092077974i | AT34: =IMABS(AS34) -> 1.0000129 | AU34: =IMARGUMENT(AS34) -> 0.0050858571 | AV34: =IMSUM(COMPLEX(1,0),IMDIV(COMPLEX(0,2*PI()*N34),COMPLEX(wp1_ea,0))) -> 1+0.00508590092077974i | AW34: =IMABS(AV34) -> 1.0000129 | AX34: =IMARGUMENT(AV34) -> 0.0050858571 | AY34: =IMSUM(COMPLEX(1,0),IMDIV(COMPLEX(wz_ea,0),COMPLEX(0,2*PI()*N34))) -> 1-0.418344676313883i | AZ34: =IMABS(AY34) -> 1.0839798 | BA34: =IMARGUMENT(AY34) -> -0.39622005 | BB34: =IMDIV(IMPRODUCT(AR34,AY34), AS34) -> -1.94025714116082+0.823315937302216i | BC34: =20*LOG(IMABS(BB34)) -> 6.4762225 | BD34: =(180/PI())*IMARGUMENT(BB34) -> 157.00687 | BE34: =IMPRODUCT(AB34,BB34) -> 2.62758921363683+74.4752237675619i | BF34: =20*LOG(IMABS(BE34)) -> 37.445639 | BG34: =(180/PI())*IMARGUMENT(BE34) -> 87.979364 | BH34: =IMPRODUCT(AO34,BB34) -> -4.89714959162669+106.696883185949i | BI34: =20*LOG(IMABS(BH34)) -> 40.572174 | BJ34: =(180/PI())*IMARGUMENT(BH34) -> 92.627905 | BK34: =IF($B$19=0,BF34,BI34) -> 37.445639 | BL34: =IF($B$19=0,BG34,BJ34) -> 87.979364 | BN34: =SUM((BK35<0)*(BK34>0))*N34 -> 0 | BO34: =IF(BN34>0,BL34,0) -> 0
A35: ADC | B35: =Gcomp*((B14/VOUT)*(VOUT/IOUT_vari))/(2*Rcs*ACS) -> 99.734043 | C35: V/V | E35: DC gain of plant function with Vin_vari | M35: 17 | N35: =10^(1+(M35/100)) -> 14.791084 | O35: =COMPLEX(adc,0) -> 99.7340425531915 | P35: =IMSUM(COMPLEX(1,0),IMDIV(COMPLEX(0,2*PI()*N35),COMPLEX(wp_lf,0))) -> 1+2.69907319275343i | Q35: =IMABS(P35) -> 2.8783669 | R35: =IMARGUMENT(P35) -> 1.2159788 | S35: =IMSUM(COMPLEX(1,0),IMDIV(COMPLEX(0,2*PI()*N35),COMPLEX(wz_esr,0))) -> 1+0.00507425760237645i | T35: =IMABS(S35) -> 1.0000129 | U35: =IMARGUMENT(S35) -> 0.0050742141 | V35: =IMSUB(COMPLEX(1,0),IMDIV(COMPLEX(0,2*PI()*N35),COMPLEX(wz_rhp,0))) -> 1-0.000524154082003721i | W35: =IMABS(V35) -> 1.0000001 | X35: =IMARGUMENT(V35) -> -0.00052415403 | Y35: =IMSUM(COMPLEX(1,0),IMDIV(COMPLEX(0,2*PI()*N35),COMPLEX(Q*(wsl/2),0)),IMDIV(IMPOWER(COMPLEX(0,2*PI()*N35),2),IMPOWER(COMPLEX(wsl/2,0),2))) -> 0.99999994821866+0.000810203618299988i | Z35: =IMABS(Y35) -> 1.0000003 | AA35: =IMARGUMENT(Y35) -> 0.00081020348 | AB35: =(IMDIV(IMPRODUCT(O35,S35,V35),IMPRODUCT(P35,Y35))) -> 12.1594934360348-32.446367879316i | AC35: =20*LOG(IMABS(AB35)) -> 30.794056 | AD35: =(180/PI())*IMARGUMENT(AB35) -> -69.456178 | AE35: =COMPLEX($B$67,0) -> 118.329284003155 | AF35: =IMSUM(COMPLEX(1,0),IMDIV(COMPLEX(0,2*PI()*N35),COMPLEX(wp_lf_DCM,0))) -> 1+2.15925855420275i | AG35: =IMABS(AF35) -> 2.3795793 | AH35: =IMARGUMENT(AF35) -> 1.1370839 | AI35: =IMSUM(COMPLEX(1,0),IMDIV(COMPLEX(0,2*PI()*N35),COMPLEX(wz1_dcm,0))) -> 1+0.00507425760237645i | AJ35: =IMABS(AI35) -> 1.0000129 | AK35: =IMARGUMENT(AI35) -> 0.0050742141 | AL35: =IMSUB(COMPLEX(1,0),IMDIV(COMPLEX(0,2*PI()*N35),COMPLEX(wz2_dcm,0))) -> 1-0.000353416740251556i | AM35: =IMABS(AL35) -> 1.0000001 | AN35: =IMARGUMENT(AL35) -> -0.00035341673 | AO35: =(IMDIV(IMPRODUCT(AE35,AI35,AL35),IMPRODUCT(AF35))) -> 21.1104373325115-45.0242786740785i | AP35: =20*LOG(IMABS(AO35)) -> 33.931954 | AQ35: =(180/PI())*IMARGUMENT(AO35) -> -64.879629 | AR35: =COMPLEX(adc_ea,0) -> -1.94444444444444 | AS35: =IMSUM(COMPLEX(1,0), IMDIV(COMPLEX(0,2*PI()*N35), COMPLEX(wp0_ea,0))) -> 1+0.00520436677166814i | AT35: =IMABS(AS35) -> 1.0000135 | AU35: =IMARGUMENT(AS35) -> 0.0052043198 | AV35: =IMSUM(COMPLEX(1,0),IMDIV(COMPLEX(0,2*PI()*N35),COMPLEX(wp1_ea,0))) -> 1+0.00520436677166814i | AW35: =IMABS(AV35) -> 1.0000135 | AX35: =IMARGUMENT(AV35) -> 0.0052043198 | AY35: =IMSUM(COMPLEX(1,0),IMDIV(COMPLEX(wz_ea,0),COMPLEX(0,2*PI()*N35))) -> 1-0.408821988882638i | AZ35: =IMABS(AY35) -> 1.0803404 | BA35: =IMARGUMENT(AY35) -> -0.38808833 | BB35: =IMDIV(IMPRODUCT(AR35,AY35), AS35) -> -1.9402547759635+0.805029442534167i | BC35: =20*LOG(IMABS(BB35)) -> 6.4470056 | BD35: =(180/PI())*IMARGUMENT(BB35) -> 157.46599 | BE35: =IMPRODUCT(AB35,BB35) -> 2.52776623358091+72.7429704628205i | BF35: =20*LOG(IMABS(BE35)) -> 37.241062 | BG35: =(180/PI())*IMARGUMENT(BE35) -> 88.009813 | BH35: =IMPRODUCT(AO35,BB35) -> -4.71375689558721+104.353095329137i | BI35: =20*LOG(IMABS(BH35)) -> 40.378959 | BJ35: =(180/PI())*IMARGUMENT(BH35) -> 92.586362 | BK35: =IF($B$19=0,BF35,BI35) -> 37.241062 | BL35: =IF($B$19=0,BG35,BJ35) -> 88.009813 | BN35: =SUM((BK36<0)*(BK35>0))*N35 -> 0 | BO35: =IF(BN35>0,BL35,0) -> 0
A36: wp_lf | B36: =w_p_low -> 34.432234 | C36: Rad/s | E36: same as usual not dependant on Vin | M36: 18 | N36: =10^(1+(M36/100)) -> 15.135612 | O36: =COMPLEX(adc,0) -> 99.7340425531915 | P36: =IMSUM(COMPLEX(1,0),IMDIV(COMPLEX(0,2*PI()*N36),COMPLEX(wp_lf,0))) -> 1+2.76194268379743i | Q36: =IMABS(P36) -> 2.9374015 | R36: =IMARGUMENT(P36) -> 1.2234148 | S36: =IMSUM(COMPLEX(1,0),IMDIV(COMPLEX(0,2*PI()*N36),COMPLEX(wz_esr,0))) -> 1+0.00519245224553917i | T36: =IMABS(S36) -> 1.0000135 | U36: =IMARGUMENT(S36) -> 0.0051924056 | V36: =IMSUB(COMPLEX(1,0),IMDIV(COMPLEX(0,2*PI()*N36),COMPLEX(wz_rhp,0))) -> 1-0.00053636319898976i | W36: =IMABS(V36) -> 1.0000001 | X36: =IMARGUMENT(V36) -> -0.00053636315 | Y36: =IMSUM(COMPLEX(1,0),IMDIV(COMPLEX(0,2*PI()*N36),COMPLEX(Q*(wsl/2),0)),IMDIV(IMPOWER(COMPLEX(0,2*PI()*N36),2),IMPOWER(COMPLEX(wsl/2,0),2))) -> 0.99999994577828+0.00082907568492689i | Z36: =IMABS(Y36) -> 1.0000003 | AA36: =IMARGUMENT(Y36) -> 0.00082907554 | AB36: =(IMDIV(IMPRODUCT(O36,S36,V36),IMPRODUCT(P36,Y36))) -> 11.6811549099833-31.8809973049039i | AC36: =20*LOG(IMABS(AB36)) -> 30.617718 | AD36: =(180/PI())*IMARGUMENT(AB36) -> -69.877233 | AE36: =COMPLEX($B$67,0) -> 118.329284003155 | AF36: =IMSUM(COMPLEX(1,0),IMDIV(COMPLEX(0,2*PI()*N36),COMPLEX(wp_lf_DCM,0))) -> 1+2.20955414703794i | AG36: =IMABS(AF36) -> 2.4253102 | AH36: =IMARGUMENT(AF36) -> 1.1457989 | AI36: =IMSUM(COMPLEX(1,0),IMDIV(COMPLEX(0,2*PI()*N36),COMPLEX(wz1_dcm,0))) -> 1+0.00519245224553917i | AJ36: =IMABS(AI36) -> 1.0000135 | AK36: =IMARGUMENT(AI36) -> 0.0051924056 | AL36: =IMSUB(COMPLEX(1,0),IMDIV(COMPLEX(0,2*PI()*N36),COMPLEX(wz2_dcm,0))) -> 1-0.000361648873654125i | AM36: =IMABS(AL36) -> 1.0000001 | AN36: =IMARGUMENT(AL36) -> -0.00036164886 | AO36: =(IMDIV(IMPRODUCT(AE36,AI36,AL36),IMPRODUCT(AF36))) -> 20.3315046238011-44.3519348528856i | AP36: =20*LOG(IMABS(AO36)) -> 33.766617 | AQ36: =(180/PI())*IMARGUMENT(AO36) -> -65.372662 | AR36: =COMPLEX(adc_ea,0) -> -1.94444444444444 | AS36: =IMSUM(COMPLEX(1,0), IMDIV(COMPLEX(0,2*PI()*N36), COMPLEX(wp0_ea,0))) -> 1+0.00532559204670682i | AT36: =IMABS(AS36) -> 1.0000142 | AU36: =IMARGUMENT(AS36) -> 0.0053255417 | AV36: =IMSUM(COMPLEX(1,0),IMDIV(COMPLEX(0,2*PI()*N36),COMPLEX(wp1_ea,0))) -> 1+0.00532559204670682i | AW36: =IMABS(AV36) -> 1.0000142 | AX36: =IMARGUMENT(AV36) -> 0.0053255417 | AY36: =IMSUM(COMPLEX(1,0),IMDIV(COMPLEX(wz_ea,0),COMPLEX(0,2*PI()*N36))) -> 1-0.399516064281296i | AZ36: =IMABS(AY36) -> 1.0768533 | BA36: =IMARGUMENT(AY36) -> -0.38008912 | BB36: =IMDIV(IMPRODUCT(AR36,AY36), AS36) -> -1.94025229930404+0.787169783871852i | BC36: =20*LOG(IMABS(BB36)) -> 6.4189187 | BD36: =(180/PI())*IMARGUMENT(BB36) -> 157.91737 | BE36: =IMPRODUCT(AB36,BB36) -> 2.43137008549852+71.0522305108109i | BF36: =20*LOG(IMABS(BE36)) -> 37.036637 | BG36: =(180/PI())*IMARGUMENT(BE36) -> 88.040133 | BH36: =IMPRODUCT(AO36,BB36) -> -4.53574562219639+102.058289677401i | BI36: =20*LOG(IMABS(BH36)) -> 40.185535 | BJ36: =(180/PI())*IMARGUMENT(BH36) -> 92.544704 | BK36: =IF($B$19=0,BF36,BI36) -> 37.036637 | BL36: =IF($B$19=0,BG36,BJ36) -> 88.040133 | BN36: =SUM((BK37<0)*(BK36>0))*N36 -> 0 | BO36: =IF(BN36>0,BL36,0) -> 0
B37: =wp_lf/(2*PI()) -> 5.4800603 | C37: Hz | E37: Low Frequency Pole | M37: 19 | N37: =10^(1+(M37/100)) -> 15.488166 | O37: =COMPLEX(adc,0) -> 99.7340425531915 | P37: =IMSUM(COMPLEX(1,0),IMDIV(COMPLEX(0,2*PI()*N37),COMPLEX(wp_lf,0))) -> 1+2.82627659341101i | Q37: =IMABS(P37) -> 2.9979725 | R37: =IMARGUMENT(P37) -> 1.2307203 | S37: =IMSUM(COMPLEX(1,0),IMDIV(COMPLEX(0,2*PI()*N37),COMPLEX(wz_esr,0))) -> 1+0.0053133999956127i | T37: =IMABS(S37) -> 1.0000141 | U37: =IMARGUMENT(S37) -> 0.00531335 | V37: =IMSUB(COMPLEX(1,0),IMDIV(COMPLEX(0,2*PI()*N37),COMPLEX(wz_rhp,0))) -> 1-0.000548856702843509i | W37: =IMABS(V37) -> 1.0000002 | X37: =IMARGUMENT(V37) -> -0.00054885665 | Y37: =IMSUM(COMPLEX(1,0),IMDIV(COMPLEX(0,2*PI()*N37),COMPLEX(Q*(wsl/2),0)),IMDIV(IMPOWER(COMPLEX(0,2*PI()*N37),2),IMPOWER(COMPLEX(wsl/2,0),2))) -> 0.99999994322289+0.000848387338456053i | Z37: =IMABS(Y37) -> 1.0000003 | AA37: =IMARGUMENT(Y37) -> 0.00084838718 | AB37: =(IMDIV(IMPRODUCT(O37,S37,V37),IMPRODUCT(P37,Y37))) -> 11.2194416288841-31.3186717127687i | AC37: =20*LOG(IMABS(AB37)) -> 30.440437 | AD37: =(180/PI())*IMARGUMENT(AB37) -> -70.290703 | AE37: =COMPLEX($B$67,0) -> 118.329284003155 | AF37: =IMSUM(COMPLEX(1,0),IMDIV(COMPLEX(0,2*PI()*N37),COMPLEX(wp_lf_DCM,0))) -> 1+2.26102127472881i | AG37: =IMABS(AF37) -> 2.4722899 | AH37: =IMARGUMENT(AF37) -> 1.1543825 | AI37: =IMSUM(COMPLEX(1,0),IMDIV(COMPLEX(0,2*PI()*N37),COMPLEX(wz1_dcm,0))) -> 1+0.0053133999956127i | AJ37: =IMABS(AI37) -> 1.0000141 | AK37: =IMARGUMENT(AI37) -> 0.00531335 | AL37: =IMSUB(COMPLEX(1,0),IMDIV(COMPLEX(0,2*PI()*N37),COMPLEX(wz2_dcm,0))) -> 1-0.000370072758076494i | AM37: =IMABS(AL37) -> 1.0000001 | AN37: =IMARGUMENT(AL37) -> -0.00037007274 | AO37: =(IMDIV(IMPRODUCT(AE37,AI37,AL37),IMPRODUCT(AF37))) -> 19.5758879793611-43.6765588204324i | AP37: =20*LOG(IMABS(AO37)) -> 33.59998 | AQ37: =(180/PI())*IMARGUMENT(AO37) -> -65.858018 | AR37: =COMPLEX(adc_ea,0) -> -1.94444444444444 | AS37: =IMSUM(COMPLEX(1,0), IMDIV(COMPLEX(0,2*PI()*N37), COMPLEX(wp0_ea,0))) -> 1+0.00544964102114121i | AT37: =IMABS(AS37) -> 1.0000148 | AU37: =IMARGUMENT(AS37) -> 0.0054495871 | AV37: =IMSUM(COMPLEX(1,0),IMDIV(COMPLEX(0,2*PI()*N37),COMPLEX(wp1_ea,0))) -> 1+0.00544964102114121i | AW37: =IMABS(AV37) -> 1.0000148 | AX37: =IMARGUMENT(AV37) -> 0.0054495871 | AY37: =IMSUM(COMPLEX(1,0),IMDIV(COMPLEX(wz_ea,0),COMPLEX(0,2*PI()*N37))) -> 1-0.390421968385457i | AZ37: =IMABS(AY37) -> 1.0735126 | BA37: =IMARGUMENT(AY37) -> -0.37222228 | BB37: =IMDIV(IMPRODUCT(AR37,AY37), AS37) -> -1.94024970593+0.769727491804858i | BC37: =20*LOG(IMABS(BB37)) -> 6.3919248 | BD37: =(180/PI())*IMARGUMENT(BB37) -> 158.361 | BE37: =IMPRODUCT(AB37,BB37) -> 2.33832430298803+69.4019562452696i | BF37: =20*LOG(IMABS(BE37)) -> 36.832361 | BG37: =(180/PI())*IMARGUMENT(BE37) -> 88.070293 | BH37: =IMPRODUCT(AO37,BB37) -> -4.36306282375521+99.8115295615848i | BI37: =20*LOG(IMABS(BH37)) -> 39.991905 | BJ37: =(180/PI())*IMARGUMENT(BH37) -> 92.502978 | BK37: =IF($B$19=0,BF37,BI37) -> 36.832361 | BL37: =IF($B$19=0,BG37,BJ37) -> 88.070293 | BN37: =SUM((BK38<0)*(BK37>0))*N37 -> 0 | BO37: =IF(BN37>0,BL37,0) -> 0
M38: 20 | N38: =10^(1+(M38/100)) -> 15.848932 | O38: =COMPLEX(adc,0) -> 99.7340425531915 | P38: =IMSUM(COMPLEX(1,0),IMDIV(COMPLEX(0,2*PI()*N38),COMPLEX(wp_lf,0))) -> 1+2.89210903228461i | Q38: =IMABS(P38) -> 3.0601135 | R38: =IMARGUMENT(P38) -> 1.2378962 | S38: =IMSUM(COMPLEX(1,0),IMDIV(COMPLEX(0,2*PI()*N38),COMPLEX(wz_esr,0))) -> 1+0.00543716498069506i | T38: =IMABS(S38) -> 1.0000148 | U38: =IMARGUMENT(S38) -> 0.0054371114 | V38: =IMSUB(COMPLEX(1,0),IMDIV(COMPLEX(0,2*PI()*N38),COMPLEX(wz_rhp,0))) -> 1-0.000561641217786083i | W38: =IMABS(V38) -> 1.0000002 | X38: =IMARGUMENT(V38) -> -0.00056164116 | Y38: =IMSUM(COMPLEX(1,0),IMDIV(COMPLEX(0,2*PI()*N38),COMPLEX(Q*(wsl/2),0)),IMDIV(IMPOWER(COMPLEX(0,2*PI()*N38),2),IMPOWER(COMPLEX(wsl/2,0),2))) -> 0.999999940547067+0.000868148818181799i | Z38: =IMABS(Y38) -> 1.0000003 | AA38: =IMARGUMENT(Y38) -> 0.00086814865 | AB38: =(IMDIV(IMPRODUCT(O38,S38,V38),IMPRODUCT(P38,Y38))) -> 10.7739660380417-30.7598133358998i | AC38: =20*LOG(IMABS(AB38)) -> 30.262245 | AD38: =(180/PI())*IMARGUMENT(AB38) -> -70.696628 | AE38: =COMPLEX($B$67,0) -> 118.329284003155 | AF38: =IMSUM(COMPLEX(1,0),IMDIV(COMPLEX(0,2*PI()*N38),COMPLEX(wp_lf_DCM,0))) -> 1+2.31368722582769i | AG38: =IMABS(AF38) -> 2.5205453 | AH38: =IMARGUMENT(AF38) -> 1.1628342 | AI38: =IMSUM(COMPLEX(1,0),IMDIV(COMPLEX(0,2*PI()*N38),COMPLEX(wz1_dcm,0))) -> 1+0.00543716498069506i | AJ38: =IMABS(AI38) -> 1.0000148 | AK38: =IMARGUMENT(AI38) -> 0.0054371114 | AL38: =IMSUB(COMPLEX(1,0),IMDIV(COMPLEX(0,2*PI()*N38),COMPLEX(wz2_dcm,0))) -> 1-0.000378692859973687i | AM38: =IMABS(AL38) -> 1.0000001 | AN38: =IMARGUMENT(AL38) -> -0.00037869284 | AO38: =(IMDIV(IMPRODUCT(AE38,AI38,AL38),IMPRODUCT(AF38))) -> 18.8433214240767-42.9989866868567i | AP38: =20*LOG(IMABS(AO38)) -> 33.432084 | AQ38: =(180/PI())*IMARGUMENT(AO38) -> -66.335665 | AR38: =COMPLEX(adc_ea,0) -> -1.94444444444444 | AS38: =IMSUM(COMPLEX(1,0), IMDIV(COMPLEX(0,2*PI()*N38), COMPLEX(wp0_ea,0))) -> 1+0.00557657946737953i | AT38: =IMABS(AS38) -> 1.0000155 | AU38: =IMARGUMENT(AS38) -> 0.0055765217 | AV38: =IMSUM(COMPLEX(1,0),IMDIV(COMPLEX(0,2*PI()*N38),COMPLEX(wp1_ea,0))) -> 1+0.00557657946737953i | AW38: =IMABS(AV38) -> 1.0000155 | AX38: =IMARGUMENT(AV38) -> 0.0055765217 | AY38: =IMSUM(COMPLEX(1,0),IMDIV(COMPLEX(wz_ea,0),COMPLEX(0,2*PI()*N38))) -> 1-0.381534879385101i | AZ38: =IMABS(AY38) -> 1.0703125 | BA38: =IMARGUMENT(AY38) -> -0.36448753 | BB38: =IMDIV(IMPRODUCT(AR38,AY38), AS38) -> -1.94024699034143+0.752693318110122i | BC38: =20*LOG(IMABS(BB38)) -> 6.3659877 | BD38: =(180/PI())*IMARGUMENT(BB38) -> 158.79689 | BE38: =IMPRODUCT(AB38,BB38) -> 2.24855078489522+67.7911274948231i | BF38: =20*LOG(IMABS(BE38)) -> 36.628232 | BG38: =(180/PI())*IMARGUMENT(BE38) -> 88.100264 | BH38: =IMPRODUCT(AO38,BB38) -> -4.19564771639787+97.6118966338088i | BI38: =20*LOG(IMABS(BH38)) -> 39.798071 | BJ38: =(180/PI())*IMARGUMENT(BH38) -> 92.461227 | BK38: =IF($B$19=0,BF38,BI38) -> 36.628232 | BL38: =IF($B$19=0,BG38,BJ38) -> 88.100264 | BN38: =SUM((BK39<0)*(BK38>0))*N38 -> 0 | BO38: =IF(BN38>0,BL38,0) -> 0
A39: wz_rhp | B39: =((VOUT/IOUT_vari)*((Vin_vari/VOUT)^2))/Lm -> 177304.96 | C39: Rad/s | M39: 21 | N39: =10^(1+(M39/100)) -> 16.218101 | O39: =COMPLEX(adc,0) -> 99.7340425531915 | P39: =IMSUM(COMPLEX(1,0),IMDIV(COMPLEX(0,2*PI()*N39),COMPLEX(wp_lf,0))) -> 1+2.95947490564871i | Q39: =IMABS(P39) -> 3.1238585 | R39: =IMARGUMENT(P39) -> 1.2449434 | S39: =IMSUM(COMPLEX(1,0),IMDIV(COMPLEX(0,2*PI()*N39),COMPLEX(wz_esr,0))) -> 1+0.00556381282261957i | T39: =IMABS(S39) -> 1.0000155 | U39: =IMARGUMENT(S39) -> 0.0055637554 | V39: =IMSUB(COMPLEX(1,0),IMDIV(COMPLEX(0,2*PI()*N39),COMPLEX(wz_rhp,0))) -> 1-0.000574723522336526i | W39: =IMABS(V39) -> 1.0000002 | X39: =IMARGUMENT(V39) -> -0.00057472346 | Y39: =IMSUM(COMPLEX(1,0),IMDIV(COMPLEX(0,2*PI()*N39),COMPLEX(Q*(wsl/2),0)),IMDIV(IMPOWER(COMPLEX(0,2*PI()*N39),2),IMPOWER(COMPLEX(wsl/2,0),2))) -> 0.999999937745136+0.000888370601902251i | Z39: =IMABS(Y39) -> 1.0000003 | AA39: =IMARGUMENT(Y39) -> 0.00088837042 | AB39: =(IMDIV(IMPRODUCT(O39,S39,V39),IMPRODUCT(P39,Y39))) -> 10.3443341399713-30.2048166358653i | AC39: =20*LOG(IMABS(AB39)) -> 30.083174 | AD39: =(180/PI())*IMARGUMENT(AB39) -> -71.095053 | AE39: =COMPLEX($B$67,0) -> 118.329284003155 | AF39: =IMSUM(COMPLEX(1,0),IMDIV(COMPLEX(0,2*PI()*N39),COMPLEX(wp_lf_DCM,0))) -> 1+2.36757992451896i | AG39: =IMABS(AF39) -> 2.570104 | AH39: =IMARGUMENT(AF39) -> 1.1711535 | AI39: =IMSUM(COMPLEX(1,0),IMDIV(COMPLEX(0,2*PI()*N39),COMPLEX(wz1_dcm,0))) -> 1+0.00556381282261957i | AJ39: =IMABS(AI39) -> 1.0000155 | AK39: =IMARGUMENT(AI39) -> 0.0055637554 | AL39: =IMSUB(COMPLEX(1,0),IMDIV(COMPLEX(0,2*PI()*N39),COMPLEX(wz2_dcm,0))) -> 1-0.00038751374983783i | AM39: =IMABS(AL39) -> 1.0000001 | AN39: =IMARGUMENT(AL39) -> -0.00038751373 | AO39: =(IMDIV(IMPRODUCT(AE39,AI39,AL39),IMPRODUCT(AF39))) -> 18.1335075841916-42.320020754376i | AP39: =20*LOG(IMABS(AO39)) -> 33.262966 | AQ39: =(180/PI())*IMARGUMENT(AO39) -> -66.805578 | AR39: =COMPLEX(adc_ea,0) -> -1.94444444444444 | AS39: =IMSUM(COMPLEX(1,0), IMDIV(COMPLEX(0,2*PI()*N39), COMPLEX(wp0_ea,0))) -> 1+0.0057064746898662i | AT39: =IMABS(AS39) -> 1.0000163 | AU39: =IMARGUMENT(AS39) -> 0.0057064127 | AV39: =IMSUM(COMPLEX(1,0),IMDIV(COMPLEX(0,2*PI()*N39),COMPLEX(wp1_ea,0))) -> 1+0.0057064746898662i | AW39: =IMABS(AV39) -> 1.0000163 | AX39: =IMARGUMENT(AV39) -> 0.0057064127 | AY39: =IMSUM(COMPLEX(1,0),IMDIV(COMPLEX(wz_ea,0),COMPLEX(0,2*PI()*N39))) -> 1-0.372850085228008i | AZ39: =IMABS(AY39) -> 1.0672475 | BA39: =IMARGUMENT(AY39) -> -0.35688448 | BB39: =IMDIV(IMPRODUCT(AR39,AY39), AS39) -> -1.94024414677927+0.736058230947993i | BC39: =20*LOG(IMABS(BB39)) -> 6.3410721 | BD39: =(180/PI())*IMARGUMENT(BB39) -> 159.22507 | BE39: =IMPRODUCT(AB39,BB39) -> 2.16197013169523+66.218750969681i | BF39: =20*LOG(IMABS(BE39)) -> 36.424247 | BG39: =(180/PI())*IMARGUMENT(BE39) -> 88.130019 | BH39: =IMPRODUCT(AO39,BB39) -> -4.0334323406569+95.4584900735574i | BI39: =20*LOG(IMABS(BH39)) -> 39.604038 | BJ39: =(180/PI())*IMARGUMENT(BH39) -> 92.419494 | BK39: =IF($B$19=0,BF39,BI39) -> 36.424247 | BL39: =IF($B$19=0,BG39,BJ39) -> 88.130019 | BN39: =SUM((BK40<0)*(BK39>0))*N39 -> 0 | BO39: =IF(BN39>0,BL39,0) -> 0
B40: =wz_rhp/(2*PI()) -> 28218.962 | C40: Hz | E40: RHPz zero of boost converter with Vin_vari | M40: 22 | N40: =10^(1+(M40/100)) -> 16.595869 | O40: =COMPLEX(adc,0) -> 99.7340425531915 | P40: =IMSUM(COMPLEX(1,0),IMDIV(COMPLEX(0,2*PI()*N40),COMPLEX(wp_lf,0))) -> 1+3.02840993178108i | Q40: =IMABS(P40) -> 3.1892423 | R40: =IMARGUMENT(P40) -> 1.2518627 | S40: =IMSUM(COMPLEX(1,0),IMDIV(COMPLEX(0,2*PI()*N40),COMPLEX(wz_esr,0))) -> 1+0.00569341067174842i | T40: =IMABS(S40) -> 1.0000162 | U40: =IMARGUMENT(S40) -> 0.0056933492 | V40: =IMSUB(COMPLEX(1,0),IMDIV(COMPLEX(0,2*PI()*N40),COMPLEX(wz_rhp,0))) -> 1-0.000588110552905881i | W40: =IMABS(V40) -> 1.0000002 | X40: =IMARGUMENT(V40) -> -0.00058811049 | Y40: =IMSUM(COMPLEX(1,0),IMDIV(COMPLEX(0,2*PI()*N40),COMPLEX(Q*(wsl/2),0)),IMDIV(IMPOWER(COMPLEX(0,2*PI()*N40),2),IMPOWER(COMPLEX(wsl/2,0),2))) -> 0.999999934811155+0.000909063411474812i | Z40: =IMABS(Y40) -> 1.0000003 | AA40: =IMARGUMENT(Y40) -> 0.00090906322 | AB40: =(IMDIV(IMPRODUCT(O40,S40,V40),IMPRODUCT(P40,Y40))) -> 9.93014706063124-29.6540489601846i | AC40: =20*LOG(IMABS(AB40)) -> 29.903257 | AD40: =(180/PI())*IMARGUMENT(AB40) -> -71.486029 | AE40: =COMPLEX($B$67,0) -> 118.329284003155 | AF40: =IMSUM(COMPLEX(1,0),IMDIV(COMPLEX(0,2*PI()*N40),COMPLEX(wp_lf_DCM,0))) -> 1+2.42272794542486i | AG40: =IMABS(AF40) -> 2.6209942 | AH40: =IMARGUMENT(AF40) -> 1.1793404 | AI40: =IMSUM(COMPLEX(1,0),IMDIV(COMPLEX(0,2*PI()*N40),COMPLEX(wz1_dcm,0))) -> 1+0.00569341067174842i | AJ40: =IMABS(AI40) -> 1.0000162 | AK40: =IMARGUMENT(AI40) -> 0.0056933492 | AL40: =IMSUB(COMPLEX(1,0),IMDIV(COMPLEX(0,2*PI()*N40),COMPLEX(wz2_dcm,0))) -> 1-0.00039654010462149i | AM40: =IMABS(AL40) -> 1.0000001 | AN40: =IMARGUMENT(AL40) -> -0.00039654008 | AO40: =(IMDIV(IMPRODUCT(AE40,AI40,AL40),IMPRODUCT(AF40))) -> 17.4461205296167-41.6404288446873i | AP40: =20*LOG(IMABS(AO40)) -> 33.092665 | AQ40: =(180/PI())*IMARGUMENT(AO40) -> -67.267743 | AR40: =COMPLEX(adc_ea,0) -> -1.94444444444444 | AS40: =IMSUM(COMPLEX(1,0), IMDIV(COMPLEX(0,2*PI()*N40), COMPLEX(wp0_ea,0))) -> 1+0.00583939556076759i | AT40: =IMABS(AS40) -> 1.000017 | AU40: =IMARGUMENT(AS40) -> 0.0058393292 | AV40: =IMSUM(COMPLEX(1,0),IMDIV(COMPLEX(0,2*PI()*N40),COMPLEX(wp1_ea,0))) -> 1+0.00583939556076759i | AW40: =IMABS(AV40) -> 1.000017 | AX40: =IMARGUMENT(AV40) -> 0.0058393292 | AY40: =IMSUM(COMPLEX(1,0),IMDIV(COMPLEX(wz_ea,0),COMPLEX(0,2*PI()*N40))) -> 1-0.364362981121354i | AZ40: =IMABS(AY40) -> 1.0643122 | BA40: =IMARGUMENT(AY40) -> -0.34941261 | BB40: =IMDIV(IMPRODUCT(AR40,AY40), AS40) -> -1.94024116921308+0.719813410072952i | BC40: =20*LOG(IMABS(BB40)) -> 6.3171432 | BD40: =(180/PI())*IMARGUMENT(BB40) -> 159.64556 | BE40: =IMPRODUCT(AB40,BB40) -> 2.07850196112377+64.6838596446494i | BF40: =20*LOG(IMABS(BE40)) -> 36.2204 | BG40: =(180/PI())*IMARGUMENT(BE40) -> 88.159534 | BH40: =IMPRODUCT(AO40,BB40) -> -3.87634221102135+93.3504258591173i | BI40: =20*LOG(IMABS(BH40)) -> 39.409808 | BJ40: =(180/PI())*IMARGUMENT(BH40) -> 92.37782 | BK40: =IF($B$19=0,BF40,BI40) -> 36.2204 | BL40: =IF($B$19=0,BG40,BJ40) -> 88.159534 | BN40: =SUM((BK41<0)*(BK40>0))*N40 -> 0 | BO40: =IF(BN40>0,BL40,0) -> 0
M41: 23 | N41: =10^(1+(M41/100)) -> 16.982437 | O41: =COMPLEX(adc,0) -> 99.7340425531915 | P41: =IMSUM(COMPLEX(1,0),IMDIV(COMPLEX(0,2*PI()*N41),COMPLEX(wp_lf,0))) -> 1+3.098950660945i | Q41: =IMABS(P41) -> 3.2563008 | R41: =IMARGUMENT(P41) -> 1.2586553 | S41: =IMSUM(COMPLEX(1,0),IMDIV(COMPLEX(0,2*PI()*N41),COMPLEX(wz_esr,0))) -> 1+0.0058260272425766i | T41: =IMABS(S41) -> 1.000017 | U41: =IMARGUMENT(S41) -> 0.0058259613 | V41: =IMSUB(COMPLEX(1,0),IMDIV(COMPLEX(0,2*PI()*N41),COMPLEX(wz_rhp,0))) -> 1-0.000601809407474945i | W41: =IMABS(V41) -> 1.0000002 | X41: =IMARGUMENT(V41) -> -0.00060180933 | Y41: =IMSUM(COMPLEX(1,0),IMDIV(COMPLEX(0,2*PI()*N41),COMPLEX(Q*(wsl/2),0)),IMDIV(IMPOWER(COMPLEX(0,2*PI()*N41),2),IMPOWER(COMPLEX(wsl/2,0),2))) -> 0.999999931738899+0.000930238218501008i | Z41: =IMABS(Y41) -> 1.0000004 | AA41: =IMARGUMENT(Y41) -> 0.00093023801 | AB41: =(IMDIV(IMPRODUCT(O41,S41,V41),IMPRODUCT(P41,Y41))) -> 9.53100251269214-29.1078512633476i | AC41: =20*LOG(IMABS(AB41)) -> 29.722524 | AD41: =(180/PI())*IMARGUMENT(AB41) -> -71.869612 | AE41: =COMPLEX($B$67,0) -> 118.329284003155 | AF41: =IMSUM(COMPLEX(1,0),IMDIV(COMPLEX(0,2*PI()*N41),COMPLEX(wp_lf_DCM,0))) -> 1+2.479160528756i | AG41: =IMABS(AF41) -> 2.6732446 | AH41: =IMARGUMENT(AF41) -> 1.1873947 | AI41: =IMSUM(COMPLEX(1,0),IMDIV(COMPLEX(0,2*PI()*N41),COMPLEX(wz1_dcm,0))) -> 1+0.0058260272425766i | AJ41: =IMABS(AI41) -> 1.000017 | AK41: =IMARGUMENT(AI41) -> 0.0058259613 | AL41: =IMSUB(COMPLEX(1,0),IMDIV(COMPLEX(0,2*PI()*N41),COMPLEX(wz2_dcm,0))) -> 1-0.000405776710217447i | AM41: =IMABS(AL41) -> 1.0000001 | AN41: =IMARGUMENT(AL41) -> -0.00040577669 | AO41: =(IMDIV(IMPRODUCT(AE41,AI41,AL41),IMPRODUCT(AF41))) -> 16.7808085527499-40.9609438399769i | AP41: =20*LOG(IMABS(AO41)) -> 32.921219 | AQ41: =(180/PI())*IMARGUMENT(AO41) -> -67.722154 | AR41: =COMPLEX(adc_ea,0) -> -1.94444444444444 | AS41: =IMSUM(COMPLEX(1,0), IMDIV(COMPLEX(0,2*PI()*N41), COMPLEX(wp0_ea,0))) -> 1+0.0059754125564888i | AT41: =IMABS(AS41) -> 1.0000179 | AU41: =IMARGUMENT(AS41) -> 0.0059753414 | AV41: =IMSUM(COMPLEX(1,0),IMDIV(COMPLEX(0,2*PI()*N41),COMPLEX(wp1_ea,0))) -> 1+0.0059754125564888i | AW41: =IMABS(AV41) -> 1.0000179 | AX41: =IMARGUMENT(AV41) -> 0.0059753414 | AY41: =IMSUM(COMPLEX(1,0),IMDIV(COMPLEX(wz_ea,0),COMPLEX(0,2*PI()*N41))) -> 1-0.356069067090208i | AZ41: =IMABS(AY41) -> 1.0615014 | BA41: =IMARGUMENT(AY41) -> -0.3420713 | BB41: =IMDIV(IMPRODUCT(AR41,AY41), AS41) -> -1.94023805132831+0.703950242156555i | BC41: =20*LOG(IMABS(BB41)) -> 6.294167 | BD41: =(180/PI())*IMARGUMENT(BB41) -> 160.0584 | BE41: =IMPRODUCT(AB41,BB41) -> 1.99806520305951+63.1855121403562i | BF41: =20*LOG(IMABS(BE41)) -> 36.016691 | BG41: =(180/PI())*IMARGUMENT(BE41) -> 88.188785 | BH41: =IMPRODUCT(AO41,BB41) -> -3.72429695098812+91.2868361009362i | BI41: =20*LOG(IMABS(BH41)) -> 39.215386 | BJ41: =(180/PI())*IMARGUMENT(BH41) -> 92.336243 | BK41: =IF($B$19=0,BF41,BI41) -> 36.016691 | BL41: =IF($B$19=0,BG41,BJ41) -> 88.188785 | BN41: =SUM((BK42<0)*(BK41>0))*N41 -> 0 | BO41: =IF(BN41>0,BL41,0) -> 0
A42: wz_esr | B42: =1/(COUT*RESR) -> 18315.018 | C42: Rad/s | M42: 24 | N42: =10^(1+(M42/100)) -> 17.378008 | O42: =COMPLEX(adc,0) -> 99.7340425531915 | P42: =IMSUM(COMPLEX(1,0),IMDIV(COMPLEX(0,2*PI()*N42),COMPLEX(wp_lf,0))) -> 1+3.17113449476884i | Q42: =IMABS(P42) -> 3.3250705 | R42: =IMARGUMENT(P42) -> 1.2653221 | S42: =IMSUM(COMPLEX(1,0),IMDIV(COMPLEX(0,2*PI()*N42),COMPLEX(wz_esr,0))) -> 1+0.00596173285016542i | T42: =IMABS(S42) -> 1.0000178 | U42: =IMARGUMENT(S42) -> 0.0059616622 | V42: =IMSUB(COMPLEX(1,0),IMDIV(COMPLEX(0,2*PI()*N42),COMPLEX(wz_rhp,0))) -> 1-0.000615827349357747i | W42: =IMABS(V42) -> 1.0000002 | X42: =IMARGUMENT(V42) -> -0.00061582727 | Y42: =IMSUM(COMPLEX(1,0),IMDIV(COMPLEX(0,2*PI()*N42),COMPLEX(Q*(wsl/2),0)),IMDIV(IMPOWER(COMPLEX(0,2*PI()*N42),2),IMPOWER(COMPLEX(wsl/2,0),2))) -> 0.999999928521853+0.000951906250143818i | Z42: =IMABS(Y42) -> 1.0000004 | AA42: =IMARGUMENT(Y42) -> 0.00095190603 | AB42: =(IMDIV(IMPRODUCT(O42,S42,V42),IMPRODUCT(P42,Y42))) -> 9.14649615664811-28.5665388814803i | AC42: =20*LOG(IMABS(AB42)) -> 29.541004 | AD42: =(180/PI())*IMARGUMENT(AB42) -> -72.245861 | AE42: =COMPLEX($B$67,0) -> 118.329284003155 | AF42: =IMSUM(COMPLEX(1,0),IMDIV(COMPLEX(0,2*PI()*N42),COMPLEX(wp_lf_DCM,0))) -> 1+2.53690759581507i | AG42: =IMABS(AF42) -> 2.7268847 | AH42: =IMARGUMENT(AF42) -> 1.1953166 | AI42: =IMSUM(COMPLEX(1,0),IMDIV(COMPLEX(0,2*PI()*N42),COMPLEX(wz1_dcm,0))) -> 1+0.00596173285016542i | AJ42: =IMABS(AI42) -> 1.0000178 | AK42: =IMARGUMENT(AI42) -> 0.0059616622 | AL42: =IMSUB(COMPLEX(1,0),IMDIV(COMPLEX(0,2*PI()*N42),COMPLEX(wz2_dcm,0))) -> 1-0.000415228463996253i | AM42: =IMABS(AL42) -> 1.0000001 | AN42: =IMARGUMENT(AL42) -> -0.00041522844 | AO42: =(IMDIV(IMPRODUCT(AE42,AI42,AL42),IMPRODUCT(AF42))) -> 16.1371968704507-40.2822634230737i | AP42: =20*LOG(IMABS(AO42)) -> 32.748664 | AQ42: =(180/PI())*IMARGUMENT(AO42) -> -68.168811 | AR42: =COMPLEX(adc_ea,0) -> -1.94444444444444 | AS42: =IMSUM(COMPLEX(1,0), IMDIV(COMPLEX(0,2*PI()*N42), COMPLEX(wp0_ea,0))) -> 1+0.00611459779504144i | AT42: =IMABS(AS42) -> 1.0000187 | AU42: =IMARGUMENT(AS42) -> 0.0061145216 | AV42: =IMSUM(COMPLEX(1,0),IMDIV(COMPLEX(0,2*PI()*N42),COMPLEX(wp1_ea,0))) -> 1+0.00611459779504144i | AW42: =IMABS(AV42) -> 1.0000187 | AX42: =IMARGUMENT(AV42) -> 0.0061145216 | AY42: =IMSUM(COMPLEX(1,0),IMDIV(COMPLEX(wz_ea,0),COMPLEX(0,2*PI()*N42))) -> 1-0.347963945591561i | AZ42: =IMABS(AY42) -> 1.0588101 | BA42: =IMARGUMENT(AY42) -> -0.33485981 | BB42: =IMDIV(IMPRODUCT(AR42,AY42), AS42) -> -1.94023478651291+0.688460316219953i | BC42: =20*LOG(IMABS(BB42)) -> 6.2721102 | BD42: =(180/PI())*IMARGUMENT(BB42) -> 160.46361 | BE42: =IMPRODUCT(AB42,BB42) -> 1.92057837381821+61.7227921044322i | BF42: =20*LOG(IMABS(BE42)) -> 35.813114 | BG42: =(180/PI())*IMARGUMENT(BE42) -> 88.217748 | BH42: =IMPRODUCT(AO42,BB42) -> -3.57721091055095+89.2668684332583i | BI42: =20*LOG(IMABS(BH42)) -> 39.020775 | BJ42: =(180/PI())*IMARGUMENT(BH42) -> 92.294799 | BK42: =IF($B$19=0,BF42,BI42) -> 35.813114 | BL42: =IF($B$19=0,BG42,BJ42) -> 88.217748 | BN42: =SUM((BK43<0)*(BK42>0))*N42 -> 0 | BO42: =IF(BN42>0,BL42,0) -> 0
B43: =B42/(2*PI()) -> 2914.9257 | C43: Hz | E43: ESR zero cause by output capacitance | M43: 25 | N43: =10^(1+(M43/100)) -> 17.782794 | O43: =COMPLEX(adc,0) -> 99.7340425531915 | P43: =IMSUM(COMPLEX(1,0),IMDIV(COMPLEX(0,2*PI()*N43),COMPLEX(wp_lf,0))) -> 1+3.24499970607671i | Q43: =IMABS(P43) -> 3.3955888 | R43: =IMARGUMENT(P43) -> 1.2718643 | S43: =IMSUM(COMPLEX(1,0),IMDIV(COMPLEX(0,2*PI()*N43),COMPLEX(wz_esr,0))) -> 1+0.00610059944742421i | T43: =IMABS(S43) -> 1.0000186 | U43: =IMARGUMENT(S43) -> 0.0061005238 | V43: =IMSUB(COMPLEX(1,0),IMDIV(COMPLEX(0,2*PI()*N43),COMPLEX(wz_rhp,0))) -> 1-0.000630171811052611i | W43: =IMABS(V43) -> 1.0000002 | X43: =IMARGUMENT(V43) -> -0.00063017173 | Y43: =IMSUM(COMPLEX(1,0),IMDIV(COMPLEX(0,2*PI()*N43),COMPLEX(Q*(wsl/2),0)),IMDIV(IMPOWER(COMPLEX(0,2*PI()*N43),2),IMPOWER(COMPLEX(wsl/2,0),2))) -> 0.999999925153191+0.000974078995080414i | Z43: =IMABS(Y43) -> 1.0000004 | AA43: =IMARGUMENT(Y43) -> 0.00097407876 | AB43: =(IMDIV(IMPRODUCT(O43,S43,V43),IMPRODUCT(P43,Y43))) -> 8.77622286128569-28.0304023512915i | AC43: =20*LOG(IMABS(AB43)) -> 29.358727 | AD43: =(180/PI())*IMARGUMENT(AB43) -> -72.614841 | AE43: =COMPLEX($B$67,0) -> 118.329284003155 | AF43: =IMSUM(COMPLEX(1,0),IMDIV(COMPLEX(0,2*PI()*N43),COMPLEX(wp_lf_DCM,0))) -> 1+2.59599976486137i | AG43: =IMABS(AF43) -> 2.7819444 | AH43: =IMARGUMENT(AF43) -> 1.2031063 | AI43: =IMSUM(COMPLEX(1,0),IMDIV(COMPLEX(0,2*PI()*N43),COMPLEX(wz1_dcm,0))) -> 1+0.00610059944742421i | AJ43: =IMABS(AI43) -> 1.0000186 | AK43: =IMARGUMENT(AI43) -> 0.0061005238 | AL43: =IMSUB(COMPLEX(1,0),IMDIV(COMPLEX(0,2*PI()*N43),COMPLEX(wz2_dcm,0))) -> 1-0.000424900377402865i | AM43: =IMABS(AL43) -> 1.0000001 | AN43: =IMARGUMENT(AL43) -> -0.00042490035 | AO43: =(IMDIV(IMPRODUCT(AE43,AI43,AL43),IMPRODUCT(AF43))) -> 15.5148902377644-39.6050500019133i | AP43: =20*LOG(IMABS(AO43)) -> 32.575038 | AQ43: =(180/PI())*IMARGUMENT(AO43) -> -68.607724 | AR43: =COMPLEX(adc_ea,0) -> -1.94444444444444 | AS43: =IMSUM(COMPLEX(1,0), IMDIV(COMPLEX(0,2*PI()*N43), COMPLEX(wp0_ea,0))) -> 1+0.00625702507428123i | AT43: =IMABS(AS43) -> 1.0000196 | AU43: =IMARGUMENT(AS43) -> 0.0062569434 | AV43: =IMSUM(COMPLEX(1,0),IMDIV(COMPLEX(0,2*PI()*N43),COMPLEX(wp1_ea,0))) -> 1+0.00625702507428123i | AW43: =IMABS(AV43) -> 1.0000196 | AX43: =IMARGUMENT(AV43) -> 0.0062569434 | AY43: =IMSUM(COMPLEX(1,0),IMDIV(COMPLEX(wz_ea,0),COMPLEX(0,2*PI()*N43))) -> 1-0.340043319182718i | AZ43: =IMABS(AY43) -> 1.0562336 | BA43: =IMARGUMENT(AY43) -> -0.32777734 | BB43: =IMDIV(IMPRODUCT(AR43,AY43), AS43) -> -1.94023136784327+0.673335419173785i | BC43: =20*LOG(IMABS(BB43)) -> 6.2509405 | BD43: =(180/PI())*IMARGUMENT(BB43) -> 160.86125 | BE43: =IMPRODUCT(AB43,BB43) -> 1.845959830167+60.2948075943099i | BF43: =20*LOG(IMABS(BE43)) -> 35.609667 | BG43: =(180/PI())*IMARGUMENT(BE43) -> 88.246405 | BH43: =IMPRODUCT(AO43,BB43) -> -3.43499376351881+87.2896854603937i | BI43: =20*LOG(IMABS(BH43)) -> 38.825979 | BJ43: =(180/PI())*IMARGUMENT(BH43) -> 92.253521 | BK43: =IF($B$19=0,BF43,BI43) -> 35.609667 | BL43: =IF($B$19=0,BG43,BJ43) -> 88.246405 | BN43: =SUM((BK44<0)*(BK43>0))*N43 -> 0 | BO43: =IF(BN43>0,BL43,0) -> 0
