Workbook
Name ACS: Calculations!$B$84
Name adc: Control_Loop_Tables!$B$35
Name adc_ea: Control_Loop_Tables!$B$59
Name ADC_VINmin: Calculations!$B$136
Name arCss: Calculations!$B$183
Name aRUV_lower: Calculations!$B$191
Name aRUV_upper: Calculations!$B$190
Name aRUV_upper_SEL: Calculations!$B$192
Name aTSSmax: Calculations!$B$184
Name Ccomp: Calculations!$B$170
Name Ccomp_S: Calculations!$B$179
Name CHF: Calculations!$B$171
Name CHF_S: Calculations!$B$180
Name COUT: Calculations!$B$115
Name DC_VIN_var_DCM: Control_Loop_Tables!$B$65
Name EFF_est: Calculations!$B$8
Name EFF_IOUT: 'Plot Management'!$B$3
Name Eff_Plot_image: INDIRECT('Plot Management'!$A$1)
Name EFF_VIN: 'Plot Management'!$B$5
Name eta: Calculations!$B$7
Name Fco_calc: Calculations!$B$167
Name Fcross: Calculations!$B$168
Name fp_lf_VINmin: Calculations!$B$139
Name fsw: Calculations!$B$6
Name fz_esr_VINmin: Calculations!$B$142
Name fz_rhp_VINmin: Calculations!$B$145
Name Gcomp: Control_Loop_Tables!$B$28
Name gfs: Calculations!$B$209
Name Graph_Text: Calculations!$B$21
Name IHYS: Calculations!$G$184
Name IHYSmin: Calculations!$G$186
Name IOUT: Calculations!$B$10
Name IOUT_np: Calculations!$B$12
Name IOUT_vari: Control_Loop_Tables!$B$15
Name IQ: EC_Table!$D$6
Name Isl: Control_Loop_Tables!$B$26
Name ISS: Calculations!$G$183
Name k_slope_selected: Calculations!$B$98
Name Kd: Control_Loop_Tables!$B$33
Name Kd_VINmin: Calculations!$B$132
Name kex: Control_Loop_Tables!$B$31
Name Kex_VINmin: Calculations!$B$130
Name km: Control_Loop_Tables!$B$32
Name Km_VINmin: Calculations!$B$131
Name Lm: Calculations!$B$42
Name LO: Calculations!$B$187
Name M_LIMIT: Calculations!$B$82
Name np: Calculations!$B$11
Name pTSSmin: Calculations!$B$182
Name Q: Control_Loop_Tables!$B$49
Name Q_VINmin: Calculations!$B$153
Name Qg_tot: Calculations!$B$204
Name Qg_tot_HS: Calculations!$B$221
Name Qgd: Calculations!$B$205
Name Qgs: Calculations!$B$206
Name Qrr: Calculations!$B$229
Name R_RT: Calculations!$B$24
Name R_sl: Control_Loop_Tables!$B$24
Name Rcomp: Calculations!$B$169
Name Rcomp_S: Calculations!$B$178

Sheet LM5122_Quickstart
E1: LM5122 Boost Controller Design Tool
A3: About | F3: = Input Box | J3: http://www.ti.com/product/lm5122 | O3: TERMS OF USE
A6: Specifications
H7: Minimum Input Supply Voltage (VIN_MIN) | I7: 18 | J7: V
H8: Typical Input Supply Voltage (VIN_Typ) | I8: 20 | J8: V
H9: Maximum Input Supply Voltage (VIN_MAX) | I9: 60 | J9: V
H10: Target Output Voltage (VOUT) | I10: 60 | J10: V
H11: Maximum Total Load Current (IOUT) | I11: 7.52 | J11: A
H12: Number of Phase (nP) | I12: 2
H13: Light load operation switching mode | I13: FPWM
H14: Output Power Per Phase, POUT | I14: =I10*I15 -> 225.6 | J14: W
H15: Maximum Load Current per Phase (IOUT/nP) | I15: =Calculations!B12 -> 3.76 | J15: A
H16: Total Output Power, POUT | I16: =I15*I12*I10 -> 451.2 | J16: W
H17: Switching Freqeuncy | I17: 130 | J17: kHz
A19: Timing Resistor
H20: Calculate RT resistor (RRT) | I20: =Calculations!B24/1000 -> 69.230769 | J20: kΩ
H21: Maximum SYNCIN Freqeuncy | I21: =Calculations!B26/1000 -> 182 | J21: kHz
H22: Minimum SYNCIN Freqeuncy | I22: =Calculations!B27/1000 -> 104 | J22: kHz
A24: Inductor Selection
H25: Selected Ripple Ratio (RR) | I25: 30 | J25: %
H26: Calculated Inductor Value (LCALC) | I26: =Calculations!B41*(10^6) -> 28.490028 | J26: uH
H27: Selected Inductor Value (LM) | I27: 10 | J27: uH
H28: Selected Inductor (RLM) | I28: 2.05 | J28: mΩ
H29: Average Inductor Current at VIN_MIN (ILAVG_VIN_MIN) | I29: =Calculations!B45 -> 13.333333 | J29: A
H30: Peak Inductor Current at VIN_MIN (ILPEAK_VIN_MIN) | I30: =Calculations!B57 -> 18.179487 | J30: A
H32: Average Inductor Current at VIN_TYP (ILAVG_VIN_TYP) | I32: =Calculations!B46 -> 12 | J32: A
H33: Peak Inductor Current at VIN_TYP (ILPEAK_VIN_TYP) | I33: =Calculations!B58 -> 17.128205 | J33: A
H35: Average Inductor Current at VIN_MAX (ILAVG_VIN_MAX) | I35: =Calculations!B47 -> 4 | J35: A
H36: Peak Inductor Current at VIN_MAX (ILPEAK_VIN_MAX) | I36: =Calculations!B59 -> 4 | J36: A
A38: Current Limit Calcualtions
H39: Selected margin for current limit (MLIMIT) | I39: 25 | J39: %
H40: Target Peak Current Limit (ILPEAK_LIMIT_TARGET) | I40: =Calculations!B83 -> 22.724359 | J40: A
H41: Calculated Current Sense Resistor (RCS_CALC) | I41: =Calculations!B86*1000 -> 3.3004231 | J41: mΩ
H42: Selected Current Sense Resistor (RCS) | I42: 2 | J42: mΩ
H43: Limited Peak Inductor Current (ILPEAK_LIMIT) | I43: =Calculations!B89 -> 37.5 | J43: A
H45: Total maximum ouput current at peak current limit (IOUT_LIMIT_VIN_MIN) | I45: =Calculations!B93 -> 19.592308 | J45: A
H46: Total maximum ouput current at peak current limit (IOUT_LIMIT_VIN_TYP) | I46: =Calculations!B94 -> 21.581197 | J46: A
H47: Total maximum ouput current at peak current limit (IOUT_LIMIT_VIN_MAX) | I47: =Calculations!B95 -> 75 | J47: A
A49: Slope Compenstation
H50: Selected K Factor (KSLOPE) | I50: 1
...

Sheet Licenses
A5: Version Number | B5: 1.1.0
A35: Version History
A36: Version | B36: Change List Description
A37: 1.0.0 | B37: Initial Release
A38: 1.1.0 | B38: Adjusted compensation network calculation

Sheet Eff_vs_IOUT
A1: EXCEL Variables Names/Calculations
R5: Operation Variables | V5: Duty Cycle | Y5: Inductor | AE5: Low-Side MOSFET | AJ5: High-Side MOSFET Losses | AP5: Other Losses | AU5: Total Losses
R6: VOUT | S6: IOUT | T6: VIN | U6: IIN | V6: DCM/CCM | W6: DC | X6: DC_off | Y6: dIL | Z6: ILPEAK | AA6: ILRMS | AB6: PLac (W) | AC6: PL_DCR (W) | AD6: PL_tot (W) | AE6: ISWAVG (A) | AF6: ISWRMS | AG6: PQ_COND (W) | AH6: PQ_SW (W) | AI6: PQ_tot (W) | AJ6: IDAVG (A) | AK6: IHSRMS | AL6: PD_COND (W) | AM6: PD_SW (W) | AN6: Dead Time losses | AO6: PHS_tot (W) | AP6: PRCS (W) | AQ6: PL_DCR (W) | AR6: PL_CORE (W) | AS6: PG_drv (W) | AT6: PIQ (W) | AU6: PTOTAL (W) | AV6: POUT (W) | AW6: Eff
Q7: 0 | R7: =VOUT -> 60 | S7: =Q7*$O$12 -> 0 | T7: =Vin_vari -> 20 | U7: =(R7*S7)/(T7*EFF_est) -> 0 | V7: =IF(Calculations!$B$17=3,2,IF((S7*R7/T7)<((T7*(1-(T7/R7)))/(2*Lm*fsw)),1,2)) -> 2 | W7: =CHOOSE(V7,SQRT((2*S7*Lm*fsw*(R7-T7))/((T7)^2)),1-(T7/R7)) -> 0.66666667 | X7: =CHOOSE(V7,(Lm*Z7*fsw)/(R7-T7),1-W7) -> 0.33333333 | Y7: =(T7*W7)/(Lm*fsw) -> 10.25641 | Z7: =CHOOSE(V7,Y7,U7+(0.5*Y7)) -> 5.1282051 | AA7: =CHOOSE(V7,Z7*SQRT((W7+X7)/3),SQRT((U7^2)+((Y7^2)/12))) -> 2.9607706 | AB7: 0 | AC7: =(AA7^2)*Rdcr -> 0.017970633 | AD7: =AB7+AC7 -> 0.017970633 | AE7: =U7*W7 -> 0 | AF7: =CHOOSE(V7,Z7*SQRT(W7/3),SQRT(W7*((Z7^2)+((Y7^2)/3)-(Z7*Y7)))) -> 2.4174591 | AG7: =(AF7^2)*RDS_on -> 0.0058441084 | AH7: =((R7*U7)/2)*fsw*(tr_sw+tf_sw) -> 0 | AI7: =AG7+AH7 -> 0.0058441084 | AJ7: =X7*U7 -> 0 | AK7: =CHOOSE(V7,Z7*SQRT(X7/3),SQRT(X7*((Z7^2)+((Y7^2)/3)-(Y7*Z7)))) -> 1.7094017 | AL7: =(AK7^2)*RDS_on_HS -> 0.0029220542 | AM7: =CHOOSE(V7,0,(R7+Vd_rect)*Qrr*fsw) -> 0.260832 | AN7: =Vd_rect*t_dead*fsw*Z7 -> 0.042666667 | AO7: =AL7+AM7+AN7 -> 0.30642072 | AP7: =(AA7^2)*Rcs -> 0.017532325 | AQ7: =Rdcr*AA7^2 -> 0.017970633 | AR7: =ABS(7.759*10^-3*fsw^0.9458*(0.00787*Y7)^2.304) -> 1.6152231 | AS7: =(Qg_tot+Qg_tot_HS)*VCC*fsw -> 0.01976 | AT7: =IQ*T7 -> 0.08 | AU7: =AP7+AO7+AI7+AD7+AS7+AT7+AQ7+AR7 -> 2.0807215 | AV7: =R7*S7 -> 0 | AW7: =(AV7/(AV7+AU7))*100 -> 0
M8: =fsw -> 130000 | Q8: 1 | R8: =VOUT -> 60 | S8: =Q8*$O$12 -> 0.050133333 | T8: =Vin_vari -> 20 | U8: =(R8*S8)/(T8*EFF_est) -> 0.1504 | V8: =IF(Calculations!$B$17=3,2,IF((S8*R8/T8)<((T8*(1-(T8/R8)))/(2*Lm*fsw)),1,2)) -> 2 | W8: =CHOOSE(V8,SQRT((2*S8*Lm*fsw*(R8-T8))/((T8)^2)),1-(T8/R8)) -> 0.66666667 | X8: =CHOOSE(V8,(Lm*Z8*fsw)/(R8-T8),1-W8) -> 0.33333333 | Y8: =(T8*W8)/(Lm*fsw) -> 10.25641 | Z8: =CHOOSE(V8,Y8,U8+(0.5*Y8)) -> 5.2786051 | AA8: =CHOOSE(V8,Z8*SQRT((W8+X8)/3),SQRT((U8^2)+((Y8^2)/12))) -> 2.9645881 | AB8: 0 | AC8: =(AA8^2)*Rdcr -> 0.018017005 | AD8: =AB8+AC8 -> 0.018017005 | AE8: =U8*W8 -> 0.10026667 | AF8: =CHOOSE(V8,Z8*SQRT(W8/3),SQRT(W8*((Z8^2)+((Y8^2)/3)-(Z8*Y8)))) -> 2.4205761 | AG8: =(AF8^2)*RDS_on -> 0.0058591885 | AH8: =((R8*U8)/2)*fsw*(tr_sw+tf_sw) -> 0.009405215 | AI8: =AG8+AH8 -> 0.015264404 | AJ8: =X8*U8 -> 0.050133333 | AK8: =CHOOSE(V8,Z8*SQRT(X8/3),SQRT(X8*((Z8^2)+((Y8^2)/3)-(Y8*Z8)))) -> 1.7116058 | AL8: =(AK8^2)*RDS_on_HS -> 0.0029295943 | AM8: =CHOOSE(V8,(R8+Vd_rect)*Qrr*fsw,(R8+Vd_rect)*Qrr*fsw) -> 0.260832 | AN8: =Vd_rect*t_dead*fsw*Z8 -> 0.043917995 | AO8: =AL8+AM8+AN8 -> 0.30767959 | AP8: =(AA8^2)*Rcs -> 0.017577566 | AQ8: =Rdcr*AA8^2 -> 0.018017005 | AR8: =ABS(7.759*10^-3*fsw^0.9458*(0.00787*Y8)^2.304) -> 1.6152231 | AS8: =(Qg_tot+Qg_tot_HS)*VCC*fsw -> 0.01976 | AT8: =IQ*T8 -> 0.08 | AU8: =AP8+AO8+AI8+AD8+AS8+AT8+AQ8+AR8 -> 2.0915387 | AV8: =R8*S8 -> 3.008 | AW8: =(AV8/(AV8+AU8))*100 -> 58.985728
N9: VIN_VAR | O9: =Vin_vari -> 20 | P9: V | Q9: 2 | R9: =VOUT -> 60 | S9: =Q9*$O$12 -> 0.10026667 | T9: =Vin_vari -> 20 | U9: =(R9*S9)/(T9*EFF_est) -> 0.3008 | V9: =IF(Calculations!$B$17=3,2,IF((S9*R9/T9)<((T9*(1-(T9/R9)))/(2*Lm*fsw)),1,2)) -> 2 | W9: =CHOOSE(V9,SQRT((2*S9*Lm*fsw*(R9-T9))/((T9)^2)),1-(T9/R9)) -> 0.66666667 | X9: =CHOOSE(V9,(Lm*Z9*fsw)/(R9-T9),1-W9) -> 0.33333333 | Y9: =(T9*W9)/(Lm*fsw) -> 10.25641 | Z9: =CHOOSE(V9,Y9,U9+(0.5*Y9)) -> 5.4290051 | AA9: =CHOOSE(V9,Z9*SQRT((W9+X9)/3),SQRT((U9^2)+((Y9^2)/12))) -> 2.9760113 | AB9: 0 | AC9: =(AA9^2)*Rdcr -> 0.018156119 | AD9: =AB9+AC9 -> 0.018156119 | AE9: =U9*W9 -> 0.20053333 | AF9: =CHOOSE(V9,Z9*SQRT(W9/3),SQRT(W9*((Z9^2)+((Y9^2)/3)-(Z9*Y9)))) -> 2.4299031 | AG9: =(AF9^2)*RDS_on -> 0.0059044288 | AH9: =((R9*U9)/2)*fsw*(tr_sw+tf_sw) -> 0.01881043 | AI9: =AG9+AH9 -> 0.024714859 | AJ9: =X9*U9 -> 0.10026667 | AK9: =CHOOSE(V9,Z9*SQRT(X9/3),SQRT(X9*((Z9^2)+((Y9^2)/3)-(Y9*Z9)))) -> 1.7182009 | AL9: =(AK9^2)*RDS_on_HS -> 0.0029522144 | AM9: =CHOOSE(V9,(R9+Vd_rect)*Qrr*fsw,(R9+Vd_rect)*Qrr*fsw) -> 0.260832 | AN9: =Vd_rect*t_dead*fsw*Z9 -> 0.045169323 | AO9: =AL9+AM9+AN9 -> 0.30895354 | AP9: =(AA9^2)*Rcs -> 0.017713287 | AQ9: =Rdcr*AA9^2 -> 0.018156119 | AR9: =ABS(7.759*10^-3*fsw^0.9458*(0.00787*Y9)^2.304) -> 1.6152231 | AS9: =(Qg_tot+Qg_tot_HS)*VCC*fsw -> 0.01976 | AT9: =IQ*T9 -> 0.08 | AU9: =AP9+AO9+AI9+AD9+AS9+AT9+AQ9+AR9 -> 2.102677 | AV9: =R9*S9 -> 6.016 | AW9: =(AV9/(AV9+AU9))*100 -> 74.100743
Q10: 3 | R10: =VOUT -> 60 | S10: =Q10*$O$12 -> 0.1504 | T10: =Vin_vari -> 20 | U10: =(R10*S10)/(T10*EFF_est) -> 0.4512 | V10: =IF(Calculations!$B$17=3,2,IF((S10*R10/T10)<((T10*(1-(T10/R10)))/(2*Lm*fsw)),1,2)) -> 2 | W10: =CHOOSE(V10,SQRT((2*S10*Lm*fsw*(R10-T10))/((T10)^2)),1-(T10/R10)) -> 0.66666667 | X10: =CHOOSE(V10,(Lm*Z10*fsw)/(R10-T10),1-W10) -> 0.33333333 | Y10: =(T10*W10)/(Lm*fsw) -> 10.25641 | Z10: =CHOOSE(V10,Y10,U10+(0.5*Y10)) -> 5.5794051 | AA10: =CHOOSE(V10,Z10*SQRT((W10+X10)/3),SQRT((U10^2)+((Y10^2)/12))) -> 2.9949531 | AB10: 0 | AC10: =(AA10^2)*Rdcr -> 0.018387975 | AD10: =AB10+AC10 -> 0.018387975 | AE10: =U10*W10 -> 0.3008 | AF10: =CHOOSE(V10,Z10*SQRT(W10/3),SQRT(W10*((Z10^2)+((Y10^2)/3)-(Z10*Y10)))) -> 2.445369 | AG10: =(AF10^2)*RDS_on -> 0.0059798294 | AH10: =((R10*U10)/2)*fsw*(tr_sw+tf_sw) -> 0.028215645 | AI10: =AG10+AH10 -> 0.034195474 | AJ10: =X10*U10 -> 0.1504 | AK10: =CHOOSE(V10,Z10*SQRT(X10/3),SQRT(X10*((Z10^2)+((Y10^2)/3)-(Y10*Z10)))) -> 1.729137 | AL10: =(AK10^2)*RDS_on_HS -> 0.0029899147 | AM10: =CHOOSE(V10,(R10+Vd_rect)*Qrr*fsw,(R10+Vd_rect)*Qrr*fsw) -> 0.260832 | AN10: =Vd_rect*t_dead*fsw*Z10 -> 0.046420651 | AO10: =AL10+AM10+AN10 -> 0.31024257 | AP10: =(AA10^2)*Rcs -> 0.017939488 | AQ10: =Rdcr*AA10^2 -> 0.018387975 | AR10: =ABS(7.759*10^-3*fsw^0.9458*(0.00787*Y10)^2.304) -> 1.6152231 | AS10: =(Qg_tot+Qg_tot_HS)*VCC*fsw -> 0.01976 | AT10: =IQ*T10 -> 0.08 | AU10: =AP10+AO10+AI10+AD10+AS10+AT10+AQ10+AR10 -> 2.1141366 | AV10: =R10*S10 -> 9.024 | AW10: =(AV10/(AV10+AU10))*100 -> 81.018938
N11: Steps | O11: 150 | Q11: 4 | R11: =VOUT -> 60 | S11: =Q11*$O$12 -> 0.20053333 | T11: =Vin_vari -> 20 | U11: =(R11*S11)/(T11*EFF_est) -> 0.6016 | V11: =IF(Calculations!$B$17=3,2,IF((S11*R11/T11)<((T11*(1-(T11/R11)))/(2*Lm*fsw)),1,2)) -> 2 | W11: =CHOOSE(V11,SQRT((2*S11*Lm*fsw*(R11-T11))/((T11)^2)),1-(T11/R11)) -> 0.66666667 | X11: =CHOOSE(V11,(Lm*Z11*fsw)/(R11-T11),1-W11) -> 0.33333333 | Y11: =(T11*W11)/(Lm*fsw) -> 10.25641 | Z11: =CHOOSE(V11,Y11,U11+(0.5*Y11)) -> 5.7298051 | AA11: =CHOOSE(V11,Z11*SQRT((W11+X11)/3),SQRT((U11^2)+((Y11^2)/12))) -> 3.0212721 | AB11: 0 | AC11: =(AA11^2)*Rdcr -> 0.018712575 | AD11: =AB11+AC11 -> 0.018712575 | AE11: =U11*W11 -> 0.40106667 | AF11: =CHOOSE(V11,Z11*SQRT(W11/3),SQRT(W11*((Z11^2)+((Y11^2)/3)-(Z11*Y11)))) -> 2.4668583 | AG11: =(AF11^2)*RDS_on -> 0.0060853901 | AH11: =((R11*U11)/2)*fsw*(tr_sw+tf_sw) -> 0.03762086 | AI11: =AG11+AH11 -> 0.04370625 | AJ11: =X11*U11 -> 0.20053333 | AK11: =CHOOSE(V11,Z11*SQRT(X11/3),SQRT(X11*((Z11^2)+((Y11^2)/3)-(Y11*Z11)))) -> 1.7443323 | AL11: =(AK11^2)*RDS_on_HS -> 0.0030426951 | AM11: =CHOOSE(V11,(R11+Vd_rect)*Qrr*fsw,(R11+Vd_rect)*Qrr*fsw) -> 0.260832 | AN11: =Vd_rect*t_dead*fsw*Z11 -> 0.047671979 | AO11: =AL11+AM11+AN11 -> 0.31154667 | AP11: =(AA11^2)*Rcs -> 0.01825617 | AQ11: =Rdcr*AA11^2 -> 0.018712575 | AR11: =ABS(7.759*10^-3*fsw^0.9458*(0.00787*Y11)^2.304) -> 1.6152231 | AS11: =(Qg_tot+Qg_tot_HS)*VCC*fsw -> 0.01976 | AT11: =IQ*T11 -> 0.08 | AU11: =AP11+AO11+AI11+AD11+AS11+AT11+AQ11+AR11 -> 2.1259174 | AV11: =R11*S11 -> 12.032 | AW11: =(AV11/(AV11+AU11))*100 -> 84.984251
N12: Step size | O12: =IOUT/(O11) -> 0.050133333 | Q12: 5 | R12: =VOUT -> 60 | S12: =Q12*$O$12 -> 0.25066667 | T12: =Vin_vari -> 20 | U12: =(R12*S12)/(T12*EFF_est) -> 0.752 | V12: =IF(Calculations!$B$17=3,2,IF((S12*R12/T12)<((T12*(1-(T12/R12)))/(2*Lm*fsw)),1,2)) -> 2 | W12: =CHOOSE(V12,SQRT((2*S12*Lm*fsw*(R12-T12))/((T12)^2)),1-(T12/R12)) -> 0.66666667 | X12: =CHOOSE(V12,(Lm*Z12*fsw)/(R12-T12),1-W12) -> 0.33333333 | Y12: =(T12*W12)/(Lm*fsw) -> 10.25641 | Z12: =CHOOSE(V12,Y12,U12+(0.5*Y12)) -> 5.8802051 | AA12: =CHOOSE(V12,Z12*SQRT((W12+X12)/3),SQRT((U12^2)+((Y12^2)/12))) -> 3.0547777 | AB12: 0 | AC12: =(AA12^2)*Rdcr -> 0.019129917 | AD12: =AB12+AC12 -> 0.019129917 | AE12: =U12*W12 -> 0.50133333 | AF12: =CHOOSE(V12,Z12*SQRT(W12/3),SQRT(W12*((Z12^2)+((Y12^2)/3)-(Z12*Y12)))) -> 2.4942155 | AG12: =(AF12^2)*RDS_on -> 0.0062211111 | AH12: =((R12*U12)/2)*fsw*(tr_sw+tf_sw) -> 0.047026075 | AI12: =AG12+AH12 -> 0.053247186 | AJ12: =X12*U12 -> 0.25066667 | AK12: =CHOOSE(V12,Z12*SQRT(X12/3),SQRT(X12*((Z12^2)+((Y12^2)/3)-(Y12*Z12)))) -> 1.7636767 | AL12: =(AK12^2)*RDS_on_HS -> 0.0031105555 | AM12: =CHOOSE(V12,(R12+Vd_rect)*Qrr*fsw,(R12+Vd_rect)*Qrr*fsw) -> 0.260832 | AN12: =Vd_rect*t_dead*fsw*Z12 -> 0.048923307 | AO12: =AL12+AM12+AN12 -> 0.31286586 | AP12: =(AA12^2)*Rcs -> 0.018663333 | AQ12: =Rdcr*AA12^2 -> 0.019129917 | AR12: =ABS(7.759*10^-3*fsw^0.9458*(0.00787*Y12)^2.304) -> 1.6152231 | AS12: =(Qg_tot+Qg_tot_HS)*VCC*fsw -> 0.01976 | AT12: =IQ*T12 -> 0.08 | AU12: =AP12+AO12+AI12+AD12+AS12+AT12+AQ12+AR12 -> 2.1380193 | AV12: =R12*S12 -> 15.04 | AW12: =(AV12/(AV12+AU12))*100 -> 87.553749
Q13: 6 | R13: =VOUT -> 60 | S13: =Q13*$O$12 -> 0.3008 | T13: =Vin_vari -> 20 | U13: =(R13*S13)/(T13*EFF_est) -> 0.9024 | V13: =IF(Calculations!$B$17=3,2,IF((S13*R13/T13)<((T13*(1-(T13/R13)))/(2*Lm*fsw)),1,2)) -> 2 | W13: =CHOOSE(V13,SQRT((2*S13*Lm*fsw*(R13-T13))/((T13)^2)),1-(T13/R13)) -> 0.66666667 | X13: =CHOOSE(V13,(Lm*Z13*fsw)/(R13-T13),1-W13) -> 0.33333333 | Y13: =(T13*W13)/(Lm*fsw) -> 10.25641 | Z13: =CHOOSE(V13,Y13,U13+(0.5*Y13)) -> 6.0306051 | AA13: =CHOOSE(V13,Z13*SQRT((W13+X13)/3),SQRT((U13^2)+((Y13^2)/12))) -> 3.0952364 | AB13: 0 | AC13: =(AA13^2)*Rdcr -> 0.019640001 | AD13: =AB13+AC13 -> 0.019640001 | AE13: =U13*W13 -> 0.6016 | AF13: =CHOOSE(V13,Z13*SQRT(W13/3),SQRT(W13*((Z13^2)+((Y13^2)/3)-(Z13*Y13)))) -> 2.5272499 | AG13: =(AF13^2)*RDS_on -> 0.0063869922 | AH13: =((R13*U13)/2)*fsw*(tr_sw+tf_sw) -> 0.05643129 | AI13: =AG13+AH13 -> 0.062818282 | AJ13: =X13*U13 -> 0.3008 | AK13: =CHOOSE(V13,Z13*SQRT(X13/3),SQRT(X13*((Z13^2)+((Y13^2)/3)-(Y13*Z13)))) -> 1.7870356 | AL13: =(AK13^2)*RDS_on_HS -> 0.0031934961 | AM13: =CHOOSE(V13,(R13+Vd_rect)*Qrr*fsw,(R13+Vd_rect)*Qrr*fsw) -> 0.260832 | AN13: =Vd_rect*t_dead*fsw*Z13 -> 0.050174635 | AO13: =AL13+AM13+AN13 -> 0.31420013 | AP13: =(AA13^2)*Rcs -> 0.019160977 | AQ13: =Rdcr*AA13^2 -> 0.019640001 | AR13: =ABS(7.759*10^-3*fsw^0.9458*(0.00787*Y13)^2.304) -> 1.6152231 | AS13: =(Qg_tot+Qg_tot_HS)*VCC*fsw -> 0.01976 | AT13: =IQ*T13 -> 0.08 | AU13: =AP13+AO13+AI13+AD13+AS13+AT13+AQ13+AR13 -> 2.1504425 | AV13: =R13*S13 -> 18.048 | AW13: =(AV13/(AV13+AU13))*100 -> 89.353424
Q14: 7 | R14: =VOUT -> 60 | S14: =Q14*$O$12 -> 0.35093333 | T14: =Vin_vari -> 20 | U14: =(R14*S14)/(T14*EFF_est) -> 1.0528 | V14: =IF(Calculations!$B$17=3,2,IF((S14*R14/T14)<((T14*(1-(T14/R14)))/(2*Lm*fsw)),1,2)) -> 2 | W14: =CHOOSE(V14,SQRT((2*S14*Lm*fsw*(R14-T14))/((T14)^2)),1-(T14/R14)) -> 0.66666667 | X14: =CHOOSE(V14,(Lm*Z14*fsw)/(R14-T14),1-W14) -> 0.33333333 | Y14: =(T14*W14)/(Lm*fsw) -> 10.25641 | Z14: =CHOOSE(V14,Y14,U14+(0.5*Y14)) -> 6.1810051 | AA14: =CHOOSE(V14,Z14*SQRT((W14+X14)/3),SQRT((U14^2)+((Y14^2)/12))) -> 3.1423797 | AB14: 0 | AC14: =(AA14^2)*Rdcr -> 0.020242828 | AD14: =AB14+AC14 -> 0.020242828 | AE14: =U14*W14 -> 0.70186667 | AF14: =CHOOSE(V14,Z14*SQRT(W14/3),SQRT(W14*((Z14^2)+((Y14^2)/3)-(Z14*Y14)))) -> 2.5657423 | AG14: =(AF14^2)*RDS_on -> 0.0065830336 | AH14: =((R14*U14)/2)*fsw*(tr_sw+tf_sw) -> 0.065836505 | AI14: =AG14+AH14 -> 0.072419539 | AJ14: =X14*U14 -> 0.35093333 | AK14: =CHOOSE(V14,Z14*SQRT(X14/3),SQRT(X14*((Z14^2)+((Y14^2)/3)-(Y14*Z14)))) -> 1.8142538 | AL14: =(AK14^2)*RDS_on_HS -> 0.0032915168 | AM14: =CHOOSE(V14,(R14+Vd_rect)*Qrr*fsw,(R14+Vd_rect)*Qrr*fsw) -> 0.260832 | AN14: =Vd_rect*t_dead*fsw*Z14 -> 0.051425963 | AO14: =AL14+AM14+AN14 -> 0.31554948 | AP14: =(AA14^2)*Rcs -> 0.019749101 | AQ14: =Rdcr*AA14^2 -> 0.020242828 | AR14: =ABS(7.759*10^-3*fsw^0.9458*(0.00787*Y14)^2.304) -> 1.6152231 | AS14: =(Qg_tot+Qg_tot_HS)*VCC*fsw -> 0.01976 | AT14: =IQ*T14 -> 0.08 | AU14: =AP14+AO14+AI14+AD14+AS14+AT14+AQ14+AR14 -> 2.1631869 | AV14: =R14*S14 -> 21.056 | AW14: =(AV14/(AV14+AU14))*100 -> 90.683623
O15: =0.205*2.5/(Lm*fsw) -> 0.39423077 | Q15: 8 | R15: =VOUT -> 60 | S15: =Q15*$O$12 -> 0.40106667 | T15: =Vin_vari -> 20 | U15: =(R15*S15)/(T15*EFF_est) -> 1.2032 | V15: =IF(Calculations!$B$17=3,2,IF((S15*R15/T15)<((T15*(1-(T15/R15)))/(2*Lm*fsw)),1,2)) -> 2 | W15: =CHOOSE(V15,SQRT((2*S15*Lm*fsw*(R15-T15))/((T15)^2)),1-(T15/R15)) -> 0.66666667 | X15: =CHOOSE(V15,(Lm*Z15*fsw)/(R15-T15),1-W15) -> 0.33333333 | Y15: =(T15*W15)/(Lm*fsw) -> 10.25641 | Z15: =CHOOSE(V15,Y15,U15+(0.5*Y15)) -> 6.3314051 | AA15: =CHOOSE(V15,Z15*SQRT((W15+X15)/3),SQRT((U15^2)+((Y15^2)/12))) -> 3.1959119 | AB15: 0 | AC15: =(AA15^2)*Rdcr -> 0.020938398 | AD15: =AB15+AC15 -> 0.020938398 | AE15: =U15*W15 -> 0.80213333 | AF15: =CHOOSE(V15,Z15*SQRT(W15/3),SQRT(W15*((Z15^2)+((Y15^2)/3)-(Z15*Y15)))) -> 2.6094511 | AG15: =(AF15^2)*RDS_on -> 0.0068092352 | AH15: =((R15*U15)/2)*fsw*(tr_sw+tf_sw) -> 0.07524172 | AI15: =AG15+AH15 -> 0.082050956 | AJ15: =X15*U15 -> 0.40106667 | AK15: =CHOOSE(V15,Z15*SQRT(X15/3),SQRT(X15*((Z15^2)+((Y15^2)/3)-(Y15*Z15)))) -> 1.8451606 | AL15: =(AK15^2)*RDS_on_HS -> 0.0034046176 | AM15: =CHOOSE(V15,(R15+Vd_rect)*Qrr*fsw,(R15+Vd_rect)*Qrr*fsw) -> 0.260832 | AN15: =Vd_rect*t_dead*fsw*Z15 -> 0.052677291 | AO15: =AL15+AM15+AN15 -> 0.31691391 | AP15: =(AA15^2)*Rcs -> 0.020427706 | AQ15: =Rdcr*AA15^2 -> 0.020938398 | AR15: =ABS(7.759*10^-3*fsw^0.9458*(0.00787*Y15)^2.304) -> 1.6152231 | AS15: =(Qg_tot+Qg_tot_HS)*VCC*fsw -> 0.01976 | AT15: =IQ*T15 -> 0.08 | AU15: =AP15+AO15+AI15+AD15+AS15+AT15+AQ15+AR15 -> 2.1762525 | AV15: =R15*S15 -> 24.064 | AW15: =(AV15/(AV15+AU15))*100 -> 91.706435
Q16: 9 | R16: =VOUT -> 60 | S16: =Q16*$O$12 -> 0.4512 | T16: =Vin_vari -> 20 | U16: =(R16*S16)/(T16*EFF_est) -> 1.3536 | V16: =IF(Calculations!$B$17=3,2,IF((S16*R16/T16)<((T16*(1-(T16/R16)))/(2*Lm*fsw)),1,2)) -> 2 | W16: =CHOOSE(V16,SQRT((2*S16*Lm*fsw*(R16-T16))/((T16)^2)),1-(T16/R16)) -> 0.66666667 | X16: =CHOOSE(V16,(Lm*Z16*fsw)/(R16-T16),1-W16) -> 0.33333333 | Y16: =(T16*W16)/(Lm*fsw) -> 10.25641 | Z16: =CHOOSE(V16,Y16,U16+(0.5*Y16)) -> 6.4818051 | AA16: =CHOOSE(V16,Z16*SQRT((W16+X16)/3),SQRT((U16^2)+((Y16^2)/12))) -> 3.2555177 | AB16: 0 | AC16: =(AA16^2)*Rdcr -> 0.021726711 | AD16: =AB16+AC16 -> 0.021726711 | AE16: =U16*W16 -> 0.9024 | AF16: =CHOOSE(V16,Z16*SQRT(W16/3),SQRT(W16*((Z16^2)+((Y16^2)/3)-(Z16*Y16)))) -> 2.6581191 | AG16: =(AF16^2)*RDS_on -> 0.007065597 | AH16: =((R16*U16)/2)*fsw*(tr_sw+tf_sw) -> 0.084646935 | AI16: =AG16+AH16 -> 0.091712532 | AJ16: =X16*U16 -> 0.4512 | AK16: =CHOOSE(V16,Z16*SQRT(X16/3),SQRT(X16*((Z16^2)+((Y16^2)/3)-(Y16*Z16)))) -> 1.879574 | AL16: =(AK16^2)*RDS_on_HS -> 0.0035327985 | AM16: =CHOOSE(V16,(R16+Vd_rect)*Qrr*fsw,(R16+Vd_rect)*Qrr*fsw) -> 0.260832 | AN16: =Vd_rect*t_dead*fsw*Z16 -> 0.053928619 | AO16: =AL16+AM16+AN16 -> 0.31829342 | AP16: =(AA16^2)*Rcs -> 0.021196791 | AQ16: =Rdcr*AA16^2 -> 0.021726711 | AR16: =ABS(7.759*10^-3*fsw^0.9458*(0.00787*Y16)^2.304) -> 1.6152231 | AS16: =(Qg_tot+Qg_tot_HS)*VCC*fsw -> 0.01976 | AT16: =IQ*T16 -> 0.08 | AU16: =AP16+AO16+AI16+AD16+AS16+AT16+AQ16+AR16 -> 2.1896393 | AV16: =R16*S16 -> 27.072 | AW16: =(AV16/(AV16+AU16))*100 -> 92.517031
Q17: 10 | R17: =VOUT -> 60 | S17: =Q17*$O$12 -> 0.50133333 | T17: =Vin_vari -> 20 | U17: =(R17*S17)/(T17*EFF_est) -> 1.504 | V17: =IF(Calculations!$B$17=3,2,IF((S17*R17/T17)<((T17*(1-(T17/R17)))/(2*Lm*fsw)),1,2)) -> 2 | W17: =CHOOSE(V17,SQRT((2*S17*Lm*fsw*(R17-T17))/((T17)^2)),1-(T17/R17)) -> 0.66666667 | X17: =CHOOSE(V17,(Lm*Z17*fsw)/(R17-T17),1-W17) -> 0.33333333 | Y17: =(T17*W17)/(Lm*fsw) -> 10.25641 | Z17: =CHOOSE(V17,Y17,U17+(0.5*Y17)) -> 6.6322051 | AA17: =CHOOSE(V17,Z17*SQRT((W17+X17)/3),SQRT((U17^2)+((Y17^2)/12))) -> 3.3208702 | AB17: 0 | AC17: =(AA17^2)*Rdcr -> 0.022607766 | AD17: =AB17+AC17 -> 0.022607766 | AE17: =U17*W17 -> 1.0026667 | AF17: =CHOOSE(V17,Z17*SQRT(W17/3),SQRT(W17*((Z17^2)+((Y17^2)/3)-(Z17*Y17)))) -> 2.7114791 | AG17: =(AF17^2)*RDS_on -> 0.0073521191 | AH17: =((R17*U17)/2)*fsw*(tr_sw+tf_sw) -> 0.09405215 | AI17: =AG17+AH17 -> 0.10140427 | AJ17: =X17*U17 -> 0.50133333 | AK17: =CHOOSE(V17,Z17*SQRT(X17/3),SQRT(X17*((Z17^2)+((Y17^2)/3)-(Y17*Z17)))) -> 1.9173053 | AL17: =(AK17^2)*RDS_on_HS -> 0.0036760595 | AM17: =CHOOSE(V17,(R17+Vd_rect)*Qrr*fsw,(R17+Vd_rect)*Qrr*fsw) -> 0.260832 | AN17: =Vd_rect*t_dead*fsw*Z17 -> 0.055179947 | AO17: =AL17+AM17+AN17 -> 0.31968801 | AP17: =(AA17^2)*Rcs -> 0.022056357 | AQ17: =Rdcr*AA17^2 -> 0.022607766 | AR17: =ABS(7.759*10^-3*fsw^0.9458*(0.00787*Y17)^2.304) -> 1.6152231 | AS17: =(Qg_tot+Qg_tot_HS)*VCC*fsw -> 0.01976 | AT17: =IQ*T17 -> 0.08 | AU17: =AP17+AO17+AI17+AD17+AS17+AT17+AQ17+AR17 -> 2.2033473 | AV17: =R17*S17 -> 30.08 | AW17: =(AV17/(AV17+AU17))*100 -> 93.174973
Q18: 11 | R18: =VOUT -> 60 | S18: =Q18*$O$12 -> 0.55146667 | T18: =Vin_vari -> 20 | U18: =(R18*S18)/(T18*EFF_est) -> 1.6544 | V18: =IF(Calculations!$B$17=3,2,IF((S18*R18/T18)<((T18*(1-(T18/R18)))/(2*Lm*fsw)),1,2)) -> 2 | W18: =CHOOSE(V18,SQRT((2*S18*Lm*fsw*(R18-T18))/((T18)^2)),1-(T18/R18)) -> 0.66666667 | X18: =CHOOSE(V18,(Lm*Z18*fsw)/(R18-T18),1-W18) -> 0.33333333 | Y18: =(T18*W18)/(Lm*fsw) -> 10.25641 | Z18: =CHOOSE(V18,Y18,U18+(0.5*Y18)) -> 6.7826051 | AA18: =CHOOSE(V18,Z18*SQRT((W18+X18)/3),SQRT((U18^2)+((Y18^2)/12))) -> 3.3916371 | AB18: 0 | AC18: =(AA18^2)*Rdcr -> 0.023581564 | AD18: =AB18+AC18 -> 0.023581564 | AE18: =U18*W18 -> 1.1029333 | AF18: =CHOOSE(V18,Z18*SQRT(W18/3),SQRT(W18*((Z18^2)+((Y18^2)/3)-(Z18*Y18)))) -> 2.7692601 | AG18: =(AF18^2)*RDS_on -> 0.0076688013 | AH18: =((R18*U18)/2)*fsw*(tr_sw+tf_sw) -> 0.10345737 | AI18: =AG18+AH18 -> 0.11112617 | AJ18: =X18*U18 -> 0.55146667 | AK18: =CHOOSE(V18,Z18*SQRT(X18/3),SQRT(X18*((Z18^2)+((Y18^2)/3)-(Y18*Z18)))) -> 1.9581626 | AL18: =(AK18^2)*RDS_on_HS -> 0.0038344007 | AM18: =CHOOSE(V18,(R18+Vd_rect)*Qrr*fsw,(R18+Vd_rect)*Qrr*fsw) -> 0.260832 | AN18: =Vd_rect*t_dead*fsw*Z18 -> 0.056431275 | AO18: =AL18+AM18+AN18 -> 0.32109768 | AP18: =(AA18^2)*Rcs -> 0.023006404 | AQ18: =Rdcr*AA18^2 -> 0.023581564 | AR18: =ABS(7.759*10^-3*fsw^0.9458*(0.00787*Y18)^2.304) -> 1.6152231 | AS18: =(Qg_tot+Qg_tot_HS)*VCC*fsw -> 0.01976 | AT18: =IQ*T18 -> 0.08 | AU18: =AP18+AO18+AI18+AD18+AS18+AT18+AQ18+AR18 -> 2.2173765 | AV18: =R18*S18 -> 33.088 | AW18: =(AV18/(AV18+AU18))*100 -> 93.719437
Q19: 12 | R19: =VOUT -> 60 | S19: =Q19*$O$12 -> 0.6016 | T19: =Vin_vari -> 20 | U19: =(R19*S19)/(T19*EFF_est) -> 1.8048 | V19: =IF(Calculations!$B$17=3,2,IF((S19*R19/T19)<((T19*(1-(T19/R19)))/(2*Lm*fsw)),1,2)) -> 2 | W19: =CHOOSE(V19,SQRT((2*S19*Lm*fsw*(R19-T19))/((T19)^2)),1-(T19/R19)) -> 0.66666667 | X19: =CHOOSE(V19,(Lm*Z19*fsw)/(R19-T19),1-W19) -> 0.33333333 | Y19: =(T19*W19)/(Lm*fsw) -> 10.25641 | Z19: =CHOOSE(V19,Y19,U19+(0.5*Y19)) -> 6.9330051 | AA19: =CHOOSE(V19,Z19*SQRT((W19+X19)/3),SQRT((U19^2)+((Y19^2)/12))) -> 3.4674869 | AB19: 0 | AC19: =(AA19^2)*Rdcr -> 0.024648105 | AD19: =AB19+AC19 -> 0.024648105 | AE19: =U19*W19 -> 1.2032 | AF19: =CHOOSE(V19,Z19*SQRT(W19/3),SQRT(W19*((Z19^2)+((Y19^2)/3)-(Z19*Y19)))) -> 2.8311912 | AG19: =(AF19^2)*RDS_on -> 0.0080156438 | AH19: =((R19*U19)/2)*fsw*(tr_sw+tf_sw) -> 0.11286258 | AI19: =AG19+AH19 -> 0.12087822 | AJ19: =X19*U19 -> 0.6016 | AK19: =CHOOSE(V19,Z19*SQRT(X19/3),SQRT(X19*((Z19^2)+((Y19^2)/3)-(Y19*Z19)))) -> 2.0019545 | AL19: =(AK19^2)*RDS_on_HS -> 0.0040078219 | AM19: =CHOOSE(V19,(R19+Vd_rect)*Qrr*fsw,(R19+Vd_rect)*Qrr*fsw) -> 0.260832 | AN19: =Vd_rect*t_dead*fsw*Z19 -> 0.057682603 | AO19: =AL19+AM19+AN19 -> 0.32252242 | AP19: =(AA19^2)*Rcs -> 0.024046931 | AQ19: =Rdcr*AA19^2 -> 0.024648105 | AR19: =ABS(7.759*10^-3*fsw^0.9458*(0.00787*Y19)^2.304) -> 1.6152231 | AS19: =(Qg_tot+Qg_tot_HS)*VCC*fsw -> 0.01976 | AT19: =IQ*T19 -> 0.08 | AU19: =AP19+AO19+AI19+AD19+AS19+AT19+AQ19+AR19 -> 2.2317269 | AV19: =R19*S19 -> 36.096 | AW19: =(AV19/(AV19+AU19))*100 -> 94.177252
Q20: 13 | R20: =VOUT -> 60 | S20: =Q20*$O$12 -> 0.65173333 | T20: =Vin_vari -> 20 | U20: =(R20*S20)/(T20*EFF_est) -> 1.9552 | V20: =IF(Calculations!$B$17=3,2,IF((S20*R20/T20)<((T20*(1-(T20/R20)))/(2*Lm*fsw)),1,2)) -> 2 | W20: =CHOOSE(V20,SQRT((2*S20*Lm*fsw*(R20-T20))/((T20)^2)),1-(T20/R20)) -> 0.66666667 | X20: =CHOOSE(V20,(Lm*Z20*fsw)/(R20-T20),1-W20) -> 0.33333333 | Y20: =(T20*W20)/(Lm*fsw) -> 10.25641 | Z20: =CHOOSE(V20,Y20,U20+(0.5*Y20)) -> 7.0834051 | AA20: =CHOOSE(V20,Z20*SQRT((W20+X20)/3),SQRT((U20^2)+((Y20^2)/12))) -> 3.5480938 | AB20: 0 | AC20: =(AA20^2)*Rdcr -> 0.025807388 | AD20: =AB20+AC20 -> 0.025807388 | AE20: =U20*W20 -> 1.3034667 | AF20: =CHOOSE(V20,Z20*SQRT(W20/3),SQRT(W20*((Z20^2)+((Y20^2)/3)-(Z20*Y20)))) -> 2.8970065 | AG20: =(AF20^2)*RDS_on -> 0.0083926464 | AH20: =((R20*U20)/2)*fsw*(tr_sw+tf_sw) -> 0.1222678 | AI20: =AG20+AH20 -> 0.13066044 | AJ20: =X20*U20 -> 0.65173333 | AK20: =CHOOSE(V20,Z20*SQRT(X20/3),SQRT(X20*((Z20^2)+((Y20^2)/3)-(Y20*Z20)))) -> 2.0484929 | AL20: =(AK20^2)*RDS_on_HS -> 0.0041963232 | AM20: =CHOOSE(V20,(R20+Vd_rect)*Qrr*fsw,(R20+Vd_rect)*Qrr*fsw) -> 0.260832 | AN20: =Vd_rect*t_dead*fsw*Z20 -> 0.058933931 | AO20: =AL20+AM20+AN20 -> 0.32396225 | AP20: =(AA20^2)*Rcs -> 0.025177939 | AQ20: =Rdcr*AA20^2 -> 0.025807388 | AR20: =ABS(7.759*10^-3*fsw^0.9458*(0.00787*Y20)^2.304) -> 1.6152231 | AS20: =(Qg_tot+Qg_tot_HS)*VCC*fsw -> 0.01976 | AT20: =IQ*T20 -> 0.08 | AU20: =AP20+AO20+AI20+AD20+AS20+AT20+AQ20+AR20 -> 2.2463985 | AV20: =R20*S20 -> 39.104 | AW20: =(AV20/(AV20+AU20))*100 -> 94.567408
Q21: 14 | R21: =VOUT -> 60 | S21: =Q21*$O$12 -> 0.70186667 | T21: =Vin_vari -> 20 | U21: =(R21*S21)/(T21*EFF_est) -> 2.1056 | V21: =IF(Calculations!$B$17=3,2,IF((S21*R21/T21)<((T21*(1-(T21/R21)))/(2*Lm*fsw)),1,2)) -> 2 | W21: =CHOOSE(V21,SQRT((2*S21*Lm*fsw*(R21-T21))/((T21)^2)),1-(T21/R21)) -> 0.66666667 | X21: =CHOOSE(V21,(Lm*Z21*fsw)/(R21-T21),1-W21) -> 0.33333333 | Y21: =(T21*W21)/(Lm*fsw) -> 10.25641 | Z21: =CHOOSE(V21,Y21,U21+(0.5*Y21)) -> 7.2338051 | AA21: =CHOOSE(V21,Z21*SQRT((W21+X21)/3),SQRT((U21^2)+((Y21^2)/12))) -> 3.6331411 | AB21: 0 | AC21: =(AA21^2)*Rdcr -> 0.027059414 | AD21: =AB21+AC21 -> 0.027059414 | AE21: =U21*W21 -> 1.4037333 | AF21: =CHOOSE(V21,Z21*SQRT(W21/3),SQRT(W21*((Z21^2)+((Y21^2)/3)-(Z21*Y21)))) -> 2.9664473 | AG21: =(AF21^2)*RDS_on -> 0.0087998093 | AH21: =((R21*U21)/2)*fsw*(tr_sw+tf_sw) -> 0.13167301 | AI21: =AG21+AH21 -> 0.14047282 | AJ21: =X21*U21 -> 0.70186667 | AK21: =CHOOSE(V21,Z21*SQRT(X21/3),SQRT(X21*((Z21^2)+((Y21^2)/3)-(Y21*Z21)))) -> 2.097595 | AL21: =(AK21^2)*RDS_on_HS -> 0.0043999047 | AM21: =CHOOSE(V21,(R21+Vd_rect)*Qrr*fsw,(R21+Vd_rect)*Qrr*fsw) -> 0.260832 | AN21: =Vd_rect*t_dead*fsw*Z21 -> 0.060185259 | AO21: =AL21+AM21+AN21 -> 0.32541716 | AP21: =(AA21^2)*Rcs -> 0.026399428 | AQ21: =Rdcr*AA21^2 -> 0.027059414 | AR21: =ABS(7.759*10^-3*fsw^0.9458*(0.00787*Y21)^2.304) -> 1.6152231 | AS21: =(Qg_tot+Qg_tot_HS)*VCC*fsw -> 0.01976 | AT21: =IQ*T21 -> 0.08 | AU21: =AP21+AO21+AI21+AD21+AS21+AT21+AQ21+AR21 -> 2.2613914 | AV21: =R21*S21 -> 42.112 | AW21: =(AV21/(AV21+AU21))*100 -> 94.903722
Q22: 15 | R22: =VOUT -> 60 | S22: =Q22*$O$12 -> 0.752 | T22: =Vin_vari -> 20 | U22: =(R22*S22)/(T22*EFF_est) -> 2.256 | V22: =IF(Calculations!$B$17=3,2,IF((S22*R22/T22)<((T22*(1-(T22/R22)))/(2*Lm*fsw)),1,2)) -> 2 | W22: =CHOOSE(V22,SQRT((2*S22*Lm*fsw*(R22-T22))/((T22)^2)),1-(T22/R22)) -> 0.66666667 | X22: =CHOOSE(V22,(Lm*Z22*fsw)/(R22-T22),1-W22) -> 0.33333333 | Y22: =(T22*W22)/(Lm*fsw) -> 10.25641 | Z22: =CHOOSE(V22,Y22,U22+(0.5*Y22)) -> 7.3842051 | AA22: =CHOOSE(V22,Z22*SQRT((W22+X22)/3),SQRT((U22^2)+((Y22^2)/12))) -> 3.7223244 | AB22: 0 | AC22: =(AA22^2)*Rdcr -> 0.028404182 | AD22: =AB22+AC22 -> 0.028404182 | AE22: =U22*W22 -> 1.504 | AF22: =CHOOSE(V22,Z22*SQRT(W22/3),SQRT(W22*((Z22^2)+((Y22^2)/3)-(Z22*Y22)))) -> 3.0392651 | AG22: =(AF22^2)*RDS_on -> 0.0092371324 | AH22: =((R22*U22)/2)*fsw*(tr_sw+tf_sw) -> 0.14107823 | AI22: =AG22+AH22 -> 0.15031536 | AJ22: =X22*U22 -> 0.752 | AK22: =CHOOSE(V22,Z22*SQRT(X22/3),SQRT(X22*((Z22^2)+((Y22^2)/3)-(Y22*Z22)))) -> 2.149085 | AL22: =(AK22^2)*RDS_on_HS -> 0.0046185662 | AM22: =CHOOSE(V22,(R22+Vd_rect)*Qrr*fsw,(R22+Vd_rect)*Qrr*fsw) -> 0.260832 | AN22: =Vd_rect*t_dead*fsw*Z22 -> 0.061436587 | AO22: =AL22+AM22+AN22 -> 0.32688715 | AP22: =(AA22^2)*Rcs -> 0.027711397 | AQ22: =Rdcr*AA22^2 -> 0.028404182 | AR22: =ABS(7.759*10^-3*fsw^0.9458*(0.00787*Y22)^2.304) -> 1.6152231 | AS22: =(Qg_tot+Qg_tot_HS)*VCC*fsw -> 0.01976 | AT22: =IQ*T22 -> 0.08 | AU22: =AP22+AO22+AI22+AD22+AS22+AT22+AQ22+AR22 -> 2.2767054 | AV22: =R22*S22 -> 45.12 | AW22: =(AV22/(AV22+AU22))*100 -> 95.19649
Q23: 16 | R23: =VOUT -> 60 | S23: =Q23*$O$12 -> 0.80213333 | T23: =Vin_vari -> 20 | U23: =(R23*S23)/(T23*EFF_est) -> 2.4064 | V23: =IF(Calculations!$B$17=3,2,IF((S23*R23/T23)<((T23*(1-(T23/R23)))/(2*Lm*fsw)),1,2)) -> 2 | W23: =CHOOSE(V23,SQRT((2*S23*Lm*fsw*(R23-T23))/((T23)^2)),1-(T23/R23)) -> 0.66666667 | X23: =CHOOSE(V23,(Lm*Z23*fsw)/(R23-T23),1-W23) -> 0.33333333 | Y23: =(T23*W23)/(Lm*fsw) -> 10.25641 | Z23: =CHOOSE(V23,Y23,U23+(0.5*Y23)) -> 7.5346051 | AA23: =CHOOSE(V23,Z23*SQRT((W23+X23)/3),SQRT((U23^2)+((Y23^2)/12))) -> 3.8153537 | AB23: 0 | AC23: =(AA23^2)*Rdcr -> 0.029841693 | AD23: =AB23+AC23 -> 0.029841693 | AE23: =U23*W23 -> 1.6042667 | AF23: =CHOOSE(V23,Z23*SQRT(W23/3),SQRT(W23*((Z23^2)+((Y23^2)/3)-(Z23*Y23)))) -> 3.1152232 | AG23: =(AF23^2)*RDS_on -> 0.0097046157 | AH23: =((R23*U23)/2)*fsw*(tr_sw+tf_sw) -> 0.15048344 | AI23: =AG23+AH23 -> 0.16018806 | AJ23: =X23*U23 -> 0.80213333 | AK23: =CHOOSE(V23,Z23*SQRT(X23/3),SQRT(X23*((Z23^2)+((Y23^2)/3)-(Y23*Z23)))) -> 2.2027955 | AL23: =(AK23^2)*RDS_on_HS -> 0.0048523079 | AM23: =CHOOSE(V23,(R23+Vd_rect)*Qrr*fsw,(R23+Vd_rect)*Qrr*fsw) -> 0.260832 | AN23: =Vd_rect*t_dead*fsw*Z23 -> 0.062687915 | AO23: =AL23+AM23+AN23 -> 0.32837222 | AP23: =(AA23^2)*Rcs -> 0.029113847 | AQ23: =Rdcr*AA23^2 -> 0.029841693 | AR23: =ABS(7.759*10^-3*fsw^0.9458*(0.00787*Y23)^2.304) -> 1.6152231 | AS23: =(Qg_tot+Qg_tot_HS)*VCC*fsw -> 0.01976 | AT23: =IQ*T23 -> 0.08 | AU23: =AP23+AO23+AI23+AD23+AS23+AT23+AQ23+AR23 -> 2.2923406 | AV23: =R23*S23 -> 48.128 | AW23: =(AV23/(AV23+AU23))*100 -> 95.45354
Q24: 17 | R24: =VOUT -> 60 | S24: =Q24*$O$12 -> 0.85226667 | T24: =Vin_vari -> 20 | U24: =(R24*S24)/(T24*EFF_est) -> 2.5568 | V24: =IF(Calculations!$B$17=3,2,IF((S24*R24/T24)<((T24*(1-(T24/R24)))/(2*Lm*fsw)),1,2)) -> 2 | W24: =CHOOSE(V24,SQRT((2*S24*Lm*fsw*(R24-T24))/((T24)^2)),1-(T24/R24)) -> 0.66666667 | X24: =CHOOSE(V24,(Lm*Z24*fsw)/(R24-T24),1-W24) -> 0.33333333 | Y24: =(T24*W24)/(Lm*fsw) -> 10.25641 | Z24: =CHOOSE(V24,Y24,U24+(0.5*Y24)) -> 7.6850051 | AA24: =CHOOSE(V24,Z24*SQRT((W24+X24)/3),SQRT((U24^2)+((Y24^2)/12))) -> 3.9119546 | AB24: 0 | AC24: =(AA24^2)*Rdcr -> 0.031371947 | AD24: =AB24+AC24 -> 0.031371947 | AE24: =U24*W24 -> 1.7045333 | AF24: =CHOOSE(V24,Z24*SQRT(W24/3),SQRT(W24*((Z24^2)+((Y24^2)/3)-(Z24*Y24)))) -> 3.1940976 | AG24: =(AF24^2)*RDS_on -> 0.010202259 | AH24: =((R24*U24)/2)*fsw*(tr_sw+tf_sw) -> 0.15988866 | AI24: =AG24+AH24 -> 0.17009091 | AJ24: =X24*U24 -> 0.85226667 | AK24: =CHOOSE(V24,Z24*SQRT(X24/3),SQRT(X24*((Z24^2)+((Y24^2)/3)-(Y24*Z24)))) -> 2.258568 | AL24: =(AK24^2)*RDS_on_HS -> 0.0051011296 | AM24: =CHOOSE(V24,(R24+Vd_rect)*Qrr*fsw,(R24+Vd_rect)*Qrr*fsw) -> 0.260832 | AN24: =Vd_rect*t_dead*fsw*Z24 -> 0.063939243 | AO24: =AL24+AM24+AN24 -> 0.32987237 | AP24: =(AA24^2)*Rcs -> 0.030606778 | AQ24: =Rdcr*AA24^2 -> 0.031371947 | AR24: =ABS(7.759*10^-3*fsw^0.9458*(0.00787*Y24)^2.304) -> 1.6152231 | AS24: =(Qg_tot+Qg_tot_HS)*VCC*fsw -> 0.01976 | AT24: =IQ*T24 -> 0.08 | AU24: =AP24+AO24+AI24+AD24+AS24+AT24+AQ24+AR24 -> 2.3082971 | AV24: =R24*S24 -> 51.136 | AW24: =(AV24/(AV24+AU24))*100 -> 95.680929
Q25: 18 | R25: =VOUT -> 60 | S25: =Q25*$O$12 -> 0.9024 | T25: =Vin_vari -> 20 | U25: =(R25*S25)/(T25*EFF_est) -> 2.7072 | V25: =IF(Calculations!$B$17=3,2,IF((S25*R25/T25)<((T25*(1-(T25/R25)))/(2*Lm*fsw)),1,2)) -> 2 | W25: =CHOOSE(V25,SQRT((2*S25*Lm*fsw*(R25-T25))/((T25)^2)),1-(T25/R25)) -> 0.66666667 | X25: =CHOOSE(V25,(Lm*Z25*fsw)/(R25-T25),1-W25) -> 0.33333333 | Y25: =(T25*W25)/(Lm*fsw) -> 10.25641 | Z25: =CHOOSE(V25,Y25,U25+(0.5*Y25)) -> 7.8354051 | AA25: =CHOOSE(V25,Z25*SQRT((W25+X25)/3),SQRT((U25^2)+((Y25^2)/12))) -> 4.0118692 | AB25: 0 | AC25: =(AA25^2)*Rdcr -> 0.032994944 | AD25: =AB25+AC25 -> 0.032994944 | AE25: =U25*W25 -> 1.8048 | AF25: =CHOOSE(V25,Z25*SQRT(W25/3),SQRT(W25*((Z25^2)+((Y25^2)/3)-(Z25*Y25)))) -> 3.2756775 | AG25: =(AF25^2)*RDS_on -> 0.010730063 | AH25: =((R25*U25)/2)*fsw*(tr_sw+tf_sw) -> 0.16929387 | AI25: =AG25+AH25 -> 0.18002393 | AJ25: =X25*U25 -> 0.9024 | AK25: =CHOOSE(V25,Z25*SQRT(X25/3),SQRT(X25*((Z25^2)+((Y25^2)/3)-(Y25*Z25)))) -> 2.3162538 | AL25: =(AK25^2)*RDS_on_HS -> 0.0053650315 | AM25: =CHOOSE(V25,(R25+Vd_rect)*Qrr*fsw,(R25+Vd_rect)*Qrr*fsw) -> 0.260832 | AN25: =Vd_rect*t_dead*fsw*Z25 -> 0.065190571 | AO25: =AL25+AM25+AN25 -> 0.3313876 | AP25: =(AA25^2)*Rcs -> 0.032190189 | AQ25: =Rdcr*AA25^2 -> 0.032994944 | AR25: =ABS(7.759*10^-3*fsw^0.9458*(0.00787*Y25)^2.304) -> 1.6152231 | AS25: =(Qg_tot+Qg_tot_HS)*VCC*fsw -> 0.01976 | AT25: =IQ*T25 -> 0.08 | AU25: =AP25+AO25+AI25+AD25+AS25+AT25+AQ25+AR25 -> 2.3245747 | AV25: =R25*S25 -> 54.144 | AW25: =(AV25/(AV25+AU25))*100 -> 95.883419
Q26: 19 | R26: =VOUT -> 60 | S26: =Q26*$O$12 -> 0.95253333 | T26: =Vin_vari -> 20 | U26: =(R26*S26)/(T26*EFF_est) -> 2.8576 | V26: =IF(Calculations!$B$17=3,2,IF((S26*R26/T26)<((T26*(1-(T26/R26)))/(2*Lm*fsw)),1,2)) -> 2 | W26: =CHOOSE(V26,SQRT((2*S26*Lm*fsw*(R26-T26))/((T26)^2)),1-(T26/R26)) -> 0.66666667 | X26: =CHOOSE(V26,(Lm*Z26*fsw)/(R26-T26),1-W26) -> 0.33333333 | Y26: =(T26*W26)/(Lm*fsw) -> 10.25641 | Z26: =CHOOSE(V26,Y26,U26+(0.5*Y26)) -> 7.9858051 | AA26: =CHOOSE(V26,Z26*SQRT((W26+X26)/3),SQRT((U26^2)+((Y26^2)/12))) -> 4.1148561 | AB26: 0 | AC26: =(AA26^2)*Rdcr -> 0.034710683 | AD26: =AB26+AC26 -> 0.034710683 | AE26: =U26*W26 -> 1.9050667 | AF26: =CHOOSE(V26,Z26*SQRT(W26/3),SQRT(W26*((Z26^2)+((Y26^2)/3)-(Z26*Y26)))) -> 3.3597659 | AG26: =(AF26^2)*RDS_on -> 0.011288027 | AH26: =((R26*U26)/2)*fsw*(tr_sw+tf_sw) -> 0.17869909 | AI26: =AG26+AH26 -> 0.18998711 | AJ26: =X26*U26 -> 0.95253333 | AK26: =CHOOSE(V26,Z26*SQRT(X26/3),SQRT(X26*((Z26^2)+((Y26^2)/3)-(Y26*Z26)))) -> 2.3757133 | AL26: =(AK26^2)*RDS_on_HS -> 0.0056440135 | AM26: =CHOOSE(V26,(R26+Vd_rect)*Qrr*fsw,(R26+Vd_rect)*Qrr*fsw) -> 0.260832 | AN26: =Vd_rect*t_dead*fsw*Z26 -> 0.066441899 | AO26: =AL26+AM26+AN26 -> 0.33291791 | AP26: =(AA26^2)*Rcs -> 0.033864081 | AQ26: =Rdcr*AA26^2 -> 0.034710683 | AR26: =ABS(7.759*10^-3*fsw^0.9458*(0.00787*Y26)^2.304) -> 1.6152231 | AS26: =(Qg_tot+Qg_tot_HS)*VCC*fsw -> 0.01976 | AT26: =IQ*T26 -> 0.08 | AU26: =AP26+AO26+AI26+AD26+AS26+AT26+AQ26+AR26 -> 2.3411736 | AV26: =R26*S26 -> 57.152 | AW26: =(AV26/(AV26+AU26))*100 -> 96.064803
Q27: 20 | R27: =VOUT -> 60 | S27: =Q27*$O$12 -> 1.0026667 | T27: =Vin_vari -> 20 | U27: =(R27*S27)/(T27*EFF_est) -> 3.008 | V27: =IF(Calculations!$B$17=3,2,IF((S27*R27/T27)<((T27*(1-(T27/R27)))/(2*Lm*fsw)),1,2)) -> 2 | W27: =CHOOSE(V27,SQRT((2*S27*Lm*fsw*(R27-T27))/((T27)^2)),1-(T27/R27)) -> 0.66666667 | X27: =CHOOSE(V27,(Lm*Z27*fsw)/(R27-T27),1-W27) -> 0.33333333 | Y27: =(T27*W27)/(Lm*fsw) -> 10.25641 | Z27: =CHOOSE(V27,Y27,U27+(0.5*Y27)) -> 8.1362051 | AA27: =CHOOSE(V27,Z27*SQRT((W27+X27)/3),SQRT((U27^2)+((Y27^2)/12))) -> 4.2206903 | AB27: 0 | AC27: =(AA27^2)*Rdcr -> 0.036519165 | AD27: =AB27+AC27 -> 0.036519165 | AE27: =U27*W27 -> 2.0053333 | AF27: =CHOOSE(V27,Z27*SQRT(W27/3),SQRT(W27*((Z27^2)+((Y27^2)/3)-(Z27*Y27)))) -> 3.4461792 | AG27: =(AF27^2)*RDS_on -> 0.011876151 | AH27: =((R27*U27)/2)*fsw*(tr_sw+tf_sw) -> 0.1881043 | AI27: =AG27+AH27 -> 0.19998045 | AJ27: =X27*U27 -> 1.0026667 | AK27: =CHOOSE(V27,Z27*SQRT(X27/3),SQRT(X27*((Z27^2)+((Y27^2)/3)-(Y27*Z27)))) -> 2.4368167 | AL27: =(AK27^2)*RDS_on_HS -> 0.0059380755 | AM27: =CHOOSE(V27,(R27+Vd_rect)*Qrr*fsw,(R27+Vd_rect)*Qrr*fsw) -> 0.260832 | AN27: =Vd_rect*t_dead*fsw*Z27 -> 0.067693227 | AO27: =AL27+AM27+AN27 -> 0.3344633 | AP27: =(AA27^2)*Rcs -> 0.035628453 | AQ27: =Rdcr*AA27^2 -> 0.036519165 | AR27: =ABS(7.759*10^-3*fsw^0.9458*(0.00787*Y27)^2.304) -> 1.6152231 | AS27: =(Qg_tot+Qg_tot_HS)*VCC*fsw -> 0.01976 | AT27: =IQ*T27 -> 0.08 | AU27: =AP27+AO27+AI27+AD27+AS27+AT27+AQ27+AR27 -> 2.3580937 | AV27: =R27*S27 -> 60.16 | AW27: =(AV27/(AV27+AU27))*100 -> 96.228142
... Q157: 150 | R157: =VOUT -> 60 | S157: =Q157*$O$12 -> 7.52 | T157: =Vin_vari -> 20 | U157: =(R157*S157)/(T157*EFF_est) -> 22.56 | V157: =IF(Calculations!$B$17=3,2,IF((S157*R157/T157)<((T157*(1-(T157/R157)))/(2*Lm*fsw)),1,2)) -> 2 | W157: =CHOOSE(V157,SQRT((2*S157*Lm*fsw*(R157-T157))/((T157)^2)),1-(T157/R157)) -> 0.66666667 | X157: =CHOOSE(V157,(Lm*Z157*fsw)/(R157-T157),1-W157) -> 0.33333333 | Y157: =(T157*W157)/(Lm*fsw) -> 10.25641 | Z157: =CHOOSE(V157,Y157,U157+(0.5*Y157)) -> 27.688205 | AA157: =CHOOSE(V157,Z157*SQRT((W157+X157)/3),SQRT((U157^2)+((Y157^2)/12))) -> 22.753456 | AB157: 0 | AC157: =(AA157^2)*Rdcr -> 1.0613255 | AD157: =AB157+AC157 -> 1.0613255 | AE157: =U157*W157 -> 15.04 | AF157: =CHOOSE(V157,Z157*SQRT(W157/3),SQRT(W157*((Z157^2)+((Y157^2)/3)-(Z157*Y157)))) -> 18.578119 | AG157: =(AF157^2)*RDS_on -> 0.34514651 | AH157: =((R157*U157)/2)*fsw*(tr_sw+tf_sw) -> 1.4107823 | AI157: =AG157+AH157 -> 1.7559288 | AJ157: =X157*U157 -> 7.52 | AK157: =CHOOSE(V157,Z157*SQRT(X157/3),SQRT(X157*((Z157^2)+((Y157^2)/3)-(Y157*Z157)))) -> 13.136714 | AL157: =(AK157^2)*RDS_on_HS -> 0.17257325 | AM157: =CHOOSE(V157,(R157+Vd_rect)*Qrr*fsw,(R157+Vd_rect)*Qrr*fsw) -> 0.260832 | AN157: =Vd_rect*t_dead*fsw*Z157 -> 0.23036587 | AO157: =AL157+AM157+AN157 -> 0.66377112 | AP157: =(AA157^2)*Rcs -> 1.0354395 | AQ157: =Rdcr*AA157^2 -> 1.0613255 | AR157: =ABS(7.759*10^-3*fsw^0.9458*(0.00787*Y157)^2.304) -> 1.6152231 | AS157: =(Qg_tot+Qg_tot_HS)*VCC*fsw -> 0.01976 | AT157: =IQ*T157 -> 0.08 | AU157: =AP157+AO157+AI157+AD157+AS157+AT157+AQ157+AR157 -> 7.2927736 | AV157: =R157*S157 -> 451.2 | AW157: =(AV157/(AV157+AU157))*100 -> 98.409403

Sheet Eff_vs_VIN
A1: EXCEL Variables Names/Calculations
R5: Operation Variables | V5: Duty Cycle | Y5: Inductor | AE5: Low-Side MOSFET | AJ5: High-Side MOSFET Losses | AP5: Other Losses | AU5: Total Losses
R6: VOUT | S6: IOUT | T6: VIN | U6: IIN | V6: DCM/CCM | W6: DC | X6: DC_off | Y6: dIL | Z6: ILPEAK | AA6: ILRMS | AB6: PLac (W) | AC6: PL_DCR (W) | AD6: PL_tot (W) | AE6: ISWAVG (A) | AF6: ISWRMS | AG6: PQ_COND (W) | AH6: PQ_SW (W) | AI6: PQ_tot (W) | AJ6: IDAVG (A) | AK6: IHSRMS | AL6: PD_COND (W) | AM6: PD_SW (W) | AN6: Dead Time losses | AO6: PHS_tot (W) | AP6: PRCS (W) | AQ6: PL_DCR (W) | AR6: PL_CORE (W) | AS6: PG_drv (W) | AT6: PIQ (W) | AU6: PTOTAL (W) | AV6: POUT (W) | AW6: Eff
Q7: 0 | R7: =VOUT -> 60 | S7: =IOUT -> 7.52 | T7: =VIN_MIN+($O$12)*(Q7) -> 18 | U7: =(R7*S7)/(T7*EFF_est) -> 25.066667 | V7: =IF(Calculations!$B$17=3,2,IF((S7*R7/T7)<((T7*(1-(T7/R7)))/(2*Lm*fsw)),1,2)) -> 2 | W7: =CHOOSE(V7,SQRT((2*S7*Lm*fsw*(R7-T7))/((T7)^2)),1-(T7/R7)) -> 0.7 | X7: =CHOOSE(V7,(Lm*Z7*fsw)/(R7-T7),1-W7) -> 0.3 | Y7: =(T7*W7)/(Lm*fsw) -> 9.6923077 | Z7: =CHOOSE(V7,Y7,U7+(0.5*Y7)) -> 29.912821 | AA7: =CHOOSE(V7,Z7*SQRT((W7+X7)/3),SQRT((U7^2)+((Y7^2)/12))) -> 25.222335 | AB7: 0 | AC7: =(AA7^2)*Rdcr -> 1.3041407 | AD7: =AB7+AC7 -> 1.3041407 | AE7: =U7*W7 -> 17.546667 | AF7: =CHOOSE(V7,Z7*SQRT(W7/3),SQRT(W7*((Z7^2)+((Y7^2)/3)-(Z7*Y7)))) -> 21.102519 | AG7: =(AF7^2)*RDS_on -> 0.44531633 | AH7: =((R7*U7)/2)*fsw*(tr_sw+tf_sw) -> 1.5675358 | AI7: =AG7+AH7 -> 2.0128522 | AJ7: =X7*U7 -> 7.52 | AK7: =CHOOSE(V7,Z7*SQRT(X7/3),SQRT(X7*((Z7^2)+((Y7^2)/3)-(Y7*Z7)))) -> 13.814842 | AL7: =(AK7^2)*RDS_on_HS -> 0.19084985 | AM7: =CHOOSE(V7,0,(R7+Vd_rect)*Qrr*fsw) -> 0.260832 | AN7: =Vd_rect*t_dead*fsw*Z7 -> 0.24887467 | AO7: =AL7+AM7+AN7 -> 0.70055652 | AP7: =(AA7^2)*Rcs -> 1.2723324 | AQ7: =Rdcr*AA7^2 -> 1.3041407 | AR7: =ABS(7.759*10^-3*fsw^0.9458*(0.00787*Y7)^2.304) -> 1.4178406 | AS7: =(Qg_tot+Qg_tot_HS)*VCC*fsw -> 0.01976 | AT7: =IQ*T7 -> 0.072 | AU7: =AP7+AO7+AI7+AD7+AS7+AT7+AQ7+AR7 -> 8.103623 | AV7: =R7*S7 -> 451.2 | AW7: =(AV7/(AV7+AU7))*100 -> 98.235672
M8: =fsw -> 130000 | Q8: 1 | R8: =VOUT -> 60 | S8: =IOUT -> 7.52 | T8: =VIN_MIN+($O$12)*(Q8) -> 18.28 | U8: =(R8*S8)/(T8*EFF_est) -> 24.682713 | V8: =IF(Calculations!$B$17=3,2,IF((S8*R8/T8)<((T8*(1-(T8/R8)))/(2*Lm*fsw)),1,2)) -> 2 | W8: =CHOOSE(V8,SQRT((2*S8*Lm*fsw*(R8-T8))/((T8)^2)),1-(T8/R8)) -> 0.69533333 | X8: =CHOOSE(V8,(Lm*Z8*fsw)/(R8-T8),1-W8) -> 0.30466667 | Y8: =(T8*W8)/(Lm*fsw) -> 9.7774564 | Z8: =CHOOSE(V8,Y8,U8+(0.5*Y8)) -> 29.571442 | AA8: =CHOOSE(V8,Z8*SQRT((W8+X8)/3),SQRT((U8^2)+((Y8^2)/12))) -> 24.843568 | AB8: 0 | AC8: =(AA8^2)*Rdcr -> 1.2652659 | AD8: =AB8+AC8 -> 1.2652659 | AE8: =U8*W8 -> 17.162713 | AF8: =CHOOSE(V8,Z8*SQRT(W8/3),SQRT(W8*((Z8^2)+((Y8^2)/3)-(Z8*Y8)))) -> 20.716219 | AG8: =(AF8^2)*RDS_on -> 0.42916174 | AH8: =((R8*U8)/2)*fsw*(tr_sw+tf_sw) -> 1.5435254 | AI8: =AG8+AH8 -> 1.9726872 | AJ8: =X8*U8 -> 7.52 | AK8: =CHOOSE(V8,Z8*SQRT(X8/3),SQRT(X8*((Z8^2)+((Y8^2)/3)-(Y8*Z8)))) -> 13.71281 | AL8: =(AK8^2)*RDS_on_HS -> 0.18804115 | AM8: =CHOOSE(V8,(R8+Vd_rect)*Qrr*fsw,(R8+Vd_rect)*Qrr*fsw) -> 0.260832 | AN8: =Vd_rect*t_dead*fsw*Z8 -> 0.24603439 | AO8: =AL8+AM8+AN8 -> 0.69490754 | AP8: =(AA8^2)*Rcs -> 1.2344058 | AQ8: =Rdcr*AA8^2 -> 1.2652659 | AR8: =ABS(7.759*10^-3*fsw^0.9458*(0.00787*Y8)^2.304) -> 1.4467037 | AS8: =(Qg_tot+Qg_tot_HS)*VCC*fsw -> 0.01976 | AT8: =IQ*T8 -> 0.07312 | AU8: =AP8+AO8+AI8+AD8+AS8+AT8+AQ8+AR8 -> 7.9721161 | AV8: =R8*S8 -> 451.2 | AW8: =(AV8/(AV8+AU8))*100 -> 98.263807
N9: VIN_VAR | O9: =Vin_vari -> 20 | P9: V | Q9: 2 | R9: =VOUT -> 60 | S9: =IOUT -> 7.52 | T9: =VIN_MIN+($O$12)*(Q9) -> 18.56 | U9: =(R9*S9)/(T9*EFF_est) -> 24.310345 | V9: =IF(Calculations!$B$17=3,2,IF((S9*R9/T9)<((T9*(1-(T9/R9)))/(2*Lm*fsw)),1,2)) -> 2 | W9: =CHOOSE(V9,SQRT((2*S9*Lm*fsw*(R9-T9))/((T9)^2)),1-(T9/R9)) -> 0.69066667 | X9: =CHOOSE(V9,(Lm*Z9*fsw)/(R9-T9),1-W9) -> 0.30933333 | Y9: =(T9*W9)/(Lm*fsw) -> 9.8605949 | Z9: =CHOOSE(V9,Y9,U9+(0.5*Y9)) -> 29.240642 | AA9: =CHOOSE(V9,Z9*SQRT((W9+X9)/3),SQRT((U9^2)+((Y9^2)/12))) -> 24.476427 | AB9: 0 | AC9: =(AA9^2)*Rdcr -> 1.2281457 | AD9: =AB9+AC9 -> 1.2281457 | AE9: =U9*W9 -> 16.790345 | AF9: =CHOOSE(V9,Z9*SQRT(W9/3),SQRT(W9*((Z9^2)+((Y9^2)/3)-(Z9*Y9)))) -> 20.341467 | AG9: =(AF9^2)*RDS_on -> 0.41377528 | AH9: =((R9*U9)/2)*fsw*(tr_sw+tf_sw) -> 1.5202395 | AI9: =AG9+AH9 -> 1.9340148 | AJ9: =X9*U9 -> 7.52 | AK9: =CHOOSE(V9,Z9*SQRT(X9/3),SQRT(X9*((Z9^2)+((Y9^2)/3)-(Y9*Z9)))) -> 13.613236 | AL9: =(AK9^2)*RDS_on_HS -> 0.1853202 | AM9: =CHOOSE(V9,(R9+Vd_rect)*Qrr*fsw,(R9+Vd_rect)*Qrr*fsw) -> 0.260832 | AN9: =Vd_rect*t_dead*fsw*Z9 -> 0.24328214 | AO9: =AL9+AM9+AN9 -> 0.68943434 | AP9: =(AA9^2)*Rcs -> 1.198191 | AQ9: =Rdcr*AA9^2 -> 1.2281457 | AR9: =ABS(7.759*10^-3*fsw^0.9458*(0.00787*Y9)^2.304) -> 1.4752035 | AS9: =(Qg_tot+Qg_tot_HS)*VCC*fsw -> 0.01976 | AT9: =IQ*T9 -> 0.07424 | AU9: =AP9+AO9+AI9+AD9+AS9+AT9+AQ9+AR9 -> 7.847135 | AV9: =R9*S9 -> 451.2 | AW9: =(AV9/(AV9+AU9))*100 -> 98.29056
Q10: 3 | R10: =VOUT -> 60 | S10: =IOUT -> 7.52 | T10: =VIN_MIN+($O$12)*(Q10) -> 18.84 | U10: =(R10*S10)/(T10*EFF_est) -> 23.949045 | V10: =IF(Calculations!$B$17=3,2,IF((S10*R10/T10)<((T10*(1-(T10/R10)))/(2*Lm*fsw)),1,2)) -> 2 | W10: =CHOOSE(V10,SQRT((2*S10*Lm*fsw*(R10-T10))/((T10)^2)),1-(T10/R10)) -> 0.686 | X10: =CHOOSE(V10,(Lm*Z10*fsw)/(R10-T10),1-W10) -> 0.314 | Y10: =(T10*W10)/(Lm*fsw) -> 9.9417231 | Z10: =CHOOSE(V10,Y10,U10+(0.5*Y10)) -> 28.919906 | AA10: =CHOOSE(V10,Z10*SQRT((W10+X10)/3),SQRT((U10^2)+((Y10^2)/12))) -> 24.12039 | AB10: 0 | AC10: =(AA10^2)*Rdcr -> 1.1926761 | AD10: =AB10+AC10 -> 1.1926761 | AE10: =U10*W10 -> 16.429045 | AF10: =CHOOSE(V10,Z10*SQRT(W10/3),SQRT(W10*((Z10^2)+((Y10^2)/3)-(Z10*Y10)))) -> 19.977741 | AG10: =(AF10^2)*RDS_on -> 0.39911015 | AH10: =((R10*U10)/2)*fsw*(tr_sw+tf_sw) -> 1.4976457 | AI10: =AG10+AH10 -> 1.8967559 | AJ10: =X10*U10 -> 7.52 | AK10: =CHOOSE(V10,Z10*SQRT(X10/3),SQRT(X10*((Z10^2)+((Y10^2)/3)-(Y10*Z10)))) -> 13.51603 | AL10: =(AK10^2)*RDS_on_HS -> 0.18268307 | AM10: =CHOOSE(V10,(R10+Vd_rect)*Qrr*fsw,(R10+Vd_rect)*Qrr*fsw) -> 0.260832 | AN10: =Vd_rect*t_dead*fsw*Z10 -> 0.24061362 | AO10: =AL10+AM10+AN10 -> 0.68412869 | AP10: =(AA10^2)*Rcs -> 1.1635864 | AQ10: =Rdcr*AA10^2 -> 1.1926761 | AR10: =ABS(7.759*10^-3*fsw^0.9458*(0.00787*Y10)^2.304) -> 1.5033179 | AS10: =(Qg_tot+Qg_tot_HS)*VCC*fsw -> 0.01976 | AT10: =IQ*T10 -> 0.07536 | AU10: =AP10+AO10+AI10+AD10+AS10+AT10+AQ10+AR10 -> 7.7282611 | AV10: =R10*S10 -> 451.2 | AW10: =(AV10/(AV10+AU10))*100 -> 98.31602
N11: Steps | O11: 150 | Q11: 4 | R11: =VOUT -> 60 | S11: =IOUT -> 7.52 | T11: =VIN_MIN+($O$12)*(Q11) -> 19.12 | U11: =(R11*S11)/(T11*EFF_est) -> 23.598326 | V11: =IF(Calculations!$B$17=3,2,IF((S11*R11/T11)<((T11*(1-(T11/R11)))/(2*Lm*fsw)),1,2)) -> 2 | W11: =CHOOSE(V11,SQRT((2*S11*Lm*fsw*(R11-T11))/((T11)^2)),1-(T11/R11)) -> 0.68133333 | X11: =CHOOSE(V11,(Lm*Z11*fsw)/(R11-T11),1-W11) -> 0.31866667 | Y11: =(T11*W11)/(Lm*fsw) -> 10.020841 | Z11: =CHOOSE(V11,Y11,U11+(0.5*Y11)) -> 28.608747 | AA11: =CHOOSE(V11,Z11*SQRT((W11+X11)/3),SQRT((U11^2)+((Y11^2)/12))) -> 23.774968 | AB11: 0 | AC11: =(AA11^2)*Rdcr -> 1.1587607 | AD11: =AB11+AC11 -> 1.1587607 | AE11: =U11*W11 -> 16.078326 | AF11: =CHOOSE(V11,Z11*SQRT(W11/3),SQRT(W11*((Z11^2)+((Y11^2)/3)-(Z11*Y11)))) -> 19.624553 | AG11: =(AF11^2)*RDS_on -> 0.38512306 | AH11: =((R11*U11)/2)*fsw*(tr_sw+tf_sw) -> 1.4757137 | AI11: =AG11+AH11 -> 1.8608367 | AJ11: =X11*U11 -> 7.52 | AK11: =CHOOSE(V11,Z11*SQRT(X11/3),SQRT(X11*((Z11^2)+((Y11^2)/3)-(Y11*Z11)))) -> 13.421105 | AL11: =(AK11^2)*RDS_on_HS -> 0.18012605 | AM11: =CHOOSE(V11,(R11+Vd_rect)*Qrr*fsw,(R11+Vd_rect)*Qrr*fsw) -> 0.260832 | AN11: =Vd_rect*t_dead*fsw*Z11 -> 0.23802477 | AO11: =AL11+AM11+AN11 -> 0.67898282 | AP11: =(AA11^2)*Rcs -> 1.1304982 | AQ11: =Rdcr*AA11^2 -> 1.1587607 | AR11: =ABS(7.759*10^-3*fsw^0.9458*(0.00787*Y11)^2.304) -> 1.5310253 | AS11: =(Qg_tot+Qg_tot_HS)*VCC*fsw -> 0.01976 | AT11: =IQ*T11 -> 0.07648 | AU11: =AP11+AO11+AI11+AD11+AS11+AT11+AQ11+AR11 -> 7.6151044 | AV11: =R11*S11 -> 451.2 | AW11: =(AV11/(AV11+AU11))*100 -> 98.340267
N12: Step size | O12: =(VIN_MAX-VIN_MIN)/(O11) -> 0.28 | Q12: 5 | R12: =VOUT -> 60 | S12: =IOUT -> 7.52 | T12: =VIN_MIN+($O$12)*(Q12) -> 19.4 | U12: =(R12*S12)/(T12*EFF_est) -> 23.257732 | V12: =IF(Calculations!$B$17=3,2,IF((S12*R12/T12)<((T12*(1-(T12/R12)))/(2*Lm*fsw)),1,2)) -> 2 | W12: =CHOOSE(V12,SQRT((2*S12*Lm*fsw*(R12-T12))/((T12)^2)),1-(T12/R12)) -> 0.67666667 | X12: =CHOOSE(V12,(Lm*Z12*fsw)/(R12-T12),1-W12) -> 0.32333333 | Y12: =(T12*W12)/(Lm*fsw) -> 10.097949 | Z12: =CHOOSE(V12,Y12,U12+(0.5*Y12)) -> 28.306706 | AA12: =CHOOSE(V12,Z12*SQRT((W12+X12)/3),SQRT((U12^2)+((Y12^2)/12))) -> 23.439699 | AB12: 0 | AC12: =(AA12^2)*Rdcr -> 1.1263099 | AD12: =AB12+AC12 -> 1.1263099 | AE12: =U12*W12 -> 15.737732 | AF12: =CHOOSE(V12,Z12*SQRT(W12/3),SQRT(W12*((Z12^2)+((Y12^2)/3)-(Z12*Y12)))) -> 19.281438 | AG12: =(AF12^2)*RDS_on -> 0.37177385 | AH12: =((R12*U12)/2)*fsw*(tr_sw+tf_sw) -> 1.4544147 | AI12: =AG12+AH12 -> 1.8261885 | AJ12: =X12*U12 -> 7.52 | AK12: =CHOOSE(V12,Z12*SQRT(X12/3),SQRT(X12*((Z12^2)+((Y12^2)/3)-(Y12*Z12)))) -> 13.328377 | AL12: =(AK12^2)*RDS_on_HS -> 0.17764563 | AM12: =CHOOSE(V12,(R12+Vd_rect)*Qrr*fsw,(R12+Vd_rect)*Qrr*fsw) -> 0.260832 | AN12: =Vd_rect*t_dead*fsw*Z12 -> 0.2355118 | AO12: =AL12+AM12+AN12 -> 0.67398943 | AP12: =(AA12^2)*Rcs -> 1.098839 | AQ12: =Rdcr*AA12^2 -> 1.1263099 | AR12: =ABS(7.759*10^-3*fsw^0.9458*(0.00787*Y12)^2.304) -> 1.5583046 | AS12: =(Qg_tot+Qg_tot_HS)*VCC*fsw -> 0.01976 | AT12: =IQ*T12 -> 0.0776 | AU12: =AP12+AO12+AI12+AD12+AS12+AT12+AQ12+AR12 -> 7.5073014 | AV12: =R12*S12 -> 451.2 | AW12: =(AV12/(AV12+AU12))*100 -> 98.363379
Q13: 6 | R13: =VOUT -> 60 | S13: =IOUT -> 7.52 | T13: =VIN_MIN+($O$12)*(Q13) -> 19.68 | U13: =(R13*S13)/(T13*EFF_est) -> 22.926829 | V13: =IF(Calculations!$B$17=3,2,IF((S13*R13/T13)<((T13*(1-(T13/R13)))/(2*Lm*fsw)),1,2)) -> 2 | W13: =CHOOSE(V13,SQRT((2*S13*Lm*fsw*(R13-T13))/((T13)^2)),1-(T13/R13)) -> 0.672 | X13: =CHOOSE(V13,(Lm*Z13*fsw)/(R13-T13),1-W13) -> 0.328 | Y13: =(T13*W13)/(Lm*fsw) -> 10.173046 | Z13: =CHOOSE(V13,Y13,U13+(0.5*Y13)) -> 28.013352 | AA13: =CHOOSE(V13,Z13*SQRT((W13+X13)/3),SQRT((U13^2)+((Y13^2)/12))) -> 23.114146 | AB13: 0 | AC13: =(AA13^2)*Rdcr -> 1.0952407 | AD13: =AB13+AC13 -> 1.0952407 | AE13: =U13*W13 -> 15.406829 | AF13: =CHOOSE(V13,Z13*SQRT(W13/3),SQRT(W13*((Z13^2)+((Y13^2)/3)-(Z13*Y13)))) -> 18.947961 | AG13: =(AF13^2)*RDS_on -> 0.35902523 | AH13: =((R13*U13)/2)*fsw*(tr_sw+tf_sw) -> 1.4337218 | AI13: =AG13+AH13 -> 1.792747 | AJ13: =X13*U13 -> 7.52 | AK13: =CHOOSE(V13,Z13*SQRT(X13/3),SQRT(X13*((Z13^2)+((Y13^2)/3)-(Y13*Z13)))) -> 13.237768 | AL13: =(AK13^2)*RDS_on_HS -> 0.17523851 | AM13: =CHOOSE(V13,(R13+Vd_rect)*Qrr*fsw,(R13+Vd_rect)*Qrr*fsw) -> 0.260832 | AN13: =Vd_rect*t_dead*fsw*Z13 -> 0.23307109 | AO13: =AL13+AM13+AN13 -> 0.6691416 | AP13: =(AA13^2)*Rcs -> 1.0685275 | AQ13: =Rdcr*AA13^2 -> 1.0952407 | AR13: =ABS(7.759*10^-3*fsw^0.9458*(0.00787*Y13)^2.304) -> 1.5851351 | AS13: =(Qg_tot+Qg_tot_HS)*VCC*fsw -> 0.01976 | AT13: =IQ*T13 -> 0.07872 | AU13: =AP13+AO13+AI13+AD13+AS13+AT13+AQ13+AR13 -> 7.4045126 | AV13: =R13*S13 -> 451.2 | AW13: =(AV13/(AV13+AU13))*100 -> 98.385425
Q14: 7 | R14: =VOUT -> 60 | S14: =IOUT -> 7.52 | T14: =VIN_MIN+($O$12)*(Q14) -> 19.96 | U14: =(R14*S14)/(T14*EFF_est) -> 22.60521 | V14: =IF(Calculations!$B$17=3,2,IF((S14*R14/T14)<((T14*(1-(T14/R14)))/(2*Lm*fsw)),1,2)) -> 2 | W14: =CHOOSE(V14,SQRT((2*S14*Lm*fsw*(R14-T14))/((T14)^2)),1-(T14/R14)) -> 0.66733333 | X14: =CHOOSE(V14,(Lm*Z14*fsw)/(R14-T14),1-W14) -> 0.33266667 | Y14: =(T14*W14)/(Lm*fsw) -> 10.246133 | Z14: =CHOOSE(V14,Y14,U14+(0.5*Y14)) -> 27.728277 | AA14: =CHOOSE(V14,Z14*SQRT((W14+X14)/3),SQRT((U14^2)+((Y14^2)/12))) -> 22.797898 | AB14: 0 | AC14: =(AA14^2)*Rdcr -> 1.0654755 | AD14: =AB14+AC14 -> 1.0654755 | AE14: =U14*W14 -> 15.08521 | AF14: =CHOOSE(V14,Z14*SQRT(W14/3),SQRT(W14*((Z14^2)+((Y14^2)/3)-(Z14*Y14)))) -> 18.62371 | AG14: =(AF14^2)*RDS_on -> 0.34684259 | AH14: =((R14*U14)/2)*fsw*(tr_sw+tf_sw) -> 1.4136095 | AI14: =AG14+AH14 -> 1.7604521 | AJ14: =X14*U14 -> 7.52 | AK14: =CHOOSE(V14,Z14*SQRT(X14/3),SQRT(X14*((Z14^2)+((Y14^2)/3)-(Y14*Z14)))) -> 13.149203 | AL14: =(AK14^2)*RDS_on_HS -> 0.17290155 | AM14: =CHOOSE(V14,(R14+Vd_rect)*Qrr*fsw,(R14+Vd_rect)*Qrr*fsw) -> 0.260832 | AN14: =Vd_rect*t_dead*fsw*Z14 -> 0.23069927 | AO14: =AL14+AM14+AN14 -> 0.66443282 | AP14: =(AA14^2)*Rcs -> 1.0394883 | AQ14: =Rdcr*AA14^2 -> 1.0654755 | AR14: =ABS(7.759*10^-3*fsw^0.9458*(0.00787*Y14)^2.304) -> 1.6114966 | AS14: =(Qg_tot+Qg_tot_HS)*VCC*fsw -> 0.01976 | AT14: =IQ*T14 -> 0.07984 | AU14: =AP14+AO14+AI14+AD14+AS14+AT14+AQ14+AR14 -> 7.3064208 | AV14: =R14*S14 -> 451.2 | AW14: =(AV14/(AV14+AU14))*100 -> 98.406474
O15: =0.205*2.5/(Lm*fsw) -> 0.39423077 | Q15: 8 | R15: =VOUT -> 60 | S15: =IOUT -> 7.52 | T15: =VIN_MIN+($O$12)*(Q15) -> 20.24 | U15: =(R15*S15)/(T15*EFF_est) -> 22.29249 | V15: =IF(Calculations!$B$17=3,2,IF((S15*R15/T15)<((T15*(1-(T15/R15)))/(2*Lm*fsw)),1,2)) -> 2 | W15: =CHOOSE(V15,SQRT((2*S15*Lm*fsw*(R15-T15))/((T15)^2)),1-(T15/R15)) -> 0.66266667 | X15: =CHOOSE(V15,(Lm*Z15*fsw)/(R15-T15),1-W15) -> 0.33733333 | Y15: =(T15*W15)/(Lm*fsw) -> 10.31721 | Z15: =CHOOSE(V15,Y15,U15+(0.5*Y15)) -> 27.451095 | AA15: =CHOOSE(V15,Z15*SQRT((W15+X15)/3),SQRT((U15^2)+((Y15^2)/12))) -> 22.490565 | AB15: 0 | AC15: =(AA15^2)*Rdcr -> 1.0369423 | AD15: =AB15+AC15 -> 1.0369423 | AE15: =U15*W15 -> 14.77249 | AF15: =CHOOSE(V15,Z15*SQRT(W15/3),SQRT(W15*((Z15^2)+((Y15^2)/3)-(Z15*Y15)))) -> 18.308296 | AG15: =(AF15^2)*RDS_on -> 0.33519371 | AH15: =((R15*U15)/2)*fsw*(tr_sw+tf_sw) -> 1.3940536 | AI15: =AG15+AH15 -> 1.7292473 | AJ15: =X15*U15 -> 7.52 | AK15: =CHOOSE(V15,Z15*SQRT(X15/3),SQRT(X15*((Z15^2)+((Y15^2)/3)-(Y15*Z15)))) -> 13.062611 | AL15: =(AK15^2)*RDS_on_HS -> 0.17063181 | AM15: =CHOOSE(V15,(R15+Vd_rect)*Qrr*fsw,(R15+Vd_rect)*Qrr*fsw) -> 0.260832 | AN15: =Vd_rect*t_dead*fsw*Z15 -> 0.22839311 | AO15: =AL15+AM15+AN15 -> 0.65985692 | AP15: =(AA15^2)*Rcs -> 1.011651 | AQ15: =Rdcr*AA15^2 -> 1.0369423 | AR15: =ABS(7.759*10^-3*fsw^0.9458*(0.00787*Y15)^2.304) -> 1.6373693 | AS15: =(Qg_tot+Qg_tot_HS)*VCC*fsw -> 0.01976 | AT15: =IQ*T15 -> 0.08096 | AU15: =AP15+AO15+AI15+AD15+AS15+AT15+AQ15+AR15 -> 7.2127292 | AV15: =R15*S15 -> 451.2 | AW15: =(AV15/(AV15+AU15))*100 -> 98.426586
Q16: 9 | R16: =VOUT -> 60 | S16: =IOUT -> 7.52 | T16: =VIN_MIN+($O$12)*(Q16) -> 20.52 | U16: =(R16*S16)/(T16*EFF_est) -> 21.988304 | V16: =IF(Calculations!$B$17=3,2,IF((S16*R16/T16)<((T16*(1-(T16/R16)))/(2*Lm*fsw)),1,2)) -> 2 | W16: =CHOOSE(V16,SQRT((2*S16*Lm*fsw*(R16-T16))/((T16)^2)),1-(T16/R16)) -> 0.658 | X16: =CHOOSE(V16,(Lm*Z16*fsw)/(R16-T16),1-W16) -> 0.342 | Y16: =(T16*W16)/(Lm*fsw) -> 10.386277 | Z16: =CHOOSE(V16,Y16,U16+(0.5*Y16)) -> 27.181443 | AA16: =CHOOSE(V16,Z16*SQRT((W16+X16)/3),SQRT((U16^2)+((Y16^2)/12))) -> 22.19178 | AB16: 0 | AC16: =(AA16^2)*Rdcr -> 1.0095739 | AD16: =AB16+AC16 -> 1.0095739 | AE16: =U16*W16 -> 14.468304 | AF16: =CHOOSE(V16,Z16*SQRT(W16/3),SQRT(W16*((Z16^2)+((Y16^2)/3)-(Z16*Y16)))) -> 18.00135 | AG16: =(AF16^2)*RDS_on -> 0.3240486 | AH16: =((R16*U16)/2)*fsw*(tr_sw+tf_sw) -> 1.3750314 | AI16: =AG16+AH16 -> 1.69908 | AJ16: =X16*U16 -> 7.52 | AK16: =CHOOSE(V16,Z16*SQRT(X16/3),SQRT(X16*((Z16^2)+((Y16^2)/3)-(Y16*Z16)))) -> 12.977923 | AL16: =(AK16^2)*RDS_on_HS -> 0.16842648 | AM16: =CHOOSE(V16,(R16+Vd_rect)*Qrr*fsw,(R16+Vd_rect)*Qrr*fsw) -> 0.260832 | AN16: =Vd_rect*t_dead*fsw*Z16 -> 0.2261496 | AO16: =AL16+AM16+AN16 -> 0.65540808 | AP16: =(AA16^2)*Rcs -> 0.98495016 | AQ16: =Rdcr*AA16^2 -> 1.0095739 | AR16: =ABS(7.759*10^-3*fsw^0.9458*(0.00787*Y16)^2.304) -> 1.6627339 | AS16: =(Qg_tot+Qg_tot_HS)*VCC*fsw -> 0.01976 | AT16: =IQ*T16 -> 0.08208 | AU16: =AP16+AO16+AI16+AD16+AS16+AT16+AQ16+AR16 -> 7.12316 | AV16: =R16*S16 -> 451.2 | AW16: =(AV16/(AV16+AU16))*100 -> 98.445821
Q17: 10 | R17: =VOUT -> 60 | S17: =IOUT -> 7.52 | T17: =VIN_MIN+($O$12)*(Q17) -> 20.8 | U17: =(R17*S17)/(T17*EFF_est) -> 21.692308 | V17: =IF(Calculations!$B$17=3,2,IF((S17*R17/T17)<((T17*(1-(T17/R17)))/(2*Lm*fsw)),1,2)) -> 2 | W17: =CHOOSE(V17,SQRT((2*S17*Lm*fsw*(R17-T17))/((T17)^2)),1-(T17/R17)) -> 0.65333333 | X17: =CHOOSE(V17,(Lm*Z17*fsw)/(R17-T17),1-W17) -> 0.34666667 | Y17: =(T17*W17)/(Lm*fsw) -> 10.453333 | Z17: =CHOOSE(V17,Y17,U17+(0.5*Y17)) -> 26.918974 | AA17: =CHOOSE(V17,Z17*SQRT((W17+X17)/3),SQRT((U17^2)+((Y17^2)/12))) -> 21.901192 | AB17: 0 | AC17: =(AA17^2)*Rdcr -> 0.98330757 | AD17: =AB17+AC17 -> 0.98330757 | AE17: =U17*W17 -> 14.172308 | AF17: =CHOOSE(V17,Z17*SQRT(W17/3),SQRT(W17*((Z17^2)+((Y17^2)/3)-(Z17*Y17)))) -> 17.702523 | AG17: =(AF17^2)*RDS_on -> 0.31337932 | AH17: =((R17*U17)/2)*fsw*(tr_sw+tf_sw) -> 1.3565214 | AI17: =AG17+AH17 -> 1.6699007 | AJ17: =X17*U17 -> 7.52 | AK17: =CHOOSE(V17,Z17*SQRT(X17/3),SQRT(X17*((Z17^2)+((Y17^2)/3)-(Y17*Z17)))) -> 12.895073 | AL17: =(AK17^2)*RDS_on_HS -> 0.16628291 | AM17: =CHOOSE(V17,(R17+Vd_rect)*Qrr*fsw,(R17+Vd_rect)*Qrr*fsw) -> 0.260832 | AN17: =Vd_rect*t_dead*fsw*Z17 -> 0.22396587 | AO17: =AL17+AM17+AN17 -> 0.65108077 | AP17: =(AA17^2)*Rcs -> 0.95932446 | AQ17: =Rdcr*AA17^2 -> 0.98330757 | AR17: =ABS(7.759*10^-3*fsw^0.9458*(0.00787*Y17)^2.304) -> 1.6875716 | AS17: =(Qg_tot+Qg_tot_HS)*VCC*fsw -> 0.01976 | AT17: =IQ*T17 -> 0.0832 | AU17: =AP17+AO17+AI17+AD17+AS17+AT17+AQ17+AR17 -> 7.0374527 | AV17: =R17*S17 -> 451.2 | AW17: =(AV17/(AV17+AU17))*100 -> 98.464234
Q18: 11 | R18: =VOUT -> 60 | S18: =IOUT -> 7.52 | T18: =VIN_MIN+($O$12)*(Q18) -> 21.08 | U18: =(R18*S18)/(T18*EFF_est) -> 21.404175 | V18: =IF(Calculations!$B$17=3,2,IF((S18*R18/T18)<((T18*(1-(T18/R18)))/(2*Lm*fsw)),1,2)) -> 2 | W18: =CHOOSE(V18,SQRT((2*S18*Lm*fsw*(R18-T18))/((T18)^2)),1-(T18/R18)) -> 0.64866667 | X18: =CHOOSE(V18,(Lm*Z18*fsw)/(R18-T18),1-W18) -> 0.35133333 | Y18: =(T18*W18)/(Lm*fsw) -> 10.518379 | Z18: =CHOOSE(V18,Y18,U18+(0.5*Y18)) -> 26.663364 | AA18: =CHOOSE(V18,Z18*SQRT((W18+X18)/3),SQRT((U18^2)+((Y18^2)/12))) -> 21.618473 | AB18: 0 | AC18: =(AA18^2)*Rdcr -> 0.95808468 | AD18: =AB18+AC18 -> 0.95808468 | AE18: =U18*W18 -> 13.884175 | AF18: =CHOOSE(V18,Z18*SQRT(W18/3),SQRT(W18*((Z18^2)+((Y18^2)/3)-(Z18*Y18)))) -> 17.411485 | AG18: =(AF18^2)*RDS_on -> 0.3031598 | AH18: =((R18*U18)/2)*fsw*(tr_sw+tf_sw) -> 1.3385031 | AI18: =AG18+AH18 -> 1.6416629 | AJ18: =X18*U18 -> 7.52 | AK18: =CHOOSE(V18,Z18*SQRT(X18/3),SQRT(X18*((Z18^2)+((Y18^2)/3)-(Y18*Z18)))) -> 12.813999 | AL18: =(AK18^2)*RDS_on_HS -> 0.16419858 | AM18: =CHOOSE(V18,(R18+Vd_rect)*Qrr*fsw,(R18+Vd_rect)*Qrr*fsw) -> 0.260832 | AN18: =Vd_rect*t_dead*fsw*Z18 -> 0.22183919 | AO18: =AL18+AM18+AN18 -> 0.64686977 | AP18: =(AA18^2)*Rcs -> 0.93471676 | AQ18: =Rdcr*AA18^2 -> 0.95808468 | AR18: =ABS(7.759*10^-3*fsw^0.9458*(0.00787*Y18)^2.304) -> 1.7118641 | AS18: =(Qg_tot+Qg_tot_HS)*VCC*fsw -> 0.01976 | AT18: =IQ*T18 -> 0.08432 | AU18: =AP18+AO18+AI18+AD18+AS18+AT18+AQ18+AR18 -> 6.9553628 | AV18: =R18*S18 -> 451.2 | AW18: =(AV18/(AV18+AU18))*100 -> 98.481877
