{"text_format":"1","workbook":"xlsx","n_sheets":13,"sheets":["Intro","User Input","Circuit Diagrams","Calculations","NFET Data","PFET Data","NLogic","PLogic","Ploss_All_NFETs","Ploss_All_PFETs","FET_List1","FET_List2","FET_List3"],"not_rendered":{"charts":0,"images":4,"macros":1,"external_links":0,"defined_names":169,"comments":1,"pivot_tables":0},"unopened":[],"bounds":{"document_bytes":16777216,"sheet_cells":100000,"rows_first":2000,"rows_last":500,"rows_between":2000,"halvings":0,"cell_chars":16384,"cell_head_chars":4096},"cells_cut":0,"cells_raw":0,"read":"whole","date_system":"1900"}

{"sheet":"Intro","index":0,"n_rows":24,"n_cols":13,"rows_kept":24,"cut":false,"hidden":false,"merged":[]}
[]
[]
[]
[]
[]
[]
[null,null,null,null,null,null,null,null,null,null,null,null,"© 2022"]
[null,"TI NexFET Load Switch Power Loss Calculation Tool- Rev. A"]
[null,"User Input Worksheet Instructions:"]
[null,"Step 1: Fill in the blue System Parameters cells. "]
[null,"Step 2: Click on the big blue Start FET Selection button."]
[null,"Step 3: Select a sorting method and use the pulldown lists to select and compare up to 3 different devices."]
[null,"The yellow cells are from the FET datasheet. The green cells are calculated values."]
[null,"Refer to Circuit Diagrams Worksheet for application circuits."]
[null,"Comments or suggestions should be posted on: e2e.ti.com"]
[]
[null,"This worksheet is designed with Microsoft Excel 2019.  Its use is intended to assist power supply designers in their routine, day-to-day"]
[null,"calculations.    "," "]
[]
[null,null,"Disclaimer"]
[null,null,"This product is designed as an aid for customers of Texas Instruments.  No warranties, either express"]
[null,null,"or implied, with respect to this software or its fitness for any particular purpose is claimed by Texas"]
[null,null,"Instruments or the author.  The software is licensed solely on an \"as is\" basis.  The entire risk as to its"]
[null,null,"quality and performance is with the customer."]

{"sheet":"User Input","index":1,"n_rows":26,"n_cols":10,"rows_kept":26,"cut":false,"hidden":false,"merged":[[1,4,1,6],[17,0,17,1],[18,0,18,1],[19,0,19,1],[20,0,20,1],[1,0,2,1],[9,0,9,1],[3,3,4,3],[23,3,23,6],[16,0,16,1],[10,0,10,1],[15,0,15,1],[21,0,21,1]]}
[]
["Step 1: Input System Parameters",null,null,"Step 3:",{"$f":"IF(CH=\"N\",HYPERLINK(J9,\"Click Here for N-Channel MOSFET Selector on TI.com\"),HYPERLINK(J10,\"Click Here for P-Channel MOSFET Selector on TI.com\"))","v":"Click Here for N-Channel MOSFET Selector on TI.com"}]
[null,null,null,"Sort FETs by","          $/1ku              Ploss                 Pkg","          $/1ku              Ploss                 Pkg","          $/1ku              Ploss                 Pkg"]
["Select N or P Channel FET in B4","N",null,"Select FETs from Pulldown in Cells E6 - G6","Choice 1","Choice 2","Choice 3",null,null,"N"]
["Select High or Low Side Switch in B5","LOW",null,null,"PN, PKG, PLOSS, $/1ku","PN, PKG, PLOSS, $/1ku","PN, PKG, PLOSS, $/1ku",null,null,"P"]
["Input Voltage, VIN (V)",1.5,null,"FET Comparison →→→→","CSD16570Q5B, SON5X6, 2.225W, $0.753",null,null,null,null,"HIGH"]
["Gate Drive Voltage, VG (V)",10,null,"BVDSS (V)",{"$f":"IF(Part_Number<>\"Invalid Part\",IF(CH=\"N\",LOOKUP(Part_Number,Load_Switch_NFET[PARTNUMBER],Load_Switch_NFET[VDSMAX]),LOOKUP(Part_Number,Load_Switch_PFET[PARTNUMBER],Load_Switch_PFET[VDSMAX])),\"Not Allowed\")","v":25},{"$f":"IF(Part_Number2<>\"Invalid Part\",IF(CH=\"N\",LOOKUP(Part_Number2,Load_Switch_NFET[PARTNUMBER],Load_Switch_NFET[VDSMAX]),LOOKUP(Part_Number2,Load_Switch_PFET[PARTNUMBER],Load_Switch_PFET[VDSMAX])),\"Not Allowed\")","v":{"$error":"#N/A"}},{"$f":"IF(Part_Number3<>\"Invalid Part\",IF(CH=\"N\",LOOKUP(Part_Number3,Load_Switch_NFET[PARTNUMBER],Load_Switch_NFET[VDSMAX]),LOOKUP(Part_Number3,Load_Switch_PFET[PARTNUMBER],Load_Switch_PFET[VDSMAX])),\"Not Allowed\")","v":{"$error":"#N/A"}},null,null,"LOW"]
["Max Load Current, ILOAD (A)",60,null,"VGS Max (V)",{"$f":"IF(Part_Number<>\"Invalid Part\",IF(CH=\"N\",LOOKUP(Part_Number,Load_Switch_NFET[PARTNUMBER],Load_Switch_NFET[VGSMAX]),LOOKUP(Part_Number,Load_Switch_PFET[PARTNUMBER],Load_Switch_PFET[VGSMAX])),\"Not Allowed\")","v":20},{"$f":"IF(Part_Number2<>\"Invalid Part\",IF(CH=\"N\",LOOKUP(Part_Number2,Load_Switch_NFET[PARTNUMBER],Load_Switch_NFET[VGSMAX]),LOOKUP(Part_Number2,Load_Switch_PFET[PARTNUMBER],Load_Switch_PFET[VGSMAX])),\"Not Allowed\")","v":{"$error":"#N/A"}},{"$f":"IF(Part_Number3<>\"Invalid Part\",IF(CH=\"N\",LOOKUP(Part_Number3,Load_Switch_NFET[PARTNUMBER],Load_Switch_NFET[VGSMAX]),LOOKUP(Part_Number3,Load_Switch_PFET[PARTNUMBER],Load_Switch_PFET[VGSMAX])),\"Not Allowed\")","v":{"$error":"#N/A"}}]
["Junction Temperature, TJ (ºC)",75,null,"VGS Min @ RDS(ON) spec'd (V)",{"$f":"IF(Part_Number<>\"Invalid Part\",IF(CH=\"N\",LOOKUP(Part_Number,NFET_PLOSS[PN],NFET_PLOSS[VGSMIN]),LOOKUP(Part_Number,PFET_PLOSS[PN],PFET_PLOSS[VGSMIN])),\"Not Allowed\")","v":4.5},{"$f":"IF(Part_Number2<>\"Invalid Part\",IF(CH=\"N\",LOOKUP(Part_Number2,NFET_PLOSS[PN],NFET_PLOSS[VGSMIN]),LOOKUP(Part_Number2,PFET_PLOSS[PN],PFET_PLOSS[VGSMIN])),\"Not Allowed\")","v":"#N/A"},{"$f":"IF(Part_Number3<>\"Invalid Part\",IF(CH=\"N\",LOOKUP(Part_Number3,NFET_PLOSS[PN],NFET_PLOSS[VGSMIN]),LOOKUP(Part_Number3,PFET_PLOSS[PN],PFET_PLOSS[VGSMIN])),\"Not Allowed\")","v":"#N/A"},null,null,"http://www.ti.com/power-management/mosfets/n-channel-transistors/products.html#p1143=Single&sort=o1;asc"]
["Step 2: Click The Blue Button Below",null,null,"VGS(TH) Min (V)",{"$f":"IF(Part_Number<>\"Invalid Part\",IF(CH=\"N\",LOOKUP(Part_Number,Load_Switch_NFET[PARTNUMBER],Load_Switch_NFET[VTHMIN]),LOOKUP(Part_Number,Load_Switch_PFET[PARTNUMBER],Load_Switch_PFET[VTHMIN])),\"Not Allowed\")","v":1.1000000000000001},{"$f":"IF(Part_Number2<>\"Invalid Part\",IF(CH=\"N\",LOOKUP(Part_Number2,Load_Switch_NFET[PARTNUMBER],Load_Switch_NFET[VTHMIN]),LOOKUP(Part_Number2,Load_Switch_PFET[PARTNUMBER],Load_Switch_PFET[VTHMIN])),\"Not Allowed\")","v":{"$error":"#N/A"}},{"$f":"IF(Part_Number3<>\"Invalid Part\",IF(CH=\"N\",LOOKUP(Part_Number3,Load_Switch_NFET[PARTNUMBER],Load_Switch_NFET[VTHMIN]),LOOKUP(Part_Number3,Load_Switch_PFET[PARTNUMBER],Load_Switch_PFET[VTHMIN])),\"Not Allowed\")","v":{"$error":"#N/A"}},null,null,"http://www.ti.com/power-management/mosfets/p-channel-transistors/products.html#p1143=Single&sort=o1;asc"]
["↓↓↓↓↓↓↓↓↓↓↓↓↓↓↓↓↓↓↓↓",null,null,"VGS(TH) Max (V)",{"$f":"IF(Part_Number<>\"Invalid Part\",IF(CH=\"N\",LOOKUP(Part_Number,Load_Switch_NFET[PARTNUMBER],Load_Switch_NFET[VTHMAX]),LOOKUP(Part_Number,Load_Switch_PFET[PARTNUMBER],Load_Switch_PFET[VTHMAX])),\"Not Allowed\")","v":1.9},{"$f":"IF(Part_Number2<>\"Invalid Part\",IF(CH=\"N\",LOOKUP(Part_Number2,Load_Switch_NFET[PARTNUMBER],Load_Switch_NFET[VTHMAX]),LOOKUP(Part_Number2,Load_Switch_PFET[PARTNUMBER],Load_Switch_PFET[VTHMAX])),\"Not Allowed\")","v":{"$error":"#N/A"}},{"$f":"IF(Part_Number3<>\"Invalid Part\",IF(CH=\"N\",LOOKUP(Part_Number3,Load_Switch_NFET[PARTNUMBER],Load_Switch_NFET[VTHMAX]),LOOKUP(Part_Number3,Load_Switch_PFET[PARTNUMBER],Load_Switch_PFET[VTHMAX])),\"Not Allowed\")","v":{"$error":"#N/A"}}]
[null,null,null,"RDS(ON) Max (mΩ) ",{"$f":"IF(Part_Number<>\"Invalid Part\",IF(CH=\"N\",RDSON,RDSONP),\"Not Allowed\")","v":0.5},{"$f":"IF(Part_Number2<>\"Invalid Part\",IF(CH=\"N\",RDSON2,RDSONP2),\"Not Allowed\")","v":{"$error":"#N/A"}},{"$f":"IF(Part_Number3<>\"Invalid Part\",IF(CH=\"N\",RDSON3,RDSONP3),\"Not Allowed\")","v":{"$error":"#N/A"}}]
[null,null,null,"RG Typ (Ω)",{"$f":"IF(Part_Number<>\"Invalid Part\",IF(CH=\"N\",LOOKUP(Part_Number,Load_Switch_NFET[PARTNUMBER],Load_Switch_NFET[RGITYP]),LOOKUP(Part_Number,Load_Switch_PFET[PARTNUMBER],Load_Switch_PFET[RGITYP])),\"Not Allowed\")","v":1.8},{"$f":"IF(Part_Number2<>\"Invalid Part\",IF(CH=\"N\",LOOKUP(Part_Number2,Load_Switch_NFET[PARTNUMBER],Load_Switch_NFET[RGITYP]),LOOKUP(Part_Number2,Load_Switch_PFET[PARTNUMBER],Load_Switch_PFET[RGITYP])),\"Not Allowed\")","v":{"$error":"#N/A"}},{"$f":"IF(Part_Number3<>\"Invalid Part\",IF(CH=\"N\",LOOKUP(Part_Number3,Load_Switch_NFET[PARTNUMBER],Load_Switch_NFET[RGITYP]),LOOKUP(Part_Number3,Load_Switch_PFET[PARTNUMBER],Load_Switch_PFET[RGITYP])),\"Not Allowed\")","v":{"$error":"#N/A"}}]
[null,null,null,"QG(tot) (VGS=4.5V) (nC) ",{"$f":"IF(Part_Number<>\"Invalid Part\",IF(CH=\"N\",LOOKUP(Part_Number,Load_Switch_NFET[PARTNUMBER],Load_Switch_NFET[QGTYP]),LOOKUP(Part_Number,Load_Switch_PFET[PARTNUMBER],Load_Switch_PFET[QGTYP])),\"Not Allowed\")","v":192},{"$f":"IF(Part_Number2<>\"Invalid Part\",IF(CH=\"N\",LOOKUP(Part_Number2,Load_Switch_NFET[PARTNUMBER],Load_Switch_NFET[QGTYP]),LOOKUP(Part_Number2,Load_Switch_PFET[PARTNUMBER],Load_Switch_PFET[QGTYP])),\"Not Allowed\")","v":{"$error":"#N/A"}},{"$f":"IF(Part_Number3<>\"Invalid Part\",IF(CH=\"N\",LOOKUP(Part_Number3,Load_Switch_NFET[PARTNUMBER],Load_Switch_NFET[QGTYP]),LOOKUP(Part_Number3,Load_Switch_PFET[PARTNUMBER],Load_Switch_PFET[QGTYP])),\"Not Allowed\")","v":{"$error":"#N/A"}}]
[null,null,null,"QGD (nC)",{"$f":"IF(Part_Number<>\"Invalid Part\",IF(CH=\"N\",LOOKUP(Part_Number,Load_Switch_NFET[PARTNUMBER],Load_Switch_NFET[QGD]),LOOKUP(Part_Number,Load_Switch_PFET[PARTNUMBER],Load_Switch_PFET[QGD])),\"Not Allowed\")","v":31},{"$f":"IF(Part_Number2<>\"Invalid Part\",IF(CH=\"N\",LOOKUP(Part_Number2,Load_Switch_NFET[PARTNUMBER],Load_Switch_NFET[QGD]),LOOKUP(Part_Number2,Load_Switch_PFET[PARTNUMBER],Load_Switch_PFET[QGD])),\"Not Allowed\")","v":{"$error":"#N/A"}},{"$f":"IF(Part_Number3<>\"Invalid Part\",IF(CH=\"N\",LOOKUP(Part_Number3,Load_Switch_NFET[PARTNUMBER],Load_Switch_NFET[QGD]),LOOKUP(Part_Number3,Load_Switch_PFET[PARTNUMBER],Load_Switch_PFET[QGD])),\"Not Allowed\")","v":{"$error":"#N/A"}}]
[null,null,null,"TJ Max (°C)",{"$f":"IF(Part_Number<>\"Invalid Part\",IF(CH=\"N\",LOOKUP(Part_Number,Load_Switch_NFET[PARTNUMBER],Load_Switch_NFET[TJMAX]),LOOKUP(Part_Number,Load_Switch_PFET[PARTNUMBER],Load_Switch_PFET[TJMAX])),\"Not Allowed\")","v":150},{"$f":"IF(Part_Number2<>\"Invalid Part\",IF(CH=\"N\",LOOKUP(Part_Number2,Load_Switch_NFET[PARTNUMBER],Load_Switch_NFET[TJMAX]),LOOKUP(Part_Number2,Load_Switch_PFET[PARTNUMBER],Load_Switch_PFET[TJMAX])),\"Not Allowed\")","v":{"$error":"#N/A"}},{"$f":"IF(Part_Number3<>\"Invalid Part\",IF(CH=\"N\",LOOKUP(Part_Number3,Load_Switch_NFET[PARTNUMBER],Load_Switch_NFET[TJMAX]),LOOKUP(Part_Number3,Load_Switch_PFET[PARTNUMBER],Load_Switch_PFET[TJMAX])),\"Not Allowed\")","v":{"$error":"#N/A"}}]
["↑↑↑↑↑↑↑↑↑↑↑↑↑↑↑↑↑↑↑↑",null,null,"Package",{"$f":"IF(Part_Number<>\"Invalid Part\",IF(CH=\"N\",LOOKUP(Part_Number,Load_Switch_NFET[PARTNUMBER],Load_Switch_NFET[TI_EQ_PACKAGE]),LOOKUP(Part_Number,Load_Switch_PFET[PARTNUMBER],Load_Switch_PFET[TI_EQ_PACKAGE])),\"Not Allowed\")","v":"SON5X6"},{"$f":"IF(Part_Number2<>\"Invalid Part\",IF(CH=\"N\",LOOKUP(Part_Number2,Load_Switch_NFET[PARTNUMBER],Load_Switch_NFET[TI_EQ_PACKAGE]),LOOKUP(Part_Number2,Load_Switch_PFET[PARTNUMBER],Load_Switch_PFET[TI_EQ_PACKAGE])),\"Not Allowed\")","v":{"$error":"#N/A"}},{"$f":"IF(Part_Number3<>\"NInvalid Part\",IF(CH=\"N\",LOOKUP(Part_Number3,Load_Switch_NFET[PARTNUMBER],Load_Switch_NFET[TI_EQ_PACKAGE]),LOOKUP(Part_Number3,Load_Switch_PFET[PARTNUMBER],Load_Switch_PFET[TI_EQ_PACKAGE])),\"Not Allowed\")","v":{"$error":"#N/A"}}]
["User Input",null,null,"1ku Price*",{"$f":"IF(Part_Number<>\"Invalid Part\",IF(CH=\"N\",LOOKUP(Part_Number,Load_Switch_NFET[PARTNUMBER],Load_Switch_NFET[1KPRICE]),LOOKUP(Part_Number,Load_Switch_PFET[PARTNUMBER],Load_Switch_PFET[1KPRICE])),\"Not Allowed\")","v":0.753},{"$f":"IF(Part_Number2<>\"Invalid Part\",IF(CH=\"N\",LOOKUP(Part_Number2,Load_Switch_NFET[PARTNUMBER],Load_Switch_NFET[1KPRICE]),LOOKUP(Part_Number2,Load_Switch_PFET[PARTNUMBER],Load_Switch_PFET[1KPRICE])),\"Not Allowed\")","v":{"$error":"#N/A"}},{"$f":"IF(Part_Number3<>\"Invalid Part\",IF(CH=\"N\",LOOKUP(Part_Number3,Load_Switch_NFET[PARTNUMBER],Load_Switch_NFET[1KPRICE]),LOOKUP(Part_Number3,Load_Switch_PFET[PARTNUMBER],Load_Switch_PFET[1KPRICE])),\"Not Allowed\")","v":{"$error":"#N/A"}}]
["Datasheet Value",null,null,"Datasheet Link",{"$f":"IF(Part_Number<>\"Invalid Part\",IF(CH=\"N\",HYPERLINK(LOOKUP(Part_Number,Load_Switch_NFET[PARTNUMBER],Load_Switch_NFET[DATASHEET_URL]),Part_Number),HYPERLINK(LOOKUP(Part_Number,Load_Switch_PFET[PARTNUMBER],Load_Switch_PFET[DATASHEET_URL]),Part_Number)),\"Not Allowed\")","v":"CSD16570Q5B, SON5X6, 2.225W, $0.753"},{"$f":"IF(Part_Number2<>\"Invalid Part\",IF(CH=\"N\",HYPERLINK(LOOKUP(Part_Number2,Load_Switch_NFET[PARTNUMBER],Load_Switch_NFET[DATASHEET_URL]),Part_Number2),HYPERLINK(LOOKUP(Part_Number2,Load_Switch_PFET[PARTNUMBER],Load_Switch_PFET[DATASHEET_URL]),Part_Number2)),\"Not Allowed\")","v":{"$error":"#N/A"}},{"$f":"IF(Part_Number3<>\"Invalid Part\",IF(CH=\"N\",HYPERLINK(LOOKUP(Part_Number3,Load_Switch_NFET[PARTNUMBER],Load_Switch_NFET[DATASHEET_URL]),Part_Number3),HYPERLINK(LOOKUP(Part_Number3,Load_Switch_PFET[PARTNUMBER],Load_Switch_PFET[DATASHEET_URL]),Part_Number3)),\"Not Allowed\")","v":{"$error":"#N/A"}}]
["Calculated Value",null,null,"VGS Drive (V)",{"$f":"IF(CH=\"N\",VGS_DR,-VGS_DR)","v":10},{"$f":"IF(CH=\"N\",VGS_DR,-VGS_DR)","v":10},{"$f":"IF(CH=\"N\",VGS_DR,-VGS_DR)","v":10}]
["Invalid, Enter a Different Value",null,null,"RDS(ON) @ TJ (mΩ)",{"$f":"IF(Part_Number<>\"Invalid Part\",RDSONTJ,\"Not Allowed\")","v":0.61799999999999999},{"$f":"IF(Part_Number2<>\"Invalid Part\",RDSONTJ2,\"Not Allowed\")","v":{"$error":"#N/A"}},{"$f":"IF(Part_Number3<>\"Invalid Part\",RDSONTJ3,\"Not Allowed\")","v":{"$error":"#N/A"}}]
["Value is Fixed",null,null,"Total MOSFET Losses (W)",{"$f":"IF(Part_Number<>\"Invalid Part\",PCOND,\"Not Allowed\")","v":2.2248000000000001},{"$f":"IF(Part_Number2<>\"Invalid Part\",PCOND2,\"Not Allowed\")","v":{"$error":"#N/A"}},{"$f":"IF(Part_Number3<>\"Invalid Part\",PCOND3,\"Not Allowed\")","v":{"$error":"#N/A"}}]
[null,null,null,"Color Codes","Calculated PLOSS < 80% of PDISS","Calculated PLOSS > 80% of PDISS","Calculated PLOSS > PDISS"]
[null,null,null,"Click Here to See FET Power Loss Capability by Package"]
[]
[null,null,null,"*1ku pricing provided for comparison purposes only and subject to change without notification"]

{"sheet":"Circuit Diagrams","index":2,"n_rows":0,"n_cols":0,"rows_kept":0,"cut":false,"hidden":false,"merged":[]}

{"sheet":"Calculations","index":3,"n_rows":20,"n_cols":9,"rows_kept":20,"cut":false,"hidden":true,"merged":[]}
[]
["FET #","TI PN","Rds(on) @ Tj","PLOSS","PKG ID","PKG","PDISSmax"]
[1,{"$f":"IF(CH=\"P\",H3,I3)","v":"CSD16570Q5B"},{"$f":"IF(CH=\"N\",RDSON*(1+(Tj-25)*(LOOKUP(Part_Number,Load_Switch_NFET[PARTNUMBER],Load_Switch_NFET[RDSDELTA])/((LOOKUP(Part_Number,Load_Switch_NFET[PARTNUMBER],Load_Switch_NFET[TJMAX])-25)))),RDSONP*(1+(Tj-25)*(LOOKUP(Part_Number,Load_Switch_PFET[PARTNUMBER],Load_Switch_PFET[RDSDELTA])/((LOOKUP(Part_Number,Load_Switch_PFET[PARTNUMBER],Load_Switch_PFET[TJMAX])-25)))))","v":0.61799999999999999},{"$f":"Io^2*RDSONTJ*m","v":2.2248000000000001},{"$f":"RIGHT(B3,2)","v":"5B"},{"$f":"IF(CH=\"N\",LOOKUP(B3,Load_Switch_NFET[PARTNUMBER],Load_Switch_NFET[TI_EQ_PACKAGE]),LOOKUP(B3,Load_Switch_PFET[PARTNUMBER],Load_Switch_PFET[TI_EQ_PACKAGE]))","v":"SON5X6"},{"$f":"LOOKUP(F3,Table3[Package],Table3[Pdmax])","v":3},{"$f":"IF(Part_Number<>\"Invalid Part\",LOOKUP(MID(Part_Number,FIND(\"CSD\",Part_Number),19),Load_Switch_PFET[PARTNUMBER],Load_Switch_PFET[PARTNUMBER]),\"Not Allowed\")","v":{"$error":"#N/A"}},{"$f":"IF(Part_Number<>\"Invalid Part\",LOOKUP(MID(Part_Number,FIND(\"CSD\",Part_Number),19),Load_Switch_NFET[PARTNUMBER],Load_Switch_NFET[PARTNUMBER]),\"Not Allowed\")","v":"CSD16570Q5B"}]
[2,{"$f":"IF(CH=\"P\",H4,I4)","v":{"$error":"#VALUE!"}},{"$f":"IF(CH=\"N\",RDSON2*(1+(Tj-25)*(LOOKUP(Part_Number2,Load_Switch_NFET[PARTNUMBER],Load_Switch_NFET[RDSDELTA])/((LOOKUP(Part_Number2,Load_Switch_NFET[PARTNUMBER],Load_Switch_NFET[TJMAX])-25)))),RDSONP2*(1+(Tj-25)*(LOOKUP(Part_Number2,Load_Switch_PFET[PARTNUMBER],Load_Switch_PFET[RDSDELTA])/((LOOKUP(Part_Number2,Load_Switch_PFET[PARTNUMBER],Load_Switch_PFET[TJMAX])-25)))))","v":{"$error":"#N/A"}},{"$f":"Io^2*RDSONTJ2*m","v":{"$error":"#N/A"}},{"$f":"RIGHT(B4,2)","v":{"$error":"#VALUE!"}},{"$f":"IF(CH=\"N\",LOOKUP(B4,Load_Switch_NFET[PARTNUMBER],Load_Switch_NFET[TI_EQ_PACKAGE]),LOOKUP(B4,Load_Switch_PFET[PARTNUMBER],Load_Switch_PFET[TI_EQ_PACKAGE]))","v":{"$error":"#VALUE!"}},{"$f":"LOOKUP(F4,Table3[Package],Table3[Pdmax])","v":{"$error":"#VALUE!"}},{"$f":"IF(Part_Number2<>\"Invalid Part\",LOOKUP(MID(Part_Number2,FIND(\"CSD\",Part_Number),19),Load_Switch_PFET[PARTNUMBER],Load_Switch_PFET[PARTNUMBER]),\"Not Allowed\")","v":{"$error":"#N/A"}},{"$f":"IF(Part_Number2<>\"Invalid Part\",LOOKUP(MID(Part_Number2,FIND(\"CSD\",Part_Number2),19),Load_Switch_NFET[PARTNUMBER],Load_Switch_NFET[PARTNUMBER]),\"Not Allowed\")","v":{"$error":"#VALUE!"}}]
[3,{"$f":"IF(CH=\"P\",H5,I5)","v":{"$error":"#VALUE!"}},{"$f":"IF(CH=\"N\",RDSON3*(1+(Tj-25)*(LOOKUP(Part_Number3,Load_Switch_NFET[PARTNUMBER],Load_Switch_NFET[RDSDELTA])/((LOOKUP(Part_Number3,Load_Switch_NFET[PARTNUMBER],Load_Switch_NFET[TJMAX])-25)))),RDSONP3*(1+(Tj-25)*(LOOKUP(Part_Number3,Load_Switch_PFET[PARTNUMBER],Load_Switch_PFET[RDSDELTA])/((LOOKUP(Part_Number3,Load_Switch_PFET[PARTNUMBER],Load_Switch_PFET[TJMAX])-25)))))","v":{"$error":"#N/A"}},{"$f":"Io^2*RDSONTJ3*m","v":{"$error":"#N/A"}},{"$error":"#VALUE!"},{"$f":"IF(CH=\"N\",LOOKUP(B5,Load_Switch_NFET[PARTNUMBER],Load_Switch_NFET[TI_EQ_PACKAGE]),LOOKUP(B5,Load_Switch_PFET[PARTNUMBER],Load_Switch_PFET[TI_EQ_PACKAGE]))","v":{"$error":"#VALUE!"}},{"$f":"LOOKUP(F5,Table3[Package],Table3[Pdmax])","v":{"$error":"#VALUE!"}},{"$f":"IF(Part_Number3<>\"Invalid Part\",LOOKUP(MID(Part_Number3,FIND(\"CSD\",Part_Number3),19),Load_Switch_PFET[PARTNUMBER],Load_Switch_PFET[PARTNUMBER]),\"Not Allowed\")","v":{"$error":"#VALUE!"}},{"$f":"IF(Part_Number3<>\"Invalid Part\",LOOKUP(MID(Part_Number3,FIND(\"CSD\",Part_Number3),19),Load_Switch_NFET[PARTNUMBER],Load_Switch_NFET[PARTNUMBER]),\"Not Allowed\")","v":{"$error":"#VALUE!"}}]
[]
["VGS",{"$f":"IF(CH=\"P\",Vi-VG,IF(SW_TYPE=\"LOW\",VG,VG-Vi))","v":10},null,null,null,null,null,"Package","Pdmax"]
["Constants",null,null,null,null,null,null,"DDPAK",4]
["p",9.9999999999999998E-13,null,null,null,null,null,"LGA0.6X0.7",0.5]
["n",1.0000000000000001E-9,null,null,null,null,null,"LGA0.8X1.5",0.5]
["u",9.9999999999999995E-7,null,null,null,null,null,"LGA1.2X1.2",0.5]
["m",1E-3,null,null,null,null,null,"LGA1.5X0.8",0.5]
["k",1000,null,null,null,null,null,"LGA1X0.6",0.5]
["Meg",1000000,null,null,null,null,null,"SON2X2",2.2000000000000002]
["G",1000000000,null,null,null,null,null,"SON3X3",2.5]
[null,null,null,null,null,null,null,"SON5X6",3]
[null,null,null,null,null,null,null,"TO-220",5]
[null,null,null,null,null,null,null,"WLP1.5X1.5",0.5]
[null,null,null,null,null,null,null,"WLP1X1",0.4]
[null,null,null,null,null,null,null,"WLP1X1.5",0.5]

{"sheet":"NFET Data","index":4,"n_rows":154,"n_cols":83,"rows_kept":154,"cut":false,"hidden":true,"merged":[]}
["PARTNUMBER","PARTID","WIZARD_ENABLED","AVAILABLE","SCHEMATIC_SYMBOL","THERMAL_ID","COMMENTS","CHTYPE","CHNUM","SUBID","MOUNT","VDSMAX","VGSMAX","IDSMAX","IDMMAX","TJMAX","PDMAX","RTHJA","RTHJF","VTHMIN","VTHMAX","VMILLER","VFMAX","TRRTYP","TRRIF","TRRISR","GFSTYP","RGITYP","RDSON18","RDSON25","RDSON3","RDSON45","RDSON6","RDSON8","RDSON10","RDSDELTA","QGTYP","QG2_5TYP","QGTH","QG10TYP","CISS_AT_1V","CISS_AT_VDSSPEC","CISSMAX","COSS_AT_1V","COSS_AT_VDSSPEC","COSSMAX","CRSS_AT_1V","CRSS_AT_VDSSPEC","CRSSMAX","VDSSPEC","SOATIME_MS","VDS_START","ID_START","VDS_1STDROP","ID_1STDROP","VDS_2NDDROP","ID_2NDDROP","VDS_3RDDROP","ID_3RDDROP","VDS_END","ID_END","KQG","POWERBLOCK","VF_TYP","HEATSINKABLE","PACKAGE","CGS1","ROHS","DATASHEET_URL","KVTH","RGIMAX","VGSATMAXRDS","QRR","QGD","QGS","DEPLETIONMODE","TI_EQ_PACKAGE","AUTOMOTIVE","GRADE","TIMESTAMP","DATEMODIFIED","ID","1KPRICE"]
["CSD13201W10",146,"Y","N","(NULL)","(NULL)","Added by PJ","N",1,0,"(NULL)",12,8,1.6,20.2,150,1.2,90,228.6,0.65,1.1000000000000001,"(NULL)",1,11.5,1,100,23,3,5.2999999999999999E-2,3.9E-2,"(NULL)",3.4000000000000002E-2,"(NULL)","(NULL)","(NULL)",0.36,2.2999999999999998,1.25,5.07,"(NULL)",0.36299999999999999,0.38500000000000001,0.371,0.38600000000000001,0.245,0.45300000000000001,3.04E-2,1.8100000000000002E-2,3.8800000000000001E-2,6,10,0.01,0.25,0.5,15,0.5,15,15,0.5,15,0,1.97,"N",0.7,"(NULL)","(NULL)","(NULL)","Y","http://www.ti.com/lit/ds/symlink/csd13201w10.pdf","(NULL)",3,1.5,2.4,0.3,0.5,"(NULL)","WLP1X1","(NULL)","(NULL)",42577,42577,2472,8.2000000000000003E-2]
["CSD13202Q2",146,"Y","Y","WB_MOSFET_N_D12568G3S47","DQK0006C","PJ added New; Oliver set symbol automotive and footprint and changed to A","N",1,0,1,12,8,22,76,150,2.7,60,6.4,0.57999999999999996,1.1000000000000001,1.4,1,28,5,200,44,0.7,"(NULL)",1.1599999999999999E-2,1.04E-2,9.2999999999999992E-3,"(NULL)","(NULL)","(NULL)",0.39,5.0999999999999996,2.9,0.56999999999999995,"(NULL)",0.78100000000000003,0.76700000000000002,0.80600000000000005,0.81399999999999995,0.50600000000000001,0.97699999999999998,6.9599999999999995E-2,4.2999999999999997E-2,9.6799999999999997E-2,6,10,0.01,0.9,0.5,45,1,22,13,2,13,0.01,0.98,"N",0.75,"(NULL)","(NULL)","(NULL)","Y","http://www.ti.com/lit/ds/symlink/csd13202q2.pdf","(NULL)",1.4,1.7,13,0.76,0.98,"(NULL)","SON2X2","N","(NULL)",42577,42662,2585,0.127]
["CSD13302W",146,"Y","A","WB_MOSFET_N_DB1B2GA1SA2","YZB0004AEAE","PJ added New; Oliver set Mount Automotive Thermal_Id and symbol set to A","N",1,0,1,12,10,1.6,29,150,1.8,90,"(NULL)",0.7,1.3,"(NULL)",1,19.600000000000001,1,200,10,3.6,"(NULL)",2.58E-2,"(NULL)",1.7100000000000001E-2,"(NULL)","(NULL)","(NULL)",0.36,6,3.7,"(NULL)","(NULL)",0.8,0.66300000000000003,0.91200000000000003,0.39,0.21099999999999999,0.53,0.28999999999999998,0.151,0.37,6,10,0.1,4.5,0.24,10,2,10,12,1.2,12,0.1,0.91,"N",0.7,"(NULL)","(NULL)","(NULL)","Y","http://www.ti.com/lit/ds/symlink/csd13302w.pdf","(NULL)",7.2,2,11.6,2.1,0.7,"(NULL)","WLP1X1","N","(NULL)",42577,42663,2586,8.1000000000000003E-2]
["CSD13303W1015",146,"Y","N","(NULL)","(NULL)","Added by PJ","N",1,0,"(NULL)",12,8,3.5,31,150,1.65,90,295.5,0.65,1.2,"(NULL)",1,38.700000000000003,1.5,200,14,3,"(NULL)",2.3E-2,"(NULL)",0.02,"(NULL)","(NULL)","(NULL)",0.36,3.9,2.5,8.6999999999999993,"(NULL)",0.64900000000000002,0.55000000000000004,0.66,0.59299999999999997,0.4,0.71,4.3099999999999999E-2,2.9000000000000001E-2,5.4199999999999998E-2,6,10,0.01,0.45,0.3,15,0.9,15,12,1,12,0.01,1.1599999999999999,"N",0.7,"(NULL)","(NULL)","(NULL)","Y","http://www.ti.com/lit/ds/symlink/csd13303w1015.pdf","(NULL)",4.5999999999999996,1.5,14,0.4,1,"(NULL)","WLP1X1.5","(NULL)","(NULL)",42577,42577,2473,0.12]
["CSD13306W",146,"Y","A","WB_MOSFET_N_DA1B1C1GA2SB2C2","YZC0006ABAB","PJ added New; Oliver set Mount Automotive Thermal_Id and Symbol and set to A","N",1,0,1,12,10,3.5,44,150,1.8,90,"(NULL)",0.7,1.3,"(NULL)",1,23,1.5,200,15,4.2,"(NULL)",1.55E-2,"(NULL)",1.0200000000000001E-2,"(NULL)","(NULL)","(NULL)",0.36,8.6,5.3,"(NULL)","(NULL)",1.3,1.05,1.5,0.6,0.32400000000000001,0.8,0.4,0.22600000000000001,0.53,6,10,0.1,7,0.21,17,1.7,17,12,5,12,0.1,0.71,"N",0.7,"(NULL)","(NULL)","(NULL)","Y","http://www.ti.com/lit/ds/symlink/csd13306w.pdf","(NULL)",8.4,1.5,14.8,3,1.1000000000000001,"N","WLP1X1.5","N","(NULL)",42577,42663,2587,0.11700000000000001]
["CSD13380F3",146,"Y","N","(NULL)","(NULL)","JW","N",1,0,"(NULL)",12,8,2.1,13.5,150,0.5,90,"(NULL)",0.55000000000000004,1.3,"(NULL)",1,8,0.4,100,4.3,16,0.13500000000000001,9.1999999999999998E-2,"(NULL)",7.5999999999999998E-2,"(NULL)","(NULL)","(NULL)",0.33,0.91,0.52,0.15,"(NULL)","(NULL)","(NULL)","(NULL)","(NULL)","(NULL)","(NULL)","(NULL)","(NULL)",1.4999999999999999E-2,"(NULL)","(NULL)","(NULL)","(NULL)","(NULL)","(NULL)","(NULL)","(NULL)","(NULL)","(NULL)","(NULL)","(NULL)","(NULL)","N",0.71,"(NULL)","(NULL)","(NULL)","Y","http://www.ti.com/lit/ds/symlink/csd13380f3.pdf","(NULL)","(NULL)","(NULL)",2.1,0.15,0.19,"(NULL)","LGA0.6X0.7","(NULL)","(NULL)",42577,"(NULL)","(NULL)",0.04]
["CSD13381F4",146,"Y","N","(NULL)","(NULL)","PJ added New","N",1,0,"(NULL)",12,8,2.1,7,150,0.5,110,"(NULL)",0.65,1.1000000000000001,"(NULL)",0.9,6,0.5,300,3.2,23,0.4,0.22500000000000001,"(NULL)",0.18,"(NULL)","(NULL)","(NULL)",0.33,1.06,0.52,"(NULL)",null,0.157,0.155,0.16,0.09,4.7E-2,0.11,0.01,2.5000000000000001E-3,1.4999999999999999E-2,6,10,0.01,0.06,0.8,4,1.5,4,12,0.5,12,0.01,5.3,"N",0.73,"(NULL)","(NULL)","(NULL)","Y","http://www.ti.com/lit/ds/symlink/csd13381f4.pdf","(NULL)",23,1.6,1.55,0.14000000000000001,0.23,"(NULL)","LGA1X0.6","(NULL)","(NULL)","(NULL)","(NULL)","(NULL)",3.9E-2]
["CSD13383F4",146,"(NULL)","A","WB_MOSFET_N_D3G1S2_PD2","YJC0003A","Altium for Kristen Mogensen","N",1,0,1,12,10,2.9,27,150,0.5,90,"(NULL)",0.7,1.25,"(NULL)",1,"(NULL)","(NULL)","(NULL)",5.4,240,"(NULL)",6.5000000000000002E-2,"(NULL)",4.3999999999999997E-2,"(NULL)","(NULL)","(NULL)",0.35,2,"(NULL)","(NULL)",null,"(NULL)","(NULL)",291,"(NULL)","(NULL)",88,"(NULL)","(NULL)",61,"(NULL)","(NULL)","(NULL)","(NULL)","(NULL)","(NULL)","(NULL)","(NULL)","(NULL)","(NULL)","(NULL)","(NULL)","(NULL)","(NULL)","(NULL)","(NULL)","(NULL)","(NULL)","Y","http://www.ti.com/lit/ds/symlink/csd13383f4.pdf","(NULL)","(NULL)","(NULL)","(NULL)",0.6,0.4,"(NULL)","LGA1X0.6","N","(NULL)",42432,"(NULL)",2160,5.8999999999999997E-2]
["CSD13385F5",146,"(NULL)","A","(NULL)","YJK0003A","JW","N",1,0,1,12,8,4.3,41,150,0.5,90,"(NULL)",0.5,1.2,"(NULL)",1,"(NULL)","(NULL)","(NULL)",11.3,20,0.05,2.3E-2,"(NULL)",1.9E-2,"(NULL)","(NULL)","(NULL)",0.44,3.9,"(NULL)",0.46,"(NULL)","(NULL)","(NULL)","(NULL)","(NULL)","(NULL)","(NULL)","(NULL)","(NULL)","(NULL)","(NULL)","(NULL)","(NULL)","(NULL)","(NULL)","(NULL)","(NULL)","(NULL)","(NULL)","(NULL)","(NULL)","(NULL)","(NULL)","(NULL)","(NULL)","(NULL)","(NULL)","(NULL)","Y","http://www.ti.com/lit/ds/symlink/csd13385f5.pdf","(NULL)","(NULL)","(NULL)","(NULL)",0.39,0.74,"(NULL)","LGA1.5X0.8","N","(NULL)","(NULL)","(NULL)","(NULL)",0.08]
["CSD15380F3",146,"Y","A","WB_MOSFET_N_D3G1S2_PD_RES","YJM0003A","Altium for Aymeric NICOLAS; changed partID to 146 Pjella and updated NexFEt parameters","N",1,0,1,20,10,0.5,1.6,150,0.5,110,"(NULL)",0.85,1.35,"(NULL)",1,"(NULL)","(NULL)","(NULL)",0.64,9.6,"(NULL)",4,"(NULL)",1.46,"(NULL)",1.19,"(NULL)",0.44,0.216,0.125,"(NULL)",null,8.5000000000000006E-3,8.0999999999999996E-3,8.8000000000000005E-3,7.4000000000000003E-3,5.8999999999999999E-3,8.9999999999999993E-3,4.0000000000000002E-4,1E-4,7.0000000000000001E-3,10,10,0.17,0.1,1.7,0.95,3.1,0.95,20,0.16,20,0.1,20,"N",0.85,"(NULL)","(NULL)","(NULL)","Y","http://www.ti.com/lit/ds/symlink/csd15380f3.pdf","(NULL)",9.6,2.2000000000000002,"(NULL)",2.7E-2,7.6999999999999999E-2,"(NULL)","LGA0.6X0.7","N","(NULL)",42578,"(NULL)",2605,0.04]
["CSD15571Q2",146,"Y","N","WB_MOSFET_N_D1256G3S4","DQK0006C","PJ added New","N",1,0,"(NULL)",20,20,22,52,150,2.5,65,4.5,1.1000000000000001,1.9,2.5,1,19,5,300,25,3.8,"(NULL)","(NULL)","(NULL)",1.9199999999999998E-2,"(NULL)","(NULL)",1.4999999999999999E-2,0.63,2.5,1.3,0.52,5.0999999999999996,0.36099999999999999,0.32,0.39200000000000002,0.42299999999999999,0.184,0.51900000000000002,7.3499999999999996E-2,3.2000000000000001E-2,9.6600000000000005E-2,10,10,0.01,0.5,0.6,30,20,0.9,20,0.01,20,0.01,2.0299999999999998,"N",0.82,"(NULL)","(NULL)","(NULL)","Y","http://www.ti.com/lit/ds/symlink/csd15571q2.pdf","(NULL)",7.6,3,10.7,0.66,0.93,"(NULL)","SON2X2","(NULL)","(NULL)",42577,"(NULL)",2590,0.104]
["CSD16301Q2",146,"Y","Y","WB_MOSFET_N_D12568G3S47","DQK0006C","Updated by PJ Added by Jonathan   -Disabed for PCB export - Howard","N",1,0,1,25,10,5,85,150,2.5,65,8.4,0.9,1.55,1.94,1,11,4,200,16.5,1.3,"(NULL)","(NULL)",3.4000000000000002E-2,2.9000000000000001E-2,"(NULL)",2.4E-2,"(NULL)",0.56999999999999995,2,1.25,0.3,4,0.28499999999999998,0.26,0.31,0.40600000000000003,0.16500000000000001,0.56000000000000005,4.0599999999999997E-2,1.2999999999999999E-2,0.05,12.5,10,0.1,22.5,1.69,278,2.41,194,60,1.53,60,0.1,2.66,"N",0.8,"(NULL)",1156,0.26,"Y","http://www.ti.com/lit/ds/symlink/csd16301q2.pdf","(NULL)",2.6,2,5.0999999999999996,0.4,0.6,"(NULL)","SON2X2","(NULL)","(NULL)",40760,42577,2474,0.126]
["CSD16321Q5",146,"Y","Y","WB_MOSFET_N_D56789G4S123","TRANS_NexFET_Q5","Updated by PJ Added by Jonathan","N",1,0,1,25,10,100,200,150,3.125,50,0.9,0.9,1.4,2.1,1,32,25,300,150,1.5,"(NULL)","(NULL)",3.8E-3,2.5999999999999999E-3,"(NULL)",2.3999999999999998E-3,"(NULL)",0.53,14,6,2.1,25.15,2.4500000000000002,2.36,2.56,4.12,1.7,5.62,0.252,0.115,0.39100000000000001,12.5,10,0.01,3,0.4,175,1.4,175,25,8.5,25,0.01,0.44,"N",0.8,"(NULL)",1155,3.1,"Y","http://www.ti.com/lit/ds/symlink/csd16321q5.pdf","(NULL)",3,2.1,33,2.5,4,"(NULL)","SON5X6","(NULL)","(NULL)",40764,42577,2475,0.56299999999999994]
["CSD16322Q5",146,"Y","Y","WB_MOSFET_N_D56789G4S123","TRANS_NexFET_Q5","Updated by PJ Added by Amod","N",1,0,1,25,10,97,136,150,3.125,50,2.4,0.9,1.4,2.3199999999999998,1,21,20,300,106,1.1000000000000001,"(NULL)","(NULL)",7.1999999999999998E-3,5.7999999999999996E-3,"(NULL)",5.0000000000000001E-3,"(NULL)",0.3,6.8,3.9,1.3,14.5,1.1100000000000001,1.05,1.1599999999999999,1.8,0.74,2.46,0.114,5.5E-2,0.17,12.5,10,0.01,2,0.6,110,0.8,110,25,3.7,25,0.01,0.71,"N",0.8,"(NULL)",1155,1.365,"Y","http://www.ti.com/lit/ds/symlink/csd16322q5.pdf","(NULL)",2.2000000000000002,2.2000000000000002,19,1.3,2.4,"(NULL)","SON5X6","(NULL)","(NULL)",40777,42577,2477,0.36899999999999999]
["CSD16323Q3",146,"Y","Y","WB_MOSFET_N_D56789G4S123","DQG0008A","Added by Jonathan;PJ added new params from PL;Oliver updated Thermal_Id","N",1,0,1,25,10,60,240,150,2.8,55,1.7,0.9,1.4,2.06,1,16,24,300,108,1.4,"(NULL)","(NULL)",7.1999999999999998E-3,5.4999999999999997E-3,"(NULL)",4.4999999999999997E-3,"(NULL)",0.49,6.2,4,1,"(NULL)",1.08,1.02,1.1000000000000001,1.73,0.74,2.2000000000000002,0.1,0.05,0.15,12.5,10,0.1,16,1.1000000000000001,160,9,18,25,2.6,25,0.1,0.94699999999999995,"N",0.85,"(NULL)",1154,0.95,"Y","http://www.ti.com/lit/ds/symlink/csd16323q3.pdf","(NULL)",2.8,2,21,1.1000000000000001,1.8,"(NULL)","SON3X3","(NULL)","(NULL)",40744,42599,1987,0.33600000000000002]
["CSD16325Q5",146,"Y","Y","WB_MOSFET_N_D56789G4S123","TRANS_NexFET_Q5","Updated by PJ Added by Amod","N",1,0,1,25,10,100,200,150,3.125,50,1,0.9,1.4,2.48,1,47,30,300,159,1.6,"(NULL)","(NULL)",2.8999999999999998E-3,2.2000000000000001E-3,"(NULL)",2E-3,"(NULL)",0.47,18,10.1,3.3,42.02,3.21,3.07,3.36,5.19,2.19,7.11,0.32700000000000001,0.12,0.56699999999999995,12.5,10,0.01,4.7,0.5,180,0.8,180,25,5.5,25,0.01,0.24,"N",0.8,"(NULL)",1155,4,"Y","http://www.ti.com/lit/ds/symlink/csd16325q5.pdf","(NULL)",3.2,2.2000000000000002,63,3.5,6.6,"(NULL)","SON5X6","(NULL)","(NULL)",40777,42577,2479,0.66800000000000004]
["CSD16327Q3",146,"Y","Y","WB_MOSFET_N_D56789G4S123","DQG0008A","Added by Gerold; PJ added new params from PL; Oliver updated Thermal_Id","N",1,0,1,25,10,22,240,150,2.8,55,1.7,0.9,1.4,2,1,16,24,300,96,1.4,"(NULL)","(NULL)",6.4999999999999997E-3,4.7999999999999996E-3,"(NULL)",4.0000000000000001E-3,2.8E-3,0.44,6.2,3.89,1,"(NULL)",1.1599999999999999,1.02,1.2,1.9,0.74,2.2000000000000002,0.109,0.05,0.17,12.5,10,0.1,19,1.1000000000000001,180,8,20,25,2.2000000000000002,25,0.1,1,"N",0.85,"(NULL)",1154,1.03,"Y","http://www.ti.com/lit/ds/symlink/csd16327q3.pdf","(NULL)",2.8,2.4,21,1.1000000000000001,1.8,"(NULL)","SON3X3","(NULL)","(NULL)","(NULL)",42599,1991,0.33500000000000002]
["CSD16340Q3",146,"Y","Y","WB_MOSFET_N_D56789G4S123","DQG0008A","Added by Amod; PJ added new params from PL; Oliver updated Thermal_Id","N",1,0,1,25,10,60,115,150,3,42,20.6,0.6,1.1000000000000001,2.02,1,20,20,300,121,1.5,"(NULL)",7.7999999999999996E-3,"(NULL)",4.3E-3,"(NULL)",4.4999999999999997E-3,3.8E-3,0.32,6.5,4,1,"(NULL)",1.1000000000000001,1.05,1.1599999999999999,1.72,0.73,2.37,0.11799999999999999,5.2999999999999999E-2,0.19400000000000001,12.5,10,0.01,2,0.45,100,0.9,100,25,3.8,25,0.01,1,"N",0.8,"(NULL)",1154,0.96599999999999997,"Y","http://www.ti.com/lit/ds/symlink/csd16340q3.pdf","(NULL)",3,1.9,14.5,1.2,2.1,"(NULL)","SON3X3","(NULL)","(NULL)",40777,42599,1992,0.34499999999999997]
["CSD16342Q5A",146,"Y","Y","WB_MOSFET_N_D56789G4S123","TRANS_NexFET_Q5A","Updated by PJ Added by Steven","N",1,0,1,25,10,100,131,150,3.125,50,1.2,0.6,1.1000000000000001,1.6,1,20,20,300,91,1.5,"(NULL)",7.7999999999999996E-3,"(NULL)",5.4999999999999997E-3,"(NULL)",4.7000000000000002E-3,"(NULL)",0.47,6.8,3.8,1.2,13,1.1499999999999999,1.05,1.19,1.88,0.73,2.37,0.113,5.2999999999999999E-2,0.159,12.5,10,0.01,2,0.55000000000000004,110,0.55000000000000004,110,25,2,25,0.01,0.88,"N",0.8,"(NULL)",1155,1.05,"Y","http://www.ti.com/lit/ds/symlink/csd16342q5a.pdf","(NULL)",3,1.8,14.5,0.9,1.9,"(NULL)","SON5X6","(NULL)","(NULL)",41503,42577,2481,0.33400000000000002]
["CSD16401Q5",146,"Y","Y","WB_MOSFET_N_D56789G4S123","TRANS_NexFET_Q5","Updated by PJ Added by Amod Jaz: hotswap","N",1,0,1,25,16,100,240,150,3.125,50,1.1000000000000001,1.2,1.9,2.92,1,45,40,300,168,1.2,"(NULL)","(NULL)","(NULL)",2.3E-3,"(NULL)","(NULL)",1.6000000000000001E-3,0.47,21,7.7,4.8,43.5,3.42,3.15,3.58,5.93,2.5299999999999998,8.0399999999999991,0.45900000000000002,0.17499999999999999,0.68200000000000005,12.5,10,0.1,43.8,1.4,376,4.21,125,25,6.37,25,0.1,0.24,"N",0.85,"(NULL)",1155,4.0999999999999996,"Y","http://www.ti.com/lit/ds/symlink/csd16401q5.pdf","(NULL)",2.4,3,72,5.2,8.3000000000000007,"(NULL)","SON5X6","(NULL)","(NULL)",41033,42577,2482,0.79600000000000004]
["CSD16403Q5A",146,"Y","Y","WB_MOSFET_N_D56789G4S123","TRANS_NexFET_Q5A","Updated by PJ HotSwap disabled by HC","N",1,0,1,25,16,100,184,150,3.125,50,1.8,1.2,1.9,2.83,1,35,20,300,91,1.2,"(NULL)","(NULL)","(NULL)",3.7000000000000002E-3,"(NULL)","(NULL)",2.8E-3,0.52,13.3,4.8499999999999996,3.1,28,2.1800000000000002,2.04,2.29,3.83,1.6,5.22,0.318,0.115,0.64200000000000002,12.5,10,0.01,3.8,0.4,180,1.6,180,25,9,25,0.01,0.38,"N",0.8,"(NULL)",1155,1.85,"Y","http://www.ti.com/lit/ds/symlink/csd16403q5a.pdf","(NULL)",2.4,3,47,3.5,5.5,"(NULL)","SON5X6","(NULL)","(NULL)",41033,42577,2483,0.53400000000000003]
["CSD16404Q5A",146,"Y","Y","WB_MOSFET_N_D56789G4S123","TRANS_NexFET_Q5A","Updated by PJ Added by Amod Jaz: hotswap","N",1,0,1,25,16,81,135,150,3.125,50,3.3,1.4,2.1,3.16,1,22,20,300,57,0.9,"(NULL)","(NULL)","(NULL)",7.1999999999999998E-3,"(NULL)","(NULL)",5.1000000000000004E-3,0.43,6.5,2.25,1.5,13,0.99,0.94,1.03,1.92,0.81,2.61,0.14399999999999999,6.2E-2,0.20599999999999999,12.5,10,0.01,1.98,0.42,70,25,1.1000000000000001,25,0.01,25,0.01,0.8,"N",0.85,"(NULL)",1155,1.22,"Y","http://www.ti.com/lit/ds/symlink/csd16404q5a.pdf","(NULL)",1.8,3.3,20,1.7,3,"(NULL)","SON5X6","(NULL)","(NULL)",41033,42577,2484,0.31900000000000001]
["CSD16406Q3",146,"Y","Y","WB_MOSFET_N_D56789G4S123","DQG0008A","Added by Amod Jaz: hotswap; PJ added new params from PL; Oliver updated Thermal_Id","N",1,0,1,25,16,60,240,150,2.8,55,2.7,1.4,2.2000000000000002,2.996,1,22,20,300,53,1.2,"(NULL)","(NULL)","(NULL)",7.4000000000000003E-3,"(NULL)",4.3E-3,4.1999999999999997E-3,0.41,5.8,2,1.5,11.6,0.94,0.84,1,1.6,0.7,2.2000000000000002,0.15,0.06,0.19,12.5,10,0.1,13,0.8,103,1.4,103,25,3.3,25,0.1,1,"N",0.85,"(NULL)",1154,0.81,"Y","http://www.ti.com/lit/ds/symlink/csd16406q3.pdf","(NULL)",2.4,3.7,18,1.5,2.5,"(NULL)","SON3X3","(NULL)","(NULL)",41033,42599,1997,0.33900000000000002]
["CSD16407Q5",146,"Y","Y","WB_MOSFET_N_D56789G4S123","TRANS_NexFET_Q5","Updated by PJ Added by Amod Jaz: hotswap","N",1,0,1,25,16,100,200,150,3.125,50,1.1000000000000001,1.3,1.9,2.7970000000000002,1,34,25,300,111,1.2,"(NULL)","(NULL)","(NULL)",3.3E-3,"(NULL)","(NULL)",2.3999999999999998E-3,0.42,13.3,4.9000000000000004,3.1,27.8,2.0499999999999998,2.04,2.1,3.5,1.6,5.0999999999999996,0.15,0.115,0.2,12.5,10,0.01,3.9,0.5,190,0.85,190,25,6,25,0.01,0.37,"N",0.8,"(NULL)",1155,2.66,"Y","http://www.ti.com/lit/ds/symlink/csd16407q5.pdf","(NULL)",2.4,3.1,41,3.5,5.3,"(NULL)","SON5X6","(NULL)","(NULL)",41033,42577,2485,0.59499999999999997]
["CSD16408Q5",146,"Y","Y","WB_MOSFET_N_D56789G4S123","TRANS_NexFET_Q5","Updated by PJ Added by Amod Jaz: hotswap","N",1,0,1,25,16,113,141,150,3.125,50,1.9,1.4,2.1,3.2,1,21,25,300,60,0.8,"(NULL)","(NULL)","(NULL)",6.7999999999999996E-3,"(NULL)","(NULL)",4.4999999999999997E-3,0.49,6.7,2.2999999999999998,1.8,14,1.06,0.99,1.1399999999999999,1.8,0.76,2.5299999999999998,0.18099999999999999,7.4999999999999997E-2,0.28299999999999997,12.5,10,0.01,2.2999999999999998,0.55000000000000004,110,1,110,25,4.8,25,0.01,0.75,"N",0.8,"(NULL)",1155,1.3,"Y","http://www.ti.com/lit/ds/symlink/csd16408q5.pdf","(NULL)",1.6,3.2,17,1.9,3.1,"(NULL)","SON5X6","(NULL)","(NULL)",41033,42577,2487,0.45900000000000002]
["CSD16409Q3",146,"Y","Y","WB_MOSFET_N_D56789G4S123","DQG0008A","Added by Jonathan; Updated by PJ; Oliver updated Thermal_Id","N",1,0,1,25,16,60,90,150,2.6,59,3.5,1.7,2.2999999999999998,3.47,1,17.5,17,300,38,0.9,"(NULL)","(NULL)","(NULL)",1.24E-2,"(NULL)",6.7999999999999996E-3,8.2000000000000007E-3,0.45,4,1.5,1.1000000000000001,8,0.63700000000000001,0.6,0.67100000000000004,1.0900000000000001,0.48,1.5,9.4299999999999995E-2,0.04,0.13500000000000001,12.5,10,0.01,1.2,0.6,80,0.65,80,25,2,25,0.01,0.625,"N",0.85,"(NULL)",1154,0.53600000000000003,"Y","http://www.ti.com/lit/ds/symlink/csd16409q3.pdf","(NULL)",1.8,3.8,13.8,1,2.1,"(NULL)","SON3X3","(NULL)","(NULL)",40742,42599,2489,0.29299999999999998]
["CSD16410Q5A",146,"Y","Y","WB_MOSFET_N_D56789G4S123","TRANS_NexFET_Q5A","Updated by PJ  HotSwap disabled by HC","N",1,0,1,25,16,59,158,150,3.125,50,3.8,1.6,2.2999999999999998,3.23,1,18.2,17,300,38,0.7,"(NULL)","(NULL)","(NULL)",1.2E-2,"(NULL)","(NULL)",8.5000000000000006E-3,0.43,3.9,1.5,1.1000000000000001,7.9,0.6,0.57999999999999996,0.629,1.1000000000000001,0.46,1.49,8.6599999999999996E-2,0.04,0.123,12.5,10,0.01,1.2,0.7,80,25,2.1,25,0.01,25,0.01,1.36,"N",0.85,"(NULL)",1155,0.74,"Y","http://www.ti.com/lit/ds/symlink/csd16410q5a.pdf","(NULL)",1.4,3.5,14,1.1000000000000001,1.8,"(NULL)","SON5X6","(NULL)","(NULL)",41033,42577,2490,0.24399999999999999]
["CSD16411Q3",146,"Y","Y","WB_MOSFET_N_D56789G4S123","DQG0008A","HotSwap disabled by HC; Updated by PJ; Oliver updated Thermal_Id","N",1,0,1,25,16,50,130,150,2.87,55,3.5,1.7,2.2999999999999998,3.25,1,15.5,10,300,30,0.8,"(NULL)","(NULL)","(NULL)",1.4999999999999999E-2,"(NULL)","(NULL)",0.01,0.42,2.9,1.2,0.9,6.1,0.49,0.42,0.49,0.8,0.33,1.01,7.0000000000000007E-2,3.3000000000000002E-2,0.09,12.5,10,0.1,7,1.1000000000000001,75,9.5,8.5,25,1.2,25,0.1,0.47599999999999998,"N",0.85,"(NULL)",1154,0.4,"Y","http://www.ti.com/lit/ds/symlink/csd16411q3.pdf","(NULL)",1.6,3.25,11.7,0.7,1.5,"(NULL)","SON3X3","(NULL)","(NULL)",41033,42599,2491,0.251]
["CSD16412Q5A",146,"Y","Y","WB_MOSFET_N_D56789G4S123","TRANS_NexFET_Q5A","Updated by PJ  HotSwap disabled by HC","N",1,0,1,25,16,52,91,150,3.125,50,3.7,1.7,2.2999999999999998,3.17,1,16,10,300,33,0.7,"(NULL)","(NULL)","(NULL)",1.6E-2,"(NULL)","(NULL)",1.0999999999999999E-2,0.49,2.9,1.1000000000000001,0.9,6.1,0.44400000000000001,0.41,0.46400000000000002,0.79700000000000004,0.35,1.08,6.6000000000000003E-2,3.2000000000000001E-2,9.11E-2,12.5,10,0.01,1.2,0.7,85,0.8,85,25,2.5,25,0.01,1.77,"N",0.85,"(NULL)",1155,0.41,"Y","http://www.ti.com/lit/ds/symlink/csd16412q5a.pdf","(NULL)",1.4,3.4,12,0.7,1.4,"(NULL)","SON5X6","(NULL)","(NULL)",41033,42577,2492,0.254]
["CSD16413Q5A",146,"Y","Y","WB_MOSFET_N_D56789G4S123","TRANS_NexFET_Q5A","Updated by PJ  HotSwap disabled by HC","N",1,0,1,25,16,100,156,150,3.125,50,2.6,1.2,1.9,2.84,1,28,24,300,95,0.9,"(NULL)","(NULL)","(NULL)",5.5999999999999999E-3,"(NULL)","(NULL)",3.8999999999999998E-3,0.39900000000000002,9,6.2,2.2000000000000002,18.899999999999999,1.4419999999999999,1.37,1.524,2.61,1.06,3.57,0.2,8.4000000000000005E-2,0.30199999999999999,12.5,10,0.01,3,0.47,180,0.65,180,25,3.9,25,0.01,0.59,"N",0.85,"(NULL)",1155,1.78,"Y","http://www.ti.com/lit/ds/symlink/csd16413q5a.pdf","(NULL)",1.8,2.9,32,2.5,3.5,"(NULL)","SON5X6","(NULL)","(NULL)",41033,42577,2493,0.42499999999999999]
["CSD16414Q5",146,"Y","Y","WB_MOSFET_N_D56789G4S123","TRANS_NexFET_Q5","Updated by PJ  Added by Jonathan","N",1,0,1,25,16,100,213,150,3.125,50,1.1000000000000001,1.3,2,3.02,1,35,30,300,138,1.4,"(NULL)","(NULL)","(NULL)",2.5999999999999999E-3,"(NULL)","(NULL)",1.9E-3,0.46,16.600000000000001,6,4.5,35,2.88,2.81,3.03,4.75,2.04,6.53,0.39500000000000002,0.14000000000000001,0.58599999999999997,12.5,10,0.01,5,0.4,200,1,200,25,8,25,0.01,0.3,"N",0.81,"(NULL)",1346,2.4,"Y","http://www.ti.com/lit/ds/symlink/csd16414q5.pdf","(NULL)",2.8,3,44,4.4000000000000004,7.3,"(NULL)","SON5X6","(NULL)","(NULL)",40764,42577,2494,0.67600000000000005]
["CSD16415Q5",146,"Y","Y","WB_MOSFET_N_D56789G4S123","TRANS_NexFET_Q5","Updated by PJ HotSwap disabled by HC","N",1,0,1,25,16,100,200,150,3.125,50,1.1000000000000001,1.2,1.9,2.92,1,45,40,300,168,1.2,"(NULL)","(NULL)","(NULL)",1.8E-3,"(NULL)","(NULL)",1.1000000000000001E-3,0.47,21,6.5,4.8,43.5,3.42,3.15,3.58,5.93,2.5299999999999998,8.0399999999999991,0.45900000000000002,0.17499999999999999,0.68200000000000005,12.5,10,0.1,60.89,0.65,400,1.38,400,25,6.47,25,0.1,0.24,"N",0.85,"(NULL)",1155,8.3000000000000007,"Y","http://www.ti.com/lit/ds/symlink/csd16415q5.pdf","(NULL)",2.4,3,72,5.2,8.3000000000000007,"(NULL)","SON5X6","(NULL)","(NULL)",41030,42577,2495,0.84299999999999997]
["CSD16556Q5B",146,"Y","Y","WB_MOSFET_N_D56789G4S123","TRANS_NexFET_Q5B","Updated by PJ Added by Steven","N",1,0,1,25,20,100,400,150,3.125,50,1.1000000000000001,1.2,1.7,2.5,1,41,30,300,191,0.7,"(NULL)","(NULL)","(NULL)",1.5E-3,"(NULL)","(NULL)",1E-3,0.65,36,18,7,76,5.3,4.75,5.62,6.85,2.27,8.9,0.75900000000000001,0.22,1.04,12.5,10,0.1,56.64,0.55000000000000004,311,1.33,311,25,2.59,25,0.1,0.13,"N",0.8,"(NULL)",1345,4.99,"Y","http://www.ti.com/lit/ds/symlink/csd16556q5b.pdf","(NULL)",1.4,2.8,84,12,11,"(NULL)","SON5X6","(NULL)","(NULL)",41503,42577,2496,0.78800000000000003]
["CSD16570Q5B",146,"Y","A","WB_MOSFET_N_D56789G4S123","DNK0008A","Updated by PJ; Oliver set Mount Automotive Thermal_Id and symbol then set to A","N",1,0,1,25,20,100,400,150,3.125,50,0.8,1.1000000000000001,1.9,2.5,1,21,50,300,278,1.8,"(NULL)","(NULL)","(NULL)",8.0000000000000004E-4,"(NULL)","(NULL)",5.0000000000000001E-4,0.59,192,47,15,191,12.8,10.7,13.7,4.72,1.66,6.02,2.37,0.996,3.24,12.5,10,0.1,106.5,0.37,400,0.68,400,25,2.57,25,0.1,5.6000000000000001E-2,"N",0.8,"(NULL)","(NULL)","(NULL)","Y","http://www.ti.com/lit/ds/symlink/csd16570q5b.pdf","(NULL)",3.6,2.6,34,31,29,"(NULL)","SON5X6","N","(NULL)",42577,42664,2497,0.753]
["CSD17301Q5A",146,"Y","Y","WB_MOSFET_N_D56789G4S123","TRANS_NexFET_Q5A","Updated by PJ Added by Jonathan","N",1,0,1,30,10,100,181,150,3.125,50,2.2000000000000002,0.9,1.55,2.2599999999999998,1,33,25,300,149,1.3,"(NULL)","(NULL)",3.7000000000000002E-3,3.0000000000000001E-3,"(NULL)",2.5999999999999999E-3,"(NULL)",0.61,19,11,2.9,4.03,2.87,2.66,3.18,4.3099999999999996,1.42,6.14,0.30099999999999999,0.08,0.65900000000000003,15,10,0.01,4.7,0.5,180,0.9,180,25,5.7,25,0.01,0.25,"N",0.8,"(NULL)",1155,3.48,"Y","http://www.ti.com/lit/ds/symlink/csd17301q5a.pdf","(NULL)",2.6,2.15,50,4.3,5.7,"(NULL)","SON5X6","(NULL)","(NULL)",40763,42577,2498,0.53100000000000003]
["CSD17302Q5A",146,"Y","Y","WB_MOSFET_N_D56789G4S123","TRANS_NexFET_Q5A","Updated by PJ Added by Amod","N",1,0,1,30,10,87,104,150,3.125,50,1.8,0.9,1.7,2.2799999999999998,1,17.5,14,300,68,0.8,"(NULL)","(NULL)",1.2800000000000001E-2,8.9999999999999993E-3,"(NULL)",7.9000000000000008E-3,"(NULL)",0.56000000000000005,5.4,3,0.9,11.2,0.78400000000000003,0.73,0.871,1.17,0.39,1.64,9.98E-2,3.5000000000000003E-2,0.18099999999999999,15,10,0.01,1.2,0.8,90,25,2.2999999999999998,25,0.1,25,0.01,0.92,"N",0.85,"(NULL)",1155,0.95,"Y","http://www.ti.com/lit/ds/symlink/csd17302q5a.pdf","(NULL)",1.6,2.2000000000000002,15.4,1.2,1.7,"(NULL)","SON5X6","(NULL)","(NULL)",40777,42577,2499,0.308]
["CSD17303Q5",146,"Y","Y","WB_MOSFET_N_D56789G4S123","TRANS_NexFET_Q5","PJ added new params from PL;Added by Jonathan","N",1,0,1,30,10,100,200,150,3.125,50,1.1000000000000001,0.9,1.6,2.29,1,33,25,300,114,1.4,"(NULL)","(NULL)",3.7000000000000002E-3,2.5999999999999999E-3,"(NULL)",2.3999999999999998E-3,"(NULL)",0.43,18,11,3,39,2.83,2.63,3.12,4.32,1.44,6.12,0.29499999999999998,8.3000000000000004E-2,0.59799999999999998,15,10,0.01,4.5,0.5,180,1,180,30,6,30,0.01,0.27,"N",0.8,"(NULL)",1155,3.42,"Y","http://www.ti.com/lit/ds/symlink/csd17303q5.pdf","(NULL)",2.8,2.2999999999999998,50,4,5.6,"(NULL)","SON5X6","(NULL)","(NULL)",40763,42564,2012,0.59199999999999997]
["CSD17304Q3",146,"Y","Y","WB_MOSFET_N_D56789G4S123","DQG0008A","Added by Jonathan;PJ added new params from PL;Oliver updated Thermal_Id","N",1,0,1,30,10,56,88,150,2.7776999999999998,55,3.9,0.9,1.8,2.5099999999999998,1,17.3,17,300,48,1.1000000000000001,"(NULL)","(NULL)",1.26E-2,8.8000000000000005E-3,"(NULL)",7.4999999999999997E-3,"(NULL)",0.51,5.0999999999999996,1.7,0.9,10.8,0.8,0.73499999999999999,0.86499999999999999,1.3,0.39,1.76,8.8999999999999996E-2,2.9000000000000001E-2,0.157,15,10,0.01,1,0.75,80,0.9,80,30,2,30,0.01,0.94,"N",0.85,"(NULL)",1154,0.95499999999999996,"Y","http://www.ti.com/lit/ds/symlink/csd17304q3.pdf","(NULL)",2.2000000000000002,2.5,14.5,1.1000000000000001,1.8,"(NULL)","SON3X3","(NULL)","(NULL)",40742,42599,2013,0.26600000000000001]
["CSD17305Q5A",146,"Y","Y","WB_MOSFET_N_D56789G4S123","TRANS_NexFET_Q5A","Updated by PJ Added by Amod","N",1,0,1,30,10,100,181,150,3.125,50,1.3,0.9,1.6,2.34,1,27,30,300,139,1,"(NULL)","(NULL)",5.4000000000000003E-3,3.5999999999999999E-3,"(NULL)",3.3999999999999998E-3,"(NULL)",0.56000000000000005,14.1,8.5,2.2000000000000002,31,2.15,2,2.36,3.4,1.1000000000000001,4.78,0.246,7.9000000000000001E-2,0.497,15,10,0.01,4,0.4,170,0.9,170,25,4.7,25,0.01,0.28999999999999998,"N",0.85,"(NULL)",1155,2.6,"Y","http://www.ti.com/lit/ds/symlink/csd17305q5a.pdf","(NULL)",2,2.1,34,3,4.5,"(NULL)","SON5X6","(NULL)","(NULL)",40777,42577,2500,0.47099999999999997]
["CSD17306Q5A",146,"Y","Y","WB_MOSFET_N_D56789G4S123","TRANS_NexFET_Q5A","Updated by PJ Added by Amod","N",1,0,1,30,10,100,155,150,3.125,50,0.9,0.9,1.6,2.14,1,25,25,300,105,1,"(NULL)","(NULL)",5.4000000000000003E-3,4.1999999999999997E-3,"(NULL)",3.7000000000000002E-3,"(NULL)",0.53,11.8,6.7,1.8,25,1.78,1.67,1.95,2.9,0.89,4.0599999999999996,0.20300000000000001,5.6000000000000001E-2,0.4,15,10,0.01,2.2000000000000002,0.5,140,2.1,140,25,9,25,0.01,0.41,"N",0.85,"(NULL)",1155,2.17,"Y","http://www.ti.com/lit/ds/symlink/csd17306q5a.pdf","(NULL)",2,2.0499999999999998,27,2.4,3.5,"(NULL)","SON5X6","(NULL)","(NULL)",40777,42577,2501,0.40400000000000003]
["CSD17307Q5A",146,"Y","Y","WB_MOSFET_N_D56789G4S123","TRANS_NexFET_Q5A","Updated by PJ Added by Amod","N",1,0,1,30,10,73,92,150,3.125,50,1.9,0.9,1.8,2.34,1,16,11,300,66,0.9,"(NULL)","(NULL)",1.7299999999999999E-2,1.21E-2,"(NULL)",1.0500000000000001E-2,"(NULL)",0.56999999999999995,4,2.2999999999999998,0.65,8.25,0.57699999999999996,0.53500000000000003,0.63800000000000001,0.89,0.28999999999999998,1.25,7.8299999999999995E-2,2.8000000000000001E-2,0.14599999999999999,15,10,0.01,0.9,0.7,8,0.8,80,25,2,25,0.01,1.27,"N",0.85,"(NULL)",1155,0.7,"Y","http://www.ti.com/lit/ds/symlink/csd17307q5a.pdf","(NULL)",1.8,2.2999999999999998,13,1,1.3,"(NULL)","SON5X6","(NULL)","(NULL)",40777,42577,2502,0.20799999999999999]
["CSD17308Q3",146,"Y","Y","WB_MOSFET_N_D56789G4S123","DQG0008A","Added by Amod; PJ added new params from PL; Oliver updated Thermal_Id","N",1,0,1,30,10,50,167,150,2.7776999999999998,55,4.5,0.9,1.8,2.35,1,14.3,10,300,37,0.9,"(NULL)","(NULL)",1.6500000000000001E-2,1.18E-2,"(NULL)",1.03E-2,"(NULL)",0.41,3.9,2.25,0.7,8.18,0.59,0.54,0.63400000000000001,0.92400000000000004,0.28000000000000003,1.28,7.4800000000000005E-2,2.7E-2,0.13500000000000001,15,10,0.1,6.85,0.81,55.8,2.04,55.8,30,1.3,30,0.1,1.3,"N",0.85,"(NULL)",1154,0.7,"Y","http://www.ti.com/lit/ds/symlink/csd17308q3.pdf","(NULL)",1.8,2.2999999999999998,9.3000000000000007,0.8,1.3,"(NULL)","SON3X3","(NULL)","(NULL)",40777,42599,2017,0.22900000000000001]
["CSD17309Q3",146,"Y","Y","WB_MOSFET_N_D56789G4S123","DQG0008A","Added by Jonathan;PJ added new params from PL;Oliver updated Thermal_Id","N",1,0,1,30,10,60,112,150,2.7776999999999998,55,2,0.9,1.7,2.4700000000000002,1,23,18,300,67,1.2,"(NULL)","(NULL)",8.5000000000000006E-3,6.3E-3,"(NULL)",5.4000000000000003E-3,"(NULL)",0.39,7.5,4.5,1.3,16.399999999999999,1.19,1.1499999999999999,1.3,1.95,0.57999999999999996,2.71,0.14299999999999999,4.2999999999999997E-2,0.27800000000000002,15,10,0.01,1.7,0.5,100,0.9,100,30,2.7,30,0.01,0.625,"N",0.85,"(NULL)",1154,1.44,"Y","http://www.ti.com/lit/ds/symlink/csd17309q3.pdf","(NULL)",2.4,2.2000000000000002,30,1.7,2.5,"(NULL)","SON3X3","(NULL)","(NULL)",40743,42599,2018,0.34200000000000003]
["CSD17310Q5A",146,"Y","Y","WB_MOSFET_N_D56789G4S123","TRANS_NexFET_Q5A","Updated by PJ Added by Jonathan","N",1,0,1,30,10,100,134,150,3.125,50,1.9,0.9,1.8,2.23,1,22,20,300,85,0.9,"(NULL)","(NULL)",7.7999999999999996E-3,5.8999999999999999E-3,"(NULL)",5.1000000000000004E-3,"(NULL)",0.4,8.9,5.25,1.4,19.600000000000001,1.32,1.2,1.46,1.98,0.63,2.81,0.17100000000000001,5.8999999999999997E-2,0.33900000000000002,15,10,0.01,1.9,0.6,105,0.9,105,25,3,25,0.01,0.52,"N",0.85,"(NULL)",1155,1.53,"Y","http://www.ti.com/lit/ds/symlink/csd17310q5a.pdf","(NULL)",1.8,2.1,21,2.1,2.7,"(NULL)","SON5X6","(NULL)","(NULL)",40744,42577,2503,0.28899999999999998]
["CSD17311Q5",146,"Y","Y","WB_MOSFET_N_D56789G4S123","TRANS_NexFET_Q5","PJ added new params from PL;Added by Jonathan","N",1,0,1,30,10,100,200,150,3.125,50,1,0.9,1.6,2.11,1,39,30,300,200,1.2,"(NULL)","(NULL)",3.0999999999999999E-3,2.3E-3,"(NULL)",2E-3,"(NULL)",0.59899999999999998,24,14,3.9,51,3.5,3.29,3.9,5.85,1.74,8.32,0.3,8.5000000000000006E-2,0.79200000000000004,15,10,0.01,4.5,0.35,180,0.95,180,30,5.5,30,0.01,0.21,"N",0.85,"(NULL)",1155,4.28,"Y","http://www.ti.com/lit/ds/symlink/csd17311q5.pdf","(NULL)",2.4,2.1,74,5.2,6.6,"(NULL)","SON5X6","(NULL)","(NULL)",40764,42564,2020,0.67400000000000004]
["CSD17312Q5",146,"Y","Y","WB_MOSFET_N_D56789G4S123","TRANS_NexFET_Q5","PJ added new params from PL;Added by Amod Jaz: hotswap","N",1,0,1,30,10,100,200,150,3.125,50,1,0.9,1.5,2.25,1,43,35,300,200,1.1000000000000001,"(NULL)","(NULL)",2.3999999999999998E-3,2.7000000000000001E-3,"(NULL)",1.5E-3,"(NULL)",0.59899999999999998,28,16,4.4000000000000004,61,4.32,4.05,4.7,7.18,2.2200000000000002,10.1,0.375,9.2999999999999999E-2,0.9,15,10,0.01,5,0.4,200,1.1000000000000001,200,30,7,30,0.01,0.17,"N",0.8,"(NULL)",1155,5.24,"Y","http://www.ti.com/lit/ds/symlink/csd17312q5.pdf","(NULL)",2.2000000000000002,2.2999999999999998,88,6,8.4,"(NULL)","SON5X6","(NULL)","(NULL)",41033,42564,2021,0.76700000000000002]
["CSD17313Q2",146,"Y","Y","WB_MOSFET_N_D12568G3S47","DQK0006C","Added by Jonathan; Oliver updated Thermal_Id","N",1,0,1,30,10,5,57,150,2.4,67,7.4,0.9,1.8,2.2000000000000002,1,12.9,4,300,16,1.3,"(NULL)","(NULL)",4.2000000000000003E-2,3.2000000000000001E-2,"(NULL)",0.03,"(NULL)",0.48,2.1,1.25,0.3,"(NULL)",0.28999999999999998,0.27,0.31,0.48,0.14000000000000001,0.57999999999999996,4.4999999999999998E-2,1.35E-2,6.8000000000000005E-2,15,10,0.1,2.4,1,22,6,6.5,10,3.7,30,0.1,"(NULL)","N",0.85,"(NULL)",1156,0.24199999999999999,"Y","http://www.ti.com/lit/ds/symlink/csd17313q2.pdf","(NULL)",2.6,2.1,6.4,0.4,0.7,"(NULL)","SON2X2","N","(NULL)",40742,42598,2617,0.13900000000000001]
["CSD17318Q2",146,"N","Y","(NULL)","DQK0006C","JW","N",1,0,1,30,10,21.5,68,150,2.5,65,7.9,0.6,1.2,1.84,1,12,8,300,42,1,"(NULL)",0.03,"(NULL)",1.6899999999999998E-2,"(NULL)",1.5100000000000001E-2,"(NULL)",0.65,6,3.25,0.7,"(NULL)",0.74299999999999999,0.64300000000000002,0.86199999999999999,0.35199999999999998,6.9400000000000003E-2,0.77,0.125,3.5700000000000003E-2,0.24399999999999999,15,10,0.1,null,null,null,null,null,null,null,null,null,"(NULL)","N",0.8,"(NULL)",1156,"(NULL)","Y","http://www.ti.com/lit/ds/symlink/csd17318q2.pdf","(NULL)",2,1.9,2.9,1.3,1.5,"(NULL)","SON2X2","N","(NULL)",43724,42598,2617,0.11799999999999999]
["CSD17322Q5A",146,"Y","Y","WB_MOSFET_N_D56789G4S123","TRANS_NexFET_Q5A","Updated by PJ Added by Amod","N",1,0,1,30,10,87,104,150,3.125,50,1.8,1.1000000000000001,2,3.2,1,17.8,14,300,37,4.7,"(NULL)","(NULL)","(NULL)",1.24E-2,"(NULL)",8.8000000000000005E-3,"(NULL)",0.5,3.6,1.3,0.9,7.6,0.81699999999999995,0.57999999999999996,0.86599999999999999,1.2,0.39,1.64,0.105,3.5000000000000003E-2,0.16800000000000001,15,10,0.01,1.2,0.6,90,0.9,90,30,2,30,0.01,0.36,"N",0.85,"(NULL)",1155,0.69499999999999995,"Y","http://www.ti.com/lit/ds/symlink/csd17322q5a.pdf","(NULL)",4.7,3.1,19.600000000000001,1.1000000000000001,1.6,"(NULL)","SON5X6","(NULL)","(NULL)",40778,42577,2505,0.314]
["CSD17327Q5A",146,"Y","Y","WB_MOSFET_N_D56789G4S123","TRANS_NexFET_Q5A","Updated by PJ Added by Amod","N",1,0,1,30,10,65,85,150,3.125,50,1.9,1.1000000000000001,2,3,1,14.6,11,300,44,4.7,"(NULL)","(NULL)","(NULL)",1.55E-2,"(NULL)",1.2200000000000001E-2,"(NULL)",0.48,2.8,1,0.6,5.7,0.43,0.42199999999999999,0.48,0.9,0.28599999999999998,1.5,7.0000000000000007E-2,2.5999999999999999E-2,9.5000000000000001E-2,15,10,0.01,0.8,0.5,40,30,0.7,30,0.01,30,0.01,1.75,"N",0.85,"(NULL)",1155,0.50600000000000001,"Y","http://www.ti.com/lit/ds/symlink/csd17327q5a.pdf","(NULL)",4.7,3,10.5,0.8,1.2,"(NULL)","SON5X6","(NULL)","(NULL)",40778,42577,2506,0.29599999999999999]
["CSD17381F4",146,"Y","N","(NULL)","(NULL)","Updated by PJ","N",1,0,"(NULL)",30,12,3.1,12,150,0.5,110,"(NULL)",0.65,1.1000000000000001,"(NULL)",0.9,5.6,0.5,300,4.8,23,0.25,0.14299999999999999,"(NULL)",0.11700000000000001,"(NULL)",0.109,"(NULL)",0.36,1.04,0.59,2,null,0.157,0.15,0.161,9.4700000000000006E-2,4.3999999999999997E-2,0.114,1.0999999999999999E-2,2.2000000000000001E-3,1.5900000000000001E-2,15,10,0.01,0.09,0.85,7,30,0.2,30,0.01,30,0.01,5.59,"N",0.73,"(NULL)","(NULL)","(NULL)","Y","http://www.ti.com/lit/ds/symlink/csd17381f4.pdf","(NULL)",23,1.5,1.5,0.13300000000000001,0.22600000000000001,"(NULL)","LGA1X0.6","(NULL)","(NULL)",42577,42577,2507,5.0999999999999997E-2]
["CSD17382F4",146,"Y","N","(NULL)","(NULL)","PJ added New","N",1,0,"(NULL)",30,10,2.2999999999999998,14.8,150,0.5,110,"(NULL)",0.7,1.2,"(NULL)",1,"(NULL)","(NULL)","(NULL)",5.9,220,0.18,8.2000000000000003E-2,"(NULL)",6.7000000000000004E-2,"(NULL)",6.4000000000000001E-2,"(NULL)",0.46,2.1,1,0.12,"(NULL)",0.30199999999999999,0.26700000000000002,0.34399999999999997,0.13300000000000001,3.1E-2,0.21,5.1200000000000002E-2,1.4999999999999999E-2,0.10199999999999999,15,10,0.1,1,0.5,5,1.9,5,30,0.19,30,0.01,2.13,"N",0.7,"(NULL)","(NULL)","(NULL)","Y","http://www.ti.com/lit/ds/symlink/csd17382f4.pdf","(NULL)",220,1.7,"(NULL)",0.63,0.41,"(NULL)","LGA1X0.6","(NULL)","(NULL)",42577,"(NULL)",2591,5.3999999999999999E-2]
["CSD17483F4",146,"Y","N","(NULL)","(NULL)","Updated by PJ","N",1,0,"(NULL)",30,12,1.5,5,150,0.5,110,"(NULL)",0.65,1.1000000000000001,"(NULL)",0.9,5.5,0.5,300,2.4,23,0.55000000000000004,0.31,"(NULL)",0.26,"(NULL)",0.24,"(NULL)",0.33,1.01,0.55000000000000004,2.0499999999999998,"(NULL)",0.157,0.14499999999999999,0.16,8.5000000000000006E-2,4.2000000000000003E-2,0.11,1.0999999999999999E-2,2E-3,1.7000000000000001E-2,15,10,0.01,0.04,1.3,5,1.4,5,30,0.2,30,0.01,5.0999999999999996,"N",0.73,"(NULL)","(NULL)","(NULL)","Y","http://www.ti.com/lit/ds/symlink/csd17483f4.pdf","(NULL)",23,1.5,1.47,0.13,0.22,"(NULL)","LGA1X0.6","(NULL)","(NULL)",42577,42577,2508,0.04]
["CSD17484F4",146,"Y","N","(NULL)","(NULL)","Updated by PJ","N",1,0,"(NULL)",30,12,3,18,150,0.5,110,"(NULL)",0.65,1.1000000000000001,"(NULL)",0.9,6.2,0.5,300,4,8,0.27,0.16,"(NULL)",0.128,"(NULL)",0.121,"(NULL)",0.35,0.92,0.6,0.14000000000000001,"(NULL)",0.155,0.15,0.161,9.5200000000000007E-2,4.3999999999999997E-2,0.129,1.0699999999999999E-2,2.2000000000000001E-3,1.9099999999999999E-2,15,10,0.01,0.06,0.85,5.5,1.5,5.5,30,0.2,30,0.01,4.6900000000000004,"N",0.73,"(NULL)","(NULL)","(NULL)","Y","http://www.ti.com/lit/ds/symlink/csd17484f4.pdf","(NULL)",8,1.5,1.3,7.4999999999999997E-2,0.28000000000000003,"(NULL)","LGA1X0.6","(NULL)","(NULL)",42577,42577,2509,5.6000000000000001E-2]
["CSD17501Q5A",146,"Y","Y","(NULL)","(NULL)","JW","N",1,0,1,30,20,100,187,150,3.2,49,1,1,1.8,"(NULL)",1,32,25,300,110,1.3,"(NULL)","(NULL)","(NULL)",3.7000000000000002E-3,"(NULL)","(NULL)",2.8999999999999998E-3,0.45,13.2,5,2.9,28,"(NULL)",2.04,"(NULL)","(NULL)",1.35,"(NULL)","(NULL)",6.6000000000000003E-2,"(NULL)",15,"(NULL)","(NULL)","(NULL)","(NULL)","(NULL)","(NULL)","(NULL)","(NULL)","(NULL)","(NULL)","(NULL)","(NULL)","N",0.8,"(NULL)",1155,"(NULL)","Y","http://www.ti.com/lit/ds/symlink/csd17501q5a.pdf","(NULL)",2.6,2.5,46,3.5,5.4,"(NULL)","SON5x6","(NULL)","(NULL)","(NULL)","(NULL)","(NULL)",0.625]
["CSD17505Q5A",146,"Y","Y","(NULL)","(NULL)","JW","N",1,0,1,30,20,100,153,150,3.2,50,1.3,1,1.8,"(NULL)",1,28,20,300,82,1,"(NULL)","(NULL)","(NULL)",4.5999999999999999E-3,"(NULL)","(NULL)",3.5000000000000001E-3,0.5,10,3,1.9,22,"(NULL)",1.56,"(NULL)","(NULL)",1.03,"(NULL)","(NULL)",6.5000000000000002E-2,"(NULL)",15,"(NULL)","(NULL)","(NULL)","(NULL)","(NULL)","(NULL)","(NULL)","(NULL)","(NULL)","(NULL)","(NULL)","(NULL)","N",0.8,"(NULL)",1155,"(NULL)","Y","http://www.ti.com/lit/ds/symlink/csd17505q5a.pdf","(NULL)",2,2.5,30,2.7,3.5,"(NULL)","SON5x6","(NULL)","(NULL)","(NULL)","(NULL)","(NULL)",0.56200000000000006]
["CSD17506Q5A",146,"Y","Y","(NULL)","(NULL)","JW","N",1,0,1,30,20,100,150,150,3.2,50,1,1,1.8,"(NULL)",1,27,20,300,76,1.1000000000000001,"(NULL)","(NULL)","(NULL)",5.3E-3,"(NULL)","(NULL)",4.0000000000000001E-3,0.45,8.3000000000000007,2.5,1.6,17,"(NULL)",1.27,"(NULL)","(NULL)",0.86,"(NULL)","(NULL)",0.05,"(NULL)",15,"(NULL)","(NULL)","(NULL)","(NULL)","(NULL)","(NULL)","(NULL)","(NULL)","(NULL)","(NULL)","(NULL)","(NULL)","N",0.8,"(NULL)",1155,"(NULL)","Y","http://www.ti.com/lit/ds/symlink/csd17506q5a.pdf","(NULL)",2.2000000000000002,2.5,33,2.2999999999999998,3.1,"(NULL)","SON5x6","(NULL)","(NULL)","(NULL)","(NULL)","(NULL)",0.495]
["CSD17507Q5A",146,"Y","Y","(NULL)","(NULL)","JW","N",1,0,1,30,20,61,163,150,3.1,50,2.1,1.1000000000000001,2.1,"(NULL)",1,16,11,300,44,0.7,"(NULL)","(NULL)","(NULL)",1.61E-2,"(NULL)","(NULL)",1.0800000000000001E-2,0.47,2.8,1,0.7,6,"(NULL)",0.41,"(NULL)","(NULL)",0.27,"(NULL)","(NULL)",2.3E-2,"(NULL)",15,"(NULL)","(NULL)","(NULL)","(NULL)","(NULL)","(NULL)","(NULL)","(NULL)","(NULL)","(NULL)","(NULL)","(NULL)","N",0.85,"(NULL)",1155,"(NULL)","Y","http://www.ti.com/lit/ds/symlink/csd17507q5a.pdf","(NULL)",1.4,3,11,0.7,1.3,"(NULL)","SON5x6","(NULL)","(NULL)","(NULL)","(NULL)","(NULL)",0.24399999999999999]
["CSD17510Q5A",146,"Y","Y","(NULL)","(NULL)","JW","N",1,0,1,30,20,55,129,150,3,51,1.6,1,2.1,"(NULL)",1,24,20,300,59,0.85,"(NULL)","(NULL)","(NULL)",7.3000000000000001E-3,"(NULL)","(NULL)",5.1999999999999998E-3,0.47,6.4,2.5,1.5,13,"(NULL)",0.96,"(NULL)","(NULL)",0.63,"(NULL)","(NULL)",5.0999999999999997E-2,"(NULL)",15,"(NULL)","(NULL)","(NULL)","(NULL)","(NULL)","(NULL)","(NULL)","(NULL)","(NULL)","(NULL)","(NULL)","(NULL)","N",0.85,"(NULL)",1155,"(NULL)","Y","http://www.ti.com/lit/ds/symlink/csd17510q5a.pdf","(NULL)",1.7,3,25,1.9,2.7,"(NULL)","SON5x6","(NULL)","(NULL)","(NULL)","(NULL)","(NULL)",0.35799999999999998]
["CSD17522Q5A",146,"Y","Y","(NULL)","(NULL)","JW","N",1,0,1,30,20,87,104,150,3,51,1.8,1.1000000000000001,2,"(NULL)",1,17.8,14,300,37,4.7,"(NULL)","(NULL)","(NULL)",1.24E-2,"(NULL)","(NULL)",8.0999999999999996E-3,0.42,3.6,1,0.9,7.5,"(NULL)",0.57999999999999996,"(NULL)","(NULL)",0.39,"(NULL)","(NULL)",3.5000000000000003E-2,"(NULL)",15,"(NULL)","(NULL)","(NULL)","(NULL)","(NULL)","(NULL)","(NULL)","(NULL)","(NULL)","(NULL)","(NULL)","(NULL)","N",0.85,"(NULL)",1155,"(NULL)","Y","http://www.ti.com/lit/ds/symlink/csd17522q5a.pdf","(NULL)","(NULL)",3,19.600000000000001,1.1000000000000001,1.6,"(NULL)","SON5x6","(NULL)","(NULL)","(NULL)","(NULL)","(NULL)",0.374]
["CSD17527Q5A",146,"Y","Y","(NULL)","(NULL)","JW","N",1,0,1,30,20,65,85,150,3,51,1.9,1.1000000000000001,2,"(NULL)",1,14.6,11,300,44,4.7,"(NULL)","(NULL)","(NULL)",1.55E-2,"(NULL)","(NULL)",1.0800000000000001E-2,0.5,2.8,1,0.6,6,"(NULL)",0.42199999999999999,"(NULL)","(NULL)",0.28599999999999998,"(NULL)","(NULL)",2.5999999999999999E-2,"(NULL)",15,"(NULL)","(NULL)","(NULL)","(NULL)","(NULL)","(NULL)","(NULL)","(NULL)","(NULL)","(NULL)","(NULL)","(NULL)","N",0.85,"(NULL)",1155,"(NULL)","Y","http://www.ti.com/lit/ds/symlink/csd17527q5a.pdf","(NULL)","(NULL)",3.1,10.5,0.8,1.2,"(NULL)","SON5x6","(NULL)","(NULL)","(NULL)","(NULL)","(NULL)",0.35099999999999998]
["CSD17551Q3A",146,"Y","Y","(NULL)","(NULL)","JW","N",1,0,1,30,20,48,71,150,2.6,60,3.9,1.1000000000000001,2.1,"(NULL)",1,14,11,300,101,1.5,"(NULL)","(NULL)","(NULL)",1.18E-2,"(NULL)","(NULL)",8.9999999999999993E-3,0.7,6,3,1.4,13,"(NULL)",1.05,"(NULL)","(NULL)",0.24399999999999999,"(NULL)","(NULL)",2.4E-2,"(NULL)",15,"(NULL)","(NULL)","(NULL)","(NULL)","(NULL)","(NULL)","(NULL)","(NULL)","(NULL)","(NULL)","(NULL)","(NULL)","N",0.8,"(NULL)",1155,"(NULL)","Y","http://www.ti.com/lit/ds/symlink/csd17551q3a.pdf","(NULL)",3,2.8,13,1.5,2.2999999999999998,"(NULL)","SON3X3","(NULL)","(NULL)","(NULL)","(NULL)","(NULL)",0.245]
["CSD17551Q5A",146,"Y","Y","(NULL)","(NULL)","JW","N",1,0,1,30,20,48,85,150,3,52.3,4.2,1.2,2.2000000000000002,"(NULL)",1,13.5,11,300,107,1.4,"(NULL)","(NULL)","(NULL)",1.0999999999999999E-2,"(NULL)","(NULL)",8.8000000000000005E-3,0.75,6,3,1.4,13,"(NULL)",1.06,"(NULL)","(NULL)",0.247,"(NULL)","(NULL)",1.9E-2,"(NULL)",15,"(NULL)","(NULL)","(NULL)","(NULL)","(NULL)","(NULL)","(NULL)","(NULL)","(NULL)","(NULL)","(NULL)","(NULL)","N",0.8,"(NULL)",1155,"(NULL)","Y","http://www.ti.com/lit/ds/symlink/csd17551q5a.pdf","(NULL)",1.9,2.8,8.6999999999999993,1.4,2.8,"(NULL)","SON5X6","(NULL)","(NULL)","(NULL)","(NULL)","(NULL)",0.307]
["CSD17552Q3A",146,"Y","Y","(NULL)","(NULL)","JW","N",1,0,1,30,20,60,84,150,2.6,60,2.2999999999999998,1.1000000000000001,1.9,"(NULL)",1,15,11,300,106,0.9,"(NULL)","(NULL)","(NULL)",8.0999999999999996E-3,"(NULL)","(NULL)",6.0000000000000001E-3,0.7,9,5,1.8,18,"(NULL)",1.58,"(NULL)","(NULL)",0.38500000000000001,"(NULL)","(NULL)",2.8000000000000001E-2,"(NULL)",15,"(NULL)","(NULL)","(NULL)","(NULL)","(NULL)","(NULL)","(NULL)","(NULL)","(NULL)","(NULL)","(NULL)","(NULL)","N",0.8,"(NULL)",1155,"(NULL)","Y","http://www.ti.com/lit/ds/symlink/csd17552q3a.pdf","(NULL)",1.8,2.8,17,2.2999999999999998,3.6,"(NULL)","SON3X3","(NULL)","(NULL)","(NULL)","(NULL)","(NULL)",0.29499999999999998]
["CSD17552Q5A",146,"Y","Y","(NULL)","(NULL)","JW","N",1,0,1,30,20,88,106,150,3,50,1.8,1.1000000000000001,1.9,"(NULL)",1,18,15,300,77,0.9,"(NULL)","(NULL)","(NULL)",7.4999999999999997E-3,"(NULL)","(NULL)",6.1999999999999998E-3,0.75,9,4,2.1,18,"(NULL)",1.58,"(NULL)","(NULL)",0.38500000000000001,"(NULL)","(NULL)",2.8000000000000001E-2,"(NULL)",15,"(NULL)","(NULL)","(NULL)","(NULL)","(NULL)","(NULL)","(NULL)","(NULL)","(NULL)","(NULL)","(NULL)","(NULL)","N",0.8,"(NULL)",1155,"(NULL)","Y","http://www.ti.com/lit/ds/symlink/csd17552q5a.pdf","(NULL)",1.8,2.8,20,2,3.6,"(NULL)","SON5X6","(NULL)","(NULL)","(NULL)","(NULL)","(NULL)",0.313]
["CSD17553Q5A",146,"Y","Y","(NULL)","(NULL)","JW","N",1,0,1,30,20,100,151,150,3.1,50.6,1.3,1,1.9,"(NULL)",1,23.1,20,300,106,0.7,"(NULL)","(NULL)","(NULL)",4.0000000000000001E-3,"(NULL)","(NULL)",3.0999999999999999E-3,0.7,17.5,12,4.0999999999999996,37,"(NULL)",2.71,"(NULL)","(NULL)",0.63500000000000001,"(NULL)","(NULL)",4.8000000000000001E-2,"(NULL)",15,"(NULL)","(NULL)","(NULL)","(NULL)","(NULL)","(NULL)","(NULL)","(NULL)","(NULL)","(NULL)","(NULL)","(NULL)","N",0.8,"(NULL)",1155,"(NULL)","Y","http://www.ti.com/lit/ds/symlink/csd17553q5a.pdf","(NULL)",0.9,2.8,23.8,4.7,5.8,"(NULL)","SON5X6","(NULL)","(NULL)","(NULL)","(NULL)","(NULL)",0.443]
["CSD17555Q5A",146,"Y","Y","(NULL)","(NULL)","JW","N",1,0,1,30,20,115,153,150,3,52,2.2000000000000002,1,1.9,"(NULL)",1,25,25,300,109,0.8,"(NULL)","(NULL)","(NULL)",3.3999999999999998E-3,"(NULL)","(NULL)",2.7000000000000001E-3,0.7,23,10,5,50,"(NULL)",3.875,"(NULL)","(NULL)",0.94899999999999995,"(NULL)","(NULL)",7.0000000000000007E-2,"(NULL)",15,"(NULL)","(NULL)","(NULL)","(NULL)","(NULL)","(NULL)","(NULL)","(NULL)","(NULL)","(NULL)","(NULL)","(NULL)","N",0.8,"(NULL)",1155,"(NULL)","Y","http://www.ti.com/lit/ds/symlink/csd17555q5a.pdf","(NULL)",1.6,2.8,31,5,7.5,"(NULL)","SON5X6","(NULL)","(NULL)","(NULL)","(NULL)","(NULL)",0.56200000000000006]
["CSD17556Q5B",146,"Y","Y","WB_MOSFET_N_D56789G4S123","TRANS_NexFET_Q5B","Updated by PJ Added by Hadi","N",1,0,1,30,20,100,400,150,3.125,50,1.3,1.1499999999999999,1.65,2.4,1,36,40,300,197,0.7,"(NULL)","(NULL)","(NULL)",1.8E-3,"(NULL)","(NULL)",1.4E-3,0.75,30,14.5,6.1,63,5.75,5.4,5.95,7.11,1.77,8.9,0.379,6.8000000000000005E-2,0.47399999999999998,15,10,0.1,40,0.7,283,1.7,283,30,3.43,30,0.1,0.16,"N",0.8,"(NULL)",1155,5.5,"Y","http://www.ti.com/lit/ds/symlink/csd17556q5b.pdf","(NULL)",1.4,2.5,68,7.5,11,"(NULL)","SON5x6","(NULL)","(NULL)",42173,42577,2523,0.80600000000000005]
["CSD17559Q5",146,"Y","Y","WB_MOSFET_N_D56789G4S123","TRANS_NexFET_Q5","PJ added new params from PL;Added by Gerold","N",1,0,1,30,20,100,400,150,3.125,50,1.2,1.2,1.7,2.2999999999999998,1,37,40,300,235,1.2,"(NULL)","(NULL)","(NULL)",1.5E-3,"(NULL)","(NULL)",1.1000000000000001E-3,0.7,39,15.3,8.3000000000000007,85,7.72,7.07,8,7.87,1.78,10.050000000000001,0.57499999999999996,0.09,0.8,15,10,0.1,43.7,0.55000000000000004,240,2.15,240,30,4.0199999999999996,30,0.1,0.11600000000000001,"N",0.8,"(NULL)",1346,7.2,"Y","http://www.ti.com/lit/ds/symlink/csd17559q5.pdf","(NULL)",2.4,2.6,80,9.3000000000000007,14.4,"(NULL)","SON5X6","(NULL)","(NULL)","(NULL)",42564,2038,0.89800000000000002]
["CSD17570Q5B",146,"Y","N","(NULL)","TRANS_NexFET_Q5B","Updated by PJ","N",1,0,"(NULL)",30,20,100,400,150,3.125,50,0.8,1.1000000000000001,1.9,2.4,1,51,50,300,271,1.8,"(NULL)","(NULL)","(NULL)",8.9999999999999998E-4,"(NULL)","(NULL)",5.9999999999999995E-4,0.68,93,54,17,180,12.8,10.4,13.8,4.75,1.45,6.2,2.74,0.877,3.62,15,10,0.1,86.2,0.46,400,0.68,400,30,2,30,0.1,5.8000000000000003E-2,"N",0.8,"(NULL)","(NULL)","(NULL)","Y","http://www.ti.com/lit/ds/symlink/csd17570q5b.pdf","(NULL)",3.6,2.5,34,34,27,"(NULL)","SON5X6","(NULL)","(NULL)",42577,42577,2524,0.76200000000000001]
["CSD17571Q2",146,"Y","Y","WB_MOSFET_N_D12568G3S47","DQK0006C","Updated by PJ Altium for Vince Paku","N",1,0,1,30,20,22,39,150,2.5,65,6.2,1.3,2,2.5,1,11,5,300,43,3.8,"(NULL)","(NULL)","(NULL)",2.9000000000000001E-2,"(NULL)","(NULL)",2.4E-2,0.78,2.4,1.3,0.6,5,0.38100000000000001,0.36,0.39,0.39600000000000002,0.10100000000000001,0.48199999999999998,3.49E-2,8.9999999999999993E-3,4.1700000000000001E-2,15,10,0.01,0.36,0.8,25,30,0.7,30,0.01,30,0.01,2.0699999999999998,"N",0.8,"(NULL)","(NULL)","(NULL)","Y","http://www.ti.com/lit/ds/symlink/csd17571q2.pdf","(NULL)",7.6,2.9,2.2999999999999998,0.9,0.6,"(NULL)","SON2X2","(NULL)","(NULL)",42194,42598,2525,0.109]
["CSD17573Q5B",146,"Y","Y","WB_MOSFET_N_D56789G4S123","DNK0008A","Updated by PJAdded by Hadi","N",1,0,1,30,20,100,400,150,195,50,0.8,1.1000000000000001,1.8,2.4,1,21,35,300,181,0.9,"(NULL)","(NULL)","(NULL)",1.4E-3,"(NULL)","(NULL)",1E-3,0.77,49,30,8.6,110,7.53,6.92,7.97,3.51,0.76900000000000002,4.99,0.88700000000000001,0.3,1.29,15,10,0.1,56.82,0.65,320,3.5,60,30,10,10,0.1,0.09,"N",0.8,"N",1155,6.68,"Y","http://www.ti.com/lit/ds/symlink/csd17573q5b.pdf","(NULL)",1.8,2.8,29,11.9,17.100000000000001,"(NULL)","SON5x6","N","(NULL)",42173,42577,2526,0.55000000000000004]
["CSD17575Q3",146,"Y","Y","WB_MOSFET_N_D56789G4S123","DQG0008A","Added by ; revert thermal ID back to NxtFET-HC 7/2016; PJ added new params from PL; Oliver updated Thermal_Id","N",1,0,1,30,20,60,240,150,2.7776999999999998,55,1.5,1.1000000000000001,1.8,2.5,1,13,25,300,118,0.9,"(NULL)","(NULL)","(NULL)",3.2000000000000002E-3,"(NULL)","(NULL)",2E-3,0.75,23,11.6,4.5999999999999996,47.5,3.67,3.4,4,1.76,0.39300000000000002,2.64,0.4,0.157,0.7,15,10,0.1,30,0.6,180,0.85,180,30,0.5,30,0.1,0.22,"N",0.8,"(NULL)",0,3.3,"Y","http://www.ti.com/lit/ds/symlink/csd17575q3.pdf","(NULL)",1.8,2.5,15,5.4,8.5,"(NULL)","SON5X6","(NULL)","(NULL)",42576,43741,2040,0.32400000000000001]
["CSD17576Q5B",146,"Y","Y","WB_MOSFET_N_D56789G4S123","TRANS_NexFET_Q5B","Updated by PJ Added by Hadi","N",1,0,1,30,20,100,400,150,3.125,50,1.31,1.1000000000000001,1.8,2.4,1,14,25,300,120,1,"(NULL)","(NULL)","(NULL)",2.8999999999999998E-3,"(NULL)","(NULL)",2E-3,0.85,25,13.5,4.7,53,3.71,3.41,3.99,1.78,0.38900000000000001,2.75,0.36299999999999999,0.151,0.69399999999999995,15,10,0.1,30,0.9,230,1,230,30,1.6,30,0.1,0.19800000000000001,"N",0.8,"(NULL)",0,3.3,"Y","http://www.ti.com/lit/ds/symlink/csd17576q5b.pdf","(NULL)",2,3,14.7,5.4,8.9,"(NULL)","SON5X6","(NULL)","(NULL)",42193,42577,2527,0.39700000000000002]
["CSD17577Q3A",146,"Y","Y","WB_MOSFET_N_D56789G4S123","DNH0008A","Added by Hadi; PJ added new params from PL; Oliver updated Thermal_Id","N",1,0,1,30,20,35,239,150,2.5,55,3,1.1000000000000001,1.8,2.7,1,8.6,16,300,76,1.4,"(NULL)","(NULL)","(NULL)",6.4000000000000003E-3,"(NULL)","(NULL)",4.0000000000000001E-3,0.6,13,5,2.5,28,2,1.78,2.11,0.85399999999999998,0.2,1.23,0.21299999999999999,7.9000000000000001E-2,0.36699999999999999,15,10,0.1,14.5,0.57999999999999996,76,0.91,76,30,0.32,30,0.1,0.36,"N",0.8,"(NULL)",0,1.7430000000000001,"Y","http://www.ti.com/lit/ds/symlink/csd17577q3a.pdf","(NULL)",2.8,2.5,8.1999999999999993,2.8,5.0999999999999996,"(NULL)","SON3x3","N","(NULL)",42198,42599,2042,0.193]
["CSD17577Q5A",146,"Y","Y","WB_MOSFET_N_D56789G4S123","TRANS_NexFET_Q5A","Updated by PJ Added by Hadi","N",1,0,1,30,20,60,280,150,3.125,50,2.8,1.1000000000000001,1.8,2.7,1,9.3000000000000007,18,300,79,1.4,"(NULL)","(NULL)","(NULL)",5.7999999999999996E-3,"(NULL)","(NULL)",4.1999999999999997E-3,0.6,13,4.95,2.5,26.4,1.9,1.78,2.04,0.89,0.20799999999999999,1.36,0.17399999999999999,7.9000000000000001E-2,0.313,15,10,0.1,17,0.47,85,1,85,30,0.47,30,0.1,0.38,"N",0.8,"(NULL)",1155,1.7,"Y","http://www.ti.com/lit/ds/symlink/csd17577q5a.pdf","(NULL)",2.8,2.5,8.1999999999999993,2.8,5.0999999999999996,"(NULL)","SON5x6","(NULL)","(NULL)",42198,42577,2528,0.21199999999999999]
["CSD17578Q3A",146,"Y","Y","WB_MOSFET_N_D56789G4S123","DNH0008A","Added by Hadi; PJ added new params from PL; Oliver updated Thermal_Id","N",1,0,1,30,20,20,142,150,2.5,60,4.2,1.1000000000000001,1.9,2.8,1,6,10,300,48,1.8,"(NULL)","(NULL)","(NULL)",9.4000000000000004E-3,"(NULL)","(NULL)",6.1999999999999998E-3,0.7,7.9,3.15,1.7,17,1.3,1.1499999999999999,1.4,0.56599999999999995,0.13,0.8,0.153,0.06,0.24,15,10,0.1,8,0.65,50,0.9,50,30,0.3,30,0.1,0.67,"N",0.8,"(NULL)",0,1.1599999999999999,"Y","http://www.ti.com/lit/ds/symlink/csd17578q3a.pdf","(NULL)",3.6,2.5,4.4000000000000004,1.7,3.3,"(NULL)","SON3x3","N","(NULL)",42198,42599,2044,0.17299999999999999]
["CSD17578Q5A",146,"Y","Y","WB_MOSFET_N_D56789G4S123","TRANS_NexFET_Q5A","Updated by PJ Added by Hadi","N",1,0,1,30,20,59,132,150,3.125,50,3.8,1.1000000000000001,1.9,2.7,1,6.8,10,300,44,1.8,"(NULL)","(NULL)","(NULL)",9.2999999999999992E-3,"(NULL)","(NULL)",6.8999999999999999E-3,0.75,7.9,3.02,1.7,17,1.26,1.17,1.36,0.54400000000000004,0.13600000000000001,0.79600000000000004,0.16600000000000001,5.8000000000000003E-2,0.26300000000000001,15,10,0.1,8.2799999999999994,0.72,60,1.52,60,30,0.49,30,0.1,0.59,"N",0.8,"(NULL)",1155,1,"Y","http://www.ti.com/lit/ds/symlink/csd17578q5a.pdf","(NULL)",3.6,2.5,6.5,2,3.1,"(NULL)","SON5x6","(NULL)","(NULL)",42201,42577,2529,0.191]
["CSD17579Q3A",146,"Y","Y","WB_MOSFET_N_D56789G4S123","DNH0008A","Added by Hadi; PJ added new params from PL; Oliver updated Thermal_Id","N",1,0,1,30,20,20,106,150,2.5,60,5.4,1.1000000000000001,1.9,2.8,1,5,8,300,37,1.9,"(NULL)","(NULL)","(NULL)",1.4200000000000001E-2,"(NULL)","(NULL)",8.6999999999999994E-3,0.72,5.3,2.5,1.1000000000000001,11,0.86899999999999999,0.8,0.92,0.35199999999999998,0.09,0.5,9.8000000000000004E-2,0.04,0.152,15,10,0.1,5.5,0.7,37,1.3,37,30,0.26,30,0.1,0.92,"N",0.8,"(NULL)",0,0.76800000000000002,"Y","http://www.ti.com/lit/ds/symlink/csd17579q3a.pdf","(NULL)",3.8,2.5,3.4,1.2,2.2000000000000002,"(NULL)","SON3x3","N","(NULL)",42201,42599,2046,0.153]
["CSD17579Q5A",146,"Y","Y","WB_MOSFET_N_D56789G4S123","TRANS_NexFET_Q5A","Updated by PJ Added by Hadi","N",1,0,1,30,20,25,105,150,3.125,50,4.3,1,2,2.9,1,5.7,10,300,36,1.9,"(NULL)","(NULL)","(NULL)",1.3299999999999999E-2,"(NULL)","(NULL)",9.7000000000000003E-3,0.75,5.4,2.0499999999999998,1.1000000000000001,11.2,0.85299999999999998,0.79600000000000004,0.89300000000000002,0.38800000000000001,9.5000000000000001E-2,0.56000000000000005,0.123,0.04,0.187,15,10,0.1,5.88,0.76,44.8,1.55,44.8,30,0.39,30,0.1,0.89,"N",0.8,"(NULL)",1155,0.91,"Y","http://www.ti.com/lit/ds/slps524/slps524.pdf","(NULL)",3.8,2.5,4.2,1.2,2.2999999999999998,"(NULL)","SON5x6","(NULL)","(NULL)",42202,42577,2530,0.17199999999999999]
["CSD17581Q3A",146,"Y","A","WB_MOSFET_N_D56789G4S123","DNH0008A","by Hadi","N",1,0,1,30,20,60,154,150,3.1,55,2,1,1.7,2.4,1,9.8000000000000007,16,300,78,1.8,"(NULL)","(NULL)","(NULL)",4.7000000000000002E-3,"(NULL)","(NULL)",3.8E-3,0.6,20,22,3.6,42,3.55,2.8,3.6,2.7,0.35,2.8,0.64100000000000001,0.15,0.65,15,10,0.1,16,0.7,125,1,85,30,0.65,30,0.1,1.77,"N",0.8,"(NULL)",1155,2.95,"Y","http://www.ti.com/lit/ds/symlink/csd17581q3a.pdf","(NULL)",3.6,4.5,10.199999999999999,4,6.9,"(NULL)","SON3X3","N","(NULL)",43320,43320,3485,0.23400000000000001]
["CSD17581Q5A",146,"N","A","WB_MOSFET_N_D56789G4S124","DNH0008A","JW","N",1,0,1,30,20,60,265,150,3.1,50,1.5,1,1.7,2.4,1,11,16,300,85,1.8,"(NULL)","(NULL)","(NULL)",4.1999999999999997E-3,"(NULL)","(NULL)",3.3999999999999998E-3,0.6,20,22,3.6,41,3.55,2.8,3.6,2.7,0.35,2.8,0.64100000000000001,0.15,0.65,15,10,0.1,16,0.7,125,1,85,30,0.65,30,0.1,1.77,"N",0.8,"(NULL)",1155,2.95,"Y","http://www.ti.com/lit/ds/symlink/csd17581q5a.pdf","(NULL)",3.6,4.5,13,4,6.9,"(NULL)","SON5X6","N","(NULL)",43724,43724,null,0.252]
["CSD17585F5",146,"Y","N","(NULL)","(NULL)","JW","N",1,0,"(NULL)",30,20,3.6,34,150,0.5,110,"(NULL)",0.9,1.7,"(NULL)",1,"(NULL)","(NULL)","(NULL)",7,34,"(NULL)","(NULL)","(NULL)",3.3000000000000002E-2,"(NULL)","(NULL)",2.7E-2,0.48,1.9,"(NULL)",0.42,3.9,"(NULL)",0.29199999999999998,"(NULL)","(NULL)",0.16600000000000001,"(NULL)","(NULL)",5.7000000000000002E-3,"(NULL)",30,"(NULL)","(NULL)","(NULL)","(NULL)","(NULL)","(NULL)","(NULL)","(NULL)","(NULL)","(NULL)","(NULL)","(NULL)","N",0.74,"(NULL)","(NULL)","(NULL)","Y","http://www.ti.com/lit/ds/symlink/csd17485f5.pdf","(NULL)","(NULL)","(NULL)","(NULL)",0.39,0.53,"(NULL)","LGA1.5X0.8","(NULL)","(NULL)",42577,42577,2509,0.08]
["CSD18501Q5A",146,"Y","Y","WB_MOSFET_N_D56789G4S123","TRANS_NexFET_Q5A","PJ added new params from PL;Added by Gerold","N",1,0,1,40,20,100,400,150,3.125,50,1,1.4,2.2999999999999998,2.5,1,40,25,300,118,1.2,"(NULL)","(NULL)","(NULL)",4.3E-3,"(NULL)","(NULL)",3.2000000000000002E-3,0.84,20,10.6,5.7,42,3.5,3.2,3.53,4.13,0.72499999999999998,5,0.3,1.9E-2,0.34,20,10,0.1,18,1.1000000000000001,180,2,180,40,1.9,40,0.1,0.25,"N",0.8,"(NULL)",1155,3.52,"Y","http://www.ti.com/lit/ds/symlink/csd18501q5a.pdf","(NULL)",2.4,3.1,70,5.9,8.1,"(NULL)","SON5X6","(NULL)","(NULL)",41163,42564,2048,0.58899999999999997]
["CSD18502KCS",146,"Y","N","WB_MOSFET_N_D2G1S3","TO-220AB","Updated by PJ Added by Gerold","N",1,0,4,40,20,100,400,175,259,62,0.6,1.5,2.1,3.2,1,48,100,300,138,1.2,"(NULL)","(NULL)","(NULL)",4.3E-3,"(NULL)","(NULL)",2.8999999999999998E-3,0.8,52,10,7.5,50,4.28,3.9,4.37,5.09,0.9,5.19,0.245,2.1000000000000001E-2,0.245,20,10,0.1,18,1.5,250,3,250,40,3,40,0.1,0.2,"N",0.8,"(NULL)",42,4.0999999999999996,"Y","http://www.ti.com/lit/ds/symlink/csd18502kcs.pdf","(NULL)",2.4,3.5,105,8.4,10.3,"(NULL)","TO-220","(NULL)","(NULL)",41163,42577,2531,0.81799999999999995]
["CSD18502Q5B",146,"Y","Y","WB_MOSFET_N_D56789G4S123","TRANS_NexFET_Q5B","PJ added new params from PL;Added by Gerold","N",1,0,1,40,20,100,400,150,3.125,50,0.8,1.5,2.2000000000000002,2.6,1,44,30,300,143,1.2,"(NULL)","(NULL)","(NULL)",3.3E-3,"(NULL)","(NULL)",2.3E-3,0.9,25,12,6.9,52,4.2,3.9,4.29,5.25,0.9,6.58,0.34,2.1999999999999999E-2,0.4,20,10,0.01,2.5,1.2,260,2,260,40,2,40,0.01,0.2,"N",0.8,"(NULL)",1345,4.0999999999999996,"Y","http://www.ti.com/lit/ds/symlink/csd18502Q5B.pdf","(NULL)",2.4,3.3,88,8.4,10.3,"(NULL)","SON5X6","(NULL)","(NULL)","(NULL)",42564,2049,0.84499999999999997]
["CSD18503KCS",146,"Y","N","WB_MOSFET_N_D2G1S3","TO-220AB","Updated by PJ Added by Gerold","N",1,0,4,40,20,100,155,150,143,62,0.9,1.5,2.2999999999999998,3.4,1,37,75,300,98,1.4,"(NULL)","(NULL)","(NULL)",6.7999999999999996E-3,"(NULL)","(NULL)",4.4999999999999997E-3,0.87,30,6.5,4.7,30,2.4,2.2999999999999998,2.5,2.4,0.5,3.1,0.21,1.2E-2,0.23,20,10,0.01,1.8,0.8,160,2,160,40,7.8,40,0.01,0.38,"N",0.8,"(NULL)",42,2.27,"Y","http://www.ti.com/lit/ds/symlink/csd18503kcs.pdf","(NULL)",2.8,3.8,60,4.5999999999999996,7.7,"(NULL)","TO-220","(NULL)","(NULL)",42577,42577,2532,0.57399999999999995]
["CSD18503Q5A",146,"Y","Y","WB_MOSFET_N_D56789G4S123","TRANS_NexFET_Q5A","Added by Gerold; PJ added new params from PL; Oliver set ROHS to E and Automotive to N","N",1,0,1,40,20,100,321,150,3.125,50,1.3,1.5,2.2999999999999998,2.5299999999999998,1,37,22,300,100,1.2,"(NULL)","(NULL)","(NULL)",6.1999999999999998E-3,"(NULL)","(NULL)",4.3E-3,0.9,13,6,3.8,26.25,2.5,2.2000000000000002,2.5,2.86,0.5,3.6,0.24,1.2999999999999999E-2,0.3,20,10,0.1,12,1,110,2.1,110,40,1.7,40,0.1,0.4,"N",0.8,"(NULL)",1155,2.2000000000000002,"E","http://www.ti.com/lit/ds/symlink/csd18503q5a.pdf","(NULL)",2.4,3.5,52,4.3,4.5,"(NULL)","SON5X6","N","(NULL)",41163,42669,2050,0.46400000000000002]
["CSD18504KCS",146,"Y","A","WB_MOSFET_N_D2G1S3","KCS0003B","Added by Gerold; Updated by PJ; Oliver updated Thermal_Id set Automotive and set Available to A","N",1,0,4,40,20,100,238,175,115,62,1.3,1.5,2.2999999999999998,3.36,1,33,40,300,72,1.5,"(NULL)","(NULL)","(NULL)",0.01,"(NULL)","(NULL)",7.0000000000000001E-3,0.88,19,3.8,3,19,1.5,1.38,1.53,1.59,0.32,1.89,0.151,8.0000000000000002E-3,0.17599999999999999,20,10,0.1,7.14,1.2,100,2.1800000000000002,100,40,0.91,40,0.1,0.56000000000000005,"N",0.8,"(NULL)",42,1.42,"Y","http://www.ti.com/lit/ds/symlink/csd18504kcs.pdf","(NULL)",3,3.9,46,3.5,4.4000000000000004,"N","TO-220","N","(NULL)",42577,42664,2533,0.46300000000000002]
["CSD18504Q5A",146,"Y","Y","WB_MOSFET_N_D56789G4S123","TRANS_NexFET_Q5A","PJ added new params from PL;Added by Gerold","N",1,0,1,40,20,50,275,150,3.125,50,2,1.5,2.4,2.98,1,28,17,300,71,1.4,"(NULL)","(NULL)","(NULL)",9.7999999999999997E-3,"(NULL)","(NULL)",6.6E-3,0.84,7.7,3.2,2.2000000000000002,15.25,1.45,1.38,1.49,1.74,0.31,2.0699999999999998,0.14000000000000001,8.0000000000000002E-3,0.16700000000000001,20,10,0.1,8,1,90,1.7,90,40,0.95,40,0.1,1.25,"N",0.8,"(NULL)",1155,1.42,"Y","http://www.ti.com/lit/ds/symlink/csd18504q5a.pdf","(NULL)",2.8,3.5,39,2.4,3.2,"(NULL)","SON5X6","N","(NULL)",41163,42564,2051,0.32600000000000001]
["CSD18509Q5B",146,"Y","Y","WB_MOSFET_N_D56789G4S123","TRANS_NexFET_Q5B","Updated PJ for missing entries.Updated by PJ 7/5 RL: Updated Thermal_Id DNK0008A -> TRANS_NexFET_Q5B; Added by Hadi","N",1,0,1,40,20,100,400,150,3.125,50,0.8,1.5,2.2000000000000002,2.8,1,23,32,300,180,0.8,"(NULL)","(NULL)","(NULL)",1.6999999999999999E-3,"(NULL)","(NULL)",1.1999999999999999E-3,0.82,150,29,18,140,11.5,10.7,12.3,6.1,0.82099999999999995,9.01,0.77800000000000002,0.27200000000000002,1.68,20,10,0.1,45.8,0.87,400,1.29,400,40,1.52,40,0.1,7.0000000000000007E-2,"N",0.8,"(NULL)",1345,12,"Y","http://www.ti.com/lit/ds/symlink/csd18509q5b.pdf","(NULL)",1.6,2.7,40,17,29,"(NULL)","SON5X6","(NULL)","(NULL)",42537,42585,2534,0.79700000000000004]
["CSD18510KCS",146,"N","Y","WB_MOSFET_N_D56789G4S123","TRANS_NexFET_Q5B","JW","N",1,0,4,40,20,200,400,175,250,62,0.6,1.4,2.2999999999999998,3.2,1,41,100,300,330,0.9,"(NULL)","(NULL)","(NULL)",2.5999999999999999E-3,"(NULL)","(NULL)",1.4E-3,0.82,58,22,15,118,9.48,8.42,10.130000000000001,5.54,0.84399999999999997,9.4499999999999993,1.1499999999999999,0.373,1.91,20,10,0.1,45.8,0.87,400,1.29,400,40,1.52,40,0.1,7.0000000000000007E-2,"N",0.85,"Y",42,12,"Y","http://www.ti.com/lit/ds/symlink/csd18510kcs.pdf","(NULL)",1.8,2.7,70,21,28,"(NULL)","TO-220","(NULL)","(NULL)",43724,43724,2534,0.76]
["CSD18510KTT",146,"N","Y","WB_MOSFET_N_D56789G4S123","TRANS_NexFET_Q5B","JW","N",1,0,1,40,20,200,274,175,250,62,0.6,1.4,2.2999999999999998,3.5,1,41,100,300,330,0.9,"(NULL)","(NULL)","(NULL)",2.5999999999999999E-3,"(NULL)","(NULL)",1.4E-3,0.82,58,22,15,118,9.48,8.42,10.130000000000001,5.54,0.84399999999999997,9.4499999999999993,1.1499999999999999,0.373,1.91,20,10,0.1,45.8,0.87,400,1.29,400,40,1.52,40,0.1,7.0000000000000007E-2,"N",0.85,"(NULL)","(NULL)",12,"Y","http://www.ti.com/lit/ds/symlink/csd18510ktt.pdf","(NULL)",1.8,2.7,70,21,28,"(NULL)","DDPAK","(NULL)","(NULL)",43724,43724,2534,0.80600000000000005]
["CSD18510Q5B",146,"N","Y","WB_MOSFET_N_D56789G4S123","TRANS_NexFET_Q5B","JW","N",1,0,1,40,20,100,400,150,3.1,50,0.8,1.2,2.2999999999999998,2.9,1,19,32,300,147,0.9,"(NULL)","(NULL)","(NULL)",1.6000000000000001E-3,"(NULL)","(NULL)",9.6000000000000002E-4,0.82,58,22,15,118,9.48,8.42,10.130000000000001,5.54,0.84399999999999997,9.4499999999999993,1.1499999999999999,0.373,1.91,20,10,0.1,45.8,0.87,400,1.29,400,40,1.52,40,0.1,7.0000000000000007E-2,"N",0.8,"(NULL)",1145,12,"Y","http://www.ti.com/lit/ds/symlink/csd18510q5b.pdf","(NULL)",1.8,2.7,31,21,28,"(NULL)","SON5X6","(NULL)","(NULL)",43724,43724,2534,0.78900000000000003]
["CSD18511KCS",146,"N","Y","WB_MOSFET_N_D56789G4S123","TRANS_NexFET_Q5A","JW","N",1,0,4,40,20,110,400,175,188,62,0.8,1.5,2.4,3.6,1,31,100,300,249,0.9,"(NULL)","(NULL)","(NULL)",4.1999999999999997E-3,"(NULL)","(NULL)",2.5999999999999999E-3,0.66,31,10,7.4,64,4.83,4.3600000000000003,5.18,2.91,0.442,5.14,0.53200000000000003,0.19,0.95699999999999996,20,10,0.1,25,0.9,100,1,200,40,1,40,0.5,1.1200000000000001,"N",0.9,"Y",42,4.5,"Y","http://www.ti.com/lit/ds/symlink/csd18511kcs.pdf","(NULL)",1.8,4.5,62,9.6999999999999993,17.899999999999999,"N","TO-220","N","(NULL)",43724,43724,3305,0.53700000000000003]
["CSD18511KTT",146,"N","Y","WB_MOSFET_N_D56789G4S123","TRANS_NexFET_Q5A","JW","N",1,0,1,40,20,110,400,175,188,62,0.8,1.5,2.4,3.64,1,31,100,300,249,0.9,"(NULL)","(NULL)","(NULL)",4.1999999999999997E-3,"(NULL)","(NULL)",2.5999999999999999E-3,0.66,31,10,7.4,64,4.83,4.3600000000000003,5.18,2.91,0.442,5.14,0.53200000000000003,0.19,0.95699999999999996,20,10,0.1,25,0.9,100,1,200,40,1,40,0.5,1.1200000000000001,"N",0.9,"N","(NULL)",4.5,"Y","http://www.ti.com/lit/ds/symlink/csd18511ktt.pdf","(NULL)",1.8,4.5,62,9.6999999999999993,17.899999999999999,"N","DDPAK","N","(NULL)",43724,43724,3305,0.58299999999999996]
["CSD18511Q5A",146,"Y","Y","WB_MOSFET_N_D56789G4S123","TRANS_NexFET_Q5A","Hadi: per brett barr request; Oliver corrected Thermal_Id","N",1,0,1,40,20,100,400,150,3.1,50,1.2,1.5,2.4,3.15,1,14,24,300,5.2,0.7,"(NULL)","(NULL)","(NULL)",3.5000000000000001E-3,"(NULL)","(NULL)",2.3E-3,0.66,63,10,8.1999999999999993,60,5.75,4.5,5.85,5,0.45,0.58799999999999997,1,0.21,0.309,20,10,0.1,25,0.9,100,1,200,40,1,40,0.5,1.1200000000000001,"N",1,"N",1155,4.5,"Y","http://www.ti.com/lit/ds/symlink/csd18511q5a.pdf","(NULL)",1.4,4.5,17,11.2,13.2,"N","SON5X6","N","(NULL)",42781,"(NULL)",3305,0.42599999999999999]
["CSD18512Q5B",146,"Y","Y","WB_MOSFET_N_D56789G4S123","TRANS_NexFET_Q5B","Hadi: per brett barr request; Oliver corrected URL","N",1,0,1,40,20,100,400,150,3.1,50,0.9,1.3,2.2000000000000002,2.9,1,17,30,300,136,1,"(NULL)","(NULL)","(NULL)",2.3E-3,"(NULL)","(NULL)",1.6000000000000001E-3,0.73,37,6,8.1999999999999993,36,7,6.5,7.12,6,0.5,0.69899999999999995,1.4,0.23,0.33300000000000002,20,10,0.1,25,0.9,100,1,180,40,0.8,40,0.5,1.05,"N",1,"N",1145,5.85,"Y","http://www.ti.com/lit/ds/symlink/csd18512q5b.pdf","(NULL)",2,4.5,22,13.3,15.1,"N","SON5X6","N","(NULL)",42782,"(NULL)",3306,0.60799999999999998]
["CSD18513Q5A",146,"Y","Y","WB_MOSFET_N_D56789G4S123","TRANS_NexFET_Q5A","Hadi: per brett barr request; Oliver corrected Thermal_Id","N",1,0,1,40,20,100,400,150,3.1,50,1.3,1.5,2.4,3.18,1,12,19,300,89,0.9,"(NULL)","(NULL)","(NULL)",5.3E-3,"(NULL)","(NULL)",3.3999999999999998E-3,0.6,45,7,5.8,42,4,3.2,4.28,3,0.22,0.433,0.8,0.09,0.23100000000000001,20,10,0.1,15,0.9,100,1,180,40,0.8,40,0.6,1.08,"N",1,"N",1155,3.1,"Y","http://www.ti.com/lit/ds/symlink/csd18513q5a.pdf","(NULL)",1.8,4.5,14.7,8.8000000000000007,9.1,"N","SON5X6","N","(NULL)",42781,"(NULL)",3237,0.35199999999999998]
["CSD18514Q5A",146,"Y","Y","WB_MOSFET_N_D56789G4S123","TRANS_NexFET_Q5A","Hadi: per brett barr request; Oliver corrected Thermal_Id","N",1,0,1,40,20,50,237,150,3.1,50,1.7,1.5,2.4,3.3,1,9,14,300,59,1.3,"(NULL)","(NULL)","(NULL)",7.9000000000000008E-3,"(NULL)","(NULL)",4.8999999999999998E-3,0.62,29,5,3.4,27,2.4,2,2.68,1.9,0.2,0.26800000000000002,0.4,0.1,0.13800000000000001,20,10,0.1,10,0.9,100,1,180,40,0.6,40,0.6,1.05,"N",1,"N",1155,1.8,"Y","http://www.ti.com/lit/ds/symlink/csd18514q5a.pdf","(NULL)",2.6,4.5,8.5,5,6,"N","SON5X6","N","(NULL)",42781,"(NULL)",3307,0.25]
["CSD18531Q5A",146,"Y","Y","WB_MOSFET_N_D56789G4S123","TRANS_NexFET_Q5A","Added by Gerold; PJ added new params from PL; Oliver set ROHS to E and Automotive to N","N",1,0,1,60,20,100,370,150,3.125,50,1,1.5,2.2999999999999998,2.9,1,40,22,300,128,1.2,"(NULL)","(NULL)","(NULL)",5.7999999999999996E-3,"(NULL)","(NULL)",4.5999999999999999E-3,0.95,36,7,5.2,36,3.48,3.2,3.54,3.51,0.4,4.26,0.2,1.0999999999999999E-2,0.215,30,10,0.1,12,1.4,160,2.6,160,60,1.5,60,0.1,0.28999999999999998,"N",0.8,"(NULL)",1155,3.39,"E","http://www.ti.com/lit/ds/symlink/csd18531q5a.pdf","(NULL)",2.4,3.4,100,5.9,6.9,"(NULL)","SON5X6","N","(NULL)",41163,42669,2052,0.58899999999999997]
["CSD18532KCS",146,"Y","A","WB_MOSFET_N_D2G1S3","KCS0003B","Added by Gerold; Updated by PJ; Oliver updated Thermal_Id updated Mount and set Available to A","N",1,0,4,60,20,100,400,175,2.5,62,0.6,1.5,2.2000000000000002,3.44,1,57,100,300,187,1.3,"(NULL)","(NULL)","(NULL)",5.3E-3,"(NULL)","(NULL)",4.1999999999999997E-3,0.97,44,10,7.3,48,4.24,3.9,4.3,4.55,0.47,5.55,0.30399999999999999,1.0999999999999999E-2,0.35,30,10,0.1,9.5500000000000007,3.11,300,4.63,200,60,1.9,60,0.1,0.2,"N",0.8,"(NULL)",42,3.85,"Y","http:// www.ti.com/lit/ds/symlink/csd18532kcs.pdf","(NULL)",2.6,3.6,127,6.9,10,"N","TO-220","N","(NULL)",41163,42664,2535,0.81799999999999995]
["CSD18532NQ5B",146,"Y","Y","WB_MOSFET_N_D56789G4S123","DNK0008A","Updated by PJ; Oliver set Thermal_Id Mount symbol Automotive and set Avaialble to A","N",1,0,1,60,20,100,400,150,3.1,50,0.8,2.4,3.4,4.5,1,64,25,300,140,1.2,"(NULL)","(NULL)","(NULL)","(NULL)",4.4000000000000003E-3,"(NULL)",3.3999999999999998E-3,0.85,49,9.1999999999999993,11,48,4.3499999999999996,4.0999999999999996,4.3899999999999997,4.8600000000000003,0.495,5.9,0.248,1.6E-2,0.26400000000000001,30,10,0.1,9,1.89,170,3.08,170,60,0.86,60,0.1,0.21,"N",0.8,"(NULL)","(NULL)","(NULL)","Y","http://www.ti.com/lit/ds/symlink/csd18532nq5b.pdf","(NULL)",2.4,4.3,139,7.9,16,"N","SON5X6","N","(NULL)",42577,42664,2536,0.84499999999999997]
["CSD18532Q5B",146,"Y","Y","WB_MOSFET_N_D56789G4S123","TRANS_NexFET_Q5B","PJ added new params from PL;Added by Gerold","N",1,0,1,60,20,100,400,150,3.125,50,0.8,1.5,2.2000000000000002,3.1,1,49,25,300,143,1.2,"(NULL)","(NULL)","(NULL)",4.3E-3,"(NULL)","(NULL)",3.2000000000000002E-3,1.04,44,8.75,6.3,42,4.2,4,4.3,4.3600000000000003,0.48,5.22,0.25600000000000001,1.4E-2,0.26,30,10,0.1,17,1.4,200,2.6,200,60,0.9,60,0.1,0.23,"N",0.8,"(NULL)",1345,4.03,"Y","http://www.ti.com/lit/ds/symlink/csd18532q5b.pdf","(NULL)",2.4,3.2,111,6.9,10,"(NULL)","SON5X6","(NULL)","(NULL)","(NULL)",42564,2053,0.84499999999999997]
["CSD18533KCS",146,"Y","N","WB_MOSFET_N_D2G1S3","TO-220AB","Updated by PJ Added by Gerold","N",1,0,4,60,20,100,294,175,192,62,0.8,1.5,2.2999999999999998,3.79,1,49,75,300,150,1.4,"(NULL)","(NULL)","(NULL)",8.9999999999999993E-3,"(NULL)","(NULL)",6.3E-3,0.96,28,6,4.5999999999999996,30,2.4500000000000002,2.42,2.5,2.29,0.3,2.8,0.23200000000000001,7.0000000000000001E-3,0.28000000000000003,30,10,0.1,7.23,1.74,125,2.79,125,60,0.68,60,0.1,0.36,"N",0.8,"(NULL)",42,2.2200000000000002,"Y","http://www.ti.com/lit/ds/symlink/csd18533kcs.pdf","(NULL)",2.8,4,97,3.9,9.4,"(NULL)","TO-220","(NULL)","(NULL)",42577,42577,2537,0.57399999999999995]
["CSD18533Q5A",146,"Y","Y","WB_MOSFET_N_D56789G4S123","DQJ0008A","Added by Gerold; Updated by PJ; Oliver updated Thermal_Id set Automotive and changed Available to A","N",1,0,1,60,20,100,267,150,3.2,50,1.3,1.5,2.2999999999999998,3.24,1,40,18,300,122,1.3,"(NULL)","(NULL)","(NULL)",8.5000000000000006E-3,"(NULL)","(NULL)",5.8999999999999999E-3,1,29,5,4.7,28,2.44,2.2000000000000002,2.48,2.25,0.29199999999999998,2.65,0.23400000000000001,7.0000000000000001E-3,0.28000000000000003,30,10,0.1,8.5,1.18,100,2.4900000000000002,100,60,0.69,60,0.1,0.4,"N",0.8,"(NULL)",1155,2.2000000000000002,"Y","http://www.ti.com/lit/ds/symlink/csd18533q5a.pdf","(NULL)",2.6,3.7,68,5.4,6.6,"N","SON5X6","N","(NULL)",42577,42664,2538,0.46400000000000002]
["CSD18534KCS",146,"Y","A","WB_MOSFET_N_D2G1S3","KCS0003B","Added by Gerold; Updated by PJ; Oliver updated Thermal_Id set Mount and set Available to A","N",1,0,4,60,20,100,164,175,107,62,1.3,1.5,2.2999999999999998,3.29,1,49,40,300,100,1.5,"(NULL)","(NULL)","(NULL)",1.3299999999999999E-2,"(NULL)","(NULL)",9.4999999999999998E-3,1.05,19,4,3.3,18.5,1.45,1.4,1.5,1.45,0.16400000000000001,1.7,0.14000000000000001,5.0000000000000001E-3,0.16,30,10,0.4,4.55,1.7,82,2.5299999999999998,82,60,0.88,60,0.1,0.59,"N",0.8,"(NULL)",42,1.34,"Y","http://www.ti.com/lit/ds/symlink/csd18534kcs.pdf","(NULL)",3,3.5,68,3.1,4.8,"N","TO-220","N","(NULL)",42577,42664,2539,0.46300000000000002]
["CSD18534Q5A",146,"Y","Y","WB_MOSFET_N_D56789G4S123","DQJ0008A","Updated by PJ Added by Gerold","N",1,0,1,60,20,50,229,150,3.1,50,2,1.5,2.2999999999999998,2.81,1,40,14,300,72,1.5,"(NULL)","(NULL)","(NULL)",1.24E-2,"(NULL)","(NULL)",9.7999999999999997E-3,0.94,17,4.0999999999999996,2.6,17,1.46,1.36,1.48,1.55,0.16700000000000001,1.89,0.14000000000000001,5.0000000000000001E-3,0.158,30,10,0.1,5.3,1.08,56.6,3.1,56.6,60,0.77,60,0.1,0.63,"N",0.8,"(NULL)",1155,1.34,"Y","http://www.ti.com/lit/ds/symlink/csd18534q5a.pdf","(NULL)",3,3.5,54,3.5,3.2,"(NULL)","SON5X6","(NULL)","(NULL)",42577,42577,2540,0.32600000000000001]
["CSD18535KCS",146,"Y","A","WB_MOSFET_N_D2G1S3","KCS0003B","Updated by PJ; Oliver set Thermal_Id symbol Mount Automotive and set Available to A","N",1,0,4,60,20,200,400,175,300,62,0.5,1.4,2.4,3.4,1,63,100,300,263,0.8,"(NULL)","(NULL)","(NULL)",2.8999999999999998E-3,"(NULL)","(NULL)",2E-3,0.75,63,13,9.4,62,5.5,5.09,5.59,9.9499999999999993,0.89,11.6,0.55700000000000005,2.4E-2,0.66200000000000003,30,10,0.1,26,1.54,400,3.69,255,100,0.85,100,0.1,0.17,"N",0.9,"(NULL)","(NULL)","(NULL)","Y","http://www.ti.com/lit/ds/symlink/csd18535kcs.pdf","(NULL)",1.6,3.9,214,10.4,15.7,"N","TO-220","N","(NULL)",42577,42664,2541,1.22]
["CSD18535KTT",146,"Y","N","WB_MOSFET_N_D2G1S3","KTT0002A","PJ added New","N",1,0,1,60,20,200,400,175,300,62,0.5,1.4,2.4,3.76,1,63,100,300,263,0.8,"(NULL)","(NULL)","(NULL)",2.8999999999999998E-3,"(NULL)","(NULL)",2E-3,0.93,63,13,9.4,62,5.5,5.09,5.59,9.9499999999999993,0.89,11.6,0.55700000000000005,2.4E-2,0.66200000000000003,30,10,0.1,27,1.5,400,6,100,60,2,60,0.1,0.17,"N",0.9,"(NULL)","(NULL)","(NULL)","Y","http://www.ti.com/lit/ds/symlink/csd18535ktt.pdf","(NULL)",1.6,3.9,214,10.4,15.7,"(NULL)","DDPAK","N","(NULL)",42577,"(NULL)",2592,1.266]
["CSD18536KCS",146,"Y","A","WB_MOSFET_N_D2G1S3","KCS0003B","Updated by PJ; Oliver updated Thermal_Id set symbol Automotive Mount and set Available to A and ROHS to E","N",1,0,4,60,20,200,400,175,375,62,0.4,1.4,2.2000000000000002,3.2,1,86,100,300,312,0.7,"(NULL)","(NULL)","(NULL)",2.2000000000000001E-3,"(NULL)","(NULL)",1.6000000000000001E-3,0.72,83,20.5,17,99,9.5500000000000007,8.7899999999999991,9.69,16.899999999999999,1.7,18.7,1.01,3.9E-2,1.1399999999999999,30,10,0.1,32.5,1.2,400,2.33,400,100,0.79,100,0.1,0.11,"N",0.9,"(NULL)","(NULL)","(NULL)","E","http://www.ti.com/lit/ds/symlink/csd18536kcs.pdf","(NULL)",1.4,3.5,323,14,18,"N","TO-220","N","(NULL)",42577,42664,2542,1.8480000000000001]
["CSD18536KTT",146,"Y","N","(NULL)","(NULL)","PJ added New","N",1,0,"(NULL)",60,20,200,400,175,375,62,0.4,1.4,2.2000000000000002,3.4,1,86,100,300,312,0.7,"(NULL)","(NULL)","(NULL)",2.2000000000000001E-3,"(NULL)","(NULL)",1.6000000000000001E-3,0.88,108,20.5,17,98.5,9.5500000000000007,8.7899999999999991,9.69,16.899999999999999,1.41,18.7,1.01,3.9E-2,1.1399999999999999,30,10,0.1,32,1.2,400,2.1,400,60,3,60,0.1,0.11,"N",0.9,"(NULL)","(NULL)","(NULL)","Y","http://www.ti.com/lit/ds/symlink/csd18536ktt.pdf","(NULL)",1.4,3.9,323,14,18,"(NULL)","DDPAK","(NULL)","(NULL)",42577,"(NULL)",2593,1.8939999999999999]
["CSD18537NKCS",146,"Y","N","WB_MOSFET_N_D2G1S3","TO-220AB","Updated by PJ Added by Kris","N",1,0,4,60,20,50,127,175,94,62,1.6,2.6,3.5,5,1,50,25,300,100,5.5,"(NULL)","(NULL)","(NULL)","(NULL)",1.7999999999999999E-2,"(NULL)",1.4E-2,0.94,14,2.5,3.3,14,1.2,1.1399999999999999,1.21,1.28,0.13600000000000001,1.56,0.106,4.0000000000000001E-3,0.11899999999999999,30,10,0.1,3.3,1.7,61.25,2.98,61.25,60,0.66,60,0.1,0.72,"N",0.9,"(NULL)",42,1.0840000000000001,"Y","http://www.ti.com/lit/ds/symlink/csd18537nkcs.pdf","(NULL)",11,4.75,77,2.2999999999999998,5.2,"(NULL)","TO-220","(NULL)","(NULL)",41554,42577,2543,0.41199999999999998]
["CSD18537NQ5A",146,"Y","Y","WB_MOSFET_N_D56789G4S123","TRANS_NexFET_Q5A","PJ added new params from PL;Added by Kris","N",1,0,1,60,20,50,151,150,3.125,50,2.1,2.6,3.5,4.5,1,40,12,300,62,5.5,"(NULL)","(NULL)","(NULL)","(NULL)",1.7000000000000001E-2,"(NULL)",1.2999999999999999E-2,0.95,14,2.5,3.3,13.5,1.2,1.1399999999999999,1.24,1.31,0.13600000000000001,1.6,0.1,4.0000000000000001E-3,0.12,30,10,0.1,4,1.3,50,2.2999999999999998,50,60,0.45,60,0.1,0.78,"N",0.8,"(NULL)",1155,1.1200000000000001,"Y","http://www.ti.com/lit/ds/symlink/csd18537nq5a.pdf","(NULL)",11,4.75,54,2.2999999999999998,4.7,"(NULL)","SON5X6","(NULL)","(NULL)",41554,42564,2054,0.27300000000000002]
["CSD18540Q5B",146,"Y","Y","WB_MOSFET_N_D56789G4S123","DNK0008A","Updated by PJ; Oliver set Thermal_Id Mount Automotive and symbol set Available to A","N",1,0,1,60,20,100,400,175,3.8,50,0.8,1.5,2.2999999999999998,3.1,1,82,28,300,116,0.8,"(NULL)","(NULL)","(NULL)",3.3E-3,"(NULL)","(NULL)",2.2000000000000001E-3,0.82,41,8.3000000000000007,6.3,41,3.43,3.25,3.49,5.24,0.622,6.21,0.24399999999999999,1.4999999999999999E-2,0.29399999999999998,30,10,0.1,22.5,1.5,278,1.69,278,60,1.53,60,0.1,0.25,"N",0.8,"(NULL)","(NULL)",3.1960000000000002,"Y","http://www.ti.com/lit/ds/symlink/csd18540q5b.pdf","(NULL)",1.6,3.3,145,6.7,8.6,"N","SON5X6","N","(NULL)",42577,42664,2544,0.86699999999999999]
["CSD18541F5",146,"Y","A","WB_MOSFET_N_D3G1S2","YJK0003A","PJ added New; Oliver set Thermal_Id symbol Mount Automotive and set Available to A","N",1,0,1,60,20,2.2000000000000002,21,150,0.5,110,"(NULL)",1.4,2.2000000000000002,"(NULL)",1,"(NULL)","(NULL)","(NULL)",7.7,1200,"(NULL)","(NULL)","(NULL)",7.4999999999999997E-2,"(NULL)","(NULL)",6.5000000000000002E-2,0.7,11,1.5,11.2,11,0.64500000000000002,0.59799999999999998,0.68100000000000005,0.28799999999999998,4.7E-2,0.47799999999999998,5.7799999999999997E-2,8.0999999999999996E-3,0.126,30,10,0.1,0.9,0.9,8.5,2.7,8.5,60,0.1,60,0.01,0.91,"N",0.8,"(NULL)","(NULL)","(NULL)","Y","http://www.ti.com/lit/ds/symlink/csd18541f5.pdf","(NULL)",1600,2.8,"(NULL)",1.6,1.5,"(NULL)","LGA1.5X0.8","N","(NULL)",42577,42664,2594,7.3999999999999996E-2]
["CSD18542KCS",146,"Y","N","(NULL)","(NULL)","Updated by PJ","N",1,0,"(NULL)",60,20,200,400,175,200,62,0.6,1.5,2.2000000000000002,3.3,1,53,100,300,198,1.3,"(NULL)","(NULL)","(NULL)",5.1000000000000004E-3,"(NULL)","(NULL)",4.0000000000000001E-3,0.94,44,10.5,7.3,45.4,4.21,3.9,4.26,4.84,0.56999999999999995,5.47,0.33,1.0999999999999999E-2,0.36199999999999999,30,10,0.1,11.55,1.6,196.93,2.4700000000000002,196.93,60,1.27,60,0.1,0.23,"N",0.9,"(NULL)","(NULL)","(NULL)","Y","http://www.ti.com/lit/ds/symlink/csd18542kcs.pdf","(NULL)",2.6,3.1,148,6.9,10,"(NULL)","TO-220","(NULL)","(NULL)",42577,42577,2545,0.81499999999999995]
["CSD18542KTT",146,"Y","A","WB_MOSFET_N_D2G1S3","KTT0002A","PJ added New; Oliver set Thermal_Id symbol Mount Automotive and set Available to A","N",1,0,1,60,20,200,400,175,250,62,0.6,1.5,2.2000000000000002,3.71,1,73,100,300,198,1.3,"(NULL)","(NULL)","(NULL)",5.1000000000000004E-3,"(NULL)","(NULL)",4.0000000000000001E-3,0.94,44,10.5,7.3,45,4.21,3.9,4.26,4.84,0.5,5.47,0.33,1.0999999999999999E-2,0.36199999999999999,30,10,0.1,12,1.7,200,2.9,200,60,1,60,0.1,0.24,"N",0.9,"(NULL)","(NULL)","(NULL)","Y","http://www.ti.com/lit/ds/symlink/csd18542ktt.pdf","(NULL)",2.6,3.8,132,6.9,13,"(NULL)","DDPAK","N","(NULL)",42577,42664,2595,0.86099999999999999]
["CSD18543Q3A",146,"N","Y","WB_MOSFET_N_D56789G4S123","TRANS_NexFET_Q5A","JW","N",1,0,1,60,20,35,156,150,2.8,55,1.9,1.5,2.7,3.6,1,27,12,300,40,0.5,"(NULL)","(NULL)","(NULL)",1.5599999999999999E-2,"(NULL)","(NULL)",9.9000000000000008E-3,0.95,5.6,2,2,11.1,0.95299999999999996,0.88800000000000001,0.97299999999999998,1.45,0.16900000000000001,1.71,0.11700000000000001,1.34E-2,0.14399999999999999,30,10,0.1,7,1.4,95,7,20,30,3,60,0.1,0.7,"N",0.8,"(NULL)",1155,1.125,"Y","http://www.ti.com/lit/ds/symlink/csd18543q3a.pdf","(NULL)",1,3.75,37,1.7,3.1,"(NULL)","SON3X3","N","(NULL)",43724,43724,2055,0.25800000000000001]
["CSD18563Q5A",146,"Y","Y","WB_MOSFET_N_D56789G4S123","TRANS_NexFET_Q5A","PJ added new params from PL;Added by Kris","N",1,0,1,60,20,100,251,150,3.2,50,1.3,1.7,2.4,3.3,1,49,18,300,60,1.5,"(NULL)","(NULL)","(NULL)",1.0800000000000001E-2,"(NULL)","(NULL)",6.7999999999999996E-3,0.95,15,3,2.2999999999999998,15,1.25,1.1499999999999999,1.27,2.6,0.28000000000000003,3.2,0.12,0.01,0.14499999999999999,30,10,0.1,7,1.4,95,7,20,30,3,60,0.1,0.7,"N",0.8,"(NULL)",1155,1.125,"Y","http://www.ti.com/lit/ds/symlink/csd18563q5a.pdf","(NULL)",3,3.75,63,2.9,3.3,"(NULL)","SON5X6","N","(NULL)",41554,42564,2055,0.47699999999999998]
["CSD19501KCS",146,"Y","A","WB_MOSFET_N_D2G1S3","KCS0003B","Updated by PJ; Oliver set Thermal_Id symbol Mount Automotive and Available to A","N",1,0,4,80,20,100,305,175,217,62,0.7,2.2000000000000002,2.2999999999999998,4.41,1.1000000000000001,74,60,300,137,1.3,"(NULL)","(NULL)","(NULL)","(NULL)",7.9000000000000008E-3,"(NULL)",6.6E-3,0.94,38,7,7.5,38,3.28,3.06,3.35,4.16,0.78400000000000003,4.99,0.245,1.24E-2,0.307,40,10,0.1,6.5,2.2000000000000002,120,80,0.5,80,0.1,80,0.1,0.27,"N",0.9,"(NULL)","(NULL)","(NULL)","Y","http://www.ti.com/lit/ds/symlink/csd19501kcs.pdf","(NULL)",1.3,4.2,230,5.8,12.4,"(NULL)","TO-220","N","(NULL)",42577,42664,2546,0.71899999999999997]
["CSD19502Q5B",146,"Y","Y","WB_MOSFET_N_D12568G3S47","DQK0006C","Updated by PJ 8/3 Bob for Tattiana Davenport","N",1,0,1,80,20,100,400,150,3.1,50,0.8,2.2000000000000002,3.3,4,1,72,19,300,88,1.2,"(NULL)","(NULL)","(NULL)","(NULL)",4.7999999999999996E-3,"(NULL)",4.1000000000000003E-3,0.93,48,9,10,51,4.08,3.75,4.2,5.17,0.92500000000000004,6.6,0.39200000000000002,1.7000000000000001E-2,0.52,40,10,0.1,12.67,1.5,190,2.48,190,80,0.69,80,0.1,0.21,"N",0.8,"(NULL)","(NULL)",3.68,"N","http://www.ti.com/lit/ds/symlink/csd19502q5b.pdf","(NULL)",2.4,3.9,275,8.6,14,"(NULL)","SON5X6","N","(NULL)",42422,42585,2547,0.89600000000000002]
["CSD19503KCS",146,"Y","A","WB_MOSFET_N_D2G1S3","KCS0003B","Updated by PJ; Oliver set Thermal_Id symbol Mount Automotive and set Available to A","N",1,0,4,80,20,100,247,175,188,62,0.8,2.2000000000000002,3.4,4.84,1.1000000000000001,72,60,300,110,1.2,"(NULL)","(NULL)","(NULL)","(NULL)",1.09E-2,"(NULL)",9.1999999999999998E-3,0.77,28,5.55,6.1,28,2.2599999999999998,2.1,2.31,2.91,0.55500000000000005,3.47,0.215,8.5000000000000006E-3,0.26600000000000001,40,10,0.1,5.66,1.79,101.52,80,0.42,80,0.1,80,0.1,0.38,"N",0.9,"(NULL)","(NULL)","(NULL)","Y","http://www.ti.com/lit/ds/symlink/csd19503kcs.pdf","(NULL)",2.4,5,119,5.4,9.8000000000000007,"(NULL)","TO-220","N","(NULL)",42577,42577,2548,0.58699999999999997]
["CSD19505KCS",146,"Y","N","(NULL)","(NULL)","Updated by PJ","N",1,0,"(NULL)",80,20,150,400,175,300,62,0.5,2.2000000000000002,3.2,4.46,1.1000000000000001,88,100,300,262,1.4,"(NULL)","(NULL)","(NULL)","(NULL)",3.8E-3,"(NULL)",3.0999999999999999E-3,0.92,76,15,15,76,6.55,6.09,6.7,8.85,1.6,10.3,0.439,2.5999999999999999E-2,0.44,40,10,0.1,15,2.4700000000000002,332,3.16,260,80,1.21,80,0.1,0.13,"N",0.9,"(NULL)","(NULL)","(NULL)","Y","http://www.ti.com/lit/ds/symlink/csd19505kcs.pdf","(NULL)",2.8,4.3,400,11,25,"(NULL)","TO-220","(NULL)","(NULL)",42577,42577,2549,1.266]
["CSD19505KTT",146,"Y","N","(NULL)","(NULL)","PJ added New","N",1,0,"(NULL)",80,20,200,400,175,300,62,0.5,2.2000000000000002,3.2,4.5999999999999996,1.1000000000000001,88,100,300,262,1.4,"(NULL)","(NULL)","(NULL)","(NULL)",3.8E-3,"(NULL)",3.0999999999999999E-3,0.92,76,15,15,76,6.55,6.09,6.7,8.85,1.6,10.3,0.439,2.5999999999999999E-2,0.44,40,10,0.1,15,2.4700000000000002,332,3.16,260,80,1.21,80,0.1,0.14000000000000001,"N",0.9,"(NULL)","(NULL)","(NULL)","Y","http://www.ti.com/lit/ds/symlink/csd19505ktt.pdf","(NULL)",2.8,4.3,400,11,25,"(NULL)","DDPAK","(NULL)","(NULL)",42577,"(NULL)",2596,1.3129999999999999]
["CSD19506KCS",146,"Y","N","(NULL)","(NULL)","Updated by PJ","N",1,0,"(NULL)",80,20,150,400,175,375,62,0.4,2.1,3.2,4.2699999999999996,1.1000000000000001,107,100,300,297,1.3,"(NULL)","(NULL)","(NULL)","(NULL)",2.8E-3,"(NULL)",2.3E-3,0.82,120,25,25,121,10.4,9.3800000000000008,10.6,15.3,2.2599999999999998,17.600000000000001,0.89800000000000002,4.2000000000000003E-2,1.1100000000000001,40,10,0.1,21.6,1.85,400,80,1.66,80,0.1,80,0.1,0.08,"N",0.9,"(NULL)","(NULL)","(NULL)","Y","http://www.ti.com/lit/ds/symlink/csd19506kcs.pdf","(NULL)",2.6,4,525,20,37,"(NULL)","TO-220","(NULL)","(NULL)",42577,42577,2550,1.9259999999999999]
["CSD19506KTT",146,"Y","A","WB_MOSFET_N_D2G1S3","KTT0002A","PJ added New; Oliver set Thermal_Id Mount Symbol and Available =A","N",1,0,1,80,20,200,400,175,375,62,0.4,2.1,3.2,4.5999999999999996,1.1000000000000001,107,100,300,297,1.3,"(NULL)","(NULL)","(NULL)","(NULL)",2.8E-3,"(NULL)",2.3E-3,0.82,120,25,25,120,10.4,9.3800000000000008,10.6,15.3,2.2599999999999998,17.8,0.89800000000000002,4.2000000000000003E-2,1.1100000000000001,40,10,0.1,25,1.8,400,2.1,400,80,2.5,80,0.1,0.08,"N",0.9,"(NULL)","(NULL)","(NULL)","Y","http://www.ti.com/lit/ds/symlink/csd19506ktt.pdf","(NULL)",2.6,4.2,525,20,37,"(NULL)","DDPAK","N","(NULL)",42577,"(NULL)",2597,1.972]
["CSD19531KCS",146,"Y","N","WB_MOSFET_N_D2G1S3","TO-220AB","Updated by PJ Added by Kris","N",1,0,4,100,20,100,285,175,214,62,0.7,2.2000000000000002,3.3,4.5999999999999996,1,83,60,300,137,1.3,"(NULL)","(NULL)","(NULL)","(NULL)",8.8000000000000005E-3,"(NULL)",7.7000000000000002E-3,1,37,7.2,7.3,34.5,3.32,2.98,3.41,3.75,0.56000000000000005,4.38,0.26800000000000002,1.2999999999999999E-2,0.318,50,10,0.1,6.1,2,122,4,100,100,0.66,100,0.1,0.28999999999999998,"N",0.9,"(NULL)",42,3.05,"Y","http://www.ti.com/lit/ds/symlink/csd19531kcs.pdf","(NULL)",2.6,4.5,270,7.5,11.9,"(NULL)","TO-220","(NULL)","(NULL)",41572,42577,2551,0.72099999999999997]
["CSD19531Q5A",146,"Y","Y","WB_MOSFET_N_D56789G4S123","TRANS_NexFET_Q5A","PJ added new params from PL;Added by Kris-Modified by Hadi","N",1,0,1,100,20,100,337,150,3.125,50,1,2.2000000000000002,3.3,4,1,148,16,300,82,1.3,"(NULL)","(NULL)","(NULL)","(NULL)",7.7999999999999996E-3,"(NULL)",6.4000000000000003E-3,0.98,37,7.3,7.3,38,3.2,2.98,3.2,3.76,0.6,4.4000000000000004,0.25,1.2E-2,0.3,50,10,0.1,8,1.6,120,2.9,120,100,0.35,100,0.1,0.28999999999999998,"N",0.8,"(NULL)",1155,2.9,"Y","http://www.ti.com/lit/ds/symlink/csd19531q5a.pdf","(NULL)",2.6,3.8,226,6.6,10.5,"(NULL)","SON5X6","(NULL)","(NULL)",41984,42564,2056,0.61099999999999999]
["CSD19532KTT",146,"(NULL)","A","WB_MOSFET_N_D2G1S3","KTT0002A","Altium for Brett Barr","N",1,0,1,100,20,136,400,175,250,62,"(NULL)",2.2000000000000002,3.2,4.7,"(NULL)",74,"(NULL)","(NULL)",113,"(NULL)","(NULL)","(NULL)","(NULL)","(NULL)",6.6E-3,"(NULL)",5.5999999999999999E-3,1.32,44,"(NULL)",9.6,"(NULL)","(NULL)","(NULL)",5060,"(NULL)","(NULL)",876,"(NULL)","(NULL)",18,"(NULL)","(NULL)","(NULL)","(NULL)","(NULL)","(NULL)","(NULL)","(NULL)","(NULL)","(NULL)","(NULL)","(NULL)","(NULL)","(NULL)","(NULL)","(NULL)","(NULL)","(NULL)","Y","http://www.ti.com/lit/ds/symlink/csd19532ktt.pdf","(NULL)",2.6,"(NULL)",326,5.6,17,"(NULL)","DDPAK","N","(NULL)",42312,"(NULL)",2074,0.91400000000000003]
["CSD19532Q5B",146,"Y","Y","WB_MOSFET_N_D56789G4S123","DNK0008A","Updated by PJ Added by Hadi","N",1,0,1,100,20,100,400,150,3.1,50,0.8,2.2000000000000002,3.2,3.8,1,80,17,300,84,1.2,"(NULL)","(NULL)","(NULL)","(NULL)",5.7000000000000002E-3,"(NULL)",4.8999999999999998E-3,1.03,48,9.4,9.5,48,3.94,3.7,4.04,4.29,0.70599999999999996,5.67,0.35399999999999998,1.4E-2,0.442,50,10,0.1,10.1,1.61,162,2.73,162,100,0.48,100,0.1,0.22,"N",0.8,"(NULL)",1345,3.6,"Y","http://www.ti.com/lit/ds/symlink/csd19532q5b.pdf","(NULL)",2.4,3,249,8.6999999999999993,13,"(NULL)","SON5X6","N","(NULL)",41954,42577,2552,0.89600000000000002]
["CSD19533KCS",146,"Y","N","(NULL)","(NULL)","Updated by PJ","N",1,0,"(NULL)",100,20,100,207,175,188,62,0.8,2.2000000000000002,3.4,4.68,1.1000000000000001,77,55,300,115,1.2,"(NULL)","(NULL)","(NULL)","(NULL)",1.2200000000000001E-2,"(NULL)",1.0500000000000001E-2,1.07,27,5,3.9,26.6,2.19,2.0499999999999998,2.2200000000000002,2.54,0.39500000000000002,2.97,0.186,9.5999999999999992E-3,0.21299999999999999,50,10,0.1,4.0999999999999996,2.3199999999999998,95,100,0.43,100,0.1,100,0.1,0.4,"N",0.9,"(NULL)","(NULL)","(NULL)","Y","http://www.ti.com/lit/ds/symlink/csd19533kcs.pdf","(NULL)",2.4,4.5,211,5.4,9,"(NULL)","TO-220","(NULL)","(NULL)",42577,42577,2553,0.59]
["CSD19533Q5A",146,"Y","Y","WB_MOSFET_N_D56789G4S123","TRANS_NexFET_Q5A","PJ added new params from PL;Added by Hadi","N",1,0,1,100,20,100,231,150,3.125,50,1.3,2.2000000000000002,3.4,4.05,1,62,13,300,63,1.2,"(NULL)","(NULL)","(NULL)","(NULL)",1.0999999999999999E-2,"(NULL)",9.4000000000000004E-3,0.98,27,5.12,5.7,27,2.17,2.0499999999999998,2.2000000000000002,2.56,0.4,3.04,0.184,9.5999999999999992E-3,0.22,50,10,0.1,4.8,1.5,75,1.5,75,100,0.3,100,0.1,0.41,"N",0.8,"(NULL)",1155,2.6,"Y","http://www.ti.com/lit/ds/symlink/csd19533q5a.pdf","(NULL)",2.4,4.5,163,4.9000000000000004,7.9,"(NULL)","SON5X6","(NULL)","(NULL)",41954,42564,2057,0.48]
["CSD19534KCS",146,"Y","N","(NULL)","(NULL)","Updated by PJ","N",1,0,"(NULL)",100,20,100,138,175,118,62,1.3,2.4,3.4,4.72,1.1000000000000001,72,30,300,80,1.1000000000000001,"(NULL)","(NULL)","(NULL)","(NULL)",0.02,"(NULL)",1.6500000000000001E-2,1.0900000000000001,17.100000000000001,3,3.3,17,1.39,1.29,1.42,1.52,0.25700000000000001,1.79,0.13700000000000001,5.7000000000000002E-3,0.16400000000000001,50,10,0.1,2.5,2.82,58.6,3.19,58.6,100,0.27,100,0.1,0.63,"N",0.9,"(NULL)","(NULL)","(NULL)","Y","http://www.ti.com/lit/ds/symlink/csd19534kcs.pdf","(NULL)",2.2000000000000002,4.7,195,3.2,5.0999999999999996,"(NULL)","TO-220","(NULL)","(NULL)",42577,42577,2554,0.47399999999999998]
["CSD19534Q5A",146,"Y","Y","WB_MOSFET_N_D56789G4S123","TRANS_NexFET_Q5A","PJ added new params from PL;Added by Hadi","N",1,0,1,100,20,50,137,150,3.125,50,2,2.4,3.4,4.22,1,53,10,300,47,1.1000000000000001,"(NULL)","(NULL)","(NULL)","(NULL)",1.7600000000000001E-2,"(NULL)",1.5100000000000001E-2,0.98,17,3.2,3.3,17,1.38,1.29,1.41,1.52,0.25,1.79,0.14000000000000001,6.0000000000000001E-3,0.17,50,10,0.1,3,1.6,50,2.5,50,100,0.3,100,0.1,0.625,"N",0.8,"(NULL)",1155,1.68,"Y","http://www.ti.com/lit/ds/symlink/csd19534q5a.pdf","(NULL)",2.2000000000000002,4.5,134,3.2,5.0999999999999996,"(NULL)","SON5X6","(NULL)","(NULL)",41954,42564,2058,0.33500000000000002]
["CSD19535KCS",146,"Y","N","WB_MOSFET_N_D2G1S3","TO-220AB","Updated by PJ Added by Hadi","N",1,0,4,100,20,150,400,175,300,62,0.5,2.2000000000000002,3.4,4.43,1.1000000000000001,89,100,300,274,1.4,"(NULL)","(NULL)","(NULL)","(NULL)",4.4000000000000003E-3,"(NULL)",3.5999999999999999E-3,0.99,78,15,16,77,6.65,6.1,6.75,7.83,1.1599999999999999,9.16,0.66400000000000003,2.9000000000000001E-2,0.751,50,10,0.1,12.4,2.27,280,100,0.83,100,0.1,100,0.1,0.125,"N",0.9,"(NULL)",42,6,"Y","http://www.ti.com/lit/ds/symlink/csd19535kcs.pdf","(NULL)",2.8,4.5,421,13,25,"(NULL)","TO-220","(NULL)","(NULL)",41955,42577,2555,1.266]
["CSD19535KTT",146,"Y","N","(NULL)","(NULL)","Updated by PJ","N",1,0,"(NULL)",100,20,200,400,175,300,62,0.5,2.2000000000000002,3.4,4.5999999999999996,1.1000000000000001,85,100,300,301,1.4,"(NULL)","(NULL)","(NULL)","(NULL)",4.1000000000000003E-3,"(NULL)",3.3999999999999998E-3,1.01,75,14.8,16,72,6.8,6.1,6.9009999999999998,8.5,1.1599999999999999,10,0.6,2.9000000000000001E-2,0.73599999999999999,50,10,0.1,13,2.14,278,100,0.87,100,0.1,100,0.1,0.14000000000000001,"N",0.9,"(NULL)","(NULL)","(NULL)","Y","http://www.ti.com/lit/ds/symlink/csd19535ktt.pdf","(NULL)",2.8,4.5,435,11,25,"(NULL)","DDPAK","(NULL)","(NULL)",42577,42577,2556,1.3129999999999999]
["CSD19536KCS",146,"Y","N","WB_MOSFET_N_D2G1S3","TO-220AB","Updated by PJ Added by Kris","N",1,0,4,100,20,150,400,175,375,62,0.4,2.1,3.2,4.26,1.1000000000000001,110,100,300,307,1.4,"(NULL)","(NULL)","(NULL)","(NULL)",3.2000000000000002E-3,"(NULL)",2.7000000000000001E-3,0.92,118,24,24,118,10.3,9.25,10.5,13.3,1.82,15.6,0.84499999999999997,4.7100000000000003E-2,1.18,50,10,0.1,16.2,2.4,350,100,1.48,100,0.1,100,0.1,8.3000000000000004E-2,"N",0.9,"(NULL)",42,9.32,"Y","http://www.ti.com/lit/ds/symlink/csd19536kcs.pdf","(NULL)",2.8,4.3,548,17,37,"(NULL)","TO-220","(NULL)","(NULL)",41937,42577,2557,1.9259999999999999]
["CSD19536KTT",146,"Y","N","(NULL)","KTT0002A",null,"N",1,0,"(NULL)",100,20,200,400,175,375,62,0.4,2.1,3.2,4,1.1000000000000001,110,100,300,307,1.4,"(NULL)","(NULL)","(NULL)","(NULL)",3.2000000000000002E-3,"(NULL)",2.7000000000000001E-3,0.92,118,24,24,118,10.3,9.25,10.5,13.3,1.82,15.6,0.84499999999999997,4.7100000000000003E-2,1.18,50,10,0.1,16.2,2.4,350,100,1.48,100,0.1,100,0.1,8.3000000000000004E-2,"N",0.9,"(NULL)",42,9.32,"Y","http://www.ti.com/lit/ds/symlink/csd19536kcs.pdf","(NULL)",2.8,4.3,548,17,37,"(NULL)","DDPAK","(NULL)","(NULL)",41937,42577,2557,1.972]
["CSD19537Q3",146,"Y","Y","WB_MOSFET_N_D56789G4S123","DQG0008A","Added by Hadi; PJ added new params from PL; Oliver updated Thermal_Id","N",1,0,1,100,20,50,219,150,83,55,1.5,2.6,3.6,4.5999999999999996,1,36,10,300,45,1.2,"(NULL)","(NULL)","(NULL)","(NULL)",1.66E-2,"(NULL)",1.4500000000000001E-2,1.02,16,3,3.8,15.7,1.45,1.29,1.46,1.63,0.25,1.84,0.14199999999999999,1.2999999999999999E-2,0.16,50,"(NULL)",0.1,3.5,1.8,60,5,20,30,1.6,100,0.1,1.35,"N",0.8,"(NULL)","(NULL)",1.3,"(NULL)","http://www.ti.com/lit/ds/symlink/csd19537q3.pdf","(NULL)",2.4,4.5,134,2.9,5.5,"(NULL)","SON5X6","(NULL)","(NULL)",42265,42599,2059,0.40100000000000002]
["CSD19538Q2",146,"Y","Y","WB_MOSFET_N_D12568G3S47","DQK0006C","Updated by PJ 8/3 Bob for Tattiana Davenport","N",1,0,1,100,20,14.4,34.4,150,20.2,65,6.2,2.8,3.8,4.7,1,34,5,300,19,4.5999999999999996,"(NULL)","(NULL)","(NULL)","(NULL)",7.1999999999999995E-2,"(NULL)",5.8999999999999997E-2,1,4.3,0.75,1,4.2,0.36,0.35,0.38,0.4,6.9000000000000006E-2,0.47,0.04,8.9999999999999993E-3,4.8000000000000001E-2,50,10,0.1,3.5,1.8,60,2.5,60,100,0.28999999999999998,100,0.1,0.41,"N",0.85,"(NULL)","(NULL)",0.33200000000000002,"Y","http://www.ti.com/lit/ds/symlink/csd19538q2.pdf","(NULL)",9.1999999999999993,4.5,94,0.8,2,"(NULL)","SON2X2","N","(NULL)",42422,42585,2559,0.16200000000000001]
["CSD19538Q3A",146,"Y","Y","WB_MOSFET_N_D56789G4S123","DNH0008A","Updated by PJ Bob for John Betten","N",1,0,1,100,20,15,37,150,2.8,55,5.5,2.8,3.8,4.9000000000000004,1,32,5,300,6.1,4.5999999999999996,"(NULL)","(NULL)","(NULL)","(NULL)",7.1999999999999995E-2,"(NULL)",5.8999999999999997E-2,0.98,4.3,0.7,1,4.3,0.36799999999999999,0.34899999999999998,0.375,0.40500000000000003,6.9000000000000006E-2,0.49299999999999999,4.0899999999999999E-2,1.26E-2,5.04E-2,50,10,0.1,0.8,1.8,60,3.8,60,100,0.14000000000000001,100,0.1,2.57,"N",0.85,"(NULL)","(NULL)",0.32400000000000001,"Y","http://www.ti.com/lit/ds/symlink/csd19538q3a.pdf","(NULL)",9.1999999999999993,4.0999999999999996,94,0.8,1.6,"(NULL)","SON3X3","N","(NULL)",42354,42577,2560,0.16200000000000001]
["CSD83325L",146,"(NULL)","A","WB_MOSFET_N_G1B1S1A1C1_N_G2B2S2A2C2","YJE0006A","Altium for Dhanraj Amin","N",2,0,1,"(NULL)",10,"(NULL)","(NULL)",150,2.2999999999999998,150,"(NULL)",0.75,1.25,null,"(NULL)","(NULL)","(NULL)","(NULL)",36,"(NULL)",null,"(NULL)",null,"(NULL)",null,"(NULL)","(NULL)","(NULL)",8.4,"(NULL)",null,"(NULL)","(NULL)","(NULL)",1170,"(NULL)","(NULL)",243,"(NULL)","(NULL)",144,"(NULL)","(NULL)","(NULL)","(NULL)","(NULL)","(NULL)","(NULL)","(NULL)","(NULL)","(NULL)","(NULL)","(NULL)","(NULL)","(NULL)","(NULL)","(NULL)","(NULL)","(NULL)","Y","http://www.ti.com/lit/ds/symlink/csd83325l.pdf","(NULL)","(NULL)","(NULL)","(NULL)",1.9,2.2000000000000002,"(NULL)","(NULL)","(NULL)","(NULL)",42031,"(NULL)",3157,0.16200000000000001]
["CSD85301Q2",146,"Y","A","WB_MOSFET_N_D67G2S1_N_D38G5S4_PD","DQK0006B","Bob for Kevin Tsin","N",2,0,1,20,10,5,26,150,2.2999999999999998,70,"(NULL)",0.6,1.2,null,1,14,5,300,20,7.3,null,3.9E-2,null,2.7E-2,null,"(NULL)","(NULL)",0.48,4.2,"(NULL)",null,"(NULL)",0.46,0.38,0.5,0.2,7.0000000000000007E-2,0.32,0.13,0.05,0.18,10,10,0.1,2.6,0.46,12,4,2.5,20,0.2,20,0.1,"(NULL)","N",0.8,"(NULL)","(NULL)",0.32,"Y","http://www.ti.com/lit/ds/symlink/csd85301q2.pdf","(NULL)","(NULL)","(NULL)",7.2,1,1.1000000000000001,"(NULL)","(NULL)","N","(NULL)","(NULL)","(NULL)",2913,0.14599999999999999]
["CSD85301Q2T",146,"(NULL)","A","WB_MOSFET_N_D67G2S1_N_D38G5S4_PD","DQK0006B","Bob for Tanner","N",2,0,1,20,10,6.7,14,150,2.2999999999999998,"(NULL)","(NULL)",0.6,1.2,null,"(NULL)","(NULL)","(NULL)","(NULL)","(NULL)","(NULL)",null,3.3000000000000002E-2,null,2.3E-2,null,"(NULL)","(NULL)","(NULL)",4.2,"(NULL)",null,"(NULL)","(NULL)","(NULL)",469,"(NULL)","(NULL)",89,"(NULL)","(NULL)",62,"(NULL)","(NULL)","(NULL)","(NULL)","(NULL)","(NULL)","(NULL)","(NULL)","(NULL)","(NULL)","(NULL)","(NULL)","(NULL)","(NULL)","(NULL)","(NULL)","(NULL)","(NULL)","Y","http://www.ti.com/lit/ds/symlink/csd85301q2.pdf","(NULL)","(NULL)","(NULL)","(NULL)",1,1.1000000000000001,"(NULL)","(NULL)","(NULL)","(NULL)","(NULL)","(NULL)",2997,0.13700000000000001]
["CSD85312Q3E",146,"N","A","WB_CSD85312Q3E","DPA0008A","Altium for Yingyang Ou","N",2,0,1,20,10,12,76,150,2.5,63,"(NULL)",0.85,1.4,null,"(NULL)",23,"(NULL)","(NULL)",99,"(NULL)",null,"(NULL)",null,1.4E-2,null,"(NULL)","(NULL)","(NULL)",11.7,"(NULL)",null,"(NULL)","(NULL)","(NULL)",2390,"(NULL)","(NULL)",640,"(NULL)","(NULL)",40,"(NULL)","(NULL)","(NULL)","(NULL)","(NULL)","(NULL)","(NULL)","(NULL)","(NULL)","(NULL)","(NULL)","(NULL)","(NULL)","N","(NULL)","(NULL)","(NULL)","(NULL)","Y","http://www.ti.com/lit/ds/symlink/csd85312q3e.pdf","(NULL)","(NULL)","(NULL)",15,1.6,3.5,"(NULL)","SON3x3","N","(NULL)",42529,"(NULL)",2291,0.28699999999999998]
["CSD86311W1723",146,"(NULL)","A","WB_MOSFET_CSD86311W1723","YZG0012ALAR","Pauline for Adam Hoover","N",2,0,1,25,10,4.5,"(NULL)","(NULL)","(NULL)","(NULL)","(NULL)","(NULL)","(NULL)",null,"(NULL)","(NULL)","(NULL)","(NULL)","(NULL)","(NULL)",null,"(NULL)",null,3.1E-2,null,"(NULL)","(NULL)","(NULL)",3.1,"(NULL)",null,"(NULL)","(NULL)","(NULL)","(NULL)","(NULL)","(NULL)","(NULL)","(NULL)","(NULL)","(NULL)","(NULL)","(NULL)","(NULL)","(NULL)","(NULL)","(NULL)","(NULL)","(NULL)","(NULL)","(NULL)","(NULL)","(NULL)","(NULL)","(NULL)","(NULL)","(NULL)","(NULL)","(NULL)","Y","http://www.ti.com/lit/ds/symlink/csd86311w1723.pdf","(NULL)","(NULL)","(NULL)","(NULL)","(NULL)","(NULL)","(NULL)","(NULL)","(NULL)","(NULL)","(NULL)","(NULL)",2808,0.32400000000000001]
["CSD87312Q3E",146,"(NULL)","A","WB_MOSFET_N_D1234G5S9_N_D678G5S9","DPB0008A","Bob for Charles Mauney; Oliver updated Thermal_Id","N",2,0,1,30,1,27,"(NULL)","(NULL)","(NULL)","(NULL)","(NULL)","(NULL)","(NULL)",null,"(NULL)","(NULL)","(NULL)","(NULL)","(NULL)","(NULL)",null,"(NULL)",null,3.1E-2,null,"(NULL)","(NULL)","(NULL)",6.3,"(NULL)",null,"(NULL)","(NULL)","(NULL)","(NULL)","(NULL)","(NULL)","(NULL)","(NULL)","(NULL)","(NULL)","(NULL)","(NULL)","(NULL)","(NULL)","(NULL)","(NULL)","(NULL)","(NULL)","(NULL)","(NULL)","(NULL)","(NULL)","(NULL)","(NULL)","(NULL)","(NULL)","(NULL)","(NULL)","Y","http://www.ti.com/lit/ds/symlink/csd87312q3e.pdf","(NULL)","(NULL)","(NULL)","(NULL)","(NULL)","(NULL)","(NULL)","(NULL)","(NULL)","(NULL)","(NULL)",42598,2732,0.32300000000000001]
["CSD87501L",146,"(NULL)","A","WB_MOSFET_N_GC2SA2B2D2E2_N_GC1SA1B1D1E1","YJG0010A","Altium for Louis Peryea","N",2,0,1,30,20,"(NULL)","(NULL)",150,2.5,135,"(NULL)",1.3,2.2999999999999998,null,"(NULL)","(NULL)","(NULL)","(NULL)",48,"(NULL)",null,"(NULL)",null,1.0999999999999999E-2,null,"(NULL)",7.7999999999999996E-3,"(NULL)",15,"(NULL)",null,"(NULL)","(NULL)","(NULL)",2110,"(NULL)","(NULL)",246,"(NULL)","(NULL)",198,"(NULL)","(NULL)","(NULL)","(NULL)","(NULL)","(NULL)","(NULL)","(NULL)","(NULL)","(NULL)","(NULL)","(NULL)","(NULL)","(NULL)","(NULL)","(NULL)","(NULL)","(NULL)","Y","http://www.ti.com/lit/ds/symlink/csd87501l.pdf","(NULL)","(NULL)","(NULL)","(NULL)",6,5,"(NULL)","(NULL)","(NULL)","(NULL)",42130,"(NULL)",3160,0.29499999999999998]
["CSD87502Q2",146,"Y","A","WB_MOSFET_N_D67G2S1_N_D38G5S4_PD","DQK0006B","Altium for Yinyang Ou","N",2,0,1,30,20,5,23,150,2.2999999999999998,70,"(NULL)",1.2,2,null,1,6.4,4,300,75,6.9,null,"(NULL)",null,4.2000000000000003E-2,null,"(NULL)",3.2399999999999998E-2,0.61,2.2000000000000002,"(NULL)",null,"(NULL)",0.34,0.28499999999999998,0.36,0.16500000000000001,4.4999999999999998E-2,0.33,0.06,0.03,9.2999999999999999E-2,15,10,0.1,1.9,0.55000000000000004,10,9,1,30,0.17,30,0.01,"(NULL)","N",0.85,"(NULL)","(NULL)",0.26700000000000002,"Y","http://www.ti.com/lit/ds/symlink/csd87502q2.pdf","(NULL)","(NULL)","(NULL)",4,0.5,1,"(NULL)","SON2X2","N","(NULL)",42374,"(NULL)",2110,0.156]
["CSD87503Q3E",146,"(NULL)","A","WB_MOSFET_N_D123G4S9_N_D678G5S9","DQZ0008A","Bob for Jonathan Noquil","N",2,0,1,30,20,5,"(NULL)","(NULL)","(NULL)","(NULL)","(NULL)","(NULL)","(NULL)",null,"(NULL)","(NULL)","(NULL)","(NULL)","(NULL)","(NULL)",null,"(NULL)",null,1.7999999999999999E-2,null,"(NULL)","(NULL)","(NULL)","(NULL)","(NULL)",null,"(NULL)","(NULL)","(NULL)","(NULL)","(NULL)","(NULL)","(NULL)","(NULL)","(NULL)","(NULL)","(NULL)","(NULL)","(NULL)","(NULL)","(NULL)","(NULL)","(NULL)","(NULL)","(NULL)","(NULL)","(NULL)","(NULL)","(NULL)","(NULL)","(NULL)","(NULL)","(NULL)","(NULL)","Y","http://sps06.itg.ti.com/sites/KMS/crossdivteams/altium/docs/ComponentDatasheets/CSD87503Q3E.pdf","(NULL)","(NULL)","(NULL)","(NULL)","(NULL)","(NULL)","(NULL)","(NULL)","N","(NULL)",42624,"(NULL)",2637,0.28499999999999998]
["CSD88537ND",146,"(NULL)","A","WB_MOSFET_N_D78G2S1_N_D56G4S3","D0008A","Altium for Kristen Mogensen","N",2,0,1,60,20,15,108,150,2.1,75,"(NULL)",2.6,3.6,null,"(NULL)",30,"(NULL)","(NULL)",42,"(NULL)",null,"(NULL)",null,"(NULL)",null,"(NULL)",1.4999999999999999E-2,"(NULL)",14,"(NULL)",null,"(NULL)","(NULL)","(NULL)",1400,"(NULL)","(NULL)",173,"(NULL)","(NULL)",5.2,"(NULL)","(NULL)","(NULL)","(NULL)","(NULL)","(NULL)","(NULL)","(NULL)","(NULL)","(NULL)","(NULL)","(NULL)","(NULL)","(NULL)","(NULL)","(NULL)","(NULL)","(NULL)","Y","http://www.ti.com/lit/ds/symlink/csd88537nd.pdf","(NULL)","(NULL)","(NULL)",50,2.2999999999999998,4.5999999999999996,"(NULL)","(NULL)","N","(NULL)",42213,"(NULL)",3162,0.377]
["CSD88539ND",146,"(NULL)","A","WB_MOSFET_N_D78G2S1_N_D56G4S3","D0008A","Bob for Sanjay Pithadia","N",2,0,1,60,20,6.3,"(NULL)","(NULL)","(NULL)","(NULL)","(NULL)",2.6,3.6,null,"(NULL)","(NULL)","(NULL)","(NULL)","(NULL)","(NULL)",null,"(NULL)",null,"(NULL)",null,"(NULL)","(NULL)","(NULL)",7.2,"(NULL)",null,"(NULL)","(NULL)","(NULL)","(NULL)","(NULL)","(NULL)","(NULL)","(NULL)","(NULL)","(NULL)","(NULL)","(NULL)","(NULL)","(NULL)","(NULL)","(NULL)","(NULL)","(NULL)","(NULL)","(NULL)","(NULL)","(NULL)","(NULL)","(NULL)","(NULL)","(NULL)","(NULL)","(NULL)","Y","http://www.ti.com/lit/ds/symlink/csd88539nd.pdf","(NULL)","(NULL)","(NULL)","(NULL)","(NULL)","(NULL)","(NULL)","(NULL)","N","(NULL)","(NULL)",42104,2837,0.22700000000000001]

{"sheet":"PFET Data","index":5,"n_rows":26,"n_cols":80,"rows_kept":26,"cut":false,"hidden":true,"merged":[]}
["PARTNUMBER","PARTID","WIZARD_ENABLED","AVAILABLE","SCHEMATIC_SYMBOL","THERMAL_ID","COMMENTS","CHTYPE","CHNUM","SUBID","MOUNT","VDSMAX","VGSMAX","IDSMAX","IDMMAX","TJMAX","PDMAX","RTHJA","RTHJF","VTHMIN","VTHMAX","VFMAX","TRRTYP","TRRIF","TRRISR","GFSTYP","RGITYP","RDSON15","RDSON18","RDSON25","RDSON45","RDSON8","RDSON10","RDSDELTA","QGTYP","QG2_5TYP","QG10TYP","CISS_AT_1V","CISS_AT_VDSSPEC","CISSMAX","COSS_AT_1V","COSS_AT_VDSSPEC","COSSMAX","CRSS_AT_1V","CRSS_AT_VDSSPEC","CRSSMAX","VDSSPEC","SOATIME_MS","VDS_START","ID_START","VDS_1STDROP","ID_1STDROP","VDS_2NDDROP","ID_2NDDROP","VDS_3RDDROP","ID_3RDDROP","VDS_END","ID_END","KQG","POWERBLOCK","VF_TYP","HEATSINKABLE","PACKAGE","CGS1","ROHS","DATASHEET_URL","KVTH","RGIMAX","VGSATMAXRDS","QRR","QGD","QGS","DEPLETIONMODE","TI_EQ_PACKAGE","AUTOMOTIVE","GRADE","TIMESTAMP","DATEMODIFIED","ID","1KPRICE"]
["CSD22202W15",146,"Y","N","(NULL)","(NULL)","Updated by PJ","P",1,0,"(NULL)",-8,-6,-10,"(NULL)",150,1.5,90,"(NULL)",-0.6,-1.1000000000000001,-1,19,-2,200,15.3,28,"(NULL)","(NULL)",1.7399999999999999E-2,1.2200000000000001E-2,"(NULL)","(NULL)",0.3,6.5,3.7,"(NULL)",1.1499999999999999,1.06,1.17,0.746,0.58799999999999997,0.876,0.22,0.192,0.245,-4,10,-0.01,-0.7,-0.5,-35,-8,-2,-8,-0.01,-8,-0.01,0.6,"N",-0.75,"(NULL)","(NULL)","(NULL)","Y","http://www.ti.com/lit/ds/symlink/csd22202w15.pdf","(NULL)",28,-1.7,22,1,1.6,"(NULL)","WLP1.5X1.5","(NULL)","(NULL)",42577,42577,2561,0.187]
["CSD22204W",146,"Y","N","(NULL)","(NULL)","PJ added New","P",1,0,"(NULL)",-8,-6,-5,"(NULL)",150,1.7,90,"(NULL)",-0.45,-0.95,-1,"(NULL)","(NULL)","(NULL)",18,300,"(NULL)","(NULL)",1.4E-2,9.9000000000000008E-3,"(NULL)","(NULL)",0.27,18.899999999999999,10.8,"(NULL)",0.92500000000000004,0.87,1.3,0.69,0.44500000000000001,1.3,0.33,0.20399999999999999,0.55000000000000004,-4,10,-0.1,-7.7,-0.49,-37,-1.1000000000000001,-37,-8,-2.2000000000000002,-8,-0.1,0.25,"N",-0.7,"(NULL)","(NULL)","(NULL)","Y","http://www.ti.com/lit/ds/symlink/csd22204w.pdf","(NULL)",300,-1.4,"(NULL)",4.2,3.2,"(NULL)","WLP1.5X1.5","(NULL)","(NULL)",42577,"(NULL)",2598,0.155]
["CSD22205L",146,"(NULL)","A","(NULL)","(NULL)","JW","P",1,0,"(NULL)",-8,-6,-7.4,-71,150,0.6,90,"(NULL)",-0.4,-1.05,-1,"(NULL)","(NULL)","(NULL)",10.4,6.5,0.05,0.04,1.4999999999999999E-2,9.9000000000000008E-3,"(NULL)","(NULL)",0.27,6.5,3.8,"(NULL)",1.1000000000000001,1.07,1.1599999999999999,0.68500000000000005,0.56000000000000005,1.03,0.21099999999999999,0.19,0.26300000000000001,-4,"(NULL)","(NULL)","(NULL)","(NULL)","(NULL)","(NULL)","(NULL)","(NULL)","(NULL)","(NULL)","(NULL)","(NULL)","(NULL)",-0.68,"(NULL)","(NULL)","(NULL)","Y","http://www.ti.com/lit/ds/symlink/csd22205l.pdf","(NULL)",8.5,1.4,16,1,1.2,"(NULL)","LGA1.2X1.2","(NULL)","(NULL)",43781,"(NULL)","(NULL)",0.11700000000000001]
["CSD22206W",146,"(NULL)","A","(NULL)","(NULL)","JW","P",1,0,"(NULL)",-8,-6,-5,-108,150,1.7,75,"(NULL)",-0.4,-1.05,-1,"(NULL)","(NULL)","(NULL)",20,30,"(NULL)","(NULL)",9.1000000000000004E-3,5.7000000000000002E-3,"(NULL)","(NULL)",0.28999999999999998,11.2,6.9,"(NULL)",1.86,1.75,1.97,1.18,0.96,1.67,0.375,0.34,0.47099999999999997,-4,"(NULL)","(NULL)","(NULL)","(NULL)","(NULL)","(NULL)","(NULL)","(NULL)","(NULL)","(NULL)","(NULL)","(NULL)","(NULL)",-0.69,"(NULL)","(NULL)","(NULL)","Y","http://www.ti.com/lit/ds/symlink/csd22206w.pdf","(NULL)",30,1.3,24,1.8,2.1,"(NULL)","WLP1.5X1.5","(NULL)","(NULL)",43781,"(NULL)","(NULL)",0.19600000000000001]
["CSD23202W10",146,"Y","N","(NULL)","(NULL)","Updated by PJ","P",1,0,"(NULL)",-12,-6,-2.2000000000000002,-25,150,1,90,"(NULL)",-0.4,-0.9,-1,12,-0.5,100,5.6,56,0.123,9.1999999999999998E-2,6.6000000000000003E-2,5.2999999999999999E-2,"(NULL)","(NULL)",0.31,2.9,1.66,"(NULL)",0.41099999999999998,0.39400000000000002,0.432,0.312,0.23799999999999999,0.34899999999999998,4.7500000000000001E-2,2.9000000000000001E-2,5.9900000000000002E-2,-6,10,-0.1,-1.4,-1.48,-20.6,-3.04,-10,-12,-2.0699999999999998,-12,-0.1,1.45,"N",-0.66,"(NULL)","(NULL)","(NULL)","Y","http://www.ti.com/lit/ds/symlink/csd23202w10.pdf","(NULL)",0,-1,3.7,0.28000000000000003,0.55000000000000004,"(NULL)","WLP1X1","(NULL)","(NULL)",42577,42577,2563,0.09]
["CSD23203W",146,"Y","N","(NULL)","(NULL)","PJ added New","P",1,0,"(NULL)",-8,-6,-3,-54,150,0.75,90,"(NULL)",-0.6,-1.1000000000000001,-1,21,-1.5,100,14,10,"(NULL)",5.2999999999999999E-2,2.6499999999999999E-2,1.9400000000000001E-2,"(NULL)","(NULL)",0.28000000000000003,4.9000000000000004,2.8,"(NULL)",0.73599999999999999,0.70299999999999996,0.76100000000000001,0.48,0.39100000000000001,0.54200000000000004,0.14699999999999999,0.13300000000000001,0.16300000000000001,-4,10,-0.1,-4.0199999999999996,-0.61,-24.6,-1.3,-24.6,-8,-3.3,-8,-0.1,0.91,"N",-0.75,"(NULL)","(NULL)","(NULL)","Y","http://www.ti.com/lit/ds/symlink/csd23203w.pdf","(NULL)",10,-1.4,6.1,0.6,1.3,"(NULL)","WLP1X1.5","(NULL)","(NULL)",42577,"(NULL)",2599,0.11700000000000001]
["CSD23280F3",146,"(NULL)","A","WB_MOSFET_P_D3G1S2_PD_RES","YJM0003A","Altium for Philip Beard","P",1,0,1,-12,-6,1.8,11.4,150,0.5,90,"(NULL)",-0.4,-0.95,"(NULL)","(NULL)","(NULL)","(NULL)",3,9,0.39900000000000002,0.25,0.16500000000000001,0.11600000000000001,"(NULL)","(NULL)",0.31,0.95,"(NULL)","(NULL)","(NULL)","(NULL)",234,"(NULL)","(NULL)",95,"(NULL)","(NULL)",11.1,"(NULL)","(NULL)","(NULL)","(NULL)","(NULL)","(NULL)","(NULL)","(NULL)","(NULL)","(NULL)","(NULL)","(NULL)","(NULL)","(NULL)","(NULL)","(NULL)","(NULL)","(NULL)","Y","http://www.ti.com/lit/ds/symlink/csd23280f3.pdf","(NULL)","(NULL)","(NULL)","(NULL)",6.8000000000000005E-2,0.3,"(NULL)","LGA0.6X0.7","N","(NULL)",42478,"(NULL)",2239,0.04]
["CSD23285F5",146,"(NULL)","A","(NULL)","(NULL)","JW","P",1,0,"(NULL)",-12,-6,-5.4,-31,150,1.4,90,"(NULL)",-0.4,-0.95,-1,"(NULL)","(NULL)","(NULL)",8.9,17,0.13,0.08,4.7E-2,3.5000000000000003E-2,"(NULL)","(NULL)",0.35,3.2,1.8,"(NULL)",0.50700000000000001,0.48299999999999998,0.53400000000000003,0.41699999999999998,0.30499999999999999,0.72499999999999998,6.0499999999999998E-2,3.6999999999999998E-2,8.8400000000000006E-2,-6,"(NULL)","(NULL)","(NULL)","(NULL)","(NULL)","(NULL)","(NULL)","(NULL)","(NULL)","(NULL)","(NULL)","(NULL)","(NULL)",-0.73,"(NULL)","(NULL)","(NULL)","Y","http://www.ti.com/lit/ds/symlink/csd23285f5.pdf","(NULL)",17,1.3,"(NULL)",0.48,0.66,"(NULL)","LGA0.8X1.5","(NULL)","(NULL)",43781,"(NULL)","(NULL)",8.6999999999999994E-2]
["CSD23381F4",146,"Y","N","(NULL)","(NULL)","Updated by PJ","P",1,0,"(NULL)",-12,-8,-2.2999999999999998,-9,150,0.5,110,"(NULL)",-1.7,-1.2,-1,7.9,-0.5,100,2,20,"(NULL)",0.97,0.3,0.17499999999999999,"(NULL)","(NULL)",0.34,1.1399999999999999,0.6,"(NULL)",0.23899999999999999,0.23599999999999999,0.24,0.16500000000000001,9.8000000000000004E-2,0.19500000000000001,0.02,6.8999999999999999E-3,0.03,-6,10,-0.01,-0.04,-1.4,-6,-12,-0.6,-12,-0.01,-12,-0.01,4,"N",-0.75,"(NULL)","(NULL)","(NULL)","Y","http://www.ti.com/lit/ds/symlink/csd23381f4.pdf","(NULL)",20,-1.8,1.26,0.19,0.3,"(NULL)","LGA1X0.6","(NULL)","(NULL)",42577,42577,2564,0.04]
["CSD23382F4",146,"Y","A","WB_MOSFET_P_D3G1S2_PD","YJC0003A","Updated by PJ Updated by Bob","P",1,0,1,-12,8,-3.5,-22,150,0.5,85,"(NULL)",-0.5,-1.1000000000000001,-1,8.4,-0.5,200,3.4,350,"(NULL)",0.19900000000000001,0.105,7.5999999999999998E-2,"(NULL)","(NULL)",0.3,1.04,0.49,"(NULL)",0.20599999999999999,0.18,0.20599999999999999,0.157,0.11799999999999999,0.17799999999999999,2.0299999999999999E-2,1.2800000000000001E-2,2.5399999999999999E-2,-6,10,-0.1,-0.93,-1.4,-12,-2.1,-8,-12,-1.1100000000000001,-12,-0.1,3.26,"N",-0.75,"(NULL)","(NULL)","(NULL)","Y","http://www.ti.com/lit/ds/symlink/csd23382f4.pdf","(NULL)",350,-1.5,1.8,0.15,0.5,"(NULL)","LGA1X0.6","N","(NULL)",42577,42721,2565,5.7000000000000002E-2]
["CSD25202W15",146,"Y","N","(NULL)","R-XGBA-N6","Updated by PJ","P",1,0,"(NULL)",-20,-6,-4,"(NULL)",150,0.5,90,"(NULL)",-0.45,-1.05,-1,26,-2,200,16,31,"(NULL)",5.1999999999999998E-2,3.2000000000000001E-2,2.5999999999999999E-2,"(NULL)","(NULL)",0.35,5.8,3,"(NULL)",0.80600000000000005,0.77800000000000002,0.83299999999999996,0.70799999999999996,0.4,0.80500000000000005,8.7300000000000003E-2,2.1000000000000001E-2,0.111,-10,10,-0.1,-2.79,-0.84,-23.5,-2.61,-23.5,-20,-2.98,-20,-0.1,0.61,"N",-0.75,"(NULL)","(NULL)","(NULL)","Y","http://www.ti.com/lit/ds/symlink/csd25202w1015.pdf","(NULL)",31,-1.5,19,0.8,1.1000000000000001,"(NULL)","WLP1.5X1.5","(NULL)","(NULL)",42577,42577,2567,0.16800000000000001]
["CSD25211W1015",146,"Y","N","WB_MOSFET_P_D56G1S234","S-XBGA-N4","Updated by PJ Added by Amod","P",1,0,1,-20,-6,-3.2,-9.5,150,1,90,"(NULL)",-0.5,-1.1000000000000001,-1,11.6,-1.5,200,12,4,"(NULL)","(NULL)",4.3999999999999997E-2,3.3000000000000002E-2,"(NULL)","(NULL)",0.33,3.4,2.0699999999999998,"(NULL)",0.49099999999999999,0.47499999999999998,0.501,0.43,0.23400000000000001,0.50900000000000001,4.3400000000000001E-2,1.0500000000000001E-2,5.5800000000000002E-2,-10,10,-0.01,-0.3,-0.3,-10,-1,-10,-20,-0.45,-20,-0.02,1.1499999999999999,"N",-0.8,"(NULL)",1368,0.44,"Y","http://www.ti.com/lit/ds/symlink/csd25211w1015.pdf","(NULL)",4,-1.5,6.9,0.2,1.1000000000000001,"(NULL)","WLP1X1.5","(NULL)","(NULL)",41578,42577,2568,0.14299999999999999]
["CSD25213W10",146,"Y","N","WB_MOSFET_P_D3G1S24","R-XGBA-N6","Updated by PJ Added by Amod","P",1,0,1,-20,-6,-1.6,-16,150,1,90,"(NULL)",-0.6,-1.1000000000000001,-1,11,-1,200,6.2,20,"(NULL)","(NULL)",6.7000000000000004E-2,4.7E-2,"(NULL)","(NULL)",0.3,2.2000000000000002,1.1499999999999999,"(NULL)",0.38600000000000001,0.36799999999999999,0.40100000000000002,0.28599999999999998,0.14799999999999999,0.33900000000000002,3.09E-2,7.7999999999999996E-3,4.0899999999999999E-2,-10,10,-0.01,-0.09,-0.7,-10,-20,-0.4,-20,-0.01,-20,-0.01,2.94,"N",-0.77,"(NULL)",1367,355,"Y","http://www.ti.com/lit/ds/symlink/csd25213w10.pdf","(NULL)",20,-1.9,4,0.14000000000000001,0.74,"(NULL)","WLP1X1","(NULL)","(NULL)",41577,42577,2569,7.6999999999999999E-2]
["CSD25304W1015",146,"Y","N","(NULL)","TRANS_NexFET_Q2","Updated by PJ","P",1,0,"(NULL)",-20,-8,-3,-41,150,0.75,90,"(NULL)",-0.55000000000000004,-1.1499999999999999,-1,11.6,-1.5,200,12,20,"(NULL)",9.1999999999999998E-2,4.5499999999999999E-2,3.2500000000000001E-2,"(NULL)","(NULL)",0.35,3.3,1.84,"(NULL)",0.496,0.45800000000000002,0.51400000000000001,0.41899999999999998,0.23100000000000001,0.47599999999999998,5.4899999999999997E-2,1.2E-2,7.1300000000000002E-2,-10,10,-0.1,-2.21,-1.35,-25,-20,-1.39,-20,-0.1,-20,-0.1,1.36,"N",-0.75,"(NULL)","(NULL)","(NULL)","Y","http://www.ti.com/lit/ds/symlink/csd25304w1015.pdf","(NULL)",20,-1.6,7.2,0.5,0.7,"(NULL)","WLP1X1.5","(NULL)","(NULL)",42577,42577,2573,0.121]
["CSD25310Q2",146,"Y","Y","WB_MOSFET_P_D4G3S1256","TRANS_NexFET_Q2","Updated by PJ Added by Hadi","P",1,0,1,-20,-8,-20,-48,150,2.9,55,4.5,-0.55000000000000004,-1.1000000000000001,-1,13,-5,200,34,1.9,"(NULL)",8.8999999999999996E-2,3.2500000000000001E-2,2.3900000000000001E-2,"(NULL)","(NULL)",0.43,3.6,2.4,"(NULL)",580,500,600,480,280,550,65,16.5,83,-10,10,-0.01,-0.4,-0.7,-30,-4,-4.5,-7,-2.8,-20,-0.01,0.75,"N",-0.8,"N",1156,517,"Y","http://www.ti.com/lit/ds/symlink/csd25310q2.pdf","(NULL)",1.9,-1.7,9.1999999999999993,0.5,1.1000000000000001,"(NULL)","SON2X2","N",0,42212,42577,2574,0.13500000000000001]
["CSD25402Q3A",146,"Y","Y","WB_MOSFET_P_D123G4S56789","DNH0008A","DBA - vasudev_g@ti.com: Schematic_Symbol \"WB_MOSFET_P_D123G4S56789\" -> \"WB_MOSFET_P_D123G4S5678\" - 2016-08-18 23:04:38.656812","P",1,0,1,-20,-12,-75,-148,150,2.7776999999999998,55,2.2999999999999998,-0.65,-1.1499999999999999,-1,21,-10,200,59,3.7,"(NULL)",0.3,1.5900000000000001E-2,8.8999999999999999E-3,"(NULL)","(NULL)",0.46,7.5,4.3,17,1.48,1.38,1.51,1.35,0.76300000000000001,1.54,0.17399999999999999,3.9E-2,0.216,-10,10,-0.1,-8.3000000000000007,-0.98,-76,-20,-2.4900000000000002,-20,-0.1,-20,-0.1,0.55000000000000004,"N",-0.8,"(NULL)",1156,1.75,"Y","http://www.ti.com/lit/ds/symlink/csd25402q3a.pdf","(NULL)",7.4,-2,10.3,1.1000000000000001,2.4,"(NULL)","SON3X3","(NULL)","(NULL)",42212,42599,2575,0.27]
["CSD25404Q3",146,"(NULL)","A","WB_MOSFET_P_D123G4S5678","DQG0008A","Altium for Kevin O'Connell","P",1,0,1,-20,-12,-60,-240,150,96,55,"(NULL)",-0.65,-1.1499999999999999,"(NULL)",26,"(NULL)","(NULL)",47,0.8,"(NULL)",0.15,1.21E-2,6.4999999999999997E-3,"(NULL)","(NULL)",0.37,10.8,"(NULL)","(NULL)","(NULL)","(NULL)",2120,"(NULL)","(NULL)",1170,"(NULL)","(NULL)",68,"(NULL)","(NULL)","(NULL)","(NULL)","(NULL)","(NULL)","(NULL)","(NULL)","(NULL)","(NULL)","(NULL)","(NULL)","(NULL)","(NULL)","(NULL)","(NULL)","(NULL)","(NULL)","Y","https://www.ti.com/lit/ds/symlink/csd25404q3.pdf","(NULL)",2.4,"(NULL)",20.5,2.2000000000000002,2.8,"(NULL)","SON3X3","N","(NULL)",42312,"(NULL)",2073,0.33200000000000002]
["CSD25480F3",146,"(NULL)","A","WB_MOSFET_P_D3G1S2_PD_RES","YJM0003A","Altium for Aymeric NICOLAS","P",1,0,1,-20,-12,-1.7,-10.6,150,0.5,90,"(NULL)",-0.7,-1.2,-1,6.4,-0.4,100,8,16,"(NULL)",0.84,0.26,0.159,0.13200000000000001,"(NULL)",0.31,0.7,"(NULL)","(NULL)","(NULL)","(NULL)","(NULL)","(NULL)","(NULL)","(NULL)","(NULL)","(NULL)","(NULL)","(NULL)","(NULL)","(NULL)","(NULL)","(NULL)","(NULL)","(NULL)","(NULL)","(NULL)","(NULL)","(NULL)","(NULL)","(NULL)","(NULL)","(NULL)","(NULL)","(NULL)","(NULL)","Y","http://www.ti.com/lit/ds/symlink/csd25480f3.pdf","(NULL)","(NULL)","(NULL)",1.2,0.1,0.26,"(NULL)","LGA0.6X0.7","N","(NULL)",42625,"(NULL)",3164,4.1000000000000002E-2]
["CSD25481F4",146,"Y","N","(NULL)","(NULL)","Updated by PJ","P",1,0,"(NULL)",-20,-12,-2.5,-10,150,0.5,110,"(NULL)",-0.7,-1.2,-1,7.5,-0.5,100,3.3,20,"(NULL)",0.8,0.17399999999999999,0.105,8.7999999999999995E-2,"(NULL)",0.33,0.91300000000000003,0.5,"(NULL)",0.19,0.189,0.191,0.13500000000000001,7.8E-2,0.153,2.1499999999999998E-2,5.4999999999999997E-3,2.3E-2,-10,10,-0.01,-0.1,-0.9,-8,-20,-0.3,-20,-0.01,-20,-0.01,4.6500000000000004,"N",-0.75,"(NULL)","(NULL)","(NULL)","Y","http://www.ti.com/lit/ds/symlink/csd25481f4.pdf","(NULL)",20,-1.8,1.01,0.153,0.24,"(NULL)","LGA1X0.6","(NULL)","(NULL)",42577,42577,2576,5.6000000000000001E-2]
["CSD25483F4",146,"Y","N","(NULL)","(NULL)","Updated by PJ","P",1,0,"(NULL)",-20,-12,-1.6,-6.5,150,0.5,110,"(NULL)",-0.7,-1.2,-1,7.5,-0.5,100,1.4,20,"(NULL)",1.07,0.39,0.245,0.20499999999999999,"(NULL)",0.34,0.95899999999999996,0.47,"(NULL)",0.19900000000000001,0.19800000000000001,0.2,0.15,8.2000000000000003E-2,0.16,0.02,5.7999999999999996E-3,2.5000000000000001E-2,-10,10,-0.01,-0.04,-1.4,-5,-20,-0.3,-20,-0.01,-20,-0.01,4.7,"N",-0.75,"(NULL)","(NULL)","(NULL)","Y","http://www.ti.com/lit/ds/symlink/csd25483f4.pdf","(NULL)",20,-1.9,1.06,0.16,0.252,"(NULL)","LGA1X0.6","(NULL)","(NULL)",42577,42577,2577,0.04]
["CSD25484F4",146,"Y","N","(NULL)","(NULL)","Updated by PJ","P",1,0,"(NULL)",-20,-12,-2.5,-22,150,0.5,110,"(NULL)",-0.7,-1.2,-1,7.5,-0.5,100,3.5,20,"(NULL)",0.82499999999999996,0.18,0.109,9.4E-2,"(NULL)",0.36,1.0900000000000001,0.6,"(NULL)",0.18099999999999999,0.17499999999999999,0.189,7.9299999999999995E-2,7.8E-2,8.8900000000000007E-2,2.0299999999999999E-2,5.4999999999999997E-3,3.0300000000000001E-2,-10,10,-0.1,-0.7,-0.8,-5.71,-1.97,-5.71,-20,-0.5,-20,-0.1,4.3,"N",-0.75,"(NULL)","(NULL)","(NULL)","Y","http://www.ti.com/lit/ds/symlink/csd25484f4.pdf","(NULL)",20,-1.8,0.97,0.15,0.35,"(NULL)","LGA1X0.6","(NULL)","(NULL)",42577,42577,2578,6.3E-2]
["CSD25485F5",146,"(NULL)","A","(NULL)","(NULL)","Bob for Dave Parks","P",1,0,1,-20,-12,-5.3,-31,150,1.4,245,"(NULL)",-0.7,-1.3,-1,"(NULL)","(NULL)","(NULL)",7,20,"(NULL)",0.25,7.0000000000000007E-2,4.2000000000000003E-2,3.5000000000000003E-2,"(NULL)",0.37,2.7,"(NULL)","(NULL)","(NULL)","(NULL)","(NULL)","(NULL)","(NULL)","(NULL)","(NULL)","(NULL)","(NULL)","(NULL)","(NULL)","(NULL)","(NULL)","(NULL)","(NULL)","(NULL)","(NULL)","(NULL)","(NULL)","(NULL)","(NULL)","(NULL)","N","(NULL)","(NULL)","(NULL)","(NULL)","Y","http://www.ti.com/lit/ds/symlink/csd25485f5.pdf","(NULL)","(NULL)","(NULL)","(NULL)",0.56000000000000005,0.67,"N","LGA0.8X1.5","N","(NULL)","(NULL)","(NULL)",3281,8.6999999999999994E-2]
["CSD25501F3",146,"(NULL)","A","(NULL)","(NULL)","JW","P",1,0,"(NULL)",-20,-20,-3.6,-13.6,150,0.5,255,"(NULL)",-0.45,-1.05,-0.95,"(NULL)","(NULL)","(NULL)",3.4,33,"(NULL)",0.26,0.125,7.5999999999999998E-2,"(NULL)","(NULL)",0.38,1.02,"(NULL)","(NULL)","(NULL)","(NULL)","(NULL)","(NULL)","(NULL)","(NULL)","(NULL)","(NULL)","(NULL)","(NULL)","(NULL)","(NULL)","(NULL)","(NULL)","(NULL)","(NULL)","(NULL)","(NULL)","(NULL)","(NULL)","(NULL)","(NULL)","N","(NULL)","(NULL)","(NULL)","(NULL)","Y","http://www.ti.com/lit/ds/symlink/csd25485f5.pdf","(NULL)","(NULL)","(NULL)","(NULL)",0.56000000000000005,0.67,"N","LGA0.8X1.5","N","(NULL)","(NULL)","(NULL)",3281,5.6000000000000001E-2]
["CSD75207W15",146,"Y","N","(NULL)","(NULL)","Updated by PJ","P",1,0,"(NULL)",-20,-6,-1.2,"(NULL)",150,0.7,90,"(NULL)",-0.6,-1.1000000000000001,-1,23,-1,200,6.2,27,null,null,7.6999999999999999E-2,5.3999999999999999E-2,"(NULL)","(NULL)",0.35,2.9,1.6,"(NULL)",0.47599999999999998,0.45800000000000002,0.48799999999999999,0.39900000000000002,0.22500000000000001,0.45100000000000001,4.2200000000000001E-2,1.04E-2,5.5599999999999997E-2,-10,10,-0.01,-0.09,-0.85,-9,-20,-0.3,-20,-0.01,-20,-0.01,1.6,"N",-0.8,"(NULL)","(NULL)","(NULL)","Y","http://www.ti.com/lit/ds/symlink/csd75207w15.pdf","(NULL)",27,-1.7,10.5,0.4,0.7,"(NULL)","WLP1.5X1.5","(NULL)","(NULL)",42577,42577,2581]
["CSD75208W1015",146,"Y","A","WB_MOSFET_P_DA1GA2SB1_P_DC2GC1SB2","YZC0006ABBB","Updated by PJ; Oliver set ChNum to 2 and set a few parameters","P",2,1,1,-20,-6,-1.6,"(NULL)",150,0.75,90,"(NULL)",-0.5,-1.1000000000000001,-1,9,-1,200,7.5,0,null,null,8.7999999999999995E-2,6.8000000000000005E-2,"(NULL)","(NULL)",0.34,1.9,1.1399999999999999,"(NULL)",0.315,0.315,0.315,0.23100000000000001,0.123,0.26100000000000001,3.1899999999999998E-2,7.6999999999999999E-2,3.9899999999999998E-2,-10,10,-0.1,-1.07,-1.02,-10.88,-20,-0.54,-20,-0.1,-20,-0.1,2.2400000000000002,"N",-0.75,"(NULL)","(NULL)","(NULL)","Y","http://www.ti.com/lit/ds/symlink/csd75208w1015.pdf","(NULL)",0,-1.5,4.3,0.23,0.48,"N","WLP1X1.5","N","(NULL)",42577,42680.99722222222,3156]

{"sheet":"NLogic","index":6,"n_rows":143,"n_cols":29,"rows_kept":143,"cut":false,"hidden":true,"merged":[[3,20,3,27],[11,20,11,27],[19,20,19,27]]}
["INCLUDED FETS IN DROPDOWN","MOST BLANKS REMOVED ROW2 BLANK","VGS_VDS_OK BVDSS>=1.1xVIN VGS>=1.1xVDR ILOAD <= IDSMAX","BVDSS<=30V IF VIN<=27V","BVDSS=40V IF 20V<=VIN<=36V","BVDSS=60V IF 25V<=VIN<=54V","BVDSS=80V IF 36V<=VIN<=72V","BVDSS=100V IF 48V<=VIN<=90V","MAX VDS OK OR(D:H)","VD<2.5V & VGS=1.8V","2.5V<=VD<3V VGSmin<=2.5V","3V<=VD<4.5V VGSmin<=3V","4.5V<=VD<6V VGSmin<=4.5V","6<=VD<8V VGSmin<=6V","8V<=VD<10V VGSmin<=8V","VD>=10V VGSmin<=10V","VGS OK OR(J:P)","INCLUDE FET AND(C,I,Q)"]
[{"$f":"IF(R2,Load_Switch_NFET[[#This Row],[PARTNUMBER]],\"\")","v":""},{"$f":"\"\"","v":""},{"$f":"AND((Load_Switch_NFET[[#This Row],[VDSMAX]]>=Vi*1.1),(Load_Switch_NFET[[#This Row],[VGSMAX]]>=(VGS_DR)*1.1),(Load_Switch_NFET[[#This Row],[IDSMAX]]>=Io),VGS_DR>=1.8)","v":false},{"$f":"AND(Vi<=27,Load_Switch_NFET[[#This Row],[VDSMAX]]<=30)","v":true},{"$f":"AND(Vi<=36,Vi>=20,Load_Switch_NFET[[#This Row],[VDSMAX]]=40)","v":false},{"$f":"AND(Vi<=54,Vi>=25,Load_Switch_NFET[[#This Row],[VDSMAX]]=60)","v":false},{"$f":"AND(Vi<=72,Vi>=36,Load_Switch_NFET[[#This Row],[VDSMAX]]=80)","v":false},{"$f":"AND(Vi<=90,Vi>=48,Load_Switch_NFET[[#This Row],[VDSMAX]]=100)","v":false},{"$f":"OR(D2:H2)","v":true},{"$f":"AND(((VGS_DR)<2.5),('NFET Data'!$AC2<>\"(Null)\"))","v":false},{"$f":"AND(((VGS_DR)>=2.5),((VGS_DR)<3),OR(('NFET Data'!$AD2<>\"(Null)\"),('NFET Data'!$AC2<>\"(Null)\")))","v":false},{"$f":"AND(((VGS_DR)>=3),((VGS_DR)<4.5),OR(('NFET Data'!$AE2<>\"(Null)\"),('NFET Data'!$AD2<>\"(Null)\"),('NFET Data'!$AC2<>\"(Null)\")))","v":false},{"$f":"AND(((VGS_DR)>=4.5),((VGS_DR)<6),OR(('NFET Data'!$AF2<>\"(Null)\"),('NFET Data'!$AE2<>\"(Null)\"),('NFET Data'!$AD2<>\"(Null)\"),('NFET Data'!$AC2<>\"(Null)\")))","v":false},{"$f":"AND(((VGS_DR)>=6),((VGS_DR)<8),OR(('NFET Data'!$AG2<>\"(Null)\"),('NFET Data'!$AF2<>\"(Null)\"),('NFET Data'!$AE2<>\"(Null)\"),('NFET Data'!$AD2<>\"(Null)\"),('NFET Data'!$AC2<>\"(Null)\")))","v":false},{"$f":"AND(((VGS_DR)>=8),((VGS_DR)<10),OR(('NFET Data'!$AH2<>\"(Null)\"),('NFET Data'!$AG2<>\"(Null)\"),('NFET Data'!$AF2<>\"(Null)\"),('NFET Data'!$AE2<>\"(Null)\"),('NFET Data'!$AD2<>\"(Null)\"),('NFET Data'!$AC2<>\"(Null)\")))","v":false},{"$f":"AND(((VGS_DR)>=10),OR(('NFET Data'!$AI2<>\"(Null)\"),('NFET Data'!$AH2<>\"(Null)\"),('NFET Data'!$AG2<>\"(Null)\"),('NFET Data'!$AF2<>\"(Null)\"),('NFET Data'!$AE2<>\"(Null)\"),('NFET Data'!$AD2<>\"(Null)\"),('NFET Data'!$AC2<>\"(Null)\")))","v":true},{"$f":"OR(J2:P2)","v":true},{"$f":"AND(C2,I2,Q2)","v":false}]
[{"$f":"IF(R3,Load_Switch_NFET[[#This Row],[PARTNUMBER]],\"\")","v":""},"CSD16401Q5",{"$f":"AND((Load_Switch_NFET[[#This Row],[VDSMAX]]>=Vi*1.1),(Load_Switch_NFET[[#This Row],[VGSMAX]]>=(VGS_DR)*1.1),(Load_Switch_NFET[[#This Row],[IDSMAX]]>=Io),VGS_DR>=1.8)","v":false},{"$f":"AND(Vi<=27,Load_Switch_NFET[[#This Row],[VDSMAX]]<=30)","v":true},{"$f":"AND(Vi<=36,Vi>=20,Load_Switch_NFET[[#This Row],[VDSMAX]]=40)","v":false},{"$f":"AND(Vi<=54,Vi>=25,Load_Switch_NFET[[#This Row],[VDSMAX]]=60)","v":false},{"$f":"AND(Vi<=72,Vi>=36,Load_Switch_NFET[[#This Row],[VDSMAX]]=80)","v":false},{"$f":"AND(Vi<=90,Vi>=48,Load_Switch_NFET[[#This Row],[VDSMAX]]=100)","v":false},{"$f":"OR(D3:H3)","v":true},{"$f":"AND(((VGS_DR)<2.5),('NFET Data'!$AC3<>\"(Null)\"))","v":false},{"$f":"AND(((VGS_DR)>=2.5),((VGS_DR)<3),OR(('NFET Data'!$AD3<>\"(Null)\"),('NFET Data'!$AC3<>\"(Null)\")))","v":false},{"$f":"AND(((VGS_DR)>=3),((VGS_DR)<4.5),OR(('NFET Data'!$AE3<>\"(Null)\"),('NFET Data'!$AD3<>\"(Null)\"),('NFET Data'!$AC3<>\"(Null)\")))","v":false},{"$f":"AND(((VGS_DR)>=4.5),((VGS_DR)<6),OR(('NFET Data'!$AF3<>\"(Null)\"),('NFET Data'!$AE3<>\"(Null)\"),('NFET Data'!$AD3<>\"(Null)\"),('NFET Data'!$AC3<>\"(Null)\")))","v":false},{"$f":"AND(((VGS_DR)>=6),((VGS_DR)<8),OR(('NFET Data'!$AG3<>\"(Null)\"),('NFET Data'!$AF3<>\"(Null)\"),('NFET Data'!$AE3<>\"(Null)\"),('NFET Data'!$AD3<>\"(Null)\"),('NFET Data'!$AC3<>\"(Null)\")))","v":false},{"$f":"AND(((VGS_DR)>=8),((VGS_DR)<10),OR(('NFET Data'!$AH3<>\"(Null)\"),('NFET Data'!$AG3<>\"(Null)\"),('NFET Data'!$AF3<>\"(Null)\"),('NFET Data'!$AE3<>\"(Null)\"),('NFET Data'!$AD3<>\"(Null)\"),('NFET Data'!$AC3<>\"(Null)\")))","v":false},{"$f":"AND(((VGS_DR)>=10),OR(('NFET Data'!$AI3<>\"(Null)\"),('NFET Data'!$AH3<>\"(Null)\"),('NFET Data'!$AG3<>\"(Null)\"),('NFET Data'!$AF3<>\"(Null)\"),('NFET Data'!$AE3<>\"(Null)\"),('NFET Data'!$AD3<>\"(Null)\"),('NFET Data'!$AC3<>\"(Null)\")))","v":true},{"$f":"OR(J3:P3)","v":true},{"$f":"AND(C3,I3,Q3)","v":false}]
[{"$f":"IF(R4,Load_Switch_NFET[[#This Row],[PARTNUMBER]],\"\")","v":""},"CSD16403Q5A",{"$f":"AND((Load_Switch_NFET[[#This Row],[VDSMAX]]>=Vi*1.1),(Load_Switch_NFET[[#This Row],[VGSMAX]]>=(VGS_DR)*1.1),(Load_Switch_NFET[[#This Row],[IDSMAX]]>=Io),VGS_DR>=1.8)","v":false},{"$f":"AND(Vi<=27,Load_Switch_NFET[[#This Row],[VDSMAX]]<=30)","v":true},{"$f":"AND(Vi<=36,Vi>=20,Load_Switch_NFET[[#This Row],[VDSMAX]]=40)","v":false},{"$f":"AND(Vi<=54,Vi>=25,Load_Switch_NFET[[#This Row],[VDSMAX]]=60)","v":false},{"$f":"AND(Vi<=72,Vi>=36,Load_Switch_NFET[[#This Row],[VDSMAX]]=80)","v":false},{"$f":"AND(Vi<=90,Vi>=48,Load_Switch_NFET[[#This Row],[VDSMAX]]=100)","v":false},true,{"$f":"AND(((VGS_DR)<2.5),('NFET Data'!$AC4<>\"(Null)\"))","v":false},{"$f":"AND(((VGS_DR)>=2.5),((VGS_DR)<3),OR(('NFET Data'!$AD4<>\"(Null)\"),('NFET Data'!$AC4<>\"(Null)\")))","v":false},{"$f":"AND(((VGS_DR)>=3),((VGS_DR)<4.5),OR(('NFET Data'!$AE4<>\"(Null)\"),('NFET Data'!$AD4<>\"(Null)\"),('NFET Data'!$AC4<>\"(Null)\")))","v":false},{"$f":"AND(((VGS_DR)>=4.5),((VGS_DR)<6),OR(('NFET Data'!$AF4<>\"(Null)\"),('NFET Data'!$AE4<>\"(Null)\"),('NFET Data'!$AD4<>\"(Null)\"),('NFET Data'!$AC4<>\"(Null)\")))","v":false},{"$f":"AND(((VGS_DR)>=6),((VGS_DR)<8),OR(('NFET Data'!$AG4<>\"(Null)\"),('NFET Data'!$AF4<>\"(Null)\"),('NFET Data'!$AE4<>\"(Null)\"),('NFET Data'!$AD4<>\"(Null)\"),('NFET Data'!$AC4<>\"(Null)\")))","v":false},{"$f":"AND(((VGS_DR)>=8),((VGS_DR)<10),OR(('NFET Data'!$AH4<>\"(Null)\"),('NFET Data'!$AG4<>\"(Null)\"),('NFET Data'!$AF4<>\"(Null)\"),('NFET Data'!$AE4<>\"(Null)\"),('NFET Data'!$AD4<>\"(Null)\"),('NFET Data'!$AC4<>\"(Null)\")))","v":false},{"$f":"AND(((VGS_DR)>=10),OR(('NFET Data'!$AI4<>\"(Null)\"),('NFET Data'!$AH4<>\"(Null)\"),('NFET Data'!$AG4<>\"(Null)\"),('NFET Data'!$AF4<>\"(Null)\"),('NFET Data'!$AE4<>\"(Null)\"),('NFET Data'!$AD4<>\"(Null)\"),('NFET Data'!$AC4<>\"(Null)\")))","v":true},true,false,null,null,"SELECT RDS(ON) CLOSEST TO VDRIVE FOR FET 1"]
[{"$f":"IF(R5,Load_Switch_NFET[[#This Row],[PARTNUMBER]],\"\")","v":""},"CSD16404Q5A",{"$f":"AND((Load_Switch_NFET[[#This Row],[VDSMAX]]>=Vi*1.1),(Load_Switch_NFET[[#This Row],[VGSMAX]]>=(VGS_DR)*1.1),(Load_Switch_NFET[[#This Row],[IDSMAX]]>=Io),VGS_DR>=1.8)","v":false},{"$f":"AND(Vi<=27,Load_Switch_NFET[[#This Row],[VDSMAX]]<=30)","v":true},{"$f":"AND(Vi<=36,Vi>=20,Load_Switch_NFET[[#This Row],[VDSMAX]]=40)","v":false},{"$f":"AND(Vi<=54,Vi>=25,Load_Switch_NFET[[#This Row],[VDSMAX]]=60)","v":false},{"$f":"AND(Vi<=72,Vi>=36,Load_Switch_NFET[[#This Row],[VDSMAX]]=80)","v":false},{"$f":"AND(Vi<=90,Vi>=48,Load_Switch_NFET[[#This Row],[VDSMAX]]=100)","v":false},true,{"$f":"AND(((VGS_DR)<2.5),('NFET Data'!$AC5<>\"(Null)\"))","v":false},{"$f":"AND(((VGS_DR)>=2.5),((VGS_DR)<3),OR(('NFET Data'!$AD5<>\"(Null)\"),('NFET Data'!$AC5<>\"(Null)\")))","v":false},{"$f":"AND(((VGS_DR)>=3),((VGS_DR)<4.5),OR(('NFET Data'!$AE5<>\"(Null)\"),('NFET Data'!$AD5<>\"(Null)\"),('NFET Data'!$AC5<>\"(Null)\")))","v":false},{"$f":"AND(((VGS_DR)>=4.5),((VGS_DR)<6),OR(('NFET Data'!$AF5<>\"(Null)\"),('NFET Data'!$AE5<>\"(Null)\"),('NFET Data'!$AD5<>\"(Null)\"),('NFET Data'!$AC5<>\"(Null)\")))","v":false},{"$f":"AND(((VGS_DR)>=6),((VGS_DR)<8),OR(('NFET Data'!$AG5<>\"(Null)\"),('NFET Data'!$AF5<>\"(Null)\"),('NFET Data'!$AE5<>\"(Null)\"),('NFET Data'!$AD5<>\"(Null)\"),('NFET Data'!$AC5<>\"(Null)\")))","v":false},{"$f":"AND(((VGS_DR)>=8),((VGS_DR)<10),OR(('NFET Data'!$AH5<>\"(Null)\"),('NFET Data'!$AG5<>\"(Null)\"),('NFET Data'!$AF5<>\"(Null)\"),('NFET Data'!$AE5<>\"(Null)\"),('NFET Data'!$AD5<>\"(Null)\"),('NFET Data'!$AC5<>\"(Null)\")))","v":false},{"$f":"AND(((VGS_DR)>=10),OR(('NFET Data'!$AI5<>\"(Null)\"),('NFET Data'!$AH5<>\"(Null)\"),('NFET Data'!$AG5<>\"(Null)\"),('NFET Data'!$AF5<>\"(Null)\"),('NFET Data'!$AE5<>\"(Null)\"),('NFET Data'!$AD5<>\"(Null)\"),('NFET Data'!$AC5<>\"(Null)\")))","v":true},true,false,null,null,null,"RDSON18","RDSON25","RDSON3","RDSON45","RDSON6","RDSON8","RDSON10"]
[{"$f":"IF(R6,Load_Switch_NFET[[#This Row],[PARTNUMBER]],\"\")","v":""},"CSD16406Q3",{"$f":"AND((Load_Switch_NFET[[#This Row],[VDSMAX]]>=Vi*1.1),(Load_Switch_NFET[[#This Row],[VGSMAX]]>=(VGS_DR)*1.1),(Load_Switch_NFET[[#This Row],[IDSMAX]]>=Io),VGS_DR>=1.8)","v":false},{"$f":"AND(Vi<=27,Load_Switch_NFET[[#This Row],[VDSMAX]]<=30)","v":true},{"$f":"AND(Vi<=36,Vi>=20,Load_Switch_NFET[[#This Row],[VDSMAX]]=40)","v":false},{"$f":"AND(Vi<=54,Vi>=25,Load_Switch_NFET[[#This Row],[VDSMAX]]=60)","v":false},{"$f":"AND(Vi<=72,Vi>=36,Load_Switch_NFET[[#This Row],[VDSMAX]]=80)","v":false},{"$f":"AND(Vi<=90,Vi>=48,Load_Switch_NFET[[#This Row],[VDSMAX]]=100)","v":false},true,{"$f":"AND(((VGS_DR)<2.5),('NFET Data'!$AC6<>\"(Null)\"))","v":false},{"$f":"AND(((VGS_DR)>=2.5),((VGS_DR)<3),OR(('NFET Data'!$AD6<>\"(Null)\"),('NFET Data'!$AC6<>\"(Null)\")))","v":false},{"$f":"AND(((VGS_DR)>=3),((VGS_DR)<4.5),OR(('NFET Data'!$AE6<>\"(Null)\"),('NFET Data'!$AD6<>\"(Null)\"),('NFET Data'!$AC6<>\"(Null)\")))","v":false},{"$f":"AND(((VGS_DR)>=4.5),((VGS_DR)<6),OR(('NFET Data'!$AF6<>\"(Null)\"),('NFET Data'!$AE6<>\"(Null)\"),('NFET Data'!$AD6<>\"(Null)\"),('NFET Data'!$AC6<>\"(Null)\")))","v":false},{"$f":"AND(((VGS_DR)>=6),((VGS_DR)<8),OR(('NFET Data'!$AG6<>\"(Null)\"),('NFET Data'!$AF6<>\"(Null)\"),('NFET Data'!$AE6<>\"(Null)\"),('NFET Data'!$AD6<>\"(Null)\"),('NFET Data'!$AC6<>\"(Null)\")))","v":false},{"$f":"AND(((VGS_DR)>=8),((VGS_DR)<10),OR(('NFET Data'!$AH6<>\"(Null)\"),('NFET Data'!$AG6<>\"(Null)\"),('NFET Data'!$AF6<>\"(Null)\"),('NFET Data'!$AE6<>\"(Null)\"),('NFET Data'!$AD6<>\"(Null)\"),('NFET Data'!$AC6<>\"(Null)\")))","v":false},{"$f":"AND(((VGS_DR)>=10),OR(('NFET Data'!$AI6<>\"(Null)\"),('NFET Data'!$AH6<>\"(Null)\"),('NFET Data'!$AG6<>\"(Null)\"),('NFET Data'!$AF6<>\"(Null)\"),('NFET Data'!$AE6<>\"(Null)\"),('NFET Data'!$AD6<>\"(Null)\"),('NFET Data'!$AC6<>\"(Null)\")))","v":true},true,false,null,null,null,"1.8V<=VGS<2.5V","2.5V<=VGS<3V","3V<=VGS<4V","4V<=VGS<5.5V","5.5V<=VGS<7","7V<=VGS<9V","9V<=VGS<=16V","RDSON"]
[{"$f":"IF(R7,Load_Switch_NFET[[#This Row],[PARTNUMBER]],\"\")","v":""},"CSD16407Q5",{"$f":"AND((Load_Switch_NFET[[#This Row],[VDSMAX]]>=Vi*1.1),(Load_Switch_NFET[[#This Row],[VGSMAX]]>=(VGS_DR)*1.1),(Load_Switch_NFET[[#This Row],[IDSMAX]]>=Io),VGS_DR>=1.8)","v":false},{"$f":"AND(Vi<=27,Load_Switch_NFET[[#This Row],[VDSMAX]]<=30)","v":true},{"$f":"AND(Vi<=36,Vi>=20,Load_Switch_NFET[[#This Row],[VDSMAX]]=40)","v":false},{"$f":"AND(Vi<=54,Vi>=25,Load_Switch_NFET[[#This Row],[VDSMAX]]=60)","v":false},{"$f":"AND(Vi<=72,Vi>=36,Load_Switch_NFET[[#This Row],[VDSMAX]]=80)","v":false},{"$f":"AND(Vi<=90,Vi>=48,Load_Switch_NFET[[#This Row],[VDSMAX]]=100)","v":false},true,{"$f":"AND(((VGS_DR)<2.5),('NFET Data'!$AC7<>\"(Null)\"))","v":false},{"$f":"AND(((VGS_DR)>=2.5),((VGS_DR)<3),OR(('NFET Data'!$AD7<>\"(Null)\"),('NFET Data'!$AC7<>\"(Null)\")))","v":false},{"$f":"AND(((VGS_DR)>=3),((VGS_DR)<4.5),OR(('NFET Data'!$AE7<>\"(Null)\"),('NFET Data'!$AD7<>\"(Null)\"),('NFET Data'!$AC7<>\"(Null)\")))","v":false},{"$f":"AND(((VGS_DR)>=4.5),((VGS_DR)<6),OR(('NFET Data'!$AF7<>\"(Null)\"),('NFET Data'!$AE7<>\"(Null)\"),('NFET Data'!$AD7<>\"(Null)\"),('NFET Data'!$AC7<>\"(Null)\")))","v":false},{"$f":"AND(((VGS_DR)>=6),((VGS_DR)<8),OR(('NFET Data'!$AG7<>\"(Null)\"),('NFET Data'!$AF7<>\"(Null)\"),('NFET Data'!$AE7<>\"(Null)\"),('NFET Data'!$AD7<>\"(Null)\"),('NFET Data'!$AC7<>\"(Null)\")))","v":false},{"$f":"AND(((VGS_DR)>=8),((VGS_DR)<10),OR(('NFET Data'!$AH7<>\"(Null)\"),('NFET Data'!$AG7<>\"(Null)\"),('NFET Data'!$AF7<>\"(Null)\"),('NFET Data'!$AE7<>\"(Null)\"),('NFET Data'!$AD7<>\"(Null)\"),('NFET Data'!$AC7<>\"(Null)\")))","v":false},{"$f":"AND(((VGS_DR)>=10),OR(('NFET Data'!$AI7<>\"(Null)\"),('NFET Data'!$AH7<>\"(Null)\"),('NFET Data'!$AG7<>\"(Null)\"),('NFET Data'!$AF7<>\"(Null)\"),('NFET Data'!$AE7<>\"(Null)\"),('NFET Data'!$AD7<>\"(Null)\"),('NFET Data'!$AC7<>\"(Null)\")))","v":true},true,false,null,null,null,{"$f":"((VGS_DR)>=1.8)","v":true},{"$f":"((VGS_DR)>=2.2)","v":true},{"$f":"((VGS_DR)>=2.7)","v":true},{"$f":"((VGS_DR)>=4)","v":true},{"$f":"((VGS_DR)>=5.5)","v":true},{"$f":"((VGS_DR)>=7)","v":true},{"$f":"((VGS_DR)>=8.5)","v":true},{"$f":"IF(AB10,LOOKUP(Part_Number,Load_Switch_NFET[PARTNUMBER],Load_Switch_NFET[RDSON10])*1000,IF(AA10,LOOKUP(Part_Number,Load_Switch_NFET[PARTNUMBER],Load_Switch_NFET[RDSON8])*1000,IF(Z10,LOOKUP(Part_Number,Load_Switch_NFET[PARTNUMBER],Load_Switch_NFET[RDSON6])*1000,IF(Y10,LOOKUP(Part_Number,Load_Switch_NFET[PARTNUMBER],Load_Switch_NFET[RDSON45])*1000,IF(X10,LOOKUP(Part_Number,Load_Switch_NFET[PARTNUMBER],Load_Switch_NFET[RDSON3])*1000,IF(W10,LOOKUP(Part_Number,Load_Switch_NFET[PARTNUMBER],Load_Switch_NFET[RDSON25])*1000,IF(V10,LOOKUP(Part_Number,Load_Switch_NFET[PARTNUMBER],Load_Switch_NFET[RDSON18])*1000,\"\")))))))","v":0.5}]
[{"$f":"IF(R8,Load_Switch_NFET[[#This Row],[PARTNUMBER]],\"\")","v":""},"CSD16408Q5",{"$f":"AND((Load_Switch_NFET[[#This Row],[VDSMAX]]>=Vi*1.1),(Load_Switch_NFET[[#This Row],[VGSMAX]]>=(VGS_DR)*1.1),(Load_Switch_NFET[[#This Row],[IDSMAX]]>=Io),VGS_DR>=1.8)","v":false},{"$f":"AND(Vi<=27,Load_Switch_NFET[[#This Row],[VDSMAX]]<=30)","v":true},{"$f":"AND(Vi<=36,Vi>=20,Load_Switch_NFET[[#This Row],[VDSMAX]]=40)","v":false},{"$f":"AND(Vi<=54,Vi>=25,Load_Switch_NFET[[#This Row],[VDSMAX]]=60)","v":false},{"$f":"AND(Vi<=72,Vi>=36,Load_Switch_NFET[[#This Row],[VDSMAX]]=80)","v":false},{"$f":"AND(Vi<=90,Vi>=48,Load_Switch_NFET[[#This Row],[VDSMAX]]=100)","v":false},true,{"$f":"AND(((VGS_DR)<2.5),('NFET Data'!$AC8<>\"(Null)\"))","v":false},{"$f":"AND(((VGS_DR)>=2.5),((VGS_DR)<3),OR(('NFET Data'!$AD8<>\"(Null)\"),('NFET Data'!$AC8<>\"(Null)\")))","v":false},{"$f":"AND(((VGS_DR)>=3),((VGS_DR)<4.5),OR(('NFET Data'!$AE8<>\"(Null)\"),('NFET Data'!$AD8<>\"(Null)\"),('NFET Data'!$AC8<>\"(Null)\")))","v":false},{"$f":"AND(((VGS_DR)>=4.5),((VGS_DR)<6),OR(('NFET Data'!$AF8<>\"(Null)\"),('NFET Data'!$AE8<>\"(Null)\"),('NFET Data'!$AD8<>\"(Null)\"),('NFET Data'!$AC8<>\"(Null)\")))","v":false},{"$f":"AND(((VGS_DR)>=6),((VGS_DR)<8),OR(('NFET Data'!$AG8<>\"(Null)\"),('NFET Data'!$AF8<>\"(Null)\"),('NFET Data'!$AE8<>\"(Null)\"),('NFET Data'!$AD8<>\"(Null)\"),('NFET Data'!$AC8<>\"(Null)\")))","v":false},{"$f":"AND(((VGS_DR)>=8),((VGS_DR)<10),OR(('NFET Data'!$AH8<>\"(Null)\"),('NFET Data'!$AG8<>\"(Null)\"),('NFET Data'!$AF8<>\"(Null)\"),('NFET Data'!$AE8<>\"(Null)\"),('NFET Data'!$AD8<>\"(Null)\"),('NFET Data'!$AC8<>\"(Null)\")))","v":false},{"$f":"AND(((VGS_DR)>=10),OR(('NFET Data'!$AI8<>\"(Null)\"),('NFET Data'!$AH8<>\"(Null)\"),('NFET Data'!$AG8<>\"(Null)\"),('NFET Data'!$AF8<>\"(Null)\"),('NFET Data'!$AE8<>\"(Null)\"),('NFET Data'!$AD8<>\"(Null)\"),('NFET Data'!$AC8<>\"(Null)\")))","v":true},true,false,null,null,null,{"$f":"IF(LOOKUP(Part_Number,Load_Switch_NFET[PARTNUMBER],Load_Switch_NFET[RDSON18])=\"(NULL)\",\"0\",\"1\")","v":"0"},{"$f":"IF(LOOKUP(Part_Number,Load_Switch_NFET[PARTNUMBER],Load_Switch_NFET[RDSON25])=\"(NULL)\",\"0\",\"1\")","v":"0"},{"$f":"IF(LOOKUP(Part_Number,Load_Switch_NFET[PARTNUMBER],Load_Switch_NFET[RDSON3])=\"(NULL)\",\"0\",\"1\")","v":"0"},{"$f":"IF(LOOKUP(Part_Number,Load_Switch_NFET[PARTNUMBER],Load_Switch_NFET[RDSON45])=\"(NULL)\",\"0\",\"1\")","v":"1"},{"$f":"IF(LOOKUP(Part_Number,Load_Switch_NFET[PARTNUMBER],Load_Switch_NFET[RDSON6])=\"(NULL)\",\"0\",\"1\")","v":"0"},{"$f":"IF(LOOKUP(Part_Number,Load_Switch_NFET[PARTNUMBER],Load_Switch_NFET[RDSON8])=\"(NULL)\",\"0\",\"1\")","v":"0"},{"$f":"IF(LOOKUP(Part_Number,Load_Switch_NFET[PARTNUMBER],Load_Switch_NFET[RDSON10])=\"(NULL)\",\"0\",\"1\")","v":"1"}]
[{"$f":"IF(R9,Load_Switch_NFET[[#This Row],[PARTNUMBER]],\"\")","v":""},"CSD16409Q3",{"$f":"AND((Load_Switch_NFET[[#This Row],[VDSMAX]]>=Vi*1.1),(Load_Switch_NFET[[#This Row],[VGSMAX]]>=(VGS_DR)*1.1),(Load_Switch_NFET[[#This Row],[IDSMAX]]>=Io),VGS_DR>=1.8)","v":false},{"$f":"AND(Vi<=27,Load_Switch_NFET[[#This Row],[VDSMAX]]<=30)","v":true},{"$f":"AND(Vi<=36,Vi>=20,Load_Switch_NFET[[#This Row],[VDSMAX]]=40)","v":false},{"$f":"AND(Vi<=54,Vi>=25,Load_Switch_NFET[[#This Row],[VDSMAX]]=60)","v":false},{"$f":"AND(Vi<=72,Vi>=36,Load_Switch_NFET[[#This Row],[VDSMAX]]=80)","v":false},{"$f":"AND(Vi<=90,Vi>=48,Load_Switch_NFET[[#This Row],[VDSMAX]]=100)","v":false},true,{"$f":"AND(((VGS_DR)<2.5),('NFET Data'!$AC9<>\"(Null)\"))","v":false},{"$f":"AND(((VGS_DR)>=2.5),((VGS_DR)<3),OR(('NFET Data'!$AD9<>\"(Null)\"),('NFET Data'!$AC9<>\"(Null)\")))","v":false},{"$f":"AND(((VGS_DR)>=3),((VGS_DR)<4.5),OR(('NFET Data'!$AE9<>\"(Null)\"),('NFET Data'!$AD9<>\"(Null)\"),('NFET Data'!$AC9<>\"(Null)\")))","v":false},{"$f":"AND(((VGS_DR)>=4.5),((VGS_DR)<6),OR(('NFET Data'!$AF9<>\"(Null)\"),('NFET Data'!$AE9<>\"(Null)\"),('NFET Data'!$AD9<>\"(Null)\"),('NFET Data'!$AC9<>\"(Null)\")))","v":false},{"$f":"AND(((VGS_DR)>=6),((VGS_DR)<8),OR(('NFET Data'!$AG9<>\"(Null)\"),('NFET Data'!$AF9<>\"(Null)\"),('NFET Data'!$AE9<>\"(Null)\"),('NFET Data'!$AD9<>\"(Null)\"),('NFET Data'!$AC9<>\"(Null)\")))","v":false},{"$f":"AND(((VGS_DR)>=8),((VGS_DR)<10),OR(('NFET Data'!$AH9<>\"(Null)\"),('NFET Data'!$AG9<>\"(Null)\"),('NFET Data'!$AF9<>\"(Null)\"),('NFET Data'!$AE9<>\"(Null)\"),('NFET Data'!$AD9<>\"(Null)\"),('NFET Data'!$AC9<>\"(Null)\")))","v":false},{"$f":"AND(((VGS_DR)>=10),OR(('NFET Data'!$AI9<>\"(Null)\"),('NFET Data'!$AH9<>\"(Null)\"),('NFET Data'!$AG9<>\"(Null)\"),('NFET Data'!$AF9<>\"(Null)\"),('NFET Data'!$AE9<>\"(Null)\"),('NFET Data'!$AD9<>\"(Null)\"),('NFET Data'!$AC9<>\"(Null)\")))","v":true},true,false,null,null,null,{"$f":"AND(V7,V8=\"1\")","v":false},{"$f":"AND(W7,W8=\"1\")","v":false},{"$f":"AND(X7,X8=\"1\")","v":false},{"$f":"AND(Y7,Y8=\"1\")","v":true},false,false,true]
[{"$f":"IF(R10,Load_Switch_NFET[[#This Row],[PARTNUMBER]],\"\")","v":""},"CSD16413Q5A",{"$f":"AND((Load_Switch_NFET[[#This Row],[VDSMAX]]>=Vi*1.1),(Load_Switch_NFET[[#This Row],[VGSMAX]]>=(VGS_DR)*1.1),(Load_Switch_NFET[[#This Row],[IDSMAX]]>=Io),VGS_DR>=1.8)","v":false},{"$f":"AND(Vi<=27,Load_Switch_NFET[[#This Row],[VDSMAX]]<=30)","v":true},{"$f":"AND(Vi<=36,Vi>=20,Load_Switch_NFET[[#This Row],[VDSMAX]]=40)","v":false},{"$f":"AND(Vi<=54,Vi>=25,Load_Switch_NFET[[#This Row],[VDSMAX]]=60)","v":false},{"$f":"AND(Vi<=72,Vi>=36,Load_Switch_NFET[[#This Row],[VDSMAX]]=80)","v":false},{"$f":"AND(Vi<=90,Vi>=48,Load_Switch_NFET[[#This Row],[VDSMAX]]=100)","v":false},true,{"$f":"AND(((VGS_DR)<2.5),('NFET Data'!$AC10<>\"(Null)\"))","v":false},{"$f":"AND(((VGS_DR)>=2.5),((VGS_DR)<3),OR(('NFET Data'!$AD10<>\"(Null)\"),('NFET Data'!$AC10<>\"(Null)\")))","v":false},{"$f":"AND(((VGS_DR)>=3),((VGS_DR)<4.5),OR(('NFET Data'!$AE10<>\"(Null)\"),('NFET Data'!$AD10<>\"(Null)\"),('NFET Data'!$AC10<>\"(Null)\")))","v":false},{"$f":"AND(((VGS_DR)>=4.5),((VGS_DR)<6),OR(('NFET Data'!$AF10<>\"(Null)\"),('NFET Data'!$AE10<>\"(Null)\"),('NFET Data'!$AD10<>\"(Null)\"),('NFET Data'!$AC10<>\"(Null)\")))","v":false},{"$f":"AND(((VGS_DR)>=6),((VGS_DR)<8),OR(('NFET Data'!$AG10<>\"(Null)\"),('NFET Data'!$AF10<>\"(Null)\"),('NFET Data'!$AE10<>\"(Null)\"),('NFET Data'!$AD10<>\"(Null)\"),('NFET Data'!$AC10<>\"(Null)\")))","v":false},{"$f":"AND(((VGS_DR)>=8),((VGS_DR)<10),OR(('NFET Data'!$AH10<>\"(Null)\"),('NFET Data'!$AG10<>\"(Null)\"),('NFET Data'!$AF10<>\"(Null)\"),('NFET Data'!$AE10<>\"(Null)\"),('NFET Data'!$AD10<>\"(Null)\"),('NFET Data'!$AC10<>\"(Null)\")))","v":false},{"$f":"AND(((VGS_DR)>=10),OR(('NFET Data'!$AI10<>\"(Null)\"),('NFET Data'!$AH10<>\"(Null)\"),('NFET Data'!$AG10<>\"(Null)\"),('NFET Data'!$AF10<>\"(Null)\"),('NFET Data'!$AE10<>\"(Null)\"),('NFET Data'!$AD10<>\"(Null)\"),('NFET Data'!$AC10<>\"(Null)\")))","v":true},true,false,null,null,{"$f":"OR(V9:AB9)","v":true},{"$f":"AND($U$7,V7,V8=\"1\")","v":false},{"$f":"AND($U$7,W7,W8=\"1\")","v":false},false,true,false,false,true]
[{"$f":"IF(R11,Load_Switch_NFET[[#This Row],[PARTNUMBER]],\"\")","v":""},"CSD16414Q5",{"$f":"AND((Load_Switch_NFET[[#This Row],[VDSMAX]]>=Vi*1.1),(Load_Switch_NFET[[#This Row],[VGSMAX]]>=(VGS_DR)*1.1),(Load_Switch_NFET[[#This Row],[IDSMAX]]>=Io),VGS_DR>=1.8)","v":false},{"$f":"AND(Vi<=27,Load_Switch_NFET[[#This Row],[VDSMAX]]<=30)","v":true},{"$f":"AND(Vi<=36,Vi>=20,Load_Switch_NFET[[#This Row],[VDSMAX]]=40)","v":false},{"$f":"AND(Vi<=54,Vi>=25,Load_Switch_NFET[[#This Row],[VDSMAX]]=60)","v":false},{"$f":"AND(Vi<=72,Vi>=36,Load_Switch_NFET[[#This Row],[VDSMAX]]=80)","v":false},{"$f":"AND(Vi<=90,Vi>=48,Load_Switch_NFET[[#This Row],[VDSMAX]]=100)","v":false},true,{"$f":"AND(((VGS_DR)<2.5),('NFET Data'!$AC11<>\"(Null)\"))","v":false},{"$f":"AND(((VGS_DR)>=2.5),((VGS_DR)<3),OR(('NFET Data'!$AD11<>\"(Null)\"),('NFET Data'!$AC11<>\"(Null)\")))","v":false},{"$f":"AND(((VGS_DR)>=3),((VGS_DR)<4.5),OR(('NFET Data'!$AE11<>\"(Null)\"),('NFET Data'!$AD11<>\"(Null)\"),('NFET Data'!$AC11<>\"(Null)\")))","v":false},{"$f":"AND(((VGS_DR)>=4.5),((VGS_DR)<6),OR(('NFET Data'!$AF11<>\"(Null)\"),('NFET Data'!$AE11<>\"(Null)\"),('NFET Data'!$AD11<>\"(Null)\"),('NFET Data'!$AC11<>\"(Null)\")))","v":false},{"$f":"AND(((VGS_DR)>=6),((VGS_DR)<8),OR(('NFET Data'!$AG11<>\"(Null)\"),('NFET Data'!$AF11<>\"(Null)\"),('NFET Data'!$AE11<>\"(Null)\"),('NFET Data'!$AD11<>\"(Null)\"),('NFET Data'!$AC11<>\"(Null)\")))","v":false},{"$f":"AND(((VGS_DR)>=8),((VGS_DR)<10),OR(('NFET Data'!$AH11<>\"(Null)\"),('NFET Data'!$AG11<>\"(Null)\"),('NFET Data'!$AF11<>\"(Null)\"),('NFET Data'!$AE11<>\"(Null)\"),('NFET Data'!$AD11<>\"(Null)\"),('NFET Data'!$AC11<>\"(Null)\")))","v":false},{"$f":"AND(((VGS_DR)>=10),OR(('NFET Data'!$AI11<>\"(Null)\"),('NFET Data'!$AH11<>\"(Null)\"),('NFET Data'!$AG11<>\"(Null)\"),('NFET Data'!$AF11<>\"(Null)\"),('NFET Data'!$AE11<>\"(Null)\"),('NFET Data'!$AD11<>\"(Null)\"),('NFET Data'!$AC11<>\"(Null)\")))","v":true},true,false]
[{"$f":"IF(R12,Load_Switch_NFET[[#This Row],[PARTNUMBER]],\"\")","v":""},"CSD16415Q5",{"$f":"AND((Load_Switch_NFET[[#This Row],[VDSMAX]]>=Vi*1.1),(Load_Switch_NFET[[#This Row],[VGSMAX]]>=(VGS_DR)*1.1),(Load_Switch_NFET[[#This Row],[IDSMAX]]>=Io),VGS_DR>=1.8)","v":false},{"$f":"AND(Vi<=27,Load_Switch_NFET[[#This Row],[VDSMAX]]<=30)","v":true},{"$f":"AND(Vi<=36,Vi>=20,Load_Switch_NFET[[#This Row],[VDSMAX]]=40)","v":false},{"$f":"AND(Vi<=54,Vi>=25,Load_Switch_NFET[[#This Row],[VDSMAX]]=60)","v":false},{"$f":"AND(Vi<=72,Vi>=36,Load_Switch_NFET[[#This Row],[VDSMAX]]=80)","v":false},{"$f":"AND(Vi<=90,Vi>=48,Load_Switch_NFET[[#This Row],[VDSMAX]]=100)","v":false},true,{"$f":"AND(((VGS_DR)<2.5),('NFET Data'!$AC12<>\"(Null)\"))","v":false},{"$f":"AND(((VGS_DR)>=2.5),((VGS_DR)<3),OR(('NFET Data'!$AD12<>\"(Null)\"),('NFET Data'!$AC12<>\"(Null)\")))","v":false},{"$f":"AND(((VGS_DR)>=3),((VGS_DR)<4.5),OR(('NFET Data'!$AE12<>\"(Null)\"),('NFET Data'!$AD12<>\"(Null)\"),('NFET Data'!$AC12<>\"(Null)\")))","v":false},{"$f":"AND(((VGS_DR)>=4.5),((VGS_DR)<6),OR(('NFET Data'!$AF12<>\"(Null)\"),('NFET Data'!$AE12<>\"(Null)\"),('NFET Data'!$AD12<>\"(Null)\"),('NFET Data'!$AC12<>\"(Null)\")))","v":false},{"$f":"AND(((VGS_DR)>=6),((VGS_DR)<8),OR(('NFET Data'!$AG12<>\"(Null)\"),('NFET Data'!$AF12<>\"(Null)\"),('NFET Data'!$AE12<>\"(Null)\"),('NFET Data'!$AD12<>\"(Null)\"),('NFET Data'!$AC12<>\"(Null)\")))","v":false},{"$f":"AND(((VGS_DR)>=8),((VGS_DR)<10),OR(('NFET Data'!$AH12<>\"(Null)\"),('NFET Data'!$AG12<>\"(Null)\"),('NFET Data'!$AF12<>\"(Null)\"),('NFET Data'!$AE12<>\"(Null)\"),('NFET Data'!$AD12<>\"(Null)\"),('NFET Data'!$AC12<>\"(Null)\")))","v":false},{"$f":"AND(((VGS_DR)>=10),OR(('NFET Data'!$AI12<>\"(Null)\"),('NFET Data'!$AH12<>\"(Null)\"),('NFET Data'!$AG12<>\"(Null)\"),('NFET Data'!$AF12<>\"(Null)\"),('NFET Data'!$AE12<>\"(Null)\"),('NFET Data'!$AD12<>\"(Null)\"),('NFET Data'!$AC12<>\"(Null)\")))","v":true},true,false,null,null,"SELECT RDS(ON) CLOSEST TO VDRIVE FOR FET 2"]
[{"$f":"IF(R13,Load_Switch_NFET[[#This Row],[PARTNUMBER]],\"\")","v":""},"CSD16556Q5B",{"$f":"AND((Load_Switch_NFET[[#This Row],[VDSMAX]]>=Vi*1.1),(Load_Switch_NFET[[#This Row],[VGSMAX]]>=(VGS_DR)*1.1),(Load_Switch_NFET[[#This Row],[IDSMAX]]>=Io),VGS_DR>=1.8)","v":false},{"$f":"AND(Vi<=27,Load_Switch_NFET[[#This Row],[VDSMAX]]<=30)","v":true},{"$f":"AND(Vi<=36,Vi>=20,Load_Switch_NFET[[#This Row],[VDSMAX]]=40)","v":false},{"$f":"AND(Vi<=54,Vi>=25,Load_Switch_NFET[[#This Row],[VDSMAX]]=60)","v":false},{"$f":"AND(Vi<=72,Vi>=36,Load_Switch_NFET[[#This Row],[VDSMAX]]=80)","v":false},{"$f":"AND(Vi<=90,Vi>=48,Load_Switch_NFET[[#This Row],[VDSMAX]]=100)","v":false},true,{"$f":"AND(((VGS_DR)<2.5),('NFET Data'!$AC13<>\"(Null)\"))","v":false},{"$f":"AND(((VGS_DR)>=2.5),((VGS_DR)<3),OR(('NFET Data'!$AD13<>\"(Null)\"),('NFET Data'!$AC13<>\"(Null)\")))","v":false},{"$f":"AND(((VGS_DR)>=3),((VGS_DR)<4.5),OR(('NFET Data'!$AE13<>\"(Null)\"),('NFET Data'!$AD13<>\"(Null)\"),('NFET Data'!$AC13<>\"(Null)\")))","v":false},{"$f":"AND(((VGS_DR)>=4.5),((VGS_DR)<6),OR(('NFET Data'!$AF13<>\"(Null)\"),('NFET Data'!$AE13<>\"(Null)\"),('NFET Data'!$AD13<>\"(Null)\"),('NFET Data'!$AC13<>\"(Null)\")))","v":false},{"$f":"AND(((VGS_DR)>=6),((VGS_DR)<8),OR(('NFET Data'!$AG13<>\"(Null)\"),('NFET Data'!$AF13<>\"(Null)\"),('NFET Data'!$AE13<>\"(Null)\"),('NFET Data'!$AD13<>\"(Null)\"),('NFET Data'!$AC13<>\"(Null)\")))","v":false},{"$f":"AND(((VGS_DR)>=8),((VGS_DR)<10),OR(('NFET Data'!$AH13<>\"(Null)\"),('NFET Data'!$AG13<>\"(Null)\"),('NFET Data'!$AF13<>\"(Null)\"),('NFET Data'!$AE13<>\"(Null)\"),('NFET Data'!$AD13<>\"(Null)\"),('NFET Data'!$AC13<>\"(Null)\")))","v":false},{"$f":"AND(((VGS_DR)>=10),OR(('NFET Data'!$AI13<>\"(Null)\"),('NFET Data'!$AH13<>\"(Null)\"),('NFET Data'!$AG13<>\"(Null)\"),('NFET Data'!$AF13<>\"(Null)\"),('NFET Data'!$AE13<>\"(Null)\"),('NFET Data'!$AD13<>\"(Null)\"),('NFET Data'!$AC13<>\"(Null)\")))","v":true},true,false,null,null,null,"RDSON18","RDSON25","RDSON3","RDSON45","RDSON6","RDSON8","RDSON10"]
[{"$f":"IF(R14,Load_Switch_NFET[[#This Row],[PARTNUMBER]],\"\")","v":""},"CSD16570Q5B",{"$f":"AND((Load_Switch_NFET[[#This Row],[VDSMAX]]>=Vi*1.1),(Load_Switch_NFET[[#This Row],[VGSMAX]]>=(VGS_DR)*1.1),(Load_Switch_NFET[[#This Row],[IDSMAX]]>=Io),VGS_DR>=1.8)","v":false},{"$f":"AND(Vi<=27,Load_Switch_NFET[[#This Row],[VDSMAX]]<=30)","v":true},{"$f":"AND(Vi<=36,Vi>=20,Load_Switch_NFET[[#This Row],[VDSMAX]]=40)","v":false},{"$f":"AND(Vi<=54,Vi>=25,Load_Switch_NFET[[#This Row],[VDSMAX]]=60)","v":false},{"$f":"AND(Vi<=72,Vi>=36,Load_Switch_NFET[[#This Row],[VDSMAX]]=80)","v":false},{"$f":"AND(Vi<=90,Vi>=48,Load_Switch_NFET[[#This Row],[VDSMAX]]=100)","v":false},true,{"$f":"AND(((VGS_DR)<2.5),('NFET Data'!$AC14<>\"(Null)\"))","v":false},{"$f":"AND(((VGS_DR)>=2.5),((VGS_DR)<3),OR(('NFET Data'!$AD14<>\"(Null)\"),('NFET Data'!$AC14<>\"(Null)\")))","v":false},{"$f":"AND(((VGS_DR)>=3),((VGS_DR)<4.5),OR(('NFET Data'!$AE14<>\"(Null)\"),('NFET Data'!$AD14<>\"(Null)\"),('NFET Data'!$AC14<>\"(Null)\")))","v":false},{"$f":"AND(((VGS_DR)>=4.5),((VGS_DR)<6),OR(('NFET Data'!$AF14<>\"(Null)\"),('NFET Data'!$AE14<>\"(Null)\"),('NFET Data'!$AD14<>\"(Null)\"),('NFET Data'!$AC14<>\"(Null)\")))","v":false},{"$f":"AND(((VGS_DR)>=6),((VGS_DR)<8),OR(('NFET Data'!$AG14<>\"(Null)\"),('NFET Data'!$AF14<>\"(Null)\"),('NFET Data'!$AE14<>\"(Null)\"),('NFET Data'!$AD14<>\"(Null)\"),('NFET Data'!$AC14<>\"(Null)\")))","v":false},{"$f":"AND(((VGS_DR)>=8),((VGS_DR)<10),OR(('NFET Data'!$AH14<>\"(Null)\"),('NFET Data'!$AG14<>\"(Null)\"),('NFET Data'!$AF14<>\"(Null)\"),('NFET Data'!$AE14<>\"(Null)\"),('NFET Data'!$AD14<>\"(Null)\"),('NFET Data'!$AC14<>\"(Null)\")))","v":false},{"$f":"AND(((VGS_DR)>=10),OR(('NFET Data'!$AI14<>\"(Null)\"),('NFET Data'!$AH14<>\"(Null)\"),('NFET Data'!$AG14<>\"(Null)\"),('NFET Data'!$AF14<>\"(Null)\"),('NFET Data'!$AE14<>\"(Null)\"),('NFET Data'!$AD14<>\"(Null)\"),('NFET Data'!$AC14<>\"(Null)\")))","v":true},true,false,null,null,null,"1.8V<=VGS<2.5V","2.5V<=VGS<3V","3V<=VGS<4V","4V<=VGS<5.5V","5.5V<=VGS<7","7V<=VGS<9V","9V<=VGS<=16V","RDSON"]
[{"$f":"IF(R15,Load_Switch_NFET[[#This Row],[PARTNUMBER]],\"\")","v":""},"CSD17501Q5A",{"$f":"AND((Load_Switch_NFET[[#This Row],[VDSMAX]]>=Vi*1.1),(Load_Switch_NFET[[#This Row],[VGSMAX]]>=(VGS_DR)*1.1),(Load_Switch_NFET[[#This Row],[IDSMAX]]>=Io),VGS_DR>=1.8)","v":false},{"$f":"AND(Vi<=27,Load_Switch_NFET[[#This Row],[VDSMAX]]<=30)","v":true},{"$f":"AND(Vi<=36,Vi>=20,Load_Switch_NFET[[#This Row],[VDSMAX]]=40)","v":false},{"$f":"AND(Vi<=54,Vi>=25,Load_Switch_NFET[[#This Row],[VDSMAX]]=60)","v":false},{"$f":"AND(Vi<=72,Vi>=36,Load_Switch_NFET[[#This Row],[VDSMAX]]=80)","v":false},{"$f":"AND(Vi<=90,Vi>=48,Load_Switch_NFET[[#This Row],[VDSMAX]]=100)","v":false},true,{"$f":"AND(((VGS_DR)<2.5),('NFET Data'!$AC15<>\"(Null)\"))","v":false},{"$f":"AND(((VGS_DR)>=2.5),((VGS_DR)<3),OR(('NFET Data'!$AD15<>\"(Null)\"),('NFET Data'!$AC15<>\"(Null)\")))","v":false},{"$f":"AND(((VGS_DR)>=3),((VGS_DR)<4.5),OR(('NFET Data'!$AE15<>\"(Null)\"),('NFET Data'!$AD15<>\"(Null)\"),('NFET Data'!$AC15<>\"(Null)\")))","v":false},{"$f":"AND(((VGS_DR)>=4.5),((VGS_DR)<6),OR(('NFET Data'!$AF15<>\"(Null)\"),('NFET Data'!$AE15<>\"(Null)\"),('NFET Data'!$AD15<>\"(Null)\"),('NFET Data'!$AC15<>\"(Null)\")))","v":false},{"$f":"AND(((VGS_DR)>=6),((VGS_DR)<8),OR(('NFET Data'!$AG15<>\"(Null)\"),('NFET Data'!$AF15<>\"(Null)\"),('NFET Data'!$AE15<>\"(Null)\"),('NFET Data'!$AD15<>\"(Null)\"),('NFET Data'!$AC15<>\"(Null)\")))","v":false},{"$f":"AND(((VGS_DR)>=8),((VGS_DR)<10),OR(('NFET Data'!$AH15<>\"(Null)\"),('NFET Data'!$AG15<>\"(Null)\"),('NFET Data'!$AF15<>\"(Null)\"),('NFET Data'!$AE15<>\"(Null)\"),('NFET Data'!$AD15<>\"(Null)\"),('NFET Data'!$AC15<>\"(Null)\")))","v":false},{"$f":"AND(((VGS_DR)>=10),OR(('NFET Data'!$AI15<>\"(Null)\"),('NFET Data'!$AH15<>\"(Null)\"),('NFET Data'!$AG15<>\"(Null)\"),('NFET Data'!$AF15<>\"(Null)\"),('NFET Data'!$AE15<>\"(Null)\"),('NFET Data'!$AD15<>\"(Null)\"),('NFET Data'!$AC15<>\"(Null)\")))","v":true},true,false,null,null,null,{"$f":"((VGS_DR)>=1.8)","v":true},{"$f":"((VGS_DR)>=2.2)","v":true},{"$f":"((VGS_DR)>=2.7)","v":true},{"$f":"((VGS_DR)>=4)","v":true},{"$f":"((VGS_DR)>=5.5)","v":true},{"$f":"((VGS_DR)>=7)","v":true},{"$f":"((VGS_DR)>=8.5)","v":true},{"$f":"IF(AB18,LOOKUP(Part_Number2,Load_Switch_NFET[PARTNUMBER],Load_Switch_NFET[RDSON10])*1000,IF(AA18,LOOKUP(Part_Number2,Load_Switch_NFET[PARTNUMBER],Load_Switch_NFET[RDSON8])*1000,IF(Z18,LOOKUP(Part_Number2,Load_Switch_NFET[PARTNUMBER],Load_Switch_NFET[RDSON6])*1000,IF(Y18,LOOKUP(Part_Number2,Load_Switch_NFET[PARTNUMBER],Load_Switch_NFET[RDSON45])*1000,IF(X18,LOOKUP(Part_Number2,Load_Switch_NFET[PARTNUMBER],Load_Switch_NFET[RDSON3])*1000,IF(W18,LOOKUP(Part_Number2,Load_Switch_NFET[PARTNUMBER],Load_Switch_NFET[RDSON25])*1000,IF(V18,LOOKUP(Part_Number2,Load_Switch_NFET[PARTNUMBER],Load_Switch_NFET[RDSON18])*1000,\"\")))))))","v":{"$error":"#N/A"}}]
[{"$f":"IF(R16,Load_Switch_NFET[[#This Row],[PARTNUMBER]],\"\")","v":""},"CSD17505Q5A",{"$f":"AND((Load_Switch_NFET[[#This Row],[VDSMAX]]>=Vi*1.1),(Load_Switch_NFET[[#This Row],[VGSMAX]]>=(VGS_DR)*1.1),(Load_Switch_NFET[[#This Row],[IDSMAX]]>=Io),VGS_DR>=1.8)","v":false},{"$f":"AND(Vi<=27,Load_Switch_NFET[[#This Row],[VDSMAX]]<=30)","v":true},{"$f":"AND(Vi<=36,Vi>=20,Load_Switch_NFET[[#This Row],[VDSMAX]]=40)","v":false},{"$f":"AND(Vi<=54,Vi>=25,Load_Switch_NFET[[#This Row],[VDSMAX]]=60)","v":false},{"$f":"AND(Vi<=72,Vi>=36,Load_Switch_NFET[[#This Row],[VDSMAX]]=80)","v":false},{"$f":"AND(Vi<=90,Vi>=48,Load_Switch_NFET[[#This Row],[VDSMAX]]=100)","v":false},true,{"$f":"AND(((VGS_DR)<2.5),('NFET Data'!$AC16<>\"(Null)\"))","v":false},{"$f":"AND(((VGS_DR)>=2.5),((VGS_DR)<3),OR(('NFET Data'!$AD16<>\"(Null)\"),('NFET Data'!$AC16<>\"(Null)\")))","v":false},{"$f":"AND(((VGS_DR)>=3),((VGS_DR)<4.5),OR(('NFET Data'!$AE16<>\"(Null)\"),('NFET Data'!$AD16<>\"(Null)\"),('NFET Data'!$AC16<>\"(Null)\")))","v":false},{"$f":"AND(((VGS_DR)>=4.5),((VGS_DR)<6),OR(('NFET Data'!$AF16<>\"(Null)\"),('NFET Data'!$AE16<>\"(Null)\"),('NFET Data'!$AD16<>\"(Null)\"),('NFET Data'!$AC16<>\"(Null)\")))","v":false},{"$f":"AND(((VGS_DR)>=6),((VGS_DR)<8),OR(('NFET Data'!$AG16<>\"(Null)\"),('NFET Data'!$AF16<>\"(Null)\"),('NFET Data'!$AE16<>\"(Null)\"),('NFET Data'!$AD16<>\"(Null)\"),('NFET Data'!$AC16<>\"(Null)\")))","v":false},{"$f":"AND(((VGS_DR)>=8),((VGS_DR)<10),OR(('NFET Data'!$AH16<>\"(Null)\"),('NFET Data'!$AG16<>\"(Null)\"),('NFET Data'!$AF16<>\"(Null)\"),('NFET Data'!$AE16<>\"(Null)\"),('NFET Data'!$AD16<>\"(Null)\"),('NFET Data'!$AC16<>\"(Null)\")))","v":false},{"$f":"AND(((VGS_DR)>=10),OR(('NFET Data'!$AI16<>\"(Null)\"),('NFET Data'!$AH16<>\"(Null)\"),('NFET Data'!$AG16<>\"(Null)\"),('NFET Data'!$AF16<>\"(Null)\"),('NFET Data'!$AE16<>\"(Null)\"),('NFET Data'!$AD16<>\"(Null)\"),('NFET Data'!$AC16<>\"(Null)\")))","v":true},true,false,null,null,null,{"$f":"IF(LOOKUP(Part_Number2,Load_Switch_NFET[PARTNUMBER],Load_Switch_NFET[RDSON18])=\"(NULL)\",\"0\",\"1\")","v":{"$error":"#N/A"}},{"$f":"IF(LOOKUP(Part_Number2,Load_Switch_NFET[PARTNUMBER],Load_Switch_NFET[RDSON25])=\"(NULL)\",\"0\",\"1\")","v":{"$error":"#N/A"}},{"$f":"IF(LOOKUP(Part_Number2,Load_Switch_NFET[PARTNUMBER],Load_Switch_NFET[RDSON3])=\"(NULL)\",\"0\",\"1\")","v":{"$error":"#N/A"}},{"$f":"IF(LOOKUP(Part_Number2,Load_Switch_NFET[PARTNUMBER],Load_Switch_NFET[RDSON45])=\"(NULL)\",\"0\",\"1\")","v":{"$error":"#N/A"}},{"$f":"IF(LOOKUP(Part_Number2,Load_Switch_NFET[PARTNUMBER],Load_Switch_NFET[RDSON6])=\"(NULL)\",\"0\",\"1\")","v":{"$error":"#N/A"}},{"$f":"IF(LOOKUP(Part_Number2,Load_Switch_NFET[PARTNUMBER],Load_Switch_NFET[RDSON8])=\"(NULL)\",\"0\",\"1\")","v":{"$error":"#N/A"}},{"$f":"IF(LOOKUP(Part_Number2,Load_Switch_NFET[PARTNUMBER],Load_Switch_NFET[RDSON10])=\"(NULL)\",\"0\",\"1\")","v":{"$error":"#N/A"}}]
[{"$f":"IF(R17,Load_Switch_NFET[[#This Row],[PARTNUMBER]],\"\")","v":""},"CSD17506Q5A",{"$f":"AND((Load_Switch_NFET[[#This Row],[VDSMAX]]>=Vi*1.1),(Load_Switch_NFET[[#This Row],[VGSMAX]]>=(VGS_DR)*1.1),(Load_Switch_NFET[[#This Row],[IDSMAX]]>=Io),VGS_DR>=1.8)","v":false},{"$f":"AND(Vi<=27,Load_Switch_NFET[[#This Row],[VDSMAX]]<=30)","v":true},{"$f":"AND(Vi<=36,Vi>=20,Load_Switch_NFET[[#This Row],[VDSMAX]]=40)","v":false},{"$f":"AND(Vi<=54,Vi>=25,Load_Switch_NFET[[#This Row],[VDSMAX]]=60)","v":false},{"$f":"AND(Vi<=72,Vi>=36,Load_Switch_NFET[[#This Row],[VDSMAX]]=80)","v":false},{"$f":"AND(Vi<=90,Vi>=48,Load_Switch_NFET[[#This Row],[VDSMAX]]=100)","v":false},true,{"$f":"AND(((VGS_DR)<2.5),('NFET Data'!$AC17<>\"(Null)\"))","v":false},{"$f":"AND(((VGS_DR)>=2.5),((VGS_DR)<3),OR(('NFET Data'!$AD17<>\"(Null)\"),('NFET Data'!$AC17<>\"(Null)\")))","v":false},{"$f":"AND(((VGS_DR)>=3),((VGS_DR)<4.5),OR(('NFET Data'!$AE17<>\"(Null)\"),('NFET Data'!$AD17<>\"(Null)\"),('NFET Data'!$AC17<>\"(Null)\")))","v":false},{"$f":"AND(((VGS_DR)>=4.5),((VGS_DR)<6),OR(('NFET Data'!$AF17<>\"(Null)\"),('NFET Data'!$AE17<>\"(Null)\"),('NFET Data'!$AD17<>\"(Null)\"),('NFET Data'!$AC17<>\"(Null)\")))","v":false},{"$f":"AND(((VGS_DR)>=6),((VGS_DR)<8),OR(('NFET Data'!$AG17<>\"(Null)\"),('NFET Data'!$AF17<>\"(Null)\"),('NFET Data'!$AE17<>\"(Null)\"),('NFET Data'!$AD17<>\"(Null)\"),('NFET Data'!$AC17<>\"(Null)\")))","v":false},{"$f":"AND(((VGS_DR)>=8),((VGS_DR)<10),OR(('NFET Data'!$AH17<>\"(Null)\"),('NFET Data'!$AG17<>\"(Null)\"),('NFET Data'!$AF17<>\"(Null)\"),('NFET Data'!$AE17<>\"(Null)\"),('NFET Data'!$AD17<>\"(Null)\"),('NFET Data'!$AC17<>\"(Null)\")))","v":false},{"$f":"AND(((VGS_DR)>=10),OR(('NFET Data'!$AI17<>\"(Null)\"),('NFET Data'!$AH17<>\"(Null)\"),('NFET Data'!$AG17<>\"(Null)\"),('NFET Data'!$AF17<>\"(Null)\"),('NFET Data'!$AE17<>\"(Null)\"),('NFET Data'!$AD17<>\"(Null)\"),('NFET Data'!$AC17<>\"(Null)\")))","v":true},true,false,null,null,null,{"$f":"AND(V15,V16=\"1\")","v":{"$error":"#N/A"}},{"$f":"AND(W15,W16=\"1\")","v":{"$error":"#N/A"}},{"$f":"AND(X15,X16=\"1\")","v":{"$error":"#N/A"}},{"$f":"AND(Y15,Y16=\"1\")","v":{"$error":"#N/A"}},{"$error":"#N/A"},{"$error":"#N/A"},{"$error":"#N/A"}]
[{"$f":"IF(R18,Load_Switch_NFET[[#This Row],[PARTNUMBER]],\"\")","v":""},"CSD17507Q5A",{"$f":"AND((Load_Switch_NFET[[#This Row],[VDSMAX]]>=Vi*1.1),(Load_Switch_NFET[[#This Row],[VGSMAX]]>=(VGS_DR)*1.1),(Load_Switch_NFET[[#This Row],[IDSMAX]]>=Io),VGS_DR>=1.8)","v":false},{"$f":"AND(Vi<=27,Load_Switch_NFET[[#This Row],[VDSMAX]]<=30)","v":true},{"$f":"AND(Vi<=36,Vi>=20,Load_Switch_NFET[[#This Row],[VDSMAX]]=40)","v":false},{"$f":"AND(Vi<=54,Vi>=25,Load_Switch_NFET[[#This Row],[VDSMAX]]=60)","v":false},{"$f":"AND(Vi<=72,Vi>=36,Load_Switch_NFET[[#This Row],[VDSMAX]]=80)","v":false},{"$f":"AND(Vi<=90,Vi>=48,Load_Switch_NFET[[#This Row],[VDSMAX]]=100)","v":false},true,{"$f":"AND(((VGS_DR)<2.5),('NFET Data'!$AC18<>\"(Null)\"))","v":false},{"$f":"AND(((VGS_DR)>=2.5),((VGS_DR)<3),OR(('NFET Data'!$AD18<>\"(Null)\"),('NFET Data'!$AC18<>\"(Null)\")))","v":false},{"$f":"AND(((VGS_DR)>=3),((VGS_DR)<4.5),OR(('NFET Data'!$AE18<>\"(Null)\"),('NFET Data'!$AD18<>\"(Null)\"),('NFET Data'!$AC18<>\"(Null)\")))","v":false},{"$f":"AND(((VGS_DR)>=4.5),((VGS_DR)<6),OR(('NFET Data'!$AF18<>\"(Null)\"),('NFET Data'!$AE18<>\"(Null)\"),('NFET Data'!$AD18<>\"(Null)\"),('NFET Data'!$AC18<>\"(Null)\")))","v":false},{"$f":"AND(((VGS_DR)>=6),((VGS_DR)<8),OR(('NFET Data'!$AG18<>\"(Null)\"),('NFET Data'!$AF18<>\"(Null)\"),('NFET Data'!$AE18<>\"(Null)\"),('NFET Data'!$AD18<>\"(Null)\"),('NFET Data'!$AC18<>\"(Null)\")))","v":false},{"$f":"AND(((VGS_DR)>=8),((VGS_DR)<10),OR(('NFET Data'!$AH18<>\"(Null)\"),('NFET Data'!$AG18<>\"(Null)\"),('NFET Data'!$AF18<>\"(Null)\"),('NFET Data'!$AE18<>\"(Null)\"),('NFET Data'!$AD18<>\"(Null)\"),('NFET Data'!$AC18<>\"(Null)\")))","v":false},{"$f":"AND(((VGS_DR)>=10),OR(('NFET Data'!$AI18<>\"(Null)\"),('NFET Data'!$AH18<>\"(Null)\"),('NFET Data'!$AG18<>\"(Null)\"),('NFET Data'!$AF18<>\"(Null)\"),('NFET Data'!$AE18<>\"(Null)\"),('NFET Data'!$AD18<>\"(Null)\"),('NFET Data'!$AC18<>\"(Null)\")))","v":true},true,false,null,null,{"$f":"OR(V17:AB17)","v":{"$error":"#N/A"}},{"$f":"AND($U$15,V15,V16=\"1\")","v":{"$error":"#N/A"}},{"$f":"AND($U$15,W15,W16=\"1\")","v":{"$error":"#N/A"}},{"$error":"#N/A"},{"$error":"#N/A"},{"$error":"#N/A"},{"$error":"#N/A"},{"$error":"#N/A"}]
[{"$f":"IF(R19,Load_Switch_NFET[[#This Row],[PARTNUMBER]],\"\")","v":""},"CSD17522Q5A",{"$f":"AND((Load_Switch_NFET[[#This Row],[VDSMAX]]>=Vi*1.1),(Load_Switch_NFET[[#This Row],[VGSMAX]]>=(VGS_DR)*1.1),(Load_Switch_NFET[[#This Row],[IDSMAX]]>=Io),VGS_DR>=1.8)","v":false},{"$f":"AND(Vi<=27,Load_Switch_NFET[[#This Row],[VDSMAX]]<=30)","v":true},{"$f":"AND(Vi<=36,Vi>=20,Load_Switch_NFET[[#This Row],[VDSMAX]]=40)","v":false},{"$f":"AND(Vi<=54,Vi>=25,Load_Switch_NFET[[#This Row],[VDSMAX]]=60)","v":false},{"$f":"AND(Vi<=72,Vi>=36,Load_Switch_NFET[[#This Row],[VDSMAX]]=80)","v":false},{"$f":"AND(Vi<=90,Vi>=48,Load_Switch_NFET[[#This Row],[VDSMAX]]=100)","v":false},true,{"$f":"AND(((VGS_DR)<2.5),('NFET Data'!$AC19<>\"(Null)\"))","v":false},{"$f":"AND(((VGS_DR)>=2.5),((VGS_DR)<3),OR(('NFET Data'!$AD19<>\"(Null)\"),('NFET Data'!$AC19<>\"(Null)\")))","v":false},{"$f":"AND(((VGS_DR)>=3),((VGS_DR)<4.5),OR(('NFET Data'!$AE19<>\"(Null)\"),('NFET Data'!$AD19<>\"(Null)\"),('NFET Data'!$AC19<>\"(Null)\")))","v":false},{"$f":"AND(((VGS_DR)>=4.5),((VGS_DR)<6),OR(('NFET Data'!$AF19<>\"(Null)\"),('NFET Data'!$AE19<>\"(Null)\"),('NFET Data'!$AD19<>\"(Null)\"),('NFET Data'!$AC19<>\"(Null)\")))","v":false},{"$f":"AND(((VGS_DR)>=6),((VGS_DR)<8),OR(('NFET Data'!$AG19<>\"(Null)\"),('NFET Data'!$AF19<>\"(Null)\"),('NFET Data'!$AE19<>\"(Null)\"),('NFET Data'!$AD19<>\"(Null)\"),('NFET Data'!$AC19<>\"(Null)\")))","v":false},{"$f":"AND(((VGS_DR)>=8),((VGS_DR)<10),OR(('NFET Data'!$AH19<>\"(Null)\"),('NFET Data'!$AG19<>\"(Null)\"),('NFET Data'!$AF19<>\"(Null)\"),('NFET Data'!$AE19<>\"(Null)\"),('NFET Data'!$AD19<>\"(Null)\"),('NFET Data'!$AC19<>\"(Null)\")))","v":false},{"$f":"AND(((VGS_DR)>=10),OR(('NFET Data'!$AI19<>\"(Null)\"),('NFET Data'!$AH19<>\"(Null)\"),('NFET Data'!$AG19<>\"(Null)\"),('NFET Data'!$AF19<>\"(Null)\"),('NFET Data'!$AE19<>\"(Null)\"),('NFET Data'!$AD19<>\"(Null)\"),('NFET Data'!$AC19<>\"(Null)\")))","v":true},true,false]
[{"$f":"IF(R20,Load_Switch_NFET[[#This Row],[PARTNUMBER]],\"\")","v":""},"CSD17527Q5A",{"$f":"AND((Load_Switch_NFET[[#This Row],[VDSMAX]]>=Vi*1.1),(Load_Switch_NFET[[#This Row],[VGSMAX]]>=(VGS_DR)*1.1),(Load_Switch_NFET[[#This Row],[IDSMAX]]>=Io),VGS_DR>=1.8)","v":false},{"$f":"AND(Vi<=27,Load_Switch_NFET[[#This Row],[VDSMAX]]<=30)","v":true},{"$f":"AND(Vi<=36,Vi>=20,Load_Switch_NFET[[#This Row],[VDSMAX]]=40)","v":false},{"$f":"AND(Vi<=54,Vi>=25,Load_Switch_NFET[[#This Row],[VDSMAX]]=60)","v":false},{"$f":"AND(Vi<=72,Vi>=36,Load_Switch_NFET[[#This Row],[VDSMAX]]=80)","v":false},{"$f":"AND(Vi<=90,Vi>=48,Load_Switch_NFET[[#This Row],[VDSMAX]]=100)","v":false},true,{"$f":"AND(((VGS_DR)<2.5),('NFET Data'!$AC20<>\"(Null)\"))","v":false},{"$f":"AND(((VGS_DR)>=2.5),((VGS_DR)<3),OR(('NFET Data'!$AD20<>\"(Null)\"),('NFET Data'!$AC20<>\"(Null)\")))","v":false},{"$f":"AND(((VGS_DR)>=3),((VGS_DR)<4.5),OR(('NFET Data'!$AE20<>\"(Null)\"),('NFET Data'!$AD20<>\"(Null)\"),('NFET Data'!$AC20<>\"(Null)\")))","v":false},{"$f":"AND(((VGS_DR)>=4.5),((VGS_DR)<6),OR(('NFET Data'!$AF20<>\"(Null)\"),('NFET Data'!$AE20<>\"(Null)\"),('NFET Data'!$AD20<>\"(Null)\"),('NFET Data'!$AC20<>\"(Null)\")))","v":false},{"$f":"AND(((VGS_DR)>=6),((VGS_DR)<8),OR(('NFET Data'!$AG20<>\"(Null)\"),('NFET Data'!$AF20<>\"(Null)\"),('NFET Data'!$AE20<>\"(Null)\"),('NFET Data'!$AD20<>\"(Null)\"),('NFET Data'!$AC20<>\"(Null)\")))","v":false},{"$f":"AND(((VGS_DR)>=8),((VGS_DR)<10),OR(('NFET Data'!$AH20<>\"(Null)\"),('NFET Data'!$AG20<>\"(Null)\"),('NFET Data'!$AF20<>\"(Null)\"),('NFET Data'!$AE20<>\"(Null)\"),('NFET Data'!$AD20<>\"(Null)\"),('NFET Data'!$AC20<>\"(Null)\")))","v":false},{"$f":"AND(((VGS_DR)>=10),OR(('NFET Data'!$AI20<>\"(Null)\"),('NFET Data'!$AH20<>\"(Null)\"),('NFET Data'!$AG20<>\"(Null)\"),('NFET Data'!$AF20<>\"(Null)\"),('NFET Data'!$AE20<>\"(Null)\"),('NFET Data'!$AD20<>\"(Null)\"),('NFET Data'!$AC20<>\"(Null)\")))","v":true},true,false,null,null,"SELECT RDS(ON) CLOSEST TO VDRIVE FOR FET 3"]
[{"$f":"IF(R21,Load_Switch_NFET[[#This Row],[PARTNUMBER]],\"\")","v":"CSD16401Q5"},"CSD17552Q3A",{"$f":"AND((Load_Switch_NFET[[#This Row],[VDSMAX]]>=Vi*1.1),(Load_Switch_NFET[[#This Row],[VGSMAX]]>=(VGS_DR)*1.1),(Load_Switch_NFET[[#This Row],[IDSMAX]]>=Io),VGS_DR>=1.8)","v":true},{"$f":"AND(Vi<=27,Load_Switch_NFET[[#This Row],[VDSMAX]]<=30)","v":true},{"$f":"AND(Vi<=36,Vi>=20,Load_Switch_NFET[[#This Row],[VDSMAX]]=40)","v":false},{"$f":"AND(Vi<=54,Vi>=25,Load_Switch_NFET[[#This Row],[VDSMAX]]=60)","v":false},{"$f":"AND(Vi<=72,Vi>=36,Load_Switch_NFET[[#This Row],[VDSMAX]]=80)","v":false},{"$f":"AND(Vi<=90,Vi>=48,Load_Switch_NFET[[#This Row],[VDSMAX]]=100)","v":false},true,{"$f":"AND(((VGS_DR)<2.5),('NFET Data'!$AC21<>\"(Null)\"))","v":false},{"$f":"AND(((VGS_DR)>=2.5),((VGS_DR)<3),OR(('NFET Data'!$AD21<>\"(Null)\"),('NFET Data'!$AC21<>\"(Null)\")))","v":false},{"$f":"AND(((VGS_DR)>=3),((VGS_DR)<4.5),OR(('NFET Data'!$AE21<>\"(Null)\"),('NFET Data'!$AD21<>\"(Null)\"),('NFET Data'!$AC21<>\"(Null)\")))","v":false},{"$f":"AND(((VGS_DR)>=4.5),((VGS_DR)<6),OR(('NFET Data'!$AF21<>\"(Null)\"),('NFET Data'!$AE21<>\"(Null)\"),('NFET Data'!$AD21<>\"(Null)\"),('NFET Data'!$AC21<>\"(Null)\")))","v":false},{"$f":"AND(((VGS_DR)>=6),((VGS_DR)<8),OR(('NFET Data'!$AG21<>\"(Null)\"),('NFET Data'!$AF21<>\"(Null)\"),('NFET Data'!$AE21<>\"(Null)\"),('NFET Data'!$AD21<>\"(Null)\"),('NFET Data'!$AC21<>\"(Null)\")))","v":false},{"$f":"AND(((VGS_DR)>=8),((VGS_DR)<10),OR(('NFET Data'!$AH21<>\"(Null)\"),('NFET Data'!$AG21<>\"(Null)\"),('NFET Data'!$AF21<>\"(Null)\"),('NFET Data'!$AE21<>\"(Null)\"),('NFET Data'!$AD21<>\"(Null)\"),('NFET Data'!$AC21<>\"(Null)\")))","v":false},{"$f":"AND(((VGS_DR)>=10),OR(('NFET Data'!$AI21<>\"(Null)\"),('NFET Data'!$AH21<>\"(Null)\"),('NFET Data'!$AG21<>\"(Null)\"),('NFET Data'!$AF21<>\"(Null)\"),('NFET Data'!$AE21<>\"(Null)\"),('NFET Data'!$AD21<>\"(Null)\"),('NFET Data'!$AC21<>\"(Null)\")))","v":true},true,true,null,null,null,"RDSON18","RDSON25","RDSON3","RDSON45","RDSON6","RDSON8","RDSON10"]
[{"$f":"IF(R22,Load_Switch_NFET[[#This Row],[PARTNUMBER]],\"\")","v":"CSD16403Q5A"},"CSD17552Q5A",{"$f":"AND((Load_Switch_NFET[[#This Row],[VDSMAX]]>=Vi*1.1),(Load_Switch_NFET[[#This Row],[VGSMAX]]>=(VGS_DR)*1.1),(Load_Switch_NFET[[#This Row],[IDSMAX]]>=Io),VGS_DR>=1.8)","v":true},{"$f":"AND(Vi<=27,Load_Switch_NFET[[#This Row],[VDSMAX]]<=30)","v":true},{"$f":"AND(Vi<=36,Vi>=20,Load_Switch_NFET[[#This Row],[VDSMAX]]=40)","v":false},{"$f":"AND(Vi<=54,Vi>=25,Load_Switch_NFET[[#This Row],[VDSMAX]]=60)","v":false},{"$f":"AND(Vi<=72,Vi>=36,Load_Switch_NFET[[#This Row],[VDSMAX]]=80)","v":false},{"$f":"AND(Vi<=90,Vi>=48,Load_Switch_NFET[[#This Row],[VDSMAX]]=100)","v":false},true,{"$f":"AND(((VGS_DR)<2.5),('NFET Data'!$AC22<>\"(Null)\"))","v":false},{"$f":"AND(((VGS_DR)>=2.5),((VGS_DR)<3),OR(('NFET Data'!$AD22<>\"(Null)\"),('NFET Data'!$AC22<>\"(Null)\")))","v":false},{"$f":"AND(((VGS_DR)>=3),((VGS_DR)<4.5),OR(('NFET Data'!$AE22<>\"(Null)\"),('NFET Data'!$AD22<>\"(Null)\"),('NFET Data'!$AC22<>\"(Null)\")))","v":false},{"$f":"AND(((VGS_DR)>=4.5),((VGS_DR)<6),OR(('NFET Data'!$AF22<>\"(Null)\"),('NFET Data'!$AE22<>\"(Null)\"),('NFET Data'!$AD22<>\"(Null)\"),('NFET Data'!$AC22<>\"(Null)\")))","v":false},{"$f":"AND(((VGS_DR)>=6),((VGS_DR)<8),OR(('NFET Data'!$AG22<>\"(Null)\"),('NFET Data'!$AF22<>\"(Null)\"),('NFET Data'!$AE22<>\"(Null)\"),('NFET Data'!$AD22<>\"(Null)\"),('NFET Data'!$AC22<>\"(Null)\")))","v":false},{"$f":"AND(((VGS_DR)>=8),((VGS_DR)<10),OR(('NFET Data'!$AH22<>\"(Null)\"),('NFET Data'!$AG22<>\"(Null)\"),('NFET Data'!$AF22<>\"(Null)\"),('NFET Data'!$AE22<>\"(Null)\"),('NFET Data'!$AD22<>\"(Null)\"),('NFET Data'!$AC22<>\"(Null)\")))","v":false},{"$f":"AND(((VGS_DR)>=10),OR(('NFET Data'!$AI22<>\"(Null)\"),('NFET Data'!$AH22<>\"(Null)\"),('NFET Data'!$AG22<>\"(Null)\"),('NFET Data'!$AF22<>\"(Null)\"),('NFET Data'!$AE22<>\"(Null)\"),('NFET Data'!$AD22<>\"(Null)\"),('NFET Data'!$AC22<>\"(Null)\")))","v":true},true,true,null,null,null,"1.8V<=VGS<2.5V","2.5V<=VGS<3V","3V<=VGS<4V","4V<=VGS<5.5V","5.5V<=VGS<7","7V<=VGS<9V","9V<=VGS<=16V","RDSON"]
[{"$f":"IF(R23,Load_Switch_NFET[[#This Row],[PARTNUMBER]],\"\")","v":"CSD16404Q5A"},"CSD17553Q5A",{"$f":"AND((Load_Switch_NFET[[#This Row],[VDSMAX]]>=Vi*1.1),(Load_Switch_NFET[[#This Row],[VGSMAX]]>=(VGS_DR)*1.1),(Load_Switch_NFET[[#This Row],[IDSMAX]]>=Io),VGS_DR>=1.8)","v":true},{"$f":"AND(Vi<=27,Load_Switch_NFET[[#This Row],[VDSMAX]]<=30)","v":true},{"$f":"AND(Vi<=36,Vi>=20,Load_Switch_NFET[[#This Row],[VDSMAX]]=40)","v":false},{"$f":"AND(Vi<=54,Vi>=25,Load_Switch_NFET[[#This Row],[VDSMAX]]=60)","v":false},{"$f":"AND(Vi<=72,Vi>=36,Load_Switch_NFET[[#This Row],[VDSMAX]]=80)","v":false},{"$f":"AND(Vi<=90,Vi>=48,Load_Switch_NFET[[#This Row],[VDSMAX]]=100)","v":false},true,{"$f":"AND(((VGS_DR)<2.5),('NFET Data'!$AC23<>\"(Null)\"))","v":false},{"$f":"AND(((VGS_DR)>=2.5),((VGS_DR)<3),OR(('NFET Data'!$AD23<>\"(Null)\"),('NFET Data'!$AC23<>\"(Null)\")))","v":false},{"$f":"AND(((VGS_DR)>=3),((VGS_DR)<4.5),OR(('NFET Data'!$AE23<>\"(Null)\"),('NFET Data'!$AD23<>\"(Null)\"),('NFET Data'!$AC23<>\"(Null)\")))","v":false},{"$f":"AND(((VGS_DR)>=4.5),((VGS_DR)<6),OR(('NFET Data'!$AF23<>\"(Null)\"),('NFET Data'!$AE23<>\"(Null)\"),('NFET Data'!$AD23<>\"(Null)\"),('NFET Data'!$AC23<>\"(Null)\")))","v":false},{"$f":"AND(((VGS_DR)>=6),((VGS_DR)<8),OR(('NFET Data'!$AG23<>\"(Null)\"),('NFET Data'!$AF23<>\"(Null)\"),('NFET Data'!$AE23<>\"(Null)\"),('NFET Data'!$AD23<>\"(Null)\"),('NFET Data'!$AC23<>\"(Null)\")))","v":false},{"$f":"AND(((VGS_DR)>=8),((VGS_DR)<10),OR(('NFET Data'!$AH23<>\"(Null)\"),('NFET Data'!$AG23<>\"(Null)\"),('NFET Data'!$AF23<>\"(Null)\"),('NFET Data'!$AE23<>\"(Null)\"),('NFET Data'!$AD23<>\"(Null)\"),('NFET Data'!$AC23<>\"(Null)\")))","v":false},{"$f":"AND(((VGS_DR)>=10),OR(('NFET Data'!$AI23<>\"(Null)\"),('NFET Data'!$AH23<>\"(Null)\"),('NFET Data'!$AG23<>\"(Null)\"),('NFET Data'!$AF23<>\"(Null)\"),('NFET Data'!$AE23<>\"(Null)\"),('NFET Data'!$AD23<>\"(Null)\"),('NFET Data'!$AC23<>\"(Null)\")))","v":true},true,true,null,null,null,{"$f":"((VGS_DR)>=1.8)","v":true},{"$f":"((VGS_DR)>=2.2)","v":true},{"$f":"((VGS_DR)>=2.7)","v":true},{"$f":"((VGS_DR)>=4)","v":true},{"$f":"((VGS_DR)>=5.5)","v":true},{"$f":"((VGS_DR)>=7)","v":true},{"$f":"((VGS_DR)>=8.5)","v":true},{"$f":"IF(AB26,LOOKUP(Part_Number3,Load_Switch_NFET[PARTNUMBER],Load_Switch_NFET[RDSON10])*1000,IF(AA26,LOOKUP(Part_Number3,Load_Switch_NFET[PARTNUMBER],Load_Switch_NFET[RDSON8])*1000,IF(Z26,LOOKUP(Part_Number3,Load_Switch_NFET[PARTNUMBER],Load_Switch_NFET[RDSON6])*1000,IF(Y26,LOOKUP(Part_Number3,Load_Switch_NFET[PARTNUMBER],Load_Switch_NFET[RDSON45])*1000,IF(X26,LOOKUP(Part_Number3,Load_Switch_NFET[PARTNUMBER],Load_Switch_NFET[RDSON3])*1000,IF(W26,LOOKUP(Part_Number3,Load_Switch_NFET[PARTNUMBER],Load_Switch_NFET[RDSON25])*1000,IF(V26,LOOKUP(Part_Number3,Load_Switch_NFET[PARTNUMBER],Load_Switch_NFET[RDSON18])*1000,\"\")))))))","v":{"$error":"#N/A"}}]
[{"$f":"IF(R24,Load_Switch_NFET[[#This Row],[PARTNUMBER]],\"\")","v":"CSD16406Q3"},"CSD17555Q5A",{"$f":"AND((Load_Switch_NFET[[#This Row],[VDSMAX]]>=Vi*1.1),(Load_Switch_NFET[[#This Row],[VGSMAX]]>=(VGS_DR)*1.1),(Load_Switch_NFET[[#This Row],[IDSMAX]]>=Io),VGS_DR>=1.8)","v":true},{"$f":"AND(Vi<=27,Load_Switch_NFET[[#This Row],[VDSMAX]]<=30)","v":true},{"$f":"AND(Vi<=36,Vi>=20,Load_Switch_NFET[[#This Row],[VDSMAX]]=40)","v":false},{"$f":"AND(Vi<=54,Vi>=25,Load_Switch_NFET[[#This Row],[VDSMAX]]=60)","v":false},{"$f":"AND(Vi<=72,Vi>=36,Load_Switch_NFET[[#This Row],[VDSMAX]]=80)","v":false},{"$f":"AND(Vi<=90,Vi>=48,Load_Switch_NFET[[#This Row],[VDSMAX]]=100)","v":false},true,{"$f":"AND(((VGS_DR)<2.5),('NFET Data'!$AC24<>\"(Null)\"))","v":false},{"$f":"AND(((VGS_DR)>=2.5),((VGS_DR)<3),OR(('NFET Data'!$AD24<>\"(Null)\"),('NFET Data'!$AC24<>\"(Null)\")))","v":false},{"$f":"AND(((VGS_DR)>=3),((VGS_DR)<4.5),OR(('NFET Data'!$AE24<>\"(Null)\"),('NFET Data'!$AD24<>\"(Null)\"),('NFET Data'!$AC24<>\"(Null)\")))","v":false},{"$f":"AND(((VGS_DR)>=4.5),((VGS_DR)<6),OR(('NFET Data'!$AF24<>\"(Null)\"),('NFET Data'!$AE24<>\"(Null)\"),('NFET Data'!$AD24<>\"(Null)\"),('NFET Data'!$AC24<>\"(Null)\")))","v":false},{"$f":"AND(((VGS_DR)>=6),((VGS_DR)<8),OR(('NFET Data'!$AG24<>\"(Null)\"),('NFET Data'!$AF24<>\"(Null)\"),('NFET Data'!$AE24<>\"(Null)\"),('NFET Data'!$AD24<>\"(Null)\"),('NFET Data'!$AC24<>\"(Null)\")))","v":false},{"$f":"AND(((VGS_DR)>=8),((VGS_DR)<10),OR(('NFET Data'!$AH24<>\"(Null)\"),('NFET Data'!$AG24<>\"(Null)\"),('NFET Data'!$AF24<>\"(Null)\"),('NFET Data'!$AE24<>\"(Null)\"),('NFET Data'!$AD24<>\"(Null)\"),('NFET Data'!$AC24<>\"(Null)\")))","v":false},{"$f":"AND(((VGS_DR)>=10),OR(('NFET Data'!$AI24<>\"(Null)\"),('NFET Data'!$AH24<>\"(Null)\"),('NFET Data'!$AG24<>\"(Null)\"),('NFET Data'!$AF24<>\"(Null)\"),('NFET Data'!$AE24<>\"(Null)\"),('NFET Data'!$AD24<>\"(Null)\"),('NFET Data'!$AC24<>\"(Null)\")))","v":true},true,true,null,null,null,{"$f":"IF(LOOKUP(Part_Number3,Load_Switch_NFET[PARTNUMBER],Load_Switch_NFET[RDSON18])=\"(NULL)\",\"0\",\"1\")","v":{"$error":"#N/A"}},{"$f":"IF(LOOKUP(Part_Number3,Load_Switch_NFET[PARTNUMBER],Load_Switch_NFET[RDSON25])=\"(NULL)\",\"0\",\"1\")","v":{"$error":"#N/A"}},{"$f":"IF(LOOKUP(Part_Number3,Load_Switch_NFET[PARTNUMBER],Load_Switch_NFET[RDSON3])=\"(NULL)\",\"0\",\"1\")","v":{"$error":"#N/A"}},{"$f":"IF(LOOKUP(Part_Number3,Load_Switch_NFET[PARTNUMBER],Load_Switch_NFET[RDSON45])=\"(NULL)\",\"0\",\"1\")","v":{"$error":"#N/A"}},{"$f":"IF(LOOKUP(Part_Number3,Load_Switch_NFET[PARTNUMBER],Load_Switch_NFET[RDSON6])=\"(NULL)\",\"0\",\"1\")","v":{"$error":"#N/A"}},{"$f":"IF(LOOKUP(Part_Number3,Load_Switch_NFET[PARTNUMBER],Load_Switch_NFET[RDSON8])=\"(NULL)\",\"0\",\"1\")","v":{"$error":"#N/A"}},{"$f":"IF(LOOKUP(Part_Number3,Load_Switch_NFET[PARTNUMBER],Load_Switch_NFET[RDSON10])=\"(NULL)\",\"0\",\"1\")","v":{"$error":"#N/A"}}]
[{"$f":"IF(R25,Load_Switch_NFET[[#This Row],[PARTNUMBER]],\"\")","v":"CSD16407Q5"},"CSD17556Q5B",{"$f":"AND((Load_Switch_NFET[[#This Row],[VDSMAX]]>=Vi*1.1),(Load_Switch_NFET[[#This Row],[VGSMAX]]>=(VGS_DR)*1.1),(Load_Switch_NFET[[#This Row],[IDSMAX]]>=Io),VGS_DR>=1.8)","v":true},{"$f":"AND(Vi<=27,Load_Switch_NFET[[#This Row],[VDSMAX]]<=30)","v":true},{"$f":"AND(Vi<=36,Vi>=20,Load_Switch_NFET[[#This Row],[VDSMAX]]=40)","v":false},{"$f":"AND(Vi<=54,Vi>=25,Load_Switch_NFET[[#This Row],[VDSMAX]]=60)","v":false},{"$f":"AND(Vi<=72,Vi>=36,Load_Switch_NFET[[#This Row],[VDSMAX]]=80)","v":false},{"$f":"AND(Vi<=90,Vi>=48,Load_Switch_NFET[[#This Row],[VDSMAX]]=100)","v":false},true,{"$f":"AND(((VGS_DR)<2.5),('NFET Data'!$AC25<>\"(Null)\"))","v":false},{"$f":"AND(((VGS_DR)>=2.5),((VGS_DR)<3),OR(('NFET Data'!$AD25<>\"(Null)\"),('NFET Data'!$AC25<>\"(Null)\")))","v":false},{"$f":"AND(((VGS_DR)>=3),((VGS_DR)<4.5),OR(('NFET Data'!$AE25<>\"(Null)\"),('NFET Data'!$AD25<>\"(Null)\"),('NFET Data'!$AC25<>\"(Null)\")))","v":false},{"$f":"AND(((VGS_DR)>=4.5),((VGS_DR)<6),OR(('NFET Data'!$AF25<>\"(Null)\"),('NFET Data'!$AE25<>\"(Null)\"),('NFET Data'!$AD25<>\"(Null)\"),('NFET Data'!$AC25<>\"(Null)\")))","v":false},{"$f":"AND(((VGS_DR)>=6),((VGS_DR)<8),OR(('NFET Data'!$AG25<>\"(Null)\"),('NFET Data'!$AF25<>\"(Null)\"),('NFET Data'!$AE25<>\"(Null)\"),('NFET Data'!$AD25<>\"(Null)\"),('NFET Data'!$AC25<>\"(Null)\")))","v":false},{"$f":"AND(((VGS_DR)>=8),((VGS_DR)<10),OR(('NFET Data'!$AH25<>\"(Null)\"),('NFET Data'!$AG25<>\"(Null)\"),('NFET Data'!$AF25<>\"(Null)\"),('NFET Data'!$AE25<>\"(Null)\"),('NFET Data'!$AD25<>\"(Null)\"),('NFET Data'!$AC25<>\"(Null)\")))","v":false},{"$f":"AND(((VGS_DR)>=10),OR(('NFET Data'!$AI25<>\"(Null)\"),('NFET Data'!$AH25<>\"(Null)\"),('NFET Data'!$AG25<>\"(Null)\"),('NFET Data'!$AF25<>\"(Null)\"),('NFET Data'!$AE25<>\"(Null)\"),('NFET Data'!$AD25<>\"(Null)\"),('NFET Data'!$AC25<>\"(Null)\")))","v":true},true,true,null,null,null,{"$f":"AND(V23,V24=\"1\")","v":{"$error":"#N/A"}},{"$f":"AND(W23,W24=\"1\")","v":{"$error":"#N/A"}},{"$f":"AND(X23,X24=\"1\")","v":{"$error":"#N/A"}},{"$f":"AND(Y23,Y24=\"1\")","v":{"$error":"#N/A"}},{"$error":"#N/A"},{"$error":"#N/A"},{"$error":"#N/A"}]
[{"$f":"IF(R26,Load_Switch_NFET[[#This Row],[PARTNUMBER]],\"\")","v":"CSD16408Q5"},"CSD17559Q5",{"$f":"AND((Load_Switch_NFET[[#This Row],[VDSMAX]]>=Vi*1.1),(Load_Switch_NFET[[#This Row],[VGSMAX]]>=(VGS_DR)*1.1),(Load_Switch_NFET[[#This Row],[IDSMAX]]>=Io),VGS_DR>=1.8)","v":true},{"$f":"AND(Vi<=27,Load_Switch_NFET[[#This Row],[VDSMAX]]<=30)","v":true},{"$f":"AND(Vi<=36,Vi>=20,Load_Switch_NFET[[#This Row],[VDSMAX]]=40)","v":false},{"$f":"AND(Vi<=54,Vi>=25,Load_Switch_NFET[[#This Row],[VDSMAX]]=60)","v":false},{"$f":"AND(Vi<=72,Vi>=36,Load_Switch_NFET[[#This Row],[VDSMAX]]=80)","v":false},{"$f":"AND(Vi<=90,Vi>=48,Load_Switch_NFET[[#This Row],[VDSMAX]]=100)","v":false},true,{"$f":"AND(((VGS_DR)<2.5),('NFET Data'!$AC26<>\"(Null)\"))","v":false},{"$f":"AND(((VGS_DR)>=2.5),((VGS_DR)<3),OR(('NFET Data'!$AD26<>\"(Null)\"),('NFET Data'!$AC26<>\"(Null)\")))","v":false},{"$f":"AND(((VGS_DR)>=3),((VGS_DR)<4.5),OR(('NFET Data'!$AE26<>\"(Null)\"),('NFET Data'!$AD26<>\"(Null)\"),('NFET Data'!$AC26<>\"(Null)\")))","v":false},{"$f":"AND(((VGS_DR)>=4.5),((VGS_DR)<6),OR(('NFET Data'!$AF26<>\"(Null)\"),('NFET Data'!$AE26<>\"(Null)\"),('NFET Data'!$AD26<>\"(Null)\"),('NFET Data'!$AC26<>\"(Null)\")))","v":false},{"$f":"AND(((VGS_DR)>=6),((VGS_DR)<8),OR(('NFET Data'!$AG26<>\"(Null)\"),('NFET Data'!$AF26<>\"(Null)\"),('NFET Data'!$AE26<>\"(Null)\"),('NFET Data'!$AD26<>\"(Null)\"),('NFET Data'!$AC26<>\"(Null)\")))","v":false},{"$f":"AND(((VGS_DR)>=8),((VGS_DR)<10),OR(('NFET Data'!$AH26<>\"(Null)\"),('NFET Data'!$AG26<>\"(Null)\"),('NFET Data'!$AF26<>\"(Null)\"),('NFET Data'!$AE26<>\"(Null)\"),('NFET Data'!$AD26<>\"(Null)\"),('NFET Data'!$AC26<>\"(Null)\")))","v":false},{"$f":"AND(((VGS_DR)>=10),OR(('NFET Data'!$AI26<>\"(Null)\"),('NFET Data'!$AH26<>\"(Null)\"),('NFET Data'!$AG26<>\"(Null)\"),('NFET Data'!$AF26<>\"(Null)\"),('NFET Data'!$AE26<>\"(Null)\"),('NFET Data'!$AD26<>\"(Null)\"),('NFET Data'!$AC26<>\"(Null)\")))","v":true},true,true,null,null,{"$f":"OR(V25:AB25)","v":{"$error":"#N/A"}},{"$f":"AND($U$7,V23,V24=\"1\")","v":{"$error":"#N/A"}},{"$f":"AND($U$7,W23,W24=\"1\")","v":{"$error":"#N/A"}},{"$error":"#N/A"},{"$error":"#N/A"},{"$error":"#N/A"},{"$error":"#N/A"},{"$error":"#N/A"}]
[{"$f":"IF(R27,Load_Switch_NFET[[#This Row],[PARTNUMBER]],\"\")","v":"CSD16409Q3"},"CSD17570Q5B",{"$f":"AND((Load_Switch_NFET[[#This Row],[VDSMAX]]>=Vi*1.1),(Load_Switch_NFET[[#This Row],[VGSMAX]]>=(VGS_DR)*1.1),(Load_Switch_NFET[[#This Row],[IDSMAX]]>=Io),VGS_DR>=1.8)","v":true},{"$f":"AND(Vi<=27,Load_Switch_NFET[[#This Row],[VDSMAX]]<=30)","v":true},{"$f":"AND(Vi<=36,Vi>=20,Load_Switch_NFET[[#This Row],[VDSMAX]]=40)","v":false},{"$f":"AND(Vi<=54,Vi>=25,Load_Switch_NFET[[#This Row],[VDSMAX]]=60)","v":false},{"$f":"AND(Vi<=72,Vi>=36,Load_Switch_NFET[[#This Row],[VDSMAX]]=80)","v":false},{"$f":"AND(Vi<=90,Vi>=48,Load_Switch_NFET[[#This Row],[VDSMAX]]=100)","v":false},true,{"$f":"AND(((VGS_DR)<2.5),('NFET Data'!$AC27<>\"(Null)\"))","v":false},{"$f":"AND(((VGS_DR)>=2.5),((VGS_DR)<3),OR(('NFET Data'!$AD27<>\"(Null)\"),('NFET Data'!$AC27<>\"(Null)\")))","v":false},{"$f":"AND(((VGS_DR)>=3),((VGS_DR)<4.5),OR(('NFET Data'!$AE27<>\"(Null)\"),('NFET Data'!$AD27<>\"(Null)\"),('NFET Data'!$AC27<>\"(Null)\")))","v":false},{"$f":"AND(((VGS_DR)>=4.5),((VGS_DR)<6),OR(('NFET Data'!$AF27<>\"(Null)\"),('NFET Data'!$AE27<>\"(Null)\"),('NFET Data'!$AD27<>\"(Null)\"),('NFET Data'!$AC27<>\"(Null)\")))","v":false},{"$f":"AND(((VGS_DR)>=6),((VGS_DR)<8),OR(('NFET Data'!$AG27<>\"(Null)\"),('NFET Data'!$AF27<>\"(Null)\"),('NFET Data'!$AE27<>\"(Null)\"),('NFET Data'!$AD27<>\"(Null)\"),('NFET Data'!$AC27<>\"(Null)\")))","v":false},{"$f":"AND(((VGS_DR)>=8),((VGS_DR)<10),OR(('NFET Data'!$AH27<>\"(Null)\"),('NFET Data'!$AG27<>\"(Null)\"),('NFET Data'!$AF27<>\"(Null)\"),('NFET Data'!$AE27<>\"(Null)\"),('NFET Data'!$AD27<>\"(Null)\"),('NFET Data'!$AC27<>\"(Null)\")))","v":false},{"$f":"AND(((VGS_DR)>=10),OR(('NFET Data'!$AI27<>\"(Null)\"),('NFET Data'!$AH27<>\"(Null)\"),('NFET Data'!$AG27<>\"(Null)\"),('NFET Data'!$AF27<>\"(Null)\"),('NFET Data'!$AE27<>\"(Null)\"),('NFET Data'!$AD27<>\"(Null)\"),('NFET Data'!$AC27<>\"(Null)\")))","v":true},true,true]
[{"$f":"IF(R28,Load_Switch_NFET[[#This Row],[PARTNUMBER]],\"\")","v":""},"CSD17573Q5B",{"$f":"AND((Load_Switch_NFET[[#This Row],[VDSMAX]]>=Vi*1.1),(Load_Switch_NFET[[#This Row],[VGSMAX]]>=(VGS_DR)*1.1),(Load_Switch_NFET[[#This Row],[IDSMAX]]>=Io),VGS_DR>=1.8)","v":false},{"$f":"AND(Vi<=27,Load_Switch_NFET[[#This Row],[VDSMAX]]<=30)","v":true},{"$f":"AND(Vi<=36,Vi>=20,Load_Switch_NFET[[#This Row],[VDSMAX]]=40)","v":false},{"$f":"AND(Vi<=54,Vi>=25,Load_Switch_NFET[[#This Row],[VDSMAX]]=60)","v":false},{"$f":"AND(Vi<=72,Vi>=36,Load_Switch_NFET[[#This Row],[VDSMAX]]=80)","v":false},{"$f":"AND(Vi<=90,Vi>=48,Load_Switch_NFET[[#This Row],[VDSMAX]]=100)","v":false},true,{"$f":"AND(((VGS_DR)<2.5),('NFET Data'!$AC28<>\"(Null)\"))","v":false},{"$f":"AND(((VGS_DR)>=2.5),((VGS_DR)<3),OR(('NFET Data'!$AD28<>\"(Null)\"),('NFET Data'!$AC28<>\"(Null)\")))","v":false},{"$f":"AND(((VGS_DR)>=3),((VGS_DR)<4.5),OR(('NFET Data'!$AE28<>\"(Null)\"),('NFET Data'!$AD28<>\"(Null)\"),('NFET Data'!$AC28<>\"(Null)\")))","v":false},{"$f":"AND(((VGS_DR)>=4.5),((VGS_DR)<6),OR(('NFET Data'!$AF28<>\"(Null)\"),('NFET Data'!$AE28<>\"(Null)\"),('NFET Data'!$AD28<>\"(Null)\"),('NFET Data'!$AC28<>\"(Null)\")))","v":false},{"$f":"AND(((VGS_DR)>=6),((VGS_DR)<8),OR(('NFET Data'!$AG28<>\"(Null)\"),('NFET Data'!$AF28<>\"(Null)\"),('NFET Data'!$AE28<>\"(Null)\"),('NFET Data'!$AD28<>\"(Null)\"),('NFET Data'!$AC28<>\"(Null)\")))","v":false},{"$f":"AND(((VGS_DR)>=8),((VGS_DR)<10),OR(('NFET Data'!$AH28<>\"(Null)\"),('NFET Data'!$AG28<>\"(Null)\"),('NFET Data'!$AF28<>\"(Null)\"),('NFET Data'!$AE28<>\"(Null)\"),('NFET Data'!$AD28<>\"(Null)\"),('NFET Data'!$AC28<>\"(Null)\")))","v":false},{"$f":"AND(((VGS_DR)>=10),OR(('NFET Data'!$AI28<>\"(Null)\"),('NFET Data'!$AH28<>\"(Null)\"),('NFET Data'!$AG28<>\"(Null)\"),('NFET Data'!$AF28<>\"(Null)\"),('NFET Data'!$AE28<>\"(Null)\"),('NFET Data'!$AD28<>\"(Null)\"),('NFET Data'!$AC28<>\"(Null)\")))","v":true},true,false]
[{"$f":"IF(R29,Load_Switch_NFET[[#This Row],[PARTNUMBER]],\"\")","v":""},"CSD17575Q3",{"$f":"AND((Load_Switch_NFET[[#This Row],[VDSMAX]]>=Vi*1.1),(Load_Switch_NFET[[#This Row],[VGSMAX]]>=(VGS_DR)*1.1),(Load_Switch_NFET[[#This Row],[IDSMAX]]>=Io),VGS_DR>=1.8)","v":false},{"$f":"AND(Vi<=27,Load_Switch_NFET[[#This Row],[VDSMAX]]<=30)","v":true},{"$f":"AND(Vi<=36,Vi>=20,Load_Switch_NFET[[#This Row],[VDSMAX]]=40)","v":false},{"$f":"AND(Vi<=54,Vi>=25,Load_Switch_NFET[[#This Row],[VDSMAX]]=60)","v":false},{"$f":"AND(Vi<=72,Vi>=36,Load_Switch_NFET[[#This Row],[VDSMAX]]=80)","v":false},{"$f":"AND(Vi<=90,Vi>=48,Load_Switch_NFET[[#This Row],[VDSMAX]]=100)","v":false},true,{"$f":"AND(((VGS_DR)<2.5),('NFET Data'!$AC29<>\"(Null)\"))","v":false},{"$f":"AND(((VGS_DR)>=2.5),((VGS_DR)<3),OR(('NFET Data'!$AD29<>\"(Null)\"),('NFET Data'!$AC29<>\"(Null)\")))","v":false},{"$f":"AND(((VGS_DR)>=3),((VGS_DR)<4.5),OR(('NFET Data'!$AE29<>\"(Null)\"),('NFET Data'!$AD29<>\"(Null)\"),('NFET Data'!$AC29<>\"(Null)\")))","v":false},{"$f":"AND(((VGS_DR)>=4.5),((VGS_DR)<6),OR(('NFET Data'!$AF29<>\"(Null)\"),('NFET Data'!$AE29<>\"(Null)\"),('NFET Data'!$AD29<>\"(Null)\"),('NFET Data'!$AC29<>\"(Null)\")))","v":false},{"$f":"AND(((VGS_DR)>=6),((VGS_DR)<8),OR(('NFET Data'!$AG29<>\"(Null)\"),('NFET Data'!$AF29<>\"(Null)\"),('NFET Data'!$AE29<>\"(Null)\"),('NFET Data'!$AD29<>\"(Null)\"),('NFET Data'!$AC29<>\"(Null)\")))","v":false},{"$f":"AND(((VGS_DR)>=8),((VGS_DR)<10),OR(('NFET Data'!$AH29<>\"(Null)\"),('NFET Data'!$AG29<>\"(Null)\"),('NFET Data'!$AF29<>\"(Null)\"),('NFET Data'!$AE29<>\"(Null)\"),('NFET Data'!$AD29<>\"(Null)\"),('NFET Data'!$AC29<>\"(Null)\")))","v":false},{"$f":"AND(((VGS_DR)>=10),OR(('NFET Data'!$AI29<>\"(Null)\"),('NFET Data'!$AH29<>\"(Null)\"),('NFET Data'!$AG29<>\"(Null)\"),('NFET Data'!$AF29<>\"(Null)\"),('NFET Data'!$AE29<>\"(Null)\"),('NFET Data'!$AD29<>\"(Null)\"),('NFET Data'!$AC29<>\"(Null)\")))","v":true},true,false]
[{"$f":"IF(R30,Load_Switch_NFET[[#This Row],[PARTNUMBER]],\"\")","v":""},"CSD17576Q5B",{"$f":"AND((Load_Switch_NFET[[#This Row],[VDSMAX]]>=Vi*1.1),(Load_Switch_NFET[[#This Row],[VGSMAX]]>=(VGS_DR)*1.1),(Load_Switch_NFET[[#This Row],[IDSMAX]]>=Io),VGS_DR>=1.8)","v":false},{"$f":"AND(Vi<=27,Load_Switch_NFET[[#This Row],[VDSMAX]]<=30)","v":true},{"$f":"AND(Vi<=36,Vi>=20,Load_Switch_NFET[[#This Row],[VDSMAX]]=40)","v":false},{"$f":"AND(Vi<=54,Vi>=25,Load_Switch_NFET[[#This Row],[VDSMAX]]=60)","v":false},{"$f":"AND(Vi<=72,Vi>=36,Load_Switch_NFET[[#This Row],[VDSMAX]]=80)","v":false},{"$f":"AND(Vi<=90,Vi>=48,Load_Switch_NFET[[#This Row],[VDSMAX]]=100)","v":false},true,{"$f":"AND(((VGS_DR)<2.5),('NFET Data'!$AC30<>\"(Null)\"))","v":false},{"$f":"AND(((VGS_DR)>=2.5),((VGS_DR)<3),OR(('NFET Data'!$AD30<>\"(Null)\"),('NFET Data'!$AC30<>\"(Null)\")))","v":false},{"$f":"AND(((VGS_DR)>=3),((VGS_DR)<4.5),OR(('NFET Data'!$AE30<>\"(Null)\"),('NFET Data'!$AD30<>\"(Null)\"),('NFET Data'!$AC30<>\"(Null)\")))","v":false},{"$f":"AND(((VGS_DR)>=4.5),((VGS_DR)<6),OR(('NFET Data'!$AF30<>\"(Null)\"),('NFET Data'!$AE30<>\"(Null)\"),('NFET Data'!$AD30<>\"(Null)\"),('NFET Data'!$AC30<>\"(Null)\")))","v":false},{"$f":"AND(((VGS_DR)>=6),((VGS_DR)<8),OR(('NFET Data'!$AG30<>\"(Null)\"),('NFET Data'!$AF30<>\"(Null)\"),('NFET Data'!$AE30<>\"(Null)\"),('NFET Data'!$AD30<>\"(Null)\"),('NFET Data'!$AC30<>\"(Null)\")))","v":false},{"$f":"AND(((VGS_DR)>=8),((VGS_DR)<10),OR(('NFET Data'!$AH30<>\"(Null)\"),('NFET Data'!$AG30<>\"(Null)\"),('NFET Data'!$AF30<>\"(Null)\"),('NFET Data'!$AE30<>\"(Null)\"),('NFET Data'!$AD30<>\"(Null)\"),('NFET Data'!$AC30<>\"(Null)\")))","v":false},{"$f":"AND(((VGS_DR)>=10),OR(('NFET Data'!$AI30<>\"(Null)\"),('NFET Data'!$AH30<>\"(Null)\"),('NFET Data'!$AG30<>\"(Null)\"),('NFET Data'!$AF30<>\"(Null)\"),('NFET Data'!$AE30<>\"(Null)\"),('NFET Data'!$AD30<>\"(Null)\"),('NFET Data'!$AC30<>\"(Null)\")))","v":true},true,false]
[{"$f":"IF(R31,Load_Switch_NFET[[#This Row],[PARTNUMBER]],\"\")","v":"CSD16413Q5A"},"CSD17577Q5A",{"$f":"AND((Load_Switch_NFET[[#This Row],[VDSMAX]]>=Vi*1.1),(Load_Switch_NFET[[#This Row],[VGSMAX]]>=(VGS_DR)*1.1),(Load_Switch_NFET[[#This Row],[IDSMAX]]>=Io),VGS_DR>=1.8)","v":true},{"$f":"AND(Vi<=27,Load_Switch_NFET[[#This Row],[VDSMAX]]<=30)","v":true},{"$f":"AND(Vi<=36,Vi>=20,Load_Switch_NFET[[#This Row],[VDSMAX]]=40)","v":false},{"$f":"AND(Vi<=54,Vi>=25,Load_Switch_NFET[[#This Row],[VDSMAX]]=60)","v":false},{"$f":"AND(Vi<=72,Vi>=36,Load_Switch_NFET[[#This Row],[VDSMAX]]=80)","v":false},{"$f":"AND(Vi<=90,Vi>=48,Load_Switch_NFET[[#This Row],[VDSMAX]]=100)","v":false},true,{"$f":"AND(((VGS_DR)<2.5),('NFET Data'!$AC31<>\"(Null)\"))","v":false},{"$f":"AND(((VGS_DR)>=2.5),((VGS_DR)<3),OR(('NFET Data'!$AD31<>\"(Null)\"),('NFET Data'!$AC31<>\"(Null)\")))","v":false},{"$f":"AND(((VGS_DR)>=3),((VGS_DR)<4.5),OR(('NFET Data'!$AE31<>\"(Null)\"),('NFET Data'!$AD31<>\"(Null)\"),('NFET Data'!$AC31<>\"(Null)\")))","v":false},{"$f":"AND(((VGS_DR)>=4.5),((VGS_DR)<6),OR(('NFET Data'!$AF31<>\"(Null)\"),('NFET Data'!$AE31<>\"(Null)\"),('NFET Data'!$AD31<>\"(Null)\"),('NFET Data'!$AC31<>\"(Null)\")))","v":false},{"$f":"AND(((VGS_DR)>=6),((VGS_DR)<8),OR(('NFET Data'!$AG31<>\"(Null)\"),('NFET Data'!$AF31<>\"(Null)\"),('NFET Data'!$AE31<>\"(Null)\"),('NFET Data'!$AD31<>\"(Null)\"),('NFET Data'!$AC31<>\"(Null)\")))","v":false},{"$f":"AND(((VGS_DR)>=8),((VGS_DR)<10),OR(('NFET Data'!$AH31<>\"(Null)\"),('NFET Data'!$AG31<>\"(Null)\"),('NFET Data'!$AF31<>\"(Null)\"),('NFET Data'!$AE31<>\"(Null)\"),('NFET Data'!$AD31<>\"(Null)\"),('NFET Data'!$AC31<>\"(Null)\")))","v":false},{"$f":"AND(((VGS_DR)>=10),OR(('NFET Data'!$AI31<>\"(Null)\"),('NFET Data'!$AH31<>\"(Null)\"),('NFET Data'!$AG31<>\"(Null)\"),('NFET Data'!$AF31<>\"(Null)\"),('NFET Data'!$AE31<>\"(Null)\"),('NFET Data'!$AD31<>\"(Null)\"),('NFET Data'!$AC31<>\"(Null)\")))","v":true},true,true]
[{"$f":"IF(R32,Load_Switch_NFET[[#This Row],[PARTNUMBER]],\"\")","v":"CSD16414Q5"},"CSD17581Q3A",{"$f":"AND((Load_Switch_NFET[[#This Row],[VDSMAX]]>=Vi*1.1),(Load_Switch_NFET[[#This Row],[VGSMAX]]>=(VGS_DR)*1.1),(Load_Switch_NFET[[#This Row],[IDSMAX]]>=Io),VGS_DR>=1.8)","v":true},{"$f":"AND(Vi<=27,Load_Switch_NFET[[#This Row],[VDSMAX]]<=30)","v":true},{"$f":"AND(Vi<=36,Vi>=20,Load_Switch_NFET[[#This Row],[VDSMAX]]=40)","v":false},{"$f":"AND(Vi<=54,Vi>=25,Load_Switch_NFET[[#This Row],[VDSMAX]]=60)","v":false},{"$f":"AND(Vi<=72,Vi>=36,Load_Switch_NFET[[#This Row],[VDSMAX]]=80)","v":false},{"$f":"AND(Vi<=90,Vi>=48,Load_Switch_NFET[[#This Row],[VDSMAX]]=100)","v":false},true,{"$f":"AND(((VGS_DR)<2.5),('NFET Data'!$AC32<>\"(Null)\"))","v":false},{"$f":"AND(((VGS_DR)>=2.5),((VGS_DR)<3),OR(('NFET Data'!$AD32<>\"(Null)\"),('NFET Data'!$AC32<>\"(Null)\")))","v":false},{"$f":"AND(((VGS_DR)>=3),((VGS_DR)<4.5),OR(('NFET Data'!$AE32<>\"(Null)\"),('NFET Data'!$AD32<>\"(Null)\"),('NFET Data'!$AC32<>\"(Null)\")))","v":false},{"$f":"AND(((VGS_DR)>=4.5),((VGS_DR)<6),OR(('NFET Data'!$AF32<>\"(Null)\"),('NFET Data'!$AE32<>\"(Null)\"),('NFET Data'!$AD32<>\"(Null)\"),('NFET Data'!$AC32<>\"(Null)\")))","v":false},{"$f":"AND(((VGS_DR)>=6),((VGS_DR)<8),OR(('NFET Data'!$AG32<>\"(Null)\"),('NFET Data'!$AF32<>\"(Null)\"),('NFET Data'!$AE32<>\"(Null)\"),('NFET Data'!$AD32<>\"(Null)\"),('NFET Data'!$AC32<>\"(Null)\")))","v":false},{"$f":"AND(((VGS_DR)>=8),((VGS_DR)<10),OR(('NFET Data'!$AH32<>\"(Null)\"),('NFET Data'!$AG32<>\"(Null)\"),('NFET Data'!$AF32<>\"(Null)\"),('NFET Data'!$AE32<>\"(Null)\"),('NFET Data'!$AD32<>\"(Null)\"),('NFET Data'!$AC32<>\"(Null)\")))","v":false},{"$f":"AND(((VGS_DR)>=10),OR(('NFET Data'!$AI32<>\"(Null)\"),('NFET Data'!$AH32<>\"(Null)\"),('NFET Data'!$AG32<>\"(Null)\"),('NFET Data'!$AF32<>\"(Null)\"),('NFET Data'!$AE32<>\"(Null)\"),('NFET Data'!$AD32<>\"(Null)\"),('NFET Data'!$AC32<>\"(Null)\")))","v":true},true,true]
[{"$f":"IF(R33,Load_Switch_NFET[[#This Row],[PARTNUMBER]],\"\")","v":"CSD16415Q5"},"CSD17581Q5A",{"$f":"AND((Load_Switch_NFET[[#This Row],[VDSMAX]]>=Vi*1.1),(Load_Switch_NFET[[#This Row],[VGSMAX]]>=(VGS_DR)*1.1),(Load_Switch_NFET[[#This Row],[IDSMAX]]>=Io),VGS_DR>=1.8)","v":true},{"$f":"AND(Vi<=27,Load_Switch_NFET[[#This Row],[VDSMAX]]<=30)","v":true},{"$f":"AND(Vi<=36,Vi>=20,Load_Switch_NFET[[#This Row],[VDSMAX]]=40)","v":false},{"$f":"AND(Vi<=54,Vi>=25,Load_Switch_NFET[[#This Row],[VDSMAX]]=60)","v":false},{"$f":"AND(Vi<=72,Vi>=36,Load_Switch_NFET[[#This Row],[VDSMAX]]=80)","v":false},{"$f":"AND(Vi<=90,Vi>=48,Load_Switch_NFET[[#This Row],[VDSMAX]]=100)","v":false},true,{"$f":"AND(((VGS_DR)<2.5),('NFET Data'!$AC33<>\"(Null)\"))","v":false},{"$f":"AND(((VGS_DR)>=2.5),((VGS_DR)<3),OR(('NFET Data'!$AD33<>\"(Null)\"),('NFET Data'!$AC33<>\"(Null)\")))","v":false},{"$f":"AND(((VGS_DR)>=3),((VGS_DR)<4.5),OR(('NFET Data'!$AE33<>\"(Null)\"),('NFET Data'!$AD33<>\"(Null)\"),('NFET Data'!$AC33<>\"(Null)\")))","v":false},{"$f":"AND(((VGS_DR)>=4.5),((VGS_DR)<6),OR(('NFET Data'!$AF33<>\"(Null)\"),('NFET Data'!$AE33<>\"(Null)\"),('NFET Data'!$AD33<>\"(Null)\"),('NFET Data'!$AC33<>\"(Null)\")))","v":false},{"$f":"AND(((VGS_DR)>=6),((VGS_DR)<8),OR(('NFET Data'!$AG33<>\"(Null)\"),('NFET Data'!$AF33<>\"(Null)\"),('NFET Data'!$AE33<>\"(Null)\"),('NFET Data'!$AD33<>\"(Null)\"),('NFET Data'!$AC33<>\"(Null)\")))","v":false},{"$f":"AND(((VGS_DR)>=8),((VGS_DR)<10),OR(('NFET Data'!$AH33<>\"(Null)\"),('NFET Data'!$AG33<>\"(Null)\"),('NFET Data'!$AF33<>\"(Null)\"),('NFET Data'!$AE33<>\"(Null)\"),('NFET Data'!$AD33<>\"(Null)\"),('NFET Data'!$AC33<>\"(Null)\")))","v":false},{"$f":"AND(((VGS_DR)>=10),OR(('NFET Data'!$AI33<>\"(Null)\"),('NFET Data'!$AH33<>\"(Null)\"),('NFET Data'!$AG33<>\"(Null)\"),('NFET Data'!$AF33<>\"(Null)\"),('NFET Data'!$AE33<>\"(Null)\"),('NFET Data'!$AD33<>\"(Null)\"),('NFET Data'!$AC33<>\"(Null)\")))","v":true},true,true]
[{"$f":"IF(R34,Load_Switch_NFET[[#This Row],[PARTNUMBER]],\"\")","v":"CSD16556Q5B"},null,{"$f":"AND((Load_Switch_NFET[[#This Row],[VDSMAX]]>=Vi*1.1),(Load_Switch_NFET[[#This Row],[VGSMAX]]>=(VGS_DR)*1.1),(Load_Switch_NFET[[#This Row],[IDSMAX]]>=Io),VGS_DR>=1.8)","v":true},{"$f":"AND(Vi<=27,Load_Switch_NFET[[#This Row],[VDSMAX]]<=30)","v":true},{"$f":"AND(Vi<=36,Vi>=20,Load_Switch_NFET[[#This Row],[VDSMAX]]=40)","v":false},{"$f":"AND(Vi<=54,Vi>=25,Load_Switch_NFET[[#This Row],[VDSMAX]]=60)","v":false},{"$f":"AND(Vi<=72,Vi>=36,Load_Switch_NFET[[#This Row],[VDSMAX]]=80)","v":false},{"$f":"AND(Vi<=90,Vi>=48,Load_Switch_NFET[[#This Row],[VDSMAX]]=100)","v":false},true,{"$f":"AND(((VGS_DR)<2.5),('NFET Data'!$AC34<>\"(Null)\"))","v":false},{"$f":"AND(((VGS_DR)>=2.5),((VGS_DR)<3),OR(('NFET Data'!$AD34<>\"(Null)\"),('NFET Data'!$AC34<>\"(Null)\")))","v":false},{"$f":"AND(((VGS_DR)>=3),((VGS_DR)<4.5),OR(('NFET Data'!$AE34<>\"(Null)\"),('NFET Data'!$AD34<>\"(Null)\"),('NFET Data'!$AC34<>\"(Null)\")))","v":false},{"$f":"AND(((VGS_DR)>=4.5),((VGS_DR)<6),OR(('NFET Data'!$AF34<>\"(Null)\"),('NFET Data'!$AE34<>\"(Null)\"),('NFET Data'!$AD34<>\"(Null)\"),('NFET Data'!$AC34<>\"(Null)\")))","v":false},{"$f":"AND(((VGS_DR)>=6),((VGS_DR)<8),OR(('NFET Data'!$AG34<>\"(Null)\"),('NFET Data'!$AF34<>\"(Null)\"),('NFET Data'!$AE34<>\"(Null)\"),('NFET Data'!$AD34<>\"(Null)\"),('NFET Data'!$AC34<>\"(Null)\")))","v":false},{"$f":"AND(((VGS_DR)>=8),((VGS_DR)<10),OR(('NFET Data'!$AH34<>\"(Null)\"),('NFET Data'!$AG34<>\"(Null)\"),('NFET Data'!$AF34<>\"(Null)\"),('NFET Data'!$AE34<>\"(Null)\"),('NFET Data'!$AD34<>\"(Null)\"),('NFET Data'!$AC34<>\"(Null)\")))","v":false},{"$f":"AND(((VGS_DR)>=10),OR(('NFET Data'!$AI34<>\"(Null)\"),('NFET Data'!$AH34<>\"(Null)\"),('NFET Data'!$AG34<>\"(Null)\"),('NFET Data'!$AF34<>\"(Null)\"),('NFET Data'!$AE34<>\"(Null)\"),('NFET Data'!$AD34<>\"(Null)\"),('NFET Data'!$AC34<>\"(Null)\")))","v":true},true,true]
[{"$f":"IF(R35,Load_Switch_NFET[[#This Row],[PARTNUMBER]],\"\")","v":"CSD16570Q5B"},null,{"$f":"AND((Load_Switch_NFET[[#This Row],[VDSMAX]]>=Vi*1.1),(Load_Switch_NFET[[#This Row],[VGSMAX]]>=(VGS_DR)*1.1),(Load_Switch_NFET[[#This Row],[IDSMAX]]>=Io),VGS_DR>=1.8)","v":true},{"$f":"AND(Vi<=27,Load_Switch_NFET[[#This Row],[VDSMAX]]<=30)","v":true},{"$f":"AND(Vi<=36,Vi>=20,Load_Switch_NFET[[#This Row],[VDSMAX]]=40)","v":false},{"$f":"AND(Vi<=54,Vi>=25,Load_Switch_NFET[[#This Row],[VDSMAX]]=60)","v":false},{"$f":"AND(Vi<=72,Vi>=36,Load_Switch_NFET[[#This Row],[VDSMAX]]=80)","v":false},{"$f":"AND(Vi<=90,Vi>=48,Load_Switch_NFET[[#This Row],[VDSMAX]]=100)","v":false},true,{"$f":"AND(((VGS_DR)<2.5),('NFET Data'!$AC35<>\"(Null)\"))","v":false},{"$f":"AND(((VGS_DR)>=2.5),((VGS_DR)<3),OR(('NFET Data'!$AD35<>\"(Null)\"),('NFET Data'!$AC35<>\"(Null)\")))","v":false},{"$f":"AND(((VGS_DR)>=3),((VGS_DR)<4.5),OR(('NFET Data'!$AE35<>\"(Null)\"),('NFET Data'!$AD35<>\"(Null)\"),('NFET Data'!$AC35<>\"(Null)\")))","v":false},{"$f":"AND(((VGS_DR)>=4.5),((VGS_DR)<6),OR(('NFET Data'!$AF35<>\"(Null)\"),('NFET Data'!$AE35<>\"(Null)\"),('NFET Data'!$AD35<>\"(Null)\"),('NFET Data'!$AC35<>\"(Null)\")))","v":false},{"$f":"AND(((VGS_DR)>=6),((VGS_DR)<8),OR(('NFET Data'!$AG35<>\"(Null)\"),('NFET Data'!$AF35<>\"(Null)\"),('NFET Data'!$AE35<>\"(Null)\"),('NFET Data'!$AD35<>\"(Null)\"),('NFET Data'!$AC35<>\"(Null)\")))","v":false},{"$f":"AND(((VGS_DR)>=8),((VGS_DR)<10),OR(('NFET Data'!$AH35<>\"(Null)\"),('NFET Data'!$AG35<>\"(Null)\"),('NFET Data'!$AF35<>\"(Null)\"),('NFET Data'!$AE35<>\"(Null)\"),('NFET Data'!$AD35<>\"(Null)\"),('NFET Data'!$AC35<>\"(Null)\")))","v":false},{"$f":"AND(((VGS_DR)>=10),OR(('NFET Data'!$AI35<>\"(Null)\"),('NFET Data'!$AH35<>\"(Null)\"),('NFET Data'!$AG35<>\"(Null)\"),('NFET Data'!$AF35<>\"(Null)\"),('NFET Data'!$AE35<>\"(Null)\"),('NFET Data'!$AD35<>\"(Null)\"),('NFET Data'!$AC35<>\"(Null)\")))","v":true},true,true]
[{"$f":"IF(R36,Load_Switch_NFET[[#This Row],[PARTNUMBER]],\"\")","v":""},null,{"$f":"AND((Load_Switch_NFET[[#This Row],[VDSMAX]]>=Vi*1.1),(Load_Switch_NFET[[#This Row],[VGSMAX]]>=(VGS_DR)*1.1),(Load_Switch_NFET[[#This Row],[IDSMAX]]>=Io),VGS_DR>=1.8)","v":false},{"$f":"AND(Vi<=27,Load_Switch_NFET[[#This Row],[VDSMAX]]<=30)","v":true},{"$f":"AND(Vi<=36,Vi>=20,Load_Switch_NFET[[#This Row],[VDSMAX]]=40)","v":false},{"$f":"AND(Vi<=54,Vi>=25,Load_Switch_NFET[[#This Row],[VDSMAX]]=60)","v":false},{"$f":"AND(Vi<=72,Vi>=36,Load_Switch_NFET[[#This Row],[VDSMAX]]=80)","v":false},{"$f":"AND(Vi<=90,Vi>=48,Load_Switch_NFET[[#This Row],[VDSMAX]]=100)","v":false},true,{"$f":"AND(((VGS_DR)<2.5),('NFET Data'!$AC36<>\"(Null)\"))","v":false},{"$f":"AND(((VGS_DR)>=2.5),((VGS_DR)<3),OR(('NFET Data'!$AD36<>\"(Null)\"),('NFET Data'!$AC36<>\"(Null)\")))","v":false},{"$f":"AND(((VGS_DR)>=3),((VGS_DR)<4.5),OR(('NFET Data'!$AE36<>\"(Null)\"),('NFET Data'!$AD36<>\"(Null)\"),('NFET Data'!$AC36<>\"(Null)\")))","v":false},{"$f":"AND(((VGS_DR)>=4.5),((VGS_DR)<6),OR(('NFET Data'!$AF36<>\"(Null)\"),('NFET Data'!$AE36<>\"(Null)\"),('NFET Data'!$AD36<>\"(Null)\"),('NFET Data'!$AC36<>\"(Null)\")))","v":false},{"$f":"AND(((VGS_DR)>=6),((VGS_DR)<8),OR(('NFET Data'!$AG36<>\"(Null)\"),('NFET Data'!$AF36<>\"(Null)\"),('NFET Data'!$AE36<>\"(Null)\"),('NFET Data'!$AD36<>\"(Null)\"),('NFET Data'!$AC36<>\"(Null)\")))","v":false},{"$f":"AND(((VGS_DR)>=8),((VGS_DR)<10),OR(('NFET Data'!$AH36<>\"(Null)\"),('NFET Data'!$AG36<>\"(Null)\"),('NFET Data'!$AF36<>\"(Null)\"),('NFET Data'!$AE36<>\"(Null)\"),('NFET Data'!$AD36<>\"(Null)\"),('NFET Data'!$AC36<>\"(Null)\")))","v":false},{"$f":"AND(((VGS_DR)>=10),OR(('NFET Data'!$AI36<>\"(Null)\"),('NFET Data'!$AH36<>\"(Null)\"),('NFET Data'!$AG36<>\"(Null)\"),('NFET Data'!$AF36<>\"(Null)\"),('NFET Data'!$AE36<>\"(Null)\"),('NFET Data'!$AD36<>\"(Null)\"),('NFET Data'!$AC36<>\"(Null)\")))","v":true},true,false]
[{"$f":"IF(R37,Load_Switch_NFET[[#This Row],[PARTNUMBER]],\"\")","v":""},null,{"$f":"AND((Load_Switch_NFET[[#This Row],[VDSMAX]]>=Vi*1.1),(Load_Switch_NFET[[#This Row],[VGSMAX]]>=(VGS_DR)*1.1),(Load_Switch_NFET[[#This Row],[IDSMAX]]>=Io),VGS_DR>=1.8)","v":false},{"$f":"AND(Vi<=27,Load_Switch_NFET[[#This Row],[VDSMAX]]<=30)","v":true},{"$f":"AND(Vi<=36,Vi>=20,Load_Switch_NFET[[#This Row],[VDSMAX]]=40)","v":false},{"$f":"AND(Vi<=54,Vi>=25,Load_Switch_NFET[[#This Row],[VDSMAX]]=60)","v":false},{"$f":"AND(Vi<=72,Vi>=36,Load_Switch_NFET[[#This Row],[VDSMAX]]=80)","v":false},{"$f":"AND(Vi<=90,Vi>=48,Load_Switch_NFET[[#This Row],[VDSMAX]]=100)","v":false},true,{"$f":"AND(((VGS_DR)<2.5),('NFET Data'!$AC37<>\"(Null)\"))","v":false},{"$f":"AND(((VGS_DR)>=2.5),((VGS_DR)<3),OR(('NFET Data'!$AD37<>\"(Null)\"),('NFET Data'!$AC37<>\"(Null)\")))","v":false},{"$f":"AND(((VGS_DR)>=3),((VGS_DR)<4.5),OR(('NFET Data'!$AE37<>\"(Null)\"),('NFET Data'!$AD37<>\"(Null)\"),('NFET Data'!$AC37<>\"(Null)\")))","v":false},{"$f":"AND(((VGS_DR)>=4.5),((VGS_DR)<6),OR(('NFET Data'!$AF37<>\"(Null)\"),('NFET Data'!$AE37<>\"(Null)\"),('NFET Data'!$AD37<>\"(Null)\"),('NFET Data'!$AC37<>\"(Null)\")))","v":false},{"$f":"AND(((VGS_DR)>=6),((VGS_DR)<8),OR(('NFET Data'!$AG37<>\"(Null)\"),('NFET Data'!$AF37<>\"(Null)\"),('NFET Data'!$AE37<>\"(Null)\"),('NFET Data'!$AD37<>\"(Null)\"),('NFET Data'!$AC37<>\"(Null)\")))","v":false},{"$f":"AND(((VGS_DR)>=8),((VGS_DR)<10),OR(('NFET Data'!$AH37<>\"(Null)\"),('NFET Data'!$AG37<>\"(Null)\"),('NFET Data'!$AF37<>\"(Null)\"),('NFET Data'!$AE37<>\"(Null)\"),('NFET Data'!$AD37<>\"(Null)\"),('NFET Data'!$AC37<>\"(Null)\")))","v":false},{"$f":"AND(((VGS_DR)>=10),OR(('NFET Data'!$AI37<>\"(Null)\"),('NFET Data'!$AH37<>\"(Null)\"),('NFET Data'!$AG37<>\"(Null)\"),('NFET Data'!$AF37<>\"(Null)\"),('NFET Data'!$AE37<>\"(Null)\"),('NFET Data'!$AD37<>\"(Null)\"),('NFET Data'!$AC37<>\"(Null)\")))","v":true},true,false]
[{"$f":"IF(R38,Load_Switch_NFET[[#This Row],[PARTNUMBER]],\"\")","v":""},null,{"$f":"AND((Load_Switch_NFET[[#This Row],[VDSMAX]]>=Vi*1.1),(Load_Switch_NFET[[#This Row],[VGSMAX]]>=(VGS_DR)*1.1),(Load_Switch_NFET[[#This Row],[IDSMAX]]>=Io),VGS_DR>=1.8)","v":false},{"$f":"AND(Vi<=27,Load_Switch_NFET[[#This Row],[VDSMAX]]<=30)","v":true},{"$f":"AND(Vi<=36,Vi>=20,Load_Switch_NFET[[#This Row],[VDSMAX]]=40)","v":false},{"$f":"AND(Vi<=54,Vi>=25,Load_Switch_NFET[[#This Row],[VDSMAX]]=60)","v":false},{"$f":"AND(Vi<=72,Vi>=36,Load_Switch_NFET[[#This Row],[VDSMAX]]=80)","v":false},{"$f":"AND(Vi<=90,Vi>=48,Load_Switch_NFET[[#This Row],[VDSMAX]]=100)","v":false},true,{"$f":"AND(((VGS_DR)<2.5),('NFET Data'!$AC38<>\"(Null)\"))","v":false},{"$f":"AND(((VGS_DR)>=2.5),((VGS_DR)<3),OR(('NFET Data'!$AD38<>\"(Null)\"),('NFET Data'!$AC38<>\"(Null)\")))","v":false},{"$f":"AND(((VGS_DR)>=3),((VGS_DR)<4.5),OR(('NFET Data'!$AE38<>\"(Null)\"),('NFET Data'!$AD38<>\"(Null)\"),('NFET Data'!$AC38<>\"(Null)\")))","v":false},{"$f":"AND(((VGS_DR)>=4.5),((VGS_DR)<6),OR(('NFET Data'!$AF38<>\"(Null)\"),('NFET Data'!$AE38<>\"(Null)\"),('NFET Data'!$AD38<>\"(Null)\"),('NFET Data'!$AC38<>\"(Null)\")))","v":false},{"$f":"AND(((VGS_DR)>=6),((VGS_DR)<8),OR(('NFET Data'!$AG38<>\"(Null)\"),('NFET Data'!$AF38<>\"(Null)\"),('NFET Data'!$AE38<>\"(Null)\"),('NFET Data'!$AD38<>\"(Null)\"),('NFET Data'!$AC38<>\"(Null)\")))","v":false},{"$f":"AND(((VGS_DR)>=8),((VGS_DR)<10),OR(('NFET Data'!$AH38<>\"(Null)\"),('NFET Data'!$AG38<>\"(Null)\"),('NFET Data'!$AF38<>\"(Null)\"),('NFET Data'!$AE38<>\"(Null)\"),('NFET Data'!$AD38<>\"(Null)\"),('NFET Data'!$AC38<>\"(Null)\")))","v":false},{"$f":"AND(((VGS_DR)>=10),OR(('NFET Data'!$AI38<>\"(Null)\"),('NFET Data'!$AH38<>\"(Null)\"),('NFET Data'!$AG38<>\"(Null)\"),('NFET Data'!$AF38<>\"(Null)\"),('NFET Data'!$AE38<>\"(Null)\"),('NFET Data'!$AD38<>\"(Null)\"),('NFET Data'!$AC38<>\"(Null)\")))","v":true},true,false]
[{"$f":"IF(R39,Load_Switch_NFET[[#This Row],[PARTNUMBER]],\"\")","v":""},null,{"$f":"AND((Load_Switch_NFET[[#This Row],[VDSMAX]]>=Vi*1.1),(Load_Switch_NFET[[#This Row],[VGSMAX]]>=(VGS_DR)*1.1),(Load_Switch_NFET[[#This Row],[IDSMAX]]>=Io),VGS_DR>=1.8)","v":false},{"$f":"AND(Vi<=27,Load_Switch_NFET[[#This Row],[VDSMAX]]<=30)","v":true},{"$f":"AND(Vi<=36,Vi>=20,Load_Switch_NFET[[#This Row],[VDSMAX]]=40)","v":false},{"$f":"AND(Vi<=54,Vi>=25,Load_Switch_NFET[[#This Row],[VDSMAX]]=60)","v":false},{"$f":"AND(Vi<=72,Vi>=36,Load_Switch_NFET[[#This Row],[VDSMAX]]=80)","v":false},{"$f":"AND(Vi<=90,Vi>=48,Load_Switch_NFET[[#This Row],[VDSMAX]]=100)","v":false},true,{"$f":"AND(((VGS_DR)<2.5),('NFET Data'!$AC39<>\"(Null)\"))","v":false},{"$f":"AND(((VGS_DR)>=2.5),((VGS_DR)<3),OR(('NFET Data'!$AD39<>\"(Null)\"),('NFET Data'!$AC39<>\"(Null)\")))","v":false},{"$f":"AND(((VGS_DR)>=3),((VGS_DR)<4.5),OR(('NFET Data'!$AE39<>\"(Null)\"),('NFET Data'!$AD39<>\"(Null)\"),('NFET Data'!$AC39<>\"(Null)\")))","v":false},{"$f":"AND(((VGS_DR)>=4.5),((VGS_DR)<6),OR(('NFET Data'!$AF39<>\"(Null)\"),('NFET Data'!$AE39<>\"(Null)\"),('NFET Data'!$AD39<>\"(Null)\"),('NFET Data'!$AC39<>\"(Null)\")))","v":false},{"$f":"AND(((VGS_DR)>=6),((VGS_DR)<8),OR(('NFET Data'!$AG39<>\"(Null)\"),('NFET Data'!$AF39<>\"(Null)\"),('NFET Data'!$AE39<>\"(Null)\"),('NFET Data'!$AD39<>\"(Null)\"),('NFET Data'!$AC39<>\"(Null)\")))","v":false},{"$f":"AND(((VGS_DR)>=8),((VGS_DR)<10),OR(('NFET Data'!$AH39<>\"(Null)\"),('NFET Data'!$AG39<>\"(Null)\"),('NFET Data'!$AF39<>\"(Null)\"),('NFET Data'!$AE39<>\"(Null)\"),('NFET Data'!$AD39<>\"(Null)\"),('NFET Data'!$AC39<>\"(Null)\")))","v":false},{"$f":"AND(((VGS_DR)>=10),OR(('NFET Data'!$AI39<>\"(Null)\"),('NFET Data'!$AH39<>\"(Null)\"),('NFET Data'!$AG39<>\"(Null)\"),('NFET Data'!$AF39<>\"(Null)\"),('NFET Data'!$AE39<>\"(Null)\"),('NFET Data'!$AD39<>\"(Null)\"),('NFET Data'!$AC39<>\"(Null)\")))","v":true},true,false]
[{"$f":"IF(R40,Load_Switch_NFET[[#This Row],[PARTNUMBER]],\"\")","v":""},null,{"$f":"AND((Load_Switch_NFET[[#This Row],[VDSMAX]]>=Vi*1.1),(Load_Switch_NFET[[#This Row],[VGSMAX]]>=(VGS_DR)*1.1),(Load_Switch_NFET[[#This Row],[IDSMAX]]>=Io),VGS_DR>=1.8)","v":false},{"$f":"AND(Vi<=27,Load_Switch_NFET[[#This Row],[VDSMAX]]<=30)","v":true},{"$f":"AND(Vi<=36,Vi>=20,Load_Switch_NFET[[#This Row],[VDSMAX]]=40)","v":false},{"$f":"AND(Vi<=54,Vi>=25,Load_Switch_NFET[[#This Row],[VDSMAX]]=60)","v":false},{"$f":"AND(Vi<=72,Vi>=36,Load_Switch_NFET[[#This Row],[VDSMAX]]=80)","v":false},{"$f":"AND(Vi<=90,Vi>=48,Load_Switch_NFET[[#This Row],[VDSMAX]]=100)","v":false},true,{"$f":"AND(((VGS_DR)<2.5),('NFET Data'!$AC40<>\"(Null)\"))","v":false},{"$f":"AND(((VGS_DR)>=2.5),((VGS_DR)<3),OR(('NFET Data'!$AD40<>\"(Null)\"),('NFET Data'!$AC40<>\"(Null)\")))","v":false},{"$f":"AND(((VGS_DR)>=3),((VGS_DR)<4.5),OR(('NFET Data'!$AE40<>\"(Null)\"),('NFET Data'!$AD40<>\"(Null)\"),('NFET Data'!$AC40<>\"(Null)\")))","v":false},{"$f":"AND(((VGS_DR)>=4.5),((VGS_DR)<6),OR(('NFET Data'!$AF40<>\"(Null)\"),('NFET Data'!$AE40<>\"(Null)\"),('NFET Data'!$AD40<>\"(Null)\"),('NFET Data'!$AC40<>\"(Null)\")))","v":false},{"$f":"AND(((VGS_DR)>=6),((VGS_DR)<8),OR(('NFET Data'!$AG40<>\"(Null)\"),('NFET Data'!$AF40<>\"(Null)\"),('NFET Data'!$AE40<>\"(Null)\"),('NFET Data'!$AD40<>\"(Null)\"),('NFET Data'!$AC40<>\"(Null)\")))","v":false},{"$f":"AND(((VGS_DR)>=8),((VGS_DR)<10),OR(('NFET Data'!$AH40<>\"(Null)\"),('NFET Data'!$AG40<>\"(Null)\"),('NFET Data'!$AF40<>\"(Null)\"),('NFET Data'!$AE40<>\"(Null)\"),('NFET Data'!$AD40<>\"(Null)\"),('NFET Data'!$AC40<>\"(Null)\")))","v":false},{"$f":"AND(((VGS_DR)>=10),OR(('NFET Data'!$AI40<>\"(Null)\"),('NFET Data'!$AH40<>\"(Null)\"),('NFET Data'!$AG40<>\"(Null)\"),('NFET Data'!$AF40<>\"(Null)\"),('NFET Data'!$AE40<>\"(Null)\"),('NFET Data'!$AD40<>\"(Null)\"),('NFET Data'!$AC40<>\"(Null)\")))","v":true},true,false]
[{"$f":"IF(R41,Load_Switch_NFET[[#This Row],[PARTNUMBER]],\"\")","v":""},null,{"$f":"AND((Load_Switch_NFET[[#This Row],[VDSMAX]]>=Vi*1.1),(Load_Switch_NFET[[#This Row],[VGSMAX]]>=(VGS_DR)*1.1),(Load_Switch_NFET[[#This Row],[IDSMAX]]>=Io),VGS_DR>=1.8)","v":false},{"$f":"AND(Vi<=27,Load_Switch_NFET[[#This Row],[VDSMAX]]<=30)","v":true},{"$f":"AND(Vi<=36,Vi>=20,Load_Switch_NFET[[#This Row],[VDSMAX]]=40)","v":false},{"$f":"AND(Vi<=54,Vi>=25,Load_Switch_NFET[[#This Row],[VDSMAX]]=60)","v":false},{"$f":"AND(Vi<=72,Vi>=36,Load_Switch_NFET[[#This Row],[VDSMAX]]=80)","v":false},{"$f":"AND(Vi<=90,Vi>=48,Load_Switch_NFET[[#This Row],[VDSMAX]]=100)","v":false},true,{"$f":"AND(((VGS_DR)<2.5),('NFET Data'!$AC41<>\"(Null)\"))","v":false},{"$f":"AND(((VGS_DR)>=2.5),((VGS_DR)<3),OR(('NFET Data'!$AD41<>\"(Null)\"),('NFET Data'!$AC41<>\"(Null)\")))","v":false},{"$f":"AND(((VGS_DR)>=3),((VGS_DR)<4.5),OR(('NFET Data'!$AE41<>\"(Null)\"),('NFET Data'!$AD41<>\"(Null)\"),('NFET Data'!$AC41<>\"(Null)\")))","v":false},{"$f":"AND(((VGS_DR)>=4.5),((VGS_DR)<6),OR(('NFET Data'!$AF41<>\"(Null)\"),('NFET Data'!$AE41<>\"(Null)\"),('NFET Data'!$AD41<>\"(Null)\"),('NFET Data'!$AC41<>\"(Null)\")))","v":false},{"$f":"AND(((VGS_DR)>=6),((VGS_DR)<8),OR(('NFET Data'!$AG41<>\"(Null)\"),('NFET Data'!$AF41<>\"(Null)\"),('NFET Data'!$AE41<>\"(Null)\"),('NFET Data'!$AD41<>\"(Null)\"),('NFET Data'!$AC41<>\"(Null)\")))","v":false},{"$f":"AND(((VGS_DR)>=8),((VGS_DR)<10),OR(('NFET Data'!$AH41<>\"(Null)\"),('NFET Data'!$AG41<>\"(Null)\"),('NFET Data'!$AF41<>\"(Null)\"),('NFET Data'!$AE41<>\"(Null)\"),('NFET Data'!$AD41<>\"(Null)\"),('NFET Data'!$AC41<>\"(Null)\")))","v":false},{"$f":"AND(((VGS_DR)>=10),OR(('NFET Data'!$AI41<>\"(Null)\"),('NFET Data'!$AH41<>\"(Null)\"),('NFET Data'!$AG41<>\"(Null)\"),('NFET Data'!$AF41<>\"(Null)\"),('NFET Data'!$AE41<>\"(Null)\"),('NFET Data'!$AD41<>\"(Null)\"),('NFET Data'!$AC41<>\"(Null)\")))","v":true},true,false]
[{"$f":"IF(R42,Load_Switch_NFET[[#This Row],[PARTNUMBER]],\"\")","v":""},null,{"$f":"AND((Load_Switch_NFET[[#This Row],[VDSMAX]]>=Vi*1.1),(Load_Switch_NFET[[#This Row],[VGSMAX]]>=(VGS_DR)*1.1),(Load_Switch_NFET[[#This Row],[IDSMAX]]>=Io),VGS_DR>=1.8)","v":false},{"$f":"AND(Vi<=27,Load_Switch_NFET[[#This Row],[VDSMAX]]<=30)","v":true},{"$f":"AND(Vi<=36,Vi>=20,Load_Switch_NFET[[#This Row],[VDSMAX]]=40)","v":false},{"$f":"AND(Vi<=54,Vi>=25,Load_Switch_NFET[[#This Row],[VDSMAX]]=60)","v":false},{"$f":"AND(Vi<=72,Vi>=36,Load_Switch_NFET[[#This Row],[VDSMAX]]=80)","v":false},{"$f":"AND(Vi<=90,Vi>=48,Load_Switch_NFET[[#This Row],[VDSMAX]]=100)","v":false},true,{"$f":"AND(((VGS_DR)<2.5),('NFET Data'!$AC42<>\"(Null)\"))","v":false},{"$f":"AND(((VGS_DR)>=2.5),((VGS_DR)<3),OR(('NFET Data'!$AD42<>\"(Null)\"),('NFET Data'!$AC42<>\"(Null)\")))","v":false},{"$f":"AND(((VGS_DR)>=3),((VGS_DR)<4.5),OR(('NFET Data'!$AE42<>\"(Null)\"),('NFET Data'!$AD42<>\"(Null)\"),('NFET Data'!$AC42<>\"(Null)\")))","v":false},{"$f":"AND(((VGS_DR)>=4.5),((VGS_DR)<6),OR(('NFET Data'!$AF42<>\"(Null)\"),('NFET Data'!$AE42<>\"(Null)\"),('NFET Data'!$AD42<>\"(Null)\"),('NFET Data'!$AC42<>\"(Null)\")))","v":false},{"$f":"AND(((VGS_DR)>=6),((VGS_DR)<8),OR(('NFET Data'!$AG42<>\"(Null)\"),('NFET Data'!$AF42<>\"(Null)\"),('NFET Data'!$AE42<>\"(Null)\"),('NFET Data'!$AD42<>\"(Null)\"),('NFET Data'!$AC42<>\"(Null)\")))","v":false},{"$f":"AND(((VGS_DR)>=8),((VGS_DR)<10),OR(('NFET Data'!$AH42<>\"(Null)\"),('NFET Data'!$AG42<>\"(Null)\"),('NFET Data'!$AF42<>\"(Null)\"),('NFET Data'!$AE42<>\"(Null)\"),('NFET Data'!$AD42<>\"(Null)\"),('NFET Data'!$AC42<>\"(Null)\")))","v":false},{"$f":"AND(((VGS_DR)>=10),OR(('NFET Data'!$AI42<>\"(Null)\"),('NFET Data'!$AH42<>\"(Null)\"),('NFET Data'!$AG42<>\"(Null)\"),('NFET Data'!$AF42<>\"(Null)\"),('NFET Data'!$AE42<>\"(Null)\"),('NFET Data'!$AD42<>\"(Null)\"),('NFET Data'!$AC42<>\"(Null)\")))","v":true},true,false]
[{"$f":"IF(R43,Load_Switch_NFET[[#This Row],[PARTNUMBER]],\"\")","v":""},null,{"$f":"AND((Load_Switch_NFET[[#This Row],[VDSMAX]]>=Vi*1.1),(Load_Switch_NFET[[#This Row],[VGSMAX]]>=(VGS_DR)*1.1),(Load_Switch_NFET[[#This Row],[IDSMAX]]>=Io),VGS_DR>=1.8)","v":false},{"$f":"AND(Vi<=27,Load_Switch_NFET[[#This Row],[VDSMAX]]<=30)","v":true},{"$f":"AND(Vi<=36,Vi>=20,Load_Switch_NFET[[#This Row],[VDSMAX]]=40)","v":false},{"$f":"AND(Vi<=54,Vi>=25,Load_Switch_NFET[[#This Row],[VDSMAX]]=60)","v":false},{"$f":"AND(Vi<=72,Vi>=36,Load_Switch_NFET[[#This Row],[VDSMAX]]=80)","v":false},{"$f":"AND(Vi<=90,Vi>=48,Load_Switch_NFET[[#This Row],[VDSMAX]]=100)","v":false},true,{"$f":"AND(((VGS_DR)<2.5),('NFET Data'!$AC43<>\"(Null)\"))","v":false},{"$f":"AND(((VGS_DR)>=2.5),((VGS_DR)<3),OR(('NFET Data'!$AD43<>\"(Null)\"),('NFET Data'!$AC43<>\"(Null)\")))","v":false},{"$f":"AND(((VGS_DR)>=3),((VGS_DR)<4.5),OR(('NFET Data'!$AE43<>\"(Null)\"),('NFET Data'!$AD43<>\"(Null)\"),('NFET Data'!$AC43<>\"(Null)\")))","v":false},{"$f":"AND(((VGS_DR)>=4.5),((VGS_DR)<6),OR(('NFET Data'!$AF43<>\"(Null)\"),('NFET Data'!$AE43<>\"(Null)\"),('NFET Data'!$AD43<>\"(Null)\"),('NFET Data'!$AC43<>\"(Null)\")))","v":false},{"$f":"AND(((VGS_DR)>=6),((VGS_DR)<8),OR(('NFET Data'!$AG43<>\"(Null)\"),('NFET Data'!$AF43<>\"(Null)\"),('NFET Data'!$AE43<>\"(Null)\"),('NFET Data'!$AD43<>\"(Null)\"),('NFET Data'!$AC43<>\"(Null)\")))","v":false},{"$f":"AND(((VGS_DR)>=8),((VGS_DR)<10),OR(('NFET Data'!$AH43<>\"(Null)\"),('NFET Data'!$AG43<>\"(Null)\"),('NFET Data'!$AF43<>\"(Null)\"),('NFET Data'!$AE43<>\"(Null)\"),('NFET Data'!$AD43<>\"(Null)\"),('NFET Data'!$AC43<>\"(Null)\")))","v":false},{"$f":"AND(((VGS_DR)>=10),OR(('NFET Data'!$AI43<>\"(Null)\"),('NFET Data'!$AH43<>\"(Null)\"),('NFET Data'!$AG43<>\"(Null)\"),('NFET Data'!$AF43<>\"(Null)\"),('NFET Data'!$AE43<>\"(Null)\"),('NFET Data'!$AD43<>\"(Null)\"),('NFET Data'!$AC43<>\"(Null)\")))","v":true},true,false]
[{"$f":"IF(R44,Load_Switch_NFET[[#This Row],[PARTNUMBER]],\"\")","v":""},null,{"$f":"AND((Load_Switch_NFET[[#This Row],[VDSMAX]]>=Vi*1.1),(Load_Switch_NFET[[#This Row],[VGSMAX]]>=(VGS_DR)*1.1),(Load_Switch_NFET[[#This Row],[IDSMAX]]>=Io),VGS_DR>=1.8)","v":false},{"$f":"AND(Vi<=27,Load_Switch_NFET[[#This Row],[VDSMAX]]<=30)","v":true},{"$f":"AND(Vi<=36,Vi>=20,Load_Switch_NFET[[#This Row],[VDSMAX]]=40)","v":false},{"$f":"AND(Vi<=54,Vi>=25,Load_Switch_NFET[[#This Row],[VDSMAX]]=60)","v":false},{"$f":"AND(Vi<=72,Vi>=36,Load_Switch_NFET[[#This Row],[VDSMAX]]=80)","v":false},{"$f":"AND(Vi<=90,Vi>=48,Load_Switch_NFET[[#This Row],[VDSMAX]]=100)","v":false},true,{"$f":"AND(((VGS_DR)<2.5),('NFET Data'!$AC44<>\"(Null)\"))","v":false},{"$f":"AND(((VGS_DR)>=2.5),((VGS_DR)<3),OR(('NFET Data'!$AD44<>\"(Null)\"),('NFET Data'!$AC44<>\"(Null)\")))","v":false},{"$f":"AND(((VGS_DR)>=3),((VGS_DR)<4.5),OR(('NFET Data'!$AE44<>\"(Null)\"),('NFET Data'!$AD44<>\"(Null)\"),('NFET Data'!$AC44<>\"(Null)\")))","v":false},{"$f":"AND(((VGS_DR)>=4.5),((VGS_DR)<6),OR(('NFET Data'!$AF44<>\"(Null)\"),('NFET Data'!$AE44<>\"(Null)\"),('NFET Data'!$AD44<>\"(Null)\"),('NFET Data'!$AC44<>\"(Null)\")))","v":false},{"$f":"AND(((VGS_DR)>=6),((VGS_DR)<8),OR(('NFET Data'!$AG44<>\"(Null)\"),('NFET Data'!$AF44<>\"(Null)\"),('NFET Data'!$AE44<>\"(Null)\"),('NFET Data'!$AD44<>\"(Null)\"),('NFET Data'!$AC44<>\"(Null)\")))","v":false},{"$f":"AND(((VGS_DR)>=8),((VGS_DR)<10),OR(('NFET Data'!$AH44<>\"(Null)\"),('NFET Data'!$AG44<>\"(Null)\"),('NFET Data'!$AF44<>\"(Null)\"),('NFET Data'!$AE44<>\"(Null)\"),('NFET Data'!$AD44<>\"(Null)\"),('NFET Data'!$AC44<>\"(Null)\")))","v":false},{"$f":"AND(((VGS_DR)>=10),OR(('NFET Data'!$AI44<>\"(Null)\"),('NFET Data'!$AH44<>\"(Null)\"),('NFET Data'!$AG44<>\"(Null)\"),('NFET Data'!$AF44<>\"(Null)\"),('NFET Data'!$AE44<>\"(Null)\"),('NFET Data'!$AD44<>\"(Null)\"),('NFET Data'!$AC44<>\"(Null)\")))","v":true},true,false]
[{"$f":"IF(R45,Load_Switch_NFET[[#This Row],[PARTNUMBER]],\"\")","v":""},null,{"$f":"AND((Load_Switch_NFET[[#This Row],[VDSMAX]]>=Vi*1.1),(Load_Switch_NFET[[#This Row],[VGSMAX]]>=(VGS_DR)*1.1),(Load_Switch_NFET[[#This Row],[IDSMAX]]>=Io),VGS_DR>=1.8)","v":false},{"$f":"AND(Vi<=27,Load_Switch_NFET[[#This Row],[VDSMAX]]<=30)","v":true},{"$f":"AND(Vi<=36,Vi>=20,Load_Switch_NFET[[#This Row],[VDSMAX]]=40)","v":false},{"$f":"AND(Vi<=54,Vi>=25,Load_Switch_NFET[[#This Row],[VDSMAX]]=60)","v":false},{"$f":"AND(Vi<=72,Vi>=36,Load_Switch_NFET[[#This Row],[VDSMAX]]=80)","v":false},{"$f":"AND(Vi<=90,Vi>=48,Load_Switch_NFET[[#This Row],[VDSMAX]]=100)","v":false},true,{"$f":"AND(((VGS_DR)<2.5),('NFET Data'!$AC45<>\"(Null)\"))","v":false},{"$f":"AND(((VGS_DR)>=2.5),((VGS_DR)<3),OR(('NFET Data'!$AD45<>\"(Null)\"),('NFET Data'!$AC45<>\"(Null)\")))","v":false},{"$f":"AND(((VGS_DR)>=3),((VGS_DR)<4.5),OR(('NFET Data'!$AE45<>\"(Null)\"),('NFET Data'!$AD45<>\"(Null)\"),('NFET Data'!$AC45<>\"(Null)\")))","v":false},{"$f":"AND(((VGS_DR)>=4.5),((VGS_DR)<6),OR(('NFET Data'!$AF45<>\"(Null)\"),('NFET Data'!$AE45<>\"(Null)\"),('NFET Data'!$AD45<>\"(Null)\"),('NFET Data'!$AC45<>\"(Null)\")))","v":false},{"$f":"AND(((VGS_DR)>=6),((VGS_DR)<8),OR(('NFET Data'!$AG45<>\"(Null)\"),('NFET Data'!$AF45<>\"(Null)\"),('NFET Data'!$AE45<>\"(Null)\"),('NFET Data'!$AD45<>\"(Null)\"),('NFET Data'!$AC45<>\"(Null)\")))","v":false},{"$f":"AND(((VGS_DR)>=8),((VGS_DR)<10),OR(('NFET Data'!$AH45<>\"(Null)\"),('NFET Data'!$AG45<>\"(Null)\"),('NFET Data'!$AF45<>\"(Null)\"),('NFET Data'!$AE45<>\"(Null)\"),('NFET Data'!$AD45<>\"(Null)\"),('NFET Data'!$AC45<>\"(Null)\")))","v":false},{"$f":"AND(((VGS_DR)>=10),OR(('NFET Data'!$AI45<>\"(Null)\"),('NFET Data'!$AH45<>\"(Null)\"),('NFET Data'!$AG45<>\"(Null)\"),('NFET Data'!$AF45<>\"(Null)\"),('NFET Data'!$AE45<>\"(Null)\"),('NFET Data'!$AD45<>\"(Null)\"),('NFET Data'!$AC45<>\"(Null)\")))","v":true},true,false]
[{"$f":"IF(R46,Load_Switch_NFET[[#This Row],[PARTNUMBER]],\"\")","v":""},null,{"$f":"AND((Load_Switch_NFET[[#This Row],[VDSMAX]]>=Vi*1.1),(Load_Switch_NFET[[#This Row],[VGSMAX]]>=(VGS_DR)*1.1),(Load_Switch_NFET[[#This Row],[IDSMAX]]>=Io),VGS_DR>=1.8)","v":false},{"$f":"AND(Vi<=27,Load_Switch_NFET[[#This Row],[VDSMAX]]<=30)","v":true},{"$f":"AND(Vi<=36,Vi>=20,Load_Switch_NFET[[#This Row],[VDSMAX]]=40)","v":false},{"$f":"AND(Vi<=54,Vi>=25,Load_Switch_NFET[[#This Row],[VDSMAX]]=60)","v":false},{"$f":"AND(Vi<=72,Vi>=36,Load_Switch_NFET[[#This Row],[VDSMAX]]=80)","v":false},{"$f":"AND(Vi<=90,Vi>=48,Load_Switch_NFET[[#This Row],[VDSMAX]]=100)","v":false},true,{"$f":"AND(((VGS_DR)<2.5),('NFET Data'!$AC46<>\"(Null)\"))","v":false},{"$f":"AND(((VGS_DR)>=2.5),((VGS_DR)<3),OR(('NFET Data'!$AD46<>\"(Null)\"),('NFET Data'!$AC46<>\"(Null)\")))","v":false},{"$f":"AND(((VGS_DR)>=3),((VGS_DR)<4.5),OR(('NFET Data'!$AE46<>\"(Null)\"),('NFET Data'!$AD46<>\"(Null)\"),('NFET Data'!$AC46<>\"(Null)\")))","v":false},{"$f":"AND(((VGS_DR)>=4.5),((VGS_DR)<6),OR(('NFET Data'!$AF46<>\"(Null)\"),('NFET Data'!$AE46<>\"(Null)\"),('NFET Data'!$AD46<>\"(Null)\"),('NFET Data'!$AC46<>\"(Null)\")))","v":false},{"$f":"AND(((VGS_DR)>=6),((VGS_DR)<8),OR(('NFET Data'!$AG46<>\"(Null)\"),('NFET Data'!$AF46<>\"(Null)\"),('NFET Data'!$AE46<>\"(Null)\"),('NFET Data'!$AD46<>\"(Null)\"),('NFET Data'!$AC46<>\"(Null)\")))","v":false},{"$f":"AND(((VGS_DR)>=8),((VGS_DR)<10),OR(('NFET Data'!$AH46<>\"(Null)\"),('NFET Data'!$AG46<>\"(Null)\"),('NFET Data'!$AF46<>\"(Null)\"),('NFET Data'!$AE46<>\"(Null)\"),('NFET Data'!$AD46<>\"(Null)\"),('NFET Data'!$AC46<>\"(Null)\")))","v":false},{"$f":"AND(((VGS_DR)>=10),OR(('NFET Data'!$AI46<>\"(Null)\"),('NFET Data'!$AH46<>\"(Null)\"),('NFET Data'!$AG46<>\"(Null)\"),('NFET Data'!$AF46<>\"(Null)\"),('NFET Data'!$AE46<>\"(Null)\"),('NFET Data'!$AD46<>\"(Null)\"),('NFET Data'!$AC46<>\"(Null)\")))","v":true},true,false]
[{"$f":"IF(R47,Load_Switch_NFET[[#This Row],[PARTNUMBER]],\"\")","v":""},null,{"$f":"AND((Load_Switch_NFET[[#This Row],[VDSMAX]]>=Vi*1.1),(Load_Switch_NFET[[#This Row],[VGSMAX]]>=(VGS_DR)*1.1),(Load_Switch_NFET[[#This Row],[IDSMAX]]>=Io),VGS_DR>=1.8)","v":false},{"$f":"AND(Vi<=27,Load_Switch_NFET[[#This Row],[VDSMAX]]<=30)","v":true},{"$f":"AND(Vi<=36,Vi>=20,Load_Switch_NFET[[#This Row],[VDSMAX]]=40)","v":false},{"$f":"AND(Vi<=54,Vi>=25,Load_Switch_NFET[[#This Row],[VDSMAX]]=60)","v":false},{"$f":"AND(Vi<=72,Vi>=36,Load_Switch_NFET[[#This Row],[VDSMAX]]=80)","v":false},{"$f":"AND(Vi<=90,Vi>=48,Load_Switch_NFET[[#This Row],[VDSMAX]]=100)","v":false},true,{"$f":"AND(((VGS_DR)<2.5),('NFET Data'!$AC47<>\"(Null)\"))","v":false},{"$f":"AND(((VGS_DR)>=2.5),((VGS_DR)<3),OR(('NFET Data'!$AD47<>\"(Null)\"),('NFET Data'!$AC47<>\"(Null)\")))","v":false},{"$f":"AND(((VGS_DR)>=3),((VGS_DR)<4.5),OR(('NFET Data'!$AE47<>\"(Null)\"),('NFET Data'!$AD47<>\"(Null)\"),('NFET Data'!$AC47<>\"(Null)\")))","v":false},{"$f":"AND(((VGS_DR)>=4.5),((VGS_DR)<6),OR(('NFET Data'!$AF47<>\"(Null)\"),('NFET Data'!$AE47<>\"(Null)\"),('NFET Data'!$AD47<>\"(Null)\"),('NFET Data'!$AC47<>\"(Null)\")))","v":false},{"$f":"AND(((VGS_DR)>=6),((VGS_DR)<8),OR(('NFET Data'!$AG47<>\"(Null)\"),('NFET Data'!$AF47<>\"(Null)\"),('NFET Data'!$AE47<>\"(Null)\"),('NFET Data'!$AD47<>\"(Null)\"),('NFET Data'!$AC47<>\"(Null)\")))","v":false},{"$f":"AND(((VGS_DR)>=8),((VGS_DR)<10),OR(('NFET Data'!$AH47<>\"(Null)\"),('NFET Data'!$AG47<>\"(Null)\"),('NFET Data'!$AF47<>\"(Null)\"),('NFET Data'!$AE47<>\"(Null)\"),('NFET Data'!$AD47<>\"(Null)\"),('NFET Data'!$AC47<>\"(Null)\")))","v":false},{"$f":"AND(((VGS_DR)>=10),OR(('NFET Data'!$AI47<>\"(Null)\"),('NFET Data'!$AH47<>\"(Null)\"),('NFET Data'!$AG47<>\"(Null)\"),('NFET Data'!$AF47<>\"(Null)\"),('NFET Data'!$AE47<>\"(Null)\"),('NFET Data'!$AD47<>\"(Null)\"),('NFET Data'!$AC47<>\"(Null)\")))","v":true},true,false]
[{"$f":"IF(R48,Load_Switch_NFET[[#This Row],[PARTNUMBER]],\"\")","v":""},null,{"$f":"AND((Load_Switch_NFET[[#This Row],[VDSMAX]]>=Vi*1.1),(Load_Switch_NFET[[#This Row],[VGSMAX]]>=(VGS_DR)*1.1),(Load_Switch_NFET[[#This Row],[IDSMAX]]>=Io),VGS_DR>=1.8)","v":false},{"$f":"AND(Vi<=27,Load_Switch_NFET[[#This Row],[VDSMAX]]<=30)","v":true},{"$f":"AND(Vi<=36,Vi>=20,Load_Switch_NFET[[#This Row],[VDSMAX]]=40)","v":false},{"$f":"AND(Vi<=54,Vi>=25,Load_Switch_NFET[[#This Row],[VDSMAX]]=60)","v":false},{"$f":"AND(Vi<=72,Vi>=36,Load_Switch_NFET[[#This Row],[VDSMAX]]=80)","v":false},{"$f":"AND(Vi<=90,Vi>=48,Load_Switch_NFET[[#This Row],[VDSMAX]]=100)","v":false},true,{"$f":"AND(((VGS_DR)<2.5),('NFET Data'!$AC48<>\"(Null)\"))","v":false},{"$f":"AND(((VGS_DR)>=2.5),((VGS_DR)<3),OR(('NFET Data'!$AD48<>\"(Null)\"),('NFET Data'!$AC48<>\"(Null)\")))","v":false},{"$f":"AND(((VGS_DR)>=3),((VGS_DR)<4.5),OR(('NFET Data'!$AE48<>\"(Null)\"),('NFET Data'!$AD48<>\"(Null)\"),('NFET Data'!$AC48<>\"(Null)\")))","v":false},{"$f":"AND(((VGS_DR)>=4.5),((VGS_DR)<6),OR(('NFET Data'!$AF48<>\"(Null)\"),('NFET Data'!$AE48<>\"(Null)\"),('NFET Data'!$AD48<>\"(Null)\"),('NFET Data'!$AC48<>\"(Null)\")))","v":false},{"$f":"AND(((VGS_DR)>=6),((VGS_DR)<8),OR(('NFET Data'!$AG48<>\"(Null)\"),('NFET Data'!$AF48<>\"(Null)\"),('NFET Data'!$AE48<>\"(Null)\"),('NFET Data'!$AD48<>\"(Null)\"),('NFET Data'!$AC48<>\"(Null)\")))","v":false},{"$f":"AND(((VGS_DR)>=8),((VGS_DR)<10),OR(('NFET Data'!$AH48<>\"(Null)\"),('NFET Data'!$AG48<>\"(Null)\"),('NFET Data'!$AF48<>\"(Null)\"),('NFET Data'!$AE48<>\"(Null)\"),('NFET Data'!$AD48<>\"(Null)\"),('NFET Data'!$AC48<>\"(Null)\")))","v":false},{"$f":"AND(((VGS_DR)>=10),OR(('NFET Data'!$AI48<>\"(Null)\"),('NFET Data'!$AH48<>\"(Null)\"),('NFET Data'!$AG48<>\"(Null)\"),('NFET Data'!$AF48<>\"(Null)\"),('NFET Data'!$AE48<>\"(Null)\"),('NFET Data'!$AD48<>\"(Null)\"),('NFET Data'!$AC48<>\"(Null)\")))","v":true},true,false]
[{"$f":"IF(R49,Load_Switch_NFET[[#This Row],[PARTNUMBER]],\"\")","v":""},null,{"$f":"AND((Load_Switch_NFET[[#This Row],[VDSMAX]]>=Vi*1.1),(Load_Switch_NFET[[#This Row],[VGSMAX]]>=(VGS_DR)*1.1),(Load_Switch_NFET[[#This Row],[IDSMAX]]>=Io),VGS_DR>=1.8)","v":false},{"$f":"AND(Vi<=27,Load_Switch_NFET[[#This Row],[VDSMAX]]<=30)","v":true},{"$f":"AND(Vi<=36,Vi>=20,Load_Switch_NFET[[#This Row],[VDSMAX]]=40)","v":false},{"$f":"AND(Vi<=54,Vi>=25,Load_Switch_NFET[[#This Row],[VDSMAX]]=60)","v":false},{"$f":"AND(Vi<=72,Vi>=36,Load_Switch_NFET[[#This Row],[VDSMAX]]=80)","v":false},{"$f":"AND(Vi<=90,Vi>=48,Load_Switch_NFET[[#This Row],[VDSMAX]]=100)","v":false},true,{"$f":"AND(((VGS_DR)<2.5),('NFET Data'!$AC49<>\"(Null)\"))","v":false},{"$f":"AND(((VGS_DR)>=2.5),((VGS_DR)<3),OR(('NFET Data'!$AD49<>\"(Null)\"),('NFET Data'!$AC49<>\"(Null)\")))","v":false},{"$f":"AND(((VGS_DR)>=3),((VGS_DR)<4.5),OR(('NFET Data'!$AE49<>\"(Null)\"),('NFET Data'!$AD49<>\"(Null)\"),('NFET Data'!$AC49<>\"(Null)\")))","v":false},{"$f":"AND(((VGS_DR)>=4.5),((VGS_DR)<6),OR(('NFET Data'!$AF49<>\"(Null)\"),('NFET Data'!$AE49<>\"(Null)\"),('NFET Data'!$AD49<>\"(Null)\"),('NFET Data'!$AC49<>\"(Null)\")))","v":false},{"$f":"AND(((VGS_DR)>=6),((VGS_DR)<8),OR(('NFET Data'!$AG49<>\"(Null)\"),('NFET Data'!$AF49<>\"(Null)\"),('NFET Data'!$AE49<>\"(Null)\"),('NFET Data'!$AD49<>\"(Null)\"),('NFET Data'!$AC49<>\"(Null)\")))","v":false},{"$f":"AND(((VGS_DR)>=8),((VGS_DR)<10),OR(('NFET Data'!$AH49<>\"(Null)\"),('NFET Data'!$AG49<>\"(Null)\"),('NFET Data'!$AF49<>\"(Null)\"),('NFET Data'!$AE49<>\"(Null)\"),('NFET Data'!$AD49<>\"(Null)\"),('NFET Data'!$AC49<>\"(Null)\")))","v":false},{"$f":"AND(((VGS_DR)>=10),OR(('NFET Data'!$AI49<>\"(Null)\"),('NFET Data'!$AH49<>\"(Null)\"),('NFET Data'!$AG49<>\"(Null)\"),('NFET Data'!$AF49<>\"(Null)\"),('NFET Data'!$AE49<>\"(Null)\"),('NFET Data'!$AD49<>\"(Null)\"),('NFET Data'!$AC49<>\"(Null)\")))","v":true},true,false]
[{"$f":"IF(R50,Load_Switch_NFET[[#This Row],[PARTNUMBER]],\"\")","v":""},null,{"$f":"AND((Load_Switch_NFET[[#This Row],[VDSMAX]]>=Vi*1.1),(Load_Switch_NFET[[#This Row],[VGSMAX]]>=(VGS_DR)*1.1),(Load_Switch_NFET[[#This Row],[IDSMAX]]>=Io),VGS_DR>=1.8)","v":false},{"$f":"AND(Vi<=27,Load_Switch_NFET[[#This Row],[VDSMAX]]<=30)","v":true},{"$f":"AND(Vi<=36,Vi>=20,Load_Switch_NFET[[#This Row],[VDSMAX]]=40)","v":false},{"$f":"AND(Vi<=54,Vi>=25,Load_Switch_NFET[[#This Row],[VDSMAX]]=60)","v":false},{"$f":"AND(Vi<=72,Vi>=36,Load_Switch_NFET[[#This Row],[VDSMAX]]=80)","v":false},{"$f":"AND(Vi<=90,Vi>=48,Load_Switch_NFET[[#This Row],[VDSMAX]]=100)","v":false},true,{"$f":"AND(((VGS_DR)<2.5),('NFET Data'!$AC50<>\"(Null)\"))","v":false},{"$f":"AND(((VGS_DR)>=2.5),((VGS_DR)<3),OR(('NFET Data'!$AD50<>\"(Null)\"),('NFET Data'!$AC50<>\"(Null)\")))","v":false},{"$f":"AND(((VGS_DR)>=3),((VGS_DR)<4.5),OR(('NFET Data'!$AE50<>\"(Null)\"),('NFET Data'!$AD50<>\"(Null)\"),('NFET Data'!$AC50<>\"(Null)\")))","v":false},{"$f":"AND(((VGS_DR)>=4.5),((VGS_DR)<6),OR(('NFET Data'!$AF50<>\"(Null)\"),('NFET Data'!$AE50<>\"(Null)\"),('NFET Data'!$AD50<>\"(Null)\"),('NFET Data'!$AC50<>\"(Null)\")))","v":false},{"$f":"AND(((VGS_DR)>=6),((VGS_DR)<8),OR(('NFET Data'!$AG50<>\"(Null)\"),('NFET Data'!$AF50<>\"(Null)\"),('NFET Data'!$AE50<>\"(Null)\"),('NFET Data'!$AD50<>\"(Null)\"),('NFET Data'!$AC50<>\"(Null)\")))","v":false},{"$f":"AND(((VGS_DR)>=8),((VGS_DR)<10),OR(('NFET Data'!$AH50<>\"(Null)\"),('NFET Data'!$AG50<>\"(Null)\"),('NFET Data'!$AF50<>\"(Null)\"),('NFET Data'!$AE50<>\"(Null)\"),('NFET Data'!$AD50<>\"(Null)\"),('NFET Data'!$AC50<>\"(Null)\")))","v":false},{"$f":"AND(((VGS_DR)>=10),OR(('NFET Data'!$AI50<>\"(Null)\"),('NFET Data'!$AH50<>\"(Null)\"),('NFET Data'!$AG50<>\"(Null)\"),('NFET Data'!$AF50<>\"(Null)\"),('NFET Data'!$AE50<>\"(Null)\"),('NFET Data'!$AD50<>\"(Null)\"),('NFET Data'!$AC50<>\"(Null)\")))","v":true},true,false]
[{"$f":"IF(R51,Load_Switch_NFET[[#This Row],[PARTNUMBER]],\"\")","v":""},null,{"$f":"AND((Load_Switch_NFET[[#This Row],[VDSMAX]]>=Vi*1.1),(Load_Switch_NFET[[#This Row],[VGSMAX]]>=(VGS_DR)*1.1),(Load_Switch_NFET[[#This Row],[IDSMAX]]>=Io),VGS_DR>=1.8)","v":false},{"$f":"AND(Vi<=27,Load_Switch_NFET[[#This Row],[VDSMAX]]<=30)","v":true},{"$f":"AND(Vi<=36,Vi>=20,Load_Switch_NFET[[#This Row],[VDSMAX]]=40)","v":false},{"$f":"AND(Vi<=54,Vi>=25,Load_Switch_NFET[[#This Row],[VDSMAX]]=60)","v":false},{"$f":"AND(Vi<=72,Vi>=36,Load_Switch_NFET[[#This Row],[VDSMAX]]=80)","v":false},{"$f":"AND(Vi<=90,Vi>=48,Load_Switch_NFET[[#This Row],[VDSMAX]]=100)","v":false},true,{"$f":"AND(((VGS_DR)<2.5),('NFET Data'!$AC51<>\"(Null)\"))","v":false},{"$f":"AND(((VGS_DR)>=2.5),((VGS_DR)<3),OR(('NFET Data'!$AD51<>\"(Null)\"),('NFET Data'!$AC51<>\"(Null)\")))","v":false},{"$f":"AND(((VGS_DR)>=3),((VGS_DR)<4.5),OR(('NFET Data'!$AE51<>\"(Null)\"),('NFET Data'!$AD51<>\"(Null)\"),('NFET Data'!$AC51<>\"(Null)\")))","v":false},{"$f":"AND(((VGS_DR)>=4.5),((VGS_DR)<6),OR(('NFET Data'!$AF51<>\"(Null)\"),('NFET Data'!$AE51<>\"(Null)\"),('NFET Data'!$AD51<>\"(Null)\"),('NFET Data'!$AC51<>\"(Null)\")))","v":false},{"$f":"AND(((VGS_DR)>=6),((VGS_DR)<8),OR(('NFET Data'!$AG51<>\"(Null)\"),('NFET Data'!$AF51<>\"(Null)\"),('NFET Data'!$AE51<>\"(Null)\"),('NFET Data'!$AD51<>\"(Null)\"),('NFET Data'!$AC51<>\"(Null)\")))","v":false},{"$f":"AND(((VGS_DR)>=8),((VGS_DR)<10),OR(('NFET Data'!$AH51<>\"(Null)\"),('NFET Data'!$AG51<>\"(Null)\"),('NFET Data'!$AF51<>\"(Null)\"),('NFET Data'!$AE51<>\"(Null)\"),('NFET Data'!$AD51<>\"(Null)\"),('NFET Data'!$AC51<>\"(Null)\")))","v":false},{"$f":"AND(((VGS_DR)>=10),OR(('NFET Data'!$AI51<>\"(Null)\"),('NFET Data'!$AH51<>\"(Null)\"),('NFET Data'!$AG51<>\"(Null)\"),('NFET Data'!$AF51<>\"(Null)\"),('NFET Data'!$AE51<>\"(Null)\"),('NFET Data'!$AD51<>\"(Null)\"),('NFET Data'!$AC51<>\"(Null)\")))","v":true},true,false]
[{"$f":"IF(R52,Load_Switch_NFET[[#This Row],[PARTNUMBER]],\"\")","v":""},null,{"$f":"AND((Load_Switch_NFET[[#This Row],[VDSMAX]]>=Vi*1.1),(Load_Switch_NFET[[#This Row],[VGSMAX]]>=(VGS_DR)*1.1),(Load_Switch_NFET[[#This Row],[IDSMAX]]>=Io),VGS_DR>=1.8)","v":false},{"$f":"AND(Vi<=27,Load_Switch_NFET[[#This Row],[VDSMAX]]<=30)","v":true},{"$f":"AND(Vi<=36,Vi>=20,Load_Switch_NFET[[#This Row],[VDSMAX]]=40)","v":false},{"$f":"AND(Vi<=54,Vi>=25,Load_Switch_NFET[[#This Row],[VDSMAX]]=60)","v":false},{"$f":"AND(Vi<=72,Vi>=36,Load_Switch_NFET[[#This Row],[VDSMAX]]=80)","v":false},{"$f":"AND(Vi<=90,Vi>=48,Load_Switch_NFET[[#This Row],[VDSMAX]]=100)","v":false},true,{"$f":"AND(((VGS_DR)<2.5),('NFET Data'!$AC52<>\"(Null)\"))","v":false},{"$f":"AND(((VGS_DR)>=2.5),((VGS_DR)<3),OR(('NFET Data'!$AD52<>\"(Null)\"),('NFET Data'!$AC52<>\"(Null)\")))","v":false},{"$f":"AND(((VGS_DR)>=3),((VGS_DR)<4.5),OR(('NFET Data'!$AE52<>\"(Null)\"),('NFET Data'!$AD52<>\"(Null)\"),('NFET Data'!$AC52<>\"(Null)\")))","v":false},{"$f":"AND(((VGS_DR)>=4.5),((VGS_DR)<6),OR(('NFET Data'!$AF52<>\"(Null)\"),('NFET Data'!$AE52<>\"(Null)\"),('NFET Data'!$AD52<>\"(Null)\"),('NFET Data'!$AC52<>\"(Null)\")))","v":false},{"$f":"AND(((VGS_DR)>=6),((VGS_DR)<8),OR(('NFET Data'!$AG52<>\"(Null)\"),('NFET Data'!$AF52<>\"(Null)\"),('NFET Data'!$AE52<>\"(Null)\"),('NFET Data'!$AD52<>\"(Null)\"),('NFET Data'!$AC52<>\"(Null)\")))","v":false},{"$f":"AND(((VGS_DR)>=8),((VGS_DR)<10),OR(('NFET Data'!$AH52<>\"(Null)\"),('NFET Data'!$AG52<>\"(Null)\"),('NFET Data'!$AF52<>\"(Null)\"),('NFET Data'!$AE52<>\"(Null)\"),('NFET Data'!$AD52<>\"(Null)\"),('NFET Data'!$AC52<>\"(Null)\")))","v":false},{"$f":"AND(((VGS_DR)>=10),OR(('NFET Data'!$AI52<>\"(Null)\"),('NFET Data'!$AH52<>\"(Null)\"),('NFET Data'!$AG52<>\"(Null)\"),('NFET Data'!$AF52<>\"(Null)\"),('NFET Data'!$AE52<>\"(Null)\"),('NFET Data'!$AD52<>\"(Null)\"),('NFET Data'!$AC52<>\"(Null)\")))","v":true},true,false]
[{"$f":"IF(R53,Load_Switch_NFET[[#This Row],[PARTNUMBER]],\"\")","v":""},null,{"$f":"AND((Load_Switch_NFET[[#This Row],[VDSMAX]]>=Vi*1.1),(Load_Switch_NFET[[#This Row],[VGSMAX]]>=(VGS_DR)*1.1),(Load_Switch_NFET[[#This Row],[IDSMAX]]>=Io),VGS_DR>=1.8)","v":false},{"$f":"AND(Vi<=27,Load_Switch_NFET[[#This Row],[VDSMAX]]<=30)","v":true},{"$f":"AND(Vi<=36,Vi>=20,Load_Switch_NFET[[#This Row],[VDSMAX]]=40)","v":false},{"$f":"AND(Vi<=54,Vi>=25,Load_Switch_NFET[[#This Row],[VDSMAX]]=60)","v":false},{"$f":"AND(Vi<=72,Vi>=36,Load_Switch_NFET[[#This Row],[VDSMAX]]=80)","v":false},{"$f":"AND(Vi<=90,Vi>=48,Load_Switch_NFET[[#This Row],[VDSMAX]]=100)","v":false},true,{"$f":"AND(((VGS_DR)<2.5),('NFET Data'!$AC53<>\"(Null)\"))","v":false},{"$f":"AND(((VGS_DR)>=2.5),((VGS_DR)<3),OR(('NFET Data'!$AD53<>\"(Null)\"),('NFET Data'!$AC53<>\"(Null)\")))","v":false},{"$f":"AND(((VGS_DR)>=3),((VGS_DR)<4.5),OR(('NFET Data'!$AE53<>\"(Null)\"),('NFET Data'!$AD53<>\"(Null)\"),('NFET Data'!$AC53<>\"(Null)\")))","v":false},{"$f":"AND(((VGS_DR)>=4.5),((VGS_DR)<6),OR(('NFET Data'!$AF53<>\"(Null)\"),('NFET Data'!$AE53<>\"(Null)\"),('NFET Data'!$AD53<>\"(Null)\"),('NFET Data'!$AC53<>\"(Null)\")))","v":false},{"$f":"AND(((VGS_DR)>=6),((VGS_DR)<8),OR(('NFET Data'!$AG53<>\"(Null)\"),('NFET Data'!$AF53<>\"(Null)\"),('NFET Data'!$AE53<>\"(Null)\"),('NFET Data'!$AD53<>\"(Null)\"),('NFET Data'!$AC53<>\"(Null)\")))","v":false},{"$f":"AND(((VGS_DR)>=8),((VGS_DR)<10),OR(('NFET Data'!$AH53<>\"(Null)\"),('NFET Data'!$AG53<>\"(Null)\"),('NFET Data'!$AF53<>\"(Null)\"),('NFET Data'!$AE53<>\"(Null)\"),('NFET Data'!$AD53<>\"(Null)\"),('NFET Data'!$AC53<>\"(Null)\")))","v":false},{"$f":"AND(((VGS_DR)>=10),OR(('NFET Data'!$AI53<>\"(Null)\"),('NFET Data'!$AH53<>\"(Null)\"),('NFET Data'!$AG53<>\"(Null)\"),('NFET Data'!$AF53<>\"(Null)\"),('NFET Data'!$AE53<>\"(Null)\"),('NFET Data'!$AD53<>\"(Null)\"),('NFET Data'!$AC53<>\"(Null)\")))","v":true},true,false]
[{"$f":"IF(R54,Load_Switch_NFET[[#This Row],[PARTNUMBER]],\"\")","v":""},null,{"$f":"AND((Load_Switch_NFET[[#This Row],[VDSMAX]]>=Vi*1.1),(Load_Switch_NFET[[#This Row],[VGSMAX]]>=(VGS_DR)*1.1),(Load_Switch_NFET[[#This Row],[IDSMAX]]>=Io),VGS_DR>=1.8)","v":false},{"$f":"AND(Vi<=27,Load_Switch_NFET[[#This Row],[VDSMAX]]<=30)","v":true},{"$f":"AND(Vi<=36,Vi>=20,Load_Switch_NFET[[#This Row],[VDSMAX]]=40)","v":false},{"$f":"AND(Vi<=54,Vi>=25,Load_Switch_NFET[[#This Row],[VDSMAX]]=60)","v":false},{"$f":"AND(Vi<=72,Vi>=36,Load_Switch_NFET[[#This Row],[VDSMAX]]=80)","v":false},{"$f":"AND(Vi<=90,Vi>=48,Load_Switch_NFET[[#This Row],[VDSMAX]]=100)","v":false},true,{"$f":"AND(((VGS_DR)<2.5),('NFET Data'!$AC54<>\"(Null)\"))","v":false},{"$f":"AND(((VGS_DR)>=2.5),((VGS_DR)<3),OR(('NFET Data'!$AD54<>\"(Null)\"),('NFET Data'!$AC54<>\"(Null)\")))","v":false},{"$f":"AND(((VGS_DR)>=3),((VGS_DR)<4.5),OR(('NFET Data'!$AE54<>\"(Null)\"),('NFET Data'!$AD54<>\"(Null)\"),('NFET Data'!$AC54<>\"(Null)\")))","v":false},{"$f":"AND(((VGS_DR)>=4.5),((VGS_DR)<6),OR(('NFET Data'!$AF54<>\"(Null)\"),('NFET Data'!$AE54<>\"(Null)\"),('NFET Data'!$AD54<>\"(Null)\"),('NFET Data'!$AC54<>\"(Null)\")))","v":false},{"$f":"AND(((VGS_DR)>=6),((VGS_DR)<8),OR(('NFET Data'!$AG54<>\"(Null)\"),('NFET Data'!$AF54<>\"(Null)\"),('NFET Data'!$AE54<>\"(Null)\"),('NFET Data'!$AD54<>\"(Null)\"),('NFET Data'!$AC54<>\"(Null)\")))","v":false},{"$f":"AND(((VGS_DR)>=8),((VGS_DR)<10),OR(('NFET Data'!$AH54<>\"(Null)\"),('NFET Data'!$AG54<>\"(Null)\"),('NFET Data'!$AF54<>\"(Null)\"),('NFET Data'!$AE54<>\"(Null)\"),('NFET Data'!$AD54<>\"(Null)\"),('NFET Data'!$AC54<>\"(Null)\")))","v":false},{"$f":"AND(((VGS_DR)>=10),OR(('NFET Data'!$AI54<>\"(Null)\"),('NFET Data'!$AH54<>\"(Null)\"),('NFET Data'!$AG54<>\"(Null)\"),('NFET Data'!$AF54<>\"(Null)\"),('NFET Data'!$AE54<>\"(Null)\"),('NFET Data'!$AD54<>\"(Null)\"),('NFET Data'!$AC54<>\"(Null)\")))","v":true},true,false]
[{"$f":"IF(R55,Load_Switch_NFET[[#This Row],[PARTNUMBER]],\"\")","v":""},null,{"$f":"AND((Load_Switch_NFET[[#This Row],[VDSMAX]]>=Vi*1.1),(Load_Switch_NFET[[#This Row],[VGSMAX]]>=(VGS_DR)*1.1),(Load_Switch_NFET[[#This Row],[IDSMAX]]>=Io),VGS_DR>=1.8)","v":false},{"$f":"AND(Vi<=27,Load_Switch_NFET[[#This Row],[VDSMAX]]<=30)","v":true},{"$f":"AND(Vi<=36,Vi>=20,Load_Switch_NFET[[#This Row],[VDSMAX]]=40)","v":false},{"$f":"AND(Vi<=54,Vi>=25,Load_Switch_NFET[[#This Row],[VDSMAX]]=60)","v":false},{"$f":"AND(Vi<=72,Vi>=36,Load_Switch_NFET[[#This Row],[VDSMAX]]=80)","v":false},{"$f":"AND(Vi<=90,Vi>=48,Load_Switch_NFET[[#This Row],[VDSMAX]]=100)","v":false},true,{"$f":"AND(((VGS_DR)<2.5),('NFET Data'!$AC55<>\"(Null)\"))","v":false},{"$f":"AND(((VGS_DR)>=2.5),((VGS_DR)<3),OR(('NFET Data'!$AD55<>\"(Null)\"),('NFET Data'!$AC55<>\"(Null)\")))","v":false},{"$f":"AND(((VGS_DR)>=3),((VGS_DR)<4.5),OR(('NFET Data'!$AE55<>\"(Null)\"),('NFET Data'!$AD55<>\"(Null)\"),('NFET Data'!$AC55<>\"(Null)\")))","v":false},{"$f":"AND(((VGS_DR)>=4.5),((VGS_DR)<6),OR(('NFET Data'!$AF55<>\"(Null)\"),('NFET Data'!$AE55<>\"(Null)\"),('NFET Data'!$AD55<>\"(Null)\"),('NFET Data'!$AC55<>\"(Null)\")))","v":false},{"$f":"AND(((VGS_DR)>=6),((VGS_DR)<8),OR(('NFET Data'!$AG55<>\"(Null)\"),('NFET Data'!$AF55<>\"(Null)\"),('NFET Data'!$AE55<>\"(Null)\"),('NFET Data'!$AD55<>\"(Null)\"),('NFET Data'!$AC55<>\"(Null)\")))","v":false},{"$f":"AND(((VGS_DR)>=8),((VGS_DR)<10),OR(('NFET Data'!$AH55<>\"(Null)\"),('NFET Data'!$AG55<>\"(Null)\"),('NFET Data'!$AF55<>\"(Null)\"),('NFET Data'!$AE55<>\"(Null)\"),('NFET Data'!$AD55<>\"(Null)\"),('NFET Data'!$AC55<>\"(Null)\")))","v":false},{"$f":"AND(((VGS_DR)>=10),OR(('NFET Data'!$AI55<>\"(Null)\"),('NFET Data'!$AH55<>\"(Null)\"),('NFET Data'!$AG55<>\"(Null)\"),('NFET Data'!$AF55<>\"(Null)\"),('NFET Data'!$AE55<>\"(Null)\"),('NFET Data'!$AD55<>\"(Null)\"),('NFET Data'!$AC55<>\"(Null)\")))","v":true},true,false]
[{"$f":"IF(R56,Load_Switch_NFET[[#This Row],[PARTNUMBER]],\"\")","v":"CSD17501Q5A"},null,{"$f":"AND((Load_Switch_NFET[[#This Row],[VDSMAX]]>=Vi*1.1),(Load_Switch_NFET[[#This Row],[VGSMAX]]>=(VGS_DR)*1.1),(Load_Switch_NFET[[#This Row],[IDSMAX]]>=Io),VGS_DR>=1.8)","v":true},{"$f":"AND(Vi<=27,Load_Switch_NFET[[#This Row],[VDSMAX]]<=30)","v":true},{"$f":"AND(Vi<=36,Vi>=20,Load_Switch_NFET[[#This Row],[VDSMAX]]=40)","v":false},{"$f":"AND(Vi<=54,Vi>=25,Load_Switch_NFET[[#This Row],[VDSMAX]]=60)","v":false},{"$f":"AND(Vi<=72,Vi>=36,Load_Switch_NFET[[#This Row],[VDSMAX]]=80)","v":false},{"$f":"AND(Vi<=90,Vi>=48,Load_Switch_NFET[[#This Row],[VDSMAX]]=100)","v":false},true,{"$f":"AND(((VGS_DR)<2.5),('NFET Data'!$AC56<>\"(Null)\"))","v":false},{"$f":"AND(((VGS_DR)>=2.5),((VGS_DR)<3),OR(('NFET Data'!$AD56<>\"(Null)\"),('NFET Data'!$AC56<>\"(Null)\")))","v":false},{"$f":"AND(((VGS_DR)>=3),((VGS_DR)<4.5),OR(('NFET Data'!$AE56<>\"(Null)\"),('NFET Data'!$AD56<>\"(Null)\"),('NFET Data'!$AC56<>\"(Null)\")))","v":false},{"$f":"AND(((VGS_DR)>=4.5),((VGS_DR)<6),OR(('NFET Data'!$AF56<>\"(Null)\"),('NFET Data'!$AE56<>\"(Null)\"),('NFET Data'!$AD56<>\"(Null)\"),('NFET Data'!$AC56<>\"(Null)\")))","v":false},{"$f":"AND(((VGS_DR)>=6),((VGS_DR)<8),OR(('NFET Data'!$AG56<>\"(Null)\"),('NFET Data'!$AF56<>\"(Null)\"),('NFET Data'!$AE56<>\"(Null)\"),('NFET Data'!$AD56<>\"(Null)\"),('NFET Data'!$AC56<>\"(Null)\")))","v":false},{"$f":"AND(((VGS_DR)>=8),((VGS_DR)<10),OR(('NFET Data'!$AH56<>\"(Null)\"),('NFET Data'!$AG56<>\"(Null)\"),('NFET Data'!$AF56<>\"(Null)\"),('NFET Data'!$AE56<>\"(Null)\"),('NFET Data'!$AD56<>\"(Null)\"),('NFET Data'!$AC56<>\"(Null)\")))","v":false},{"$f":"AND(((VGS_DR)>=10),OR(('NFET Data'!$AI56<>\"(Null)\"),('NFET Data'!$AH56<>\"(Null)\"),('NFET Data'!$AG56<>\"(Null)\"),('NFET Data'!$AF56<>\"(Null)\"),('NFET Data'!$AE56<>\"(Null)\"),('NFET Data'!$AD56<>\"(Null)\"),('NFET Data'!$AC56<>\"(Null)\")))","v":true},true,true]
[{"$f":"IF(R57,Load_Switch_NFET[[#This Row],[PARTNUMBER]],\"\")","v":"CSD17505Q5A"},null,{"$f":"AND((Load_Switch_NFET[[#This Row],[VDSMAX]]>=Vi*1.1),(Load_Switch_NFET[[#This Row],[VGSMAX]]>=(VGS_DR)*1.1),(Load_Switch_NFET[[#This Row],[IDSMAX]]>=Io),VGS_DR>=1.8)","v":true},{"$f":"AND(Vi<=27,Load_Switch_NFET[[#This Row],[VDSMAX]]<=30)","v":true},{"$f":"AND(Vi<=36,Vi>=20,Load_Switch_NFET[[#This Row],[VDSMAX]]=40)","v":false},{"$f":"AND(Vi<=54,Vi>=25,Load_Switch_NFET[[#This Row],[VDSMAX]]=60)","v":false},{"$f":"AND(Vi<=72,Vi>=36,Load_Switch_NFET[[#This Row],[VDSMAX]]=80)","v":false},{"$f":"AND(Vi<=90,Vi>=48,Load_Switch_NFET[[#This Row],[VDSMAX]]=100)","v":false},true,{"$f":"AND(((VGS_DR)<2.5),('NFET Data'!$AC57<>\"(Null)\"))","v":false},{"$f":"AND(((VGS_DR)>=2.5),((VGS_DR)<3),OR(('NFET Data'!$AD57<>\"(Null)\"),('NFET Data'!$AC57<>\"(Null)\")))","v":false},{"$f":"AND(((VGS_DR)>=3),((VGS_DR)<4.5),OR(('NFET Data'!$AE57<>\"(Null)\"),('NFET Data'!$AD57<>\"(Null)\"),('NFET Data'!$AC57<>\"(Null)\")))","v":false},{"$f":"AND(((VGS_DR)>=4.5),((VGS_DR)<6),OR(('NFET Data'!$AF57<>\"(Null)\"),('NFET Data'!$AE57<>\"(Null)\"),('NFET Data'!$AD57<>\"(Null)\"),('NFET Data'!$AC57<>\"(Null)\")))","v":false},{"$f":"AND(((VGS_DR)>=6),((VGS_DR)<8),OR(('NFET Data'!$AG57<>\"(Null)\"),('NFET Data'!$AF57<>\"(Null)\"),('NFET Data'!$AE57<>\"(Null)\"),('NFET Data'!$AD57<>\"(Null)\"),('NFET Data'!$AC57<>\"(Null)\")))","v":false},{"$f":"AND(((VGS_DR)>=8),((VGS_DR)<10),OR(('NFET Data'!$AH57<>\"(Null)\"),('NFET Data'!$AG57<>\"(Null)\"),('NFET Data'!$AF57<>\"(Null)\"),('NFET Data'!$AE57<>\"(Null)\"),('NFET Data'!$AD57<>\"(Null)\"),('NFET Data'!$AC57<>\"(Null)\")))","v":false},{"$f":"AND(((VGS_DR)>=10),OR(('NFET Data'!$AI57<>\"(Null)\"),('NFET Data'!$AH57<>\"(Null)\"),('NFET Data'!$AG57<>\"(Null)\"),('NFET Data'!$AF57<>\"(Null)\"),('NFET Data'!$AE57<>\"(Null)\"),('NFET Data'!$AD57<>\"(Null)\"),('NFET Data'!$AC57<>\"(Null)\")))","v":true},true,true]
[{"$f":"IF(R58,Load_Switch_NFET[[#This Row],[PARTNUMBER]],\"\")","v":"CSD17506Q5A"},null,{"$f":"AND((Load_Switch_NFET[[#This Row],[VDSMAX]]>=Vi*1.1),(Load_Switch_NFET[[#This Row],[VGSMAX]]>=(VGS_DR)*1.1),(Load_Switch_NFET[[#This Row],[IDSMAX]]>=Io),VGS_DR>=1.8)","v":true},{"$f":"AND(Vi<=27,Load_Switch_NFET[[#This Row],[VDSMAX]]<=30)","v":true},{"$f":"AND(Vi<=36,Vi>=20,Load_Switch_NFET[[#This Row],[VDSMAX]]=40)","v":false},{"$f":"AND(Vi<=54,Vi>=25,Load_Switch_NFET[[#This Row],[VDSMAX]]=60)","v":false},{"$f":"AND(Vi<=72,Vi>=36,Load_Switch_NFET[[#This Row],[VDSMAX]]=80)","v":false},{"$f":"AND(Vi<=90,Vi>=48,Load_Switch_NFET[[#This Row],[VDSMAX]]=100)","v":false},true,{"$f":"AND(((VGS_DR)<2.5),('NFET Data'!$AC58<>\"(Null)\"))","v":false},{"$f":"AND(((VGS_DR)>=2.5),((VGS_DR)<3),OR(('NFET Data'!$AD58<>\"(Null)\"),('NFET Data'!$AC58<>\"(Null)\")))","v":false},{"$f":"AND(((VGS_DR)>=3),((VGS_DR)<4.5),OR(('NFET Data'!$AE58<>\"(Null)\"),('NFET Data'!$AD58<>\"(Null)\"),('NFET Data'!$AC58<>\"(Null)\")))","v":false},{"$f":"AND(((VGS_DR)>=4.5),((VGS_DR)<6),OR(('NFET Data'!$AF58<>\"(Null)\"),('NFET Data'!$AE58<>\"(Null)\"),('NFET Data'!$AD58<>\"(Null)\"),('NFET Data'!$AC58<>\"(Null)\")))","v":false},{"$f":"AND(((VGS_DR)>=6),((VGS_DR)<8),OR(('NFET Data'!$AG58<>\"(Null)\"),('NFET Data'!$AF58<>\"(Null)\"),('NFET Data'!$AE58<>\"(Null)\"),('NFET Data'!$AD58<>\"(Null)\"),('NFET Data'!$AC58<>\"(Null)\")))","v":false},{"$f":"AND(((VGS_DR)>=8),((VGS_DR)<10),OR(('NFET Data'!$AH58<>\"(Null)\"),('NFET Data'!$AG58<>\"(Null)\"),('NFET Data'!$AF58<>\"(Null)\"),('NFET Data'!$AE58<>\"(Null)\"),('NFET Data'!$AD58<>\"(Null)\"),('NFET Data'!$AC58<>\"(Null)\")))","v":false},{"$f":"AND(((VGS_DR)>=10),OR(('NFET Data'!$AI58<>\"(Null)\"),('NFET Data'!$AH58<>\"(Null)\"),('NFET Data'!$AG58<>\"(Null)\"),('NFET Data'!$AF58<>\"(Null)\"),('NFET Data'!$AE58<>\"(Null)\"),('NFET Data'!$AD58<>\"(Null)\"),('NFET Data'!$AC58<>\"(Null)\")))","v":true},true,true]
[{"$f":"IF(R59,Load_Switch_NFET[[#This Row],[PARTNUMBER]],\"\")","v":"CSD17507Q5A"},null,{"$f":"AND((Load_Switch_NFET[[#This Row],[VDSMAX]]>=Vi*1.1),(Load_Switch_NFET[[#This Row],[VGSMAX]]>=(VGS_DR)*1.1),(Load_Switch_NFET[[#This Row],[IDSMAX]]>=Io),VGS_DR>=1.8)","v":true},{"$f":"AND(Vi<=27,Load_Switch_NFET[[#This Row],[VDSMAX]]<=30)","v":true},{"$f":"AND(Vi<=36,Vi>=20,Load_Switch_NFET[[#This Row],[VDSMAX]]=40)","v":false},{"$f":"AND(Vi<=54,Vi>=25,Load_Switch_NFET[[#This Row],[VDSMAX]]=60)","v":false},{"$f":"AND(Vi<=72,Vi>=36,Load_Switch_NFET[[#This Row],[VDSMAX]]=80)","v":false},{"$f":"AND(Vi<=90,Vi>=48,Load_Switch_NFET[[#This Row],[VDSMAX]]=100)","v":false},true,{"$f":"AND(((VGS_DR)<2.5),('NFET Data'!$AC59<>\"(Null)\"))","v":false},{"$f":"AND(((VGS_DR)>=2.5),((VGS_DR)<3),OR(('NFET Data'!$AD59<>\"(Null)\"),('NFET Data'!$AC59<>\"(Null)\")))","v":false},{"$f":"AND(((VGS_DR)>=3),((VGS_DR)<4.5),OR(('NFET Data'!$AE59<>\"(Null)\"),('NFET Data'!$AD59<>\"(Null)\"),('NFET Data'!$AC59<>\"(Null)\")))","v":false},{"$f":"AND(((VGS_DR)>=4.5),((VGS_DR)<6),OR(('NFET Data'!$AF59<>\"(Null)\"),('NFET Data'!$AE59<>\"(Null)\"),('NFET Data'!$AD59<>\"(Null)\"),('NFET Data'!$AC59<>\"(Null)\")))","v":false},{"$f":"AND(((VGS_DR)>=6),((VGS_DR)<8),OR(('NFET Data'!$AG59<>\"(Null)\"),('NFET Data'!$AF59<>\"(Null)\"),('NFET Data'!$AE59<>\"(Null)\"),('NFET Data'!$AD59<>\"(Null)\"),('NFET Data'!$AC59<>\"(Null)\")))","v":false},{"$f":"AND(((VGS_DR)>=8),((VGS_DR)<10),OR(('NFET Data'!$AH59<>\"(Null)\"),('NFET Data'!$AG59<>\"(Null)\"),('NFET Data'!$AF59<>\"(Null)\"),('NFET Data'!$AE59<>\"(Null)\"),('NFET Data'!$AD59<>\"(Null)\"),('NFET Data'!$AC59<>\"(Null)\")))","v":false},{"$f":"AND(((VGS_DR)>=10),OR(('NFET Data'!$AI59<>\"(Null)\"),('NFET Data'!$AH59<>\"(Null)\"),('NFET Data'!$AG59<>\"(Null)\"),('NFET Data'!$AF59<>\"(Null)\"),('NFET Data'!$AE59<>\"(Null)\"),('NFET Data'!$AD59<>\"(Null)\"),('NFET Data'!$AC59<>\"(Null)\")))","v":true},true,true]
[{"$f":"IF(R60,Load_Switch_NFET[[#This Row],[PARTNUMBER]],\"\")","v":""},null,{"$f":"AND((Load_Switch_NFET[[#This Row],[VDSMAX]]>=Vi*1.1),(Load_Switch_NFET[[#This Row],[VGSMAX]]>=(VGS_DR)*1.1),(Load_Switch_NFET[[#This Row],[IDSMAX]]>=Io),VGS_DR>=1.8)","v":false},{"$f":"AND(Vi<=27,Load_Switch_NFET[[#This Row],[VDSMAX]]<=30)","v":true},{"$f":"AND(Vi<=36,Vi>=20,Load_Switch_NFET[[#This Row],[VDSMAX]]=40)","v":false},{"$f":"AND(Vi<=54,Vi>=25,Load_Switch_NFET[[#This Row],[VDSMAX]]=60)","v":false},{"$f":"AND(Vi<=72,Vi>=36,Load_Switch_NFET[[#This Row],[VDSMAX]]=80)","v":false},{"$f":"AND(Vi<=90,Vi>=48,Load_Switch_NFET[[#This Row],[VDSMAX]]=100)","v":false},true,{"$f":"AND(((VGS_DR)<2.5),('NFET Data'!$AC60<>\"(Null)\"))","v":false},{"$f":"AND(((VGS_DR)>=2.5),((VGS_DR)<3),OR(('NFET Data'!$AD60<>\"(Null)\"),('NFET Data'!$AC60<>\"(Null)\")))","v":false},{"$f":"AND(((VGS_DR)>=3),((VGS_DR)<4.5),OR(('NFET Data'!$AE60<>\"(Null)\"),('NFET Data'!$AD60<>\"(Null)\"),('NFET Data'!$AC60<>\"(Null)\")))","v":false},{"$f":"AND(((VGS_DR)>=4.5),((VGS_DR)<6),OR(('NFET Data'!$AF60<>\"(Null)\"),('NFET Data'!$AE60<>\"(Null)\"),('NFET Data'!$AD60<>\"(Null)\"),('NFET Data'!$AC60<>\"(Null)\")))","v":false},{"$f":"AND(((VGS_DR)>=6),((VGS_DR)<8),OR(('NFET Data'!$AG60<>\"(Null)\"),('NFET Data'!$AF60<>\"(Null)\"),('NFET Data'!$AE60<>\"(Null)\"),('NFET Data'!$AD60<>\"(Null)\"),('NFET Data'!$AC60<>\"(Null)\")))","v":false},{"$f":"AND(((VGS_DR)>=8),((VGS_DR)<10),OR(('NFET Data'!$AH60<>\"(Null)\"),('NFET Data'!$AG60<>\"(Null)\"),('NFET Data'!$AF60<>\"(Null)\"),('NFET Data'!$AE60<>\"(Null)\"),('NFET Data'!$AD60<>\"(Null)\"),('NFET Data'!$AC60<>\"(Null)\")))","v":false},{"$f":"AND(((VGS_DR)>=10),OR(('NFET Data'!$AI60<>\"(Null)\"),('NFET Data'!$AH60<>\"(Null)\"),('NFET Data'!$AG60<>\"(Null)\"),('NFET Data'!$AF60<>\"(Null)\"),('NFET Data'!$AE60<>\"(Null)\"),('NFET Data'!$AD60<>\"(Null)\"),('NFET Data'!$AC60<>\"(Null)\")))","v":true},true,false]
[{"$f":"IF(R61,Load_Switch_NFET[[#This Row],[PARTNUMBER]],\"\")","v":"CSD17522Q5A"},null,{"$f":"AND((Load_Switch_NFET[[#This Row],[VDSMAX]]>=Vi*1.1),(Load_Switch_NFET[[#This Row],[VGSMAX]]>=(VGS_DR)*1.1),(Load_Switch_NFET[[#This Row],[IDSMAX]]>=Io),VGS_DR>=1.8)","v":true},{"$f":"AND(Vi<=27,Load_Switch_NFET[[#This Row],[VDSMAX]]<=30)","v":true},{"$f":"AND(Vi<=36,Vi>=20,Load_Switch_NFET[[#This Row],[VDSMAX]]=40)","v":false},{"$f":"AND(Vi<=54,Vi>=25,Load_Switch_NFET[[#This Row],[VDSMAX]]=60)","v":false},{"$f":"AND(Vi<=72,Vi>=36,Load_Switch_NFET[[#This Row],[VDSMAX]]=80)","v":false},{"$f":"AND(Vi<=90,Vi>=48,Load_Switch_NFET[[#This Row],[VDSMAX]]=100)","v":false},true,{"$f":"AND(((VGS_DR)<2.5),('NFET Data'!$AC61<>\"(Null)\"))","v":false},{"$f":"AND(((VGS_DR)>=2.5),((VGS_DR)<3),OR(('NFET Data'!$AD61<>\"(Null)\"),('NFET Data'!$AC61<>\"(Null)\")))","v":false},{"$f":"AND(((VGS_DR)>=3),((VGS_DR)<4.5),OR(('NFET Data'!$AE61<>\"(Null)\"),('NFET Data'!$AD61<>\"(Null)\"),('NFET Data'!$AC61<>\"(Null)\")))","v":false},{"$f":"AND(((VGS_DR)>=4.5),((VGS_DR)<6),OR(('NFET Data'!$AF61<>\"(Null)\"),('NFET Data'!$AE61<>\"(Null)\"),('NFET Data'!$AD61<>\"(Null)\"),('NFET Data'!$AC61<>\"(Null)\")))","v":false},{"$f":"AND(((VGS_DR)>=6),((VGS_DR)<8),OR(('NFET Data'!$AG61<>\"(Null)\"),('NFET Data'!$AF61<>\"(Null)\"),('NFET Data'!$AE61<>\"(Null)\"),('NFET Data'!$AD61<>\"(Null)\"),('NFET Data'!$AC61<>\"(Null)\")))","v":false},{"$f":"AND(((VGS_DR)>=8),((VGS_DR)<10),OR(('NFET Data'!$AH61<>\"(Null)\"),('NFET Data'!$AG61<>\"(Null)\"),('NFET Data'!$AF61<>\"(Null)\"),('NFET Data'!$AE61<>\"(Null)\"),('NFET Data'!$AD61<>\"(Null)\"),('NFET Data'!$AC61<>\"(Null)\")))","v":false},{"$f":"AND(((VGS_DR)>=10),OR(('NFET Data'!$AI61<>\"(Null)\"),('NFET Data'!$AH61<>\"(Null)\"),('NFET Data'!$AG61<>\"(Null)\"),('NFET Data'!$AF61<>\"(Null)\"),('NFET Data'!$AE61<>\"(Null)\"),('NFET Data'!$AD61<>\"(Null)\"),('NFET Data'!$AC61<>\"(Null)\")))","v":true},true,true]
[{"$f":"IF(R62,Load_Switch_NFET[[#This Row],[PARTNUMBER]],\"\")","v":"CSD17527Q5A"},null,{"$f":"AND((Load_Switch_NFET[[#This Row],[VDSMAX]]>=Vi*1.1),(Load_Switch_NFET[[#This Row],[VGSMAX]]>=(VGS_DR)*1.1),(Load_Switch_NFET[[#This Row],[IDSMAX]]>=Io),VGS_DR>=1.8)","v":true},{"$f":"AND(Vi<=27,Load_Switch_NFET[[#This Row],[VDSMAX]]<=30)","v":true},{"$f":"AND(Vi<=36,Vi>=20,Load_Switch_NFET[[#This Row],[VDSMAX]]=40)","v":false},{"$f":"AND(Vi<=54,Vi>=25,Load_Switch_NFET[[#This Row],[VDSMAX]]=60)","v":false},{"$f":"AND(Vi<=72,Vi>=36,Load_Switch_NFET[[#This Row],[VDSMAX]]=80)","v":false},{"$f":"AND(Vi<=90,Vi>=48,Load_Switch_NFET[[#This Row],[VDSMAX]]=100)","v":false},true,{"$f":"AND(((VGS_DR)<2.5),('NFET Data'!$AC62<>\"(Null)\"))","v":false},{"$f":"AND(((VGS_DR)>=2.5),((VGS_DR)<3),OR(('NFET Data'!$AD62<>\"(Null)\"),('NFET Data'!$AC62<>\"(Null)\")))","v":false},{"$f":"AND(((VGS_DR)>=3),((VGS_DR)<4.5),OR(('NFET Data'!$AE62<>\"(Null)\"),('NFET Data'!$AD62<>\"(Null)\"),('NFET Data'!$AC62<>\"(Null)\")))","v":false},{"$f":"AND(((VGS_DR)>=4.5),((VGS_DR)<6),OR(('NFET Data'!$AF62<>\"(Null)\"),('NFET Data'!$AE62<>\"(Null)\"),('NFET Data'!$AD62<>\"(Null)\"),('NFET Data'!$AC62<>\"(Null)\")))","v":false},{"$f":"AND(((VGS_DR)>=6),((VGS_DR)<8),OR(('NFET Data'!$AG62<>\"(Null)\"),('NFET Data'!$AF62<>\"(Null)\"),('NFET Data'!$AE62<>\"(Null)\"),('NFET Data'!$AD62<>\"(Null)\"),('NFET Data'!$AC62<>\"(Null)\")))","v":false},{"$f":"AND(((VGS_DR)>=8),((VGS_DR)<10),OR(('NFET Data'!$AH62<>\"(Null)\"),('NFET Data'!$AG62<>\"(Null)\"),('NFET Data'!$AF62<>\"(Null)\"),('NFET Data'!$AE62<>\"(Null)\"),('NFET Data'!$AD62<>\"(Null)\"),('NFET Data'!$AC62<>\"(Null)\")))","v":false},{"$f":"AND(((VGS_DR)>=10),OR(('NFET Data'!$AI62<>\"(Null)\"),('NFET Data'!$AH62<>\"(Null)\"),('NFET Data'!$AG62<>\"(Null)\"),('NFET Data'!$AF62<>\"(Null)\"),('NFET Data'!$AE62<>\"(Null)\"),('NFET Data'!$AD62<>\"(Null)\"),('NFET Data'!$AC62<>\"(Null)\")))","v":true},true,true]
[{"$f":"IF(R63,Load_Switch_NFET[[#This Row],[PARTNUMBER]],\"\")","v":""},null,{"$f":"AND((Load_Switch_NFET[[#This Row],[VDSMAX]]>=Vi*1.1),(Load_Switch_NFET[[#This Row],[VGSMAX]]>=(VGS_DR)*1.1),(Load_Switch_NFET[[#This Row],[IDSMAX]]>=Io),VGS_DR>=1.8)","v":false},{"$f":"AND(Vi<=27,Load_Switch_NFET[[#This Row],[VDSMAX]]<=30)","v":true},{"$f":"AND(Vi<=36,Vi>=20,Load_Switch_NFET[[#This Row],[VDSMAX]]=40)","v":false},{"$f":"AND(Vi<=54,Vi>=25,Load_Switch_NFET[[#This Row],[VDSMAX]]=60)","v":false},{"$f":"AND(Vi<=72,Vi>=36,Load_Switch_NFET[[#This Row],[VDSMAX]]=80)","v":false},{"$f":"AND(Vi<=90,Vi>=48,Load_Switch_NFET[[#This Row],[VDSMAX]]=100)","v":false},true,{"$f":"AND(((VGS_DR)<2.5),('NFET Data'!$AC63<>\"(Null)\"))","v":false},{"$f":"AND(((VGS_DR)>=2.5),((VGS_DR)<3),OR(('NFET Data'!$AD63<>\"(Null)\"),('NFET Data'!$AC63<>\"(Null)\")))","v":false},{"$f":"AND(((VGS_DR)>=3),((VGS_DR)<4.5),OR(('NFET Data'!$AE63<>\"(Null)\"),('NFET Data'!$AD63<>\"(Null)\"),('NFET Data'!$AC63<>\"(Null)\")))","v":false},{"$f":"AND(((VGS_DR)>=4.5),((VGS_DR)<6),OR(('NFET Data'!$AF63<>\"(Null)\"),('NFET Data'!$AE63<>\"(Null)\"),('NFET Data'!$AD63<>\"(Null)\"),('NFET Data'!$AC63<>\"(Null)\")))","v":false},{"$f":"AND(((VGS_DR)>=6),((VGS_DR)<8),OR(('NFET Data'!$AG63<>\"(Null)\"),('NFET Data'!$AF63<>\"(Null)\"),('NFET Data'!$AE63<>\"(Null)\"),('NFET Data'!$AD63<>\"(Null)\"),('NFET Data'!$AC63<>\"(Null)\")))","v":false},{"$f":"AND(((VGS_DR)>=8),((VGS_DR)<10),OR(('NFET Data'!$AH63<>\"(Null)\"),('NFET Data'!$AG63<>\"(Null)\"),('NFET Data'!$AF63<>\"(Null)\"),('NFET Data'!$AE63<>\"(Null)\"),('NFET Data'!$AD63<>\"(Null)\"),('NFET Data'!$AC63<>\"(Null)\")))","v":false},{"$f":"AND(((VGS_DR)>=10),OR(('NFET Data'!$AI63<>\"(Null)\"),('NFET Data'!$AH63<>\"(Null)\"),('NFET Data'!$AG63<>\"(Null)\"),('NFET Data'!$AF63<>\"(Null)\"),('NFET Data'!$AE63<>\"(Null)\"),('NFET Data'!$AD63<>\"(Null)\"),('NFET Data'!$AC63<>\"(Null)\")))","v":true},true,false]
[{"$f":"IF(R64,Load_Switch_NFET[[#This Row],[PARTNUMBER]],\"\")","v":""},null,{"$f":"AND((Load_Switch_NFET[[#This Row],[VDSMAX]]>=Vi*1.1),(Load_Switch_NFET[[#This Row],[VGSMAX]]>=(VGS_DR)*1.1),(Load_Switch_NFET[[#This Row],[IDSMAX]]>=Io),VGS_DR>=1.8)","v":false},{"$f":"AND(Vi<=27,Load_Switch_NFET[[#This Row],[VDSMAX]]<=30)","v":true},{"$f":"AND(Vi<=36,Vi>=20,Load_Switch_NFET[[#This Row],[VDSMAX]]=40)","v":false},{"$f":"AND(Vi<=54,Vi>=25,Load_Switch_NFET[[#This Row],[VDSMAX]]=60)","v":false},{"$f":"AND(Vi<=72,Vi>=36,Load_Switch_NFET[[#This Row],[VDSMAX]]=80)","v":false},{"$f":"AND(Vi<=90,Vi>=48,Load_Switch_NFET[[#This Row],[VDSMAX]]=100)","v":false},true,{"$f":"AND(((VGS_DR)<2.5),('NFET Data'!$AC64<>\"(Null)\"))","v":false},{"$f":"AND(((VGS_DR)>=2.5),((VGS_DR)<3),OR(('NFET Data'!$AD64<>\"(Null)\"),('NFET Data'!$AC64<>\"(Null)\")))","v":false},{"$f":"AND(((VGS_DR)>=3),((VGS_DR)<4.5),OR(('NFET Data'!$AE64<>\"(Null)\"),('NFET Data'!$AD64<>\"(Null)\"),('NFET Data'!$AC64<>\"(Null)\")))","v":false},{"$f":"AND(((VGS_DR)>=4.5),((VGS_DR)<6),OR(('NFET Data'!$AF64<>\"(Null)\"),('NFET Data'!$AE64<>\"(Null)\"),('NFET Data'!$AD64<>\"(Null)\"),('NFET Data'!$AC64<>\"(Null)\")))","v":false},{"$f":"AND(((VGS_DR)>=6),((VGS_DR)<8),OR(('NFET Data'!$AG64<>\"(Null)\"),('NFET Data'!$AF64<>\"(Null)\"),('NFET Data'!$AE64<>\"(Null)\"),('NFET Data'!$AD64<>\"(Null)\"),('NFET Data'!$AC64<>\"(Null)\")))","v":false},{"$f":"AND(((VGS_DR)>=8),((VGS_DR)<10),OR(('NFET Data'!$AH64<>\"(Null)\"),('NFET Data'!$AG64<>\"(Null)\"),('NFET Data'!$AF64<>\"(Null)\"),('NFET Data'!$AE64<>\"(Null)\"),('NFET Data'!$AD64<>\"(Null)\"),('NFET Data'!$AC64<>\"(Null)\")))","v":false},{"$f":"AND(((VGS_DR)>=10),OR(('NFET Data'!$AI64<>\"(Null)\"),('NFET Data'!$AH64<>\"(Null)\"),('NFET Data'!$AG64<>\"(Null)\"),('NFET Data'!$AF64<>\"(Null)\"),('NFET Data'!$AE64<>\"(Null)\"),('NFET Data'!$AD64<>\"(Null)\"),('NFET Data'!$AC64<>\"(Null)\")))","v":true},true,false]
[{"$f":"IF(R65,Load_Switch_NFET[[#This Row],[PARTNUMBER]],\"\")","v":"CSD17552Q3A"},null,{"$f":"AND((Load_Switch_NFET[[#This Row],[VDSMAX]]>=Vi*1.1),(Load_Switch_NFET[[#This Row],[VGSMAX]]>=(VGS_DR)*1.1),(Load_Switch_NFET[[#This Row],[IDSMAX]]>=Io),VGS_DR>=1.8)","v":true},{"$f":"AND(Vi<=27,Load_Switch_NFET[[#This Row],[VDSMAX]]<=30)","v":true},{"$f":"AND(Vi<=36,Vi>=20,Load_Switch_NFET[[#This Row],[VDSMAX]]=40)","v":false},{"$f":"AND(Vi<=54,Vi>=25,Load_Switch_NFET[[#This Row],[VDSMAX]]=60)","v":false},{"$f":"AND(Vi<=72,Vi>=36,Load_Switch_NFET[[#This Row],[VDSMAX]]=80)","v":false},{"$f":"AND(Vi<=90,Vi>=48,Load_Switch_NFET[[#This Row],[VDSMAX]]=100)","v":false},true,{"$f":"AND(((VGS_DR)<2.5),('NFET Data'!$AC65<>\"(Null)\"))","v":false},{"$f":"AND(((VGS_DR)>=2.5),((VGS_DR)<3),OR(('NFET Data'!$AD65<>\"(Null)\"),('NFET Data'!$AC65<>\"(Null)\")))","v":false},{"$f":"AND(((VGS_DR)>=3),((VGS_DR)<4.5),OR(('NFET Data'!$AE65<>\"(Null)\"),('NFET Data'!$AD65<>\"(Null)\"),('NFET Data'!$AC65<>\"(Null)\")))","v":false},{"$f":"AND(((VGS_DR)>=4.5),((VGS_DR)<6),OR(('NFET Data'!$AF65<>\"(Null)\"),('NFET Data'!$AE65<>\"(Null)\"),('NFET Data'!$AD65<>\"(Null)\"),('NFET Data'!$AC65<>\"(Null)\")))","v":false},{"$f":"AND(((VGS_DR)>=6),((VGS_DR)<8),OR(('NFET Data'!$AG65<>\"(Null)\"),('NFET Data'!$AF65<>\"(Null)\"),('NFET Data'!$AE65<>\"(Null)\"),('NFET Data'!$AD65<>\"(Null)\"),('NFET Data'!$AC65<>\"(Null)\")))","v":false},{"$f":"AND(((VGS_DR)>=8),((VGS_DR)<10),OR(('NFET Data'!$AH65<>\"(Null)\"),('NFET Data'!$AG65<>\"(Null)\"),('NFET Data'!$AF65<>\"(Null)\"),('NFET Data'!$AE65<>\"(Null)\"),('NFET Data'!$AD65<>\"(Null)\"),('NFET Data'!$AC65<>\"(Null)\")))","v":false},{"$f":"AND(((VGS_DR)>=10),OR(('NFET Data'!$AI65<>\"(Null)\"),('NFET Data'!$AH65<>\"(Null)\"),('NFET Data'!$AG65<>\"(Null)\"),('NFET Data'!$AF65<>\"(Null)\"),('NFET Data'!$AE65<>\"(Null)\"),('NFET Data'!$AD65<>\"(Null)\"),('NFET Data'!$AC65<>\"(Null)\")))","v":true},true,true]
[{"$f":"IF(R66,Load_Switch_NFET[[#This Row],[PARTNUMBER]],\"\")","v":"CSD17552Q5A"},null,{"$f":"AND((Load_Switch_NFET[[#This Row],[VDSMAX]]>=Vi*1.1),(Load_Switch_NFET[[#This Row],[VGSMAX]]>=(VGS_DR)*1.1),(Load_Switch_NFET[[#This Row],[IDSMAX]]>=Io),VGS_DR>=1.8)","v":true},{"$f":"AND(Vi<=27,Load_Switch_NFET[[#This Row],[VDSMAX]]<=30)","v":true},{"$f":"AND(Vi<=36,Vi>=20,Load_Switch_NFET[[#This Row],[VDSMAX]]=40)","v":false},{"$f":"AND(Vi<=54,Vi>=25,Load_Switch_NFET[[#This Row],[VDSMAX]]=60)","v":false},{"$f":"AND(Vi<=72,Vi>=36,Load_Switch_NFET[[#This Row],[VDSMAX]]=80)","v":false},{"$f":"AND(Vi<=90,Vi>=48,Load_Switch_NFET[[#This Row],[VDSMAX]]=100)","v":false},true,{"$f":"AND(((VGS_DR)<2.5),('NFET Data'!$AC66<>\"(Null)\"))","v":false},{"$f":"AND(((VGS_DR)>=2.5),((VGS_DR)<3),OR(('NFET Data'!$AD66<>\"(Null)\"),('NFET Data'!$AC66<>\"(Null)\")))","v":false},{"$f":"AND(((VGS_DR)>=3),((VGS_DR)<4.5),OR(('NFET Data'!$AE66<>\"(Null)\"),('NFET Data'!$AD66<>\"(Null)\"),('NFET Data'!$AC66<>\"(Null)\")))","v":false},{"$f":"AND(((VGS_DR)>=4.5),((VGS_DR)<6),OR(('NFET Data'!$AF66<>\"(Null)\"),('NFET Data'!$AE66<>\"(Null)\"),('NFET Data'!$AD66<>\"(Null)\"),('NFET Data'!$AC66<>\"(Null)\")))","v":false},{"$f":"AND(((VGS_DR)>=6),((VGS_DR)<8),OR(('NFET Data'!$AG66<>\"(Null)\"),('NFET Data'!$AF66<>\"(Null)\"),('NFET Data'!$AE66<>\"(Null)\"),('NFET Data'!$AD66<>\"(Null)\"),('NFET Data'!$AC66<>\"(Null)\")))","v":false},{"$f":"AND(((VGS_DR)>=8),((VGS_DR)<10),OR(('NFET Data'!$AH66<>\"(Null)\"),('NFET Data'!$AG66<>\"(Null)\"),('NFET Data'!$AF66<>\"(Null)\"),('NFET Data'!$AE66<>\"(Null)\"),('NFET Data'!$AD66<>\"(Null)\"),('NFET Data'!$AC66<>\"(Null)\")))","v":false},{"$f":"AND(((VGS_DR)>=10),OR(('NFET Data'!$AI66<>\"(Null)\"),('NFET Data'!$AH66<>\"(Null)\"),('NFET Data'!$AG66<>\"(Null)\"),('NFET Data'!$AF66<>\"(Null)\"),('NFET Data'!$AE66<>\"(Null)\"),('NFET Data'!$AD66<>\"(Null)\"),('NFET Data'!$AC66<>\"(Null)\")))","v":true},true,true]
[{"$f":"IF(R67,Load_Switch_NFET[[#This Row],[PARTNUMBER]],\"\")","v":"CSD17553Q5A"},null,{"$f":"AND((Load_Switch_NFET[[#This Row],[VDSMAX]]>=Vi*1.1),(Load_Switch_NFET[[#This Row],[VGSMAX]]>=(VGS_DR)*1.1),(Load_Switch_NFET[[#This Row],[IDSMAX]]>=Io),VGS_DR>=1.8)","v":true},{"$f":"AND(Vi<=27,Load_Switch_NFET[[#This Row],[VDSMAX]]<=30)","v":true},{"$f":"AND(Vi<=36,Vi>=20,Load_Switch_NFET[[#This Row],[VDSMAX]]=40)","v":false},{"$f":"AND(Vi<=54,Vi>=25,Load_Switch_NFET[[#This Row],[VDSMAX]]=60)","v":false},{"$f":"AND(Vi<=72,Vi>=36,Load_Switch_NFET[[#This Row],[VDSMAX]]=80)","v":false},{"$f":"AND(Vi<=90,Vi>=48,Load_Switch_NFET[[#This Row],[VDSMAX]]=100)","v":false},{"$f":"OR(D67:H67)","v":true},{"$f":"AND(((VGS_DR)<2.5),('NFET Data'!$AC67<>\"(Null)\"))","v":false},{"$f":"AND(((VGS_DR)>=2.5),((VGS_DR)<3),OR(('NFET Data'!$AD67<>\"(Null)\"),('NFET Data'!$AC67<>\"(Null)\")))","v":false},{"$f":"AND(((VGS_DR)>=3),((VGS_DR)<4.5),OR(('NFET Data'!$AE67<>\"(Null)\"),('NFET Data'!$AD67<>\"(Null)\"),('NFET Data'!$AC67<>\"(Null)\")))","v":false},{"$f":"AND(((VGS_DR)>=4.5),((VGS_DR)<6),OR(('NFET Data'!$AF67<>\"(Null)\"),('NFET Data'!$AE67<>\"(Null)\"),('NFET Data'!$AD67<>\"(Null)\"),('NFET Data'!$AC67<>\"(Null)\")))","v":false},{"$f":"AND(((VGS_DR)>=6),((VGS_DR)<8),OR(('NFET Data'!$AG67<>\"(Null)\"),('NFET Data'!$AF67<>\"(Null)\"),('NFET Data'!$AE67<>\"(Null)\"),('NFET Data'!$AD67<>\"(Null)\"),('NFET Data'!$AC67<>\"(Null)\")))","v":false},{"$f":"AND(((VGS_DR)>=8),((VGS_DR)<10),OR(('NFET Data'!$AH67<>\"(Null)\"),('NFET Data'!$AG67<>\"(Null)\"),('NFET Data'!$AF67<>\"(Null)\"),('NFET Data'!$AE67<>\"(Null)\"),('NFET Data'!$AD67<>\"(Null)\"),('NFET Data'!$AC67<>\"(Null)\")))","v":false},{"$f":"AND(((VGS_DR)>=10),OR(('NFET Data'!$AI67<>\"(Null)\"),('NFET Data'!$AH67<>\"(Null)\"),('NFET Data'!$AG67<>\"(Null)\"),('NFET Data'!$AF67<>\"(Null)\"),('NFET Data'!$AE67<>\"(Null)\"),('NFET Data'!$AD67<>\"(Null)\"),('NFET Data'!$AC67<>\"(Null)\")))","v":true},{"$f":"OR(J67:P67)","v":true},{"$f":"AND(C67,I67,Q67)","v":true}]
[{"$f":"IF(R68,Load_Switch_NFET[[#This Row],[PARTNUMBER]],\"\")","v":"CSD17555Q5A"},null,{"$f":"AND((Load_Switch_NFET[[#This Row],[VDSMAX]]>=Vi*1.1),(Load_Switch_NFET[[#This Row],[VGSMAX]]>=(VGS_DR)*1.1),(Load_Switch_NFET[[#This Row],[IDSMAX]]>=Io),VGS_DR>=1.8)","v":true},{"$f":"AND(Vi<=27,Load_Switch_NFET[[#This Row],[VDSMAX]]<=30)","v":true},{"$f":"AND(Vi<=36,Vi>=20,Load_Switch_NFET[[#This Row],[VDSMAX]]=40)","v":false},{"$f":"AND(Vi<=54,Vi>=25,Load_Switch_NFET[[#This Row],[VDSMAX]]=60)","v":false},{"$f":"AND(Vi<=72,Vi>=36,Load_Switch_NFET[[#This Row],[VDSMAX]]=80)","v":false},{"$f":"AND(Vi<=90,Vi>=48,Load_Switch_NFET[[#This Row],[VDSMAX]]=100)","v":false},true,{"$f":"AND(((VGS_DR)<2.5),('NFET Data'!$AC68<>\"(Null)\"))","v":false},{"$f":"AND(((VGS_DR)>=2.5),((VGS_DR)<3),OR(('NFET Data'!$AD68<>\"(Null)\"),('NFET Data'!$AC68<>\"(Null)\")))","v":false},{"$f":"AND(((VGS_DR)>=3),((VGS_DR)<4.5),OR(('NFET Data'!$AE68<>\"(Null)\"),('NFET Data'!$AD68<>\"(Null)\"),('NFET Data'!$AC68<>\"(Null)\")))","v":false},{"$f":"AND(((VGS_DR)>=4.5),((VGS_DR)<6),OR(('NFET Data'!$AF68<>\"(Null)\"),('NFET Data'!$AE68<>\"(Null)\"),('NFET Data'!$AD68<>\"(Null)\"),('NFET Data'!$AC68<>\"(Null)\")))","v":false},{"$f":"AND(((VGS_DR)>=6),((VGS_DR)<8),OR(('NFET Data'!$AG68<>\"(Null)\"),('NFET Data'!$AF68<>\"(Null)\"),('NFET Data'!$AE68<>\"(Null)\"),('NFET Data'!$AD68<>\"(Null)\"),('NFET Data'!$AC68<>\"(Null)\")))","v":false},{"$f":"AND(((VGS_DR)>=8),((VGS_DR)<10),OR(('NFET Data'!$AH68<>\"(Null)\"),('NFET Data'!$AG68<>\"(Null)\"),('NFET Data'!$AF68<>\"(Null)\"),('NFET Data'!$AE68<>\"(Null)\"),('NFET Data'!$AD68<>\"(Null)\"),('NFET Data'!$AC68<>\"(Null)\")))","v":false},{"$f":"AND(((VGS_DR)>=10),OR(('NFET Data'!$AI68<>\"(Null)\"),('NFET Data'!$AH68<>\"(Null)\"),('NFET Data'!$AG68<>\"(Null)\"),('NFET Data'!$AF68<>\"(Null)\"),('NFET Data'!$AE68<>\"(Null)\"),('NFET Data'!$AD68<>\"(Null)\"),('NFET Data'!$AC68<>\"(Null)\")))","v":true},true,true]
[{"$f":"IF(R69,Load_Switch_NFET[[#This Row],[PARTNUMBER]],\"\")","v":"CSD17556Q5B"},null,{"$f":"AND((Load_Switch_NFET[[#This Row],[VDSMAX]]>=Vi*1.1),(Load_Switch_NFET[[#This Row],[VGSMAX]]>=(VGS_DR)*1.1),(Load_Switch_NFET[[#This Row],[IDSMAX]]>=Io),VGS_DR>=1.8)","v":true},{"$f":"AND(Vi<=27,Load_Switch_NFET[[#This Row],[VDSMAX]]<=30)","v":true},{"$f":"AND(Vi<=36,Vi>=20,Load_Switch_NFET[[#This Row],[VDSMAX]]=40)","v":false},{"$f":"AND(Vi<=54,Vi>=25,Load_Switch_NFET[[#This Row],[VDSMAX]]=60)","v":false},{"$f":"AND(Vi<=72,Vi>=36,Load_Switch_NFET[[#This Row],[VDSMAX]]=80)","v":false},{"$f":"AND(Vi<=90,Vi>=48,Load_Switch_NFET[[#This Row],[VDSMAX]]=100)","v":false},true,{"$f":"AND(((VGS_DR)<2.5),('NFET Data'!$AC69<>\"(Null)\"))","v":false},{"$f":"AND(((VGS_DR)>=2.5),((VGS_DR)<3),OR(('NFET Data'!$AD69<>\"(Null)\"),('NFET Data'!$AC69<>\"(Null)\")))","v":false},{"$f":"AND(((VGS_DR)>=3),((VGS_DR)<4.5),OR(('NFET Data'!$AE69<>\"(Null)\"),('NFET Data'!$AD69<>\"(Null)\"),('NFET Data'!$AC69<>\"(Null)\")))","v":false},{"$f":"AND(((VGS_DR)>=4.5),((VGS_DR)<6),OR(('NFET Data'!$AF69<>\"(Null)\"),('NFET Data'!$AE69<>\"(Null)\"),('NFET Data'!$AD69<>\"(Null)\"),('NFET Data'!$AC69<>\"(Null)\")))","v":false},{"$f":"AND(((VGS_DR)>=6),((VGS_DR)<8),OR(('NFET Data'!$AG69<>\"(Null)\"),('NFET Data'!$AF69<>\"(Null)\"),('NFET Data'!$AE69<>\"(Null)\"),('NFET Data'!$AD69<>\"(Null)\"),('NFET Data'!$AC69<>\"(Null)\")))","v":false},{"$f":"AND(((VGS_DR)>=8),((VGS_DR)<10),OR(('NFET Data'!$AH69<>\"(Null)\"),('NFET Data'!$AG69<>\"(Null)\"),('NFET Data'!$AF69<>\"(Null)\"),('NFET Data'!$AE69<>\"(Null)\"),('NFET Data'!$AD69<>\"(Null)\"),('NFET Data'!$AC69<>\"(Null)\")))","v":false},{"$f":"AND(((VGS_DR)>=10),OR(('NFET Data'!$AI69<>\"(Null)\"),('NFET Data'!$AH69<>\"(Null)\"),('NFET Data'!$AG69<>\"(Null)\"),('NFET Data'!$AF69<>\"(Null)\"),('NFET Data'!$AE69<>\"(Null)\"),('NFET Data'!$AD69<>\"(Null)\"),('NFET Data'!$AC69<>\"(Null)\")))","v":true},true,true]
[{"$f":"IF(R70,Load_Switch_NFET[[#This Row],[PARTNUMBER]],\"\")","v":"CSD17559Q5"},null,{"$f":"AND((Load_Switch_NFET[[#This Row],[VDSMAX]]>=Vi*1.1),(Load_Switch_NFET[[#This Row],[VGSMAX]]>=(VGS_DR)*1.1),(Load_Switch_NFET[[#This Row],[IDSMAX]]>=Io),VGS_DR>=1.8)","v":true},{"$f":"AND(Vi<=27,Load_Switch_NFET[[#This Row],[VDSMAX]]<=30)","v":true},{"$f":"AND(Vi<=36,Vi>=20,Load_Switch_NFET[[#This Row],[VDSMAX]]=40)","v":false},{"$f":"AND(Vi<=54,Vi>=25,Load_Switch_NFET[[#This Row],[VDSMAX]]=60)","v":false},{"$f":"AND(Vi<=72,Vi>=36,Load_Switch_NFET[[#This Row],[VDSMAX]]=80)","v":false},{"$f":"AND(Vi<=90,Vi>=48,Load_Switch_NFET[[#This Row],[VDSMAX]]=100)","v":false},true,{"$f":"AND(((VGS_DR)<2.5),('NFET Data'!$AC70<>\"(Null)\"))","v":false},{"$f":"AND(((VGS_DR)>=2.5),((VGS_DR)<3),OR(('NFET Data'!$AD70<>\"(Null)\"),('NFET Data'!$AC70<>\"(Null)\")))","v":false},{"$f":"AND(((VGS_DR)>=3),((VGS_DR)<4.5),OR(('NFET Data'!$AE70<>\"(Null)\"),('NFET Data'!$AD70<>\"(Null)\"),('NFET Data'!$AC70<>\"(Null)\")))","v":false},{"$f":"AND(((VGS_DR)>=4.5),((VGS_DR)<6),OR(('NFET Data'!$AF70<>\"(Null)\"),('NFET Data'!$AE70<>\"(Null)\"),('NFET Data'!$AD70<>\"(Null)\"),('NFET Data'!$AC70<>\"(Null)\")))","v":false},{"$f":"AND(((VGS_DR)>=6),((VGS_DR)<8),OR(('NFET Data'!$AG70<>\"(Null)\"),('NFET Data'!$AF70<>\"(Null)\"),('NFET Data'!$AE70<>\"(Null)\"),('NFET Data'!$AD70<>\"(Null)\"),('NFET Data'!$AC70<>\"(Null)\")))","v":false},{"$f":"AND(((VGS_DR)>=8),((VGS_DR)<10),OR(('NFET Data'!$AH70<>\"(Null)\"),('NFET Data'!$AG70<>\"(Null)\"),('NFET Data'!$AF70<>\"(Null)\"),('NFET Data'!$AE70<>\"(Null)\"),('NFET Data'!$AD70<>\"(Null)\"),('NFET Data'!$AC70<>\"(Null)\")))","v":false},{"$f":"AND(((VGS_DR)>=10),OR(('NFET Data'!$AI70<>\"(Null)\"),('NFET Data'!$AH70<>\"(Null)\"),('NFET Data'!$AG70<>\"(Null)\"),('NFET Data'!$AF70<>\"(Null)\"),('NFET Data'!$AE70<>\"(Null)\"),('NFET Data'!$AD70<>\"(Null)\"),('NFET Data'!$AC70<>\"(Null)\")))","v":true},true,true]
[{"$f":"IF(R71,Load_Switch_NFET[[#This Row],[PARTNUMBER]],\"\")","v":"CSD17570Q5B"},null,{"$f":"AND((Load_Switch_NFET[[#This Row],[VDSMAX]]>=Vi*1.1),(Load_Switch_NFET[[#This Row],[VGSMAX]]>=(VGS_DR)*1.1),(Load_Switch_NFET[[#This Row],[IDSMAX]]>=Io),VGS_DR>=1.8)","v":true},{"$f":"AND(Vi<=27,Load_Switch_NFET[[#This Row],[VDSMAX]]<=30)","v":true},{"$f":"AND(Vi<=36,Vi>=20,Load_Switch_NFET[[#This Row],[VDSMAX]]=40)","v":false},{"$f":"AND(Vi<=54,Vi>=25,Load_Switch_NFET[[#This Row],[VDSMAX]]=60)","v":false},{"$f":"AND(Vi<=72,Vi>=36,Load_Switch_NFET[[#This Row],[VDSMAX]]=80)","v":false},{"$f":"AND(Vi<=90,Vi>=48,Load_Switch_NFET[[#This Row],[VDSMAX]]=100)","v":false},true,{"$f":"AND(((VGS_DR)<2.5),('NFET Data'!$AC71<>\"(Null)\"))","v":false},{"$f":"AND(((VGS_DR)>=2.5),((VGS_DR)<3),OR(('NFET Data'!$AD71<>\"(Null)\"),('NFET Data'!$AC71<>\"(Null)\")))","v":false},{"$f":"AND(((VGS_DR)>=3),((VGS_DR)<4.5),OR(('NFET Data'!$AE71<>\"(Null)\"),('NFET Data'!$AD71<>\"(Null)\"),('NFET Data'!$AC71<>\"(Null)\")))","v":false},{"$f":"AND(((VGS_DR)>=4.5),((VGS_DR)<6),OR(('NFET Data'!$AF71<>\"(Null)\"),('NFET Data'!$AE71<>\"(Null)\"),('NFET Data'!$AD71<>\"(Null)\"),('NFET Data'!$AC71<>\"(Null)\")))","v":false},{"$f":"AND(((VGS_DR)>=6),((VGS_DR)<8),OR(('NFET Data'!$AG71<>\"(Null)\"),('NFET Data'!$AF71<>\"(Null)\"),('NFET Data'!$AE71<>\"(Null)\"),('NFET Data'!$AD71<>\"(Null)\"),('NFET Data'!$AC71<>\"(Null)\")))","v":false},{"$f":"AND(((VGS_DR)>=8),((VGS_DR)<10),OR(('NFET Data'!$AH71<>\"(Null)\"),('NFET Data'!$AG71<>\"(Null)\"),('NFET Data'!$AF71<>\"(Null)\"),('NFET Data'!$AE71<>\"(Null)\"),('NFET Data'!$AD71<>\"(Null)\"),('NFET Data'!$AC71<>\"(Null)\")))","v":false},{"$f":"AND(((VGS_DR)>=10),OR(('NFET Data'!$AI71<>\"(Null)\"),('NFET Data'!$AH71<>\"(Null)\"),('NFET Data'!$AG71<>\"(Null)\"),('NFET Data'!$AF71<>\"(Null)\"),('NFET Data'!$AE71<>\"(Null)\"),('NFET Data'!$AD71<>\"(Null)\"),('NFET Data'!$AC71<>\"(Null)\")))","v":true},true,true]
[{"$f":"IF(R72,Load_Switch_NFET[[#This Row],[PARTNUMBER]],\"\")","v":""},null,{"$f":"AND((Load_Switch_NFET[[#This Row],[VDSMAX]]>=Vi*1.1),(Load_Switch_NFET[[#This Row],[VGSMAX]]>=(VGS_DR)*1.1),(Load_Switch_NFET[[#This Row],[IDSMAX]]>=Io),VGS_DR>=1.8)","v":false},{"$f":"AND(Vi<=27,Load_Switch_NFET[[#This Row],[VDSMAX]]<=30)","v":true},{"$f":"AND(Vi<=36,Vi>=20,Load_Switch_NFET[[#This Row],[VDSMAX]]=40)","v":false},{"$f":"AND(Vi<=54,Vi>=25,Load_Switch_NFET[[#This Row],[VDSMAX]]=60)","v":false},{"$f":"AND(Vi<=72,Vi>=36,Load_Switch_NFET[[#This Row],[VDSMAX]]=80)","v":false},{"$f":"AND(Vi<=90,Vi>=48,Load_Switch_NFET[[#This Row],[VDSMAX]]=100)","v":false},true,{"$f":"AND(((VGS_DR)<2.5),('NFET Data'!$AC72<>\"(Null)\"))","v":false},{"$f":"AND(((VGS_DR)>=2.5),((VGS_DR)<3),OR(('NFET Data'!$AD72<>\"(Null)\"),('NFET Data'!$AC72<>\"(Null)\")))","v":false},{"$f":"AND(((VGS_DR)>=3),((VGS_DR)<4.5),OR(('NFET Data'!$AE72<>\"(Null)\"),('NFET Data'!$AD72<>\"(Null)\"),('NFET Data'!$AC72<>\"(Null)\")))","v":false},{"$f":"AND(((VGS_DR)>=4.5),((VGS_DR)<6),OR(('NFET Data'!$AF72<>\"(Null)\"),('NFET Data'!$AE72<>\"(Null)\"),('NFET Data'!$AD72<>\"(Null)\"),('NFET Data'!$AC72<>\"(Null)\")))","v":false},{"$f":"AND(((VGS_DR)>=6),((VGS_DR)<8),OR(('NFET Data'!$AG72<>\"(Null)\"),('NFET Data'!$AF72<>\"(Null)\"),('NFET Data'!$AE72<>\"(Null)\"),('NFET Data'!$AD72<>\"(Null)\"),('NFET Data'!$AC72<>\"(Null)\")))","v":false},{"$f":"AND(((VGS_DR)>=8),((VGS_DR)<10),OR(('NFET Data'!$AH72<>\"(Null)\"),('NFET Data'!$AG72<>\"(Null)\"),('NFET Data'!$AF72<>\"(Null)\"),('NFET Data'!$AE72<>\"(Null)\"),('NFET Data'!$AD72<>\"(Null)\"),('NFET Data'!$AC72<>\"(Null)\")))","v":false},{"$f":"AND(((VGS_DR)>=10),OR(('NFET Data'!$AI72<>\"(Null)\"),('NFET Data'!$AH72<>\"(Null)\"),('NFET Data'!$AG72<>\"(Null)\"),('NFET Data'!$AF72<>\"(Null)\"),('NFET Data'!$AE72<>\"(Null)\"),('NFET Data'!$AD72<>\"(Null)\"),('NFET Data'!$AC72<>\"(Null)\")))","v":true},true,false]
[{"$f":"IF(R73,Load_Switch_NFET[[#This Row],[PARTNUMBER]],\"\")","v":"CSD17573Q5B"},null,{"$f":"AND((Load_Switch_NFET[[#This Row],[VDSMAX]]>=Vi*1.1),(Load_Switch_NFET[[#This Row],[VGSMAX]]>=(VGS_DR)*1.1),(Load_Switch_NFET[[#This Row],[IDSMAX]]>=Io),VGS_DR>=1.8)","v":true},{"$f":"AND(Vi<=27,Load_Switch_NFET[[#This Row],[VDSMAX]]<=30)","v":true},{"$f":"AND(Vi<=36,Vi>=20,Load_Switch_NFET[[#This Row],[VDSMAX]]=40)","v":false},{"$f":"AND(Vi<=54,Vi>=25,Load_Switch_NFET[[#This Row],[VDSMAX]]=60)","v":false},{"$f":"AND(Vi<=72,Vi>=36,Load_Switch_NFET[[#This Row],[VDSMAX]]=80)","v":false},{"$f":"AND(Vi<=90,Vi>=48,Load_Switch_NFET[[#This Row],[VDSMAX]]=100)","v":false},true,{"$f":"AND(((VGS_DR)<2.5),('NFET Data'!$AC73<>\"(Null)\"))","v":false},{"$f":"AND(((VGS_DR)>=2.5),((VGS_DR)<3),OR(('NFET Data'!$AD73<>\"(Null)\"),('NFET Data'!$AC73<>\"(Null)\")))","v":false},{"$f":"AND(((VGS_DR)>=3),((VGS_DR)<4.5),OR(('NFET Data'!$AE73<>\"(Null)\"),('NFET Data'!$AD73<>\"(Null)\"),('NFET Data'!$AC73<>\"(Null)\")))","v":false},{"$f":"AND(((VGS_DR)>=4.5),((VGS_DR)<6),OR(('NFET Data'!$AF73<>\"(Null)\"),('NFET Data'!$AE73<>\"(Null)\"),('NFET Data'!$AD73<>\"(Null)\"),('NFET Data'!$AC73<>\"(Null)\")))","v":false},{"$f":"AND(((VGS_DR)>=6),((VGS_DR)<8),OR(('NFET Data'!$AG73<>\"(Null)\"),('NFET Data'!$AF73<>\"(Null)\"),('NFET Data'!$AE73<>\"(Null)\"),('NFET Data'!$AD73<>\"(Null)\"),('NFET Data'!$AC73<>\"(Null)\")))","v":false},{"$f":"AND(((VGS_DR)>=8),((VGS_DR)<10),OR(('NFET Data'!$AH73<>\"(Null)\"),('NFET Data'!$AG73<>\"(Null)\"),('NFET Data'!$AF73<>\"(Null)\"),('NFET Data'!$AE73<>\"(Null)\"),('NFET Data'!$AD73<>\"(Null)\"),('NFET Data'!$AC73<>\"(Null)\")))","v":false},{"$f":"AND(((VGS_DR)>=10),OR(('NFET Data'!$AI73<>\"(Null)\"),('NFET Data'!$AH73<>\"(Null)\"),('NFET Data'!$AG73<>\"(Null)\"),('NFET Data'!$AF73<>\"(Null)\"),('NFET Data'!$AE73<>\"(Null)\"),('NFET Data'!$AD73<>\"(Null)\"),('NFET Data'!$AC73<>\"(Null)\")))","v":true},true,true]
[{"$f":"IF(R74,Load_Switch_NFET[[#This Row],[PARTNUMBER]],\"\")","v":"CSD17575Q3"},null,{"$f":"AND((Load_Switch_NFET[[#This Row],[VDSMAX]]>=Vi*1.1),(Load_Switch_NFET[[#This Row],[VGSMAX]]>=(VGS_DR)*1.1),(Load_Switch_NFET[[#This Row],[IDSMAX]]>=Io),VGS_DR>=1.8)","v":true},{"$f":"AND(Vi<=27,Load_Switch_NFET[[#This Row],[VDSMAX]]<=30)","v":true},{"$f":"AND(Vi<=36,Vi>=20,Load_Switch_NFET[[#This Row],[VDSMAX]]=40)","v":false},{"$f":"AND(Vi<=54,Vi>=25,Load_Switch_NFET[[#This Row],[VDSMAX]]=60)","v":false},{"$f":"AND(Vi<=72,Vi>=36,Load_Switch_NFET[[#This Row],[VDSMAX]]=80)","v":false},{"$f":"AND(Vi<=90,Vi>=48,Load_Switch_NFET[[#This Row],[VDSMAX]]=100)","v":false},true,{"$f":"AND(((VGS_DR)<2.5),('NFET Data'!$AC74<>\"(Null)\"))","v":false},{"$f":"AND(((VGS_DR)>=2.5),((VGS_DR)<3),OR(('NFET Data'!$AD74<>\"(Null)\"),('NFET Data'!$AC74<>\"(Null)\")))","v":false},{"$f":"AND(((VGS_DR)>=3),((VGS_DR)<4.5),OR(('NFET Data'!$AE74<>\"(Null)\"),('NFET Data'!$AD74<>\"(Null)\"),('NFET Data'!$AC74<>\"(Null)\")))","v":false},{"$f":"AND(((VGS_DR)>=4.5),((VGS_DR)<6),OR(('NFET Data'!$AF74<>\"(Null)\"),('NFET Data'!$AE74<>\"(Null)\"),('NFET Data'!$AD74<>\"(Null)\"),('NFET Data'!$AC74<>\"(Null)\")))","v":false},{"$f":"AND(((VGS_DR)>=6),((VGS_DR)<8),OR(('NFET Data'!$AG74<>\"(Null)\"),('NFET Data'!$AF74<>\"(Null)\"),('NFET Data'!$AE74<>\"(Null)\"),('NFET Data'!$AD74<>\"(Null)\"),('NFET Data'!$AC74<>\"(Null)\")))","v":false},{"$f":"AND(((VGS_DR)>=8),((VGS_DR)<10),OR(('NFET Data'!$AH74<>\"(Null)\"),('NFET Data'!$AG74<>\"(Null)\"),('NFET Data'!$AF74<>\"(Null)\"),('NFET Data'!$AE74<>\"(Null)\"),('NFET Data'!$AD74<>\"(Null)\"),('NFET Data'!$AC74<>\"(Null)\")))","v":false},{"$f":"AND(((VGS_DR)>=10),OR(('NFET Data'!$AI74<>\"(Null)\"),('NFET Data'!$AH74<>\"(Null)\"),('NFET Data'!$AG74<>\"(Null)\"),('NFET Data'!$AF74<>\"(Null)\"),('NFET Data'!$AE74<>\"(Null)\"),('NFET Data'!$AD74<>\"(Null)\"),('NFET Data'!$AC74<>\"(Null)\")))","v":true},true,true]
[{"$f":"IF(R75,Load_Switch_NFET[[#This Row],[PARTNUMBER]],\"\")","v":"CSD17576Q5B"},null,{"$f":"AND((Load_Switch_NFET[[#This Row],[VDSMAX]]>=Vi*1.1),(Load_Switch_NFET[[#This Row],[VGSMAX]]>=(VGS_DR)*1.1),(Load_Switch_NFET[[#This Row],[IDSMAX]]>=Io),VGS_DR>=1.8)","v":true},{"$f":"AND(Vi<=27,Load_Switch_NFET[[#This Row],[VDSMAX]]<=30)","v":true},{"$f":"AND(Vi<=36,Vi>=20,Load_Switch_NFET[[#This Row],[VDSMAX]]=40)","v":false},{"$f":"AND(Vi<=54,Vi>=25,Load_Switch_NFET[[#This Row],[VDSMAX]]=60)","v":false},{"$f":"AND(Vi<=72,Vi>=36,Load_Switch_NFET[[#This Row],[VDSMAX]]=80)","v":false},{"$f":"AND(Vi<=90,Vi>=48,Load_Switch_NFET[[#This Row],[VDSMAX]]=100)","v":false},true,{"$f":"AND(((VGS_DR)<2.5),('NFET Data'!$AC75<>\"(Null)\"))","v":false},{"$f":"AND(((VGS_DR)>=2.5),((VGS_DR)<3),OR(('NFET Data'!$AD75<>\"(Null)\"),('NFET Data'!$AC75<>\"(Null)\")))","v":false},{"$f":"AND(((VGS_DR)>=3),((VGS_DR)<4.5),OR(('NFET Data'!$AE75<>\"(Null)\"),('NFET Data'!$AD75<>\"(Null)\"),('NFET Data'!$AC75<>\"(Null)\")))","v":false},{"$f":"AND(((VGS_DR)>=4.5),((VGS_DR)<6),OR(('NFET Data'!$AF75<>\"(Null)\"),('NFET Data'!$AE75<>\"(Null)\"),('NFET Data'!$AD75<>\"(Null)\"),('NFET Data'!$AC75<>\"(Null)\")))","v":false},{"$f":"AND(((VGS_DR)>=6),((VGS_DR)<8),OR(('NFET Data'!$AG75<>\"(Null)\"),('NFET Data'!$AF75<>\"(Null)\"),('NFET Data'!$AE75<>\"(Null)\"),('NFET Data'!$AD75<>\"(Null)\"),('NFET Data'!$AC75<>\"(Null)\")))","v":false},{"$f":"AND(((VGS_DR)>=8),((VGS_DR)<10),OR(('NFET Data'!$AH75<>\"(Null)\"),('NFET Data'!$AG75<>\"(Null)\"),('NFET Data'!$AF75<>\"(Null)\"),('NFET Data'!$AE75<>\"(Null)\"),('NFET Data'!$AD75<>\"(Null)\"),('NFET Data'!$AC75<>\"(Null)\")))","v":false},{"$f":"AND(((VGS_DR)>=10),OR(('NFET Data'!$AI75<>\"(Null)\"),('NFET Data'!$AH75<>\"(Null)\"),('NFET Data'!$AG75<>\"(Null)\"),('NFET Data'!$AF75<>\"(Null)\"),('NFET Data'!$AE75<>\"(Null)\"),('NFET Data'!$AD75<>\"(Null)\"),('NFET Data'!$AC75<>\"(Null)\")))","v":true},true,true]
[{"$f":"IF(R76,Load_Switch_NFET[[#This Row],[PARTNUMBER]],\"\")","v":""},null,{"$f":"AND((Load_Switch_NFET[[#This Row],[VDSMAX]]>=Vi*1.1),(Load_Switch_NFET[[#This Row],[VGSMAX]]>=(VGS_DR)*1.1),(Load_Switch_NFET[[#This Row],[IDSMAX]]>=Io),VGS_DR>=1.8)","v":false},{"$f":"AND(Vi<=27,Load_Switch_NFET[[#This Row],[VDSMAX]]<=30)","v":true},{"$f":"AND(Vi<=36,Vi>=20,Load_Switch_NFET[[#This Row],[VDSMAX]]=40)","v":false},{"$f":"AND(Vi<=54,Vi>=25,Load_Switch_NFET[[#This Row],[VDSMAX]]=60)","v":false},{"$f":"AND(Vi<=72,Vi>=36,Load_Switch_NFET[[#This Row],[VDSMAX]]=80)","v":false},{"$f":"AND(Vi<=90,Vi>=48,Load_Switch_NFET[[#This Row],[VDSMAX]]=100)","v":false},true,{"$f":"AND(((VGS_DR)<2.5),('NFET Data'!$AC76<>\"(Null)\"))","v":false},{"$f":"AND(((VGS_DR)>=2.5),((VGS_DR)<3),OR(('NFET Data'!$AD76<>\"(Null)\"),('NFET Data'!$AC76<>\"(Null)\")))","v":false},{"$f":"AND(((VGS_DR)>=3),((VGS_DR)<4.5),OR(('NFET Data'!$AE76<>\"(Null)\"),('NFET Data'!$AD76<>\"(Null)\"),('NFET Data'!$AC76<>\"(Null)\")))","v":false},{"$f":"AND(((VGS_DR)>=4.5),((VGS_DR)<6),OR(('NFET Data'!$AF76<>\"(Null)\"),('NFET Data'!$AE76<>\"(Null)\"),('NFET Data'!$AD76<>\"(Null)\"),('NFET Data'!$AC76<>\"(Null)\")))","v":false},{"$f":"AND(((VGS_DR)>=6),((VGS_DR)<8),OR(('NFET Data'!$AG76<>\"(Null)\"),('NFET Data'!$AF76<>\"(Null)\"),('NFET Data'!$AE76<>\"(Null)\"),('NFET Data'!$AD76<>\"(Null)\"),('NFET Data'!$AC76<>\"(Null)\")))","v":false},{"$f":"AND(((VGS_DR)>=8),((VGS_DR)<10),OR(('NFET Data'!$AH76<>\"(Null)\"),('NFET Data'!$AG76<>\"(Null)\"),('NFET Data'!$AF76<>\"(Null)\"),('NFET Data'!$AE76<>\"(Null)\"),('NFET Data'!$AD76<>\"(Null)\"),('NFET Data'!$AC76<>\"(Null)\")))","v":false},{"$f":"AND(((VGS_DR)>=10),OR(('NFET Data'!$AI76<>\"(Null)\"),('NFET Data'!$AH76<>\"(Null)\"),('NFET Data'!$AG76<>\"(Null)\"),('NFET Data'!$AF76<>\"(Null)\"),('NFET Data'!$AE76<>\"(Null)\"),('NFET Data'!$AD76<>\"(Null)\"),('NFET Data'!$AC76<>\"(Null)\")))","v":true},true,false]
[{"$f":"IF(R77,Load_Switch_NFET[[#This Row],[PARTNUMBER]],\"\")","v":"CSD17577Q5A"},null,{"$f":"AND((Load_Switch_NFET[[#This Row],[VDSMAX]]>=Vi*1.1),(Load_Switch_NFET[[#This Row],[VGSMAX]]>=(VGS_DR)*1.1),(Load_Switch_NFET[[#This Row],[IDSMAX]]>=Io),VGS_DR>=1.8)","v":true},{"$f":"AND(Vi<=27,Load_Switch_NFET[[#This Row],[VDSMAX]]<=30)","v":true},{"$f":"AND(Vi<=36,Vi>=20,Load_Switch_NFET[[#This Row],[VDSMAX]]=40)","v":false},{"$f":"AND(Vi<=54,Vi>=25,Load_Switch_NFET[[#This Row],[VDSMAX]]=60)","v":false},{"$f":"AND(Vi<=72,Vi>=36,Load_Switch_NFET[[#This Row],[VDSMAX]]=80)","v":false},{"$f":"AND(Vi<=90,Vi>=48,Load_Switch_NFET[[#This Row],[VDSMAX]]=100)","v":false},true,{"$f":"AND(((VGS_DR)<2.5),('NFET Data'!$AC77<>\"(Null)\"))","v":false},{"$f":"AND(((VGS_DR)>=2.5),((VGS_DR)<3),OR(('NFET Data'!$AD77<>\"(Null)\"),('NFET Data'!$AC77<>\"(Null)\")))","v":false},{"$f":"AND(((VGS_DR)>=3),((VGS_DR)<4.5),OR(('NFET Data'!$AE77<>\"(Null)\"),('NFET Data'!$AD77<>\"(Null)\"),('NFET Data'!$AC77<>\"(Null)\")))","v":false},{"$f":"AND(((VGS_DR)>=4.5),((VGS_DR)<6),OR(('NFET Data'!$AF77<>\"(Null)\"),('NFET Data'!$AE77<>\"(Null)\"),('NFET Data'!$AD77<>\"(Null)\"),('NFET Data'!$AC77<>\"(Null)\")))","v":false},{"$f":"AND(((VGS_DR)>=6),((VGS_DR)<8),OR(('NFET Data'!$AG77<>\"(Null)\"),('NFET Data'!$AF77<>\"(Null)\"),('NFET Data'!$AE77<>\"(Null)\"),('NFET Data'!$AD77<>\"(Null)\"),('NFET Data'!$AC77<>\"(Null)\")))","v":false},{"$f":"AND(((VGS_DR)>=8),((VGS_DR)<10),OR(('NFET Data'!$AH77<>\"(Null)\"),('NFET Data'!$AG77<>\"(Null)\"),('NFET Data'!$AF77<>\"(Null)\"),('NFET Data'!$AE77<>\"(Null)\"),('NFET Data'!$AD77<>\"(Null)\"),('NFET Data'!$AC77<>\"(Null)\")))","v":false},{"$f":"AND(((VGS_DR)>=10),OR(('NFET Data'!$AI77<>\"(Null)\"),('NFET Data'!$AH77<>\"(Null)\"),('NFET Data'!$AG77<>\"(Null)\"),('NFET Data'!$AF77<>\"(Null)\"),('NFET Data'!$AE77<>\"(Null)\"),('NFET Data'!$AD77<>\"(Null)\"),('NFET Data'!$AC77<>\"(Null)\")))","v":true},true,true]
[{"$f":"IF(R78,Load_Switch_NFET[[#This Row],[PARTNUMBER]],\"\")","v":""},null,{"$f":"AND((Load_Switch_NFET[[#This Row],[VDSMAX]]>=Vi*1.1),(Load_Switch_NFET[[#This Row],[VGSMAX]]>=(VGS_DR)*1.1),(Load_Switch_NFET[[#This Row],[IDSMAX]]>=Io),VGS_DR>=1.8)","v":false},{"$f":"AND(Vi<=27,Load_Switch_NFET[[#This Row],[VDSMAX]]<=30)","v":true},{"$f":"AND(Vi<=36,Vi>=20,Load_Switch_NFET[[#This Row],[VDSMAX]]=40)","v":false},{"$f":"AND(Vi<=54,Vi>=25,Load_Switch_NFET[[#This Row],[VDSMAX]]=60)","v":false},{"$f":"AND(Vi<=72,Vi>=36,Load_Switch_NFET[[#This Row],[VDSMAX]]=80)","v":false},{"$f":"AND(Vi<=90,Vi>=48,Load_Switch_NFET[[#This Row],[VDSMAX]]=100)","v":false},true,{"$f":"AND(((VGS_DR)<2.5),('NFET Data'!$AC78<>\"(Null)\"))","v":false},{"$f":"AND(((VGS_DR)>=2.5),((VGS_DR)<3),OR(('NFET Data'!$AD78<>\"(Null)\"),('NFET Data'!$AC78<>\"(Null)\")))","v":false},{"$f":"AND(((VGS_DR)>=3),((VGS_DR)<4.5),OR(('NFET Data'!$AE78<>\"(Null)\"),('NFET Data'!$AD78<>\"(Null)\"),('NFET Data'!$AC78<>\"(Null)\")))","v":false},{"$f":"AND(((VGS_DR)>=4.5),((VGS_DR)<6),OR(('NFET Data'!$AF78<>\"(Null)\"),('NFET Data'!$AE78<>\"(Null)\"),('NFET Data'!$AD78<>\"(Null)\"),('NFET Data'!$AC78<>\"(Null)\")))","v":false},{"$f":"AND(((VGS_DR)>=6),((VGS_DR)<8),OR(('NFET Data'!$AG78<>\"(Null)\"),('NFET Data'!$AF78<>\"(Null)\"),('NFET Data'!$AE78<>\"(Null)\"),('NFET Data'!$AD78<>\"(Null)\"),('NFET Data'!$AC78<>\"(Null)\")))","v":false},{"$f":"AND(((VGS_DR)>=8),((VGS_DR)<10),OR(('NFET Data'!$AH78<>\"(Null)\"),('NFET Data'!$AG78<>\"(Null)\"),('NFET Data'!$AF78<>\"(Null)\"),('NFET Data'!$AE78<>\"(Null)\"),('NFET Data'!$AD78<>\"(Null)\"),('NFET Data'!$AC78<>\"(Null)\")))","v":false},{"$f":"AND(((VGS_DR)>=10),OR(('NFET Data'!$AI78<>\"(Null)\"),('NFET Data'!$AH78<>\"(Null)\"),('NFET Data'!$AG78<>\"(Null)\"),('NFET Data'!$AF78<>\"(Null)\"),('NFET Data'!$AE78<>\"(Null)\"),('NFET Data'!$AD78<>\"(Null)\"),('NFET Data'!$AC78<>\"(Null)\")))","v":true},true,false]
[{"$f":"IF(R79,Load_Switch_NFET[[#This Row],[PARTNUMBER]],\"\")","v":""},null,{"$f":"AND((Load_Switch_NFET[[#This Row],[VDSMAX]]>=Vi*1.1),(Load_Switch_NFET[[#This Row],[VGSMAX]]>=(VGS_DR)*1.1),(Load_Switch_NFET[[#This Row],[IDSMAX]]>=Io),VGS_DR>=1.8)","v":false},{"$f":"AND(Vi<=27,Load_Switch_NFET[[#This Row],[VDSMAX]]<=30)","v":true},{"$f":"AND(Vi<=36,Vi>=20,Load_Switch_NFET[[#This Row],[VDSMAX]]=40)","v":false},{"$f":"AND(Vi<=54,Vi>=25,Load_Switch_NFET[[#This Row],[VDSMAX]]=60)","v":false},{"$f":"AND(Vi<=72,Vi>=36,Load_Switch_NFET[[#This Row],[VDSMAX]]=80)","v":false},{"$f":"AND(Vi<=90,Vi>=48,Load_Switch_NFET[[#This Row],[VDSMAX]]=100)","v":false},true,{"$f":"AND(((VGS_DR)<2.5),('NFET Data'!$AC79<>\"(Null)\"))","v":false},{"$f":"AND(((VGS_DR)>=2.5),((VGS_DR)<3),OR(('NFET Data'!$AD79<>\"(Null)\"),('NFET Data'!$AC79<>\"(Null)\")))","v":false},{"$f":"AND(((VGS_DR)>=3),((VGS_DR)<4.5),OR(('NFET Data'!$AE79<>\"(Null)\"),('NFET Data'!$AD79<>\"(Null)\"),('NFET Data'!$AC79<>\"(Null)\")))","v":false},{"$f":"AND(((VGS_DR)>=4.5),((VGS_DR)<6),OR(('NFET Data'!$AF79<>\"(Null)\"),('NFET Data'!$AE79<>\"(Null)\"),('NFET Data'!$AD79<>\"(Null)\"),('NFET Data'!$AC79<>\"(Null)\")))","v":false},{"$f":"AND(((VGS_DR)>=6),((VGS_DR)<8),OR(('NFET Data'!$AG79<>\"(Null)\"),('NFET Data'!$AF79<>\"(Null)\"),('NFET Data'!$AE79<>\"(Null)\"),('NFET Data'!$AD79<>\"(Null)\"),('NFET Data'!$AC79<>\"(Null)\")))","v":false},{"$f":"AND(((VGS_DR)>=8),((VGS_DR)<10),OR(('NFET Data'!$AH79<>\"(Null)\"),('NFET Data'!$AG79<>\"(Null)\"),('NFET Data'!$AF79<>\"(Null)\"),('NFET Data'!$AE79<>\"(Null)\"),('NFET Data'!$AD79<>\"(Null)\"),('NFET Data'!$AC79<>\"(Null)\")))","v":false},{"$f":"AND(((VGS_DR)>=10),OR(('NFET Data'!$AI79<>\"(Null)\"),('NFET Data'!$AH79<>\"(Null)\"),('NFET Data'!$AG79<>\"(Null)\"),('NFET Data'!$AF79<>\"(Null)\"),('NFET Data'!$AE79<>\"(Null)\"),('NFET Data'!$AD79<>\"(Null)\"),('NFET Data'!$AC79<>\"(Null)\")))","v":true},true,false]
[{"$f":"IF(R80,Load_Switch_NFET[[#This Row],[PARTNUMBER]],\"\")","v":""},null,{"$f":"AND((Load_Switch_NFET[[#This Row],[VDSMAX]]>=Vi*1.1),(Load_Switch_NFET[[#This Row],[VGSMAX]]>=(VGS_DR)*1.1),(Load_Switch_NFET[[#This Row],[IDSMAX]]>=Io),VGS_DR>=1.8)","v":false},{"$f":"AND(Vi<=27,Load_Switch_NFET[[#This Row],[VDSMAX]]<=30)","v":true},{"$f":"AND(Vi<=36,Vi>=20,Load_Switch_NFET[[#This Row],[VDSMAX]]=40)","v":false},{"$f":"AND(Vi<=54,Vi>=25,Load_Switch_NFET[[#This Row],[VDSMAX]]=60)","v":false},{"$f":"AND(Vi<=72,Vi>=36,Load_Switch_NFET[[#This Row],[VDSMAX]]=80)","v":false},{"$f":"AND(Vi<=90,Vi>=48,Load_Switch_NFET[[#This Row],[VDSMAX]]=100)","v":false},true,{"$f":"AND(((VGS_DR)<2.5),('NFET Data'!$AC80<>\"(Null)\"))","v":false},{"$f":"AND(((VGS_DR)>=2.5),((VGS_DR)<3),OR(('NFET Data'!$AD80<>\"(Null)\"),('NFET Data'!$AC80<>\"(Null)\")))","v":false},{"$f":"AND(((VGS_DR)>=3),((VGS_DR)<4.5),OR(('NFET Data'!$AE80<>\"(Null)\"),('NFET Data'!$AD80<>\"(Null)\"),('NFET Data'!$AC80<>\"(Null)\")))","v":false},{"$f":"AND(((VGS_DR)>=4.5),((VGS_DR)<6),OR(('NFET Data'!$AF80<>\"(Null)\"),('NFET Data'!$AE80<>\"(Null)\"),('NFET Data'!$AD80<>\"(Null)\"),('NFET Data'!$AC80<>\"(Null)\")))","v":false},{"$f":"AND(((VGS_DR)>=6),((VGS_DR)<8),OR(('NFET Data'!$AG80<>\"(Null)\"),('NFET Data'!$AF80<>\"(Null)\"),('NFET Data'!$AE80<>\"(Null)\"),('NFET Data'!$AD80<>\"(Null)\"),('NFET Data'!$AC80<>\"(Null)\")))","v":false},{"$f":"AND(((VGS_DR)>=8),((VGS_DR)<10),OR(('NFET Data'!$AH80<>\"(Null)\"),('NFET Data'!$AG80<>\"(Null)\"),('NFET Data'!$AF80<>\"(Null)\"),('NFET Data'!$AE80<>\"(Null)\"),('NFET Data'!$AD80<>\"(Null)\"),('NFET Data'!$AC80<>\"(Null)\")))","v":false},{"$f":"AND(((VGS_DR)>=10),OR(('NFET Data'!$AI80<>\"(Null)\"),('NFET Data'!$AH80<>\"(Null)\"),('NFET Data'!$AG80<>\"(Null)\"),('NFET Data'!$AF80<>\"(Null)\"),('NFET Data'!$AE80<>\"(Null)\"),('NFET Data'!$AD80<>\"(Null)\"),('NFET Data'!$AC80<>\"(Null)\")))","v":true},true,false]
[{"$f":"IF(R81,Load_Switch_NFET[[#This Row],[PARTNUMBER]],\"\")","v":""},null,{"$f":"AND((Load_Switch_NFET[[#This Row],[VDSMAX]]>=Vi*1.1),(Load_Switch_NFET[[#This Row],[VGSMAX]]>=(VGS_DR)*1.1),(Load_Switch_NFET[[#This Row],[IDSMAX]]>=Io),VGS_DR>=1.8)","v":false},{"$f":"AND(Vi<=27,Load_Switch_NFET[[#This Row],[VDSMAX]]<=30)","v":true},{"$f":"AND(Vi<=36,Vi>=20,Load_Switch_NFET[[#This Row],[VDSMAX]]=40)","v":false},{"$f":"AND(Vi<=54,Vi>=25,Load_Switch_NFET[[#This Row],[VDSMAX]]=60)","v":false},{"$f":"AND(Vi<=72,Vi>=36,Load_Switch_NFET[[#This Row],[VDSMAX]]=80)","v":false},{"$f":"AND(Vi<=90,Vi>=48,Load_Switch_NFET[[#This Row],[VDSMAX]]=100)","v":false},true,{"$f":"AND(((VGS_DR)<2.5),('NFET Data'!$AC81<>\"(Null)\"))","v":false},{"$f":"AND(((VGS_DR)>=2.5),((VGS_DR)<3),OR(('NFET Data'!$AD81<>\"(Null)\"),('NFET Data'!$AC81<>\"(Null)\")))","v":false},{"$f":"AND(((VGS_DR)>=3),((VGS_DR)<4.5),OR(('NFET Data'!$AE81<>\"(Null)\"),('NFET Data'!$AD81<>\"(Null)\"),('NFET Data'!$AC81<>\"(Null)\")))","v":false},{"$f":"AND(((VGS_DR)>=4.5),((VGS_DR)<6),OR(('NFET Data'!$AF81<>\"(Null)\"),('NFET Data'!$AE81<>\"(Null)\"),('NFET Data'!$AD81<>\"(Null)\"),('NFET Data'!$AC81<>\"(Null)\")))","v":false},{"$f":"AND(((VGS_DR)>=6),((VGS_DR)<8),OR(('NFET Data'!$AG81<>\"(Null)\"),('NFET Data'!$AF81<>\"(Null)\"),('NFET Data'!$AE81<>\"(Null)\"),('NFET Data'!$AD81<>\"(Null)\"),('NFET Data'!$AC81<>\"(Null)\")))","v":false},{"$f":"AND(((VGS_DR)>=8),((VGS_DR)<10),OR(('NFET Data'!$AH81<>\"(Null)\"),('NFET Data'!$AG81<>\"(Null)\"),('NFET Data'!$AF81<>\"(Null)\"),('NFET Data'!$AE81<>\"(Null)\"),('NFET Data'!$AD81<>\"(Null)\"),('NFET Data'!$AC81<>\"(Null)\")))","v":false},{"$f":"AND(((VGS_DR)>=10),OR(('NFET Data'!$AI81<>\"(Null)\"),('NFET Data'!$AH81<>\"(Null)\"),('NFET Data'!$AG81<>\"(Null)\"),('NFET Data'!$AF81<>\"(Null)\"),('NFET Data'!$AE81<>\"(Null)\"),('NFET Data'!$AD81<>\"(Null)\"),('NFET Data'!$AC81<>\"(Null)\")))","v":true},true,false]
[{"$f":"IF(R82,Load_Switch_NFET[[#This Row],[PARTNUMBER]],\"\")","v":"CSD17581Q3A"},null,{"$f":"AND((Load_Switch_NFET[[#This Row],[VDSMAX]]>=Vi*1.1),(Load_Switch_NFET[[#This Row],[VGSMAX]]>=(VGS_DR)*1.1),(Load_Switch_NFET[[#This Row],[IDSMAX]]>=Io),VGS_DR>=1.8)","v":true},{"$f":"AND(Vi<=27,Load_Switch_NFET[[#This Row],[VDSMAX]]<=30)","v":true},{"$f":"AND(Vi<=36,Vi>=20,Load_Switch_NFET[[#This Row],[VDSMAX]]=40)","v":false},{"$f":"AND(Vi<=54,Vi>=25,Load_Switch_NFET[[#This Row],[VDSMAX]]=60)","v":false},{"$f":"AND(Vi<=72,Vi>=36,Load_Switch_NFET[[#This Row],[VDSMAX]]=80)","v":false},{"$f":"AND(Vi<=90,Vi>=48,Load_Switch_NFET[[#This Row],[VDSMAX]]=100)","v":false},true,{"$f":"AND(((VGS_DR)<2.5),('NFET Data'!$AC82<>\"(Null)\"))","v":false},{"$f":"AND(((VGS_DR)>=2.5),((VGS_DR)<3),OR(('NFET Data'!$AD82<>\"(Null)\"),('NFET Data'!$AC82<>\"(Null)\")))","v":false},{"$f":"AND(((VGS_DR)>=3),((VGS_DR)<4.5),OR(('NFET Data'!$AE82<>\"(Null)\"),('NFET Data'!$AD82<>\"(Null)\"),('NFET Data'!$AC82<>\"(Null)\")))","v":false},{"$f":"AND(((VGS_DR)>=4.5),((VGS_DR)<6),OR(('NFET Data'!$AF82<>\"(Null)\"),('NFET Data'!$AE82<>\"(Null)\"),('NFET Data'!$AD82<>\"(Null)\"),('NFET Data'!$AC82<>\"(Null)\")))","v":false},{"$f":"AND(((VGS_DR)>=6),((VGS_DR)<8),OR(('NFET Data'!$AG82<>\"(Null)\"),('NFET Data'!$AF82<>\"(Null)\"),('NFET Data'!$AE82<>\"(Null)\"),('NFET Data'!$AD82<>\"(Null)\"),('NFET Data'!$AC82<>\"(Null)\")))","v":false},{"$f":"AND(((VGS_DR)>=8),((VGS_DR)<10),OR(('NFET Data'!$AH82<>\"(Null)\"),('NFET Data'!$AG82<>\"(Null)\"),('NFET Data'!$AF82<>\"(Null)\"),('NFET Data'!$AE82<>\"(Null)\"),('NFET Data'!$AD82<>\"(Null)\"),('NFET Data'!$AC82<>\"(Null)\")))","v":false},{"$f":"AND(((VGS_DR)>=10),OR(('NFET Data'!$AI82<>\"(Null)\"),('NFET Data'!$AH82<>\"(Null)\"),('NFET Data'!$AG82<>\"(Null)\"),('NFET Data'!$AF82<>\"(Null)\"),('NFET Data'!$AE82<>\"(Null)\"),('NFET Data'!$AD82<>\"(Null)\"),('NFET Data'!$AC82<>\"(Null)\")))","v":true},true,true]
[{"$f":"IF(R83,Load_Switch_NFET[[#This Row],[PARTNUMBER]],\"\")","v":"CSD17581Q5A"},null,{"$f":"AND((Load_Switch_NFET[[#This Row],[VDSMAX]]>=Vi*1.1),(Load_Switch_NFET[[#This Row],[VGSMAX]]>=(VGS_DR)*1.1),(Load_Switch_NFET[[#This Row],[IDSMAX]]>=Io),VGS_DR>=1.8)","v":true},{"$f":"AND(Vi<=27,Load_Switch_NFET[[#This Row],[VDSMAX]]<=30)","v":true},{"$f":"AND(Vi<=36,Vi>=20,Load_Switch_NFET[[#This Row],[VDSMAX]]=40)","v":false},{"$f":"AND(Vi<=54,Vi>=25,Load_Switch_NFET[[#This Row],[VDSMAX]]=60)","v":false},{"$f":"AND(Vi<=72,Vi>=36,Load_Switch_NFET[[#This Row],[VDSMAX]]=80)","v":false},{"$f":"AND(Vi<=90,Vi>=48,Load_Switch_NFET[[#This Row],[VDSMAX]]=100)","v":false},true,{"$f":"AND(((VGS_DR)<2.5),('NFET Data'!$AC83<>\"(Null)\"))","v":false},{"$f":"AND(((VGS_DR)>=2.5),((VGS_DR)<3),OR(('NFET Data'!$AD83<>\"(Null)\"),('NFET Data'!$AC83<>\"(Null)\")))","v":false},{"$f":"AND(((VGS_DR)>=3),((VGS_DR)<4.5),OR(('NFET Data'!$AE83<>\"(Null)\"),('NFET Data'!$AD83<>\"(Null)\"),('NFET Data'!$AC83<>\"(Null)\")))","v":false},{"$f":"AND(((VGS_DR)>=4.5),((VGS_DR)<6),OR(('NFET Data'!$AF83<>\"(Null)\"),('NFET Data'!$AE83<>\"(Null)\"),('NFET Data'!$AD83<>\"(Null)\"),('NFET Data'!$AC83<>\"(Null)\")))","v":false},{"$f":"AND(((VGS_DR)>=6),((VGS_DR)<8),OR(('NFET Data'!$AG83<>\"(Null)\"),('NFET Data'!$AF83<>\"(Null)\"),('NFET Data'!$AE83<>\"(Null)\"),('NFET Data'!$AD83<>\"(Null)\"),('NFET Data'!$AC83<>\"(Null)\")))","v":false},{"$f":"AND(((VGS_DR)>=8),((VGS_DR)<10),OR(('NFET Data'!$AH83<>\"(Null)\"),('NFET Data'!$AG83<>\"(Null)\"),('NFET Data'!$AF83<>\"(Null)\"),('NFET Data'!$AE83<>\"(Null)\"),('NFET Data'!$AD83<>\"(Null)\"),('NFET Data'!$AC83<>\"(Null)\")))","v":false},{"$f":"AND(((VGS_DR)>=10),OR(('NFET Data'!$AI83<>\"(Null)\"),('NFET Data'!$AH83<>\"(Null)\"),('NFET Data'!$AG83<>\"(Null)\"),('NFET Data'!$AF83<>\"(Null)\"),('NFET Data'!$AE83<>\"(Null)\"),('NFET Data'!$AD83<>\"(Null)\"),('NFET Data'!$AC83<>\"(Null)\")))","v":true},true,true]
[{"$f":"IF(R84,Load_Switch_NFET[[#This Row],[PARTNUMBER]],\"\")","v":""},null,{"$f":"AND((Load_Switch_NFET[[#This Row],[VDSMAX]]>=Vi*1.1),(Load_Switch_NFET[[#This Row],[VGSMAX]]>=(VGS_DR)*1.1),(Load_Switch_NFET[[#This Row],[IDSMAX]]>=Io),VGS_DR>=1.8)","v":false},{"$f":"AND(Vi<=27,Load_Switch_NFET[[#This Row],[VDSMAX]]<=30)","v":true},{"$f":"AND(Vi<=36,Vi>=20,Load_Switch_NFET[[#This Row],[VDSMAX]]=40)","v":false},{"$f":"AND(Vi<=54,Vi>=25,Load_Switch_NFET[[#This Row],[VDSMAX]]=60)","v":false},{"$f":"AND(Vi<=72,Vi>=36,Load_Switch_NFET[[#This Row],[VDSMAX]]=80)","v":false},{"$f":"AND(Vi<=90,Vi>=48,Load_Switch_NFET[[#This Row],[VDSMAX]]=100)","v":false},true,{"$f":"AND(((VGS_DR)<2.5),('NFET Data'!$AC84<>\"(Null)\"))","v":false},{"$f":"AND(((VGS_DR)>=2.5),((VGS_DR)<3),OR(('NFET Data'!$AD84<>\"(Null)\"),('NFET Data'!$AC84<>\"(Null)\")))","v":false},{"$f":"AND(((VGS_DR)>=3),((VGS_DR)<4.5),OR(('NFET Data'!$AE84<>\"(Null)\"),('NFET Data'!$AD84<>\"(Null)\"),('NFET Data'!$AC84<>\"(Null)\")))","v":false},{"$f":"AND(((VGS_DR)>=4.5),((VGS_DR)<6),OR(('NFET Data'!$AF84<>\"(Null)\"),('NFET Data'!$AE84<>\"(Null)\"),('NFET Data'!$AD84<>\"(Null)\"),('NFET Data'!$AC84<>\"(Null)\")))","v":false},{"$f":"AND(((VGS_DR)>=6),((VGS_DR)<8),OR(('NFET Data'!$AG84<>\"(Null)\"),('NFET Data'!$AF84<>\"(Null)\"),('NFET Data'!$AE84<>\"(Null)\"),('NFET Data'!$AD84<>\"(Null)\"),('NFET Data'!$AC84<>\"(Null)\")))","v":false},{"$f":"AND(((VGS_DR)>=8),((VGS_DR)<10),OR(('NFET Data'!$AH84<>\"(Null)\"),('NFET Data'!$AG84<>\"(Null)\"),('NFET Data'!$AF84<>\"(Null)\"),('NFET Data'!$AE84<>\"(Null)\"),('NFET Data'!$AD84<>\"(Null)\"),('NFET Data'!$AC84<>\"(Null)\")))","v":false},{"$f":"AND(((VGS_DR)>=10),OR(('NFET Data'!$AI84<>\"(Null)\"),('NFET Data'!$AH84<>\"(Null)\"),('NFET Data'!$AG84<>\"(Null)\"),('NFET Data'!$AF84<>\"(Null)\"),('NFET Data'!$AE84<>\"(Null)\"),('NFET Data'!$AD84<>\"(Null)\"),('NFET Data'!$AC84<>\"(Null)\")))","v":true},true,false]
[{"$f":"IF(R85,Load_Switch_NFET[[#This Row],[PARTNUMBER]],\"\")","v":""},null,{"$f":"AND((Load_Switch_NFET[[#This Row],[VDSMAX]]>=Vi*1.1),(Load_Switch_NFET[[#This Row],[VGSMAX]]>=(VGS_DR)*1.1),(Load_Switch_NFET[[#This Row],[IDSMAX]]>=Io),VGS_DR>=1.8)","v":true},{"$f":"AND(Vi<=27,Load_Switch_NFET[[#This Row],[VDSMAX]]<=30)","v":false},{"$f":"AND(Vi<=36,Vi>=20,Load_Switch_NFET[[#This Row],[VDSMAX]]=40)","v":false},{"$f":"AND(Vi<=54,Vi>=25,Load_Switch_NFET[[#This Row],[VDSMAX]]=60)","v":false},{"$f":"AND(Vi<=72,Vi>=36,Load_Switch_NFET[[#This Row],[VDSMAX]]=80)","v":false},{"$f":"AND(Vi<=90,Vi>=48,Load_Switch_NFET[[#This Row],[VDSMAX]]=100)","v":false},false,{"$f":"AND(((VGS_DR)<2.5),('NFET Data'!$AC85<>\"(Null)\"))","v":false},{"$f":"AND(((VGS_DR)>=2.5),((VGS_DR)<3),OR(('NFET Data'!$AD85<>\"(Null)\"),('NFET Data'!$AC85<>\"(Null)\")))","v":false},{"$f":"AND(((VGS_DR)>=3),((VGS_DR)<4.5),OR(('NFET Data'!$AE85<>\"(Null)\"),('NFET Data'!$AD85<>\"(Null)\"),('NFET Data'!$AC85<>\"(Null)\")))","v":false},{"$f":"AND(((VGS_DR)>=4.5),((VGS_DR)<6),OR(('NFET Data'!$AF85<>\"(Null)\"),('NFET Data'!$AE85<>\"(Null)\"),('NFET Data'!$AD85<>\"(Null)\"),('NFET Data'!$AC85<>\"(Null)\")))","v":false},{"$f":"AND(((VGS_DR)>=6),((VGS_DR)<8),OR(('NFET Data'!$AG85<>\"(Null)\"),('NFET Data'!$AF85<>\"(Null)\"),('NFET Data'!$AE85<>\"(Null)\"),('NFET Data'!$AD85<>\"(Null)\"),('NFET Data'!$AC85<>\"(Null)\")))","v":false},{"$f":"AND(((VGS_DR)>=8),((VGS_DR)<10),OR(('NFET Data'!$AH85<>\"(Null)\"),('NFET Data'!$AG85<>\"(Null)\"),('NFET Data'!$AF85<>\"(Null)\"),('NFET Data'!$AE85<>\"(Null)\"),('NFET Data'!$AD85<>\"(Null)\"),('NFET Data'!$AC85<>\"(Null)\")))","v":false},{"$f":"AND(((VGS_DR)>=10),OR(('NFET Data'!$AI85<>\"(Null)\"),('NFET Data'!$AH85<>\"(Null)\"),('NFET Data'!$AG85<>\"(Null)\"),('NFET Data'!$AF85<>\"(Null)\"),('NFET Data'!$AE85<>\"(Null)\"),('NFET Data'!$AD85<>\"(Null)\"),('NFET Data'!$AC85<>\"(Null)\")))","v":true},true,false]
[{"$f":"IF(R86,Load_Switch_NFET[[#This Row],[PARTNUMBER]],\"\")","v":""},null,{"$f":"AND((Load_Switch_NFET[[#This Row],[VDSMAX]]>=Vi*1.1),(Load_Switch_NFET[[#This Row],[VGSMAX]]>=(VGS_DR)*1.1),(Load_Switch_NFET[[#This Row],[IDSMAX]]>=Io),VGS_DR>=1.8)","v":true},{"$f":"AND(Vi<=27,Load_Switch_NFET[[#This Row],[VDSMAX]]<=30)","v":false},{"$f":"AND(Vi<=36,Vi>=20,Load_Switch_NFET[[#This Row],[VDSMAX]]=40)","v":false},{"$f":"AND(Vi<=54,Vi>=25,Load_Switch_NFET[[#This Row],[VDSMAX]]=60)","v":false},{"$f":"AND(Vi<=72,Vi>=36,Load_Switch_NFET[[#This Row],[VDSMAX]]=80)","v":false},{"$f":"AND(Vi<=90,Vi>=48,Load_Switch_NFET[[#This Row],[VDSMAX]]=100)","v":false},false,{"$f":"AND(((VGS_DR)<2.5),('NFET Data'!$AC86<>\"(Null)\"))","v":false},{"$f":"AND(((VGS_DR)>=2.5),((VGS_DR)<3),OR(('NFET Data'!$AD86<>\"(Null)\"),('NFET Data'!$AC86<>\"(Null)\")))","v":false},{"$f":"AND(((VGS_DR)>=3),((VGS_DR)<4.5),OR(('NFET Data'!$AE86<>\"(Null)\"),('NFET Data'!$AD86<>\"(Null)\"),('NFET Data'!$AC86<>\"(Null)\")))","v":false},{"$f":"AND(((VGS_DR)>=4.5),((VGS_DR)<6),OR(('NFET Data'!$AF86<>\"(Null)\"),('NFET Data'!$AE86<>\"(Null)\"),('NFET Data'!$AD86<>\"(Null)\"),('NFET Data'!$AC86<>\"(Null)\")))","v":false},{"$f":"AND(((VGS_DR)>=6),((VGS_DR)<8),OR(('NFET Data'!$AG86<>\"(Null)\"),('NFET Data'!$AF86<>\"(Null)\"),('NFET Data'!$AE86<>\"(Null)\"),('NFET Data'!$AD86<>\"(Null)\"),('NFET Data'!$AC86<>\"(Null)\")))","v":false},{"$f":"AND(((VGS_DR)>=8),((VGS_DR)<10),OR(('NFET Data'!$AH86<>\"(Null)\"),('NFET Data'!$AG86<>\"(Null)\"),('NFET Data'!$AF86<>\"(Null)\"),('NFET Data'!$AE86<>\"(Null)\"),('NFET Data'!$AD86<>\"(Null)\"),('NFET Data'!$AC86<>\"(Null)\")))","v":false},{"$f":"AND(((VGS_DR)>=10),OR(('NFET Data'!$AI86<>\"(Null)\"),('NFET Data'!$AH86<>\"(Null)\"),('NFET Data'!$AG86<>\"(Null)\"),('NFET Data'!$AF86<>\"(Null)\"),('NFET Data'!$AE86<>\"(Null)\"),('NFET Data'!$AD86<>\"(Null)\"),('NFET Data'!$AC86<>\"(Null)\")))","v":true},true,false]
[{"$f":"IF(R87,Load_Switch_NFET[[#This Row],[PARTNUMBER]],\"\")","v":""},null,{"$f":"AND((Load_Switch_NFET[[#This Row],[VDSMAX]]>=Vi*1.1),(Load_Switch_NFET[[#This Row],[VGSMAX]]>=(VGS_DR)*1.1),(Load_Switch_NFET[[#This Row],[IDSMAX]]>=Io),VGS_DR>=1.8)","v":true},{"$f":"AND(Vi<=27,Load_Switch_NFET[[#This Row],[VDSMAX]]<=30)","v":false},{"$f":"AND(Vi<=36,Vi>=20,Load_Switch_NFET[[#This Row],[VDSMAX]]=40)","v":false},{"$f":"AND(Vi<=54,Vi>=25,Load_Switch_NFET[[#This Row],[VDSMAX]]=60)","v":false},{"$f":"AND(Vi<=72,Vi>=36,Load_Switch_NFET[[#This Row],[VDSMAX]]=80)","v":false},{"$f":"AND(Vi<=90,Vi>=48,Load_Switch_NFET[[#This Row],[VDSMAX]]=100)","v":false},false,{"$f":"AND(((VGS_DR)<2.5),('NFET Data'!$AC87<>\"(Null)\"))","v":false},{"$f":"AND(((VGS_DR)>=2.5),((VGS_DR)<3),OR(('NFET Data'!$AD87<>\"(Null)\"),('NFET Data'!$AC87<>\"(Null)\")))","v":false},{"$f":"AND(((VGS_DR)>=3),((VGS_DR)<4.5),OR(('NFET Data'!$AE87<>\"(Null)\"),('NFET Data'!$AD87<>\"(Null)\"),('NFET Data'!$AC87<>\"(Null)\")))","v":false},{"$f":"AND(((VGS_DR)>=4.5),((VGS_DR)<6),OR(('NFET Data'!$AF87<>\"(Null)\"),('NFET Data'!$AE87<>\"(Null)\"),('NFET Data'!$AD87<>\"(Null)\"),('NFET Data'!$AC87<>\"(Null)\")))","v":false},{"$f":"AND(((VGS_DR)>=6),((VGS_DR)<8),OR(('NFET Data'!$AG87<>\"(Null)\"),('NFET Data'!$AF87<>\"(Null)\"),('NFET Data'!$AE87<>\"(Null)\"),('NFET Data'!$AD87<>\"(Null)\"),('NFET Data'!$AC87<>\"(Null)\")))","v":false},{"$f":"AND(((VGS_DR)>=8),((VGS_DR)<10),OR(('NFET Data'!$AH87<>\"(Null)\"),('NFET Data'!$AG87<>\"(Null)\"),('NFET Data'!$AF87<>\"(Null)\"),('NFET Data'!$AE87<>\"(Null)\"),('NFET Data'!$AD87<>\"(Null)\"),('NFET Data'!$AC87<>\"(Null)\")))","v":false},{"$f":"AND(((VGS_DR)>=10),OR(('NFET Data'!$AI87<>\"(Null)\"),('NFET Data'!$AH87<>\"(Null)\"),('NFET Data'!$AG87<>\"(Null)\"),('NFET Data'!$AF87<>\"(Null)\"),('NFET Data'!$AE87<>\"(Null)\"),('NFET Data'!$AD87<>\"(Null)\"),('NFET Data'!$AC87<>\"(Null)\")))","v":true},true,false]
[{"$f":"IF(R88,Load_Switch_NFET[[#This Row],[PARTNUMBER]],\"\")","v":""},null,{"$f":"AND((Load_Switch_NFET[[#This Row],[VDSMAX]]>=Vi*1.1),(Load_Switch_NFET[[#This Row],[VGSMAX]]>=(VGS_DR)*1.1),(Load_Switch_NFET[[#This Row],[IDSMAX]]>=Io),VGS_DR>=1.8)","v":true},{"$f":"AND(Vi<=27,Load_Switch_NFET[[#This Row],[VDSMAX]]<=30)","v":false},{"$f":"AND(Vi<=36,Vi>=20,Load_Switch_NFET[[#This Row],[VDSMAX]]=40)","v":false},{"$f":"AND(Vi<=54,Vi>=25,Load_Switch_NFET[[#This Row],[VDSMAX]]=60)","v":false},{"$f":"AND(Vi<=72,Vi>=36,Load_Switch_NFET[[#This Row],[VDSMAX]]=80)","v":false},{"$f":"AND(Vi<=90,Vi>=48,Load_Switch_NFET[[#This Row],[VDSMAX]]=100)","v":false},false,{"$f":"AND(((VGS_DR)<2.5),('NFET Data'!$AC88<>\"(Null)\"))","v":false},{"$f":"AND(((VGS_DR)>=2.5),((VGS_DR)<3),OR(('NFET Data'!$AD88<>\"(Null)\"),('NFET Data'!$AC88<>\"(Null)\")))","v":false},{"$f":"AND(((VGS_DR)>=3),((VGS_DR)<4.5),OR(('NFET Data'!$AE88<>\"(Null)\"),('NFET Data'!$AD88<>\"(Null)\"),('NFET Data'!$AC88<>\"(Null)\")))","v":false},{"$f":"AND(((VGS_DR)>=4.5),((VGS_DR)<6),OR(('NFET Data'!$AF88<>\"(Null)\"),('NFET Data'!$AE88<>\"(Null)\"),('NFET Data'!$AD88<>\"(Null)\"),('NFET Data'!$AC88<>\"(Null)\")))","v":false},{"$f":"AND(((VGS_DR)>=6),((VGS_DR)<8),OR(('NFET Data'!$AG88<>\"(Null)\"),('NFET Data'!$AF88<>\"(Null)\"),('NFET Data'!$AE88<>\"(Null)\"),('NFET Data'!$AD88<>\"(Null)\"),('NFET Data'!$AC88<>\"(Null)\")))","v":false},{"$f":"AND(((VGS_DR)>=8),((VGS_DR)<10),OR(('NFET Data'!$AH88<>\"(Null)\"),('NFET Data'!$AG88<>\"(Null)\"),('NFET Data'!$AF88<>\"(Null)\"),('NFET Data'!$AE88<>\"(Null)\"),('NFET Data'!$AD88<>\"(Null)\"),('NFET Data'!$AC88<>\"(Null)\")))","v":false},{"$f":"AND(((VGS_DR)>=10),OR(('NFET Data'!$AI88<>\"(Null)\"),('NFET Data'!$AH88<>\"(Null)\"),('NFET Data'!$AG88<>\"(Null)\"),('NFET Data'!$AF88<>\"(Null)\"),('NFET Data'!$AE88<>\"(Null)\"),('NFET Data'!$AD88<>\"(Null)\"),('NFET Data'!$AC88<>\"(Null)\")))","v":true},true,false]
[{"$f":"IF(R89,Load_Switch_NFET[[#This Row],[PARTNUMBER]],\"\")","v":""},null,{"$f":"AND((Load_Switch_NFET[[#This Row],[VDSMAX]]>=Vi*1.1),(Load_Switch_NFET[[#This Row],[VGSMAX]]>=(VGS_DR)*1.1),(Load_Switch_NFET[[#This Row],[IDSMAX]]>=Io),VGS_DR>=1.8)","v":true},{"$f":"AND(Vi<=27,Load_Switch_NFET[[#This Row],[VDSMAX]]<=30)","v":false},{"$f":"AND(Vi<=36,Vi>=20,Load_Switch_NFET[[#This Row],[VDSMAX]]=40)","v":false},{"$f":"AND(Vi<=54,Vi>=25,Load_Switch_NFET[[#This Row],[VDSMAX]]=60)","v":false},{"$f":"AND(Vi<=72,Vi>=36,Load_Switch_NFET[[#This Row],[VDSMAX]]=80)","v":false},{"$f":"AND(Vi<=90,Vi>=48,Load_Switch_NFET[[#This Row],[VDSMAX]]=100)","v":false},false,{"$f":"AND(((VGS_DR)<2.5),('NFET Data'!$AC89<>\"(Null)\"))","v":false},{"$f":"AND(((VGS_DR)>=2.5),((VGS_DR)<3),OR(('NFET Data'!$AD89<>\"(Null)\"),('NFET Data'!$AC89<>\"(Null)\")))","v":false},{"$f":"AND(((VGS_DR)>=3),((VGS_DR)<4.5),OR(('NFET Data'!$AE89<>\"(Null)\"),('NFET Data'!$AD89<>\"(Null)\"),('NFET Data'!$AC89<>\"(Null)\")))","v":false},{"$f":"AND(((VGS_DR)>=4.5),((VGS_DR)<6),OR(('NFET Data'!$AF89<>\"(Null)\"),('NFET Data'!$AE89<>\"(Null)\"),('NFET Data'!$AD89<>\"(Null)\"),('NFET Data'!$AC89<>\"(Null)\")))","v":false},{"$f":"AND(((VGS_DR)>=6),((VGS_DR)<8),OR(('NFET Data'!$AG89<>\"(Null)\"),('NFET Data'!$AF89<>\"(Null)\"),('NFET Data'!$AE89<>\"(Null)\"),('NFET Data'!$AD89<>\"(Null)\"),('NFET Data'!$AC89<>\"(Null)\")))","v":false},{"$f":"AND(((VGS_DR)>=8),((VGS_DR)<10),OR(('NFET Data'!$AH89<>\"(Null)\"),('NFET Data'!$AG89<>\"(Null)\"),('NFET Data'!$AF89<>\"(Null)\"),('NFET Data'!$AE89<>\"(Null)\"),('NFET Data'!$AD89<>\"(Null)\"),('NFET Data'!$AC89<>\"(Null)\")))","v":false},{"$f":"AND(((VGS_DR)>=10),OR(('NFET Data'!$AI89<>\"(Null)\"),('NFET Data'!$AH89<>\"(Null)\"),('NFET Data'!$AG89<>\"(Null)\"),('NFET Data'!$AF89<>\"(Null)\"),('NFET Data'!$AE89<>\"(Null)\"),('NFET Data'!$AD89<>\"(Null)\"),('NFET Data'!$AC89<>\"(Null)\")))","v":true},true,false]
[{"$f":"IF(R90,Load_Switch_NFET[[#This Row],[PARTNUMBER]],\"\")","v":""},null,{"$f":"AND((Load_Switch_NFET[[#This Row],[VDSMAX]]>=Vi*1.1),(Load_Switch_NFET[[#This Row],[VGSMAX]]>=(VGS_DR)*1.1),(Load_Switch_NFET[[#This Row],[IDSMAX]]>=Io),VGS_DR>=1.8)","v":true},{"$f":"AND(Vi<=27,Load_Switch_NFET[[#This Row],[VDSMAX]]<=30)","v":false},{"$f":"AND(Vi<=36,Vi>=20,Load_Switch_NFET[[#This Row],[VDSMAX]]=40)","v":false},{"$f":"AND(Vi<=54,Vi>=25,Load_Switch_NFET[[#This Row],[VDSMAX]]=60)","v":false},{"$f":"AND(Vi<=72,Vi>=36,Load_Switch_NFET[[#This Row],[VDSMAX]]=80)","v":false},{"$f":"AND(Vi<=90,Vi>=48,Load_Switch_NFET[[#This Row],[VDSMAX]]=100)","v":false},false,{"$f":"AND(((VGS_DR)<2.5),('NFET Data'!$AC90<>\"(Null)\"))","v":false},{"$f":"AND(((VGS_DR)>=2.5),((VGS_DR)<3),OR(('NFET Data'!$AD90<>\"(Null)\"),('NFET Data'!$AC90<>\"(Null)\")))","v":false},{"$f":"AND(((VGS_DR)>=3),((VGS_DR)<4.5),OR(('NFET Data'!$AE90<>\"(Null)\"),('NFET Data'!$AD90<>\"(Null)\"),('NFET Data'!$AC90<>\"(Null)\")))","v":false},{"$f":"AND(((VGS_DR)>=4.5),((VGS_DR)<6),OR(('NFET Data'!$AF90<>\"(Null)\"),('NFET Data'!$AE90<>\"(Null)\"),('NFET Data'!$AD90<>\"(Null)\"),('NFET Data'!$AC90<>\"(Null)\")))","v":false},{"$f":"AND(((VGS_DR)>=6),((VGS_DR)<8),OR(('NFET Data'!$AG90<>\"(Null)\"),('NFET Data'!$AF90<>\"(Null)\"),('NFET Data'!$AE90<>\"(Null)\"),('NFET Data'!$AD90<>\"(Null)\"),('NFET Data'!$AC90<>\"(Null)\")))","v":false},{"$f":"AND(((VGS_DR)>=8),((VGS_DR)<10),OR(('NFET Data'!$AH90<>\"(Null)\"),('NFET Data'!$AG90<>\"(Null)\"),('NFET Data'!$AF90<>\"(Null)\"),('NFET Data'!$AE90<>\"(Null)\"),('NFET Data'!$AD90<>\"(Null)\"),('NFET Data'!$AC90<>\"(Null)\")))","v":false},{"$f":"AND(((VGS_DR)>=10),OR(('NFET Data'!$AI90<>\"(Null)\"),('NFET Data'!$AH90<>\"(Null)\"),('NFET Data'!$AG90<>\"(Null)\"),('NFET Data'!$AF90<>\"(Null)\"),('NFET Data'!$AE90<>\"(Null)\"),('NFET Data'!$AD90<>\"(Null)\"),('NFET Data'!$AC90<>\"(Null)\")))","v":true},true,false]
[{"$f":"IF(R91,Load_Switch_NFET[[#This Row],[PARTNUMBER]],\"\")","v":""},null,{"$f":"AND((Load_Switch_NFET[[#This Row],[VDSMAX]]>=Vi*1.1),(Load_Switch_NFET[[#This Row],[VGSMAX]]>=(VGS_DR)*1.1),(Load_Switch_NFET[[#This Row],[IDSMAX]]>=Io),VGS_DR>=1.8)","v":false},{"$f":"AND(Vi<=27,Load_Switch_NFET[[#This Row],[VDSMAX]]<=30)","v":false},{"$f":"AND(Vi<=36,Vi>=20,Load_Switch_NFET[[#This Row],[VDSMAX]]=40)","v":false},{"$f":"AND(Vi<=54,Vi>=25,Load_Switch_NFET[[#This Row],[VDSMAX]]=60)","v":false},{"$f":"AND(Vi<=72,Vi>=36,Load_Switch_NFET[[#This Row],[VDSMAX]]=80)","v":false},{"$f":"AND(Vi<=90,Vi>=48,Load_Switch_NFET[[#This Row],[VDSMAX]]=100)","v":false},false,{"$f":"AND(((VGS_DR)<2.5),('NFET Data'!$AC91<>\"(Null)\"))","v":false},{"$f":"AND(((VGS_DR)>=2.5),((VGS_DR)<3),OR(('NFET Data'!$AD91<>\"(Null)\"),('NFET Data'!$AC91<>\"(Null)\")))","v":false},{"$f":"AND(((VGS_DR)>=3),((VGS_DR)<4.5),OR(('NFET Data'!$AE91<>\"(Null)\"),('NFET Data'!$AD91<>\"(Null)\"),('NFET Data'!$AC91<>\"(Null)\")))","v":false},{"$f":"AND(((VGS_DR)>=4.5),((VGS_DR)<6),OR(('NFET Data'!$AF91<>\"(Null)\"),('NFET Data'!$AE91<>\"(Null)\"),('NFET Data'!$AD91<>\"(Null)\"),('NFET Data'!$AC91<>\"(Null)\")))","v":false},{"$f":"AND(((VGS_DR)>=6),((VGS_DR)<8),OR(('NFET Data'!$AG91<>\"(Null)\"),('NFET Data'!$AF91<>\"(Null)\"),('NFET Data'!$AE91<>\"(Null)\"),('NFET Data'!$AD91<>\"(Null)\"),('NFET Data'!$AC91<>\"(Null)\")))","v":false},{"$f":"AND(((VGS_DR)>=8),((VGS_DR)<10),OR(('NFET Data'!$AH91<>\"(Null)\"),('NFET Data'!$AG91<>\"(Null)\"),('NFET Data'!$AF91<>\"(Null)\"),('NFET Data'!$AE91<>\"(Null)\"),('NFET Data'!$AD91<>\"(Null)\"),('NFET Data'!$AC91<>\"(Null)\")))","v":false},{"$f":"AND(((VGS_DR)>=10),OR(('NFET Data'!$AI91<>\"(Null)\"),('NFET Data'!$AH91<>\"(Null)\"),('NFET Data'!$AG91<>\"(Null)\"),('NFET Data'!$AF91<>\"(Null)\"),('NFET Data'!$AE91<>\"(Null)\"),('NFET Data'!$AD91<>\"(Null)\"),('NFET Data'!$AC91<>\"(Null)\")))","v":true},true,false]
[{"$f":"IF(R92,Load_Switch_NFET[[#This Row],[PARTNUMBER]],\"\")","v":""},null,{"$f":"AND((Load_Switch_NFET[[#This Row],[VDSMAX]]>=Vi*1.1),(Load_Switch_NFET[[#This Row],[VGSMAX]]>=(VGS_DR)*1.1),(Load_Switch_NFET[[#This Row],[IDSMAX]]>=Io),VGS_DR>=1.8)","v":true},{"$f":"AND(Vi<=27,Load_Switch_NFET[[#This Row],[VDSMAX]]<=30)","v":false},{"$f":"AND(Vi<=36,Vi>=20,Load_Switch_NFET[[#This Row],[VDSMAX]]=40)","v":false},{"$f":"AND(Vi<=54,Vi>=25,Load_Switch_NFET[[#This Row],[VDSMAX]]=60)","v":false},{"$f":"AND(Vi<=72,Vi>=36,Load_Switch_NFET[[#This Row],[VDSMAX]]=80)","v":false},{"$f":"AND(Vi<=90,Vi>=48,Load_Switch_NFET[[#This Row],[VDSMAX]]=100)","v":false},false,{"$f":"AND(((VGS_DR)<2.5),('NFET Data'!$AC92<>\"(Null)\"))","v":false},{"$f":"AND(((VGS_DR)>=2.5),((VGS_DR)<3),OR(('NFET Data'!$AD92<>\"(Null)\"),('NFET Data'!$AC92<>\"(Null)\")))","v":false},{"$f":"AND(((VGS_DR)>=3),((VGS_DR)<4.5),OR(('NFET Data'!$AE92<>\"(Null)\"),('NFET Data'!$AD92<>\"(Null)\"),('NFET Data'!$AC92<>\"(Null)\")))","v":false},{"$f":"AND(((VGS_DR)>=4.5),((VGS_DR)<6),OR(('NFET Data'!$AF92<>\"(Null)\"),('NFET Data'!$AE92<>\"(Null)\"),('NFET Data'!$AD92<>\"(Null)\"),('NFET Data'!$AC92<>\"(Null)\")))","v":false},{"$f":"AND(((VGS_DR)>=6),((VGS_DR)<8),OR(('NFET Data'!$AG92<>\"(Null)\"),('NFET Data'!$AF92<>\"(Null)\"),('NFET Data'!$AE92<>\"(Null)\"),('NFET Data'!$AD92<>\"(Null)\"),('NFET Data'!$AC92<>\"(Null)\")))","v":false},{"$f":"AND(((VGS_DR)>=8),((VGS_DR)<10),OR(('NFET Data'!$AH92<>\"(Null)\"),('NFET Data'!$AG92<>\"(Null)\"),('NFET Data'!$AF92<>\"(Null)\"),('NFET Data'!$AE92<>\"(Null)\"),('NFET Data'!$AD92<>\"(Null)\"),('NFET Data'!$AC92<>\"(Null)\")))","v":false},{"$f":"AND(((VGS_DR)>=10),OR(('NFET Data'!$AI92<>\"(Null)\"),('NFET Data'!$AH92<>\"(Null)\"),('NFET Data'!$AG92<>\"(Null)\"),('NFET Data'!$AF92<>\"(Null)\"),('NFET Data'!$AE92<>\"(Null)\"),('NFET Data'!$AD92<>\"(Null)\"),('NFET Data'!$AC92<>\"(Null)\")))","v":true},true,false]
[{"$f":"IF(R93,Load_Switch_NFET[[#This Row],[PARTNUMBER]],\"\")","v":""},null,{"$f":"AND((Load_Switch_NFET[[#This Row],[VDSMAX]]>=Vi*1.1),(Load_Switch_NFET[[#This Row],[VGSMAX]]>=(VGS_DR)*1.1),(Load_Switch_NFET[[#This Row],[IDSMAX]]>=Io),VGS_DR>=1.8)","v":true},{"$f":"AND(Vi<=27,Load_Switch_NFET[[#This Row],[VDSMAX]]<=30)","v":false},{"$f":"AND(Vi<=36,Vi>=20,Load_Switch_NFET[[#This Row],[VDSMAX]]=40)","v":false},{"$f":"AND(Vi<=54,Vi>=25,Load_Switch_NFET[[#This Row],[VDSMAX]]=60)","v":false},{"$f":"AND(Vi<=72,Vi>=36,Load_Switch_NFET[[#This Row],[VDSMAX]]=80)","v":false},{"$f":"AND(Vi<=90,Vi>=48,Load_Switch_NFET[[#This Row],[VDSMAX]]=100)","v":false},false,{"$f":"AND(((VGS_DR)<2.5),('NFET Data'!$AC93<>\"(Null)\"))","v":false},{"$f":"AND(((VGS_DR)>=2.5),((VGS_DR)<3),OR(('NFET Data'!$AD93<>\"(Null)\"),('NFET Data'!$AC93<>\"(Null)\")))","v":false},{"$f":"AND(((VGS_DR)>=3),((VGS_DR)<4.5),OR(('NFET Data'!$AE93<>\"(Null)\"),('NFET Data'!$AD93<>\"(Null)\"),('NFET Data'!$AC93<>\"(Null)\")))","v":false},{"$f":"AND(((VGS_DR)>=4.5),((VGS_DR)<6),OR(('NFET Data'!$AF93<>\"(Null)\"),('NFET Data'!$AE93<>\"(Null)\"),('NFET Data'!$AD93<>\"(Null)\"),('NFET Data'!$AC93<>\"(Null)\")))","v":false},{"$f":"AND(((VGS_DR)>=6),((VGS_DR)<8),OR(('NFET Data'!$AG93<>\"(Null)\"),('NFET Data'!$AF93<>\"(Null)\"),('NFET Data'!$AE93<>\"(Null)\"),('NFET Data'!$AD93<>\"(Null)\"),('NFET Data'!$AC93<>\"(Null)\")))","v":false},{"$f":"AND(((VGS_DR)>=8),((VGS_DR)<10),OR(('NFET Data'!$AH93<>\"(Null)\"),('NFET Data'!$AG93<>\"(Null)\"),('NFET Data'!$AF93<>\"(Null)\"),('NFET Data'!$AE93<>\"(Null)\"),('NFET Data'!$AD93<>\"(Null)\"),('NFET Data'!$AC93<>\"(Null)\")))","v":false},{"$f":"AND(((VGS_DR)>=10),OR(('NFET Data'!$AI93<>\"(Null)\"),('NFET Data'!$AH93<>\"(Null)\"),('NFET Data'!$AG93<>\"(Null)\"),('NFET Data'!$AF93<>\"(Null)\"),('NFET Data'!$AE93<>\"(Null)\"),('NFET Data'!$AD93<>\"(Null)\"),('NFET Data'!$AC93<>\"(Null)\")))","v":true},true,false]
[{"$f":"IF(R94,Load_Switch_NFET[[#This Row],[PARTNUMBER]],\"\")","v":""},null,{"$f":"AND((Load_Switch_NFET[[#This Row],[VDSMAX]]>=Vi*1.1),(Load_Switch_NFET[[#This Row],[VGSMAX]]>=(VGS_DR)*1.1),(Load_Switch_NFET[[#This Row],[IDSMAX]]>=Io),VGS_DR>=1.8)","v":true},{"$f":"AND(Vi<=27,Load_Switch_NFET[[#This Row],[VDSMAX]]<=30)","v":false},{"$f":"AND(Vi<=36,Vi>=20,Load_Switch_NFET[[#This Row],[VDSMAX]]=40)","v":false},{"$f":"AND(Vi<=54,Vi>=25,Load_Switch_NFET[[#This Row],[VDSMAX]]=60)","v":false},{"$f":"AND(Vi<=72,Vi>=36,Load_Switch_NFET[[#This Row],[VDSMAX]]=80)","v":false},{"$f":"AND(Vi<=90,Vi>=48,Load_Switch_NFET[[#This Row],[VDSMAX]]=100)","v":false},false,{"$f":"AND(((VGS_DR)<2.5),('NFET Data'!$AC94<>\"(Null)\"))","v":false},{"$f":"AND(((VGS_DR)>=2.5),((VGS_DR)<3),OR(('NFET Data'!$AD94<>\"(Null)\"),('NFET Data'!$AC94<>\"(Null)\")))","v":false},{"$f":"AND(((VGS_DR)>=3),((VGS_DR)<4.5),OR(('NFET Data'!$AE94<>\"(Null)\"),('NFET Data'!$AD94<>\"(Null)\"),('NFET Data'!$AC94<>\"(Null)\")))","v":false},{"$f":"AND(((VGS_DR)>=4.5),((VGS_DR)<6),OR(('NFET Data'!$AF94<>\"(Null)\"),('NFET Data'!$AE94<>\"(Null)\"),('NFET Data'!$AD94<>\"(Null)\"),('NFET Data'!$AC94<>\"(Null)\")))","v":false},{"$f":"AND(((VGS_DR)>=6),((VGS_DR)<8),OR(('NFET Data'!$AG94<>\"(Null)\"),('NFET Data'!$AF94<>\"(Null)\"),('NFET Data'!$AE94<>\"(Null)\"),('NFET Data'!$AD94<>\"(Null)\"),('NFET Data'!$AC94<>\"(Null)\")))","v":false},{"$f":"AND(((VGS_DR)>=8),((VGS_DR)<10),OR(('NFET Data'!$AH94<>\"(Null)\"),('NFET Data'!$AG94<>\"(Null)\"),('NFET Data'!$AF94<>\"(Null)\"),('NFET Data'!$AE94<>\"(Null)\"),('NFET Data'!$AD94<>\"(Null)\"),('NFET Data'!$AC94<>\"(Null)\")))","v":false},{"$f":"AND(((VGS_DR)>=10),OR(('NFET Data'!$AI94<>\"(Null)\"),('NFET Data'!$AH94<>\"(Null)\"),('NFET Data'!$AG94<>\"(Null)\"),('NFET Data'!$AF94<>\"(Null)\"),('NFET Data'!$AE94<>\"(Null)\"),('NFET Data'!$AD94<>\"(Null)\"),('NFET Data'!$AC94<>\"(Null)\")))","v":true},true,false]
[{"$f":"IF(R95,Load_Switch_NFET[[#This Row],[PARTNUMBER]],\"\")","v":""},null,{"$f":"AND((Load_Switch_NFET[[#This Row],[VDSMAX]]>=Vi*1.1),(Load_Switch_NFET[[#This Row],[VGSMAX]]>=(VGS_DR)*1.1),(Load_Switch_NFET[[#This Row],[IDSMAX]]>=Io),VGS_DR>=1.8)","v":true},{"$f":"AND(Vi<=27,Load_Switch_NFET[[#This Row],[VDSMAX]]<=30)","v":false},{"$f":"AND(Vi<=36,Vi>=20,Load_Switch_NFET[[#This Row],[VDSMAX]]=40)","v":false},{"$f":"AND(Vi<=54,Vi>=25,Load_Switch_NFET[[#This Row],[VDSMAX]]=60)","v":false},{"$f":"AND(Vi<=72,Vi>=36,Load_Switch_NFET[[#This Row],[VDSMAX]]=80)","v":false},{"$f":"AND(Vi<=90,Vi>=48,Load_Switch_NFET[[#This Row],[VDSMAX]]=100)","v":false},false,{"$f":"AND(((VGS_DR)<2.5),('NFET Data'!$AC95<>\"(Null)\"))","v":false},{"$f":"AND(((VGS_DR)>=2.5),((VGS_DR)<3),OR(('NFET Data'!$AD95<>\"(Null)\"),('NFET Data'!$AC95<>\"(Null)\")))","v":false},{"$f":"AND(((VGS_DR)>=3),((VGS_DR)<4.5),OR(('NFET Data'!$AE95<>\"(Null)\"),('NFET Data'!$AD95<>\"(Null)\"),('NFET Data'!$AC95<>\"(Null)\")))","v":false},{"$f":"AND(((VGS_DR)>=4.5),((VGS_DR)<6),OR(('NFET Data'!$AF95<>\"(Null)\"),('NFET Data'!$AE95<>\"(Null)\"),('NFET Data'!$AD95<>\"(Null)\"),('NFET Data'!$AC95<>\"(Null)\")))","v":false},{"$f":"AND(((VGS_DR)>=6),((VGS_DR)<8),OR(('NFET Data'!$AG95<>\"(Null)\"),('NFET Data'!$AF95<>\"(Null)\"),('NFET Data'!$AE95<>\"(Null)\"),('NFET Data'!$AD95<>\"(Null)\"),('NFET Data'!$AC95<>\"(Null)\")))","v":false},{"$f":"AND(((VGS_DR)>=8),((VGS_DR)<10),OR(('NFET Data'!$AH95<>\"(Null)\"),('NFET Data'!$AG95<>\"(Null)\"),('NFET Data'!$AF95<>\"(Null)\"),('NFET Data'!$AE95<>\"(Null)\"),('NFET Data'!$AD95<>\"(Null)\"),('NFET Data'!$AC95<>\"(Null)\")))","v":false},{"$f":"AND(((VGS_DR)>=10),OR(('NFET Data'!$AI95<>\"(Null)\"),('NFET Data'!$AH95<>\"(Null)\"),('NFET Data'!$AG95<>\"(Null)\"),('NFET Data'!$AF95<>\"(Null)\"),('NFET Data'!$AE95<>\"(Null)\"),('NFET Data'!$AD95<>\"(Null)\"),('NFET Data'!$AC95<>\"(Null)\")))","v":true},true,false]
[{"$f":"IF(R96,Load_Switch_NFET[[#This Row],[PARTNUMBER]],\"\")","v":""},null,{"$f":"AND((Load_Switch_NFET[[#This Row],[VDSMAX]]>=Vi*1.1),(Load_Switch_NFET[[#This Row],[VGSMAX]]>=(VGS_DR)*1.1),(Load_Switch_NFET[[#This Row],[IDSMAX]]>=Io),VGS_DR>=1.8)","v":true},{"$f":"AND(Vi<=27,Load_Switch_NFET[[#This Row],[VDSMAX]]<=30)","v":false},{"$f":"AND(Vi<=36,Vi>=20,Load_Switch_NFET[[#This Row],[VDSMAX]]=40)","v":false},{"$f":"AND(Vi<=54,Vi>=25,Load_Switch_NFET[[#This Row],[VDSMAX]]=60)","v":false},{"$f":"AND(Vi<=72,Vi>=36,Load_Switch_NFET[[#This Row],[VDSMAX]]=80)","v":false},{"$f":"AND(Vi<=90,Vi>=48,Load_Switch_NFET[[#This Row],[VDSMAX]]=100)","v":false},false,{"$f":"AND(((VGS_DR)<2.5),('NFET Data'!$AC96<>\"(Null)\"))","v":false},{"$f":"AND(((VGS_DR)>=2.5),((VGS_DR)<3),OR(('NFET Data'!$AD96<>\"(Null)\"),('NFET Data'!$AC96<>\"(Null)\")))","v":false},{"$f":"AND(((VGS_DR)>=3),((VGS_DR)<4.5),OR(('NFET Data'!$AE96<>\"(Null)\"),('NFET Data'!$AD96<>\"(Null)\"),('NFET Data'!$AC96<>\"(Null)\")))","v":false},{"$f":"AND(((VGS_DR)>=4.5),((VGS_DR)<6),OR(('NFET Data'!$AF96<>\"(Null)\"),('NFET Data'!$AE96<>\"(Null)\"),('NFET Data'!$AD96<>\"(Null)\"),('NFET Data'!$AC96<>\"(Null)\")))","v":false},{"$f":"AND(((VGS_DR)>=6),((VGS_DR)<8),OR(('NFET Data'!$AG96<>\"(Null)\"),('NFET Data'!$AF96<>\"(Null)\"),('NFET Data'!$AE96<>\"(Null)\"),('NFET Data'!$AD96<>\"(Null)\"),('NFET Data'!$AC96<>\"(Null)\")))","v":false},{"$f":"AND(((VGS_DR)>=8),((VGS_DR)<10),OR(('NFET Data'!$AH96<>\"(Null)\"),('NFET Data'!$AG96<>\"(Null)\"),('NFET Data'!$AF96<>\"(Null)\"),('NFET Data'!$AE96<>\"(Null)\"),('NFET Data'!$AD96<>\"(Null)\"),('NFET Data'!$AC96<>\"(Null)\")))","v":false},{"$f":"AND(((VGS_DR)>=10),OR(('NFET Data'!$AI96<>\"(Null)\"),('NFET Data'!$AH96<>\"(Null)\"),('NFET Data'!$AG96<>\"(Null)\"),('NFET Data'!$AF96<>\"(Null)\"),('NFET Data'!$AE96<>\"(Null)\"),('NFET Data'!$AD96<>\"(Null)\"),('NFET Data'!$AC96<>\"(Null)\")))","v":true},true,false]
[{"$f":"IF(R97,Load_Switch_NFET[[#This Row],[PARTNUMBER]],\"\")","v":""},null,{"$f":"AND((Load_Switch_NFET[[#This Row],[VDSMAX]]>=Vi*1.1),(Load_Switch_NFET[[#This Row],[VGSMAX]]>=(VGS_DR)*1.1),(Load_Switch_NFET[[#This Row],[IDSMAX]]>=Io),VGS_DR>=1.8)","v":true},{"$f":"AND(Vi<=27,Load_Switch_NFET[[#This Row],[VDSMAX]]<=30)","v":false},{"$f":"AND(Vi<=36,Vi>=20,Load_Switch_NFET[[#This Row],[VDSMAX]]=40)","v":false},{"$f":"AND(Vi<=54,Vi>=25,Load_Switch_NFET[[#This Row],[VDSMAX]]=60)","v":false},{"$f":"AND(Vi<=72,Vi>=36,Load_Switch_NFET[[#This Row],[VDSMAX]]=80)","v":false},{"$f":"AND(Vi<=90,Vi>=48,Load_Switch_NFET[[#This Row],[VDSMAX]]=100)","v":false},false,{"$f":"AND(((VGS_DR)<2.5),('NFET Data'!$AC97<>\"(Null)\"))","v":false},{"$f":"AND(((VGS_DR)>=2.5),((VGS_DR)<3),OR(('NFET Data'!$AD97<>\"(Null)\"),('NFET Data'!$AC97<>\"(Null)\")))","v":false},{"$f":"AND(((VGS_DR)>=3),((VGS_DR)<4.5),OR(('NFET Data'!$AE97<>\"(Null)\"),('NFET Data'!$AD97<>\"(Null)\"),('NFET Data'!$AC97<>\"(Null)\")))","v":false},{"$f":"AND(((VGS_DR)>=4.5),((VGS_DR)<6),OR(('NFET Data'!$AF97<>\"(Null)\"),('NFET Data'!$AE97<>\"(Null)\"),('NFET Data'!$AD97<>\"(Null)\"),('NFET Data'!$AC97<>\"(Null)\")))","v":false},{"$f":"AND(((VGS_DR)>=6),((VGS_DR)<8),OR(('NFET Data'!$AG97<>\"(Null)\"),('NFET Data'!$AF97<>\"(Null)\"),('NFET Data'!$AE97<>\"(Null)\"),('NFET Data'!$AD97<>\"(Null)\"),('NFET Data'!$AC97<>\"(Null)\")))","v":false},{"$f":"AND(((VGS_DR)>=8),((VGS_DR)<10),OR(('NFET Data'!$AH97<>\"(Null)\"),('NFET Data'!$AG97<>\"(Null)\"),('NFET Data'!$AF97<>\"(Null)\"),('NFET Data'!$AE97<>\"(Null)\"),('NFET Data'!$AD97<>\"(Null)\"),('NFET Data'!$AC97<>\"(Null)\")))","v":false},{"$f":"AND(((VGS_DR)>=10),OR(('NFET Data'!$AI97<>\"(Null)\"),('NFET Data'!$AH97<>\"(Null)\"),('NFET Data'!$AG97<>\"(Null)\"),('NFET Data'!$AF97<>\"(Null)\"),('NFET Data'!$AE97<>\"(Null)\"),('NFET Data'!$AD97<>\"(Null)\"),('NFET Data'!$AC97<>\"(Null)\")))","v":true},true,false]
[{"$f":"IF(R98,Load_Switch_NFET[[#This Row],[PARTNUMBER]],\"\")","v":""},null,{"$f":"AND((Load_Switch_NFET[[#This Row],[VDSMAX]]>=Vi*1.1),(Load_Switch_NFET[[#This Row],[VGSMAX]]>=(VGS_DR)*1.1),(Load_Switch_NFET[[#This Row],[IDSMAX]]>=Io),VGS_DR>=1.8)","v":true},{"$f":"AND(Vi<=27,Load_Switch_NFET[[#This Row],[VDSMAX]]<=30)","v":false},{"$f":"AND(Vi<=36,Vi>=20,Load_Switch_NFET[[#This Row],[VDSMAX]]=40)","v":false},{"$f":"AND(Vi<=54,Vi>=25,Load_Switch_NFET[[#This Row],[VDSMAX]]=60)","v":false},{"$f":"AND(Vi<=72,Vi>=36,Load_Switch_NFET[[#This Row],[VDSMAX]]=80)","v":false},{"$f":"AND(Vi<=90,Vi>=48,Load_Switch_NFET[[#This Row],[VDSMAX]]=100)","v":false},false,{"$f":"AND(((VGS_DR)<2.5),('NFET Data'!$AC98<>\"(Null)\"))","v":false},{"$f":"AND(((VGS_DR)>=2.5),((VGS_DR)<3),OR(('NFET Data'!$AD98<>\"(Null)\"),('NFET Data'!$AC98<>\"(Null)\")))","v":false},{"$f":"AND(((VGS_DR)>=3),((VGS_DR)<4.5),OR(('NFET Data'!$AE98<>\"(Null)\"),('NFET Data'!$AD98<>\"(Null)\"),('NFET Data'!$AC98<>\"(Null)\")))","v":false},{"$f":"AND(((VGS_DR)>=4.5),((VGS_DR)<6),OR(('NFET Data'!$AF98<>\"(Null)\"),('NFET Data'!$AE98<>\"(Null)\"),('NFET Data'!$AD98<>\"(Null)\"),('NFET Data'!$AC98<>\"(Null)\")))","v":false},{"$f":"AND(((VGS_DR)>=6),((VGS_DR)<8),OR(('NFET Data'!$AG98<>\"(Null)\"),('NFET Data'!$AF98<>\"(Null)\"),('NFET Data'!$AE98<>\"(Null)\"),('NFET Data'!$AD98<>\"(Null)\"),('NFET Data'!$AC98<>\"(Null)\")))","v":false},{"$f":"AND(((VGS_DR)>=8),((VGS_DR)<10),OR(('NFET Data'!$AH98<>\"(Null)\"),('NFET Data'!$AG98<>\"(Null)\"),('NFET Data'!$AF98<>\"(Null)\"),('NFET Data'!$AE98<>\"(Null)\"),('NFET Data'!$AD98<>\"(Null)\"),('NFET Data'!$AC98<>\"(Null)\")))","v":false},{"$f":"AND(((VGS_DR)>=10),OR(('NFET Data'!$AI98<>\"(Null)\"),('NFET Data'!$AH98<>\"(Null)\"),('NFET Data'!$AG98<>\"(Null)\"),('NFET Data'!$AF98<>\"(Null)\"),('NFET Data'!$AE98<>\"(Null)\"),('NFET Data'!$AD98<>\"(Null)\"),('NFET Data'!$AC98<>\"(Null)\")))","v":true},true,false]
[{"$f":"IF(R99,Load_Switch_NFET[[#This Row],[PARTNUMBER]],\"\")","v":""},null,{"$f":"AND((Load_Switch_NFET[[#This Row],[VDSMAX]]>=Vi*1.1),(Load_Switch_NFET[[#This Row],[VGSMAX]]>=(VGS_DR)*1.1),(Load_Switch_NFET[[#This Row],[IDSMAX]]>=Io),VGS_DR>=1.8)","v":true},{"$f":"AND(Vi<=27,Load_Switch_NFET[[#This Row],[VDSMAX]]<=30)","v":false},{"$f":"AND(Vi<=36,Vi>=20,Load_Switch_NFET[[#This Row],[VDSMAX]]=40)","v":false},{"$f":"AND(Vi<=54,Vi>=25,Load_Switch_NFET[[#This Row],[VDSMAX]]=60)","v":false},{"$f":"AND(Vi<=72,Vi>=36,Load_Switch_NFET[[#This Row],[VDSMAX]]=80)","v":false},{"$f":"AND(Vi<=90,Vi>=48,Load_Switch_NFET[[#This Row],[VDSMAX]]=100)","v":false},false,{"$f":"AND(((VGS_DR)<2.5),('NFET Data'!$AC99<>\"(Null)\"))","v":false},{"$f":"AND(((VGS_DR)>=2.5),((VGS_DR)<3),OR(('NFET Data'!$AD99<>\"(Null)\"),('NFET Data'!$AC99<>\"(Null)\")))","v":false},{"$f":"AND(((VGS_DR)>=3),((VGS_DR)<4.5),OR(('NFET Data'!$AE99<>\"(Null)\"),('NFET Data'!$AD99<>\"(Null)\"),('NFET Data'!$AC99<>\"(Null)\")))","v":false},{"$f":"AND(((VGS_DR)>=4.5),((VGS_DR)<6),OR(('NFET Data'!$AF99<>\"(Null)\"),('NFET Data'!$AE99<>\"(Null)\"),('NFET Data'!$AD99<>\"(Null)\"),('NFET Data'!$AC99<>\"(Null)\")))","v":false},{"$f":"AND(((VGS_DR)>=6),((VGS_DR)<8),OR(('NFET Data'!$AG99<>\"(Null)\"),('NFET Data'!$AF99<>\"(Null)\"),('NFET Data'!$AE99<>\"(Null)\"),('NFET Data'!$AD99<>\"(Null)\"),('NFET Data'!$AC99<>\"(Null)\")))","v":false},{"$f":"AND(((VGS_DR)>=8),((VGS_DR)<10),OR(('NFET Data'!$AH99<>\"(Null)\"),('NFET Data'!$AG99<>\"(Null)\"),('NFET Data'!$AF99<>\"(Null)\"),('NFET Data'!$AE99<>\"(Null)\"),('NFET Data'!$AD99<>\"(Null)\"),('NFET Data'!$AC99<>\"(Null)\")))","v":false},{"$f":"AND(((VGS_DR)>=10),OR(('NFET Data'!$AI99<>\"(Null)\"),('NFET Data'!$AH99<>\"(Null)\"),('NFET Data'!$AG99<>\"(Null)\"),('NFET Data'!$AF99<>\"(Null)\"),('NFET Data'!$AE99<>\"(Null)\"),('NFET Data'!$AD99<>\"(Null)\"),('NFET Data'!$AC99<>\"(Null)\")))","v":true},true,false]
[{"$f":"IF(R100,Load_Switch_NFET[[#This Row],[PARTNUMBER]],\"\")","v":""},null,{"$f":"AND((Load_Switch_NFET[[#This Row],[VDSMAX]]>=Vi*1.1),(Load_Switch_NFET[[#This Row],[VGSMAX]]>=(VGS_DR)*1.1),(Load_Switch_NFET[[#This Row],[IDSMAX]]>=Io),VGS_DR>=1.8)","v":true},{"$f":"AND(Vi<=27,Load_Switch_NFET[[#This Row],[VDSMAX]]<=30)","v":false},{"$f":"AND(Vi<=36,Vi>=20,Load_Switch_NFET[[#This Row],[VDSMAX]]=40)","v":false},{"$f":"AND(Vi<=54,Vi>=25,Load_Switch_NFET[[#This Row],[VDSMAX]]=60)","v":false},{"$f":"AND(Vi<=72,Vi>=36,Load_Switch_NFET[[#This Row],[VDSMAX]]=80)","v":false},{"$f":"AND(Vi<=90,Vi>=48,Load_Switch_NFET[[#This Row],[VDSMAX]]=100)","v":false},false,{"$f":"AND(((VGS_DR)<2.5),('NFET Data'!$AC100<>\"(Null)\"))","v":false},{"$f":"AND(((VGS_DR)>=2.5),((VGS_DR)<3),OR(('NFET Data'!$AD100<>\"(Null)\"),('NFET Data'!$AC100<>\"(Null)\")))","v":false},{"$f":"AND(((VGS_DR)>=3),((VGS_DR)<4.5),OR(('NFET Data'!$AE100<>\"(Null)\"),('NFET Data'!$AD100<>\"(Null)\"),('NFET Data'!$AC100<>\"(Null)\")))","v":false},{"$f":"AND(((VGS_DR)>=4.5),((VGS_DR)<6),OR(('NFET Data'!$AF100<>\"(Null)\"),('NFET Data'!$AE100<>\"(Null)\"),('NFET Data'!$AD100<>\"(Null)\"),('NFET Data'!$AC100<>\"(Null)\")))","v":false},{"$f":"AND(((VGS_DR)>=6),((VGS_DR)<8),OR(('NFET Data'!$AG100<>\"(Null)\"),('NFET Data'!$AF100<>\"(Null)\"),('NFET Data'!$AE100<>\"(Null)\"),('NFET Data'!$AD100<>\"(Null)\"),('NFET Data'!$AC100<>\"(Null)\")))","v":false},{"$f":"AND(((VGS_DR)>=8),((VGS_DR)<10),OR(('NFET Data'!$AH100<>\"(Null)\"),('NFET Data'!$AG100<>\"(Null)\"),('NFET Data'!$AF100<>\"(Null)\"),('NFET Data'!$AE100<>\"(Null)\"),('NFET Data'!$AD100<>\"(Null)\"),('NFET Data'!$AC100<>\"(Null)\")))","v":false},{"$f":"AND(((VGS_DR)>=10),OR(('NFET Data'!$AI100<>\"(Null)\"),('NFET Data'!$AH100<>\"(Null)\"),('NFET Data'!$AG100<>\"(Null)\"),('NFET Data'!$AF100<>\"(Null)\"),('NFET Data'!$AE100<>\"(Null)\"),('NFET Data'!$AD100<>\"(Null)\"),('NFET Data'!$AC100<>\"(Null)\")))","v":true},true,false]
[{"$f":"IF(R101,Load_Switch_NFET[[#This Row],[PARTNUMBER]],\"\")","v":""},null,{"$f":"AND((Load_Switch_NFET[[#This Row],[VDSMAX]]>=Vi*1.1),(Load_Switch_NFET[[#This Row],[VGSMAX]]>=(VGS_DR)*1.1),(Load_Switch_NFET[[#This Row],[IDSMAX]]>=Io),VGS_DR>=1.8)","v":false},{"$f":"AND(Vi<=27,Load_Switch_NFET[[#This Row],[VDSMAX]]<=30)","v":false},{"$f":"AND(Vi<=36,Vi>=20,Load_Switch_NFET[[#This Row],[VDSMAX]]=40)","v":false},{"$f":"AND(Vi<=54,Vi>=25,Load_Switch_NFET[[#This Row],[VDSMAX]]=60)","v":false},{"$f":"AND(Vi<=72,Vi>=36,Load_Switch_NFET[[#This Row],[VDSMAX]]=80)","v":false},{"$f":"AND(Vi<=90,Vi>=48,Load_Switch_NFET[[#This Row],[VDSMAX]]=100)","v":false},false,{"$f":"AND(((VGS_DR)<2.5),('NFET Data'!$AC101<>\"(Null)\"))","v":false},{"$f":"AND(((VGS_DR)>=2.5),((VGS_DR)<3),OR(('NFET Data'!$AD101<>\"(Null)\"),('NFET Data'!$AC101<>\"(Null)\")))","v":false},{"$f":"AND(((VGS_DR)>=3),((VGS_DR)<4.5),OR(('NFET Data'!$AE101<>\"(Null)\"),('NFET Data'!$AD101<>\"(Null)\"),('NFET Data'!$AC101<>\"(Null)\")))","v":false},{"$f":"AND(((VGS_DR)>=4.5),((VGS_DR)<6),OR(('NFET Data'!$AF101<>\"(Null)\"),('NFET Data'!$AE101<>\"(Null)\"),('NFET Data'!$AD101<>\"(Null)\"),('NFET Data'!$AC101<>\"(Null)\")))","v":false},{"$f":"AND(((VGS_DR)>=6),((VGS_DR)<8),OR(('NFET Data'!$AG101<>\"(Null)\"),('NFET Data'!$AF101<>\"(Null)\"),('NFET Data'!$AE101<>\"(Null)\"),('NFET Data'!$AD101<>\"(Null)\"),('NFET Data'!$AC101<>\"(Null)\")))","v":false},{"$f":"AND(((VGS_DR)>=8),((VGS_DR)<10),OR(('NFET Data'!$AH101<>\"(Null)\"),('NFET Data'!$AG101<>\"(Null)\"),('NFET Data'!$AF101<>\"(Null)\"),('NFET Data'!$AE101<>\"(Null)\"),('NFET Data'!$AD101<>\"(Null)\"),('NFET Data'!$AC101<>\"(Null)\")))","v":false},{"$f":"AND(((VGS_DR)>=10),OR(('NFET Data'!$AI101<>\"(Null)\"),('NFET Data'!$AH101<>\"(Null)\"),('NFET Data'!$AG101<>\"(Null)\"),('NFET Data'!$AF101<>\"(Null)\"),('NFET Data'!$AE101<>\"(Null)\"),('NFET Data'!$AD101<>\"(Null)\"),('NFET Data'!$AC101<>\"(Null)\")))","v":true},true,false]
[{"$f":"IF(R102,Load_Switch_NFET[[#This Row],[PARTNUMBER]],\"\")","v":""},null,{"$f":"AND((Load_Switch_NFET[[#This Row],[VDSMAX]]>=Vi*1.1),(Load_Switch_NFET[[#This Row],[VGSMAX]]>=(VGS_DR)*1.1),(Load_Switch_NFET[[#This Row],[IDSMAX]]>=Io),VGS_DR>=1.8)","v":true},{"$f":"AND(Vi<=27,Load_Switch_NFET[[#This Row],[VDSMAX]]<=30)","v":false},{"$f":"AND(Vi<=36,Vi>=20,Load_Switch_NFET[[#This Row],[VDSMAX]]=40)","v":false},{"$f":"AND(Vi<=54,Vi>=25,Load_Switch_NFET[[#This Row],[VDSMAX]]=60)","v":false},{"$f":"AND(Vi<=72,Vi>=36,Load_Switch_NFET[[#This Row],[VDSMAX]]=80)","v":false},{"$f":"AND(Vi<=90,Vi>=48,Load_Switch_NFET[[#This Row],[VDSMAX]]=100)","v":false},false,{"$f":"AND(((VGS_DR)<2.5),('NFET Data'!$AC102<>\"(Null)\"))","v":false},{"$f":"AND(((VGS_DR)>=2.5),((VGS_DR)<3),OR(('NFET Data'!$AD102<>\"(Null)\"),('NFET Data'!$AC102<>\"(Null)\")))","v":false},{"$f":"AND(((VGS_DR)>=3),((VGS_DR)<4.5),OR(('NFET Data'!$AE102<>\"(Null)\"),('NFET Data'!$AD102<>\"(Null)\"),('NFET Data'!$AC102<>\"(Null)\")))","v":false},{"$f":"AND(((VGS_DR)>=4.5),((VGS_DR)<6),OR(('NFET Data'!$AF102<>\"(Null)\"),('NFET Data'!$AE102<>\"(Null)\"),('NFET Data'!$AD102<>\"(Null)\"),('NFET Data'!$AC102<>\"(Null)\")))","v":false},{"$f":"AND(((VGS_DR)>=6),((VGS_DR)<8),OR(('NFET Data'!$AG102<>\"(Null)\"),('NFET Data'!$AF102<>\"(Null)\"),('NFET Data'!$AE102<>\"(Null)\"),('NFET Data'!$AD102<>\"(Null)\"),('NFET Data'!$AC102<>\"(Null)\")))","v":false},{"$f":"AND(((VGS_DR)>=8),((VGS_DR)<10),OR(('NFET Data'!$AH102<>\"(Null)\"),('NFET Data'!$AG102<>\"(Null)\"),('NFET Data'!$AF102<>\"(Null)\"),('NFET Data'!$AE102<>\"(Null)\"),('NFET Data'!$AD102<>\"(Null)\"),('NFET Data'!$AC102<>\"(Null)\")))","v":false},{"$f":"AND(((VGS_DR)>=10),OR(('NFET Data'!$AI102<>\"(Null)\"),('NFET Data'!$AH102<>\"(Null)\"),('NFET Data'!$AG102<>\"(Null)\"),('NFET Data'!$AF102<>\"(Null)\"),('NFET Data'!$AE102<>\"(Null)\"),('NFET Data'!$AD102<>\"(Null)\"),('NFET Data'!$AC102<>\"(Null)\")))","v":true},true,false]
[{"$f":"IF(R103,Load_Switch_NFET[[#This Row],[PARTNUMBER]],\"\")","v":""},null,{"$f":"AND((Load_Switch_NFET[[#This Row],[VDSMAX]]>=Vi*1.1),(Load_Switch_NFET[[#This Row],[VGSMAX]]>=(VGS_DR)*1.1),(Load_Switch_NFET[[#This Row],[IDSMAX]]>=Io),VGS_DR>=1.8)","v":true},{"$f":"AND(Vi<=27,Load_Switch_NFET[[#This Row],[VDSMAX]]<=30)","v":false},{"$f":"AND(Vi<=36,Vi>=20,Load_Switch_NFET[[#This Row],[VDSMAX]]=40)","v":false},{"$f":"AND(Vi<=54,Vi>=25,Load_Switch_NFET[[#This Row],[VDSMAX]]=60)","v":false},{"$f":"AND(Vi<=72,Vi>=36,Load_Switch_NFET[[#This Row],[VDSMAX]]=80)","v":false},{"$f":"AND(Vi<=90,Vi>=48,Load_Switch_NFET[[#This Row],[VDSMAX]]=100)","v":false},false,{"$f":"AND(((VGS_DR)<2.5),('NFET Data'!$AC103<>\"(Null)\"))","v":false},{"$f":"AND(((VGS_DR)>=2.5),((VGS_DR)<3),OR(('NFET Data'!$AD103<>\"(Null)\"),('NFET Data'!$AC103<>\"(Null)\")))","v":false},{"$f":"AND(((VGS_DR)>=3),((VGS_DR)<4.5),OR(('NFET Data'!$AE103<>\"(Null)\"),('NFET Data'!$AD103<>\"(Null)\"),('NFET Data'!$AC103<>\"(Null)\")))","v":false},{"$f":"AND(((VGS_DR)>=4.5),((VGS_DR)<6),OR(('NFET Data'!$AF103<>\"(Null)\"),('NFET Data'!$AE103<>\"(Null)\"),('NFET Data'!$AD103<>\"(Null)\"),('NFET Data'!$AC103<>\"(Null)\")))","v":false},{"$f":"AND(((VGS_DR)>=6),((VGS_DR)<8),OR(('NFET Data'!$AG103<>\"(Null)\"),('NFET Data'!$AF103<>\"(Null)\"),('NFET Data'!$AE103<>\"(Null)\"),('NFET Data'!$AD103<>\"(Null)\"),('NFET Data'!$AC103<>\"(Null)\")))","v":false},{"$f":"AND(((VGS_DR)>=8),((VGS_DR)<10),OR(('NFET Data'!$AH103<>\"(Null)\"),('NFET Data'!$AG103<>\"(Null)\"),('NFET Data'!$AF103<>\"(Null)\"),('NFET Data'!$AE103<>\"(Null)\"),('NFET Data'!$AD103<>\"(Null)\"),('NFET Data'!$AC103<>\"(Null)\")))","v":false},{"$f":"AND(((VGS_DR)>=10),OR(('NFET Data'!$AI103<>\"(Null)\"),('NFET Data'!$AH103<>\"(Null)\"),('NFET Data'!$AG103<>\"(Null)\"),('NFET Data'!$AF103<>\"(Null)\"),('NFET Data'!$AE103<>\"(Null)\"),('NFET Data'!$AD103<>\"(Null)\"),('NFET Data'!$AC103<>\"(Null)\")))","v":true},true,false]
[{"$f":"IF(R104,Load_Switch_NFET[[#This Row],[PARTNUMBER]],\"\")","v":""},null,{"$f":"AND((Load_Switch_NFET[[#This Row],[VDSMAX]]>=Vi*1.1),(Load_Switch_NFET[[#This Row],[VGSMAX]]>=(VGS_DR)*1.1),(Load_Switch_NFET[[#This Row],[IDSMAX]]>=Io),VGS_DR>=1.8)","v":true},{"$f":"AND(Vi<=27,Load_Switch_NFET[[#This Row],[VDSMAX]]<=30)","v":false},{"$f":"AND(Vi<=36,Vi>=20,Load_Switch_NFET[[#This Row],[VDSMAX]]=40)","v":false},{"$f":"AND(Vi<=54,Vi>=25,Load_Switch_NFET[[#This Row],[VDSMAX]]=60)","v":false},{"$f":"AND(Vi<=72,Vi>=36,Load_Switch_NFET[[#This Row],[VDSMAX]]=80)","v":false},{"$f":"AND(Vi<=90,Vi>=48,Load_Switch_NFET[[#This Row],[VDSMAX]]=100)","v":false},false,{"$f":"AND(((VGS_DR)<2.5),('NFET Data'!$AC104<>\"(Null)\"))","v":false},{"$f":"AND(((VGS_DR)>=2.5),((VGS_DR)<3),OR(('NFET Data'!$AD104<>\"(Null)\"),('NFET Data'!$AC104<>\"(Null)\")))","v":false},{"$f":"AND(((VGS_DR)>=3),((VGS_DR)<4.5),OR(('NFET Data'!$AE104<>\"(Null)\"),('NFET Data'!$AD104<>\"(Null)\"),('NFET Data'!$AC104<>\"(Null)\")))","v":false},{"$f":"AND(((VGS_DR)>=4.5),((VGS_DR)<6),OR(('NFET Data'!$AF104<>\"(Null)\"),('NFET Data'!$AE104<>\"(Null)\"),('NFET Data'!$AD104<>\"(Null)\"),('NFET Data'!$AC104<>\"(Null)\")))","v":false},{"$f":"AND(((VGS_DR)>=6),((VGS_DR)<8),OR(('NFET Data'!$AG104<>\"(Null)\"),('NFET Data'!$AF104<>\"(Null)\"),('NFET Data'!$AE104<>\"(Null)\"),('NFET Data'!$AD104<>\"(Null)\"),('NFET Data'!$AC104<>\"(Null)\")))","v":false},{"$f":"AND(((VGS_DR)>=8),((VGS_DR)<10),OR(('NFET Data'!$AH104<>\"(Null)\"),('NFET Data'!$AG104<>\"(Null)\"),('NFET Data'!$AF104<>\"(Null)\"),('NFET Data'!$AE104<>\"(Null)\"),('NFET Data'!$AD104<>\"(Null)\"),('NFET Data'!$AC104<>\"(Null)\")))","v":false},{"$f":"AND(((VGS_DR)>=10),OR(('NFET Data'!$AI104<>\"(Null)\"),('NFET Data'!$AH104<>\"(Null)\"),('NFET Data'!$AG104<>\"(Null)\"),('NFET Data'!$AF104<>\"(Null)\"),('NFET Data'!$AE104<>\"(Null)\"),('NFET Data'!$AD104<>\"(Null)\"),('NFET Data'!$AC104<>\"(Null)\")))","v":true},true,false]
[{"$f":"IF(R105,Load_Switch_NFET[[#This Row],[PARTNUMBER]],\"\")","v":""},null,{"$f":"AND((Load_Switch_NFET[[#This Row],[VDSMAX]]>=Vi*1.1),(Load_Switch_NFET[[#This Row],[VGSMAX]]>=(VGS_DR)*1.1),(Load_Switch_NFET[[#This Row],[IDSMAX]]>=Io),VGS_DR>=1.8)","v":true},{"$f":"AND(Vi<=27,Load_Switch_NFET[[#This Row],[VDSMAX]]<=30)","v":false},{"$f":"AND(Vi<=36,Vi>=20,Load_Switch_NFET[[#This Row],[VDSMAX]]=40)","v":false},{"$f":"AND(Vi<=54,Vi>=25,Load_Switch_NFET[[#This Row],[VDSMAX]]=60)","v":false},{"$f":"AND(Vi<=72,Vi>=36,Load_Switch_NFET[[#This Row],[VDSMAX]]=80)","v":false},{"$f":"AND(Vi<=90,Vi>=48,Load_Switch_NFET[[#This Row],[VDSMAX]]=100)","v":false},false,{"$f":"AND(((VGS_DR)<2.5),('NFET Data'!$AC105<>\"(Null)\"))","v":false},{"$f":"AND(((VGS_DR)>=2.5),((VGS_DR)<3),OR(('NFET Data'!$AD105<>\"(Null)\"),('NFET Data'!$AC105<>\"(Null)\")))","v":false},{"$f":"AND(((VGS_DR)>=3),((VGS_DR)<4.5),OR(('NFET Data'!$AE105<>\"(Null)\"),('NFET Data'!$AD105<>\"(Null)\"),('NFET Data'!$AC105<>\"(Null)\")))","v":false},{"$f":"AND(((VGS_DR)>=4.5),((VGS_DR)<6),OR(('NFET Data'!$AF105<>\"(Null)\"),('NFET Data'!$AE105<>\"(Null)\"),('NFET Data'!$AD105<>\"(Null)\"),('NFET Data'!$AC105<>\"(Null)\")))","v":false},{"$f":"AND(((VGS_DR)>=6),((VGS_DR)<8),OR(('NFET Data'!$AG105<>\"(Null)\"),('NFET Data'!$AF105<>\"(Null)\"),('NFET Data'!$AE105<>\"(Null)\"),('NFET Data'!$AD105<>\"(Null)\"),('NFET Data'!$AC105<>\"(Null)\")))","v":false},{"$f":"AND(((VGS_DR)>=8),((VGS_DR)<10),OR(('NFET Data'!$AH105<>\"(Null)\"),('NFET Data'!$AG105<>\"(Null)\"),('NFET Data'!$AF105<>\"(Null)\"),('NFET Data'!$AE105<>\"(Null)\"),('NFET Data'!$AD105<>\"(Null)\"),('NFET Data'!$AC105<>\"(Null)\")))","v":false},{"$f":"AND(((VGS_DR)>=10),OR(('NFET Data'!$AI105<>\"(Null)\"),('NFET Data'!$AH105<>\"(Null)\"),('NFET Data'!$AG105<>\"(Null)\"),('NFET Data'!$AF105<>\"(Null)\"),('NFET Data'!$AE105<>\"(Null)\"),('NFET Data'!$AD105<>\"(Null)\"),('NFET Data'!$AC105<>\"(Null)\")))","v":true},true,false]
[{"$f":"IF(R106,Load_Switch_NFET[[#This Row],[PARTNUMBER]],\"\")","v":""},null,{"$f":"AND((Load_Switch_NFET[[#This Row],[VDSMAX]]>=Vi*1.1),(Load_Switch_NFET[[#This Row],[VGSMAX]]>=(VGS_DR)*1.1),(Load_Switch_NFET[[#This Row],[IDSMAX]]>=Io),VGS_DR>=1.8)","v":true},{"$f":"AND(Vi<=27,Load_Switch_NFET[[#This Row],[VDSMAX]]<=30)","v":false},{"$f":"AND(Vi<=36,Vi>=20,Load_Switch_NFET[[#This Row],[VDSMAX]]=40)","v":false},{"$f":"AND(Vi<=54,Vi>=25,Load_Switch_NFET[[#This Row],[VDSMAX]]=60)","v":false},{"$f":"AND(Vi<=72,Vi>=36,Load_Switch_NFET[[#This Row],[VDSMAX]]=80)","v":false},{"$f":"AND(Vi<=90,Vi>=48,Load_Switch_NFET[[#This Row],[VDSMAX]]=100)","v":false},false,{"$f":"AND(((VGS_DR)<2.5),('NFET Data'!$AC106<>\"(Null)\"))","v":false},{"$f":"AND(((VGS_DR)>=2.5),((VGS_DR)<3),OR(('NFET Data'!$AD106<>\"(Null)\"),('NFET Data'!$AC106<>\"(Null)\")))","v":false},{"$f":"AND(((VGS_DR)>=3),((VGS_DR)<4.5),OR(('NFET Data'!$AE106<>\"(Null)\"),('NFET Data'!$AD106<>\"(Null)\"),('NFET Data'!$AC106<>\"(Null)\")))","v":false},{"$f":"AND(((VGS_DR)>=4.5),((VGS_DR)<6),OR(('NFET Data'!$AF106<>\"(Null)\"),('NFET Data'!$AE106<>\"(Null)\"),('NFET Data'!$AD106<>\"(Null)\"),('NFET Data'!$AC106<>\"(Null)\")))","v":false},{"$f":"AND(((VGS_DR)>=6),((VGS_DR)<8),OR(('NFET Data'!$AG106<>\"(Null)\"),('NFET Data'!$AF106<>\"(Null)\"),('NFET Data'!$AE106<>\"(Null)\"),('NFET Data'!$AD106<>\"(Null)\"),('NFET Data'!$AC106<>\"(Null)\")))","v":false},{"$f":"AND(((VGS_DR)>=8),((VGS_DR)<10),OR(('NFET Data'!$AH106<>\"(Null)\"),('NFET Data'!$AG106<>\"(Null)\"),('NFET Data'!$AF106<>\"(Null)\"),('NFET Data'!$AE106<>\"(Null)\"),('NFET Data'!$AD106<>\"(Null)\"),('NFET Data'!$AC106<>\"(Null)\")))","v":false},{"$f":"AND(((VGS_DR)>=10),OR(('NFET Data'!$AI106<>\"(Null)\"),('NFET Data'!$AH106<>\"(Null)\"),('NFET Data'!$AG106<>\"(Null)\"),('NFET Data'!$AF106<>\"(Null)\"),('NFET Data'!$AE106<>\"(Null)\"),('NFET Data'!$AD106<>\"(Null)\"),('NFET Data'!$AC106<>\"(Null)\")))","v":true},true,false]
[{"$f":"IF(R107,Load_Switch_NFET[[#This Row],[PARTNUMBER]],\"\")","v":""},null,{"$f":"AND((Load_Switch_NFET[[#This Row],[VDSMAX]]>=Vi*1.1),(Load_Switch_NFET[[#This Row],[VGSMAX]]>=(VGS_DR)*1.1),(Load_Switch_NFET[[#This Row],[IDSMAX]]>=Io),VGS_DR>=1.8)","v":true},{"$f":"AND(Vi<=27,Load_Switch_NFET[[#This Row],[VDSMAX]]<=30)","v":false},{"$f":"AND(Vi<=36,Vi>=20,Load_Switch_NFET[[#This Row],[VDSMAX]]=40)","v":false},{"$f":"AND(Vi<=54,Vi>=25,Load_Switch_NFET[[#This Row],[VDSMAX]]=60)","v":false},{"$f":"AND(Vi<=72,Vi>=36,Load_Switch_NFET[[#This Row],[VDSMAX]]=80)","v":false},{"$f":"AND(Vi<=90,Vi>=48,Load_Switch_NFET[[#This Row],[VDSMAX]]=100)","v":false},false,{"$f":"AND(((VGS_DR)<2.5),('NFET Data'!$AC107<>\"(Null)\"))","v":false},{"$f":"AND(((VGS_DR)>=2.5),((VGS_DR)<3),OR(('NFET Data'!$AD107<>\"(Null)\"),('NFET Data'!$AC107<>\"(Null)\")))","v":false},{"$f":"AND(((VGS_DR)>=3),((VGS_DR)<4.5),OR(('NFET Data'!$AE107<>\"(Null)\"),('NFET Data'!$AD107<>\"(Null)\"),('NFET Data'!$AC107<>\"(Null)\")))","v":false},{"$f":"AND(((VGS_DR)>=4.5),((VGS_DR)<6),OR(('NFET Data'!$AF107<>\"(Null)\"),('NFET Data'!$AE107<>\"(Null)\"),('NFET Data'!$AD107<>\"(Null)\"),('NFET Data'!$AC107<>\"(Null)\")))","v":false},{"$f":"AND(((VGS_DR)>=6),((VGS_DR)<8),OR(('NFET Data'!$AG107<>\"(Null)\"),('NFET Data'!$AF107<>\"(Null)\"),('NFET Data'!$AE107<>\"(Null)\"),('NFET Data'!$AD107<>\"(Null)\"),('NFET Data'!$AC107<>\"(Null)\")))","v":false},{"$f":"AND(((VGS_DR)>=8),((VGS_DR)<10),OR(('NFET Data'!$AH107<>\"(Null)\"),('NFET Data'!$AG107<>\"(Null)\"),('NFET Data'!$AF107<>\"(Null)\"),('NFET Data'!$AE107<>\"(Null)\"),('NFET Data'!$AD107<>\"(Null)\"),('NFET Data'!$AC107<>\"(Null)\")))","v":false},{"$f":"AND(((VGS_DR)>=10),OR(('NFET Data'!$AI107<>\"(Null)\"),('NFET Data'!$AH107<>\"(Null)\"),('NFET Data'!$AG107<>\"(Null)\"),('NFET Data'!$AF107<>\"(Null)\"),('NFET Data'!$AE107<>\"(Null)\"),('NFET Data'!$AD107<>\"(Null)\"),('NFET Data'!$AC107<>\"(Null)\")))","v":true},true,false]
[{"$f":"IF(R108,Load_Switch_NFET[[#This Row],[PARTNUMBER]],\"\")","v":""},null,{"$f":"AND((Load_Switch_NFET[[#This Row],[VDSMAX]]>=Vi*1.1),(Load_Switch_NFET[[#This Row],[VGSMAX]]>=(VGS_DR)*1.1),(Load_Switch_NFET[[#This Row],[IDSMAX]]>=Io),VGS_DR>=1.8)","v":true},{"$f":"AND(Vi<=27,Load_Switch_NFET[[#This Row],[VDSMAX]]<=30)","v":false},{"$f":"AND(Vi<=36,Vi>=20,Load_Switch_NFET[[#This Row],[VDSMAX]]=40)","v":false},{"$f":"AND(Vi<=54,Vi>=25,Load_Switch_NFET[[#This Row],[VDSMAX]]=60)","v":false},{"$f":"AND(Vi<=72,Vi>=36,Load_Switch_NFET[[#This Row],[VDSMAX]]=80)","v":false},{"$f":"AND(Vi<=90,Vi>=48,Load_Switch_NFET[[#This Row],[VDSMAX]]=100)","v":false},false,{"$f":"AND(((VGS_DR)<2.5),('NFET Data'!$AC108<>\"(Null)\"))","v":false},{"$f":"AND(((VGS_DR)>=2.5),((VGS_DR)<3),OR(('NFET Data'!$AD108<>\"(Null)\"),('NFET Data'!$AC108<>\"(Null)\")))","v":false},{"$f":"AND(((VGS_DR)>=3),((VGS_DR)<4.5),OR(('NFET Data'!$AE108<>\"(Null)\"),('NFET Data'!$AD108<>\"(Null)\"),('NFET Data'!$AC108<>\"(Null)\")))","v":false},{"$f":"AND(((VGS_DR)>=4.5),((VGS_DR)<6),OR(('NFET Data'!$AF108<>\"(Null)\"),('NFET Data'!$AE108<>\"(Null)\"),('NFET Data'!$AD108<>\"(Null)\"),('NFET Data'!$AC108<>\"(Null)\")))","v":false},{"$f":"AND(((VGS_DR)>=6),((VGS_DR)<8),OR(('NFET Data'!$AG108<>\"(Null)\"),('NFET Data'!$AF108<>\"(Null)\"),('NFET Data'!$AE108<>\"(Null)\"),('NFET Data'!$AD108<>\"(Null)\"),('NFET Data'!$AC108<>\"(Null)\")))","v":false},{"$f":"AND(((VGS_DR)>=8),((VGS_DR)<10),OR(('NFET Data'!$AH108<>\"(Null)\"),('NFET Data'!$AG108<>\"(Null)\"),('NFET Data'!$AF108<>\"(Null)\"),('NFET Data'!$AE108<>\"(Null)\"),('NFET Data'!$AD108<>\"(Null)\"),('NFET Data'!$AC108<>\"(Null)\")))","v":false},{"$f":"AND(((VGS_DR)>=10),OR(('NFET Data'!$AI108<>\"(Null)\"),('NFET Data'!$AH108<>\"(Null)\"),('NFET Data'!$AG108<>\"(Null)\"),('NFET Data'!$AF108<>\"(Null)\"),('NFET Data'!$AE108<>\"(Null)\"),('NFET Data'!$AD108<>\"(Null)\"),('NFET Data'!$AC108<>\"(Null)\")))","v":true},true,false]
[{"$f":"IF(R109,Load_Switch_NFET[[#This Row],[PARTNUMBER]],\"\")","v":""},null,{"$f":"AND((Load_Switch_NFET[[#This Row],[VDSMAX]]>=Vi*1.1),(Load_Switch_NFET[[#This Row],[VGSMAX]]>=(VGS_DR)*1.1),(Load_Switch_NFET[[#This Row],[IDSMAX]]>=Io),VGS_DR>=1.8)","v":false},{"$f":"AND(Vi<=27,Load_Switch_NFET[[#This Row],[VDSMAX]]<=30)","v":false},{"$f":"AND(Vi<=36,Vi>=20,Load_Switch_NFET[[#This Row],[VDSMAX]]=40)","v":false},{"$f":"AND(Vi<=54,Vi>=25,Load_Switch_NFET[[#This Row],[VDSMAX]]=60)","v":false},{"$f":"AND(Vi<=72,Vi>=36,Load_Switch_NFET[[#This Row],[VDSMAX]]=80)","v":false},{"$f":"AND(Vi<=90,Vi>=48,Load_Switch_NFET[[#This Row],[VDSMAX]]=100)","v":false},false,{"$f":"AND(((VGS_DR)<2.5),('NFET Data'!$AC109<>\"(Null)\"))","v":false},{"$f":"AND(((VGS_DR)>=2.5),((VGS_DR)<3),OR(('NFET Data'!$AD109<>\"(Null)\"),('NFET Data'!$AC109<>\"(Null)\")))","v":false},{"$f":"AND(((VGS_DR)>=3),((VGS_DR)<4.5),OR(('NFET Data'!$AE109<>\"(Null)\"),('NFET Data'!$AD109<>\"(Null)\"),('NFET Data'!$AC109<>\"(Null)\")))","v":false},{"$f":"AND(((VGS_DR)>=4.5),((VGS_DR)<6),OR(('NFET Data'!$AF109<>\"(Null)\"),('NFET Data'!$AE109<>\"(Null)\"),('NFET Data'!$AD109<>\"(Null)\"),('NFET Data'!$AC109<>\"(Null)\")))","v":false},{"$f":"AND(((VGS_DR)>=6),((VGS_DR)<8),OR(('NFET Data'!$AG109<>\"(Null)\"),('NFET Data'!$AF109<>\"(Null)\"),('NFET Data'!$AE109<>\"(Null)\"),('NFET Data'!$AD109<>\"(Null)\"),('NFET Data'!$AC109<>\"(Null)\")))","v":false},{"$f":"AND(((VGS_DR)>=8),((VGS_DR)<10),OR(('NFET Data'!$AH109<>\"(Null)\"),('NFET Data'!$AG109<>\"(Null)\"),('NFET Data'!$AF109<>\"(Null)\"),('NFET Data'!$AE109<>\"(Null)\"),('NFET Data'!$AD109<>\"(Null)\"),('NFET Data'!$AC109<>\"(Null)\")))","v":false},{"$f":"AND(((VGS_DR)>=10),OR(('NFET Data'!$AI109<>\"(Null)\"),('NFET Data'!$AH109<>\"(Null)\"),('NFET Data'!$AG109<>\"(Null)\"),('NFET Data'!$AF109<>\"(Null)\"),('NFET Data'!$AE109<>\"(Null)\"),('NFET Data'!$AD109<>\"(Null)\"),('NFET Data'!$AC109<>\"(Null)\")))","v":true},true,false]
[{"$f":"IF(R110,Load_Switch_NFET[[#This Row],[PARTNUMBER]],\"\")","v":""},null,{"$f":"AND((Load_Switch_NFET[[#This Row],[VDSMAX]]>=Vi*1.1),(Load_Switch_NFET[[#This Row],[VGSMAX]]>=(VGS_DR)*1.1),(Load_Switch_NFET[[#This Row],[IDSMAX]]>=Io),VGS_DR>=1.8)","v":true},{"$f":"AND(Vi<=27,Load_Switch_NFET[[#This Row],[VDSMAX]]<=30)","v":false},{"$f":"AND(Vi<=36,Vi>=20,Load_Switch_NFET[[#This Row],[VDSMAX]]=40)","v":false},{"$f":"AND(Vi<=54,Vi>=25,Load_Switch_NFET[[#This Row],[VDSMAX]]=60)","v":false},{"$f":"AND(Vi<=72,Vi>=36,Load_Switch_NFET[[#This Row],[VDSMAX]]=80)","v":false},{"$f":"AND(Vi<=90,Vi>=48,Load_Switch_NFET[[#This Row],[VDSMAX]]=100)","v":false},false,{"$f":"AND(((VGS_DR)<2.5),('NFET Data'!$AC110<>\"(Null)\"))","v":false},{"$f":"AND(((VGS_DR)>=2.5),((VGS_DR)<3),OR(('NFET Data'!$AD110<>\"(Null)\"),('NFET Data'!$AC110<>\"(Null)\")))","v":false},{"$f":"AND(((VGS_DR)>=3),((VGS_DR)<4.5),OR(('NFET Data'!$AE110<>\"(Null)\"),('NFET Data'!$AD110<>\"(Null)\"),('NFET Data'!$AC110<>\"(Null)\")))","v":false},{"$f":"AND(((VGS_DR)>=4.5),((VGS_DR)<6),OR(('NFET Data'!$AF110<>\"(Null)\"),('NFET Data'!$AE110<>\"(Null)\"),('NFET Data'!$AD110<>\"(Null)\"),('NFET Data'!$AC110<>\"(Null)\")))","v":false},{"$f":"AND(((VGS_DR)>=6),((VGS_DR)<8),OR(('NFET Data'!$AG110<>\"(Null)\"),('NFET Data'!$AF110<>\"(Null)\"),('NFET Data'!$AE110<>\"(Null)\"),('NFET Data'!$AD110<>\"(Null)\"),('NFET Data'!$AC110<>\"(Null)\")))","v":false},{"$f":"AND(((VGS_DR)>=8),((VGS_DR)<10),OR(('NFET Data'!$AH110<>\"(Null)\"),('NFET Data'!$AG110<>\"(Null)\"),('NFET Data'!$AF110<>\"(Null)\"),('NFET Data'!$AE110<>\"(Null)\"),('NFET Data'!$AD110<>\"(Null)\"),('NFET Data'!$AC110<>\"(Null)\")))","v":false},{"$f":"AND(((VGS_DR)>=10),OR(('NFET Data'!$AI110<>\"(Null)\"),('NFET Data'!$AH110<>\"(Null)\"),('NFET Data'!$AG110<>\"(Null)\"),('NFET Data'!$AF110<>\"(Null)\"),('NFET Data'!$AE110<>\"(Null)\"),('NFET Data'!$AD110<>\"(Null)\"),('NFET Data'!$AC110<>\"(Null)\")))","v":true},true,false]
[{"$f":"IF(R111,Load_Switch_NFET[[#This Row],[PARTNUMBER]],\"\")","v":""},null,{"$f":"AND((Load_Switch_NFET[[#This Row],[VDSMAX]]>=Vi*1.1),(Load_Switch_NFET[[#This Row],[VGSMAX]]>=(VGS_DR)*1.1),(Load_Switch_NFET[[#This Row],[IDSMAX]]>=Io),VGS_DR>=1.8)","v":true},{"$f":"AND(Vi<=27,Load_Switch_NFET[[#This Row],[VDSMAX]]<=30)","v":false},{"$f":"AND(Vi<=36,Vi>=20,Load_Switch_NFET[[#This Row],[VDSMAX]]=40)","v":false},{"$f":"AND(Vi<=54,Vi>=25,Load_Switch_NFET[[#This Row],[VDSMAX]]=60)","v":false},{"$f":"AND(Vi<=72,Vi>=36,Load_Switch_NFET[[#This Row],[VDSMAX]]=80)","v":false},{"$f":"AND(Vi<=90,Vi>=48,Load_Switch_NFET[[#This Row],[VDSMAX]]=100)","v":false},false,{"$f":"AND(((VGS_DR)<2.5),('NFET Data'!$AC111<>\"(Null)\"))","v":false},{"$f":"AND(((VGS_DR)>=2.5),((VGS_DR)<3),OR(('NFET Data'!$AD111<>\"(Null)\"),('NFET Data'!$AC111<>\"(Null)\")))","v":false},{"$f":"AND(((VGS_DR)>=3),((VGS_DR)<4.5),OR(('NFET Data'!$AE111<>\"(Null)\"),('NFET Data'!$AD111<>\"(Null)\"),('NFET Data'!$AC111<>\"(Null)\")))","v":false},{"$f":"AND(((VGS_DR)>=4.5),((VGS_DR)<6),OR(('NFET Data'!$AF111<>\"(Null)\"),('NFET Data'!$AE111<>\"(Null)\"),('NFET Data'!$AD111<>\"(Null)\"),('NFET Data'!$AC111<>\"(Null)\")))","v":false},{"$f":"AND(((VGS_DR)>=6),((VGS_DR)<8),OR(('NFET Data'!$AG111<>\"(Null)\"),('NFET Data'!$AF111<>\"(Null)\"),('NFET Data'!$AE111<>\"(Null)\"),('NFET Data'!$AD111<>\"(Null)\"),('NFET Data'!$AC111<>\"(Null)\")))","v":false},{"$f":"AND(((VGS_DR)>=8),((VGS_DR)<10),OR(('NFET Data'!$AH111<>\"(Null)\"),('NFET Data'!$AG111<>\"(Null)\"),('NFET Data'!$AF111<>\"(Null)\"),('NFET Data'!$AE111<>\"(Null)\"),('NFET Data'!$AD111<>\"(Null)\"),('NFET Data'!$AC111<>\"(Null)\")))","v":false},{"$f":"AND(((VGS_DR)>=10),OR(('NFET Data'!$AI111<>\"(Null)\"),('NFET Data'!$AH111<>\"(Null)\"),('NFET Data'!$AG111<>\"(Null)\"),('NFET Data'!$AF111<>\"(Null)\"),('NFET Data'!$AE111<>\"(Null)\"),('NFET Data'!$AD111<>\"(Null)\"),('NFET Data'!$AC111<>\"(Null)\")))","v":true},true,false]
[{"$f":"IF(R112,Load_Switch_NFET[[#This Row],[PARTNUMBER]],\"\")","v":""},null,{"$f":"AND((Load_Switch_NFET[[#This Row],[VDSMAX]]>=Vi*1.1),(Load_Switch_NFET[[#This Row],[VGSMAX]]>=(VGS_DR)*1.1),(Load_Switch_NFET[[#This Row],[IDSMAX]]>=Io),VGS_DR>=1.8)","v":true},{"$f":"AND(Vi<=27,Load_Switch_NFET[[#This Row],[VDSMAX]]<=30)","v":false},{"$f":"AND(Vi<=36,Vi>=20,Load_Switch_NFET[[#This Row],[VDSMAX]]=40)","v":false},{"$f":"AND(Vi<=54,Vi>=25,Load_Switch_NFET[[#This Row],[VDSMAX]]=60)","v":false},{"$f":"AND(Vi<=72,Vi>=36,Load_Switch_NFET[[#This Row],[VDSMAX]]=80)","v":false},{"$f":"AND(Vi<=90,Vi>=48,Load_Switch_NFET[[#This Row],[VDSMAX]]=100)","v":false},false,{"$f":"AND(((VGS_DR)<2.5),('NFET Data'!$AC112<>\"(Null)\"))","v":false},{"$f":"AND(((VGS_DR)>=2.5),((VGS_DR)<3),OR(('NFET Data'!$AD112<>\"(Null)\"),('NFET Data'!$AC112<>\"(Null)\")))","v":false},{"$f":"AND(((VGS_DR)>=3),((VGS_DR)<4.5),OR(('NFET Data'!$AE112<>\"(Null)\"),('NFET Data'!$AD112<>\"(Null)\"),('NFET Data'!$AC112<>\"(Null)\")))","v":false},{"$f":"AND(((VGS_DR)>=4.5),((VGS_DR)<6),OR(('NFET Data'!$AF112<>\"(Null)\"),('NFET Data'!$AE112<>\"(Null)\"),('NFET Data'!$AD112<>\"(Null)\"),('NFET Data'!$AC112<>\"(Null)\")))","v":false},{"$f":"AND(((VGS_DR)>=6),((VGS_DR)<8),OR(('NFET Data'!$AG112<>\"(Null)\"),('NFET Data'!$AF112<>\"(Null)\"),('NFET Data'!$AE112<>\"(Null)\"),('NFET Data'!$AD112<>\"(Null)\"),('NFET Data'!$AC112<>\"(Null)\")))","v":false},{"$f":"AND(((VGS_DR)>=8),((VGS_DR)<10),OR(('NFET Data'!$AH112<>\"(Null)\"),('NFET Data'!$AG112<>\"(Null)\"),('NFET Data'!$AF112<>\"(Null)\"),('NFET Data'!$AE112<>\"(Null)\"),('NFET Data'!$AD112<>\"(Null)\"),('NFET Data'!$AC112<>\"(Null)\")))","v":false},{"$f":"AND(((VGS_DR)>=10),OR(('NFET Data'!$AI112<>\"(Null)\"),('NFET Data'!$AH112<>\"(Null)\"),('NFET Data'!$AG112<>\"(Null)\"),('NFET Data'!$AF112<>\"(Null)\"),('NFET Data'!$AE112<>\"(Null)\"),('NFET Data'!$AD112<>\"(Null)\"),('NFET Data'!$AC112<>\"(Null)\")))","v":true},true,false]
[{"$f":"IF(R113,Load_Switch_NFET[[#This Row],[PARTNUMBER]],\"\")","v":""},null,{"$f":"AND((Load_Switch_NFET[[#This Row],[VDSMAX]]>=Vi*1.1),(Load_Switch_NFET[[#This Row],[VGSMAX]]>=(VGS_DR)*1.1),(Load_Switch_NFET[[#This Row],[IDSMAX]]>=Io),VGS_DR>=1.8)","v":true},{"$f":"AND(Vi<=27,Load_Switch_NFET[[#This Row],[VDSMAX]]<=30)","v":false},{"$f":"AND(Vi<=36,Vi>=20,Load_Switch_NFET[[#This Row],[VDSMAX]]=40)","v":false},{"$f":"AND(Vi<=54,Vi>=25,Load_Switch_NFET[[#This Row],[VDSMAX]]=60)","v":false},{"$f":"AND(Vi<=72,Vi>=36,Load_Switch_NFET[[#This Row],[VDSMAX]]=80)","v":false},{"$f":"AND(Vi<=90,Vi>=48,Load_Switch_NFET[[#This Row],[VDSMAX]]=100)","v":false},false,{"$f":"AND(((VGS_DR)<2.5),('NFET Data'!$AC113<>\"(Null)\"))","v":false},{"$f":"AND(((VGS_DR)>=2.5),((VGS_DR)<3),OR(('NFET Data'!$AD113<>\"(Null)\"),('NFET Data'!$AC113<>\"(Null)\")))","v":false},{"$f":"AND(((VGS_DR)>=3),((VGS_DR)<4.5),OR(('NFET Data'!$AE113<>\"(Null)\"),('NFET Data'!$AD113<>\"(Null)\"),('NFET Data'!$AC113<>\"(Null)\")))","v":false},{"$f":"AND(((VGS_DR)>=4.5),((VGS_DR)<6),OR(('NFET Data'!$AF113<>\"(Null)\"),('NFET Data'!$AE113<>\"(Null)\"),('NFET Data'!$AD113<>\"(Null)\"),('NFET Data'!$AC113<>\"(Null)\")))","v":false},{"$f":"AND(((VGS_DR)>=6),((VGS_DR)<8),OR(('NFET Data'!$AG113<>\"(Null)\"),('NFET Data'!$AF113<>\"(Null)\"),('NFET Data'!$AE113<>\"(Null)\"),('NFET Data'!$AD113<>\"(Null)\"),('NFET Data'!$AC113<>\"(Null)\")))","v":false},{"$f":"AND(((VGS_DR)>=8),((VGS_DR)<10),OR(('NFET Data'!$AH113<>\"(Null)\"),('NFET Data'!$AG113<>\"(Null)\"),('NFET Data'!$AF113<>\"(Null)\"),('NFET Data'!$AE113<>\"(Null)\"),('NFET Data'!$AD113<>\"(Null)\"),('NFET Data'!$AC113<>\"(Null)\")))","v":false},{"$f":"AND(((VGS_DR)>=10),OR(('NFET Data'!$AI113<>\"(Null)\"),('NFET Data'!$AH113<>\"(Null)\"),('NFET Data'!$AG113<>\"(Null)\"),('NFET Data'!$AF113<>\"(Null)\"),('NFET Data'!$AE113<>\"(Null)\"),('NFET Data'!$AD113<>\"(Null)\"),('NFET Data'!$AC113<>\"(Null)\")))","v":true},true,false]
[{"$f":"IF(R114,Load_Switch_NFET[[#This Row],[PARTNUMBER]],\"\")","v":""},null,{"$f":"AND((Load_Switch_NFET[[#This Row],[VDSMAX]]>=Vi*1.1),(Load_Switch_NFET[[#This Row],[VGSMAX]]>=(VGS_DR)*1.1),(Load_Switch_NFET[[#This Row],[IDSMAX]]>=Io),VGS_DR>=1.8)","v":false},{"$f":"AND(Vi<=27,Load_Switch_NFET[[#This Row],[VDSMAX]]<=30)","v":false},{"$f":"AND(Vi<=36,Vi>=20,Load_Switch_NFET[[#This Row],[VDSMAX]]=40)","v":false},{"$f":"AND(Vi<=54,Vi>=25,Load_Switch_NFET[[#This Row],[VDSMAX]]=60)","v":false},{"$f":"AND(Vi<=72,Vi>=36,Load_Switch_NFET[[#This Row],[VDSMAX]]=80)","v":false},{"$f":"AND(Vi<=90,Vi>=48,Load_Switch_NFET[[#This Row],[VDSMAX]]=100)","v":false},false,{"$f":"AND(((VGS_DR)<2.5),('NFET Data'!$AC114<>\"(Null)\"))","v":false},{"$f":"AND(((VGS_DR)>=2.5),((VGS_DR)<3),OR(('NFET Data'!$AD114<>\"(Null)\"),('NFET Data'!$AC114<>\"(Null)\")))","v":false},{"$f":"AND(((VGS_DR)>=3),((VGS_DR)<4.5),OR(('NFET Data'!$AE114<>\"(Null)\"),('NFET Data'!$AD114<>\"(Null)\"),('NFET Data'!$AC114<>\"(Null)\")))","v":false},{"$f":"AND(((VGS_DR)>=4.5),((VGS_DR)<6),OR(('NFET Data'!$AF114<>\"(Null)\"),('NFET Data'!$AE114<>\"(Null)\"),('NFET Data'!$AD114<>\"(Null)\"),('NFET Data'!$AC114<>\"(Null)\")))","v":false},{"$f":"AND(((VGS_DR)>=6),((VGS_DR)<8),OR(('NFET Data'!$AG114<>\"(Null)\"),('NFET Data'!$AF114<>\"(Null)\"),('NFET Data'!$AE114<>\"(Null)\"),('NFET Data'!$AD114<>\"(Null)\"),('NFET Data'!$AC114<>\"(Null)\")))","v":false},{"$f":"AND(((VGS_DR)>=8),((VGS_DR)<10),OR(('NFET Data'!$AH114<>\"(Null)\"),('NFET Data'!$AG114<>\"(Null)\"),('NFET Data'!$AF114<>\"(Null)\"),('NFET Data'!$AE114<>\"(Null)\"),('NFET Data'!$AD114<>\"(Null)\"),('NFET Data'!$AC114<>\"(Null)\")))","v":false},{"$f":"AND(((VGS_DR)>=10),OR(('NFET Data'!$AI114<>\"(Null)\"),('NFET Data'!$AH114<>\"(Null)\"),('NFET Data'!$AG114<>\"(Null)\"),('NFET Data'!$AF114<>\"(Null)\"),('NFET Data'!$AE114<>\"(Null)\"),('NFET Data'!$AD114<>\"(Null)\"),('NFET Data'!$AC114<>\"(Null)\")))","v":true},true,false]
[{"$f":"IF(R115,Load_Switch_NFET[[#This Row],[PARTNUMBER]],\"\")","v":""},null,{"$f":"AND((Load_Switch_NFET[[#This Row],[VDSMAX]]>=Vi*1.1),(Load_Switch_NFET[[#This Row],[VGSMAX]]>=(VGS_DR)*1.1),(Load_Switch_NFET[[#This Row],[IDSMAX]]>=Io),VGS_DR>=1.8)","v":false},{"$f":"AND(Vi<=27,Load_Switch_NFET[[#This Row],[VDSMAX]]<=30)","v":false},{"$f":"AND(Vi<=36,Vi>=20,Load_Switch_NFET[[#This Row],[VDSMAX]]=40)","v":false},{"$f":"AND(Vi<=54,Vi>=25,Load_Switch_NFET[[#This Row],[VDSMAX]]=60)","v":false},{"$f":"AND(Vi<=72,Vi>=36,Load_Switch_NFET[[#This Row],[VDSMAX]]=80)","v":false},{"$f":"AND(Vi<=90,Vi>=48,Load_Switch_NFET[[#This Row],[VDSMAX]]=100)","v":false},false,{"$f":"AND(((VGS_DR)<2.5),('NFET Data'!$AC115<>\"(Null)\"))","v":false},{"$f":"AND(((VGS_DR)>=2.5),((VGS_DR)<3),OR(('NFET Data'!$AD115<>\"(Null)\"),('NFET Data'!$AC115<>\"(Null)\")))","v":false},{"$f":"AND(((VGS_DR)>=3),((VGS_DR)<4.5),OR(('NFET Data'!$AE115<>\"(Null)\"),('NFET Data'!$AD115<>\"(Null)\"),('NFET Data'!$AC115<>\"(Null)\")))","v":false},{"$f":"AND(((VGS_DR)>=4.5),((VGS_DR)<6),OR(('NFET Data'!$AF115<>\"(Null)\"),('NFET Data'!$AE115<>\"(Null)\"),('NFET Data'!$AD115<>\"(Null)\"),('NFET Data'!$AC115<>\"(Null)\")))","v":false},{"$f":"AND(((VGS_DR)>=6),((VGS_DR)<8),OR(('NFET Data'!$AG115<>\"(Null)\"),('NFET Data'!$AF115<>\"(Null)\"),('NFET Data'!$AE115<>\"(Null)\"),('NFET Data'!$AD115<>\"(Null)\"),('NFET Data'!$AC115<>\"(Null)\")))","v":false},{"$f":"AND(((VGS_DR)>=8),((VGS_DR)<10),OR(('NFET Data'!$AH115<>\"(Null)\"),('NFET Data'!$AG115<>\"(Null)\"),('NFET Data'!$AF115<>\"(Null)\"),('NFET Data'!$AE115<>\"(Null)\"),('NFET Data'!$AD115<>\"(Null)\"),('NFET Data'!$AC115<>\"(Null)\")))","v":false},{"$f":"AND(((VGS_DR)>=10),OR(('NFET Data'!$AI115<>\"(Null)\"),('NFET Data'!$AH115<>\"(Null)\"),('NFET Data'!$AG115<>\"(Null)\"),('NFET Data'!$AF115<>\"(Null)\"),('NFET Data'!$AE115<>\"(Null)\"),('NFET Data'!$AD115<>\"(Null)\"),('NFET Data'!$AC115<>\"(Null)\")))","v":true},true,false]
[{"$f":"IF(R116,Load_Switch_NFET[[#This Row],[PARTNUMBER]],\"\")","v":""},null,{"$f":"AND((Load_Switch_NFET[[#This Row],[VDSMAX]]>=Vi*1.1),(Load_Switch_NFET[[#This Row],[VGSMAX]]>=(VGS_DR)*1.1),(Load_Switch_NFET[[#This Row],[IDSMAX]]>=Io),VGS_DR>=1.8)","v":true},{"$f":"AND(Vi<=27,Load_Switch_NFET[[#This Row],[VDSMAX]]<=30)","v":false},{"$f":"AND(Vi<=36,Vi>=20,Load_Switch_NFET[[#This Row],[VDSMAX]]=40)","v":false},{"$f":"AND(Vi<=54,Vi>=25,Load_Switch_NFET[[#This Row],[VDSMAX]]=60)","v":false},{"$f":"AND(Vi<=72,Vi>=36,Load_Switch_NFET[[#This Row],[VDSMAX]]=80)","v":false},{"$f":"AND(Vi<=90,Vi>=48,Load_Switch_NFET[[#This Row],[VDSMAX]]=100)","v":false},false,{"$f":"AND(((VGS_DR)<2.5),('NFET Data'!$AC116<>\"(Null)\"))","v":false},{"$f":"AND(((VGS_DR)>=2.5),((VGS_DR)<3),OR(('NFET Data'!$AD116<>\"(Null)\"),('NFET Data'!$AC116<>\"(Null)\")))","v":false},{"$f":"AND(((VGS_DR)>=3),((VGS_DR)<4.5),OR(('NFET Data'!$AE116<>\"(Null)\"),('NFET Data'!$AD116<>\"(Null)\"),('NFET Data'!$AC116<>\"(Null)\")))","v":false},{"$f":"AND(((VGS_DR)>=4.5),((VGS_DR)<6),OR(('NFET Data'!$AF116<>\"(Null)\"),('NFET Data'!$AE116<>\"(Null)\"),('NFET Data'!$AD116<>\"(Null)\"),('NFET Data'!$AC116<>\"(Null)\")))","v":false},{"$f":"AND(((VGS_DR)>=6),((VGS_DR)<8),OR(('NFET Data'!$AG116<>\"(Null)\"),('NFET Data'!$AF116<>\"(Null)\"),('NFET Data'!$AE116<>\"(Null)\"),('NFET Data'!$AD116<>\"(Null)\"),('NFET Data'!$AC116<>\"(Null)\")))","v":false},{"$f":"AND(((VGS_DR)>=8),((VGS_DR)<10),OR(('NFET Data'!$AH116<>\"(Null)\"),('NFET Data'!$AG116<>\"(Null)\"),('NFET Data'!$AF116<>\"(Null)\"),('NFET Data'!$AE116<>\"(Null)\"),('NFET Data'!$AD116<>\"(Null)\"),('NFET Data'!$AC116<>\"(Null)\")))","v":false},{"$f":"AND(((VGS_DR)>=10),OR(('NFET Data'!$AI116<>\"(Null)\"),('NFET Data'!$AH116<>\"(Null)\"),('NFET Data'!$AG116<>\"(Null)\"),('NFET Data'!$AF116<>\"(Null)\"),('NFET Data'!$AE116<>\"(Null)\"),('NFET Data'!$AD116<>\"(Null)\"),('NFET Data'!$AC116<>\"(Null)\")))","v":true},true,false]
[{"$f":"IF(R117,Load_Switch_NFET[[#This Row],[PARTNUMBER]],\"\")","v":""},null,{"$f":"AND((Load_Switch_NFET[[#This Row],[VDSMAX]]>=Vi*1.1),(Load_Switch_NFET[[#This Row],[VGSMAX]]>=(VGS_DR)*1.1),(Load_Switch_NFET[[#This Row],[IDSMAX]]>=Io),VGS_DR>=1.8)","v":false},{"$f":"AND(Vi<=27,Load_Switch_NFET[[#This Row],[VDSMAX]]<=30)","v":false},{"$f":"AND(Vi<=36,Vi>=20,Load_Switch_NFET[[#This Row],[VDSMAX]]=40)","v":false},{"$f":"AND(Vi<=54,Vi>=25,Load_Switch_NFET[[#This Row],[VDSMAX]]=60)","v":false},{"$f":"AND(Vi<=72,Vi>=36,Load_Switch_NFET[[#This Row],[VDSMAX]]=80)","v":false},{"$f":"AND(Vi<=90,Vi>=48,Load_Switch_NFET[[#This Row],[VDSMAX]]=100)","v":false},false,{"$f":"AND(((VGS_DR)<2.5),('NFET Data'!$AC117<>\"(Null)\"))","v":false},{"$f":"AND(((VGS_DR)>=2.5),((VGS_DR)<3),OR(('NFET Data'!$AD117<>\"(Null)\"),('NFET Data'!$AC117<>\"(Null)\")))","v":false},{"$f":"AND(((VGS_DR)>=3),((VGS_DR)<4.5),OR(('NFET Data'!$AE117<>\"(Null)\"),('NFET Data'!$AD117<>\"(Null)\"),('NFET Data'!$AC117<>\"(Null)\")))","v":false},{"$f":"AND(((VGS_DR)>=4.5),((VGS_DR)<6),OR(('NFET Data'!$AF117<>\"(Null)\"),('NFET Data'!$AE117<>\"(Null)\"),('NFET Data'!$AD117<>\"(Null)\"),('NFET Data'!$AC117<>\"(Null)\")))","v":false},{"$f":"AND(((VGS_DR)>=6),((VGS_DR)<8),OR(('NFET Data'!$AG117<>\"(Null)\"),('NFET Data'!$AF117<>\"(Null)\"),('NFET Data'!$AE117<>\"(Null)\"),('NFET Data'!$AD117<>\"(Null)\"),('NFET Data'!$AC117<>\"(Null)\")))","v":false},{"$f":"AND(((VGS_DR)>=8),((VGS_DR)<10),OR(('NFET Data'!$AH117<>\"(Null)\"),('NFET Data'!$AG117<>\"(Null)\"),('NFET Data'!$AF117<>\"(Null)\"),('NFET Data'!$AE117<>\"(Null)\"),('NFET Data'!$AD117<>\"(Null)\"),('NFET Data'!$AC117<>\"(Null)\")))","v":false},{"$f":"AND(((VGS_DR)>=10),OR(('NFET Data'!$AI117<>\"(Null)\"),('NFET Data'!$AH117<>\"(Null)\"),('NFET Data'!$AG117<>\"(Null)\"),('NFET Data'!$AF117<>\"(Null)\"),('NFET Data'!$AE117<>\"(Null)\"),('NFET Data'!$AD117<>\"(Null)\"),('NFET Data'!$AC117<>\"(Null)\")))","v":true},true,false]
[{"$f":"IF(R118,Load_Switch_NFET[[#This Row],[PARTNUMBER]],\"\")","v":""},null,{"$f":"AND((Load_Switch_NFET[[#This Row],[VDSMAX]]>=Vi*1.1),(Load_Switch_NFET[[#This Row],[VGSMAX]]>=(VGS_DR)*1.1),(Load_Switch_NFET[[#This Row],[IDSMAX]]>=Io),VGS_DR>=1.8)","v":true},{"$f":"AND(Vi<=27,Load_Switch_NFET[[#This Row],[VDSMAX]]<=30)","v":false},{"$f":"AND(Vi<=36,Vi>=20,Load_Switch_NFET[[#This Row],[VDSMAX]]=40)","v":false},{"$f":"AND(Vi<=54,Vi>=25,Load_Switch_NFET[[#This Row],[VDSMAX]]=60)","v":false},{"$f":"AND(Vi<=72,Vi>=36,Load_Switch_NFET[[#This Row],[VDSMAX]]=80)","v":false},{"$f":"AND(Vi<=90,Vi>=48,Load_Switch_NFET[[#This Row],[VDSMAX]]=100)","v":false},false,{"$f":"AND(((VGS_DR)<2.5),('NFET Data'!$AC118<>\"(Null)\"))","v":false},{"$f":"AND(((VGS_DR)>=2.5),((VGS_DR)<3),OR(('NFET Data'!$AD118<>\"(Null)\"),('NFET Data'!$AC118<>\"(Null)\")))","v":false},{"$f":"AND(((VGS_DR)>=3),((VGS_DR)<4.5),OR(('NFET Data'!$AE118<>\"(Null)\"),('NFET Data'!$AD118<>\"(Null)\"),('NFET Data'!$AC118<>\"(Null)\")))","v":false},{"$f":"AND(((VGS_DR)>=4.5),((VGS_DR)<6),OR(('NFET Data'!$AF118<>\"(Null)\"),('NFET Data'!$AE118<>\"(Null)\"),('NFET Data'!$AD118<>\"(Null)\"),('NFET Data'!$AC118<>\"(Null)\")))","v":false},{"$f":"AND(((VGS_DR)>=6),((VGS_DR)<8),OR(('NFET Data'!$AG118<>\"(Null)\"),('NFET Data'!$AF118<>\"(Null)\"),('NFET Data'!$AE118<>\"(Null)\"),('NFET Data'!$AD118<>\"(Null)\"),('NFET Data'!$AC118<>\"(Null)\")))","v":false},{"$f":"AND(((VGS_DR)>=8),((VGS_DR)<10),OR(('NFET Data'!$AH118<>\"(Null)\"),('NFET Data'!$AG118<>\"(Null)\"),('NFET Data'!$AF118<>\"(Null)\"),('NFET Data'!$AE118<>\"(Null)\"),('NFET Data'!$AD118<>\"(Null)\"),('NFET Data'!$AC118<>\"(Null)\")))","v":false},{"$f":"AND(((VGS_DR)>=10),OR(('NFET Data'!$AI118<>\"(Null)\"),('NFET Data'!$AH118<>\"(Null)\"),('NFET Data'!$AG118<>\"(Null)\"),('NFET Data'!$AF118<>\"(Null)\"),('NFET Data'!$AE118<>\"(Null)\"),('NFET Data'!$AD118<>\"(Null)\"),('NFET Data'!$AC118<>\"(Null)\")))","v":true},true,false]
[{"$f":"IF(R119,Load_Switch_NFET[[#This Row],[PARTNUMBER]],\"\")","v":""},null,{"$f":"AND((Load_Switch_NFET[[#This Row],[VDSMAX]]>=Vi*1.1),(Load_Switch_NFET[[#This Row],[VGSMAX]]>=(VGS_DR)*1.1),(Load_Switch_NFET[[#This Row],[IDSMAX]]>=Io),VGS_DR>=1.8)","v":true},{"$f":"AND(Vi<=27,Load_Switch_NFET[[#This Row],[VDSMAX]]<=30)","v":false},{"$f":"AND(Vi<=36,Vi>=20,Load_Switch_NFET[[#This Row],[VDSMAX]]=40)","v":false},{"$f":"AND(Vi<=54,Vi>=25,Load_Switch_NFET[[#This Row],[VDSMAX]]=60)","v":false},{"$f":"AND(Vi<=72,Vi>=36,Load_Switch_NFET[[#This Row],[VDSMAX]]=80)","v":false},{"$f":"AND(Vi<=90,Vi>=48,Load_Switch_NFET[[#This Row],[VDSMAX]]=100)","v":false},false,{"$f":"AND(((VGS_DR)<2.5),('NFET Data'!$AC119<>\"(Null)\"))","v":false},{"$f":"AND(((VGS_DR)>=2.5),((VGS_DR)<3),OR(('NFET Data'!$AD119<>\"(Null)\"),('NFET Data'!$AC119<>\"(Null)\")))","v":false},{"$f":"AND(((VGS_DR)>=3),((VGS_DR)<4.5),OR(('NFET Data'!$AE119<>\"(Null)\"),('NFET Data'!$AD119<>\"(Null)\"),('NFET Data'!$AC119<>\"(Null)\")))","v":false},{"$f":"AND(((VGS_DR)>=4.5),((VGS_DR)<6),OR(('NFET Data'!$AF119<>\"(Null)\"),('NFET Data'!$AE119<>\"(Null)\"),('NFET Data'!$AD119<>\"(Null)\"),('NFET Data'!$AC119<>\"(Null)\")))","v":false},{"$f":"AND(((VGS_DR)>=6),((VGS_DR)<8),OR(('NFET Data'!$AG119<>\"(Null)\"),('NFET Data'!$AF119<>\"(Null)\"),('NFET Data'!$AE119<>\"(Null)\"),('NFET Data'!$AD119<>\"(Null)\"),('NFET Data'!$AC119<>\"(Null)\")))","v":false},{"$f":"AND(((VGS_DR)>=8),((VGS_DR)<10),OR(('NFET Data'!$AH119<>\"(Null)\"),('NFET Data'!$AG119<>\"(Null)\"),('NFET Data'!$AF119<>\"(Null)\"),('NFET Data'!$AE119<>\"(Null)\"),('NFET Data'!$AD119<>\"(Null)\"),('NFET Data'!$AC119<>\"(Null)\")))","v":false},{"$f":"AND(((VGS_DR)>=10),OR(('NFET Data'!$AI119<>\"(Null)\"),('NFET Data'!$AH119<>\"(Null)\"),('NFET Data'!$AG119<>\"(Null)\"),('NFET Data'!$AF119<>\"(Null)\"),('NFET Data'!$AE119<>\"(Null)\"),('NFET Data'!$AD119<>\"(Null)\"),('NFET Data'!$AC119<>\"(Null)\")))","v":true},true,false]
[{"$f":"IF(R120,Load_Switch_NFET[[#This Row],[PARTNUMBER]],\"\")","v":""},null,{"$f":"AND((Load_Switch_NFET[[#This Row],[VDSMAX]]>=Vi*1.1),(Load_Switch_NFET[[#This Row],[VGSMAX]]>=(VGS_DR)*1.1),(Load_Switch_NFET[[#This Row],[IDSMAX]]>=Io),VGS_DR>=1.8)","v":false},{"$f":"AND(Vi<=27,Load_Switch_NFET[[#This Row],[VDSMAX]]<=30)","v":false},{"$f":"AND(Vi<=36,Vi>=20,Load_Switch_NFET[[#This Row],[VDSMAX]]=40)","v":false},{"$f":"AND(Vi<=54,Vi>=25,Load_Switch_NFET[[#This Row],[VDSMAX]]=60)","v":false},{"$f":"AND(Vi<=72,Vi>=36,Load_Switch_NFET[[#This Row],[VDSMAX]]=80)","v":false},{"$f":"AND(Vi<=90,Vi>=48,Load_Switch_NFET[[#This Row],[VDSMAX]]=100)","v":false},false,{"$f":"AND(((VGS_DR)<2.5),('NFET Data'!$AC120<>\"(Null)\"))","v":false},{"$f":"AND(((VGS_DR)>=2.5),((VGS_DR)<3),OR(('NFET Data'!$AD120<>\"(Null)\"),('NFET Data'!$AC120<>\"(Null)\")))","v":false},{"$f":"AND(((VGS_DR)>=3),((VGS_DR)<4.5),OR(('NFET Data'!$AE120<>\"(Null)\"),('NFET Data'!$AD120<>\"(Null)\"),('NFET Data'!$AC120<>\"(Null)\")))","v":false},{"$f":"AND(((VGS_DR)>=4.5),((VGS_DR)<6),OR(('NFET Data'!$AF120<>\"(Null)\"),('NFET Data'!$AE120<>\"(Null)\"),('NFET Data'!$AD120<>\"(Null)\"),('NFET Data'!$AC120<>\"(Null)\")))","v":false},{"$f":"AND(((VGS_DR)>=6),((VGS_DR)<8),OR(('NFET Data'!$AG120<>\"(Null)\"),('NFET Data'!$AF120<>\"(Null)\"),('NFET Data'!$AE120<>\"(Null)\"),('NFET Data'!$AD120<>\"(Null)\"),('NFET Data'!$AC120<>\"(Null)\")))","v":false},{"$f":"AND(((VGS_DR)>=8),((VGS_DR)<10),OR(('NFET Data'!$AH120<>\"(Null)\"),('NFET Data'!$AG120<>\"(Null)\"),('NFET Data'!$AF120<>\"(Null)\"),('NFET Data'!$AE120<>\"(Null)\"),('NFET Data'!$AD120<>\"(Null)\"),('NFET Data'!$AC120<>\"(Null)\")))","v":false},{"$f":"AND(((VGS_DR)>=10),OR(('NFET Data'!$AI120<>\"(Null)\"),('NFET Data'!$AH120<>\"(Null)\"),('NFET Data'!$AG120<>\"(Null)\"),('NFET Data'!$AF120<>\"(Null)\"),('NFET Data'!$AE120<>\"(Null)\"),('NFET Data'!$AD120<>\"(Null)\"),('NFET Data'!$AC120<>\"(Null)\")))","v":true},true,false]
[{"$f":"IF(R121,Load_Switch_NFET[[#This Row],[PARTNUMBER]],\"\")","v":""},null,{"$f":"AND((Load_Switch_NFET[[#This Row],[VDSMAX]]>=Vi*1.1),(Load_Switch_NFET[[#This Row],[VGSMAX]]>=(VGS_DR)*1.1),(Load_Switch_NFET[[#This Row],[IDSMAX]]>=Io),VGS_DR>=1.8)","v":true},{"$f":"AND(Vi<=27,Load_Switch_NFET[[#This Row],[VDSMAX]]<=30)","v":false},{"$f":"AND(Vi<=36,Vi>=20,Load_Switch_NFET[[#This Row],[VDSMAX]]=40)","v":false},{"$f":"AND(Vi<=54,Vi>=25,Load_Switch_NFET[[#This Row],[VDSMAX]]=60)","v":false},{"$f":"AND(Vi<=72,Vi>=36,Load_Switch_NFET[[#This Row],[VDSMAX]]=80)","v":false},{"$f":"AND(Vi<=90,Vi>=48,Load_Switch_NFET[[#This Row],[VDSMAX]]=100)","v":false},false,{"$f":"AND(((VGS_DR)<2.5),('NFET Data'!$AC121<>\"(Null)\"))","v":false},{"$f":"AND(((VGS_DR)>=2.5),((VGS_DR)<3),OR(('NFET Data'!$AD121<>\"(Null)\"),('NFET Data'!$AC121<>\"(Null)\")))","v":false},{"$f":"AND(((VGS_DR)>=3),((VGS_DR)<4.5),OR(('NFET Data'!$AE121<>\"(Null)\"),('NFET Data'!$AD121<>\"(Null)\"),('NFET Data'!$AC121<>\"(Null)\")))","v":false},{"$f":"AND(((VGS_DR)>=4.5),((VGS_DR)<6),OR(('NFET Data'!$AF121<>\"(Null)\"),('NFET Data'!$AE121<>\"(Null)\"),('NFET Data'!$AD121<>\"(Null)\"),('NFET Data'!$AC121<>\"(Null)\")))","v":false},{"$f":"AND(((VGS_DR)>=6),((VGS_DR)<8),OR(('NFET Data'!$AG121<>\"(Null)\"),('NFET Data'!$AF121<>\"(Null)\"),('NFET Data'!$AE121<>\"(Null)\"),('NFET Data'!$AD121<>\"(Null)\"),('NFET Data'!$AC121<>\"(Null)\")))","v":false},{"$f":"AND(((VGS_DR)>=8),((VGS_DR)<10),OR(('NFET Data'!$AH121<>\"(Null)\"),('NFET Data'!$AG121<>\"(Null)\"),('NFET Data'!$AF121<>\"(Null)\"),('NFET Data'!$AE121<>\"(Null)\"),('NFET Data'!$AD121<>\"(Null)\"),('NFET Data'!$AC121<>\"(Null)\")))","v":false},{"$f":"AND(((VGS_DR)>=10),OR(('NFET Data'!$AI121<>\"(Null)\"),('NFET Data'!$AH121<>\"(Null)\"),('NFET Data'!$AG121<>\"(Null)\"),('NFET Data'!$AF121<>\"(Null)\"),('NFET Data'!$AE121<>\"(Null)\"),('NFET Data'!$AD121<>\"(Null)\"),('NFET Data'!$AC121<>\"(Null)\")))","v":true},true,false]
[{"$f":"IF(R122,Load_Switch_NFET[[#This Row],[PARTNUMBER]],\"\")","v":""},null,{"$f":"AND((Load_Switch_NFET[[#This Row],[VDSMAX]]>=Vi*1.1),(Load_Switch_NFET[[#This Row],[VGSMAX]]>=(VGS_DR)*1.1),(Load_Switch_NFET[[#This Row],[IDSMAX]]>=Io),VGS_DR>=1.8)","v":true},{"$f":"AND(Vi<=27,Load_Switch_NFET[[#This Row],[VDSMAX]]<=30)","v":false},{"$f":"AND(Vi<=36,Vi>=20,Load_Switch_NFET[[#This Row],[VDSMAX]]=40)","v":false},{"$f":"AND(Vi<=54,Vi>=25,Load_Switch_NFET[[#This Row],[VDSMAX]]=60)","v":false},{"$f":"AND(Vi<=72,Vi>=36,Load_Switch_NFET[[#This Row],[VDSMAX]]=80)","v":false},{"$f":"AND(Vi<=90,Vi>=48,Load_Switch_NFET[[#This Row],[VDSMAX]]=100)","v":false},false,{"$f":"AND(((VGS_DR)<2.5),('NFET Data'!$AC122<>\"(Null)\"))","v":false},{"$f":"AND(((VGS_DR)>=2.5),((VGS_DR)<3),OR(('NFET Data'!$AD122<>\"(Null)\"),('NFET Data'!$AC122<>\"(Null)\")))","v":false},{"$f":"AND(((VGS_DR)>=3),((VGS_DR)<4.5),OR(('NFET Data'!$AE122<>\"(Null)\"),('NFET Data'!$AD122<>\"(Null)\"),('NFET Data'!$AC122<>\"(Null)\")))","v":false},{"$f":"AND(((VGS_DR)>=4.5),((VGS_DR)<6),OR(('NFET Data'!$AF122<>\"(Null)\"),('NFET Data'!$AE122<>\"(Null)\"),('NFET Data'!$AD122<>\"(Null)\"),('NFET Data'!$AC122<>\"(Null)\")))","v":false},{"$f":"AND(((VGS_DR)>=6),((VGS_DR)<8),OR(('NFET Data'!$AG122<>\"(Null)\"),('NFET Data'!$AF122<>\"(Null)\"),('NFET Data'!$AE122<>\"(Null)\"),('NFET Data'!$AD122<>\"(Null)\"),('NFET Data'!$AC122<>\"(Null)\")))","v":false},{"$f":"AND(((VGS_DR)>=8),((VGS_DR)<10),OR(('NFET Data'!$AH122<>\"(Null)\"),('NFET Data'!$AG122<>\"(Null)\"),('NFET Data'!$AF122<>\"(Null)\"),('NFET Data'!$AE122<>\"(Null)\"),('NFET Data'!$AD122<>\"(Null)\"),('NFET Data'!$AC122<>\"(Null)\")))","v":false},{"$f":"AND(((VGS_DR)>=10),OR(('NFET Data'!$AI122<>\"(Null)\"),('NFET Data'!$AH122<>\"(Null)\"),('NFET Data'!$AG122<>\"(Null)\"),('NFET Data'!$AF122<>\"(Null)\"),('NFET Data'!$AE122<>\"(Null)\"),('NFET Data'!$AD122<>\"(Null)\"),('NFET Data'!$AC122<>\"(Null)\")))","v":true},true,false]
[{"$f":"IF(R123,Load_Switch_NFET[[#This Row],[PARTNUMBER]],\"\")","v":""},null,{"$f":"AND((Load_Switch_NFET[[#This Row],[VDSMAX]]>=Vi*1.1),(Load_Switch_NFET[[#This Row],[VGSMAX]]>=(VGS_DR)*1.1),(Load_Switch_NFET[[#This Row],[IDSMAX]]>=Io),VGS_DR>=1.8)","v":true},{"$f":"AND(Vi<=27,Load_Switch_NFET[[#This Row],[VDSMAX]]<=30)","v":false},{"$f":"AND(Vi<=36,Vi>=20,Load_Switch_NFET[[#This Row],[VDSMAX]]=40)","v":false},{"$f":"AND(Vi<=54,Vi>=25,Load_Switch_NFET[[#This Row],[VDSMAX]]=60)","v":false},{"$f":"AND(Vi<=72,Vi>=36,Load_Switch_NFET[[#This Row],[VDSMAX]]=80)","v":false},{"$f":"AND(Vi<=90,Vi>=48,Load_Switch_NFET[[#This Row],[VDSMAX]]=100)","v":false},false,{"$f":"AND(((VGS_DR)<2.5),('NFET Data'!$AC123<>\"(Null)\"))","v":false},{"$f":"AND(((VGS_DR)>=2.5),((VGS_DR)<3),OR(('NFET Data'!$AD123<>\"(Null)\"),('NFET Data'!$AC123<>\"(Null)\")))","v":false},{"$f":"AND(((VGS_DR)>=3),((VGS_DR)<4.5),OR(('NFET Data'!$AE123<>\"(Null)\"),('NFET Data'!$AD123<>\"(Null)\"),('NFET Data'!$AC123<>\"(Null)\")))","v":false},{"$f":"AND(((VGS_DR)>=4.5),((VGS_DR)<6),OR(('NFET Data'!$AF123<>\"(Null)\"),('NFET Data'!$AE123<>\"(Null)\"),('NFET Data'!$AD123<>\"(Null)\"),('NFET Data'!$AC123<>\"(Null)\")))","v":false},{"$f":"AND(((VGS_DR)>=6),((VGS_DR)<8),OR(('NFET Data'!$AG123<>\"(Null)\"),('NFET Data'!$AF123<>\"(Null)\"),('NFET Data'!$AE123<>\"(Null)\"),('NFET Data'!$AD123<>\"(Null)\"),('NFET Data'!$AC123<>\"(Null)\")))","v":false},{"$f":"AND(((VGS_DR)>=8),((VGS_DR)<10),OR(('NFET Data'!$AH123<>\"(Null)\"),('NFET Data'!$AG123<>\"(Null)\"),('NFET Data'!$AF123<>\"(Null)\"),('NFET Data'!$AE123<>\"(Null)\"),('NFET Data'!$AD123<>\"(Null)\"),('NFET Data'!$AC123<>\"(Null)\")))","v":false},{"$f":"AND(((VGS_DR)>=10),OR(('NFET Data'!$AI123<>\"(Null)\"),('NFET Data'!$AH123<>\"(Null)\"),('NFET Data'!$AG123<>\"(Null)\"),('NFET Data'!$AF123<>\"(Null)\"),('NFET Data'!$AE123<>\"(Null)\"),('NFET Data'!$AD123<>\"(Null)\"),('NFET Data'!$AC123<>\"(Null)\")))","v":true},true,false]
[{"$f":"IF(R124,Load_Switch_NFET[[#This Row],[PARTNUMBER]],\"\")","v":""},null,{"$f":"AND((Load_Switch_NFET[[#This Row],[VDSMAX]]>=Vi*1.1),(Load_Switch_NFET[[#This Row],[VGSMAX]]>=(VGS_DR)*1.1),(Load_Switch_NFET[[#This Row],[IDSMAX]]>=Io),VGS_DR>=1.8)","v":true},{"$f":"AND(Vi<=27,Load_Switch_NFET[[#This Row],[VDSMAX]]<=30)","v":false},{"$f":"AND(Vi<=36,Vi>=20,Load_Switch_NFET[[#This Row],[VDSMAX]]=40)","v":false},{"$f":"AND(Vi<=54,Vi>=25,Load_Switch_NFET[[#This Row],[VDSMAX]]=60)","v":false},{"$f":"AND(Vi<=72,Vi>=36,Load_Switch_NFET[[#This Row],[VDSMAX]]=80)","v":false},{"$f":"AND(Vi<=90,Vi>=48,Load_Switch_NFET[[#This Row],[VDSMAX]]=100)","v":false},false,{"$f":"AND(((VGS_DR)<2.5),('NFET Data'!$AC124<>\"(Null)\"))","v":false},{"$f":"AND(((VGS_DR)>=2.5),((VGS_DR)<3),OR(('NFET Data'!$AD124<>\"(Null)\"),('NFET Data'!$AC124<>\"(Null)\")))","v":false},{"$f":"AND(((VGS_DR)>=3),((VGS_DR)<4.5),OR(('NFET Data'!$AE124<>\"(Null)\"),('NFET Data'!$AD124<>\"(Null)\"),('NFET Data'!$AC124<>\"(Null)\")))","v":false},{"$f":"AND(((VGS_DR)>=4.5),((VGS_DR)<6),OR(('NFET Data'!$AF124<>\"(Null)\"),('NFET Data'!$AE124<>\"(Null)\"),('NFET Data'!$AD124<>\"(Null)\"),('NFET Data'!$AC124<>\"(Null)\")))","v":false},{"$f":"AND(((VGS_DR)>=6),((VGS_DR)<8),OR(('NFET Data'!$AG124<>\"(Null)\"),('NFET Data'!$AF124<>\"(Null)\"),('NFET Data'!$AE124<>\"(Null)\"),('NFET Data'!$AD124<>\"(Null)\"),('NFET Data'!$AC124<>\"(Null)\")))","v":false},{"$f":"AND(((VGS_DR)>=8),((VGS_DR)<10),OR(('NFET Data'!$AH124<>\"(Null)\"),('NFET Data'!$AG124<>\"(Null)\"),('NFET Data'!$AF124<>\"(Null)\"),('NFET Data'!$AE124<>\"(Null)\"),('NFET Data'!$AD124<>\"(Null)\"),('NFET Data'!$AC124<>\"(Null)\")))","v":false},{"$f":"AND(((VGS_DR)>=10),OR(('NFET Data'!$AI124<>\"(Null)\"),('NFET Data'!$AH124<>\"(Null)\"),('NFET Data'!$AG124<>\"(Null)\"),('NFET Data'!$AF124<>\"(Null)\"),('NFET Data'!$AE124<>\"(Null)\"),('NFET Data'!$AD124<>\"(Null)\"),('NFET Data'!$AC124<>\"(Null)\")))","v":true},true,false]
[{"$f":"IF(R125,Load_Switch_NFET[[#This Row],[PARTNUMBER]],\"\")","v":""},null,{"$f":"AND((Load_Switch_NFET[[#This Row],[VDSMAX]]>=Vi*1.1),(Load_Switch_NFET[[#This Row],[VGSMAX]]>=(VGS_DR)*1.1),(Load_Switch_NFET[[#This Row],[IDSMAX]]>=Io),VGS_DR>=1.8)","v":true},{"$f":"AND(Vi<=27,Load_Switch_NFET[[#This Row],[VDSMAX]]<=30)","v":false},{"$f":"AND(Vi<=36,Vi>=20,Load_Switch_NFET[[#This Row],[VDSMAX]]=40)","v":false},{"$f":"AND(Vi<=54,Vi>=25,Load_Switch_NFET[[#This Row],[VDSMAX]]=60)","v":false},{"$f":"AND(Vi<=72,Vi>=36,Load_Switch_NFET[[#This Row],[VDSMAX]]=80)","v":false},{"$f":"AND(Vi<=90,Vi>=48,Load_Switch_NFET[[#This Row],[VDSMAX]]=100)","v":false},false,{"$f":"AND(((VGS_DR)<2.5),('NFET Data'!$AC125<>\"(Null)\"))","v":false},{"$f":"AND(((VGS_DR)>=2.5),((VGS_DR)<3),OR(('NFET Data'!$AD125<>\"(Null)\"),('NFET Data'!$AC125<>\"(Null)\")))","v":false},{"$f":"AND(((VGS_DR)>=3),((VGS_DR)<4.5),OR(('NFET Data'!$AE125<>\"(Null)\"),('NFET Data'!$AD125<>\"(Null)\"),('NFET Data'!$AC125<>\"(Null)\")))","v":false},{"$f":"AND(((VGS_DR)>=4.5),((VGS_DR)<6),OR(('NFET Data'!$AF125<>\"(Null)\"),('NFET Data'!$AE125<>\"(Null)\"),('NFET Data'!$AD125<>\"(Null)\"),('NFET Data'!$AC125<>\"(Null)\")))","v":false},{"$f":"AND(((VGS_DR)>=6),((VGS_DR)<8),OR(('NFET Data'!$AG125<>\"(Null)\"),('NFET Data'!$AF125<>\"(Null)\"),('NFET Data'!$AE125<>\"(Null)\"),('NFET Data'!$AD125<>\"(Null)\"),('NFET Data'!$AC125<>\"(Null)\")))","v":false},{"$f":"AND(((VGS_DR)>=8),((VGS_DR)<10),OR(('NFET Data'!$AH125<>\"(Null)\"),('NFET Data'!$AG125<>\"(Null)\"),('NFET Data'!$AF125<>\"(Null)\"),('NFET Data'!$AE125<>\"(Null)\"),('NFET Data'!$AD125<>\"(Null)\"),('NFET Data'!$AC125<>\"(Null)\")))","v":false},{"$f":"AND(((VGS_DR)>=10),OR(('NFET Data'!$AI125<>\"(Null)\"),('NFET Data'!$AH125<>\"(Null)\"),('NFET Data'!$AG125<>\"(Null)\"),('NFET Data'!$AF125<>\"(Null)\"),('NFET Data'!$AE125<>\"(Null)\"),('NFET Data'!$AD125<>\"(Null)\"),('NFET Data'!$AC125<>\"(Null)\")))","v":true},true,false]
[{"$f":"IF(R126,Load_Switch_NFET[[#This Row],[PARTNUMBER]],\"\")","v":""},null,{"$f":"AND((Load_Switch_NFET[[#This Row],[VDSMAX]]>=Vi*1.1),(Load_Switch_NFET[[#This Row],[VGSMAX]]>=(VGS_DR)*1.1),(Load_Switch_NFET[[#This Row],[IDSMAX]]>=Io),VGS_DR>=1.8)","v":true},{"$f":"AND(Vi<=27,Load_Switch_NFET[[#This Row],[VDSMAX]]<=30)","v":false},{"$f":"AND(Vi<=36,Vi>=20,Load_Switch_NFET[[#This Row],[VDSMAX]]=40)","v":false},{"$f":"AND(Vi<=54,Vi>=25,Load_Switch_NFET[[#This Row],[VDSMAX]]=60)","v":false},{"$f":"AND(Vi<=72,Vi>=36,Load_Switch_NFET[[#This Row],[VDSMAX]]=80)","v":false},{"$f":"AND(Vi<=90,Vi>=48,Load_Switch_NFET[[#This Row],[VDSMAX]]=100)","v":false},false,{"$f":"AND(((VGS_DR)<2.5),('NFET Data'!$AC126<>\"(Null)\"))","v":false},{"$f":"AND(((VGS_DR)>=2.5),((VGS_DR)<3),OR(('NFET Data'!$AD126<>\"(Null)\"),('NFET Data'!$AC126<>\"(Null)\")))","v":false},{"$f":"AND(((VGS_DR)>=3),((VGS_DR)<4.5),OR(('NFET Data'!$AE126<>\"(Null)\"),('NFET Data'!$AD126<>\"(Null)\"),('NFET Data'!$AC126<>\"(Null)\")))","v":false},{"$f":"AND(((VGS_DR)>=4.5),((VGS_DR)<6),OR(('NFET Data'!$AF126<>\"(Null)\"),('NFET Data'!$AE126<>\"(Null)\"),('NFET Data'!$AD126<>\"(Null)\"),('NFET Data'!$AC126<>\"(Null)\")))","v":false},{"$f":"AND(((VGS_DR)>=6),((VGS_DR)<8),OR(('NFET Data'!$AG126<>\"(Null)\"),('NFET Data'!$AF126<>\"(Null)\"),('NFET Data'!$AE126<>\"(Null)\"),('NFET Data'!$AD126<>\"(Null)\"),('NFET Data'!$AC126<>\"(Null)\")))","v":false},{"$f":"AND(((VGS_DR)>=8),((VGS_DR)<10),OR(('NFET Data'!$AH126<>\"(Null)\"),('NFET Data'!$AG126<>\"(Null)\"),('NFET Data'!$AF126<>\"(Null)\"),('NFET Data'!$AE126<>\"(Null)\"),('NFET Data'!$AD126<>\"(Null)\"),('NFET Data'!$AC126<>\"(Null)\")))","v":false},{"$f":"AND(((VGS_DR)>=10),OR(('NFET Data'!$AI126<>\"(Null)\"),('NFET Data'!$AH126<>\"(Null)\"),('NFET Data'!$AG126<>\"(Null)\"),('NFET Data'!$AF126<>\"(Null)\"),('NFET Data'!$AE126<>\"(Null)\"),('NFET Data'!$AD126<>\"(Null)\"),('NFET Data'!$AC126<>\"(Null)\")))","v":true},true,false]
[{"$f":"IF(R127,Load_Switch_NFET[[#This Row],[PARTNUMBER]],\"\")","v":""},null,{"$f":"AND((Load_Switch_NFET[[#This Row],[VDSMAX]]>=Vi*1.1),(Load_Switch_NFET[[#This Row],[VGSMAX]]>=(VGS_DR)*1.1),(Load_Switch_NFET[[#This Row],[IDSMAX]]>=Io),VGS_DR>=1.8)","v":true},{"$f":"AND(Vi<=27,Load_Switch_NFET[[#This Row],[VDSMAX]]<=30)","v":false},{"$f":"AND(Vi<=36,Vi>=20,Load_Switch_NFET[[#This Row],[VDSMAX]]=40)","v":false},{"$f":"AND(Vi<=54,Vi>=25,Load_Switch_NFET[[#This Row],[VDSMAX]]=60)","v":false},{"$f":"AND(Vi<=72,Vi>=36,Load_Switch_NFET[[#This Row],[VDSMAX]]=80)","v":false},{"$f":"AND(Vi<=90,Vi>=48,Load_Switch_NFET[[#This Row],[VDSMAX]]=100)","v":false},false,{"$f":"AND(((VGS_DR)<2.5),('NFET Data'!$AC127<>\"(Null)\"))","v":false},{"$f":"AND(((VGS_DR)>=2.5),((VGS_DR)<3),OR(('NFET Data'!$AD127<>\"(Null)\"),('NFET Data'!$AC127<>\"(Null)\")))","v":false},{"$f":"AND(((VGS_DR)>=3),((VGS_DR)<4.5),OR(('NFET Data'!$AE127<>\"(Null)\"),('NFET Data'!$AD127<>\"(Null)\"),('NFET Data'!$AC127<>\"(Null)\")))","v":false},{"$f":"AND(((VGS_DR)>=4.5),((VGS_DR)<6),OR(('NFET Data'!$AF127<>\"(Null)\"),('NFET Data'!$AE127<>\"(Null)\"),('NFET Data'!$AD127<>\"(Null)\"),('NFET Data'!$AC127<>\"(Null)\")))","v":false},{"$f":"AND(((VGS_DR)>=6),((VGS_DR)<8),OR(('NFET Data'!$AG127<>\"(Null)\"),('NFET Data'!$AF127<>\"(Null)\"),('NFET Data'!$AE127<>\"(Null)\"),('NFET Data'!$AD127<>\"(Null)\"),('NFET Data'!$AC127<>\"(Null)\")))","v":false},{"$f":"AND(((VGS_DR)>=8),((VGS_DR)<10),OR(('NFET Data'!$AH127<>\"(Null)\"),('NFET Data'!$AG127<>\"(Null)\"),('NFET Data'!$AF127<>\"(Null)\"),('NFET Data'!$AE127<>\"(Null)\"),('NFET Data'!$AD127<>\"(Null)\"),('NFET Data'!$AC127<>\"(Null)\")))","v":false},{"$f":"AND(((VGS_DR)>=10),OR(('NFET Data'!$AI127<>\"(Null)\"),('NFET Data'!$AH127<>\"(Null)\"),('NFET Data'!$AG127<>\"(Null)\"),('NFET Data'!$AF127<>\"(Null)\"),('NFET Data'!$AE127<>\"(Null)\"),('NFET Data'!$AD127<>\"(Null)\"),('NFET Data'!$AC127<>\"(Null)\")))","v":true},true,false]
[{"$f":"IF(R128,Load_Switch_NFET[[#This Row],[PARTNUMBER]],\"\")","v":""},null,{"$f":"AND((Load_Switch_NFET[[#This Row],[VDSMAX]]>=Vi*1.1),(Load_Switch_NFET[[#This Row],[VGSMAX]]>=(VGS_DR)*1.1),(Load_Switch_NFET[[#This Row],[IDSMAX]]>=Io),VGS_DR>=1.8)","v":true},{"$f":"AND(Vi<=27,Load_Switch_NFET[[#This Row],[VDSMAX]]<=30)","v":false},{"$f":"AND(Vi<=36,Vi>=20,Load_Switch_NFET[[#This Row],[VDSMAX]]=40)","v":false},{"$f":"AND(Vi<=54,Vi>=25,Load_Switch_NFET[[#This Row],[VDSMAX]]=60)","v":false},{"$f":"AND(Vi<=72,Vi>=36,Load_Switch_NFET[[#This Row],[VDSMAX]]=80)","v":false},{"$f":"AND(Vi<=90,Vi>=48,Load_Switch_NFET[[#This Row],[VDSMAX]]=100)","v":false},false,{"$f":"AND(((VGS_DR)<2.5),('NFET Data'!$AC128<>\"(Null)\"))","v":false},{"$f":"AND(((VGS_DR)>=2.5),((VGS_DR)<3),OR(('NFET Data'!$AD128<>\"(Null)\"),('NFET Data'!$AC128<>\"(Null)\")))","v":false},{"$f":"AND(((VGS_DR)>=3),((VGS_DR)<4.5),OR(('NFET Data'!$AE128<>\"(Null)\"),('NFET Data'!$AD128<>\"(Null)\"),('NFET Data'!$AC128<>\"(Null)\")))","v":false},{"$f":"AND(((VGS_DR)>=4.5),((VGS_DR)<6),OR(('NFET Data'!$AF128<>\"(Null)\"),('NFET Data'!$AE128<>\"(Null)\"),('NFET Data'!$AD128<>\"(Null)\"),('NFET Data'!$AC128<>\"(Null)\")))","v":false},{"$f":"AND(((VGS_DR)>=6),((VGS_DR)<8),OR(('NFET Data'!$AG128<>\"(Null)\"),('NFET Data'!$AF128<>\"(Null)\"),('NFET Data'!$AE128<>\"(Null)\"),('NFET Data'!$AD128<>\"(Null)\"),('NFET Data'!$AC128<>\"(Null)\")))","v":false},{"$f":"AND(((VGS_DR)>=8),((VGS_DR)<10),OR(('NFET Data'!$AH128<>\"(Null)\"),('NFET Data'!$AG128<>\"(Null)\"),('NFET Data'!$AF128<>\"(Null)\"),('NFET Data'!$AE128<>\"(Null)\"),('NFET Data'!$AD128<>\"(Null)\"),('NFET Data'!$AC128<>\"(Null)\")))","v":false},{"$f":"AND(((VGS_DR)>=10),OR(('NFET Data'!$AI128<>\"(Null)\"),('NFET Data'!$AH128<>\"(Null)\"),('NFET Data'!$AG128<>\"(Null)\"),('NFET Data'!$AF128<>\"(Null)\"),('NFET Data'!$AE128<>\"(Null)\"),('NFET Data'!$AD128<>\"(Null)\"),('NFET Data'!$AC128<>\"(Null)\")))","v":true},true,false]
[{"$f":"IF(R129,Load_Switch_NFET[[#This Row],[PARTNUMBER]],\"\")","v":""},null,{"$f":"AND((Load_Switch_NFET[[#This Row],[VDSMAX]]>=Vi*1.1),(Load_Switch_NFET[[#This Row],[VGSMAX]]>=(VGS_DR)*1.1),(Load_Switch_NFET[[#This Row],[IDSMAX]]>=Io),VGS_DR>=1.8)","v":true},{"$f":"AND(Vi<=27,Load_Switch_NFET[[#This Row],[VDSMAX]]<=30)","v":false},{"$f":"AND(Vi<=36,Vi>=20,Load_Switch_NFET[[#This Row],[VDSMAX]]=40)","v":false},{"$f":"AND(Vi<=54,Vi>=25,Load_Switch_NFET[[#This Row],[VDSMAX]]=60)","v":false},{"$f":"AND(Vi<=72,Vi>=36,Load_Switch_NFET[[#This Row],[VDSMAX]]=80)","v":false},{"$f":"AND(Vi<=90,Vi>=48,Load_Switch_NFET[[#This Row],[VDSMAX]]=100)","v":false},false,{"$f":"AND(((VGS_DR)<2.5),('NFET Data'!$AC129<>\"(Null)\"))","v":false},{"$f":"AND(((VGS_DR)>=2.5),((VGS_DR)<3),OR(('NFET Data'!$AD129<>\"(Null)\"),('NFET Data'!$AC129<>\"(Null)\")))","v":false},{"$f":"AND(((VGS_DR)>=3),((VGS_DR)<4.5),OR(('NFET Data'!$AE129<>\"(Null)\"),('NFET Data'!$AD129<>\"(Null)\"),('NFET Data'!$AC129<>\"(Null)\")))","v":false},{"$f":"AND(((VGS_DR)>=4.5),((VGS_DR)<6),OR(('NFET Data'!$AF129<>\"(Null)\"),('NFET Data'!$AE129<>\"(Null)\"),('NFET Data'!$AD129<>\"(Null)\"),('NFET Data'!$AC129<>\"(Null)\")))","v":false},{"$f":"AND(((VGS_DR)>=6),((VGS_DR)<8),OR(('NFET Data'!$AG129<>\"(Null)\"),('NFET Data'!$AF129<>\"(Null)\"),('NFET Data'!$AE129<>\"(Null)\"),('NFET Data'!$AD129<>\"(Null)\"),('NFET Data'!$AC129<>\"(Null)\")))","v":false},{"$f":"AND(((VGS_DR)>=8),((VGS_DR)<10),OR(('NFET Data'!$AH129<>\"(Null)\"),('NFET Data'!$AG129<>\"(Null)\"),('NFET Data'!$AF129<>\"(Null)\"),('NFET Data'!$AE129<>\"(Null)\"),('NFET Data'!$AD129<>\"(Null)\"),('NFET Data'!$AC129<>\"(Null)\")))","v":false},{"$f":"AND(((VGS_DR)>=10),OR(('NFET Data'!$AI129<>\"(Null)\"),('NFET Data'!$AH129<>\"(Null)\"),('NFET Data'!$AG129<>\"(Null)\"),('NFET Data'!$AF129<>\"(Null)\"),('NFET Data'!$AE129<>\"(Null)\"),('NFET Data'!$AD129<>\"(Null)\"),('NFET Data'!$AC129<>\"(Null)\")))","v":true},true,false]
[{"$f":"IF(R130,Load_Switch_NFET[[#This Row],[PARTNUMBER]],\"\")","v":""},null,{"$f":"AND((Load_Switch_NFET[[#This Row],[VDSMAX]]>=Vi*1.1),(Load_Switch_NFET[[#This Row],[VGSMAX]]>=(VGS_DR)*1.1),(Load_Switch_NFET[[#This Row],[IDSMAX]]>=Io),VGS_DR>=1.8)","v":true},{"$f":"AND(Vi<=27,Load_Switch_NFET[[#This Row],[VDSMAX]]<=30)","v":false},{"$f":"AND(Vi<=36,Vi>=20,Load_Switch_NFET[[#This Row],[VDSMAX]]=40)","v":false},{"$f":"AND(Vi<=54,Vi>=25,Load_Switch_NFET[[#This Row],[VDSMAX]]=60)","v":false},{"$f":"AND(Vi<=72,Vi>=36,Load_Switch_NFET[[#This Row],[VDSMAX]]=80)","v":false},{"$f":"AND(Vi<=90,Vi>=48,Load_Switch_NFET[[#This Row],[VDSMAX]]=100)","v":false},false,{"$f":"AND(((VGS_DR)<2.5),('NFET Data'!$AC130<>\"(Null)\"))","v":false},{"$f":"AND(((VGS_DR)>=2.5),((VGS_DR)<3),OR(('NFET Data'!$AD130<>\"(Null)\"),('NFET Data'!$AC130<>\"(Null)\")))","v":false},{"$f":"AND(((VGS_DR)>=3),((VGS_DR)<4.5),OR(('NFET Data'!$AE130<>\"(Null)\"),('NFET Data'!$AD130<>\"(Null)\"),('NFET Data'!$AC130<>\"(Null)\")))","v":false},{"$f":"AND(((VGS_DR)>=4.5),((VGS_DR)<6),OR(('NFET Data'!$AF130<>\"(Null)\"),('NFET Data'!$AE130<>\"(Null)\"),('NFET Data'!$AD130<>\"(Null)\"),('NFET Data'!$AC130<>\"(Null)\")))","v":false},{"$f":"AND(((VGS_DR)>=6),((VGS_DR)<8),OR(('NFET Data'!$AG130<>\"(Null)\"),('NFET Data'!$AF130<>\"(Null)\"),('NFET Data'!$AE130<>\"(Null)\"),('NFET Data'!$AD130<>\"(Null)\"),('NFET Data'!$AC130<>\"(Null)\")))","v":false},{"$f":"AND(((VGS_DR)>=8),((VGS_DR)<10),OR(('NFET Data'!$AH130<>\"(Null)\"),('NFET Data'!$AG130<>\"(Null)\"),('NFET Data'!$AF130<>\"(Null)\"),('NFET Data'!$AE130<>\"(Null)\"),('NFET Data'!$AD130<>\"(Null)\"),('NFET Data'!$AC130<>\"(Null)\")))","v":false},{"$f":"AND(((VGS_DR)>=10),OR(('NFET Data'!$AI130<>\"(Null)\"),('NFET Data'!$AH130<>\"(Null)\"),('NFET Data'!$AG130<>\"(Null)\"),('NFET Data'!$AF130<>\"(Null)\"),('NFET Data'!$AE130<>\"(Null)\"),('NFET Data'!$AD130<>\"(Null)\"),('NFET Data'!$AC130<>\"(Null)\")))","v":true},true,false]
[{"$f":"IF(R131,Load_Switch_NFET[[#This Row],[PARTNUMBER]],\"\")","v":""},null,{"$f":"AND((Load_Switch_NFET[[#This Row],[VDSMAX]]>=Vi*1.1),(Load_Switch_NFET[[#This Row],[VGSMAX]]>=(VGS_DR)*1.1),(Load_Switch_NFET[[#This Row],[IDSMAX]]>=Io),VGS_DR>=1.8)","v":true},{"$f":"AND(Vi<=27,Load_Switch_NFET[[#This Row],[VDSMAX]]<=30)","v":false},{"$f":"AND(Vi<=36,Vi>=20,Load_Switch_NFET[[#This Row],[VDSMAX]]=40)","v":false},{"$f":"AND(Vi<=54,Vi>=25,Load_Switch_NFET[[#This Row],[VDSMAX]]=60)","v":false},{"$f":"AND(Vi<=72,Vi>=36,Load_Switch_NFET[[#This Row],[VDSMAX]]=80)","v":false},{"$f":"AND(Vi<=90,Vi>=48,Load_Switch_NFET[[#This Row],[VDSMAX]]=100)","v":false},{"$f":"OR(D131:H131)","v":false},{"$f":"AND(((VGS_DR)<2.5),('NFET Data'!$AC131<>\"(Null)\"))","v":false},{"$f":"AND(((VGS_DR)>=2.5),((VGS_DR)<3),OR(('NFET Data'!$AD131<>\"(Null)\"),('NFET Data'!$AC131<>\"(Null)\")))","v":false},{"$f":"AND(((VGS_DR)>=3),((VGS_DR)<4.5),OR(('NFET Data'!$AE131<>\"(Null)\"),('NFET Data'!$AD131<>\"(Null)\"),('NFET Data'!$AC131<>\"(Null)\")))","v":false},{"$f":"AND(((VGS_DR)>=4.5),((VGS_DR)<6),OR(('NFET Data'!$AF131<>\"(Null)\"),('NFET Data'!$AE131<>\"(Null)\"),('NFET Data'!$AD131<>\"(Null)\"),('NFET Data'!$AC131<>\"(Null)\")))","v":false},{"$f":"AND(((VGS_DR)>=6),((VGS_DR)<8),OR(('NFET Data'!$AG131<>\"(Null)\"),('NFET Data'!$AF131<>\"(Null)\"),('NFET Data'!$AE131<>\"(Null)\"),('NFET Data'!$AD131<>\"(Null)\"),('NFET Data'!$AC131<>\"(Null)\")))","v":false},{"$f":"AND(((VGS_DR)>=8),((VGS_DR)<10),OR(('NFET Data'!$AH131<>\"(Null)\"),('NFET Data'!$AG131<>\"(Null)\"),('NFET Data'!$AF131<>\"(Null)\"),('NFET Data'!$AE131<>\"(Null)\"),('NFET Data'!$AD131<>\"(Null)\"),('NFET Data'!$AC131<>\"(Null)\")))","v":false},{"$f":"AND(((VGS_DR)>=10),OR(('NFET Data'!$AI131<>\"(Null)\"),('NFET Data'!$AH131<>\"(Null)\"),('NFET Data'!$AG131<>\"(Null)\"),('NFET Data'!$AF131<>\"(Null)\"),('NFET Data'!$AE131<>\"(Null)\"),('NFET Data'!$AD131<>\"(Null)\"),('NFET Data'!$AC131<>\"(Null)\")))","v":true},{"$f":"OR(J131:P131)","v":true},{"$f":"AND(C131,I131,Q131)","v":false}]
[{"$f":"IF(R132,Load_Switch_NFET[[#This Row],[PARTNUMBER]],\"\")","v":""},null,{"$f":"AND((Load_Switch_NFET[[#This Row],[VDSMAX]]>=Vi*1.1),(Load_Switch_NFET[[#This Row],[VGSMAX]]>=(VGS_DR)*1.1),(Load_Switch_NFET[[#This Row],[IDSMAX]]>=Io),VGS_DR>=1.8)","v":true},{"$f":"AND(Vi<=27,Load_Switch_NFET[[#This Row],[VDSMAX]]<=30)","v":false},{"$f":"AND(Vi<=36,Vi>=20,Load_Switch_NFET[[#This Row],[VDSMAX]]=40)","v":false},{"$f":"AND(Vi<=54,Vi>=25,Load_Switch_NFET[[#This Row],[VDSMAX]]=60)","v":false},{"$f":"AND(Vi<=72,Vi>=36,Load_Switch_NFET[[#This Row],[VDSMAX]]=80)","v":false},{"$f":"AND(Vi<=90,Vi>=48,Load_Switch_NFET[[#This Row],[VDSMAX]]=100)","v":false},false,{"$f":"AND(((VGS_DR)<2.5),('NFET Data'!$AC132<>\"(Null)\"))","v":false},{"$f":"AND(((VGS_DR)>=2.5),((VGS_DR)<3),OR(('NFET Data'!$AD132<>\"(Null)\"),('NFET Data'!$AC132<>\"(Null)\")))","v":false},{"$f":"AND(((VGS_DR)>=3),((VGS_DR)<4.5),OR(('NFET Data'!$AE132<>\"(Null)\"),('NFET Data'!$AD132<>\"(Null)\"),('NFET Data'!$AC132<>\"(Null)\")))","v":false},{"$f":"AND(((VGS_DR)>=4.5),((VGS_DR)<6),OR(('NFET Data'!$AF132<>\"(Null)\"),('NFET Data'!$AE132<>\"(Null)\"),('NFET Data'!$AD132<>\"(Null)\"),('NFET Data'!$AC132<>\"(Null)\")))","v":false},{"$f":"AND(((VGS_DR)>=6),((VGS_DR)<8),OR(('NFET Data'!$AG132<>\"(Null)\"),('NFET Data'!$AF132<>\"(Null)\"),('NFET Data'!$AE132<>\"(Null)\"),('NFET Data'!$AD132<>\"(Null)\"),('NFET Data'!$AC132<>\"(Null)\")))","v":false},{"$f":"AND(((VGS_DR)>=8),((VGS_DR)<10),OR(('NFET Data'!$AH132<>\"(Null)\"),('NFET Data'!$AG132<>\"(Null)\"),('NFET Data'!$AF132<>\"(Null)\"),('NFET Data'!$AE132<>\"(Null)\"),('NFET Data'!$AD132<>\"(Null)\"),('NFET Data'!$AC132<>\"(Null)\")))","v":false},{"$f":"AND(((VGS_DR)>=10),OR(('NFET Data'!$AI132<>\"(Null)\"),('NFET Data'!$AH132<>\"(Null)\"),('NFET Data'!$AG132<>\"(Null)\"),('NFET Data'!$AF132<>\"(Null)\"),('NFET Data'!$AE132<>\"(Null)\"),('NFET Data'!$AD132<>\"(Null)\"),('NFET Data'!$AC132<>\"(Null)\")))","v":true},true,false]
[{"$f":"IF(R133,Load_Switch_NFET[[#This Row],[PARTNUMBER]],\"\")","v":""},null,{"$f":"AND((Load_Switch_NFET[[#This Row],[VDSMAX]]>=Vi*1.1),(Load_Switch_NFET[[#This Row],[VGSMAX]]>=(VGS_DR)*1.1),(Load_Switch_NFET[[#This Row],[IDSMAX]]>=Io),VGS_DR>=1.8)","v":true},{"$f":"AND(Vi<=27,Load_Switch_NFET[[#This Row],[VDSMAX]]<=30)","v":false},{"$f":"AND(Vi<=36,Vi>=20,Load_Switch_NFET[[#This Row],[VDSMAX]]=40)","v":false},{"$f":"AND(Vi<=54,Vi>=25,Load_Switch_NFET[[#This Row],[VDSMAX]]=60)","v":false},{"$f":"AND(Vi<=72,Vi>=36,Load_Switch_NFET[[#This Row],[VDSMAX]]=80)","v":false},{"$f":"AND(Vi<=90,Vi>=48,Load_Switch_NFET[[#This Row],[VDSMAX]]=100)","v":false},false,{"$f":"AND(((VGS_DR)<2.5),('NFET Data'!$AC133<>\"(Null)\"))","v":false},{"$f":"AND(((VGS_DR)>=2.5),((VGS_DR)<3),OR(('NFET Data'!$AD133<>\"(Null)\"),('NFET Data'!$AC133<>\"(Null)\")))","v":false},{"$f":"AND(((VGS_DR)>=3),((VGS_DR)<4.5),OR(('NFET Data'!$AE133<>\"(Null)\"),('NFET Data'!$AD133<>\"(Null)\"),('NFET Data'!$AC133<>\"(Null)\")))","v":false},{"$f":"AND(((VGS_DR)>=4.5),((VGS_DR)<6),OR(('NFET Data'!$AF133<>\"(Null)\"),('NFET Data'!$AE133<>\"(Null)\"),('NFET Data'!$AD133<>\"(Null)\"),('NFET Data'!$AC133<>\"(Null)\")))","v":false},{"$f":"AND(((VGS_DR)>=6),((VGS_DR)<8),OR(('NFET Data'!$AG133<>\"(Null)\"),('NFET Data'!$AF133<>\"(Null)\"),('NFET Data'!$AE133<>\"(Null)\"),('NFET Data'!$AD133<>\"(Null)\"),('NFET Data'!$AC133<>\"(Null)\")))","v":false},{"$f":"AND(((VGS_DR)>=8),((VGS_DR)<10),OR(('NFET Data'!$AH133<>\"(Null)\"),('NFET Data'!$AG133<>\"(Null)\"),('NFET Data'!$AF133<>\"(Null)\"),('NFET Data'!$AE133<>\"(Null)\"),('NFET Data'!$AD133<>\"(Null)\"),('NFET Data'!$AC133<>\"(Null)\")))","v":false},{"$f":"AND(((VGS_DR)>=10),OR(('NFET Data'!$AI133<>\"(Null)\"),('NFET Data'!$AH133<>\"(Null)\"),('NFET Data'!$AG133<>\"(Null)\"),('NFET Data'!$AF133<>\"(Null)\"),('NFET Data'!$AE133<>\"(Null)\"),('NFET Data'!$AD133<>\"(Null)\"),('NFET Data'!$AC133<>\"(Null)\")))","v":true},true,false]
[{"$f":"IF(R134,Load_Switch_NFET[[#This Row],[PARTNUMBER]],\"\")","v":""},null,{"$f":"AND((Load_Switch_NFET[[#This Row],[VDSMAX]]>=Vi*1.1),(Load_Switch_NFET[[#This Row],[VGSMAX]]>=(VGS_DR)*1.1),(Load_Switch_NFET[[#This Row],[IDSMAX]]>=Io),VGS_DR>=1.8)","v":true},{"$f":"AND(Vi<=27,Load_Switch_NFET[[#This Row],[VDSMAX]]<=30)","v":false},{"$f":"AND(Vi<=36,Vi>=20,Load_Switch_NFET[[#This Row],[VDSMAX]]=40)","v":false},{"$f":"AND(Vi<=54,Vi>=25,Load_Switch_NFET[[#This Row],[VDSMAX]]=60)","v":false},{"$f":"AND(Vi<=72,Vi>=36,Load_Switch_NFET[[#This Row],[VDSMAX]]=80)","v":false},{"$f":"AND(Vi<=90,Vi>=48,Load_Switch_NFET[[#This Row],[VDSMAX]]=100)","v":false},false,{"$f":"AND(((VGS_DR)<2.5),('NFET Data'!$AC134<>\"(Null)\"))","v":false},{"$f":"AND(((VGS_DR)>=2.5),((VGS_DR)<3),OR(('NFET Data'!$AD134<>\"(Null)\"),('NFET Data'!$AC134<>\"(Null)\")))","v":false},{"$f":"AND(((VGS_DR)>=3),((VGS_DR)<4.5),OR(('NFET Data'!$AE134<>\"(Null)\"),('NFET Data'!$AD134<>\"(Null)\"),('NFET Data'!$AC134<>\"(Null)\")))","v":false},{"$f":"AND(((VGS_DR)>=4.5),((VGS_DR)<6),OR(('NFET Data'!$AF134<>\"(Null)\"),('NFET Data'!$AE134<>\"(Null)\"),('NFET Data'!$AD134<>\"(Null)\"),('NFET Data'!$AC134<>\"(Null)\")))","v":false},{"$f":"AND(((VGS_DR)>=6),((VGS_DR)<8),OR(('NFET Data'!$AG134<>\"(Null)\"),('NFET Data'!$AF134<>\"(Null)\"),('NFET Data'!$AE134<>\"(Null)\"),('NFET Data'!$AD134<>\"(Null)\"),('NFET Data'!$AC134<>\"(Null)\")))","v":false},{"$f":"AND(((VGS_DR)>=8),((VGS_DR)<10),OR(('NFET Data'!$AH134<>\"(Null)\"),('NFET Data'!$AG134<>\"(Null)\"),('NFET Data'!$AF134<>\"(Null)\"),('NFET Data'!$AE134<>\"(Null)\"),('NFET Data'!$AD134<>\"(Null)\"),('NFET Data'!$AC134<>\"(Null)\")))","v":false},{"$f":"AND(((VGS_DR)>=10),OR(('NFET Data'!$AI134<>\"(Null)\"),('NFET Data'!$AH134<>\"(Null)\"),('NFET Data'!$AG134<>\"(Null)\"),('NFET Data'!$AF134<>\"(Null)\"),('NFET Data'!$AE134<>\"(Null)\"),('NFET Data'!$AD134<>\"(Null)\"),('NFET Data'!$AC134<>\"(Null)\")))","v":true},true,false]
[{"$f":"IF(R135,Load_Switch_NFET[[#This Row],[PARTNUMBER]],\"\")","v":""},null,{"$f":"AND((Load_Switch_NFET[[#This Row],[VDSMAX]]>=Vi*1.1),(Load_Switch_NFET[[#This Row],[VGSMAX]]>=(VGS_DR)*1.1),(Load_Switch_NFET[[#This Row],[IDSMAX]]>=Io),VGS_DR>=1.8)","v":true},{"$f":"AND(Vi<=27,Load_Switch_NFET[[#This Row],[VDSMAX]]<=30)","v":false},{"$f":"AND(Vi<=36,Vi>=20,Load_Switch_NFET[[#This Row],[VDSMAX]]=40)","v":false},{"$f":"AND(Vi<=54,Vi>=25,Load_Switch_NFET[[#This Row],[VDSMAX]]=60)","v":false},{"$f":"AND(Vi<=72,Vi>=36,Load_Switch_NFET[[#This Row],[VDSMAX]]=80)","v":false},{"$f":"AND(Vi<=90,Vi>=48,Load_Switch_NFET[[#This Row],[VDSMAX]]=100)","v":false},false,{"$f":"AND(((VGS_DR)<2.5),('NFET Data'!$AC135<>\"(Null)\"))","v":false},{"$f":"AND(((VGS_DR)>=2.5),((VGS_DR)<3),OR(('NFET Data'!$AD135<>\"(Null)\"),('NFET Data'!$AC135<>\"(Null)\")))","v":false},{"$f":"AND(((VGS_DR)>=3),((VGS_DR)<4.5),OR(('NFET Data'!$AE135<>\"(Null)\"),('NFET Data'!$AD135<>\"(Null)\"),('NFET Data'!$AC135<>\"(Null)\")))","v":false},{"$f":"AND(((VGS_DR)>=4.5),((VGS_DR)<6),OR(('NFET Data'!$AF135<>\"(Null)\"),('NFET Data'!$AE135<>\"(Null)\"),('NFET Data'!$AD135<>\"(Null)\"),('NFET Data'!$AC135<>\"(Null)\")))","v":false},{"$f":"AND(((VGS_DR)>=6),((VGS_DR)<8),OR(('NFET Data'!$AG135<>\"(Null)\"),('NFET Data'!$AF135<>\"(Null)\"),('NFET Data'!$AE135<>\"(Null)\"),('NFET Data'!$AD135<>\"(Null)\"),('NFET Data'!$AC135<>\"(Null)\")))","v":false},{"$f":"AND(((VGS_DR)>=8),((VGS_DR)<10),OR(('NFET Data'!$AH135<>\"(Null)\"),('NFET Data'!$AG135<>\"(Null)\"),('NFET Data'!$AF135<>\"(Null)\"),('NFET Data'!$AE135<>\"(Null)\"),('NFET Data'!$AD135<>\"(Null)\"),('NFET Data'!$AC135<>\"(Null)\")))","v":false},{"$f":"AND(((VGS_DR)>=10),OR(('NFET Data'!$AI135<>\"(Null)\"),('NFET Data'!$AH135<>\"(Null)\"),('NFET Data'!$AG135<>\"(Null)\"),('NFET Data'!$AF135<>\"(Null)\"),('NFET Data'!$AE135<>\"(Null)\"),('NFET Data'!$AD135<>\"(Null)\"),('NFET Data'!$AC135<>\"(Null)\")))","v":true},true,false]
[{"$f":"IF(R136,Load_Switch_NFET[[#This Row],[PARTNUMBER]],\"\")","v":""},null,{"$f":"AND((Load_Switch_NFET[[#This Row],[VDSMAX]]>=Vi*1.1),(Load_Switch_NFET[[#This Row],[VGSMAX]]>=(VGS_DR)*1.1),(Load_Switch_NFET[[#This Row],[IDSMAX]]>=Io),VGS_DR>=1.8)","v":false},{"$f":"AND(Vi<=27,Load_Switch_NFET[[#This Row],[VDSMAX]]<=30)","v":false},{"$f":"AND(Vi<=36,Vi>=20,Load_Switch_NFET[[#This Row],[VDSMAX]]=40)","v":false},{"$f":"AND(Vi<=54,Vi>=25,Load_Switch_NFET[[#This Row],[VDSMAX]]=60)","v":false},{"$f":"AND(Vi<=72,Vi>=36,Load_Switch_NFET[[#This Row],[VDSMAX]]=80)","v":false},{"$f":"AND(Vi<=90,Vi>=48,Load_Switch_NFET[[#This Row],[VDSMAX]]=100)","v":false},false,{"$f":"AND(((VGS_DR)<2.5),('NFET Data'!$AC136<>\"(Null)\"))","v":false},{"$f":"AND(((VGS_DR)>=2.5),((VGS_DR)<3),OR(('NFET Data'!$AD136<>\"(Null)\"),('NFET Data'!$AC136<>\"(Null)\")))","v":false},{"$f":"AND(((VGS_DR)>=3),((VGS_DR)<4.5),OR(('NFET Data'!$AE136<>\"(Null)\"),('NFET Data'!$AD136<>\"(Null)\"),('NFET Data'!$AC136<>\"(Null)\")))","v":false},{"$f":"AND(((VGS_DR)>=4.5),((VGS_DR)<6),OR(('NFET Data'!$AF136<>\"(Null)\"),('NFET Data'!$AE136<>\"(Null)\"),('NFET Data'!$AD136<>\"(Null)\"),('NFET Data'!$AC136<>\"(Null)\")))","v":false},{"$f":"AND(((VGS_DR)>=6),((VGS_DR)<8),OR(('NFET Data'!$AG136<>\"(Null)\"),('NFET Data'!$AF136<>\"(Null)\"),('NFET Data'!$AE136<>\"(Null)\"),('NFET Data'!$AD136<>\"(Null)\"),('NFET Data'!$AC136<>\"(Null)\")))","v":false},{"$f":"AND(((VGS_DR)>=8),((VGS_DR)<10),OR(('NFET Data'!$AH136<>\"(Null)\"),('NFET Data'!$AG136<>\"(Null)\"),('NFET Data'!$AF136<>\"(Null)\"),('NFET Data'!$AE136<>\"(Null)\"),('NFET Data'!$AD136<>\"(Null)\"),('NFET Data'!$AC136<>\"(Null)\")))","v":false},{"$f":"AND(((VGS_DR)>=10),OR(('NFET Data'!$AI136<>\"(Null)\"),('NFET Data'!$AH136<>\"(Null)\"),('NFET Data'!$AG136<>\"(Null)\"),('NFET Data'!$AF136<>\"(Null)\"),('NFET Data'!$AE136<>\"(Null)\"),('NFET Data'!$AD136<>\"(Null)\"),('NFET Data'!$AC136<>\"(Null)\")))","v":true},true,false]
[{"$f":"IF(R137,Load_Switch_NFET[[#This Row],[PARTNUMBER]],\"\")","v":""},null,{"$f":"AND((Load_Switch_NFET[[#This Row],[VDSMAX]]>=Vi*1.1),(Load_Switch_NFET[[#This Row],[VGSMAX]]>=(VGS_DR)*1.1),(Load_Switch_NFET[[#This Row],[IDSMAX]]>=Io),VGS_DR>=1.8)","v":true},{"$f":"AND(Vi<=27,Load_Switch_NFET[[#This Row],[VDSMAX]]<=30)","v":false},{"$f":"AND(Vi<=36,Vi>=20,Load_Switch_NFET[[#This Row],[VDSMAX]]=40)","v":false},{"$f":"AND(Vi<=54,Vi>=25,Load_Switch_NFET[[#This Row],[VDSMAX]]=60)","v":false},{"$f":"AND(Vi<=72,Vi>=36,Load_Switch_NFET[[#This Row],[VDSMAX]]=80)","v":false},{"$f":"AND(Vi<=90,Vi>=48,Load_Switch_NFET[[#This Row],[VDSMAX]]=100)","v":false},false,{"$f":"AND(((VGS_DR)<2.5),('NFET Data'!$AC137<>\"(Null)\"))","v":false},{"$f":"AND(((VGS_DR)>=2.5),((VGS_DR)<3),OR(('NFET Data'!$AD137<>\"(Null)\"),('NFET Data'!$AC137<>\"(Null)\")))","v":false},{"$f":"AND(((VGS_DR)>=3),((VGS_DR)<4.5),OR(('NFET Data'!$AE137<>\"(Null)\"),('NFET Data'!$AD137<>\"(Null)\"),('NFET Data'!$AC137<>\"(Null)\")))","v":false},{"$f":"AND(((VGS_DR)>=4.5),((VGS_DR)<6),OR(('NFET Data'!$AF137<>\"(Null)\"),('NFET Data'!$AE137<>\"(Null)\"),('NFET Data'!$AD137<>\"(Null)\"),('NFET Data'!$AC137<>\"(Null)\")))","v":false},{"$f":"AND(((VGS_DR)>=6),((VGS_DR)<8),OR(('NFET Data'!$AG137<>\"(Null)\"),('NFET Data'!$AF137<>\"(Null)\"),('NFET Data'!$AE137<>\"(Null)\"),('NFET Data'!$AD137<>\"(Null)\"),('NFET Data'!$AC137<>\"(Null)\")))","v":false},{"$f":"AND(((VGS_DR)>=8),((VGS_DR)<10),OR(('NFET Data'!$AH137<>\"(Null)\"),('NFET Data'!$AG137<>\"(Null)\"),('NFET Data'!$AF137<>\"(Null)\"),('NFET Data'!$AE137<>\"(Null)\"),('NFET Data'!$AD137<>\"(Null)\"),('NFET Data'!$AC137<>\"(Null)\")))","v":false},{"$f":"AND(((VGS_DR)>=10),OR(('NFET Data'!$AI137<>\"(Null)\"),('NFET Data'!$AH137<>\"(Null)\"),('NFET Data'!$AG137<>\"(Null)\"),('NFET Data'!$AF137<>\"(Null)\"),('NFET Data'!$AE137<>\"(Null)\"),('NFET Data'!$AD137<>\"(Null)\"),('NFET Data'!$AC137<>\"(Null)\")))","v":true},true,false]
[{"$f":"IF(R138,Load_Switch_NFET[[#This Row],[PARTNUMBER]],\"\")","v":""},null,{"$f":"AND((Load_Switch_NFET[[#This Row],[VDSMAX]]>=Vi*1.1),(Load_Switch_NFET[[#This Row],[VGSMAX]]>=(VGS_DR)*1.1),(Load_Switch_NFET[[#This Row],[IDSMAX]]>=Io),VGS_DR>=1.8)","v":true},{"$f":"AND(Vi<=27,Load_Switch_NFET[[#This Row],[VDSMAX]]<=30)","v":false},{"$f":"AND(Vi<=36,Vi>=20,Load_Switch_NFET[[#This Row],[VDSMAX]]=40)","v":false},{"$f":"AND(Vi<=54,Vi>=25,Load_Switch_NFET[[#This Row],[VDSMAX]]=60)","v":false},{"$f":"AND(Vi<=72,Vi>=36,Load_Switch_NFET[[#This Row],[VDSMAX]]=80)","v":false},{"$f":"AND(Vi<=90,Vi>=48,Load_Switch_NFET[[#This Row],[VDSMAX]]=100)","v":false},false,{"$f":"AND(((VGS_DR)<2.5),('NFET Data'!$AC138<>\"(Null)\"))","v":false},{"$f":"AND(((VGS_DR)>=2.5),((VGS_DR)<3),OR(('NFET Data'!$AD138<>\"(Null)\"),('NFET Data'!$AC138<>\"(Null)\")))","v":false},{"$f":"AND(((VGS_DR)>=3),((VGS_DR)<4.5),OR(('NFET Data'!$AE138<>\"(Null)\"),('NFET Data'!$AD138<>\"(Null)\"),('NFET Data'!$AC138<>\"(Null)\")))","v":false},{"$f":"AND(((VGS_DR)>=4.5),((VGS_DR)<6),OR(('NFET Data'!$AF138<>\"(Null)\"),('NFET Data'!$AE138<>\"(Null)\"),('NFET Data'!$AD138<>\"(Null)\"),('NFET Data'!$AC138<>\"(Null)\")))","v":false},{"$f":"AND(((VGS_DR)>=6),((VGS_DR)<8),OR(('NFET Data'!$AG138<>\"(Null)\"),('NFET Data'!$AF138<>\"(Null)\"),('NFET Data'!$AE138<>\"(Null)\"),('NFET Data'!$AD138<>\"(Null)\"),('NFET Data'!$AC138<>\"(Null)\")))","v":false},{"$f":"AND(((VGS_DR)>=8),((VGS_DR)<10),OR(('NFET Data'!$AH138<>\"(Null)\"),('NFET Data'!$AG138<>\"(Null)\"),('NFET Data'!$AF138<>\"(Null)\"),('NFET Data'!$AE138<>\"(Null)\"),('NFET Data'!$AD138<>\"(Null)\"),('NFET Data'!$AC138<>\"(Null)\")))","v":false},{"$f":"AND(((VGS_DR)>=10),OR(('NFET Data'!$AI138<>\"(Null)\"),('NFET Data'!$AH138<>\"(Null)\"),('NFET Data'!$AG138<>\"(Null)\"),('NFET Data'!$AF138<>\"(Null)\"),('NFET Data'!$AE138<>\"(Null)\"),('NFET Data'!$AD138<>\"(Null)\"),('NFET Data'!$AC138<>\"(Null)\")))","v":true},true,false]
[{"$f":"IF(R139,Load_Switch_NFET[[#This Row],[PARTNUMBER]],\"\")","v":""},null,{"$f":"AND((Load_Switch_NFET[[#This Row],[VDSMAX]]>=Vi*1.1),(Load_Switch_NFET[[#This Row],[VGSMAX]]>=(VGS_DR)*1.1),(Load_Switch_NFET[[#This Row],[IDSMAX]]>=Io),VGS_DR>=1.8)","v":true},{"$f":"AND(Vi<=27,Load_Switch_NFET[[#This Row],[VDSMAX]]<=30)","v":false},{"$f":"AND(Vi<=36,Vi>=20,Load_Switch_NFET[[#This Row],[VDSMAX]]=40)","v":false},{"$f":"AND(Vi<=54,Vi>=25,Load_Switch_NFET[[#This Row],[VDSMAX]]=60)","v":false},{"$f":"AND(Vi<=72,Vi>=36,Load_Switch_NFET[[#This Row],[VDSMAX]]=80)","v":false},{"$f":"AND(Vi<=90,Vi>=48,Load_Switch_NFET[[#This Row],[VDSMAX]]=100)","v":false},false,{"$f":"AND(((VGS_DR)<2.5),('NFET Data'!$AC139<>\"(Null)\"))","v":false},{"$f":"AND(((VGS_DR)>=2.5),((VGS_DR)<3),OR(('NFET Data'!$AD139<>\"(Null)\"),('NFET Data'!$AC139<>\"(Null)\")))","v":false},{"$f":"AND(((VGS_DR)>=3),((VGS_DR)<4.5),OR(('NFET Data'!$AE139<>\"(Null)\"),('NFET Data'!$AD139<>\"(Null)\"),('NFET Data'!$AC139<>\"(Null)\")))","v":false},{"$f":"AND(((VGS_DR)>=4.5),((VGS_DR)<6),OR(('NFET Data'!$AF139<>\"(Null)\"),('NFET Data'!$AE139<>\"(Null)\"),('NFET Data'!$AD139<>\"(Null)\"),('NFET Data'!$AC139<>\"(Null)\")))","v":false},{"$f":"AND(((VGS_DR)>=6),((VGS_DR)<8),OR(('NFET Data'!$AG139<>\"(Null)\"),('NFET Data'!$AF139<>\"(Null)\"),('NFET Data'!$AE139<>\"(Null)\"),('NFET Data'!$AD139<>\"(Null)\"),('NFET Data'!$AC139<>\"(Null)\")))","v":false},{"$f":"AND(((VGS_DR)>=8),((VGS_DR)<10),OR(('NFET Data'!$AH139<>\"(Null)\"),('NFET Data'!$AG139<>\"(Null)\"),('NFET Data'!$AF139<>\"(Null)\"),('NFET Data'!$AE139<>\"(Null)\"),('NFET Data'!$AD139<>\"(Null)\"),('NFET Data'!$AC139<>\"(Null)\")))","v":false},{"$f":"AND(((VGS_DR)>=10),OR(('NFET Data'!$AI139<>\"(Null)\"),('NFET Data'!$AH139<>\"(Null)\"),('NFET Data'!$AG139<>\"(Null)\"),('NFET Data'!$AF139<>\"(Null)\"),('NFET Data'!$AE139<>\"(Null)\"),('NFET Data'!$AD139<>\"(Null)\"),('NFET Data'!$AC139<>\"(Null)\")))","v":true},true,false]
[{"$f":"IF(R140,Load_Switch_NFET[[#This Row],[PARTNUMBER]],\"\")","v":""},null,{"$f":"AND((Load_Switch_NFET[[#This Row],[VDSMAX]]>=Vi*1.1),(Load_Switch_NFET[[#This Row],[VGSMAX]]>=(VGS_DR)*1.1),(Load_Switch_NFET[[#This Row],[IDSMAX]]>=Io),VGS_DR>=1.8)","v":true},{"$f":"AND(Vi<=27,Load_Switch_NFET[[#This Row],[VDSMAX]]<=30)","v":false},{"$f":"AND(Vi<=36,Vi>=20,Load_Switch_NFET[[#This Row],[VDSMAX]]=40)","v":false},{"$f":"AND(Vi<=54,Vi>=25,Load_Switch_NFET[[#This Row],[VDSMAX]]=60)","v":false},{"$f":"AND(Vi<=72,Vi>=36,Load_Switch_NFET[[#This Row],[VDSMAX]]=80)","v":false},{"$f":"AND(Vi<=90,Vi>=48,Load_Switch_NFET[[#This Row],[VDSMAX]]=100)","v":false},false,{"$f":"AND(((VGS_DR)<2.5),('NFET Data'!$AC140<>\"(Null)\"))","v":false},{"$f":"AND(((VGS_DR)>=2.5),((VGS_DR)<3),OR(('NFET Data'!$AD140<>\"(Null)\"),('NFET Data'!$AC140<>\"(Null)\")))","v":false},{"$f":"AND(((VGS_DR)>=3),((VGS_DR)<4.5),OR(('NFET Data'!$AE140<>\"(Null)\"),('NFET Data'!$AD140<>\"(Null)\"),('NFET Data'!$AC140<>\"(Null)\")))","v":false},{"$f":"AND(((VGS_DR)>=4.5),((VGS_DR)<6),OR(('NFET Data'!$AF140<>\"(Null)\"),('NFET Data'!$AE140<>\"(Null)\"),('NFET Data'!$AD140<>\"(Null)\"),('NFET Data'!$AC140<>\"(Null)\")))","v":false},{"$f":"AND(((VGS_DR)>=6),((VGS_DR)<8),OR(('NFET Data'!$AG140<>\"(Null)\"),('NFET Data'!$AF140<>\"(Null)\"),('NFET Data'!$AE140<>\"(Null)\"),('NFET Data'!$AD140<>\"(Null)\"),('NFET Data'!$AC140<>\"(Null)\")))","v":false},{"$f":"AND(((VGS_DR)>=8),((VGS_DR)<10),OR(('NFET Data'!$AH140<>\"(Null)\"),('NFET Data'!$AG140<>\"(Null)\"),('NFET Data'!$AF140<>\"(Null)\"),('NFET Data'!$AE140<>\"(Null)\"),('NFET Data'!$AD140<>\"(Null)\"),('NFET Data'!$AC140<>\"(Null)\")))","v":false},{"$f":"AND(((VGS_DR)>=10),OR(('NFET Data'!$AI140<>\"(Null)\"),('NFET Data'!$AH140<>\"(Null)\"),('NFET Data'!$AG140<>\"(Null)\"),('NFET Data'!$AF140<>\"(Null)\"),('NFET Data'!$AE140<>\"(Null)\"),('NFET Data'!$AD140<>\"(Null)\"),('NFET Data'!$AC140<>\"(Null)\")))","v":true},true,false]
[{"$f":"IF(R141,Load_Switch_NFET[[#This Row],[PARTNUMBER]],\"\")","v":""},null,{"$f":"AND((Load_Switch_NFET[[#This Row],[VDSMAX]]>=Vi*1.1),(Load_Switch_NFET[[#This Row],[VGSMAX]]>=(VGS_DR)*1.1),(Load_Switch_NFET[[#This Row],[IDSMAX]]>=Io),VGS_DR>=1.8)","v":false},{"$f":"AND(Vi<=27,Load_Switch_NFET[[#This Row],[VDSMAX]]<=30)","v":false},{"$f":"AND(Vi<=36,Vi>=20,Load_Switch_NFET[[#This Row],[VDSMAX]]=40)","v":false},{"$f":"AND(Vi<=54,Vi>=25,Load_Switch_NFET[[#This Row],[VDSMAX]]=60)","v":false},{"$f":"AND(Vi<=72,Vi>=36,Load_Switch_NFET[[#This Row],[VDSMAX]]=80)","v":false},{"$f":"AND(Vi<=90,Vi>=48,Load_Switch_NFET[[#This Row],[VDSMAX]]=100)","v":false},false,{"$f":"AND(((VGS_DR)<2.5),('NFET Data'!$AC141<>\"(Null)\"))","v":false},{"$f":"AND(((VGS_DR)>=2.5),((VGS_DR)<3),OR(('NFET Data'!$AD141<>\"(Null)\"),('NFET Data'!$AC141<>\"(Null)\")))","v":false},{"$f":"AND(((VGS_DR)>=3),((VGS_DR)<4.5),OR(('NFET Data'!$AE141<>\"(Null)\"),('NFET Data'!$AD141<>\"(Null)\"),('NFET Data'!$AC141<>\"(Null)\")))","v":false},{"$f":"AND(((VGS_DR)>=4.5),((VGS_DR)<6),OR(('NFET Data'!$AF141<>\"(Null)\"),('NFET Data'!$AE141<>\"(Null)\"),('NFET Data'!$AD141<>\"(Null)\"),('NFET Data'!$AC141<>\"(Null)\")))","v":false},{"$f":"AND(((VGS_DR)>=6),((VGS_DR)<8),OR(('NFET Data'!$AG141<>\"(Null)\"),('NFET Data'!$AF141<>\"(Null)\"),('NFET Data'!$AE141<>\"(Null)\"),('NFET Data'!$AD141<>\"(Null)\"),('NFET Data'!$AC141<>\"(Null)\")))","v":false},{"$f":"AND(((VGS_DR)>=8),((VGS_DR)<10),OR(('NFET Data'!$AH141<>\"(Null)\"),('NFET Data'!$AG141<>\"(Null)\"),('NFET Data'!$AF141<>\"(Null)\"),('NFET Data'!$AE141<>\"(Null)\"),('NFET Data'!$AD141<>\"(Null)\"),('NFET Data'!$AC141<>\"(Null)\")))","v":false},{"$f":"AND(((VGS_DR)>=10),OR(('NFET Data'!$AI141<>\"(Null)\"),('NFET Data'!$AH141<>\"(Null)\"),('NFET Data'!$AG141<>\"(Null)\"),('NFET Data'!$AF141<>\"(Null)\"),('NFET Data'!$AE141<>\"(Null)\"),('NFET Data'!$AD141<>\"(Null)\"),('NFET Data'!$AC141<>\"(Null)\")))","v":true},true,false]
[{"$f":"IF(R142,Load_Switch_NFET[[#This Row],[PARTNUMBER]],\"\")","v":""},null,{"$f":"AND((Load_Switch_NFET[[#This Row],[VDSMAX]]>=Vi*1.1),(Load_Switch_NFET[[#This Row],[VGSMAX]]>=(VGS_DR)*1.1),(Load_Switch_NFET[[#This Row],[IDSMAX]]>=Io),VGS_DR>=1.8)","v":false},{"$f":"AND(Vi<=27,Load_Switch_NFET[[#This Row],[VDSMAX]]<=30)","v":false},{"$f":"AND(Vi<=36,Vi>=20,Load_Switch_NFET[[#This Row],[VDSMAX]]=40)","v":false},{"$f":"AND(Vi<=54,Vi>=25,Load_Switch_NFET[[#This Row],[VDSMAX]]=60)","v":false},{"$f":"AND(Vi<=72,Vi>=36,Load_Switch_NFET[[#This Row],[VDSMAX]]=80)","v":false},{"$f":"AND(Vi<=90,Vi>=48,Load_Switch_NFET[[#This Row],[VDSMAX]]=100)","v":false},false,{"$f":"AND(((VGS_DR)<2.5),('NFET Data'!$AC142<>\"(Null)\"))","v":false},{"$f":"AND(((VGS_DR)>=2.5),((VGS_DR)<3),OR(('NFET Data'!$AD142<>\"(Null)\"),('NFET Data'!$AC142<>\"(Null)\")))","v":false},{"$f":"AND(((VGS_DR)>=3),((VGS_DR)<4.5),OR(('NFET Data'!$AE142<>\"(Null)\"),('NFET Data'!$AD142<>\"(Null)\"),('NFET Data'!$AC142<>\"(Null)\")))","v":false},{"$f":"AND(((VGS_DR)>=4.5),((VGS_DR)<6),OR(('NFET Data'!$AF142<>\"(Null)\"),('NFET Data'!$AE142<>\"(Null)\"),('NFET Data'!$AD142<>\"(Null)\"),('NFET Data'!$AC142<>\"(Null)\")))","v":false},{"$f":"AND(((VGS_DR)>=6),((VGS_DR)<8),OR(('NFET Data'!$AG142<>\"(Null)\"),('NFET Data'!$AF142<>\"(Null)\"),('NFET Data'!$AE142<>\"(Null)\"),('NFET Data'!$AD142<>\"(Null)\"),('NFET Data'!$AC142<>\"(Null)\")))","v":false},{"$f":"AND(((VGS_DR)>=8),((VGS_DR)<10),OR(('NFET Data'!$AH142<>\"(Null)\"),('NFET Data'!$AG142<>\"(Null)\"),('NFET Data'!$AF142<>\"(Null)\"),('NFET Data'!$AE142<>\"(Null)\"),('NFET Data'!$AD142<>\"(Null)\"),('NFET Data'!$AC142<>\"(Null)\")))","v":false},{"$f":"AND(((VGS_DR)>=10),OR(('NFET Data'!$AI142<>\"(Null)\"),('NFET Data'!$AH142<>\"(Null)\"),('NFET Data'!$AG142<>\"(Null)\"),('NFET Data'!$AF142<>\"(Null)\"),('NFET Data'!$AE142<>\"(Null)\"),('NFET Data'!$AD142<>\"(Null)\"),('NFET Data'!$AC142<>\"(Null)\")))","v":true},true,false]
[{"$f":"IF(R143,Load_Switch_NFET[[#This Row],[PARTNUMBER]],\"\")","v":""},null,{"$f":"AND((Load_Switch_NFET[[#This Row],[VDSMAX]]>=Vi*1.1),(Load_Switch_NFET[[#This Row],[VGSMAX]]>=(VGS_DR)*1.1),(Load_Switch_NFET[[#This Row],[IDSMAX]]>=Io),VGS_DR>=1.8)","v":false},{"$f":"AND(Vi<=27,Load_Switch_NFET[[#This Row],[VDSMAX]]<=30)","v":false},{"$f":"AND(Vi<=36,Vi>=20,Load_Switch_NFET[[#This Row],[VDSMAX]]=40)","v":false},{"$f":"AND(Vi<=54,Vi>=25,Load_Switch_NFET[[#This Row],[VDSMAX]]=60)","v":false},{"$f":"AND(Vi<=72,Vi>=36,Load_Switch_NFET[[#This Row],[VDSMAX]]=80)","v":false},{"$f":"AND(Vi<=90,Vi>=48,Load_Switch_NFET[[#This Row],[VDSMAX]]=100)","v":false},false,{"$f":"AND(((VGS_DR)<2.5),('NFET Data'!$AC143<>\"(Null)\"))","v":false},{"$f":"AND(((VGS_DR)>=2.5),((VGS_DR)<3),OR(('NFET Data'!$AD143<>\"(Null)\"),('NFET Data'!$AC143<>\"(Null)\")))","v":false},{"$f":"AND(((VGS_DR)>=3),((VGS_DR)<4.5),OR(('NFET Data'!$AE143<>\"(Null)\"),('NFET Data'!$AD143<>\"(Null)\"),('NFET Data'!$AC143<>\"(Null)\")))","v":false},{"$f":"AND(((VGS_DR)>=4.5),((VGS_DR)<6),OR(('NFET Data'!$AF143<>\"(Null)\"),('NFET Data'!$AE143<>\"(Null)\"),('NFET Data'!$AD143<>\"(Null)\"),('NFET Data'!$AC143<>\"(Null)\")))","v":false},{"$f":"AND(((VGS_DR)>=6),((VGS_DR)<8),OR(('NFET Data'!$AG143<>\"(Null)\"),('NFET Data'!$AF143<>\"(Null)\"),('NFET Data'!$AE143<>\"(Null)\"),('NFET Data'!$AD143<>\"(Null)\"),('NFET Data'!$AC143<>\"(Null)\")))","v":false},{"$f":"AND(((VGS_DR)>=8),((VGS_DR)<10),OR(('NFET Data'!$AH143<>\"(Null)\"),('NFET Data'!$AG143<>\"(Null)\"),('NFET Data'!$AF143<>\"(Null)\"),('NFET Data'!$AE143<>\"(Null)\"),('NFET Data'!$AD143<>\"(Null)\"),('NFET Data'!$AC143<>\"(Null)\")))","v":false},{"$f":"AND(((VGS_DR)>=10),OR(('NFET Data'!$AI143<>\"(Null)\"),('NFET Data'!$AH143<>\"(Null)\"),('NFET Data'!$AG143<>\"(Null)\"),('NFET Data'!$AF143<>\"(Null)\"),('NFET Data'!$AE143<>\"(Null)\"),('NFET Data'!$AD143<>\"(Null)\"),('NFET Data'!$AC143<>\"(Null)\")))","v":true},true,false]

{"sheet":"PLogic","index":7,"n_rows":26,"n_cols":19,"rows_kept":26,"cut":false,"hidden":true,"merged":[[3,12,3,17],[11,12,11,17],[19,12,19,17]]}
["INCLUDED FETS IN DROPDOWN","MOST BLANKS REMOVED ROW2 BLANK","VGS_VDS_OK BVDSS>=1.1xVIN VGS>=1.1xVDR ILOAD <= IDSMAX","VD<1.8V & VGS=1.5V","1.8V<=VD<2.5V VGSmin<=1.8V","2.5V<=VD<4.5V VGSmin<=2.5V","4.5V<=VD<8V VGSmin<=4.5V","VD>=8V VGSmin<=8V","VGS OK OR(J:P)","INCLUDE FET AND(C,I,Q)"]
[{"$f":"IF(J2,Load_Switch_PFET[[#This Row],[PARTNUMBER]],\"\")","v":""},{"$f":"\"\"","v":""},{"$f":"AND((ABS(Load_Switch_PFET[[#This Row],[VDSMAX]])>=Vi*1.1),ABS(Load_Switch_PFET[[#This Row],[VGSMAX]])>=(VGS_DR*1.1),ABS(Load_Switch_PFET[[#This Row],[IDSMAX]])>=Io)","v":false},{"$f":"AND((VGS_DR>0),(VGS_DR<1.8),('PFET Data'!$AB2<>\"(Null)\"))","v":false},{"$f":"AND(((VGS_DR)>=1.8),((VGS_DR)<2.5),OR(('PFET Data'!$AC2<>\"(Null)\"),('PFET Data'!$AB2<>\"(Null)\")))","v":false},{"$f":"AND(((VGS_DR)>=2.5),((VGS_DR)<4.5),OR(('PFET Data'!$AD2<>\"(Null)\"),('PFET Data'!$AC2<>\"(Null)\"),('PFET Data'!$AB2<>\"(Null)\")))","v":false},{"$f":"AND(((VGS_DR)>=4.5),((VGS_DR)<8),OR(('PFET Data'!$AE2<>\"(Null)\"),('PFET Data'!$AD2<>\"(Null)\"),('PFET Data'!$AC2<>\"(Null)\"),('PFET Data'!$AB2<>\"(Null)\")))","v":false},{"$f":"AND(((VGS_DR)>=8),OR(('PFET Data'!$AF2<>\"(Null)\"),('PFET Data'!$AE2<>\"(Null)\"),('PFET Data'!$AD2<>\"(Null)\"),('PFET Data'!$AC2<>\"(Null)\"),('PFET Data'!$AB2<>\"(Null)\")))","v":true},{"$f":"OR(D2:H2)","v":true},{"$f":"AND(C2,I2)","v":false}]
[{"$f":"IF(J3,Load_Switch_PFET[[#This Row],[PARTNUMBER]],\"\")","v":""},"CSD25402Q3A",{"$f":"AND((ABS(Load_Switch_PFET[[#This Row],[VDSMAX]])>=Vi*1.1),ABS(Load_Switch_PFET[[#This Row],[VGSMAX]])>=(VGS_DR*1.1),ABS(Load_Switch_PFET[[#This Row],[IDSMAX]])>=Io)","v":false},{"$f":"AND((VGS_DR>0),(VGS_DR<1.8),('PFET Data'!$AB3<>\"(Null)\"))","v":false},{"$f":"AND(((VGS_DR)>=1.8),((VGS_DR)<2.5),OR(('PFET Data'!$AC3<>\"(Null)\"),('PFET Data'!$AB3<>\"(Null)\")))","v":false},{"$f":"AND(((VGS_DR)>=2.5),((VGS_DR)<4.5),OR(('PFET Data'!$AD3<>\"(Null)\"),('PFET Data'!$AC3<>\"(Null)\"),('PFET Data'!$AB3<>\"(Null)\")))","v":false},{"$f":"AND(((VGS_DR)>=4.5),((VGS_DR)<8),OR(('PFET Data'!$AE3<>\"(Null)\"),('PFET Data'!$AD3<>\"(Null)\"),('PFET Data'!$AC3<>\"(Null)\"),('PFET Data'!$AB3<>\"(Null)\")))","v":false},{"$f":"AND(((VGS_DR)>=8),OR(('PFET Data'!$AF3<>\"(Null)\"),('PFET Data'!$AE3<>\"(Null)\"),('PFET Data'!$AD3<>\"(Null)\"),('PFET Data'!$AC3<>\"(Null)\"),('PFET Data'!$AB3<>\"(Null)\")))","v":true},true,{"$f":"AND(C3,I3)","v":false}]
[{"$f":"IF(J4,Load_Switch_PFET[[#This Row],[PARTNUMBER]],\"\")","v":""},"CSD25404Q3",{"$f":"AND((ABS(Load_Switch_PFET[[#This Row],[VDSMAX]])>=Vi*1.1),ABS(Load_Switch_PFET[[#This Row],[VGSMAX]])>=(VGS_DR*1.1),ABS(Load_Switch_PFET[[#This Row],[IDSMAX]])>=Io)","v":false},{"$f":"AND((VGS_DR>0),(VGS_DR<1.8),('PFET Data'!$AB4<>\"(Null)\"))","v":false},{"$f":"AND(((VGS_DR)>=1.8),((VGS_DR)<2.5),OR(('PFET Data'!$AC4<>\"(Null)\"),('PFET Data'!$AB4<>\"(Null)\")))","v":false},{"$f":"AND(((VGS_DR)>=2.5),((VGS_DR)<4.5),OR(('PFET Data'!$AD4<>\"(Null)\"),('PFET Data'!$AC4<>\"(Null)\"),('PFET Data'!$AB4<>\"(Null)\")))","v":false},{"$f":"AND(((VGS_DR)>=4.5),((VGS_DR)<8),OR(('PFET Data'!$AE4<>\"(Null)\"),('PFET Data'!$AD4<>\"(Null)\"),('PFET Data'!$AC4<>\"(Null)\"),('PFET Data'!$AB4<>\"(Null)\")))","v":false},{"$f":"AND(((VGS_DR)>=8),OR(('PFET Data'!$AF4<>\"(Null)\"),('PFET Data'!$AE4<>\"(Null)\"),('PFET Data'!$AD4<>\"(Null)\"),('PFET Data'!$AC4<>\"(Null)\"),('PFET Data'!$AB4<>\"(Null)\")))","v":true},true,false,null,null,"SELECT RDS(ON) CLOSEST TO VDRIVE FOR FET 1"]
[{"$f":"IF(J5,Load_Switch_PFET[[#This Row],[PARTNUMBER]],\"\")","v":""},null,{"$f":"AND((ABS(Load_Switch_PFET[[#This Row],[VDSMAX]])>=Vi*1.1),ABS(Load_Switch_PFET[[#This Row],[VGSMAX]])>=(VGS_DR*1.1),ABS(Load_Switch_PFET[[#This Row],[IDSMAX]])>=Io)","v":false},{"$f":"AND((VGS_DR>0),(VGS_DR<1.8),('PFET Data'!$AB5<>\"(Null)\"))","v":false},{"$f":"AND(((VGS_DR)>=1.8),((VGS_DR)<2.5),OR(('PFET Data'!$AC5<>\"(Null)\"),('PFET Data'!$AB5<>\"(Null)\")))","v":false},{"$f":"AND(((VGS_DR)>=2.5),((VGS_DR)<4.5),OR(('PFET Data'!$AD5<>\"(Null)\"),('PFET Data'!$AC5<>\"(Null)\"),('PFET Data'!$AB5<>\"(Null)\")))","v":false},{"$f":"AND(((VGS_DR)>=4.5),((VGS_DR)<8),OR(('PFET Data'!$AE5<>\"(Null)\"),('PFET Data'!$AD5<>\"(Null)\"),('PFET Data'!$AC5<>\"(Null)\"),('PFET Data'!$AB5<>\"(Null)\")))","v":false},{"$f":"AND(((VGS_DR)>=8),OR(('PFET Data'!$AF5<>\"(Null)\"),('PFET Data'!$AE5<>\"(Null)\"),('PFET Data'!$AD5<>\"(Null)\"),('PFET Data'!$AC5<>\"(Null)\"),('PFET Data'!$AB5<>\"(Null)\")))","v":true},true,false,null,null,null,"RDSON15","RDSON18","RDSON25","RDSON45","RDSON8"]
[{"$f":"IF(J6,Load_Switch_PFET[[#This Row],[PARTNUMBER]],\"\")","v":""},null,{"$f":"AND((ABS(Load_Switch_PFET[[#This Row],[VDSMAX]])>=Vi*1.1),ABS(Load_Switch_PFET[[#This Row],[VGSMAX]])>=(VGS_DR*1.1),ABS(Load_Switch_PFET[[#This Row],[IDSMAX]])>=Io)","v":false},{"$f":"AND((VGS_DR>0),(VGS_DR<1.8),('PFET Data'!$AB6<>\"(Null)\"))","v":false},{"$f":"AND(((VGS_DR)>=1.8),((VGS_DR)<2.5),OR(('PFET Data'!$AC6<>\"(Null)\"),('PFET Data'!$AB6<>\"(Null)\")))","v":false},{"$f":"AND(((VGS_DR)>=2.5),((VGS_DR)<4.5),OR(('PFET Data'!$AD6<>\"(Null)\"),('PFET Data'!$AC6<>\"(Null)\"),('PFET Data'!$AB6<>\"(Null)\")))","v":false},{"$f":"AND(((VGS_DR)>=4.5),((VGS_DR)<8),OR(('PFET Data'!$AE6<>\"(Null)\"),('PFET Data'!$AD6<>\"(Null)\"),('PFET Data'!$AC6<>\"(Null)\"),('PFET Data'!$AB6<>\"(Null)\")))","v":false},{"$f":"AND(((VGS_DR)>=8),OR(('PFET Data'!$AF6<>\"(Null)\"),('PFET Data'!$AE6<>\"(Null)\"),('PFET Data'!$AD6<>\"(Null)\"),('PFET Data'!$AC6<>\"(Null)\"),('PFET Data'!$AB6<>\"(Null)\")))","v":true},true,false,null,null,null,"1.5V<=VGS<1.8V","1.8V<=VGS<2.5V","2.5V<=VGS<4V","4V<=VGS<7V","7V<=VGS<=12V","RDSON"]
[{"$f":"IF(J7,Load_Switch_PFET[[#This Row],[PARTNUMBER]],\"\")","v":""},null,{"$f":"AND((ABS(Load_Switch_PFET[[#This Row],[VDSMAX]])>=Vi*1.1),ABS(Load_Switch_PFET[[#This Row],[VGSMAX]])>=(VGS_DR*1.1),ABS(Load_Switch_PFET[[#This Row],[IDSMAX]])>=Io)","v":false},{"$f":"AND((VGS_DR>0),(VGS_DR<1.8),('PFET Data'!$AB7<>\"(Null)\"))","v":false},{"$f":"AND(((VGS_DR)>=1.8),((VGS_DR)<2.5),OR(('PFET Data'!$AC7<>\"(Null)\"),('PFET Data'!$AB7<>\"(Null)\")))","v":false},{"$f":"AND(((VGS_DR)>=2.5),((VGS_DR)<4.5),OR(('PFET Data'!$AD7<>\"(Null)\"),('PFET Data'!$AC7<>\"(Null)\"),('PFET Data'!$AB7<>\"(Null)\")))","v":false},{"$f":"AND(((VGS_DR)>=4.5),((VGS_DR)<8),OR(('PFET Data'!$AE7<>\"(Null)\"),('PFET Data'!$AD7<>\"(Null)\"),('PFET Data'!$AC7<>\"(Null)\"),('PFET Data'!$AB7<>\"(Null)\")))","v":false},{"$f":"AND(((VGS_DR)>=8),OR(('PFET Data'!$AF7<>\"(Null)\"),('PFET Data'!$AE7<>\"(Null)\"),('PFET Data'!$AD7<>\"(Null)\"),('PFET Data'!$AC7<>\"(Null)\"),('PFET Data'!$AB7<>\"(Null)\")))","v":true},true,false,null,null,null,{"$f":"((VGS_DR)>=1.5)","v":true},{"$f":"((VGS_DR)>=1.7)","v":true},{"$f":"((VGS_DR)>=2.2)","v":true},{"$f":"((VGS_DR)>=4)","v":true},{"$f":"((VGS_DR)>=7)","v":true},{"$f":"IF(R10,LOOKUP(Part_Number,Load_Switch_PFET[PARTNUMBER],Load_Switch_PFET[RDSON8])*1000,IF(Q10,LOOKUP(Part_Number,Load_Switch_PFET[PARTNUMBER],Load_Switch_PFET[RDSON45])*1000,IF(P10,LOOKUP(Part_Number,Load_Switch_PFET[PARTNUMBER],Load_Switch_PFET[RDSON25])*1000,IF(O10,LOOKUP(Part_Number,Load_Switch_PFET[PARTNUMBER],Load_Switch_PFET[RDSON18])*1000,IF(N10,LOOKUP(Part_Number,Load_Switch_PFET[PARTNUMBER],Load_Switch_PFET[RDSON15])*1000,\"\")))))","v":{"$error":"#N/A"}}]
[{"$f":"IF(J8,Load_Switch_PFET[[#This Row],[PARTNUMBER]],\"\")","v":""},null,{"$f":"AND((ABS(Load_Switch_PFET[[#This Row],[VDSMAX]])>=Vi*1.1),ABS(Load_Switch_PFET[[#This Row],[VGSMAX]])>=(VGS_DR*1.1),ABS(Load_Switch_PFET[[#This Row],[IDSMAX]])>=Io)","v":false},{"$f":"AND((VGS_DR>0),(VGS_DR<1.8),('PFET Data'!$AB8<>\"(Null)\"))","v":false},{"$f":"AND(((VGS_DR)>=1.8),((VGS_DR)<2.5),OR(('PFET Data'!$AC8<>\"(Null)\"),('PFET Data'!$AB8<>\"(Null)\")))","v":false},{"$f":"AND(((VGS_DR)>=2.5),((VGS_DR)<4.5),OR(('PFET Data'!$AD8<>\"(Null)\"),('PFET Data'!$AC8<>\"(Null)\"),('PFET Data'!$AB8<>\"(Null)\")))","v":false},{"$f":"AND(((VGS_DR)>=4.5),((VGS_DR)<8),OR(('PFET Data'!$AE8<>\"(Null)\"),('PFET Data'!$AD8<>\"(Null)\"),('PFET Data'!$AC8<>\"(Null)\"),('PFET Data'!$AB8<>\"(Null)\")))","v":false},{"$f":"AND(((VGS_DR)>=8),OR(('PFET Data'!$AF8<>\"(Null)\"),('PFET Data'!$AE8<>\"(Null)\"),('PFET Data'!$AD8<>\"(Null)\"),('PFET Data'!$AC8<>\"(Null)\"),('PFET Data'!$AB8<>\"(Null)\")))","v":true},true,false,null,null,null,{"$f":"IF(LOOKUP(Part_Number,Load_Switch_PFET[PARTNUMBER],Load_Switch_PFET[RDSON15])=\"(NULL)\",\"0\",\"1\")","v":{"$error":"#N/A"}},{"$f":"IF(LOOKUP(Part_Number,Load_Switch_PFET[PARTNUMBER],Load_Switch_PFET[RDSON18])=\"(NULL)\",\"0\",\"1\")","v":{"$error":"#N/A"}},{"$f":"IF(LOOKUP(Part_Number,Load_Switch_PFET[PARTNUMBER],Load_Switch_PFET[RDSON25])=\"(NULL)\",\"0\",\"1\")","v":{"$error":"#N/A"}},{"$f":"IF(LOOKUP(Part_Number,Load_Switch_PFET[PARTNUMBER],Load_Switch_PFET[RDSON45])=\"(NULL)\",\"0\",\"1\")","v":{"$error":"#N/A"}},{"$f":"IF(LOOKUP(Part_Number,Load_Switch_PFET[PARTNUMBER],Load_Switch_PFET[RDSON8])=\"(NULL)\",\"0\",\"1\")","v":{"$error":"#N/A"}}]
[{"$f":"IF(J9,Load_Switch_PFET[[#This Row],[PARTNUMBER]],\"\")","v":""},null,{"$f":"AND((ABS(Load_Switch_PFET[[#This Row],[VDSMAX]])>=Vi*1.1),ABS(Load_Switch_PFET[[#This Row],[VGSMAX]])>=(VGS_DR*1.1),ABS(Load_Switch_PFET[[#This Row],[IDSMAX]])>=Io)","v":false},{"$f":"AND((VGS_DR>0),(VGS_DR<1.8),('PFET Data'!$AB9<>\"(Null)\"))","v":false},{"$f":"AND(((VGS_DR)>=1.8),((VGS_DR)<2.5),OR(('PFET Data'!$AC9<>\"(Null)\"),('PFET Data'!$AB9<>\"(Null)\")))","v":false},{"$f":"AND(((VGS_DR)>=2.5),((VGS_DR)<4.5),OR(('PFET Data'!$AD9<>\"(Null)\"),('PFET Data'!$AC9<>\"(Null)\"),('PFET Data'!$AB9<>\"(Null)\")))","v":false},{"$f":"AND(((VGS_DR)>=4.5),((VGS_DR)<8),OR(('PFET Data'!$AE9<>\"(Null)\"),('PFET Data'!$AD9<>\"(Null)\"),('PFET Data'!$AC9<>\"(Null)\"),('PFET Data'!$AB9<>\"(Null)\")))","v":false},{"$f":"AND(((VGS_DR)>=8),OR(('PFET Data'!$AF9<>\"(Null)\"),('PFET Data'!$AE9<>\"(Null)\"),('PFET Data'!$AD9<>\"(Null)\"),('PFET Data'!$AC9<>\"(Null)\"),('PFET Data'!$AB9<>\"(Null)\")))","v":true},true,false,null,null,null,{"$f":"AND(N7,N8=\"1\")","v":{"$error":"#N/A"}},{"$f":"AND(O7,O8=\"1\")","v":{"$error":"#N/A"}},{"$f":"AND(P7,P8=\"1\")","v":{"$error":"#N/A"}},{"$f":"AND(Q7,Q8=\"1\")","v":{"$error":"#N/A"}},{"$error":"#N/A"}]
[{"$f":"IF(J10,Load_Switch_PFET[[#This Row],[PARTNUMBER]],\"\")","v":""},null,{"$f":"AND((ABS(Load_Switch_PFET[[#This Row],[VDSMAX]])>=Vi*1.1),ABS(Load_Switch_PFET[[#This Row],[VGSMAX]])>=(VGS_DR*1.1),ABS(Load_Switch_PFET[[#This Row],[IDSMAX]])>=Io)","v":false},{"$f":"AND((VGS_DR>0),(VGS_DR<1.8),('PFET Data'!$AB10<>\"(Null)\"))","v":false},{"$f":"AND(((VGS_DR)>=1.8),((VGS_DR)<2.5),OR(('PFET Data'!$AC10<>\"(Null)\"),('PFET Data'!$AB10<>\"(Null)\")))","v":false},{"$f":"AND(((VGS_DR)>=2.5),((VGS_DR)<4.5),OR(('PFET Data'!$AD10<>\"(Null)\"),('PFET Data'!$AC10<>\"(Null)\"),('PFET Data'!$AB10<>\"(Null)\")))","v":false},{"$f":"AND(((VGS_DR)>=4.5),((VGS_DR)<8),OR(('PFET Data'!$AE10<>\"(Null)\"),('PFET Data'!$AD10<>\"(Null)\"),('PFET Data'!$AC10<>\"(Null)\"),('PFET Data'!$AB10<>\"(Null)\")))","v":false},{"$f":"AND(((VGS_DR)>=8),OR(('PFET Data'!$AF10<>\"(Null)\"),('PFET Data'!$AE10<>\"(Null)\"),('PFET Data'!$AD10<>\"(Null)\"),('PFET Data'!$AC10<>\"(Null)\"),('PFET Data'!$AB10<>\"(Null)\")))","v":true},true,false,null,null,{"$f":"OR(N9:R9)","v":{"$error":"#N/A"}},{"$f":"AND($M$7,N7,N8=\"1\")","v":{"$error":"#N/A"}},{"$f":"AND($M$7,O7,O8=\"1\")","v":{"$error":"#N/A"}},{"$error":"#N/A"},{"$error":"#N/A"},{"$error":"#N/A"}]
[{"$f":"IF(J11,Load_Switch_PFET[[#This Row],[PARTNUMBER]],\"\")","v":""},null,{"$f":"AND((ABS(Load_Switch_PFET[[#This Row],[VDSMAX]])>=Vi*1.1),ABS(Load_Switch_PFET[[#This Row],[VGSMAX]])>=(VGS_DR*1.1),ABS(Load_Switch_PFET[[#This Row],[IDSMAX]])>=Io)","v":false},{"$f":"AND((VGS_DR>0),(VGS_DR<1.8),('PFET Data'!$AB11<>\"(Null)\"))","v":false},{"$f":"AND(((VGS_DR)>=1.8),((VGS_DR)<2.5),OR(('PFET Data'!$AC11<>\"(Null)\"),('PFET Data'!$AB11<>\"(Null)\")))","v":false},{"$f":"AND(((VGS_DR)>=2.5),((VGS_DR)<4.5),OR(('PFET Data'!$AD11<>\"(Null)\"),('PFET Data'!$AC11<>\"(Null)\"),('PFET Data'!$AB11<>\"(Null)\")))","v":false},{"$f":"AND(((VGS_DR)>=4.5),((VGS_DR)<8),OR(('PFET Data'!$AE11<>\"(Null)\"),('PFET Data'!$AD11<>\"(Null)\"),('PFET Data'!$AC11<>\"(Null)\"),('PFET Data'!$AB11<>\"(Null)\")))","v":false},{"$f":"AND(((VGS_DR)>=8),OR(('PFET Data'!$AF11<>\"(Null)\"),('PFET Data'!$AE11<>\"(Null)\"),('PFET Data'!$AD11<>\"(Null)\"),('PFET Data'!$AC11<>\"(Null)\"),('PFET Data'!$AB11<>\"(Null)\")))","v":true},true,false]
[{"$f":"IF(J12,Load_Switch_PFET[[#This Row],[PARTNUMBER]],\"\")","v":""},null,{"$f":"AND((ABS(Load_Switch_PFET[[#This Row],[VDSMAX]])>=Vi*1.1),ABS(Load_Switch_PFET[[#This Row],[VGSMAX]])>=(VGS_DR*1.1),ABS(Load_Switch_PFET[[#This Row],[IDSMAX]])>=Io)","v":false},{"$f":"AND((VGS_DR>0),(VGS_DR<1.8),('PFET Data'!$AB12<>\"(Null)\"))","v":false},{"$f":"AND(((VGS_DR)>=1.8),((VGS_DR)<2.5),OR(('PFET Data'!$AC12<>\"(Null)\"),('PFET Data'!$AB12<>\"(Null)\")))","v":false},{"$f":"AND(((VGS_DR)>=2.5),((VGS_DR)<4.5),OR(('PFET Data'!$AD12<>\"(Null)\"),('PFET Data'!$AC12<>\"(Null)\"),('PFET Data'!$AB12<>\"(Null)\")))","v":false},{"$f":"AND(((VGS_DR)>=4.5),((VGS_DR)<8),OR(('PFET Data'!$AE12<>\"(Null)\"),('PFET Data'!$AD12<>\"(Null)\"),('PFET Data'!$AC12<>\"(Null)\"),('PFET Data'!$AB12<>\"(Null)\")))","v":false},{"$f":"AND(((VGS_DR)>=8),OR(('PFET Data'!$AF12<>\"(Null)\"),('PFET Data'!$AE12<>\"(Null)\"),('PFET Data'!$AD12<>\"(Null)\"),('PFET Data'!$AC12<>\"(Null)\"),('PFET Data'!$AB12<>\"(Null)\")))","v":true},true,false,null,null,"SELECT RDS(ON) CLOSEST TO VDRIVE FOR FET 2"]
[{"$f":"IF(J13,Load_Switch_PFET[[#This Row],[PARTNUMBER]],\"\")","v":""},null,{"$f":"AND((ABS(Load_Switch_PFET[[#This Row],[VDSMAX]])>=Vi*1.1),ABS(Load_Switch_PFET[[#This Row],[VGSMAX]])>=(VGS_DR*1.1),ABS(Load_Switch_PFET[[#This Row],[IDSMAX]])>=Io)","v":false},{"$f":"AND((VGS_DR>0),(VGS_DR<1.8),('PFET Data'!$AB13<>\"(Null)\"))","v":false},{"$f":"AND(((VGS_DR)>=1.8),((VGS_DR)<2.5),OR(('PFET Data'!$AC13<>\"(Null)\"),('PFET Data'!$AB13<>\"(Null)\")))","v":false},{"$f":"AND(((VGS_DR)>=2.5),((VGS_DR)<4.5),OR(('PFET Data'!$AD13<>\"(Null)\"),('PFET Data'!$AC13<>\"(Null)\"),('PFET Data'!$AB13<>\"(Null)\")))","v":false},{"$f":"AND(((VGS_DR)>=4.5),((VGS_DR)<8),OR(('PFET Data'!$AE13<>\"(Null)\"),('PFET Data'!$AD13<>\"(Null)\"),('PFET Data'!$AC13<>\"(Null)\"),('PFET Data'!$AB13<>\"(Null)\")))","v":false},{"$f":"AND(((VGS_DR)>=8),OR(('PFET Data'!$AF13<>\"(Null)\"),('PFET Data'!$AE13<>\"(Null)\"),('PFET Data'!$AD13<>\"(Null)\"),('PFET Data'!$AC13<>\"(Null)\"),('PFET Data'!$AB13<>\"(Null)\")))","v":true},true,false,null,null,null,"RDSON15","RDSON18","RDSON25","RDSON45","RDSON8"]
[{"$f":"IF(J14,Load_Switch_PFET[[#This Row],[PARTNUMBER]],\"\")","v":""},null,{"$f":"AND((ABS(Load_Switch_PFET[[#This Row],[VDSMAX]])>=Vi*1.1),ABS(Load_Switch_PFET[[#This Row],[VGSMAX]])>=(VGS_DR*1.1),ABS(Load_Switch_PFET[[#This Row],[IDSMAX]])>=Io)","v":false},{"$f":"AND((VGS_DR>0),(VGS_DR<1.8),('PFET Data'!$AB14<>\"(Null)\"))","v":false},{"$f":"AND(((VGS_DR)>=1.8),((VGS_DR)<2.5),OR(('PFET Data'!$AC14<>\"(Null)\"),('PFET Data'!$AB14<>\"(Null)\")))","v":false},{"$f":"AND(((VGS_DR)>=2.5),((VGS_DR)<4.5),OR(('PFET Data'!$AD14<>\"(Null)\"),('PFET Data'!$AC14<>\"(Null)\"),('PFET Data'!$AB14<>\"(Null)\")))","v":false},{"$f":"AND(((VGS_DR)>=4.5),((VGS_DR)<8),OR(('PFET Data'!$AE14<>\"(Null)\"),('PFET Data'!$AD14<>\"(Null)\"),('PFET Data'!$AC14<>\"(Null)\"),('PFET Data'!$AB14<>\"(Null)\")))","v":false},{"$f":"AND(((VGS_DR)>=8),OR(('PFET Data'!$AF14<>\"(Null)\"),('PFET Data'!$AE14<>\"(Null)\"),('PFET Data'!$AD14<>\"(Null)\"),('PFET Data'!$AC14<>\"(Null)\"),('PFET Data'!$AB14<>\"(Null)\")))","v":true},true,false,null,null,null,"1.5V<=VGS<1.8V","1.8V<=VGS<2.5V","2.5V<=VGS<4V","4V<=VGS<7V","7V<=VGS<=12V","RDSON"]
[{"$f":"IF(J15,Load_Switch_PFET[[#This Row],[PARTNUMBER]],\"\")","v":""},null,{"$f":"AND((ABS(Load_Switch_PFET[[#This Row],[VDSMAX]])>=Vi*1.1),ABS(Load_Switch_PFET[[#This Row],[VGSMAX]])>=(VGS_DR*1.1),ABS(Load_Switch_PFET[[#This Row],[IDSMAX]])>=Io)","v":false},{"$f":"AND((VGS_DR>0),(VGS_DR<1.8),('PFET Data'!$AB15<>\"(Null)\"))","v":false},{"$f":"AND(((VGS_DR)>=1.8),((VGS_DR)<2.5),OR(('PFET Data'!$AC15<>\"(Null)\"),('PFET Data'!$AB15<>\"(Null)\")))","v":false},{"$f":"AND(((VGS_DR)>=2.5),((VGS_DR)<4.5),OR(('PFET Data'!$AD15<>\"(Null)\"),('PFET Data'!$AC15<>\"(Null)\"),('PFET Data'!$AB15<>\"(Null)\")))","v":false},{"$f":"AND(((VGS_DR)>=4.5),((VGS_DR)<8),OR(('PFET Data'!$AE15<>\"(Null)\"),('PFET Data'!$AD15<>\"(Null)\"),('PFET Data'!$AC15<>\"(Null)\"),('PFET Data'!$AB15<>\"(Null)\")))","v":false},{"$f":"AND(((VGS_DR)>=8),OR(('PFET Data'!$AF15<>\"(Null)\"),('PFET Data'!$AE15<>\"(Null)\"),('PFET Data'!$AD15<>\"(Null)\"),('PFET Data'!$AC15<>\"(Null)\"),('PFET Data'!$AB15<>\"(Null)\")))","v":true},true,false,null,null,null,{"$f":"((VGS_DR)>=1.5)","v":true},{"$f":"((VGS_DR)>=1.7)","v":true},{"$f":"((VGS_DR)>=2.2)","v":true},{"$f":"((VGS_DR)>=4)","v":true},{"$f":"((VGS_DR)>=7)","v":true},{"$f":"IF(R18,LOOKUP(Part_Number2,Load_Switch_PFET[PARTNUMBER],Load_Switch_PFET[RDSON8])*1000,IF(Q18,LOOKUP(Part_Number2,Load_Switch_PFET[PARTNUMBER],Load_Switch_PFET[RDSON45])*1000,IF(P18,LOOKUP(Part_Number2,Load_Switch_PFET[PARTNUMBER],Load_Switch_PFET[RDSON25])*1000,IF(O18,LOOKUP(Part_Number2,Load_Switch_PFET[PARTNUMBER],Load_Switch_PFET[RDSON18])*1000,IF(N18,LOOKUP(Part_Number2,Load_Switch_PFET[PARTNUMBER],Load_Switch_PFET[RDSON15])*1000,\"\")))))","v":{"$error":"#N/A"}}]
[{"$f":"IF(J16,Load_Switch_PFET[[#This Row],[PARTNUMBER]],\"\")","v":""},null,{"$f":"AND((ABS(Load_Switch_PFET[[#This Row],[VDSMAX]])>=Vi*1.1),ABS(Load_Switch_PFET[[#This Row],[VGSMAX]])>=(VGS_DR*1.1),ABS(Load_Switch_PFET[[#This Row],[IDSMAX]])>=Io)","v":false},{"$f":"AND((VGS_DR>0),(VGS_DR<1.8),('PFET Data'!$AB16<>\"(Null)\"))","v":false},{"$f":"AND(((VGS_DR)>=1.8),((VGS_DR)<2.5),OR(('PFET Data'!$AC16<>\"(Null)\"),('PFET Data'!$AB16<>\"(Null)\")))","v":false},{"$f":"AND(((VGS_DR)>=2.5),((VGS_DR)<4.5),OR(('PFET Data'!$AD16<>\"(Null)\"),('PFET Data'!$AC16<>\"(Null)\"),('PFET Data'!$AB16<>\"(Null)\")))","v":false},{"$f":"AND(((VGS_DR)>=4.5),((VGS_DR)<8),OR(('PFET Data'!$AE16<>\"(Null)\"),('PFET Data'!$AD16<>\"(Null)\"),('PFET Data'!$AC16<>\"(Null)\"),('PFET Data'!$AB16<>\"(Null)\")))","v":false},{"$f":"AND(((VGS_DR)>=8),OR(('PFET Data'!$AF16<>\"(Null)\"),('PFET Data'!$AE16<>\"(Null)\"),('PFET Data'!$AD16<>\"(Null)\"),('PFET Data'!$AC16<>\"(Null)\"),('PFET Data'!$AB16<>\"(Null)\")))","v":true},true,false,null,null,null,{"$f":"IF(LOOKUP(Part_Number2,Load_Switch_PFET[PARTNUMBER],Load_Switch_PFET[RDSON15])=\"(NULL)\",\"0\",\"1\")","v":{"$error":"#N/A"}},{"$f":"IF(LOOKUP(Part_Number2,Load_Switch_PFET[PARTNUMBER],Load_Switch_PFET[RDSON18])=\"(NULL)\",\"0\",\"1\")","v":{"$error":"#N/A"}},{"$f":"IF(LOOKUP(Part_Number2,Load_Switch_PFET[PARTNUMBER],Load_Switch_PFET[RDSON25])=\"(NULL)\",\"0\",\"1\")","v":{"$error":"#N/A"}},{"$f":"IF(LOOKUP(Part_Number2,Load_Switch_PFET[PARTNUMBER],Load_Switch_PFET[RDSON45])=\"(NULL)\",\"0\",\"1\")","v":{"$error":"#N/A"}},{"$f":"IF(LOOKUP(Part_Number2,Load_Switch_PFET[PARTNUMBER],Load_Switch_PFET[RDSON8])=\"(NULL)\",\"0\",\"1\")","v":{"$error":"#N/A"}}]
[{"$f":"IF(J17,Load_Switch_PFET[[#This Row],[PARTNUMBER]],\"\")","v":"CSD25402Q3A"},null,{"$f":"AND((ABS(Load_Switch_PFET[[#This Row],[VDSMAX]])>=Vi*1.1),ABS(Load_Switch_PFET[[#This Row],[VGSMAX]])>=(VGS_DR*1.1),ABS(Load_Switch_PFET[[#This Row],[IDSMAX]])>=Io)","v":true},{"$f":"AND((VGS_DR>0),(VGS_DR<1.8),('PFET Data'!$AB17<>\"(Null)\"))","v":false},{"$f":"AND(((VGS_DR)>=1.8),((VGS_DR)<2.5),OR(('PFET Data'!$AC17<>\"(Null)\"),('PFET Data'!$AB17<>\"(Null)\")))","v":false},{"$f":"AND(((VGS_DR)>=2.5),((VGS_DR)<4.5),OR(('PFET Data'!$AD17<>\"(Null)\"),('PFET Data'!$AC17<>\"(Null)\"),('PFET Data'!$AB17<>\"(Null)\")))","v":false},{"$f":"AND(((VGS_DR)>=4.5),((VGS_DR)<8),OR(('PFET Data'!$AE17<>\"(Null)\"),('PFET Data'!$AD17<>\"(Null)\"),('PFET Data'!$AC17<>\"(Null)\"),('PFET Data'!$AB17<>\"(Null)\")))","v":false},{"$f":"AND(((VGS_DR)>=8),OR(('PFET Data'!$AF17<>\"(Null)\"),('PFET Data'!$AE17<>\"(Null)\"),('PFET Data'!$AD17<>\"(Null)\"),('PFET Data'!$AC17<>\"(Null)\"),('PFET Data'!$AB17<>\"(Null)\")))","v":true},true,true,null,null,null,{"$f":"AND(N15,N16=\"1\")","v":{"$error":"#N/A"}},{"$f":"AND(O15,O16=\"1\")","v":{"$error":"#N/A"}},{"$f":"AND(P15,P16=\"1\")","v":{"$error":"#N/A"}},{"$f":"AND(Q15,Q16=\"1\")","v":{"$error":"#N/A"}},{"$error":"#N/A"}]
[{"$f":"IF(J18,Load_Switch_PFET[[#This Row],[PARTNUMBER]],\"\")","v":"CSD25404Q3"},null,{"$f":"AND((ABS(Load_Switch_PFET[[#This Row],[VDSMAX]])>=Vi*1.1),ABS(Load_Switch_PFET[[#This Row],[VGSMAX]])>=(VGS_DR*1.1),ABS(Load_Switch_PFET[[#This Row],[IDSMAX]])>=Io)","v":true},{"$f":"AND((VGS_DR>0),(VGS_DR<1.8),('PFET Data'!$AB18<>\"(Null)\"))","v":false},{"$f":"AND(((VGS_DR)>=1.8),((VGS_DR)<2.5),OR(('PFET Data'!$AC18<>\"(Null)\"),('PFET Data'!$AB18<>\"(Null)\")))","v":false},{"$f":"AND(((VGS_DR)>=2.5),((VGS_DR)<4.5),OR(('PFET Data'!$AD18<>\"(Null)\"),('PFET Data'!$AC18<>\"(Null)\"),('PFET Data'!$AB18<>\"(Null)\")))","v":false},{"$f":"AND(((VGS_DR)>=4.5),((VGS_DR)<8),OR(('PFET Data'!$AE18<>\"(Null)\"),('PFET Data'!$AD18<>\"(Null)\"),('PFET Data'!$AC18<>\"(Null)\"),('PFET Data'!$AB18<>\"(Null)\")))","v":false},{"$f":"AND(((VGS_DR)>=8),OR(('PFET Data'!$AF18<>\"(Null)\"),('PFET Data'!$AE18<>\"(Null)\"),('PFET Data'!$AD18<>\"(Null)\"),('PFET Data'!$AC18<>\"(Null)\"),('PFET Data'!$AB18<>\"(Null)\")))","v":true},true,true,null,null,{"$f":"OR(N17:R17)","v":{"$error":"#N/A"}},{"$f":"AND($M$15,N15,N16=\"1\")","v":{"$error":"#N/A"}},{"$f":"AND($M$15,O15,O16=\"1\")","v":{"$error":"#N/A"}},{"$error":"#N/A"},{"$error":"#N/A"},{"$error":"#N/A"}]
[{"$f":"IF(J19,Load_Switch_PFET[[#This Row],[PARTNUMBER]],\"\")","v":""},null,{"$f":"AND((ABS(Load_Switch_PFET[[#This Row],[VDSMAX]])>=Vi*1.1),ABS(Load_Switch_PFET[[#This Row],[VGSMAX]])>=(VGS_DR*1.1),ABS(Load_Switch_PFET[[#This Row],[IDSMAX]])>=Io)","v":false},{"$f":"AND((VGS_DR>0),(VGS_DR<1.8),('PFET Data'!$AB19<>\"(Null)\"))","v":false},{"$f":"AND(((VGS_DR)>=1.8),((VGS_DR)<2.5),OR(('PFET Data'!$AC19<>\"(Null)\"),('PFET Data'!$AB19<>\"(Null)\")))","v":false},{"$f":"AND(((VGS_DR)>=2.5),((VGS_DR)<4.5),OR(('PFET Data'!$AD19<>\"(Null)\"),('PFET Data'!$AC19<>\"(Null)\"),('PFET Data'!$AB19<>\"(Null)\")))","v":false},{"$f":"AND(((VGS_DR)>=4.5),((VGS_DR)<8),OR(('PFET Data'!$AE19<>\"(Null)\"),('PFET Data'!$AD19<>\"(Null)\"),('PFET Data'!$AC19<>\"(Null)\"),('PFET Data'!$AB19<>\"(Null)\")))","v":false},{"$f":"AND(((VGS_DR)>=8),OR(('PFET Data'!$AF19<>\"(Null)\"),('PFET Data'!$AE19<>\"(Null)\"),('PFET Data'!$AD19<>\"(Null)\"),('PFET Data'!$AC19<>\"(Null)\"),('PFET Data'!$AB19<>\"(Null)\")))","v":true},true,false]
[{"$f":"IF(J20,Load_Switch_PFET[[#This Row],[PARTNUMBER]],\"\")","v":""},null,{"$f":"AND((ABS(Load_Switch_PFET[[#This Row],[VDSMAX]])>=Vi*1.1),ABS(Load_Switch_PFET[[#This Row],[VGSMAX]])>=(VGS_DR*1.1),ABS(Load_Switch_PFET[[#This Row],[IDSMAX]])>=Io)","v":false},{"$f":"AND((VGS_DR>0),(VGS_DR<1.8),('PFET Data'!$AB20<>\"(Null)\"))","v":false},{"$f":"AND(((VGS_DR)>=1.8),((VGS_DR)<2.5),OR(('PFET Data'!$AC20<>\"(Null)\"),('PFET Data'!$AB20<>\"(Null)\")))","v":false},{"$f":"AND(((VGS_DR)>=2.5),((VGS_DR)<4.5),OR(('PFET Data'!$AD20<>\"(Null)\"),('PFET Data'!$AC20<>\"(Null)\"),('PFET Data'!$AB20<>\"(Null)\")))","v":false},{"$f":"AND(((VGS_DR)>=4.5),((VGS_DR)<8),OR(('PFET Data'!$AE20<>\"(Null)\"),('PFET Data'!$AD20<>\"(Null)\"),('PFET Data'!$AC20<>\"(Null)\"),('PFET Data'!$AB20<>\"(Null)\")))","v":false},{"$f":"AND(((VGS_DR)>=8),OR(('PFET Data'!$AF20<>\"(Null)\"),('PFET Data'!$AE20<>\"(Null)\"),('PFET Data'!$AD20<>\"(Null)\"),('PFET Data'!$AC20<>\"(Null)\"),('PFET Data'!$AB20<>\"(Null)\")))","v":true},true,false,null,null,"SELECT RDS(ON) CLOSEST TO VDRIVE FOR FET 3"]
[{"$f":"IF(J21,Load_Switch_PFET[[#This Row],[PARTNUMBER]],\"\")","v":""},null,{"$f":"AND((ABS(Load_Switch_PFET[[#This Row],[VDSMAX]])>=Vi*1.1),ABS(Load_Switch_PFET[[#This Row],[VGSMAX]])>=(VGS_DR*1.1),ABS(Load_Switch_PFET[[#This Row],[IDSMAX]])>=Io)","v":false},{"$f":"AND((VGS_DR>0),(VGS_DR<1.8),('PFET Data'!$AB21<>\"(Null)\"))","v":false},{"$f":"AND(((VGS_DR)>=1.8),((VGS_DR)<2.5),OR(('PFET Data'!$AC21<>\"(Null)\"),('PFET Data'!$AB21<>\"(Null)\")))","v":false},{"$f":"AND(((VGS_DR)>=2.5),((VGS_DR)<4.5),OR(('PFET Data'!$AD21<>\"(Null)\"),('PFET Data'!$AC21<>\"(Null)\"),('PFET Data'!$AB21<>\"(Null)\")))","v":false},{"$f":"AND(((VGS_DR)>=4.5),((VGS_DR)<8),OR(('PFET Data'!$AE21<>\"(Null)\"),('PFET Data'!$AD21<>\"(Null)\"),('PFET Data'!$AC21<>\"(Null)\"),('PFET Data'!$AB21<>\"(Null)\")))","v":false},{"$f":"AND(((VGS_DR)>=8),OR(('PFET Data'!$AF21<>\"(Null)\"),('PFET Data'!$AE21<>\"(Null)\"),('PFET Data'!$AD21<>\"(Null)\"),('PFET Data'!$AC21<>\"(Null)\"),('PFET Data'!$AB21<>\"(Null)\")))","v":true},true,false,null,null,null,"RDSON15","RDSON18","RDSON25","RDSON45","RDSON8"]
[{"$f":"IF(J22,Load_Switch_PFET[[#This Row],[PARTNUMBER]],\"\")","v":""},null,{"$f":"AND((ABS(Load_Switch_PFET[[#This Row],[VDSMAX]])>=Vi*1.1),ABS(Load_Switch_PFET[[#This Row],[VGSMAX]])>=(VGS_DR*1.1),ABS(Load_Switch_PFET[[#This Row],[IDSMAX]])>=Io)","v":false},{"$f":"AND((VGS_DR>0),(VGS_DR<1.8),('PFET Data'!$AB22<>\"(Null)\"))","v":false},{"$f":"AND(((VGS_DR)>=1.8),((VGS_DR)<2.5),OR(('PFET Data'!$AC22<>\"(Null)\"),('PFET Data'!$AB22<>\"(Null)\")))","v":false},{"$f":"AND(((VGS_DR)>=2.5),((VGS_DR)<4.5),OR(('PFET Data'!$AD22<>\"(Null)\"),('PFET Data'!$AC22<>\"(Null)\"),('PFET Data'!$AB22<>\"(Null)\")))","v":false},{"$f":"AND(((VGS_DR)>=4.5),((VGS_DR)<8),OR(('PFET Data'!$AE22<>\"(Null)\"),('PFET Data'!$AD22<>\"(Null)\"),('PFET Data'!$AC22<>\"(Null)\"),('PFET Data'!$AB22<>\"(Null)\")))","v":false},{"$f":"AND(((VGS_DR)>=8),OR(('PFET Data'!$AF22<>\"(Null)\"),('PFET Data'!$AE22<>\"(Null)\"),('PFET Data'!$AD22<>\"(Null)\"),('PFET Data'!$AC22<>\"(Null)\"),('PFET Data'!$AB22<>\"(Null)\")))","v":true},true,false,null,null,null,"1.5V<=VGS<1.8V","1.8V<=VGS<2.5V","2.5V<=VGS<4V","4V<=VGS<7V","7V<=VGS<=12V","RDSON"]
[{"$f":"IF(J23,Load_Switch_PFET[[#This Row],[PARTNUMBER]],\"\")","v":""},null,{"$f":"AND((ABS(Load_Switch_PFET[[#This Row],[VDSMAX]])>=Vi*1.1),ABS(Load_Switch_PFET[[#This Row],[VGSMAX]])>=(VGS_DR*1.1),ABS(Load_Switch_PFET[[#This Row],[IDSMAX]])>=Io)","v":false},{"$f":"AND((VGS_DR>0),(VGS_DR<1.8),('PFET Data'!$AB23<>\"(Null)\"))","v":false},{"$f":"AND(((VGS_DR)>=1.8),((VGS_DR)<2.5),OR(('PFET Data'!$AC23<>\"(Null)\"),('PFET Data'!$AB23<>\"(Null)\")))","v":false},{"$f":"AND(((VGS_DR)>=2.5),((VGS_DR)<4.5),OR(('PFET Data'!$AD23<>\"(Null)\"),('PFET Data'!$AC23<>\"(Null)\"),('PFET Data'!$AB23<>\"(Null)\")))","v":false},{"$f":"AND(((VGS_DR)>=4.5),((VGS_DR)<8),OR(('PFET Data'!$AE23<>\"(Null)\"),('PFET Data'!$AD23<>\"(Null)\"),('PFET Data'!$AC23<>\"(Null)\"),('PFET Data'!$AB23<>\"(Null)\")))","v":false},{"$f":"AND(((VGS_DR)>=8),OR(('PFET Data'!$AF23<>\"(Null)\"),('PFET Data'!$AE23<>\"(Null)\"),('PFET Data'!$AD23<>\"(Null)\"),('PFET Data'!$AC23<>\"(Null)\"),('PFET Data'!$AB23<>\"(Null)\")))","v":true},true,false,null,null,null,{"$f":"((VGS_DR)>=1.5)","v":true},{"$f":"((VGS_DR)>=1.7)","v":true},{"$f":"((VGS_DR)>=2.2)","v":true},{"$f":"((VGS_DR)>=4)","v":true},{"$f":"((VGS_DR)>=7)","v":true},{"$f":"IF(R26,LOOKUP(Part_Number3,Load_Switch_PFET[PARTNUMBER],Load_Switch_PFET[RDSON8])*1000,IF(Q26,LOOKUP(Part_Number3,Load_Switch_PFET[PARTNUMBER],Load_Switch_PFET[RDSON45])*1000,IF(P26,LOOKUP(Part_Number3,Load_Switch_PFET[PARTNUMBER],Load_Switch_PFET[RDSON25])*1000,IF(O26,LOOKUP(Part_Number3,Load_Switch_PFET[PARTNUMBER],Load_Switch_PFET[RDSON18])*1000,IF(N26,LOOKUP(Part_Number3,Load_Switch_PFET[PARTNUMBER],Load_Switch_PFET[RDSON15])*1000,\"\")))))","v":{"$error":"#N/A"}}]
[{"$f":"IF(J24,Load_Switch_PFET[[#This Row],[PARTNUMBER]],\"\")","v":""},null,{"$f":"AND((ABS(Load_Switch_PFET[[#This Row],[VDSMAX]])>=Vi*1.1),ABS(Load_Switch_PFET[[#This Row],[VGSMAX]])>=(VGS_DR*1.1),ABS(Load_Switch_PFET[[#This Row],[IDSMAX]])>=Io)","v":false},{"$f":"AND((VGS_DR>0),(VGS_DR<1.8),('PFET Data'!$AB24<>\"(Null)\"))","v":false},{"$f":"AND(((VGS_DR)>=1.8),((VGS_DR)<2.5),OR(('PFET Data'!$AC24<>\"(Null)\"),('PFET Data'!$AB24<>\"(Null)\")))","v":false},{"$f":"AND(((VGS_DR)>=2.5),((VGS_DR)<4.5),OR(('PFET Data'!$AD24<>\"(Null)\"),('PFET Data'!$AC24<>\"(Null)\"),('PFET Data'!$AB24<>\"(Null)\")))","v":false},{"$f":"AND(((VGS_DR)>=4.5),((VGS_DR)<8),OR(('PFET Data'!$AE24<>\"(Null)\"),('PFET Data'!$AD24<>\"(Null)\"),('PFET Data'!$AC24<>\"(Null)\"),('PFET Data'!$AB24<>\"(Null)\")))","v":false},{"$f":"AND(((VGS_DR)>=8),OR(('PFET Data'!$AF24<>\"(Null)\"),('PFET Data'!$AE24<>\"(Null)\"),('PFET Data'!$AD24<>\"(Null)\"),('PFET Data'!$AC24<>\"(Null)\"),('PFET Data'!$AB24<>\"(Null)\")))","v":true},true,false,null,null,null,{"$f":"IF(LOOKUP(Part_Number3,Load_Switch_PFET[PARTNUMBER],Load_Switch_PFET[RDSON15])=\"(NULL)\",\"0\",\"1\")","v":{"$error":"#N/A"}},{"$f":"IF(LOOKUP(Part_Number3,Load_Switch_PFET[PARTNUMBER],Load_Switch_PFET[RDSON18])=\"(NULL)\",\"0\",\"1\")","v":{"$error":"#N/A"}},{"$f":"IF(LOOKUP(Part_Number3,Load_Switch_PFET[PARTNUMBER],Load_Switch_PFET[RDSON25])=\"(NULL)\",\"0\",\"1\")","v":{"$error":"#N/A"}},{"$f":"IF(LOOKUP(Part_Number3,Load_Switch_PFET[PARTNUMBER],Load_Switch_PFET[RDSON45])=\"(NULL)\",\"0\",\"1\")","v":{"$error":"#N/A"}},{"$f":"IF(LOOKUP(Part_Number3,Load_Switch_PFET[PARTNUMBER],Load_Switch_PFET[RDSON8])=\"(NULL)\",\"0\",\"1\")","v":{"$error":"#N/A"}}]
[null,null,null,null,null,null,null,null,null,null,null,null,null,{"$f":"AND(N23,N24=\"1\")","v":{"$error":"#N/A"}},{"$f":"AND(O23,O24=\"1\")","v":{"$error":"#N/A"}},{"$f":"AND(P23,P24=\"1\")","v":{"$error":"#N/A"}},{"$f":"AND(Q23,Q24=\"1\")","v":{"$error":"#N/A"}},{"$error":"#N/A"}]
[null,null,null,null,null,null,null,null,null,null,null,null,{"$f":"OR(N25:R25)","v":{"$error":"#N/A"}},{"$f":"AND($M$7,N23,N24=\"1\")","v":{"$error":"#N/A"}},{"$f":"AND($M$7,O23,O24=\"1\")","v":{"$error":"#N/A"}},{"$error":"#N/A"},{"$error":"#N/A"},{"$error":"#N/A"}]

{"sheet":"Ploss_All_NFETs","index":8,"n_rows":167,"n_cols":52,"rows_kept":167,"cut":false,"hidden":true,"merged":[]}
["PN","RDS_1V8","RDS_2V5","RDS_3V","RDS_4V5","RDS_6V","RDS_8V","RDS_10V","1V8","2V5","3V","4V5","6V","8V","10V","OR","VGS_1V8","VGS_2V5","VGS_3V","VGS_4V5","VGS_6V","VGS_8V","VGS_10V","RDSON","RDSONTJ","VTHMAX","VTHMIN","VGSMIN","RGMAX","QGTYP","QGS","QGD","QGTH","VMILLER","COSS","QSW","VGTH","PCOND","PTOT","1KPRICE","PACKAGE","RESULTS",null,null,"RDSON18 1.8V<=VGS<2.5V","RDSON25 2.5V<=VGS<3V","RDSON3 3V<=VGS<4V"," 4V<=VGS<5.5VRDS45","RDSON6 5.5V<=VGS<7","RDSON8 7V<=VGS<9V","RDSON10 9V<=VGS<=16V","RDSON"]
[{"$f":"IF(CH=\"N\",NLogic!B2,\"\")","v":""},{"$f":"IF(OR($A2=0,$A2=\"\"),\"0\",IF(LOOKUP($A2,Load_Switch_NFET[PARTNUMBER],Load_Switch_NFET[RDSON18])=\"(NULL)\",\"0\",\"1\"))","v":"0"},{"$f":"IF(OR($A2=0,$A2=\"\"),\"0\",IF(LOOKUP($A2,Load_Switch_NFET[PARTNUMBER],Load_Switch_NFET[RDSON25])=\"(NULL)\",\"0\",\"1\"))","v":"0"},{"$f":"IF(OR($A2=0,$A2=\"\"),\"0\",IF(LOOKUP($A2,Load_Switch_NFET[PARTNUMBER],Load_Switch_NFET[RDSON3])=\"(NULL)\",\"0\",\"1\"))","v":"0"},{"$f":"IF(OR($A2=0,$A2=\"\"),\"0\",IF(LOOKUP($A2,Load_Switch_NFET[PARTNUMBER],Load_Switch_NFET[RDSON45])=\"(NULL)\",\"0\",\"1\"))","v":"0"},{"$f":"IF(OR($A2=0,$A2=\"\"),\"0\",IF(LOOKUP($A2,Load_Switch_NFET[PARTNUMBER],Load_Switch_NFET[RDSON6])=\"(NULL)\",\"0\",\"1\"))","v":"0"},{"$f":"IF(OR($A2=0,$A2=\"\"),\"0\",IF(LOOKUP($A2,Load_Switch_NFET[PARTNUMBER],Load_Switch_NFET[RDSON8])=\"(NULL)\",\"0\",\"1\"))","v":"0"},{"$f":"IF(OR($A2=0,$A2=\"\"),\"0\",IF(LOOKUP($A2,Load_Switch_NFET[PARTNUMBER],Load_Switch_NFET[RDSON10])=\"(NULL)\",\"0\",\"1\"))","v":"0"},{"$f":"AND(AS$2,B2=\"1\")","v":false},false,false,false,false,false,false,{"$f":"OR(I2:O2)","v":false},{"$f":"IF($P2,I2,IF((B2=\"1\"),OR($AR$2,$AR$9)))","v":false},{"$f":"IF($P2,J2,IF((C2=\"1\"),OR($AR$2,$AR$9)))","v":false},{"$f":"IF($P2,K2,IF((D2=\"1\"),OR(AR$2,AR$9,AV$2,L2)))","v":false},{"$f":"IF($P2,L2,IF((E2=\"1\"),OR(AU$2,K2,AW$2,M2)))","v":false},{"$f":"IF($P2,M2,IF((F2=\"1\"),OR(AV$2,L2,AX$2,N2)))","v":false},{"$f":"IF($P2,N2,IF((G2=\"1\"),OR(AW$2,M2,AY$2,O2)))","v":false},{"$f":"IF($P2,O2,IF((H2=\"1\"),OR(AX$2,N2)))","v":false},{"$f":"IF(W2,LOOKUP(A2,Load_Switch_NFET[PARTNUMBER],Load_Switch_NFET[RDSON10])*1000,IF(V2,LOOKUP(A2,Load_Switch_NFET[PARTNUMBER],Load_Switch_NFET[RDSON8])*1000,IF(U2,LOOKUP(A2,Load_Switch_NFET[PARTNUMBER],Load_Switch_NFET[RDSON6])*1000,IF(T2,LOOKUP(A2,Load_Switch_NFET[PARTNUMBER],Load_Switch_NFET[RDSON45])*1000,IF(S2,LOOKUP(A2,Load_Switch_NFET[PARTNUMBER],Load_Switch_NFET[RDSON3])*1000,IF(R2,LOOKUP(A2,Load_Switch_NFET[PARTNUMBER],Load_Switch_NFET[RDSON25])*1000,IF(Q2,LOOKUP(A2,Load_Switch_NFET[PARTNUMBER],Load_Switch_NFET[RDSON18])*1000,\"\")))))))","v":""},{"$f":"IF(AND(A2<>0,A2<>\"\"),X2*(1+(Tj-25)*(LOOKUP(A2,Load_Switch_NFET[PARTNUMBER],Load_Switch_NFET[RDSDELTA])/((LOOKUP(A2,Load_Switch_NFET[PARTNUMBER],Load_Switch_NFET[TJMAX])-25)))),\"\")","v":""},{"$f":"IF(AND(A2<>0,A2<>\"\"),LOOKUP(A2,Load_Switch_NFET[PARTNUMBER],Load_Switch_NFET[VTHMAX]),\"\")","v":""},{"$f":"IF(AND(A2<>0,A2<>\"\"),LOOKUP(A2,Load_Switch_NFET[PARTNUMBER],Load_Switch_NFET[VTHMIN]),\"\")","v":""},null,{"$f":"IF(AND($A2<>0,$A2<>\"\"),LOOKUP($A2,Load_Switch_NFET[PARTNUMBER],Load_Switch_NFET[RGIMAX]),\"\")","v":""},{"$f":"IF(AND($A2<>0,$A2<>\"\"),LOOKUP($A2,Load_Switch_NFET[PARTNUMBER],Load_Switch_NFET[QGTYP]),\"\")","v":""},{"$f":"IF(AND($A2<>0,$A2<>\"\"),LOOKUP($A2,Load_Switch_NFET[PARTNUMBER],Load_Switch_NFET[QGS]),\"\")","v":""},{"$f":"IF(AND($A2<>0,$A2<>\"\"),LOOKUP($A2,Load_Switch_NFET[PARTNUMBER],Load_Switch_NFET[QGD]),\"\")","v":""},{"$f":"IF(AND($A2<>0,$A2<>\"\"),LOOKUP($A2,Load_Switch_NFET[PARTNUMBER],Load_Switch_NFET[QGTH]),\"\")","v":""},{"$f":"IF(AND($A2<>0,$A2<>\"\"),LOOKUP($A2,Load_Switch_NFET[PARTNUMBER],Load_Switch_NFET[VMILLER]),\"\")","v":""},{"$f":"IF(AND($A2<>0,$A2<>\"\"),LOOKUP($A2,Load_Switch_NFET[PARTNUMBER],Load_Switch_NFET[COSS_AT_VDSSPEC]),\"\")","v":""},{"$f":"IF(AND(A2<>0,A2<>\"\"),AE2+AF2-AG2,\"\")","v":""},{"$f":"IF(AND(A2<>0,A2<>\"\"),(Z2+AA2)/2,\"\")","v":""},{"$f":"IF(AND($A2<>0,$A2<>\"\"),Io^2*Y2*m,\"\")","v":""},{"$f":"IF(AND($A2<>0,$A2<>\"\"),ROUND(SUM(AL2:AL2),3),\"\")","v":""},{"$f":"IF(AND($A2<>0,$A2<>\"\"),LOOKUP($A2,Load_Switch_NFET[PARTNUMBER],Load_Switch_NFET[1KPRICE]),\"\")","v":""},{"$f":"IF(AND($A2<>0,$A2<>\"\"),LOOKUP(A2,Load_Switch_NFET[PARTNUMBER],Load_Switch_NFET[TI_EQ_PACKAGE]),\"\")","v":""},null,null,{"$f":"AND('NFET Data'!L2>1.1*Vi,'NFET Data'!M2>1.1*(VGS_DR))","v":false},{"$f":"((VGS_DR)>=1.8)","v":true},{"$f":"((VGS_DR)>=2.2)","v":true},{"$f":"((VGS_DR)>=2.7)","v":true},{"$f":"((VGS_DR)>=4)","v":true},{"$f":"((VGS_DR)>=5.5)","v":true},{"$f":"((VGS_DR)>=7)","v":true},{"$f":"((VGS_DR)>=8.5)","v":true}]
[{"$f":"IF(CH=\"N\",NLogic!B3,\"\")","v":"CSD16401Q5"},{"$f":"IF(OR($A3=0,$A3=\"\"),\"0\",IF(LOOKUP($A3,Load_Switch_NFET[PARTNUMBER],Load_Switch_NFET[RDSON18])=\"(NULL)\",\"0\",\"1\"))","v":"0"},{"$f":"IF(OR($A3=0,$A3=\"\"),\"0\",IF(LOOKUP($A3,Load_Switch_NFET[PARTNUMBER],Load_Switch_NFET[RDSON25])=\"(NULL)\",\"0\",\"1\"))","v":"0"},{"$f":"IF(OR($A3=0,$A3=\"\"),\"0\",IF(LOOKUP($A3,Load_Switch_NFET[PARTNUMBER],Load_Switch_NFET[RDSON3])=\"(NULL)\",\"0\",\"1\"))","v":"0"},{"$f":"IF(OR($A3=0,$A3=\"\"),\"0\",IF(LOOKUP($A3,Load_Switch_NFET[PARTNUMBER],Load_Switch_NFET[RDSON45])=\"(NULL)\",\"0\",\"1\"))","v":"1"},{"$f":"IF(OR($A3=0,$A3=\"\"),\"0\",IF(LOOKUP($A3,Load_Switch_NFET[PARTNUMBER],Load_Switch_NFET[RDSON6])=\"(NULL)\",\"0\",\"1\"))","v":"0"},{"$f":"IF(OR($A3=0,$A3=\"\"),\"0\",IF(LOOKUP($A3,Load_Switch_NFET[PARTNUMBER],Load_Switch_NFET[RDSON8])=\"(NULL)\",\"0\",\"1\"))","v":"0"},{"$f":"IF(OR($A3=0,$A3=\"\"),\"0\",IF(LOOKUP($A3,Load_Switch_NFET[PARTNUMBER],Load_Switch_NFET[RDSON10])=\"(NULL)\",\"0\",\"1\"))","v":"1"},{"$f":"AND(AS$2,B3=\"1\")","v":false},{"$f":"AND(AT$2,C3=\"1\")","v":false},{"$f":"AND(AU$2,D3=\"1\")","v":false},{"$f":"AND(AV$2,E3=\"1\")","v":true},{"$f":"AND(AW$2,F3=\"1\")","v":false},{"$f":"AND(AX$2,G3=\"1\")","v":false},{"$f":"AND(AY$2,H3=\"1\")","v":true},{"$f":"OR(I3:O3)","v":true},{"$f":"IF($P3,I3,IF((B3=\"1\"),OR($AR$2,$AR$9)))","v":false},{"$f":"IF($P3,J3,IF((C3=\"1\"),OR($AR$2,$AR$9)))","v":false},false,true,false,false,true,{"$f":"IF(W3,LOOKUP(A3,Load_Switch_NFET[PARTNUMBER],Load_Switch_NFET[RDSON10])*1000,IF(V3,LOOKUP(A3,Load_Switch_NFET[PARTNUMBER],Load_Switch_NFET[RDSON8])*1000,IF(U3,LOOKUP(A3,Load_Switch_NFET[PARTNUMBER],Load_Switch_NFET[RDSON6])*1000,IF(T3,LOOKUP(A3,Load_Switch_NFET[PARTNUMBER],Load_Switch_NFET[RDSON45])*1000,IF(S3,LOOKUP(A3,Load_Switch_NFET[PARTNUMBER],Load_Switch_NFET[RDSON3])*1000,IF(R3,LOOKUP(A3,Load_Switch_NFET[PARTNUMBER],Load_Switch_NFET[RDSON25])*1000,IF(Q3,LOOKUP(A3,Load_Switch_NFET[PARTNUMBER],Load_Switch_NFET[RDSON18])*1000,\"\")))))))","v":1.6},{"$f":"IF(AND(A3<>0,A3<>\"\"),X3*(1+(Tj-25)*(LOOKUP(A3,Load_Switch_NFET[PARTNUMBER],Load_Switch_NFET[RDSDELTA])/((LOOKUP(A3,Load_Switch_NFET[PARTNUMBER],Load_Switch_NFET[TJMAX])-25)))),\"\")","v":1.9008},{"$f":"IF(AND(A3<>0,A3<>\"\"),LOOKUP(A3,Load_Switch_NFET[PARTNUMBER],Load_Switch_NFET[VTHMAX]),\"\")","v":1.9},{"$f":"IF(AND(A3<>0,A3<>\"\"),LOOKUP(A3,Load_Switch_NFET[PARTNUMBER],Load_Switch_NFET[VTHMIN]),\"\")","v":1.2},{"$f":"IF(AND(A3<>0,A3<>\"\"),IF(B3=\"1\",1.8,IF(C3=\"1\",2.5,IF(D3=\"1\",3,IF(E3=\"1\",4.5,IF(F3=\"1\",6,IF(G3=\"1\",8,IF(H3=\"1\",10))))))),\"#N/A\")","v":4.5},{"$f":"IF(AND(A3<>0,A3<>\"\"),LOOKUP(A3,Load_Switch_NFET[PARTNUMBER],Load_Switch_NFET[RGIMAX]),\"\")","v":2.4},{"$f":"IF(AND($A3<>0,$A3<>\"\"),LOOKUP($A3,Load_Switch_NFET[PARTNUMBER],Load_Switch_NFET[QGTYP]),\"\")","v":21},{"$f":"IF(AND($A3<>0,$A3<>\"\"),LOOKUP($A3,Load_Switch_NFET[PARTNUMBER],Load_Switch_NFET[QGS]),\"\")","v":8.3000000000000007},{"$f":"IF(AND($A3<>0,$A3<>\"\"),LOOKUP($A3,Load_Switch_NFET[PARTNUMBER],Load_Switch_NFET[QGD]),\"\")","v":5.2},{"$f":"IF(AND($A3<>0,$A3<>\"\"),LOOKUP($A3,Load_Switch_NFET[PARTNUMBER],Load_Switch_NFET[QGTH]),\"\")","v":4.8},{"$f":"IF(AND($A3<>0,$A3<>\"\"),LOOKUP($A3,Load_Switch_NFET[PARTNUMBER],Load_Switch_NFET[VMILLER]),\"\")","v":2.92},{"$f":"IF(AND($A3<>0,$A3<>\"\"),LOOKUP($A3,Load_Switch_NFET[PARTNUMBER],Load_Switch_NFET[COSS_AT_VDSSPEC]),\"\")","v":2.5299999999999998},8.6999999999999993,1.5499999999999998,6.8428800000000001,6.843,{"$f":"IF(AND($A3<>0,$A3<>\"\"),LOOKUP($A3,Load_Switch_NFET[PARTNUMBER],Load_Switch_NFET[1KPRICE]),\"\")","v":0.79600000000000004},{"$f":"IF(AND($A3<>0,$A3<>\"\"),LOOKUP(A3,Load_Switch_NFET[PARTNUMBER],Load_Switch_NFET[TI_EQ_PACKAGE]),\"\")","v":"SON5X6"},{"$f":"IF(AND($A3<>0,$A3<>\"\"),CONCATENATE(A3,\", \",AO3,\", \",AM3,\"W, $\",AN3),\"Invalid Part\")","v":"CSD16401Q5, SON5X6, 6.843W, $0.796"},null,null,null,null,null,null,null,null,null,{"$f":"IF(AT5,LOOKUP(Part_Number,Load_Switch_NFET[PARTNUMBER],Load_Switch_NFET[RDSON25])*1000,IF(AU5,LOOKUP(Part_Number,Load_Switch_NFET[PARTNUMBER],Load_Switch_NFET[RDSON3])*1000,IF(AX5,LOOKUP(Part_Number,Load_Switch_NFET[PARTNUMBER],Load_Switch_NFET[RDSON8])*1000,IF(AW5,LOOKUP(Part_Number,Load_Switch_NFET[PARTNUMBER],Load_Switch_NFET[RDSON6])*1000,IF(AV5,LOOKUP(Part_Number,Load_Switch_NFET[PARTNUMBER],Load_Switch_NFET[RDSON45])*1000,IF(AY5,LOOKUP(Part_Number,Load_Switch_NFET[PARTNUMBER],Load_Switch_NFET[RDSON10])*1000,\"\"))))))","v":""}]
[{"$f":"IF(CH=\"N\",NLogic!B4,\"\")","v":"CSD16403Q5A"},{"$f":"IF(OR($A4=0,$A4=\"\"),\"0\",IF(LOOKUP($A4,Load_Switch_NFET[PARTNUMBER],Load_Switch_NFET[RDSON18])=\"(NULL)\",\"0\",\"1\"))","v":"0"},{"$f":"IF(OR($A4=0,$A4=\"\"),\"0\",IF(LOOKUP($A4,Load_Switch_NFET[PARTNUMBER],Load_Switch_NFET[RDSON25])=\"(NULL)\",\"0\",\"1\"))","v":"0"},{"$f":"IF(OR($A4=0,$A4=\"\"),\"0\",IF(LOOKUP($A4,Load_Switch_NFET[PARTNUMBER],Load_Switch_NFET[RDSON3])=\"(NULL)\",\"0\",\"1\"))","v":"0"},{"$f":"IF(OR($A4=0,$A4=\"\"),\"0\",IF(LOOKUP($A4,Load_Switch_NFET[PARTNUMBER],Load_Switch_NFET[RDSON45])=\"(NULL)\",\"0\",\"1\"))","v":"1"},{"$f":"IF(OR($A4=0,$A4=\"\"),\"0\",IF(LOOKUP($A4,Load_Switch_NFET[PARTNUMBER],Load_Switch_NFET[RDSON6])=\"(NULL)\",\"0\",\"1\"))","v":"0"},{"$f":"IF(OR($A4=0,$A4=\"\"),\"0\",IF(LOOKUP($A4,Load_Switch_NFET[PARTNUMBER],Load_Switch_NFET[RDSON8])=\"(NULL)\",\"0\",\"1\"))","v":"0"},{"$f":"IF(OR($A4=0,$A4=\"\"),\"0\",IF(LOOKUP($A4,Load_Switch_NFET[PARTNUMBER],Load_Switch_NFET[RDSON10])=\"(NULL)\",\"0\",\"1\"))","v":"1"},false,false,false,true,false,false,true,true,{"$f":"IF($P4,I4,IF((B4=\"1\"),OR($AR$2,$AR$9)))","v":false},{"$f":"IF($P4,J4,IF((C4=\"1\"),OR($AR$2,$AR$9)))","v":false},false,true,false,false,true,{"$f":"IF(W4,LOOKUP(A4,Load_Switch_NFET[PARTNUMBER],Load_Switch_NFET[RDSON10])*1000,IF(V4,LOOKUP(A4,Load_Switch_NFET[PARTNUMBER],Load_Switch_NFET[RDSON8])*1000,IF(U4,LOOKUP(A4,Load_Switch_NFET[PARTNUMBER],Load_Switch_NFET[RDSON6])*1000,IF(T4,LOOKUP(A4,Load_Switch_NFET[PARTNUMBER],Load_Switch_NFET[RDSON45])*1000,IF(S4,LOOKUP(A4,Load_Switch_NFET[PARTNUMBER],Load_Switch_NFET[RDSON3])*1000,IF(R4,LOOKUP(A4,Load_Switch_NFET[PARTNUMBER],Load_Switch_NFET[RDSON25])*1000,IF(Q4,LOOKUP(A4,Load_Switch_NFET[PARTNUMBER],Load_Switch_NFET[RDSON18])*1000,\"\")))))))","v":2.8},{"$f":"IF(AND(A4<>0,A4<>\"\"),X4*(1+(Tj-25)*(LOOKUP(A4,Load_Switch_NFET[PARTNUMBER],Load_Switch_NFET[RDSDELTA])/((LOOKUP(A4,Load_Switch_NFET[PARTNUMBER],Load_Switch_NFET[TJMAX])-25)))),\"\")","v":3.3823999999999996},{"$f":"IF(AND(A4<>0,A4<>\"\"),LOOKUP(A4,Load_Switch_NFET[PARTNUMBER],Load_Switch_NFET[VTHMAX]),\"\")","v":1.9},{"$f":"IF(AND(A4<>0,A4<>\"\"),LOOKUP(A4,Load_Switch_NFET[PARTNUMBER],Load_Switch_NFET[VTHMIN]),\"\")","v":1.2},4.5,{"$f":"IF(AND(A4<>0,A4<>\"\"),LOOKUP(A4,Load_Switch_NFET[PARTNUMBER],Load_Switch_NFET[RGIMAX]),\"\")","v":2.4},{"$f":"IF(AND($A4<>0,$A4<>\"\"),LOOKUP($A4,Load_Switch_NFET[PARTNUMBER],Load_Switch_NFET[QGTYP]),\"\")","v":13.3},{"$f":"IF(AND($A4<>0,$A4<>\"\"),LOOKUP($A4,Load_Switch_NFET[PARTNUMBER],Load_Switch_NFET[QGS]),\"\")","v":5.5},{"$f":"IF(AND($A4<>0,$A4<>\"\"),LOOKUP($A4,Load_Switch_NFET[PARTNUMBER],Load_Switch_NFET[QGD]),\"\")","v":3.5},{"$f":"IF(AND($A4<>0,$A4<>\"\"),LOOKUP($A4,Load_Switch_NFET[PARTNUMBER],Load_Switch_NFET[QGTH]),\"\")","v":3.1},{"$f":"IF(AND($A4<>0,$A4<>\"\"),LOOKUP($A4,Load_Switch_NFET[PARTNUMBER],Load_Switch_NFET[VMILLER]),\"\")","v":2.83},{"$f":"IF(AND($A4<>0,$A4<>\"\"),LOOKUP($A4,Load_Switch_NFET[PARTNUMBER],Load_Switch_NFET[COSS_AT_VDSSPEC]),\"\")","v":1.6},5.9,1.5499999999999998,12.176639999999999,12.177,{"$f":"IF(AND($A4<>0,$A4<>\"\"),LOOKUP($A4,Load_Switch_NFET[PARTNUMBER],Load_Switch_NFET[1KPRICE]),\"\")","v":0.53400000000000003},{"$f":"IF(AND($A4<>0,$A4<>\"\"),LOOKUP(A4,Load_Switch_NFET[PARTNUMBER],Load_Switch_NFET[TI_EQ_PACKAGE]),\"\")","v":"SON5X6"},"CSD16403Q5A, SON5X6, 12.177W, $0.534"]
[{"$f":"IF(CH=\"N\",NLogic!B5,\"\")","v":"CSD16404Q5A"},{"$f":"IF(OR($A5=0,$A5=\"\"),\"0\",IF(LOOKUP($A5,Load_Switch_NFET[PARTNUMBER],Load_Switch_NFET[RDSON18])=\"(NULL)\",\"0\",\"1\"))","v":"0"},{"$f":"IF(OR($A5=0,$A5=\"\"),\"0\",IF(LOOKUP($A5,Load_Switch_NFET[PARTNUMBER],Load_Switch_NFET[RDSON25])=\"(NULL)\",\"0\",\"1\"))","v":"0"},{"$f":"IF(OR($A5=0,$A5=\"\"),\"0\",IF(LOOKUP($A5,Load_Switch_NFET[PARTNUMBER],Load_Switch_NFET[RDSON3])=\"(NULL)\",\"0\",\"1\"))","v":"0"},{"$f":"IF(OR($A5=0,$A5=\"\"),\"0\",IF(LOOKUP($A5,Load_Switch_NFET[PARTNUMBER],Load_Switch_NFET[RDSON45])=\"(NULL)\",\"0\",\"1\"))","v":"1"},{"$f":"IF(OR($A5=0,$A5=\"\"),\"0\",IF(LOOKUP($A5,Load_Switch_NFET[PARTNUMBER],Load_Switch_NFET[RDSON6])=\"(NULL)\",\"0\",\"1\"))","v":"0"},{"$f":"IF(OR($A5=0,$A5=\"\"),\"0\",IF(LOOKUP($A5,Load_Switch_NFET[PARTNUMBER],Load_Switch_NFET[RDSON8])=\"(NULL)\",\"0\",\"1\"))","v":"0"},{"$f":"IF(OR($A5=0,$A5=\"\"),\"0\",IF(LOOKUP($A5,Load_Switch_NFET[PARTNUMBER],Load_Switch_NFET[RDSON10])=\"(NULL)\",\"0\",\"1\"))","v":"1"},false,false,false,true,false,false,true,true,false,false,false,true,false,false,true,{"$f":"IF(W5,LOOKUP(A5,Load_Switch_NFET[PARTNUMBER],Load_Switch_NFET[RDSON10])*1000,IF(V5,LOOKUP(A5,Load_Switch_NFET[PARTNUMBER],Load_Switch_NFET[RDSON8])*1000,IF(U5,LOOKUP(A5,Load_Switch_NFET[PARTNUMBER],Load_Switch_NFET[RDSON6])*1000,IF(T5,LOOKUP(A5,Load_Switch_NFET[PARTNUMBER],Load_Switch_NFET[RDSON45])*1000,IF(S5,LOOKUP(A5,Load_Switch_NFET[PARTNUMBER],Load_Switch_NFET[RDSON3])*1000,IF(R5,LOOKUP(A5,Load_Switch_NFET[PARTNUMBER],Load_Switch_NFET[RDSON25])*1000,IF(Q5,LOOKUP(A5,Load_Switch_NFET[PARTNUMBER],Load_Switch_NFET[RDSON18])*1000,\"\")))))))","v":5.1000000000000005},{"$f":"IF(AND(A5<>0,A5<>\"\"),X5*(1+(Tj-25)*(LOOKUP(A5,Load_Switch_NFET[PARTNUMBER],Load_Switch_NFET[RDSDELTA])/((LOOKUP(A5,Load_Switch_NFET[PARTNUMBER],Load_Switch_NFET[TJMAX])-25)))),\"\")","v":5.9771999999999998},{"$f":"IF(AND(A5<>0,A5<>\"\"),LOOKUP(A5,Load_Switch_NFET[PARTNUMBER],Load_Switch_NFET[VTHMAX]),\"\")","v":2.1},{"$f":"IF(AND(A5<>0,A5<>\"\"),LOOKUP(A5,Load_Switch_NFET[PARTNUMBER],Load_Switch_NFET[VTHMIN]),\"\")","v":1.4},4.5,{"$f":"IF(AND(A5<>0,A5<>\"\"),LOOKUP(A5,Load_Switch_NFET[PARTNUMBER],Load_Switch_NFET[RGIMAX]),\"\")","v":1.8},{"$f":"IF(AND($A5<>0,$A5<>\"\"),LOOKUP($A5,Load_Switch_NFET[PARTNUMBER],Load_Switch_NFET[QGTYP]),\"\")","v":6.5},{"$f":"IF(AND($A5<>0,$A5<>\"\"),LOOKUP($A5,Load_Switch_NFET[PARTNUMBER],Load_Switch_NFET[QGS]),\"\")","v":3},{"$f":"IF(AND($A5<>0,$A5<>\"\"),LOOKUP($A5,Load_Switch_NFET[PARTNUMBER],Load_Switch_NFET[QGD]),\"\")","v":1.7},{"$f":"IF(AND($A5<>0,$A5<>\"\"),LOOKUP($A5,Load_Switch_NFET[PARTNUMBER],Load_Switch_NFET[QGTH]),\"\")","v":1.5},{"$f":"IF(AND($A5<>0,$A5<>\"\"),LOOKUP($A5,Load_Switch_NFET[PARTNUMBER],Load_Switch_NFET[VMILLER]),\"\")","v":3.16},{"$f":"IF(AND($A5<>0,$A5<>\"\"),LOOKUP($A5,Load_Switch_NFET[PARTNUMBER],Load_Switch_NFET[COSS_AT_VDSSPEC]),\"\")","v":0.81},3.2,1.75,21.51792,21.518000000000001,{"$f":"IF(AND($A5<>0,$A5<>\"\"),LOOKUP($A5,Load_Switch_NFET[PARTNUMBER],Load_Switch_NFET[1KPRICE]),\"\")","v":0.31900000000000001},{"$f":"IF(AND($A5<>0,$A5<>\"\"),LOOKUP(A5,Load_Switch_NFET[PARTNUMBER],Load_Switch_NFET[TI_EQ_PACKAGE]),\"\")","v":"SON5X6"},"CSD16404Q5A, SON5X6, 21.518W, $0.319"]
[{"$f":"IF(CH=\"N\",NLogic!B6,\"\")","v":"CSD16406Q3"},{"$f":"IF(OR($A6=0,$A6=\"\"),\"0\",IF(LOOKUP($A6,Load_Switch_NFET[PARTNUMBER],Load_Switch_NFET[RDSON18])=\"(NULL)\",\"0\",\"1\"))","v":"0"},{"$f":"IF(OR($A6=0,$A6=\"\"),\"0\",IF(LOOKUP($A6,Load_Switch_NFET[PARTNUMBER],Load_Switch_NFET[RDSON25])=\"(NULL)\",\"0\",\"1\"))","v":"0"},{"$f":"IF(OR($A6=0,$A6=\"\"),\"0\",IF(LOOKUP($A6,Load_Switch_NFET[PARTNUMBER],Load_Switch_NFET[RDSON3])=\"(NULL)\",\"0\",\"1\"))","v":"0"},{"$f":"IF(OR($A6=0,$A6=\"\"),\"0\",IF(LOOKUP($A6,Load_Switch_NFET[PARTNUMBER],Load_Switch_NFET[RDSON45])=\"(NULL)\",\"0\",\"1\"))","v":"1"},{"$f":"IF(OR($A6=0,$A6=\"\"),\"0\",IF(LOOKUP($A6,Load_Switch_NFET[PARTNUMBER],Load_Switch_NFET[RDSON6])=\"(NULL)\",\"0\",\"1\"))","v":"0"},{"$f":"IF(OR($A6=0,$A6=\"\"),\"0\",IF(LOOKUP($A6,Load_Switch_NFET[PARTNUMBER],Load_Switch_NFET[RDSON8])=\"(NULL)\",\"0\",\"1\"))","v":"1"},{"$f":"IF(OR($A6=0,$A6=\"\"),\"0\",IF(LOOKUP($A6,Load_Switch_NFET[PARTNUMBER],Load_Switch_NFET[RDSON10])=\"(NULL)\",\"0\",\"1\"))","v":"1"},false,false,false,true,false,true,true,true,false,false,false,true,false,true,true,{"$f":"IF(W6,LOOKUP(A6,Load_Switch_NFET[PARTNUMBER],Load_Switch_NFET[RDSON10])*1000,IF(V6,LOOKUP(A6,Load_Switch_NFET[PARTNUMBER],Load_Switch_NFET[RDSON8])*1000,IF(U6,LOOKUP(A6,Load_Switch_NFET[PARTNUMBER],Load_Switch_NFET[RDSON6])*1000,IF(T6,LOOKUP(A6,Load_Switch_NFET[PARTNUMBER],Load_Switch_NFET[RDSON45])*1000,IF(S6,LOOKUP(A6,Load_Switch_NFET[PARTNUMBER],Load_Switch_NFET[RDSON3])*1000,IF(R6,LOOKUP(A6,Load_Switch_NFET[PARTNUMBER],Load_Switch_NFET[RDSON25])*1000,IF(Q6,LOOKUP(A6,Load_Switch_NFET[PARTNUMBER],Load_Switch_NFET[RDSON18])*1000,\"\")))))))","v":4.2},{"$f":"IF(AND(A6<>0,A6<>\"\"),X6*(1+(Tj-25)*(LOOKUP(A6,Load_Switch_NFET[PARTNUMBER],Load_Switch_NFET[RDSDELTA])/((LOOKUP(A6,Load_Switch_NFET[PARTNUMBER],Load_Switch_NFET[TJMAX])-25)))),\"\")","v":4.8887999999999998},{"$f":"IF(AND(A6<>0,A6<>\"\"),LOOKUP(A6,Load_Switch_NFET[PARTNUMBER],Load_Switch_NFET[VTHMAX]),\"\")","v":2.2000000000000002},{"$f":"IF(AND(A6<>0,A6<>\"\"),LOOKUP(A6,Load_Switch_NFET[PARTNUMBER],Load_Switch_NFET[VTHMIN]),\"\")","v":1.4},4.5,{"$f":"IF(AND(A6<>0,A6<>\"\"),LOOKUP(A6,Load_Switch_NFET[PARTNUMBER],Load_Switch_NFET[RGIMAX]),\"\")","v":2.4},{"$f":"IF(AND($A6<>0,$A6<>\"\"),LOOKUP($A6,Load_Switch_NFET[PARTNUMBER],Load_Switch_NFET[QGTYP]),\"\")","v":5.8},{"$f":"IF(AND($A6<>0,$A6<>\"\"),LOOKUP($A6,Load_Switch_NFET[PARTNUMBER],Load_Switch_NFET[QGS]),\"\")","v":2.5},{"$f":"IF(AND($A6<>0,$A6<>\"\"),LOOKUP($A6,Load_Switch_NFET[PARTNUMBER],Load_Switch_NFET[QGD]),\"\")","v":1.5},{"$f":"IF(AND($A6<>0,$A6<>\"\"),LOOKUP($A6,Load_Switch_NFET[PARTNUMBER],Load_Switch_NFET[QGTH]),\"\")","v":1.5},{"$f":"IF(AND($A6<>0,$A6<>\"\"),LOOKUP($A6,Load_Switch_NFET[PARTNUMBER],Load_Switch_NFET[VMILLER]),\"\")","v":2.996},{"$f":"IF(AND($A6<>0,$A6<>\"\"),LOOKUP($A6,Load_Switch_NFET[PARTNUMBER],Load_Switch_NFET[COSS_AT_VDSSPEC]),\"\")","v":0.7},2.5,1.8,17.599679999999999,17.600000000000001,{"$f":"IF(AND($A6<>0,$A6<>\"\"),LOOKUP($A6,Load_Switch_NFET[PARTNUMBER],Load_Switch_NFET[1KPRICE]),\"\")","v":0.33900000000000002},{"$f":"IF(AND($A6<>0,$A6<>\"\"),LOOKUP(A6,Load_Switch_NFET[PARTNUMBER],Load_Switch_NFET[TI_EQ_PACKAGE]),\"\")","v":"SON3X3"},"CSD16406Q3, SON3X3, 17.6W, $0.339"]
[{"$f":"IF(CH=\"N\",NLogic!B7,\"\")","v":"CSD16407Q5"},{"$f":"IF(OR($A7=0,$A7=\"\"),\"0\",IF(LOOKUP($A7,Load_Switch_NFET[PARTNUMBER],Load_Switch_NFET[RDSON18])=\"(NULL)\",\"0\",\"1\"))","v":"0"},{"$f":"IF(OR($A7=0,$A7=\"\"),\"0\",IF(LOOKUP($A7,Load_Switch_NFET[PARTNUMBER],Load_Switch_NFET[RDSON25])=\"(NULL)\",\"0\",\"1\"))","v":"0"},{"$f":"IF(OR($A7=0,$A7=\"\"),\"0\",IF(LOOKUP($A7,Load_Switch_NFET[PARTNUMBER],Load_Switch_NFET[RDSON3])=\"(NULL)\",\"0\",\"1\"))","v":"0"},{"$f":"IF(OR($A7=0,$A7=\"\"),\"0\",IF(LOOKUP($A7,Load_Switch_NFET[PARTNUMBER],Load_Switch_NFET[RDSON45])=\"(NULL)\",\"0\",\"1\"))","v":"1"},{"$f":"IF(OR($A7=0,$A7=\"\"),\"0\",IF(LOOKUP($A7,Load_Switch_NFET[PARTNUMBER],Load_Switch_NFET[RDSON6])=\"(NULL)\",\"0\",\"1\"))","v":"0"},{"$f":"IF(OR($A7=0,$A7=\"\"),\"0\",IF(LOOKUP($A7,Load_Switch_NFET[PARTNUMBER],Load_Switch_NFET[RDSON8])=\"(NULL)\",\"0\",\"1\"))","v":"0"},{"$f":"IF(OR($A7=0,$A7=\"\"),\"0\",IF(LOOKUP($A7,Load_Switch_NFET[PARTNUMBER],Load_Switch_NFET[RDSON10])=\"(NULL)\",\"0\",\"1\"))","v":"1"},false,false,false,true,false,false,true,true,false,false,false,true,false,false,true,{"$f":"IF(W7,LOOKUP(A7,Load_Switch_NFET[PARTNUMBER],Load_Switch_NFET[RDSON10])*1000,IF(V7,LOOKUP(A7,Load_Switch_NFET[PARTNUMBER],Load_Switch_NFET[RDSON8])*1000,IF(U7,LOOKUP(A7,Load_Switch_NFET[PARTNUMBER],Load_Switch_NFET[RDSON6])*1000,IF(T7,LOOKUP(A7,Load_Switch_NFET[PARTNUMBER],Load_Switch_NFET[RDSON45])*1000,IF(S7,LOOKUP(A7,Load_Switch_NFET[PARTNUMBER],Load_Switch_NFET[RDSON3])*1000,IF(R7,LOOKUP(A7,Load_Switch_NFET[PARTNUMBER],Load_Switch_NFET[RDSON25])*1000,IF(Q7,LOOKUP(A7,Load_Switch_NFET[PARTNUMBER],Load_Switch_NFET[RDSON18])*1000,\"\")))))))","v":2.4},{"$f":"IF(AND(A7<>0,A7<>\"\"),X7*(1+(Tj-25)*(LOOKUP(A7,Load_Switch_NFET[PARTNUMBER],Load_Switch_NFET[RDSDELTA])/((LOOKUP(A7,Load_Switch_NFET[PARTNUMBER],Load_Switch_NFET[TJMAX])-25)))),\"\")","v":2.8031999999999999},{"$f":"IF(AND(A7<>0,A7<>\"\"),LOOKUP(A7,Load_Switch_NFET[PARTNUMBER],Load_Switch_NFET[VTHMAX]),\"\")","v":1.9},{"$f":"IF(AND(A7<>0,A7<>\"\"),LOOKUP(A7,Load_Switch_NFET[PARTNUMBER],Load_Switch_NFET[VTHMIN]),\"\")","v":1.3},4.5,{"$f":"IF(AND(A7<>0,A7<>\"\"),LOOKUP(A7,Load_Switch_NFET[PARTNUMBER],Load_Switch_NFET[RGIMAX]),\"\")","v":2.4},{"$f":"IF(AND($A7<>0,$A7<>\"\"),LOOKUP($A7,Load_Switch_NFET[PARTNUMBER],Load_Switch_NFET[QGTYP]),\"\")","v":13.3},{"$f":"IF(AND($A7<>0,$A7<>\"\"),LOOKUP($A7,Load_Switch_NFET[PARTNUMBER],Load_Switch_NFET[QGS]),\"\")","v":5.3},{"$f":"IF(AND($A7<>0,$A7<>\"\"),LOOKUP($A7,Load_Switch_NFET[PARTNUMBER],Load_Switch_NFET[QGD]),\"\")","v":3.5},{"$f":"IF(AND($A7<>0,$A7<>\"\"),LOOKUP($A7,Load_Switch_NFET[PARTNUMBER],Load_Switch_NFET[QGTH]),\"\")","v":3.1},{"$f":"IF(AND($A7<>0,$A7<>\"\"),LOOKUP($A7,Load_Switch_NFET[PARTNUMBER],Load_Switch_NFET[VMILLER]),\"\")","v":2.7970000000000002},{"$f":"IF(AND($A7<>0,$A7<>\"\"),LOOKUP($A7,Load_Switch_NFET[PARTNUMBER],Load_Switch_NFET[COSS_AT_VDSSPEC]),\"\")","v":1.6},5.7000000000000011,1.6,10.091520000000001,10.092000000000001,{"$f":"IF(AND($A7<>0,$A7<>\"\"),LOOKUP($A7,Load_Switch_NFET[PARTNUMBER],Load_Switch_NFET[1KPRICE]),\"\")","v":0.59499999999999997},{"$f":"IF(AND($A7<>0,$A7<>\"\"),LOOKUP(A7,Load_Switch_NFET[PARTNUMBER],Load_Switch_NFET[TI_EQ_PACKAGE]),\"\")","v":"SON5X6"},"CSD16407Q5, SON5X6, 10.092W, $0.595"]
[{"$f":"IF(CH=\"N\",NLogic!B8,\"\")","v":"CSD16408Q5"},{"$f":"IF(OR($A8=0,$A8=\"\"),\"0\",IF(LOOKUP($A8,Load_Switch_NFET[PARTNUMBER],Load_Switch_NFET[RDSON18])=\"(NULL)\",\"0\",\"1\"))","v":"0"},{"$f":"IF(OR($A8=0,$A8=\"\"),\"0\",IF(LOOKUP($A8,Load_Switch_NFET[PARTNUMBER],Load_Switch_NFET[RDSON25])=\"(NULL)\",\"0\",\"1\"))","v":"0"},{"$f":"IF(OR($A8=0,$A8=\"\"),\"0\",IF(LOOKUP($A8,Load_Switch_NFET[PARTNUMBER],Load_Switch_NFET[RDSON3])=\"(NULL)\",\"0\",\"1\"))","v":"0"},{"$f":"IF(OR($A8=0,$A8=\"\"),\"0\",IF(LOOKUP($A8,Load_Switch_NFET[PARTNUMBER],Load_Switch_NFET[RDSON45])=\"(NULL)\",\"0\",\"1\"))","v":"1"},{"$f":"IF(OR($A8=0,$A8=\"\"),\"0\",IF(LOOKUP($A8,Load_Switch_NFET[PARTNUMBER],Load_Switch_NFET[RDSON6])=\"(NULL)\",\"0\",\"1\"))","v":"0"},{"$f":"IF(OR($A8=0,$A8=\"\"),\"0\",IF(LOOKUP($A8,Load_Switch_NFET[PARTNUMBER],Load_Switch_NFET[RDSON8])=\"(NULL)\",\"0\",\"1\"))","v":"0"},{"$f":"IF(OR($A8=0,$A8=\"\"),\"0\",IF(LOOKUP($A8,Load_Switch_NFET[PARTNUMBER],Load_Switch_NFET[RDSON10])=\"(NULL)\",\"0\",\"1\"))","v":"1"},false,false,false,true,false,false,true,true,false,false,false,true,false,false,true,{"$f":"IF(W8,LOOKUP(A8,Load_Switch_NFET[PARTNUMBER],Load_Switch_NFET[RDSON10])*1000,IF(V8,LOOKUP(A8,Load_Switch_NFET[PARTNUMBER],Load_Switch_NFET[RDSON8])*1000,IF(U8,LOOKUP(A8,Load_Switch_NFET[PARTNUMBER],Load_Switch_NFET[RDSON6])*1000,IF(T8,LOOKUP(A8,Load_Switch_NFET[PARTNUMBER],Load_Switch_NFET[RDSON45])*1000,IF(S8,LOOKUP(A8,Load_Switch_NFET[PARTNUMBER],Load_Switch_NFET[RDSON3])*1000,IF(R8,LOOKUP(A8,Load_Switch_NFET[PARTNUMBER],Load_Switch_NFET[RDSON25])*1000,IF(Q8,LOOKUP(A8,Load_Switch_NFET[PARTNUMBER],Load_Switch_NFET[RDSON18])*1000,\"\")))))))","v":4.5},{"$f":"IF(AND(A8<>0,A8<>\"\"),X8*(1+(Tj-25)*(LOOKUP(A8,Load_Switch_NFET[PARTNUMBER],Load_Switch_NFET[RDSDELTA])/((LOOKUP(A8,Load_Switch_NFET[PARTNUMBER],Load_Switch_NFET[TJMAX])-25)))),\"\")","v":5.3819999999999997},{"$f":"IF(AND(A8<>0,A8<>\"\"),LOOKUP(A8,Load_Switch_NFET[PARTNUMBER],Load_Switch_NFET[VTHMAX]),\"\")","v":2.1},{"$f":"IF(AND(A8<>0,A8<>\"\"),LOOKUP(A8,Load_Switch_NFET[PARTNUMBER],Load_Switch_NFET[VTHMIN]),\"\")","v":1.4},4.5,{"$f":"IF(AND(A8<>0,A8<>\"\"),LOOKUP(A8,Load_Switch_NFET[PARTNUMBER],Load_Switch_NFET[RGIMAX]),\"\")","v":1.6},{"$f":"IF(AND($A8<>0,$A8<>\"\"),LOOKUP($A8,Load_Switch_NFET[PARTNUMBER],Load_Switch_NFET[QGTYP]),\"\")","v":6.7},{"$f":"IF(AND($A8<>0,$A8<>\"\"),LOOKUP($A8,Load_Switch_NFET[PARTNUMBER],Load_Switch_NFET[QGS]),\"\")","v":3.1},{"$f":"IF(AND($A8<>0,$A8<>\"\"),LOOKUP($A8,Load_Switch_NFET[PARTNUMBER],Load_Switch_NFET[QGD]),\"\")","v":1.9},{"$f":"IF(AND($A8<>0,$A8<>\"\"),LOOKUP($A8,Load_Switch_NFET[PARTNUMBER],Load_Switch_NFET[QGTH]),\"\")","v":1.8},{"$f":"IF(AND($A8<>0,$A8<>\"\"),LOOKUP($A8,Load_Switch_NFET[PARTNUMBER],Load_Switch_NFET[VMILLER]),\"\")","v":3.2},{"$f":"IF(AND($A8<>0,$A8<>\"\"),LOOKUP($A8,Load_Switch_NFET[PARTNUMBER],Load_Switch_NFET[COSS_AT_VDSSPEC]),\"\")","v":0.76},3.2,1.75,19.375199999999996,19.375,{"$f":"IF(AND($A8<>0,$A8<>\"\"),LOOKUP($A8,Load_Switch_NFET[PARTNUMBER],Load_Switch_NFET[1KPRICE]),\"\")","v":0.45900000000000002},{"$f":"IF(AND($A8<>0,$A8<>\"\"),LOOKUP(A8,Load_Switch_NFET[PARTNUMBER],Load_Switch_NFET[TI_EQ_PACKAGE]),\"\")","v":"SON5X6"},"CSD16408Q5, SON5X6, 19.375W, $0.459"]
[{"$f":"IF(CH=\"N\",NLogic!B9,\"\")","v":"CSD16409Q3"},{"$f":"IF(OR($A9=0,$A9=\"\"),\"0\",IF(LOOKUP($A9,Load_Switch_NFET[PARTNUMBER],Load_Switch_NFET[RDSON18])=\"(NULL)\",\"0\",\"1\"))","v":"0"},{"$f":"IF(OR($A9=0,$A9=\"\"),\"0\",IF(LOOKUP($A9,Load_Switch_NFET[PARTNUMBER],Load_Switch_NFET[RDSON25])=\"(NULL)\",\"0\",\"1\"))","v":"0"},{"$f":"IF(OR($A9=0,$A9=\"\"),\"0\",IF(LOOKUP($A9,Load_Switch_NFET[PARTNUMBER],Load_Switch_NFET[RDSON3])=\"(NULL)\",\"0\",\"1\"))","v":"0"},{"$f":"IF(OR($A9=0,$A9=\"\"),\"0\",IF(LOOKUP($A9,Load_Switch_NFET[PARTNUMBER],Load_Switch_NFET[RDSON45])=\"(NULL)\",\"0\",\"1\"))","v":"1"},{"$f":"IF(OR($A9=0,$A9=\"\"),\"0\",IF(LOOKUP($A9,Load_Switch_NFET[PARTNUMBER],Load_Switch_NFET[RDSON6])=\"(NULL)\",\"0\",\"1\"))","v":"0"},{"$f":"IF(OR($A9=0,$A9=\"\"),\"0\",IF(LOOKUP($A9,Load_Switch_NFET[PARTNUMBER],Load_Switch_NFET[RDSON8])=\"(NULL)\",\"0\",\"1\"))","v":"1"},{"$f":"IF(OR($A9=0,$A9=\"\"),\"0\",IF(LOOKUP($A9,Load_Switch_NFET[PARTNUMBER],Load_Switch_NFET[RDSON10])=\"(NULL)\",\"0\",\"1\"))","v":"1"},false,false,false,true,false,true,true,true,false,false,false,true,false,true,true,{"$f":"IF(W9,LOOKUP(A9,Load_Switch_NFET[PARTNUMBER],Load_Switch_NFET[RDSON10])*1000,IF(V9,LOOKUP(A9,Load_Switch_NFET[PARTNUMBER],Load_Switch_NFET[RDSON8])*1000,IF(U9,LOOKUP(A9,Load_Switch_NFET[PARTNUMBER],Load_Switch_NFET[RDSON6])*1000,IF(T9,LOOKUP(A9,Load_Switch_NFET[PARTNUMBER],Load_Switch_NFET[RDSON45])*1000,IF(S9,LOOKUP(A9,Load_Switch_NFET[PARTNUMBER],Load_Switch_NFET[RDSON3])*1000,IF(R9,LOOKUP(A9,Load_Switch_NFET[PARTNUMBER],Load_Switch_NFET[RDSON25])*1000,IF(Q9,LOOKUP(A9,Load_Switch_NFET[PARTNUMBER],Load_Switch_NFET[RDSON18])*1000,\"\")))))))","v":8.2000000000000011},{"$f":"IF(AND(A9<>0,A9<>\"\"),X9*(1+(Tj-25)*(LOOKUP(A9,Load_Switch_NFET[PARTNUMBER],Load_Switch_NFET[RDSDELTA])/((LOOKUP(A9,Load_Switch_NFET[PARTNUMBER],Load_Switch_NFET[TJMAX])-25)))),\"\")","v":9.6760000000000002},{"$f":"IF(AND(A9<>0,A9<>\"\"),LOOKUP(A9,Load_Switch_NFET[PARTNUMBER],Load_Switch_NFET[VTHMAX]),\"\")","v":2.2999999999999998},{"$f":"IF(AND(A9<>0,A9<>\"\"),LOOKUP(A9,Load_Switch_NFET[PARTNUMBER],Load_Switch_NFET[VTHMIN]),\"\")","v":1.7},4.5,{"$f":"IF(AND(A9<>0,A9<>\"\"),LOOKUP(A9,Load_Switch_NFET[PARTNUMBER],Load_Switch_NFET[RGIMAX]),\"\")","v":1.8},{"$f":"IF(AND($A9<>0,$A9<>\"\"),LOOKUP($A9,Load_Switch_NFET[PARTNUMBER],Load_Switch_NFET[QGTYP]),\"\")","v":4},{"$f":"IF(AND($A9<>0,$A9<>\"\"),LOOKUP($A9,Load_Switch_NFET[PARTNUMBER],Load_Switch_NFET[QGS]),\"\")","v":2.1},{"$f":"IF(AND($A9<>0,$A9<>\"\"),LOOKUP($A9,Load_Switch_NFET[PARTNUMBER],Load_Switch_NFET[QGD]),\"\")","v":1},{"$f":"IF(AND($A9<>0,$A9<>\"\"),LOOKUP($A9,Load_Switch_NFET[PARTNUMBER],Load_Switch_NFET[QGTH]),\"\")","v":1.1000000000000001},{"$f":"IF(AND($A9<>0,$A9<>\"\"),LOOKUP($A9,Load_Switch_NFET[PARTNUMBER],Load_Switch_NFET[VMILLER]),\"\")","v":3.47},{"$f":"IF(AND($A9<>0,$A9<>\"\"),LOOKUP($A9,Load_Switch_NFET[PARTNUMBER],Load_Switch_NFET[COSS_AT_VDSSPEC]),\"\")","v":0.48},2,2,34.833599999999997,34.834000000000003,{"$f":"IF(AND($A9<>0,$A9<>\"\"),LOOKUP($A9,Load_Switch_NFET[PARTNUMBER],Load_Switch_NFET[1KPRICE]),\"\")","v":0.29299999999999998},{"$f":"IF(AND($A9<>0,$A9<>\"\"),LOOKUP(A9,Load_Switch_NFET[PARTNUMBER],Load_Switch_NFET[TI_EQ_PACKAGE]),\"\")","v":"SON3X3"},"CSD16409Q3, SON3X3, 34.834W, $0.293"]
[{"$f":"IF(CH=\"N\",NLogic!B10,\"\")","v":"CSD16413Q5A"},{"$f":"IF(OR($A10=0,$A10=\"\"),\"0\",IF(LOOKUP($A10,Load_Switch_NFET[PARTNUMBER],Load_Switch_NFET[RDSON18])=\"(NULL)\",\"0\",\"1\"))","v":"0"},{"$f":"IF(OR($A10=0,$A10=\"\"),\"0\",IF(LOOKUP($A10,Load_Switch_NFET[PARTNUMBER],Load_Switch_NFET[RDSON25])=\"(NULL)\",\"0\",\"1\"))","v":"0"},{"$f":"IF(OR($A10=0,$A10=\"\"),\"0\",IF(LOOKUP($A10,Load_Switch_NFET[PARTNUMBER],Load_Switch_NFET[RDSON3])=\"(NULL)\",\"0\",\"1\"))","v":"0"},{"$f":"IF(OR($A10=0,$A10=\"\"),\"0\",IF(LOOKUP($A10,Load_Switch_NFET[PARTNUMBER],Load_Switch_NFET[RDSON45])=\"(NULL)\",\"0\",\"1\"))","v":"1"},{"$f":"IF(OR($A10=0,$A10=\"\"),\"0\",IF(LOOKUP($A10,Load_Switch_NFET[PARTNUMBER],Load_Switch_NFET[RDSON6])=\"(NULL)\",\"0\",\"1\"))","v":"0"},{"$f":"IF(OR($A10=0,$A10=\"\"),\"0\",IF(LOOKUP($A10,Load_Switch_NFET[PARTNUMBER],Load_Switch_NFET[RDSON8])=\"(NULL)\",\"0\",\"1\"))","v":"0"},{"$f":"IF(OR($A10=0,$A10=\"\"),\"0\",IF(LOOKUP($A10,Load_Switch_NFET[PARTNUMBER],Load_Switch_NFET[RDSON10])=\"(NULL)\",\"0\",\"1\"))","v":"1"},false,false,false,true,false,false,true,true,false,false,false,true,false,false,true,{"$f":"IF(W10,LOOKUP(A10,Load_Switch_NFET[PARTNUMBER],Load_Switch_NFET[RDSON10])*1000,IF(V10,LOOKUP(A10,Load_Switch_NFET[PARTNUMBER],Load_Switch_NFET[RDSON8])*1000,IF(U10,LOOKUP(A10,Load_Switch_NFET[PARTNUMBER],Load_Switch_NFET[RDSON6])*1000,IF(T10,LOOKUP(A10,Load_Switch_NFET[PARTNUMBER],Load_Switch_NFET[RDSON45])*1000,IF(S10,LOOKUP(A10,Load_Switch_NFET[PARTNUMBER],Load_Switch_NFET[RDSON3])*1000,IF(R10,LOOKUP(A10,Load_Switch_NFET[PARTNUMBER],Load_Switch_NFET[RDSON25])*1000,IF(Q10,LOOKUP(A10,Load_Switch_NFET[PARTNUMBER],Load_Switch_NFET[RDSON18])*1000,\"\")))))))","v":3.9},{"$f":"IF(AND(A10<>0,A10<>\"\"),X10*(1+(Tj-25)*(LOOKUP(A10,Load_Switch_NFET[PARTNUMBER],Load_Switch_NFET[RDSDELTA])/((LOOKUP(A10,Load_Switch_NFET[PARTNUMBER],Load_Switch_NFET[TJMAX])-25)))),\"\")","v":4.5224399999999996},{"$f":"IF(AND(A10<>0,A10<>\"\"),LOOKUP(A10,Load_Switch_NFET[PARTNUMBER],Load_Switch_NFET[VTHMAX]),\"\")","v":1.9},{"$f":"IF(AND(A10<>0,A10<>\"\"),LOOKUP(A10,Load_Switch_NFET[PARTNUMBER],Load_Switch_NFET[VTHMIN]),\"\")","v":1.2},4.5,{"$f":"IF(AND(A10<>0,A10<>\"\"),LOOKUP(A10,Load_Switch_NFET[PARTNUMBER],Load_Switch_NFET[RGIMAX]),\"\")","v":1.8},{"$f":"IF(AND($A10<>0,$A10<>\"\"),LOOKUP($A10,Load_Switch_NFET[PARTNUMBER],Load_Switch_NFET[QGTYP]),\"\")","v":9},{"$f":"IF(AND($A10<>0,$A10<>\"\"),LOOKUP($A10,Load_Switch_NFET[PARTNUMBER],Load_Switch_NFET[QGS]),\"\")","v":3.5},{"$f":"IF(AND($A10<>0,$A10<>\"\"),LOOKUP($A10,Load_Switch_NFET[PARTNUMBER],Load_Switch_NFET[QGD]),\"\")","v":2.5},{"$f":"IF(AND($A10<>0,$A10<>\"\"),LOOKUP($A10,Load_Switch_NFET[PARTNUMBER],Load_Switch_NFET[QGTH]),\"\")","v":2.2000000000000002},{"$f":"IF(AND($A10<>0,$A10<>\"\"),LOOKUP($A10,Load_Switch_NFET[PARTNUMBER],Load_Switch_NFET[VMILLER]),\"\")","v":2.84},{"$f":"IF(AND($A10<>0,$A10<>\"\"),LOOKUP($A10,Load_Switch_NFET[PARTNUMBER],Load_Switch_NFET[COSS_AT_VDSSPEC]),\"\")","v":1.06},3.8,1.5499999999999998,16.280783999999997,16.280999999999999,{"$f":"IF(AND($A10<>0,$A10<>\"\"),LOOKUP($A10,Load_Switch_NFET[PARTNUMBER],Load_Switch_NFET[1KPRICE]),\"\")","v":0.42499999999999999},{"$f":"IF(AND($A10<>0,$A10<>\"\"),LOOKUP(A10,Load_Switch_NFET[PARTNUMBER],Load_Switch_NFET[TI_EQ_PACKAGE]),\"\")","v":"SON5X6"},"CSD16413Q5A, SON5X6, 16.281W, $0.425"]
[{"$f":"IF(CH=\"N\",NLogic!B11,\"\")","v":"CSD16414Q5"},{"$f":"IF(OR($A11=0,$A11=\"\"),\"0\",IF(LOOKUP($A11,Load_Switch_NFET[PARTNUMBER],Load_Switch_NFET[RDSON18])=\"(NULL)\",\"0\",\"1\"))","v":"0"},{"$f":"IF(OR($A11=0,$A11=\"\"),\"0\",IF(LOOKUP($A11,Load_Switch_NFET[PARTNUMBER],Load_Switch_NFET[RDSON25])=\"(NULL)\",\"0\",\"1\"))","v":"0"},{"$f":"IF(OR($A11=0,$A11=\"\"),\"0\",IF(LOOKUP($A11,Load_Switch_NFET[PARTNUMBER],Load_Switch_NFET[RDSON3])=\"(NULL)\",\"0\",\"1\"))","v":"0"},{"$f":"IF(OR($A11=0,$A11=\"\"),\"0\",IF(LOOKUP($A11,Load_Switch_NFET[PARTNUMBER],Load_Switch_NFET[RDSON45])=\"(NULL)\",\"0\",\"1\"))","v":"1"},{"$f":"IF(OR($A11=0,$A11=\"\"),\"0\",IF(LOOKUP($A11,Load_Switch_NFET[PARTNUMBER],Load_Switch_NFET[RDSON6])=\"(NULL)\",\"0\",\"1\"))","v":"0"},{"$f":"IF(OR($A11=0,$A11=\"\"),\"0\",IF(LOOKUP($A11,Load_Switch_NFET[PARTNUMBER],Load_Switch_NFET[RDSON8])=\"(NULL)\",\"0\",\"1\"))","v":"0"},{"$f":"IF(OR($A11=0,$A11=\"\"),\"0\",IF(LOOKUP($A11,Load_Switch_NFET[PARTNUMBER],Load_Switch_NFET[RDSON10])=\"(NULL)\",\"0\",\"1\"))","v":"1"},false,false,false,true,false,false,true,true,false,false,false,true,false,false,true,{"$f":"IF(W11,LOOKUP(A11,Load_Switch_NFET[PARTNUMBER],Load_Switch_NFET[RDSON10])*1000,IF(V11,LOOKUP(A11,Load_Switch_NFET[PARTNUMBER],Load_Switch_NFET[RDSON8])*1000,IF(U11,LOOKUP(A11,Load_Switch_NFET[PARTNUMBER],Load_Switch_NFET[RDSON6])*1000,IF(T11,LOOKUP(A11,Load_Switch_NFET[PARTNUMBER],Load_Switch_NFET[RDSON45])*1000,IF(S11,LOOKUP(A11,Load_Switch_NFET[PARTNUMBER],Load_Switch_NFET[RDSON3])*1000,IF(R11,LOOKUP(A11,Load_Switch_NFET[PARTNUMBER],Load_Switch_NFET[RDSON25])*1000,IF(Q11,LOOKUP(A11,Load_Switch_NFET[PARTNUMBER],Load_Switch_NFET[RDSON18])*1000,\"\")))))))","v":1.9},{"$f":"IF(AND(A11<>0,A11<>\"\"),X11*(1+(Tj-25)*(LOOKUP(A11,Load_Switch_NFET[PARTNUMBER],Load_Switch_NFET[RDSDELTA])/((LOOKUP(A11,Load_Switch_NFET[PARTNUMBER],Load_Switch_NFET[TJMAX])-25)))),\"\")","v":2.2495999999999996},{"$f":"IF(AND(A11<>0,A11<>\"\"),LOOKUP(A11,Load_Switch_NFET[PARTNUMBER],Load_Switch_NFET[VTHMAX]),\"\")","v":2},{"$f":"IF(AND(A11<>0,A11<>\"\"),LOOKUP(A11,Load_Switch_NFET[PARTNUMBER],Load_Switch_NFET[VTHMIN]),\"\")","v":1.3},4.5,{"$f":"IF(AND(A11<>0,A11<>\"\"),LOOKUP(A11,Load_Switch_NFET[PARTNUMBER],Load_Switch_NFET[RGIMAX]),\"\")","v":2.8},{"$f":"IF(AND($A11<>0,$A11<>\"\"),LOOKUP($A11,Load_Switch_NFET[PARTNUMBER],Load_Switch_NFET[QGTYP]),\"\")","v":16.600000000000001},{"$f":"IF(AND($A11<>0,$A11<>\"\"),LOOKUP($A11,Load_Switch_NFET[PARTNUMBER],Load_Switch_NFET[QGS]),\"\")","v":7.3},{"$f":"IF(AND($A11<>0,$A11<>\"\"),LOOKUP($A11,Load_Switch_NFET[PARTNUMBER],Load_Switch_NFET[QGD]),\"\")","v":4.4000000000000004},{"$f":"IF(AND($A11<>0,$A11<>\"\"),LOOKUP($A11,Load_Switch_NFET[PARTNUMBER],Load_Switch_NFET[QGTH]),\"\")","v":4.5},{"$f":"IF(AND($A11<>0,$A11<>\"\"),LOOKUP($A11,Load_Switch_NFET[PARTNUMBER],Load_Switch_NFET[VMILLER]),\"\")","v":3.02},{"$f":"IF(AND($A11<>0,$A11<>\"\"),LOOKUP($A11,Load_Switch_NFET[PARTNUMBER],Load_Switch_NFET[COSS_AT_VDSSPEC]),\"\")","v":2.04},7.1999999999999993,1.65,8.0985599999999991,8.0990000000000002,{"$f":"IF(AND($A11<>0,$A11<>\"\"),LOOKUP($A11,Load_Switch_NFET[PARTNUMBER],Load_Switch_NFET[1KPRICE]),\"\")","v":0.67600000000000005},{"$f":"IF(AND($A11<>0,$A11<>\"\"),LOOKUP(A11,Load_Switch_NFET[PARTNUMBER],Load_Switch_NFET[TI_EQ_PACKAGE]),\"\")","v":"SON5X6"},"CSD16414Q5, SON5X6, 8.099W, $0.676"]
[{"$f":"IF(CH=\"N\",NLogic!B12,\"\")","v":"CSD16415Q5"},{"$f":"IF(OR($A12=0,$A12=\"\"),\"0\",IF(LOOKUP($A12,Load_Switch_NFET[PARTNUMBER],Load_Switch_NFET[RDSON18])=\"(NULL)\",\"0\",\"1\"))","v":"0"},{"$f":"IF(OR($A12=0,$A12=\"\"),\"0\",IF(LOOKUP($A12,Load_Switch_NFET[PARTNUMBER],Load_Switch_NFET[RDSON25])=\"(NULL)\",\"0\",\"1\"))","v":"0"},{"$f":"IF(OR($A12=0,$A12=\"\"),\"0\",IF(LOOKUP($A12,Load_Switch_NFET[PARTNUMBER],Load_Switch_NFET[RDSON3])=\"(NULL)\",\"0\",\"1\"))","v":"0"},{"$f":"IF(OR($A12=0,$A12=\"\"),\"0\",IF(LOOKUP($A12,Load_Switch_NFET[PARTNUMBER],Load_Switch_NFET[RDSON45])=\"(NULL)\",\"0\",\"1\"))","v":"1"},{"$f":"IF(OR($A12=0,$A12=\"\"),\"0\",IF(LOOKUP($A12,Load_Switch_NFET[PARTNUMBER],Load_Switch_NFET[RDSON6])=\"(NULL)\",\"0\",\"1\"))","v":"0"},{"$f":"IF(OR($A12=0,$A12=\"\"),\"0\",IF(LOOKUP($A12,Load_Switch_NFET[PARTNUMBER],Load_Switch_NFET[RDSON8])=\"(NULL)\",\"0\",\"1\"))","v":"0"},{"$f":"IF(OR($A12=0,$A12=\"\"),\"0\",IF(LOOKUP($A12,Load_Switch_NFET[PARTNUMBER],Load_Switch_NFET[RDSON10])=\"(NULL)\",\"0\",\"1\"))","v":"1"},false,false,false,true,false,false,true,true,false,false,false,true,false,false,true,{"$f":"IF(W12,LOOKUP(A12,Load_Switch_NFET[PARTNUMBER],Load_Switch_NFET[RDSON10])*1000,IF(V12,LOOKUP(A12,Load_Switch_NFET[PARTNUMBER],Load_Switch_NFET[RDSON8])*1000,IF(U12,LOOKUP(A12,Load_Switch_NFET[PARTNUMBER],Load_Switch_NFET[RDSON6])*1000,IF(T12,LOOKUP(A12,Load_Switch_NFET[PARTNUMBER],Load_Switch_NFET[RDSON45])*1000,IF(S12,LOOKUP(A12,Load_Switch_NFET[PARTNUMBER],Load_Switch_NFET[RDSON3])*1000,IF(R12,LOOKUP(A12,Load_Switch_NFET[PARTNUMBER],Load_Switch_NFET[RDSON25])*1000,IF(Q12,LOOKUP(A12,Load_Switch_NFET[PARTNUMBER],Load_Switch_NFET[RDSON18])*1000,\"\")))))))","v":1.1000000000000001},{"$f":"IF(AND(A12<>0,A12<>\"\"),X12*(1+(Tj-25)*(LOOKUP(A12,Load_Switch_NFET[PARTNUMBER],Load_Switch_NFET[RDSDELTA])/((LOOKUP(A12,Load_Switch_NFET[PARTNUMBER],Load_Switch_NFET[TJMAX])-25)))),\"\")","v":1.3068},{"$f":"IF(AND(A12<>0,A12<>\"\"),LOOKUP(A12,Load_Switch_NFET[PARTNUMBER],Load_Switch_NFET[VTHMAX]),\"\")","v":1.9},{"$f":"IF(AND(A12<>0,A12<>\"\"),LOOKUP(A12,Load_Switch_NFET[PARTNUMBER],Load_Switch_NFET[VTHMIN]),\"\")","v":1.2},4.5,{"$f":"IF(AND(A12<>0,A12<>\"\"),LOOKUP(A12,Load_Switch_NFET[PARTNUMBER],Load_Switch_NFET[RGIMAX]),\"\")","v":2.4},{"$f":"IF(AND($A12<>0,$A12<>\"\"),LOOKUP($A12,Load_Switch_NFET[PARTNUMBER],Load_Switch_NFET[QGTYP]),\"\")","v":21},{"$f":"IF(AND($A12<>0,$A12<>\"\"),LOOKUP($A12,Load_Switch_NFET[PARTNUMBER],Load_Switch_NFET[QGS]),\"\")","v":8.3000000000000007},{"$f":"IF(AND($A12<>0,$A12<>\"\"),LOOKUP($A12,Load_Switch_NFET[PARTNUMBER],Load_Switch_NFET[QGD]),\"\")","v":5.2},{"$f":"IF(AND($A12<>0,$A12<>\"\"),LOOKUP($A12,Load_Switch_NFET[PARTNUMBER],Load_Switch_NFET[QGTH]),\"\")","v":4.8},{"$f":"IF(AND($A12<>0,$A12<>\"\"),LOOKUP($A12,Load_Switch_NFET[PARTNUMBER],Load_Switch_NFET[VMILLER]),\"\")","v":2.92},{"$f":"IF(AND($A12<>0,$A12<>\"\"),LOOKUP($A12,Load_Switch_NFET[PARTNUMBER],Load_Switch_NFET[COSS_AT_VDSSPEC]),\"\")","v":2.5299999999999998},8.6999999999999993,1.5499999999999998,4.7044799999999993,4.7039999999999997,{"$f":"IF(AND($A12<>0,$A12<>\"\"),LOOKUP($A12,Load_Switch_NFET[PARTNUMBER],Load_Switch_NFET[1KPRICE]),\"\")","v":0.84299999999999997},{"$f":"IF(AND($A12<>0,$A12<>\"\"),LOOKUP(A12,Load_Switch_NFET[PARTNUMBER],Load_Switch_NFET[TI_EQ_PACKAGE]),\"\")","v":"SON5X6"},"CSD16415Q5, SON5X6, 4.704W, $0.843"]
[{"$f":"IF(CH=\"N\",NLogic!B13,\"\")","v":"CSD16556Q5B"},{"$f":"IF(OR($A13=0,$A13=\"\"),\"0\",IF(LOOKUP($A13,Load_Switch_NFET[PARTNUMBER],Load_Switch_NFET[RDSON18])=\"(NULL)\",\"0\",\"1\"))","v":"0"},{"$f":"IF(OR($A13=0,$A13=\"\"),\"0\",IF(LOOKUP($A13,Load_Switch_NFET[PARTNUMBER],Load_Switch_NFET[RDSON25])=\"(NULL)\",\"0\",\"1\"))","v":"0"},{"$f":"IF(OR($A13=0,$A13=\"\"),\"0\",IF(LOOKUP($A13,Load_Switch_NFET[PARTNUMBER],Load_Switch_NFET[RDSON3])=\"(NULL)\",\"0\",\"1\"))","v":"0"},{"$f":"IF(OR($A13=0,$A13=\"\"),\"0\",IF(LOOKUP($A13,Load_Switch_NFET[PARTNUMBER],Load_Switch_NFET[RDSON45])=\"(NULL)\",\"0\",\"1\"))","v":"1"},{"$f":"IF(OR($A13=0,$A13=\"\"),\"0\",IF(LOOKUP($A13,Load_Switch_NFET[PARTNUMBER],Load_Switch_NFET[RDSON6])=\"(NULL)\",\"0\",\"1\"))","v":"0"},{"$f":"IF(OR($A13=0,$A13=\"\"),\"0\",IF(LOOKUP($A13,Load_Switch_NFET[PARTNUMBER],Load_Switch_NFET[RDSON8])=\"(NULL)\",\"0\",\"1\"))","v":"0"},{"$f":"IF(OR($A13=0,$A13=\"\"),\"0\",IF(LOOKUP($A13,Load_Switch_NFET[PARTNUMBER],Load_Switch_NFET[RDSON10])=\"(NULL)\",\"0\",\"1\"))","v":"1"},false,false,false,true,false,false,true,true,false,false,false,true,false,false,true,{"$f":"IF(W13,LOOKUP(A13,Load_Switch_NFET[PARTNUMBER],Load_Switch_NFET[RDSON10])*1000,IF(V13,LOOKUP(A13,Load_Switch_NFET[PARTNUMBER],Load_Switch_NFET[RDSON8])*1000,IF(U13,LOOKUP(A13,Load_Switch_NFET[PARTNUMBER],Load_Switch_NFET[RDSON6])*1000,IF(T13,LOOKUP(A13,Load_Switch_NFET[PARTNUMBER],Load_Switch_NFET[RDSON45])*1000,IF(S13,LOOKUP(A13,Load_Switch_NFET[PARTNUMBER],Load_Switch_NFET[RDSON3])*1000,IF(R13,LOOKUP(A13,Load_Switch_NFET[PARTNUMBER],Load_Switch_NFET[RDSON25])*1000,IF(Q13,LOOKUP(A13,Load_Switch_NFET[PARTNUMBER],Load_Switch_NFET[RDSON18])*1000,\"\")))))))","v":1},{"$f":"IF(AND(A13<>0,A13<>\"\"),X13*(1+(Tj-25)*(LOOKUP(A13,Load_Switch_NFET[PARTNUMBER],Load_Switch_NFET[RDSDELTA])/((LOOKUP(A13,Load_Switch_NFET[PARTNUMBER],Load_Switch_NFET[TJMAX])-25)))),\"\")","v":1.26},{"$f":"IF(AND(A13<>0,A13<>\"\"),LOOKUP(A13,Load_Switch_NFET[PARTNUMBER],Load_Switch_NFET[VTHMAX]),\"\")","v":1.7},{"$f":"IF(AND(A13<>0,A13<>\"\"),LOOKUP(A13,Load_Switch_NFET[PARTNUMBER],Load_Switch_NFET[VTHMIN]),\"\")","v":1.2},4.5,{"$f":"IF(AND(A13<>0,A13<>\"\"),LOOKUP(A13,Load_Switch_NFET[PARTNUMBER],Load_Switch_NFET[RGIMAX]),\"\")","v":1.4},{"$f":"IF(AND($A13<>0,$A13<>\"\"),LOOKUP($A13,Load_Switch_NFET[PARTNUMBER],Load_Switch_NFET[QGTYP]),\"\")","v":36},{"$f":"IF(AND($A13<>0,$A13<>\"\"),LOOKUP($A13,Load_Switch_NFET[PARTNUMBER],Load_Switch_NFET[QGS]),\"\")","v":11},{"$f":"IF(AND($A13<>0,$A13<>\"\"),LOOKUP($A13,Load_Switch_NFET[PARTNUMBER],Load_Switch_NFET[QGD]),\"\")","v":12},{"$f":"IF(AND($A13<>0,$A13<>\"\"),LOOKUP($A13,Load_Switch_NFET[PARTNUMBER],Load_Switch_NFET[QGTH]),\"\")","v":7},{"$f":"IF(AND($A13<>0,$A13<>\"\"),LOOKUP($A13,Load_Switch_NFET[PARTNUMBER],Load_Switch_NFET[VMILLER]),\"\")","v":2.5},{"$f":"IF(AND($A13<>0,$A13<>\"\"),LOOKUP($A13,Load_Switch_NFET[PARTNUMBER],Load_Switch_NFET[COSS_AT_VDSSPEC]),\"\")","v":2.27},16,1.45,4.5360000000000005,4.5359999999999996,{"$f":"IF(AND($A13<>0,$A13<>\"\"),LOOKUP($A13,Load_Switch_NFET[PARTNUMBER],Load_Switch_NFET[1KPRICE]),\"\")","v":0.78800000000000003},{"$f":"IF(AND($A13<>0,$A13<>\"\"),LOOKUP(A13,Load_Switch_NFET[PARTNUMBER],Load_Switch_NFET[TI_EQ_PACKAGE]),\"\")","v":"SON5X6"},"CSD16556Q5B, SON5X6, 4.536W, $0.788"]
[{"$f":"IF(CH=\"N\",NLogic!B14,\"\")","v":"CSD16570Q5B"},{"$f":"IF(OR($A14=0,$A14=\"\"),\"0\",IF(LOOKUP($A14,Load_Switch_NFET[PARTNUMBER],Load_Switch_NFET[RDSON18])=\"(NULL)\",\"0\",\"1\"))","v":"0"},{"$f":"IF(OR($A14=0,$A14=\"\"),\"0\",IF(LOOKUP($A14,Load_Switch_NFET[PARTNUMBER],Load_Switch_NFET[RDSON25])=\"(NULL)\",\"0\",\"1\"))","v":"0"},{"$f":"IF(OR($A14=0,$A14=\"\"),\"0\",IF(LOOKUP($A14,Load_Switch_NFET[PARTNUMBER],Load_Switch_NFET[RDSON3])=\"(NULL)\",\"0\",\"1\"))","v":"0"},{"$f":"IF(OR($A14=0,$A14=\"\"),\"0\",IF(LOOKUP($A14,Load_Switch_NFET[PARTNUMBER],Load_Switch_NFET[RDSON45])=\"(NULL)\",\"0\",\"1\"))","v":"1"},{"$f":"IF(OR($A14=0,$A14=\"\"),\"0\",IF(LOOKUP($A14,Load_Switch_NFET[PARTNUMBER],Load_Switch_NFET[RDSON6])=\"(NULL)\",\"0\",\"1\"))","v":"0"},{"$f":"IF(OR($A14=0,$A14=\"\"),\"0\",IF(LOOKUP($A14,Load_Switch_NFET[PARTNUMBER],Load_Switch_NFET[RDSON8])=\"(NULL)\",\"0\",\"1\"))","v":"0"},{"$f":"IF(OR($A14=0,$A14=\"\"),\"0\",IF(LOOKUP($A14,Load_Switch_NFET[PARTNUMBER],Load_Switch_NFET[RDSON10])=\"(NULL)\",\"0\",\"1\"))","v":"1"},false,false,false,true,false,false,true,true,false,false,false,true,false,false,true,{"$f":"IF(W14,LOOKUP(A14,Load_Switch_NFET[PARTNUMBER],Load_Switch_NFET[RDSON10])*1000,IF(V14,LOOKUP(A14,Load_Switch_NFET[PARTNUMBER],Load_Switch_NFET[RDSON8])*1000,IF(U14,LOOKUP(A14,Load_Switch_NFET[PARTNUMBER],Load_Switch_NFET[RDSON6])*1000,IF(T14,LOOKUP(A14,Load_Switch_NFET[PARTNUMBER],Load_Switch_NFET[RDSON45])*1000,IF(S14,LOOKUP(A14,Load_Switch_NFET[PARTNUMBER],Load_Switch_NFET[RDSON3])*1000,IF(R14,LOOKUP(A14,Load_Switch_NFET[PARTNUMBER],Load_Switch_NFET[RDSON25])*1000,IF(Q14,LOOKUP(A14,Load_Switch_NFET[PARTNUMBER],Load_Switch_NFET[RDSON18])*1000,\"\")))))))","v":0.5},{"$f":"IF(AND(A14<>0,A14<>\"\"),X14*(1+(Tj-25)*(LOOKUP(A14,Load_Switch_NFET[PARTNUMBER],Load_Switch_NFET[RDSDELTA])/((LOOKUP(A14,Load_Switch_NFET[PARTNUMBER],Load_Switch_NFET[TJMAX])-25)))),\"\")","v":0.61799999999999999},{"$f":"IF(AND(A14<>0,A14<>\"\"),LOOKUP(A14,Load_Switch_NFET[PARTNUMBER],Load_Switch_NFET[VTHMAX]),\"\")","v":1.9},{"$f":"IF(AND(A14<>0,A14<>\"\"),LOOKUP(A14,Load_Switch_NFET[PARTNUMBER],Load_Switch_NFET[VTHMIN]),\"\")","v":1.1000000000000001},4.5,{"$f":"IF(AND(A14<>0,A14<>\"\"),LOOKUP(A14,Load_Switch_NFET[PARTNUMBER],Load_Switch_NFET[RGIMAX]),\"\")","v":3.6},{"$f":"IF(AND($A14<>0,$A14<>\"\"),LOOKUP($A14,Load_Switch_NFET[PARTNUMBER],Load_Switch_NFET[QGTYP]),\"\")","v":192},{"$f":"IF(AND($A14<>0,$A14<>\"\"),LOOKUP($A14,Load_Switch_NFET[PARTNUMBER],Load_Switch_NFET[QGS]),\"\")","v":29},{"$f":"IF(AND($A14<>0,$A14<>\"\"),LOOKUP($A14,Load_Switch_NFET[PARTNUMBER],Load_Switch_NFET[QGD]),\"\")","v":31},{"$f":"IF(AND($A14<>0,$A14<>\"\"),LOOKUP($A14,Load_Switch_NFET[PARTNUMBER],Load_Switch_NFET[QGTH]),\"\")","v":15},{"$f":"IF(AND($A14<>0,$A14<>\"\"),LOOKUP($A14,Load_Switch_NFET[PARTNUMBER],Load_Switch_NFET[VMILLER]),\"\")","v":2.5},{"$f":"IF(AND($A14<>0,$A14<>\"\"),LOOKUP($A14,Load_Switch_NFET[PARTNUMBER],Load_Switch_NFET[COSS_AT_VDSSPEC]),\"\")","v":1.66},45,1.5,2.2248000000000001,2.2250000000000001,{"$f":"IF(AND($A14<>0,$A14<>\"\"),LOOKUP($A14,Load_Switch_NFET[PARTNUMBER],Load_Switch_NFET[1KPRICE]),\"\")","v":0.753},{"$f":"IF(AND($A14<>0,$A14<>\"\"),LOOKUP(A14,Load_Switch_NFET[PARTNUMBER],Load_Switch_NFET[TI_EQ_PACKAGE]),\"\")","v":"SON5X6"},"CSD16570Q5B, SON5X6, 2.225W, $0.753"]
[{"$f":"IF(CH=\"N\",NLogic!B15,\"\")","v":"CSD17501Q5A"},{"$f":"IF(OR($A15=0,$A15=\"\"),\"0\",IF(LOOKUP($A15,Load_Switch_NFET[PARTNUMBER],Load_Switch_NFET[RDSON18])=\"(NULL)\",\"0\",\"1\"))","v":"0"},{"$f":"IF(OR($A15=0,$A15=\"\"),\"0\",IF(LOOKUP($A15,Load_Switch_NFET[PARTNUMBER],Load_Switch_NFET[RDSON25])=\"(NULL)\",\"0\",\"1\"))","v":"0"},{"$f":"IF(OR($A15=0,$A15=\"\"),\"0\",IF(LOOKUP($A15,Load_Switch_NFET[PARTNUMBER],Load_Switch_NFET[RDSON3])=\"(NULL)\",\"0\",\"1\"))","v":"0"},{"$f":"IF(OR($A15=0,$A15=\"\"),\"0\",IF(LOOKUP($A15,Load_Switch_NFET[PARTNUMBER],Load_Switch_NFET[RDSON45])=\"(NULL)\",\"0\",\"1\"))","v":"1"},{"$f":"IF(OR($A15=0,$A15=\"\"),\"0\",IF(LOOKUP($A15,Load_Switch_NFET[PARTNUMBER],Load_Switch_NFET[RDSON6])=\"(NULL)\",\"0\",\"1\"))","v":"0"},{"$f":"IF(OR($A15=0,$A15=\"\"),\"0\",IF(LOOKUP($A15,Load_Switch_NFET[PARTNUMBER],Load_Switch_NFET[RDSON8])=\"(NULL)\",\"0\",\"1\"))","v":"0"},{"$f":"IF(OR($A15=0,$A15=\"\"),\"0\",IF(LOOKUP($A15,Load_Switch_NFET[PARTNUMBER],Load_Switch_NFET[RDSON10])=\"(NULL)\",\"0\",\"1\"))","v":"1"},false,false,false,true,false,false,true,true,false,false,false,true,false,false,true,{"$f":"IF(W15,LOOKUP(A15,Load_Switch_NFET[PARTNUMBER],Load_Switch_NFET[RDSON10])*1000,IF(V15,LOOKUP(A15,Load_Switch_NFET[PARTNUMBER],Load_Switch_NFET[RDSON8])*1000,IF(U15,LOOKUP(A15,Load_Switch_NFET[PARTNUMBER],Load_Switch_NFET[RDSON6])*1000,IF(T15,LOOKUP(A15,Load_Switch_NFET[PARTNUMBER],Load_Switch_NFET[RDSON45])*1000,IF(S15,LOOKUP(A15,Load_Switch_NFET[PARTNUMBER],Load_Switch_NFET[RDSON3])*1000,IF(R15,LOOKUP(A15,Load_Switch_NFET[PARTNUMBER],Load_Switch_NFET[RDSON25])*1000,IF(Q15,LOOKUP(A15,Load_Switch_NFET[PARTNUMBER],Load_Switch_NFET[RDSON18])*1000,\"\")))))))","v":2.9},{"$f":"IF(AND(A15<>0,A15<>\"\"),X15*(1+(Tj-25)*(LOOKUP(A15,Load_Switch_NFET[PARTNUMBER],Load_Switch_NFET[RDSDELTA])/((LOOKUP(A15,Load_Switch_NFET[PARTNUMBER],Load_Switch_NFET[TJMAX])-25)))),\"\")","v":3.4219999999999997},{"$f":"IF(AND(A15<>0,A15<>\"\"),LOOKUP(A15,Load_Switch_NFET[PARTNUMBER],Load_Switch_NFET[VTHMAX]),\"\")","v":1.8},{"$f":"IF(AND(A15<>0,A15<>\"\"),LOOKUP(A15,Load_Switch_NFET[PARTNUMBER],Load_Switch_NFET[VTHMIN]),\"\")","v":1},4.5,{"$f":"IF(AND(A15<>0,A15<>\"\"),LOOKUP(A15,Load_Switch_NFET[PARTNUMBER],Load_Switch_NFET[RGIMAX]),\"\")","v":2.6},{"$f":"IF(AND($A15<>0,$A15<>\"\"),LOOKUP($A15,Load_Switch_NFET[PARTNUMBER],Load_Switch_NFET[QGTYP]),\"\")","v":13.2},{"$f":"IF(AND($A15<>0,$A15<>\"\"),LOOKUP($A15,Load_Switch_NFET[PARTNUMBER],Load_Switch_NFET[QGS]),\"\")","v":5.4},{"$f":"IF(AND($A15<>0,$A15<>\"\"),LOOKUP($A15,Load_Switch_NFET[PARTNUMBER],Load_Switch_NFET[QGD]),\"\")","v":3.5},{"$f":"IF(AND($A15<>0,$A15<>\"\"),LOOKUP($A15,Load_Switch_NFET[PARTNUMBER],Load_Switch_NFET[QGTH]),\"\")","v":2.9},{"$f":"IF(AND($A15<>0,$A15<>\"\"),LOOKUP($A15,Load_Switch_NFET[PARTNUMBER],Load_Switch_NFET[VMILLER]),\"\")","v":"(NULL)"},{"$f":"IF(AND($A15<>0,$A15<>\"\"),LOOKUP($A15,Load_Switch_NFET[PARTNUMBER],Load_Switch_NFET[COSS_AT_VDSSPEC]),\"\")","v":1.35},6,1.4,12.319199999999999,12.319000000000001,{"$f":"IF(AND($A15<>0,$A15<>\"\"),LOOKUP($A15,Load_Switch_NFET[PARTNUMBER],Load_Switch_NFET[1KPRICE]),\"\")","v":0.625},{"$f":"IF(AND($A15<>0,$A15<>\"\"),LOOKUP(A15,Load_Switch_NFET[PARTNUMBER],Load_Switch_NFET[TI_EQ_PACKAGE]),\"\")","v":"SON5x6"},"CSD17501Q5A, SON5x6, 12.319W, $0.625"]
[{"$f":"IF(CH=\"N\",NLogic!B16,\"\")","v":"CSD17505Q5A"},{"$f":"IF(OR($A16=0,$A16=\"\"),\"0\",IF(LOOKUP($A16,Load_Switch_NFET[PARTNUMBER],Load_Switch_NFET[RDSON18])=\"(NULL)\",\"0\",\"1\"))","v":"0"},{"$f":"IF(OR($A16=0,$A16=\"\"),\"0\",IF(LOOKUP($A16,Load_Switch_NFET[PARTNUMBER],Load_Switch_NFET[RDSON25])=\"(NULL)\",\"0\",\"1\"))","v":"0"},{"$f":"IF(OR($A16=0,$A16=\"\"),\"0\",IF(LOOKUP($A16,Load_Switch_NFET[PARTNUMBER],Load_Switch_NFET[RDSON3])=\"(NULL)\",\"0\",\"1\"))","v":"0"},{"$f":"IF(OR($A16=0,$A16=\"\"),\"0\",IF(LOOKUP($A16,Load_Switch_NFET[PARTNUMBER],Load_Switch_NFET[RDSON45])=\"(NULL)\",\"0\",\"1\"))","v":"1"},{"$f":"IF(OR($A16=0,$A16=\"\"),\"0\",IF(LOOKUP($A16,Load_Switch_NFET[PARTNUMBER],Load_Switch_NFET[RDSON6])=\"(NULL)\",\"0\",\"1\"))","v":"0"},{"$f":"IF(OR($A16=0,$A16=\"\"),\"0\",IF(LOOKUP($A16,Load_Switch_NFET[PARTNUMBER],Load_Switch_NFET[RDSON8])=\"(NULL)\",\"0\",\"1\"))","v":"0"},{"$f":"IF(OR($A16=0,$A16=\"\"),\"0\",IF(LOOKUP($A16,Load_Switch_NFET[PARTNUMBER],Load_Switch_NFET[RDSON10])=\"(NULL)\",\"0\",\"1\"))","v":"1"},false,false,false,true,false,false,true,true,false,false,false,true,false,false,true,{"$f":"IF(W16,LOOKUP(A16,Load_Switch_NFET[PARTNUMBER],Load_Switch_NFET[RDSON10])*1000,IF(V16,LOOKUP(A16,Load_Switch_NFET[PARTNUMBER],Load_Switch_NFET[RDSON8])*1000,IF(U16,LOOKUP(A16,Load_Switch_NFET[PARTNUMBER],Load_Switch_NFET[RDSON6])*1000,IF(T16,LOOKUP(A16,Load_Switch_NFET[PARTNUMBER],Load_Switch_NFET[RDSON45])*1000,IF(S16,LOOKUP(A16,Load_Switch_NFET[PARTNUMBER],Load_Switch_NFET[RDSON3])*1000,IF(R16,LOOKUP(A16,Load_Switch_NFET[PARTNUMBER],Load_Switch_NFET[RDSON25])*1000,IF(Q16,LOOKUP(A16,Load_Switch_NFET[PARTNUMBER],Load_Switch_NFET[RDSON18])*1000,\"\")))))))","v":3.5},{"$f":"IF(AND(A16<>0,A16<>\"\"),X16*(1+(Tj-25)*(LOOKUP(A16,Load_Switch_NFET[PARTNUMBER],Load_Switch_NFET[RDSDELTA])/((LOOKUP(A16,Load_Switch_NFET[PARTNUMBER],Load_Switch_NFET[TJMAX])-25)))),\"\")","v":4.2},{"$f":"IF(AND(A16<>0,A16<>\"\"),LOOKUP(A16,Load_Switch_NFET[PARTNUMBER],Load_Switch_NFET[VTHMAX]),\"\")","v":1.8},{"$f":"IF(AND(A16<>0,A16<>\"\"),LOOKUP(A16,Load_Switch_NFET[PARTNUMBER],Load_Switch_NFET[VTHMIN]),\"\")","v":1},4.5,{"$f":"IF(AND(A16<>0,A16<>\"\"),LOOKUP(A16,Load_Switch_NFET[PARTNUMBER],Load_Switch_NFET[RGIMAX]),\"\")","v":2},{"$f":"IF(AND($A16<>0,$A16<>\"\"),LOOKUP($A16,Load_Switch_NFET[PARTNUMBER],Load_Switch_NFET[QGTYP]),\"\")","v":10},{"$f":"IF(AND($A16<>0,$A16<>\"\"),LOOKUP($A16,Load_Switch_NFET[PARTNUMBER],Load_Switch_NFET[QGS]),\"\")","v":3.5},{"$f":"IF(AND($A16<>0,$A16<>\"\"),LOOKUP($A16,Load_Switch_NFET[PARTNUMBER],Load_Switch_NFET[QGD]),\"\")","v":2.7},{"$f":"IF(AND($A16<>0,$A16<>\"\"),LOOKUP($A16,Load_Switch_NFET[PARTNUMBER],Load_Switch_NFET[QGTH]),\"\")","v":1.9},{"$f":"IF(AND($A16<>0,$A16<>\"\"),LOOKUP($A16,Load_Switch_NFET[PARTNUMBER],Load_Switch_NFET[VMILLER]),\"\")","v":"(NULL)"},{"$f":"IF(AND($A16<>0,$A16<>\"\"),LOOKUP($A16,Load_Switch_NFET[PARTNUMBER],Load_Switch_NFET[COSS_AT_VDSSPEC]),\"\")","v":1.03},4.3000000000000007,1.4,15.120000000000001,15.12,{"$f":"IF(AND($A16<>0,$A16<>\"\"),LOOKUP($A16,Load_Switch_NFET[PARTNUMBER],Load_Switch_NFET[1KPRICE]),\"\")","v":0.56200000000000006},{"$f":"IF(AND($A16<>0,$A16<>\"\"),LOOKUP(A16,Load_Switch_NFET[PARTNUMBER],Load_Switch_NFET[TI_EQ_PACKAGE]),\"\")","v":"SON5x6"},"CSD17505Q5A, SON5x6, 15.12W, $0.562"]
[{"$f":"IF(CH=\"N\",NLogic!B17,\"\")","v":"CSD17506Q5A"},{"$f":"IF(OR($A17=0,$A17=\"\"),\"0\",IF(LOOKUP($A17,Load_Switch_NFET[PARTNUMBER],Load_Switch_NFET[RDSON18])=\"(NULL)\",\"0\",\"1\"))","v":"0"},{"$f":"IF(OR($A17=0,$A17=\"\"),\"0\",IF(LOOKUP($A17,Load_Switch_NFET[PARTNUMBER],Load_Switch_NFET[RDSON25])=\"(NULL)\",\"0\",\"1\"))","v":"0"},{"$f":"IF(OR($A17=0,$A17=\"\"),\"0\",IF(LOOKUP($A17,Load_Switch_NFET[PARTNUMBER],Load_Switch_NFET[RDSON3])=\"(NULL)\",\"0\",\"1\"))","v":"0"},{"$f":"IF(OR($A17=0,$A17=\"\"),\"0\",IF(LOOKUP($A17,Load_Switch_NFET[PARTNUMBER],Load_Switch_NFET[RDSON45])=\"(NULL)\",\"0\",\"1\"))","v":"1"},{"$f":"IF(OR($A17=0,$A17=\"\"),\"0\",IF(LOOKUP($A17,Load_Switch_NFET[PARTNUMBER],Load_Switch_NFET[RDSON6])=\"(NULL)\",\"0\",\"1\"))","v":"0"},{"$f":"IF(OR($A17=0,$A17=\"\"),\"0\",IF(LOOKUP($A17,Load_Switch_NFET[PARTNUMBER],Load_Switch_NFET[RDSON8])=\"(NULL)\",\"0\",\"1\"))","v":"0"},{"$f":"IF(OR($A17=0,$A17=\"\"),\"0\",IF(LOOKUP($A17,Load_Switch_NFET[PARTNUMBER],Load_Switch_NFET[RDSON10])=\"(NULL)\",\"0\",\"1\"))","v":"1"},false,false,false,true,false,false,true,true,false,false,false,true,false,false,true,{"$f":"IF(W17,LOOKUP(A17,Load_Switch_NFET[PARTNUMBER],Load_Switch_NFET[RDSON10])*1000,IF(V17,LOOKUP(A17,Load_Switch_NFET[PARTNUMBER],Load_Switch_NFET[RDSON8])*1000,IF(U17,LOOKUP(A17,Load_Switch_NFET[PARTNUMBER],Load_Switch_NFET[RDSON6])*1000,IF(T17,LOOKUP(A17,Load_Switch_NFET[PARTNUMBER],Load_Switch_NFET[RDSON45])*1000,IF(S17,LOOKUP(A17,Load_Switch_NFET[PARTNUMBER],Load_Switch_NFET[RDSON3])*1000,IF(R17,LOOKUP(A17,Load_Switch_NFET[PARTNUMBER],Load_Switch_NFET[RDSON25])*1000,IF(Q17,LOOKUP(A17,Load_Switch_NFET[PARTNUMBER],Load_Switch_NFET[RDSON18])*1000,\"\")))))))","v":4},{"$f":"IF(AND(A17<>0,A17<>\"\"),X17*(1+(Tj-25)*(LOOKUP(A17,Load_Switch_NFET[PARTNUMBER],Load_Switch_NFET[RDSDELTA])/((LOOKUP(A17,Load_Switch_NFET[PARTNUMBER],Load_Switch_NFET[TJMAX])-25)))),\"\")","v":4.72},{"$f":"IF(AND(A17<>0,A17<>\"\"),LOOKUP(A17,Load_Switch_NFET[PARTNUMBER],Load_Switch_NFET[VTHMAX]),\"\")","v":1.8},{"$f":"IF(AND(A17<>0,A17<>\"\"),LOOKUP(A17,Load_Switch_NFET[PARTNUMBER],Load_Switch_NFET[VTHMIN]),\"\")","v":1},4.5,{"$f":"IF(AND(A17<>0,A17<>\"\"),LOOKUP(A17,Load_Switch_NFET[PARTNUMBER],Load_Switch_NFET[RGIMAX]),\"\")","v":2.2000000000000002},{"$f":"IF(AND($A17<>0,$A17<>\"\"),LOOKUP($A17,Load_Switch_NFET[PARTNUMBER],Load_Switch_NFET[QGTYP]),\"\")","v":8.3000000000000007},{"$f":"IF(AND($A17<>0,$A17<>\"\"),LOOKUP($A17,Load_Switch_NFET[PARTNUMBER],Load_Switch_NFET[QGS]),\"\")","v":3.1},{"$f":"IF(AND($A17<>0,$A17<>\"\"),LOOKUP($A17,Load_Switch_NFET[PARTNUMBER],Load_Switch_NFET[QGD]),\"\")","v":2.2999999999999998},{"$f":"IF(AND($A17<>0,$A17<>\"\"),LOOKUP($A17,Load_Switch_NFET[PARTNUMBER],Load_Switch_NFET[QGTH]),\"\")","v":1.6},{"$f":"IF(AND($A17<>0,$A17<>\"\"),LOOKUP($A17,Load_Switch_NFET[PARTNUMBER],Load_Switch_NFET[VMILLER]),\"\")","v":"(NULL)"},{"$f":"IF(AND($A17<>0,$A17<>\"\"),LOOKUP($A17,Load_Switch_NFET[PARTNUMBER],Load_Switch_NFET[COSS_AT_VDSSPEC]),\"\")","v":0.86},3.8000000000000003,1.4,16.992000000000001,16.992000000000001,{"$f":"IF(AND($A17<>0,$A17<>\"\"),LOOKUP($A17,Load_Switch_NFET[PARTNUMBER],Load_Switch_NFET[1KPRICE]),\"\")","v":0.495},{"$f":"IF(AND($A17<>0,$A17<>\"\"),LOOKUP(A17,Load_Switch_NFET[PARTNUMBER],Load_Switch_NFET[TI_EQ_PACKAGE]),\"\")","v":"SON5x6"},"CSD17506Q5A, SON5x6, 16.992W, $0.495"]
[{"$f":"IF(CH=\"N\",NLogic!B18,\"\")","v":"CSD17507Q5A"},{"$f":"IF(OR($A18=0,$A18=\"\"),\"0\",IF(LOOKUP($A18,Load_Switch_NFET[PARTNUMBER],Load_Switch_NFET[RDSON18])=\"(NULL)\",\"0\",\"1\"))","v":"0"},{"$f":"IF(OR($A18=0,$A18=\"\"),\"0\",IF(LOOKUP($A18,Load_Switch_NFET[PARTNUMBER],Load_Switch_NFET[RDSON25])=\"(NULL)\",\"0\",\"1\"))","v":"0"},{"$f":"IF(OR($A18=0,$A18=\"\"),\"0\",IF(LOOKUP($A18,Load_Switch_NFET[PARTNUMBER],Load_Switch_NFET[RDSON3])=\"(NULL)\",\"0\",\"1\"))","v":"0"},{"$f":"IF(OR($A18=0,$A18=\"\"),\"0\",IF(LOOKUP($A18,Load_Switch_NFET[PARTNUMBER],Load_Switch_NFET[RDSON45])=\"(NULL)\",\"0\",\"1\"))","v":"1"},{"$f":"IF(OR($A18=0,$A18=\"\"),\"0\",IF(LOOKUP($A18,Load_Switch_NFET[PARTNUMBER],Load_Switch_NFET[RDSON6])=\"(NULL)\",\"0\",\"1\"))","v":"0"},{"$f":"IF(OR($A18=0,$A18=\"\"),\"0\",IF(LOOKUP($A18,Load_Switch_NFET[PARTNUMBER],Load_Switch_NFET[RDSON8])=\"(NULL)\",\"0\",\"1\"))","v":"0"},{"$f":"IF(OR($A18=0,$A18=\"\"),\"0\",IF(LOOKUP($A18,Load_Switch_NFET[PARTNUMBER],Load_Switch_NFET[RDSON10])=\"(NULL)\",\"0\",\"1\"))","v":"1"},false,false,false,true,false,false,true,true,false,false,false,true,false,false,true,{"$f":"IF(W18,LOOKUP(A18,Load_Switch_NFET[PARTNUMBER],Load_Switch_NFET[RDSON10])*1000,IF(V18,LOOKUP(A18,Load_Switch_NFET[PARTNUMBER],Load_Switch_NFET[RDSON8])*1000,IF(U18,LOOKUP(A18,Load_Switch_NFET[PARTNUMBER],Load_Switch_NFET[RDSON6])*1000,IF(T18,LOOKUP(A18,Load_Switch_NFET[PARTNUMBER],Load_Switch_NFET[RDSON45])*1000,IF(S18,LOOKUP(A18,Load_Switch_NFET[PARTNUMBER],Load_Switch_NFET[RDSON3])*1000,IF(R18,LOOKUP(A18,Load_Switch_NFET[PARTNUMBER],Load_Switch_NFET[RDSON25])*1000,IF(Q18,LOOKUP(A18,Load_Switch_NFET[PARTNUMBER],Load_Switch_NFET[RDSON18])*1000,\"\")))))))","v":10.8},{"$f":"IF(AND(A18<>0,A18<>\"\"),X18*(1+(Tj-25)*(LOOKUP(A18,Load_Switch_NFET[PARTNUMBER],Load_Switch_NFET[RDSDELTA])/((LOOKUP(A18,Load_Switch_NFET[PARTNUMBER],Load_Switch_NFET[TJMAX])-25)))),\"\")","v":12.830400000000001},{"$f":"IF(AND(A18<>0,A18<>\"\"),LOOKUP(A18,Load_Switch_NFET[PARTNUMBER],Load_Switch_NFET[VTHMAX]),\"\")","v":2.1},{"$f":"IF(AND(A18<>0,A18<>\"\"),LOOKUP(A18,Load_Switch_NFET[PARTNUMBER],Load_Switch_NFET[VTHMIN]),\"\")","v":1.1000000000000001},4.5,{"$f":"IF(AND(A18<>0,A18<>\"\"),LOOKUP(A18,Load_Switch_NFET[PARTNUMBER],Load_Switch_NFET[RGIMAX]),\"\")","v":1.4},{"$f":"IF(AND($A18<>0,$A18<>\"\"),LOOKUP($A18,Load_Switch_NFET[PARTNUMBER],Load_Switch_NFET[QGTYP]),\"\")","v":2.8},{"$f":"IF(AND($A18<>0,$A18<>\"\"),LOOKUP($A18,Load_Switch_NFET[PARTNUMBER],Load_Switch_NFET[QGS]),\"\")","v":1.3},{"$f":"IF(AND($A18<>0,$A18<>\"\"),LOOKUP($A18,Load_Switch_NFET[PARTNUMBER],Load_Switch_NFET[QGD]),\"\")","v":0.7},{"$f":"IF(AND($A18<>0,$A18<>\"\"),LOOKUP($A18,Load_Switch_NFET[PARTNUMBER],Load_Switch_NFET[QGTH]),\"\")","v":0.7},{"$f":"IF(AND($A18<>0,$A18<>\"\"),LOOKUP($A18,Load_Switch_NFET[PARTNUMBER],Load_Switch_NFET[VMILLER]),\"\")","v":"(NULL)"},{"$f":"IF(AND($A18<>0,$A18<>\"\"),LOOKUP($A18,Load_Switch_NFET[PARTNUMBER],Load_Switch_NFET[COSS_AT_VDSSPEC]),\"\")","v":0.27},1.3,1.6,46.189440000000005,46.189,{"$f":"IF(AND($A18<>0,$A18<>\"\"),LOOKUP($A18,Load_Switch_NFET[PARTNUMBER],Load_Switch_NFET[1KPRICE]),\"\")","v":0.24399999999999999},{"$f":"IF(AND($A18<>0,$A18<>\"\"),LOOKUP(A18,Load_Switch_NFET[PARTNUMBER],Load_Switch_NFET[TI_EQ_PACKAGE]),\"\")","v":"SON5x6"},"CSD17507Q5A, SON5x6, 46.189W, $0.244"]
[{"$f":"IF(CH=\"N\",NLogic!B19,\"\")","v":"CSD17522Q5A"},{"$f":"IF(OR($A19=0,$A19=\"\"),\"0\",IF(LOOKUP($A19,Load_Switch_NFET[PARTNUMBER],Load_Switch_NFET[RDSON18])=\"(NULL)\",\"0\",\"1\"))","v":"0"},{"$f":"IF(OR($A19=0,$A19=\"\"),\"0\",IF(LOOKUP($A19,Load_Switch_NFET[PARTNUMBER],Load_Switch_NFET[RDSON25])=\"(NULL)\",\"0\",\"1\"))","v":"0"},{"$f":"IF(OR($A19=0,$A19=\"\"),\"0\",IF(LOOKUP($A19,Load_Switch_NFET[PARTNUMBER],Load_Switch_NFET[RDSON3])=\"(NULL)\",\"0\",\"1\"))","v":"0"},{"$f":"IF(OR($A19=0,$A19=\"\"),\"0\",IF(LOOKUP($A19,Load_Switch_NFET[PARTNUMBER],Load_Switch_NFET[RDSON45])=\"(NULL)\",\"0\",\"1\"))","v":"1"},{"$f":"IF(OR($A19=0,$A19=\"\"),\"0\",IF(LOOKUP($A19,Load_Switch_NFET[PARTNUMBER],Load_Switch_NFET[RDSON6])=\"(NULL)\",\"0\",\"1\"))","v":"0"},{"$f":"IF(OR($A19=0,$A19=\"\"),\"0\",IF(LOOKUP($A19,Load_Switch_NFET[PARTNUMBER],Load_Switch_NFET[RDSON8])=\"(NULL)\",\"0\",\"1\"))","v":"0"},{"$f":"IF(OR($A19=0,$A19=\"\"),\"0\",IF(LOOKUP($A19,Load_Switch_NFET[PARTNUMBER],Load_Switch_NFET[RDSON10])=\"(NULL)\",\"0\",\"1\"))","v":"1"},false,false,false,true,false,false,true,true,false,false,false,true,false,false,true,{"$f":"IF(W19,LOOKUP(A19,Load_Switch_NFET[PARTNUMBER],Load_Switch_NFET[RDSON10])*1000,IF(V19,LOOKUP(A19,Load_Switch_NFET[PARTNUMBER],Load_Switch_NFET[RDSON8])*1000,IF(U19,LOOKUP(A19,Load_Switch_NFET[PARTNUMBER],Load_Switch_NFET[RDSON6])*1000,IF(T19,LOOKUP(A19,Load_Switch_NFET[PARTNUMBER],Load_Switch_NFET[RDSON45])*1000,IF(S19,LOOKUP(A19,Load_Switch_NFET[PARTNUMBER],Load_Switch_NFET[RDSON3])*1000,IF(R19,LOOKUP(A19,Load_Switch_NFET[PARTNUMBER],Load_Switch_NFET[RDSON25])*1000,IF(Q19,LOOKUP(A19,Load_Switch_NFET[PARTNUMBER],Load_Switch_NFET[RDSON18])*1000,\"\")))))))","v":8.1},{"$f":"IF(AND(A19<>0,A19<>\"\"),X19*(1+(Tj-25)*(LOOKUP(A19,Load_Switch_NFET[PARTNUMBER],Load_Switch_NFET[RDSDELTA])/((LOOKUP(A19,Load_Switch_NFET[PARTNUMBER],Load_Switch_NFET[TJMAX])-25)))),\"\")","v":9.460799999999999},{"$f":"IF(AND(A19<>0,A19<>\"\"),LOOKUP(A19,Load_Switch_NFET[PARTNUMBER],Load_Switch_NFET[VTHMAX]),\"\")","v":2},{"$f":"IF(AND(A19<>0,A19<>\"\"),LOOKUP(A19,Load_Switch_NFET[PARTNUMBER],Load_Switch_NFET[VTHMIN]),\"\")","v":1.1000000000000001},4.5,{"$f":"IF(AND(A19<>0,A19<>\"\"),LOOKUP(A19,Load_Switch_NFET[PARTNUMBER],Load_Switch_NFET[RGIMAX]),\"\")","v":"(NULL)"},{"$f":"IF(AND($A19<>0,$A19<>\"\"),LOOKUP($A19,Load_Switch_NFET[PARTNUMBER],Load_Switch_NFET[QGTYP]),\"\")","v":3.6},{"$f":"IF(AND($A19<>0,$A19<>\"\"),LOOKUP($A19,Load_Switch_NFET[PARTNUMBER],Load_Switch_NFET[QGS]),\"\")","v":1.6},{"$f":"IF(AND($A19<>0,$A19<>\"\"),LOOKUP($A19,Load_Switch_NFET[PARTNUMBER],Load_Switch_NFET[QGD]),\"\")","v":1.1000000000000001},{"$f":"IF(AND($A19<>0,$A19<>\"\"),LOOKUP($A19,Load_Switch_NFET[PARTNUMBER],Load_Switch_NFET[QGTH]),\"\")","v":0.9},{"$f":"IF(AND($A19<>0,$A19<>\"\"),LOOKUP($A19,Load_Switch_NFET[PARTNUMBER],Load_Switch_NFET[VMILLER]),\"\")","v":"(NULL)"},{"$f":"IF(AND($A19<>0,$A19<>\"\"),LOOKUP($A19,Load_Switch_NFET[PARTNUMBER],Load_Switch_NFET[COSS_AT_VDSSPEC]),\"\")","v":0.39},1.8000000000000003,1.55,34.058879999999995,34.058999999999997,{"$f":"IF(AND($A19<>0,$A19<>\"\"),LOOKUP($A19,Load_Switch_NFET[PARTNUMBER],Load_Switch_NFET[1KPRICE]),\"\")","v":0.374},{"$f":"IF(AND($A19<>0,$A19<>\"\"),LOOKUP(A19,Load_Switch_NFET[PARTNUMBER],Load_Switch_NFET[TI_EQ_PACKAGE]),\"\")","v":"SON5x6"},"CSD17522Q5A, SON5x6, 34.059W, $0.374"]
[{"$f":"IF(CH=\"N\",NLogic!B20,\"\")","v":"CSD17527Q5A"},{"$f":"IF(OR($A20=0,$A20=\"\"),\"0\",IF(LOOKUP($A20,Load_Switch_NFET[PARTNUMBER],Load_Switch_NFET[RDSON18])=\"(NULL)\",\"0\",\"1\"))","v":"0"},{"$f":"IF(OR($A20=0,$A20=\"\"),\"0\",IF(LOOKUP($A20,Load_Switch_NFET[PARTNUMBER],Load_Switch_NFET[RDSON25])=\"(NULL)\",\"0\",\"1\"))","v":"0"},{"$f":"IF(OR($A20=0,$A20=\"\"),\"0\",IF(LOOKUP($A20,Load_Switch_NFET[PARTNUMBER],Load_Switch_NFET[RDSON3])=\"(NULL)\",\"0\",\"1\"))","v":"0"},{"$f":"IF(OR($A20=0,$A20=\"\"),\"0\",IF(LOOKUP($A20,Load_Switch_NFET[PARTNUMBER],Load_Switch_NFET[RDSON45])=\"(NULL)\",\"0\",\"1\"))","v":"1"},{"$f":"IF(OR($A20=0,$A20=\"\"),\"0\",IF(LOOKUP($A20,Load_Switch_NFET[PARTNUMBER],Load_Switch_NFET[RDSON6])=\"(NULL)\",\"0\",\"1\"))","v":"0"},{"$f":"IF(OR($A20=0,$A20=\"\"),\"0\",IF(LOOKUP($A20,Load_Switch_NFET[PARTNUMBER],Load_Switch_NFET[RDSON8])=\"(NULL)\",\"0\",\"1\"))","v":"0"},{"$f":"IF(OR($A20=0,$A20=\"\"),\"0\",IF(LOOKUP($A20,Load_Switch_NFET[PARTNUMBER],Load_Switch_NFET[RDSON10])=\"(NULL)\",\"0\",\"1\"))","v":"1"},false,false,false,true,false,false,true,true,false,false,false,true,false,false,true,{"$f":"IF(W20,LOOKUP(A20,Load_Switch_NFET[PARTNUMBER],Load_Switch_NFET[RDSON10])*1000,IF(V20,LOOKUP(A20,Load_Switch_NFET[PARTNUMBER],Load_Switch_NFET[RDSON8])*1000,IF(U20,LOOKUP(A20,Load_Switch_NFET[PARTNUMBER],Load_Switch_NFET[RDSON6])*1000,IF(T20,LOOKUP(A20,Load_Switch_NFET[PARTNUMBER],Load_Switch_NFET[RDSON45])*1000,IF(S20,LOOKUP(A20,Load_Switch_NFET[PARTNUMBER],Load_Switch_NFET[RDSON3])*1000,IF(R20,LOOKUP(A20,Load_Switch_NFET[PARTNUMBER],Load_Switch_NFET[RDSON25])*1000,IF(Q20,LOOKUP(A20,Load_Switch_NFET[PARTNUMBER],Load_Switch_NFET[RDSON18])*1000,\"\")))))))","v":10.8},{"$f":"IF(AND(A20<>0,A20<>\"\"),X20*(1+(Tj-25)*(LOOKUP(A20,Load_Switch_NFET[PARTNUMBER],Load_Switch_NFET[RDSDELTA])/((LOOKUP(A20,Load_Switch_NFET[PARTNUMBER],Load_Switch_NFET[TJMAX])-25)))),\"\")","v":12.96},{"$f":"IF(AND(A20<>0,A20<>\"\"),LOOKUP(A20,Load_Switch_NFET[PARTNUMBER],Load_Switch_NFET[VTHMAX]),\"\")","v":2},{"$f":"IF(AND(A20<>0,A20<>\"\"),LOOKUP(A20,Load_Switch_NFET[PARTNUMBER],Load_Switch_NFET[VTHMIN]),\"\")","v":1.1000000000000001},4.5,{"$f":"IF(AND(A20<>0,A20<>\"\"),LOOKUP(A20,Load_Switch_NFET[PARTNUMBER],Load_Switch_NFET[RGIMAX]),\"\")","v":"(NULL)"},{"$f":"IF(AND($A20<>0,$A20<>\"\"),LOOKUP($A20,Load_Switch_NFET[PARTNUMBER],Load_Switch_NFET[QGTYP]),\"\")","v":2.8},{"$f":"IF(AND($A20<>0,$A20<>\"\"),LOOKUP($A20,Load_Switch_NFET[PARTNUMBER],Load_Switch_NFET[QGS]),\"\")","v":1.2},{"$f":"IF(AND($A20<>0,$A20<>\"\"),LOOKUP($A20,Load_Switch_NFET[PARTNUMBER],Load_Switch_NFET[QGD]),\"\")","v":0.8},{"$f":"IF(AND($A20<>0,$A20<>\"\"),LOOKUP($A20,Load_Switch_NFET[PARTNUMBER],Load_Switch_NFET[QGTH]),\"\")","v":0.6},{"$f":"IF(AND($A20<>0,$A20<>\"\"),LOOKUP($A20,Load_Switch_NFET[PARTNUMBER],Load_Switch_NFET[VMILLER]),\"\")","v":"(NULL)"},{"$f":"IF(AND($A20<>0,$A20<>\"\"),LOOKUP($A20,Load_Switch_NFET[PARTNUMBER],Load_Switch_NFET[COSS_AT_VDSSPEC]),\"\")","v":0.28599999999999998},1.4,1.55,46.655999999999999,46.655999999999999,{"$f":"IF(AND($A20<>0,$A20<>\"\"),LOOKUP($A20,Load_Switch_NFET[PARTNUMBER],Load_Switch_NFET[1KPRICE]),\"\")","v":0.35099999999999998},{"$f":"IF(AND($A20<>0,$A20<>\"\"),LOOKUP(A20,Load_Switch_NFET[PARTNUMBER],Load_Switch_NFET[TI_EQ_PACKAGE]),\"\")","v":"SON5x6"},"CSD17527Q5A, SON5x6, 46.656W, $0.351"]
[{"$f":"IF(CH=\"N\",NLogic!B21,\"\")","v":"CSD17552Q3A"},{"$f":"IF(OR($A21=0,$A21=\"\"),\"0\",IF(LOOKUP($A21,Load_Switch_NFET[PARTNUMBER],Load_Switch_NFET[RDSON18])=\"(NULL)\",\"0\",\"1\"))","v":"0"},{"$f":"IF(OR($A21=0,$A21=\"\"),\"0\",IF(LOOKUP($A21,Load_Switch_NFET[PARTNUMBER],Load_Switch_NFET[RDSON25])=\"(NULL)\",\"0\",\"1\"))","v":"0"},{"$f":"IF(OR($A21=0,$A21=\"\"),\"0\",IF(LOOKUP($A21,Load_Switch_NFET[PARTNUMBER],Load_Switch_NFET[RDSON3])=\"(NULL)\",\"0\",\"1\"))","v":"0"},{"$f":"IF(OR($A21=0,$A21=\"\"),\"0\",IF(LOOKUP($A21,Load_Switch_NFET[PARTNUMBER],Load_Switch_NFET[RDSON45])=\"(NULL)\",\"0\",\"1\"))","v":"1"},{"$f":"IF(OR($A21=0,$A21=\"\"),\"0\",IF(LOOKUP($A21,Load_Switch_NFET[PARTNUMBER],Load_Switch_NFET[RDSON6])=\"(NULL)\",\"0\",\"1\"))","v":"0"},{"$f":"IF(OR($A21=0,$A21=\"\"),\"0\",IF(LOOKUP($A21,Load_Switch_NFET[PARTNUMBER],Load_Switch_NFET[RDSON8])=\"(NULL)\",\"0\",\"1\"))","v":"0"},{"$f":"IF(OR($A21=0,$A21=\"\"),\"0\",IF(LOOKUP($A21,Load_Switch_NFET[PARTNUMBER],Load_Switch_NFET[RDSON10])=\"(NULL)\",\"0\",\"1\"))","v":"1"},false,false,false,true,false,false,true,true,false,false,false,true,false,false,true,{"$f":"IF(W21,LOOKUP(A21,Load_Switch_NFET[PARTNUMBER],Load_Switch_NFET[RDSON10])*1000,IF(V21,LOOKUP(A21,Load_Switch_NFET[PARTNUMBER],Load_Switch_NFET[RDSON8])*1000,IF(U21,LOOKUP(A21,Load_Switch_NFET[PARTNUMBER],Load_Switch_NFET[RDSON6])*1000,IF(T21,LOOKUP(A21,Load_Switch_NFET[PARTNUMBER],Load_Switch_NFET[RDSON45])*1000,IF(S21,LOOKUP(A21,Load_Switch_NFET[PARTNUMBER],Load_Switch_NFET[RDSON3])*1000,IF(R21,LOOKUP(A21,Load_Switch_NFET[PARTNUMBER],Load_Switch_NFET[RDSON25])*1000,IF(Q21,LOOKUP(A21,Load_Switch_NFET[PARTNUMBER],Load_Switch_NFET[RDSON18])*1000,\"\")))))))","v":6},{"$f":"IF(AND(A21<>0,A21<>\"\"),X21*(1+(Tj-25)*(LOOKUP(A21,Load_Switch_NFET[PARTNUMBER],Load_Switch_NFET[RDSDELTA])/((LOOKUP(A21,Load_Switch_NFET[PARTNUMBER],Load_Switch_NFET[TJMAX])-25)))),\"\")","v":7.68},{"$f":"IF(AND(A21<>0,A21<>\"\"),LOOKUP(A21,Load_Switch_NFET[PARTNUMBER],Load_Switch_NFET[VTHMAX]),\"\")","v":1.9},{"$f":"IF(AND(A21<>0,A21<>\"\"),LOOKUP(A21,Load_Switch_NFET[PARTNUMBER],Load_Switch_NFET[VTHMIN]),\"\")","v":1.1000000000000001},4.5,{"$f":"IF(AND(A21<>0,A21<>\"\"),LOOKUP(A21,Load_Switch_NFET[PARTNUMBER],Load_Switch_NFET[RGIMAX]),\"\")","v":1.8},{"$f":"IF(AND($A21<>0,$A21<>\"\"),LOOKUP($A21,Load_Switch_NFET[PARTNUMBER],Load_Switch_NFET[QGTYP]),\"\")","v":9},{"$f":"IF(AND($A21<>0,$A21<>\"\"),LOOKUP($A21,Load_Switch_NFET[PARTNUMBER],Load_Switch_NFET[QGS]),\"\")","v":3.6},{"$f":"IF(AND($A21<>0,$A21<>\"\"),LOOKUP($A21,Load_Switch_NFET[PARTNUMBER],Load_Switch_NFET[QGD]),\"\")","v":2.2999999999999998},{"$f":"IF(AND($A21<>0,$A21<>\"\"),LOOKUP($A21,Load_Switch_NFET[PARTNUMBER],Load_Switch_NFET[QGTH]),\"\")","v":1.8},{"$f":"IF(AND($A21<>0,$A21<>\"\"),LOOKUP($A21,Load_Switch_NFET[PARTNUMBER],Load_Switch_NFET[VMILLER]),\"\")","v":"(NULL)"},{"$f":"IF(AND($A21<>0,$A21<>\"\"),LOOKUP($A21,Load_Switch_NFET[PARTNUMBER],Load_Switch_NFET[COSS_AT_VDSSPEC]),\"\")","v":0.38500000000000001},4.1000000000000005,1.5,27.648,27.648,{"$f":"IF(AND($A21<>0,$A21<>\"\"),LOOKUP($A21,Load_Switch_NFET[PARTNUMBER],Load_Switch_NFET[1KPRICE]),\"\")","v":0.29499999999999998},{"$f":"IF(AND($A21<>0,$A21<>\"\"),LOOKUP(A21,Load_Switch_NFET[PARTNUMBER],Load_Switch_NFET[TI_EQ_PACKAGE]),\"\")","v":"SON3X3"},"CSD17552Q3A, SON3X3, 27.648W, $0.295"]
[{"$f":"IF(CH=\"N\",NLogic!B22,\"\")","v":"CSD17552Q5A"},{"$f":"IF(OR($A22=0,$A22=\"\"),\"0\",IF(LOOKUP($A22,Load_Switch_NFET[PARTNUMBER],Load_Switch_NFET[RDSON18])=\"(NULL)\",\"0\",\"1\"))","v":"0"},{"$f":"IF(OR($A22=0,$A22=\"\"),\"0\",IF(LOOKUP($A22,Load_Switch_NFET[PARTNUMBER],Load_Switch_NFET[RDSON25])=\"(NULL)\",\"0\",\"1\"))","v":"0"},{"$f":"IF(OR($A22=0,$A22=\"\"),\"0\",IF(LOOKUP($A22,Load_Switch_NFET[PARTNUMBER],Load_Switch_NFET[RDSON3])=\"(NULL)\",\"0\",\"1\"))","v":"0"},{"$f":"IF(OR($A22=0,$A22=\"\"),\"0\",IF(LOOKUP($A22,Load_Switch_NFET[PARTNUMBER],Load_Switch_NFET[RDSON45])=\"(NULL)\",\"0\",\"1\"))","v":"1"},{"$f":"IF(OR($A22=0,$A22=\"\"),\"0\",IF(LOOKUP($A22,Load_Switch_NFET[PARTNUMBER],Load_Switch_NFET[RDSON6])=\"(NULL)\",\"0\",\"1\"))","v":"0"},{"$f":"IF(OR($A22=0,$A22=\"\"),\"0\",IF(LOOKUP($A22,Load_Switch_NFET[PARTNUMBER],Load_Switch_NFET[RDSON8])=\"(NULL)\",\"0\",\"1\"))","v":"0"},{"$f":"IF(OR($A22=0,$A22=\"\"),\"0\",IF(LOOKUP($A22,Load_Switch_NFET[PARTNUMBER],Load_Switch_NFET[RDSON10])=\"(NULL)\",\"0\",\"1\"))","v":"1"},false,false,false,true,false,false,true,true,false,false,false,true,false,false,true,{"$f":"IF(W22,LOOKUP(A22,Load_Switch_NFET[PARTNUMBER],Load_Switch_NFET[RDSON10])*1000,IF(V22,LOOKUP(A22,Load_Switch_NFET[PARTNUMBER],Load_Switch_NFET[RDSON8])*1000,IF(U22,LOOKUP(A22,Load_Switch_NFET[PARTNUMBER],Load_Switch_NFET[RDSON6])*1000,IF(T22,LOOKUP(A22,Load_Switch_NFET[PARTNUMBER],Load_Switch_NFET[RDSON45])*1000,IF(S22,LOOKUP(A22,Load_Switch_NFET[PARTNUMBER],Load_Switch_NFET[RDSON3])*1000,IF(R22,LOOKUP(A22,Load_Switch_NFET[PARTNUMBER],Load_Switch_NFET[RDSON25])*1000,IF(Q22,LOOKUP(A22,Load_Switch_NFET[PARTNUMBER],Load_Switch_NFET[RDSON18])*1000,\"\")))))))","v":6.2},{"$f":"IF(AND(A22<>0,A22<>\"\"),X22*(1+(Tj-25)*(LOOKUP(A22,Load_Switch_NFET[PARTNUMBER],Load_Switch_NFET[RDSDELTA])/((LOOKUP(A22,Load_Switch_NFET[PARTNUMBER],Load_Switch_NFET[TJMAX])-25)))),\"\")","v":8.06},{"$f":"IF(AND(A22<>0,A22<>\"\"),LOOKUP(A22,Load_Switch_NFET[PARTNUMBER],Load_Switch_NFET[VTHMAX]),\"\")","v":1.9},{"$f":"IF(AND(A22<>0,A22<>\"\"),LOOKUP(A22,Load_Switch_NFET[PARTNUMBER],Load_Switch_NFET[VTHMIN]),\"\")","v":1.1000000000000001},4.5,{"$f":"IF(AND(A22<>0,A22<>\"\"),LOOKUP(A22,Load_Switch_NFET[PARTNUMBER],Load_Switch_NFET[RGIMAX]),\"\")","v":1.8},{"$f":"IF(AND($A22<>0,$A22<>\"\"),LOOKUP($A22,Load_Switch_NFET[PARTNUMBER],Load_Switch_NFET[QGTYP]),\"\")","v":9},{"$f":"IF(AND($A22<>0,$A22<>\"\"),LOOKUP($A22,Load_Switch_NFET[PARTNUMBER],Load_Switch_NFET[QGS]),\"\")","v":3.6},{"$f":"IF(AND($A22<>0,$A22<>\"\"),LOOKUP($A22,Load_Switch_NFET[PARTNUMBER],Load_Switch_NFET[QGD]),\"\")","v":2},{"$f":"IF(AND($A22<>0,$A22<>\"\"),LOOKUP($A22,Load_Switch_NFET[PARTNUMBER],Load_Switch_NFET[QGTH]),\"\")","v":2.1},{"$f":"IF(AND($A22<>0,$A22<>\"\"),LOOKUP($A22,Load_Switch_NFET[PARTNUMBER],Load_Switch_NFET[VMILLER]),\"\")","v":"(NULL)"},{"$f":"IF(AND($A22<>0,$A22<>\"\"),LOOKUP($A22,Load_Switch_NFET[PARTNUMBER],Load_Switch_NFET[COSS_AT_VDSSPEC]),\"\")","v":0.38500000000000001},3.4999999999999996,1.5,29.016000000000002,29.015999999999998,{"$f":"IF(AND($A22<>0,$A22<>\"\"),LOOKUP($A22,Load_Switch_NFET[PARTNUMBER],Load_Switch_NFET[1KPRICE]),\"\")","v":0.313},{"$f":"IF(AND($A22<>0,$A22<>\"\"),LOOKUP(A22,Load_Switch_NFET[PARTNUMBER],Load_Switch_NFET[TI_EQ_PACKAGE]),\"\")","v":"SON5X6"},"CSD17552Q5A, SON5X6, 29.016W, $0.313"]
[{"$f":"IF(CH=\"N\",NLogic!B23,\"\")","v":"CSD17553Q5A"},{"$f":"IF(OR($A23=0,$A23=\"\"),\"0\",IF(LOOKUP($A23,Load_Switch_NFET[PARTNUMBER],Load_Switch_NFET[RDSON18])=\"(NULL)\",\"0\",\"1\"))","v":"0"},{"$f":"IF(OR($A23=0,$A23=\"\"),\"0\",IF(LOOKUP($A23,Load_Switch_NFET[PARTNUMBER],Load_Switch_NFET[RDSON25])=\"(NULL)\",\"0\",\"1\"))","v":"0"},{"$f":"IF(OR($A23=0,$A23=\"\"),\"0\",IF(LOOKUP($A23,Load_Switch_NFET[PARTNUMBER],Load_Switch_NFET[RDSON3])=\"(NULL)\",\"0\",\"1\"))","v":"0"},{"$f":"IF(OR($A23=0,$A23=\"\"),\"0\",IF(LOOKUP($A23,Load_Switch_NFET[PARTNUMBER],Load_Switch_NFET[RDSON45])=\"(NULL)\",\"0\",\"1\"))","v":"1"},{"$f":"IF(OR($A23=0,$A23=\"\"),\"0\",IF(LOOKUP($A23,Load_Switch_NFET[PARTNUMBER],Load_Switch_NFET[RDSON6])=\"(NULL)\",\"0\",\"1\"))","v":"0"},{"$f":"IF(OR($A23=0,$A23=\"\"),\"0\",IF(LOOKUP($A23,Load_Switch_NFET[PARTNUMBER],Load_Switch_NFET[RDSON8])=\"(NULL)\",\"0\",\"1\"))","v":"0"},{"$f":"IF(OR($A23=0,$A23=\"\"),\"0\",IF(LOOKUP($A23,Load_Switch_NFET[PARTNUMBER],Load_Switch_NFET[RDSON10])=\"(NULL)\",\"0\",\"1\"))","v":"1"},false,false,false,true,false,false,true,true,false,false,false,true,false,false,true,{"$f":"IF(W23,LOOKUP(A23,Load_Switch_NFET[PARTNUMBER],Load_Switch_NFET[RDSON10])*1000,IF(V23,LOOKUP(A23,Load_Switch_NFET[PARTNUMBER],Load_Switch_NFET[RDSON8])*1000,IF(U23,LOOKUP(A23,Load_Switch_NFET[PARTNUMBER],Load_Switch_NFET[RDSON6])*1000,IF(T23,LOOKUP(A23,Load_Switch_NFET[PARTNUMBER],Load_Switch_NFET[RDSON45])*1000,IF(S23,LOOKUP(A23,Load_Switch_NFET[PARTNUMBER],Load_Switch_NFET[RDSON3])*1000,IF(R23,LOOKUP(A23,Load_Switch_NFET[PARTNUMBER],Load_Switch_NFET[RDSON25])*1000,IF(Q23,LOOKUP(A23,Load_Switch_NFET[PARTNUMBER],Load_Switch_NFET[RDSON18])*1000,\"\")))))))","v":3.1},{"$f":"IF(AND(A23<>0,A23<>\"\"),X23*(1+(Tj-25)*(LOOKUP(A23,Load_Switch_NFET[PARTNUMBER],Load_Switch_NFET[RDSDELTA])/((LOOKUP(A23,Load_Switch_NFET[PARTNUMBER],Load_Switch_NFET[TJMAX])-25)))),\"\")","v":3.9680000000000004},{"$f":"IF(AND(A23<>0,A23<>\"\"),LOOKUP(A23,Load_Switch_NFET[PARTNUMBER],Load_Switch_NFET[VTHMAX]),\"\")","v":1.9},{"$f":"IF(AND(A23<>0,A23<>\"\"),LOOKUP(A23,Load_Switch_NFET[PARTNUMBER],Load_Switch_NFET[VTHMIN]),\"\")","v":1},4.5,{"$f":"IF(AND(A23<>0,A23<>\"\"),LOOKUP(A23,Load_Switch_NFET[PARTNUMBER],Load_Switch_NFET[RGIMAX]),\"\")","v":0.9},{"$f":"IF(AND($A23<>0,$A23<>\"\"),LOOKUP($A23,Load_Switch_NFET[PARTNUMBER],Load_Switch_NFET[QGTYP]),\"\")","v":17.5},{"$f":"IF(AND($A23<>0,$A23<>\"\"),LOOKUP($A23,Load_Switch_NFET[PARTNUMBER],Load_Switch_NFET[QGS]),\"\")","v":5.8},{"$f":"IF(AND($A23<>0,$A23<>\"\"),LOOKUP($A23,Load_Switch_NFET[PARTNUMBER],Load_Switch_NFET[QGD]),\"\")","v":4.7},{"$f":"IF(AND($A23<>0,$A23<>\"\"),LOOKUP($A23,Load_Switch_NFET[PARTNUMBER],Load_Switch_NFET[QGTH]),\"\")","v":4.0999999999999996},{"$f":"IF(AND($A23<>0,$A23<>\"\"),LOOKUP($A23,Load_Switch_NFET[PARTNUMBER],Load_Switch_NFET[VMILLER]),\"\")","v":"(NULL)"},{"$f":"IF(AND($A23<>0,$A23<>\"\"),LOOKUP($A23,Load_Switch_NFET[PARTNUMBER],Load_Switch_NFET[COSS_AT_VDSSPEC]),\"\")","v":0.63500000000000001},6.4,1.45,14.284800000000001,14.285,{"$f":"IF(AND($A23<>0,$A23<>\"\"),LOOKUP($A23,Load_Switch_NFET[PARTNUMBER],Load_Switch_NFET[1KPRICE]),\"\")","v":0.443},{"$f":"IF(AND($A23<>0,$A23<>\"\"),LOOKUP(A23,Load_Switch_NFET[PARTNUMBER],Load_Switch_NFET[TI_EQ_PACKAGE]),\"\")","v":"SON5X6"},"CSD17553Q5A, SON5X6, 14.285W, $0.443"]
[{"$f":"IF(CH=\"N\",NLogic!B24,\"\")","v":"CSD17555Q5A"},{"$f":"IF(OR($A24=0,$A24=\"\"),\"0\",IF(LOOKUP($A24,Load_Switch_NFET[PARTNUMBER],Load_Switch_NFET[RDSON18])=\"(NULL)\",\"0\",\"1\"))","v":"0"},{"$f":"IF(OR($A24=0,$A24=\"\"),\"0\",IF(LOOKUP($A24,Load_Switch_NFET[PARTNUMBER],Load_Switch_NFET[RDSON25])=\"(NULL)\",\"0\",\"1\"))","v":"0"},{"$f":"IF(OR($A24=0,$A24=\"\"),\"0\",IF(LOOKUP($A24,Load_Switch_NFET[PARTNUMBER],Load_Switch_NFET[RDSON3])=\"(NULL)\",\"0\",\"1\"))","v":"0"},{"$f":"IF(OR($A24=0,$A24=\"\"),\"0\",IF(LOOKUP($A24,Load_Switch_NFET[PARTNUMBER],Load_Switch_NFET[RDSON45])=\"(NULL)\",\"0\",\"1\"))","v":"1"},{"$f":"IF(OR($A24=0,$A24=\"\"),\"0\",IF(LOOKUP($A24,Load_Switch_NFET[PARTNUMBER],Load_Switch_NFET[RDSON6])=\"(NULL)\",\"0\",\"1\"))","v":"0"},{"$f":"IF(OR($A24=0,$A24=\"\"),\"0\",IF(LOOKUP($A24,Load_Switch_NFET[PARTNUMBER],Load_Switch_NFET[RDSON8])=\"(NULL)\",\"0\",\"1\"))","v":"0"},{"$f":"IF(OR($A24=0,$A24=\"\"),\"0\",IF(LOOKUP($A24,Load_Switch_NFET[PARTNUMBER],Load_Switch_NFET[RDSON10])=\"(NULL)\",\"0\",\"1\"))","v":"1"},false,false,false,true,false,false,true,true,false,false,false,true,false,false,true,{"$f":"IF(W24,LOOKUP(A24,Load_Switch_NFET[PARTNUMBER],Load_Switch_NFET[RDSON10])*1000,IF(V24,LOOKUP(A24,Load_Switch_NFET[PARTNUMBER],Load_Switch_NFET[RDSON8])*1000,IF(U24,LOOKUP(A24,Load_Switch_NFET[PARTNUMBER],Load_Switch_NFET[RDSON6])*1000,IF(T24,LOOKUP(A24,Load_Switch_NFET[PARTNUMBER],Load_Switch_NFET[RDSON45])*1000,IF(S24,LOOKUP(A24,Load_Switch_NFET[PARTNUMBER],Load_Switch_NFET[RDSON3])*1000,IF(R24,LOOKUP(A24,Load_Switch_NFET[PARTNUMBER],Load_Switch_NFET[RDSON25])*1000,IF(Q24,LOOKUP(A24,Load_Switch_NFET[PARTNUMBER],Load_Switch_NFET[RDSON18])*1000,\"\")))))))","v":2.7},{"$f":"IF(AND(A24<>0,A24<>\"\"),X24*(1+(Tj-25)*(LOOKUP(A24,Load_Switch_NFET[PARTNUMBER],Load_Switch_NFET[RDSDELTA])/((LOOKUP(A24,Load_Switch_NFET[PARTNUMBER],Load_Switch_NFET[TJMAX])-25)))),\"\")","v":3.4560000000000004},{"$f":"IF(AND(A24<>0,A24<>\"\"),LOOKUP(A24,Load_Switch_NFET[PARTNUMBER],Load_Switch_NFET[VTHMAX]),\"\")","v":1.9},{"$f":"IF(AND(A24<>0,A24<>\"\"),LOOKUP(A24,Load_Switch_NFET[PARTNUMBER],Load_Switch_NFET[VTHMIN]),\"\")","v":1},4.5,{"$f":"IF(AND(A24<>0,A24<>\"\"),LOOKUP(A24,Load_Switch_NFET[PARTNUMBER],Load_Switch_NFET[RGIMAX]),\"\")","v":1.6},{"$f":"IF(AND($A24<>0,$A24<>\"\"),LOOKUP($A24,Load_Switch_NFET[PARTNUMBER],Load_Switch_NFET[QGTYP]),\"\")","v":23},{"$f":"IF(AND($A24<>0,$A24<>\"\"),LOOKUP($A24,Load_Switch_NFET[PARTNUMBER],Load_Switch_NFET[QGS]),\"\")","v":7.5},{"$f":"IF(AND($A24<>0,$A24<>\"\"),LOOKUP($A24,Load_Switch_NFET[PARTNUMBER],Load_Switch_NFET[QGD]),\"\")","v":5},{"$f":"IF(AND($A24<>0,$A24<>\"\"),LOOKUP($A24,Load_Switch_NFET[PARTNUMBER],Load_Switch_NFET[QGTH]),\"\")","v":5},{"$f":"IF(AND($A24<>0,$A24<>\"\"),LOOKUP($A24,Load_Switch_NFET[PARTNUMBER],Load_Switch_NFET[VMILLER]),\"\")","v":"(NULL)"},{"$f":"IF(AND($A24<>0,$A24<>\"\"),LOOKUP($A24,Load_Switch_NFET[PARTNUMBER],Load_Switch_NFET[COSS_AT_VDSSPEC]),\"\")","v":0.94899999999999995},7.5,1.45,12.441600000000003,12.442,{"$f":"IF(AND($A24<>0,$A24<>\"\"),LOOKUP($A24,Load_Switch_NFET[PARTNUMBER],Load_Switch_NFET[1KPRICE]),\"\")","v":0.56200000000000006},{"$f":"IF(AND($A24<>0,$A24<>\"\"),LOOKUP(A24,Load_Switch_NFET[PARTNUMBER],Load_Switch_NFET[TI_EQ_PACKAGE]),\"\")","v":"SON5X6"},"CSD17555Q5A, SON5X6, 12.442W, $0.562"]
[{"$f":"IF(CH=\"N\",NLogic!B25,\"\")","v":"CSD17556Q5B"},{"$f":"IF(OR($A25=0,$A25=\"\"),\"0\",IF(LOOKUP($A25,Load_Switch_NFET[PARTNUMBER],Load_Switch_NFET[RDSON18])=\"(NULL)\",\"0\",\"1\"))","v":"0"},{"$f":"IF(OR($A25=0,$A25=\"\"),\"0\",IF(LOOKUP($A25,Load_Switch_NFET[PARTNUMBER],Load_Switch_NFET[RDSON25])=\"(NULL)\",\"0\",\"1\"))","v":"0"},{"$f":"IF(OR($A25=0,$A25=\"\"),\"0\",IF(LOOKUP($A25,Load_Switch_NFET[PARTNUMBER],Load_Switch_NFET[RDSON3])=\"(NULL)\",\"0\",\"1\"))","v":"0"},{"$f":"IF(OR($A25=0,$A25=\"\"),\"0\",IF(LOOKUP($A25,Load_Switch_NFET[PARTNUMBER],Load_Switch_NFET[RDSON45])=\"(NULL)\",\"0\",\"1\"))","v":"1"},{"$f":"IF(OR($A25=0,$A25=\"\"),\"0\",IF(LOOKUP($A25,Load_Switch_NFET[PARTNUMBER],Load_Switch_NFET[RDSON6])=\"(NULL)\",\"0\",\"1\"))","v":"0"},{"$f":"IF(OR($A25=0,$A25=\"\"),\"0\",IF(LOOKUP($A25,Load_Switch_NFET[PARTNUMBER],Load_Switch_NFET[RDSON8])=\"(NULL)\",\"0\",\"1\"))","v":"0"},{"$f":"IF(OR($A25=0,$A25=\"\"),\"0\",IF(LOOKUP($A25,Load_Switch_NFET[PARTNUMBER],Load_Switch_NFET[RDSON10])=\"(NULL)\",\"0\",\"1\"))","v":"1"},false,false,false,true,false,false,true,true,false,false,false,true,false,false,true,{"$f":"IF(W25,LOOKUP(A25,Load_Switch_NFET[PARTNUMBER],Load_Switch_NFET[RDSON10])*1000,IF(V25,LOOKUP(A25,Load_Switch_NFET[PARTNUMBER],Load_Switch_NFET[RDSON8])*1000,IF(U25,LOOKUP(A25,Load_Switch_NFET[PARTNUMBER],Load_Switch_NFET[RDSON6])*1000,IF(T25,LOOKUP(A25,Load_Switch_NFET[PARTNUMBER],Load_Switch_NFET[RDSON45])*1000,IF(S25,LOOKUP(A25,Load_Switch_NFET[PARTNUMBER],Load_Switch_NFET[RDSON3])*1000,IF(R25,LOOKUP(A25,Load_Switch_NFET[PARTNUMBER],Load_Switch_NFET[RDSON25])*1000,IF(Q25,LOOKUP(A25,Load_Switch_NFET[PARTNUMBER],Load_Switch_NFET[RDSON18])*1000,\"\")))))))","v":1.4},{"$f":"IF(AND(A25<>0,A25<>\"\"),X25*(1+(Tj-25)*(LOOKUP(A25,Load_Switch_NFET[PARTNUMBER],Load_Switch_NFET[RDSDELTA])/((LOOKUP(A25,Load_Switch_NFET[PARTNUMBER],Load_Switch_NFET[TJMAX])-25)))),\"\")","v":1.8199999999999998},{"$f":"IF(AND(A25<>0,A25<>\"\"),LOOKUP(A25,Load_Switch_NFET[PARTNUMBER],Load_Switch_NFET[VTHMAX]),\"\")","v":1.65},{"$f":"IF(AND(A25<>0,A25<>\"\"),LOOKUP(A25,Load_Switch_NFET[PARTNUMBER],Load_Switch_NFET[VTHMIN]),\"\")","v":1.1499999999999999},4.5,{"$f":"IF(AND(A25<>0,A25<>\"\"),LOOKUP(A25,Load_Switch_NFET[PARTNUMBER],Load_Switch_NFET[RGIMAX]),\"\")","v":1.4},{"$f":"IF(AND($A25<>0,$A25<>\"\"),LOOKUP($A25,Load_Switch_NFET[PARTNUMBER],Load_Switch_NFET[QGTYP]),\"\")","v":30},{"$f":"IF(AND($A25<>0,$A25<>\"\"),LOOKUP($A25,Load_Switch_NFET[PARTNUMBER],Load_Switch_NFET[QGS]),\"\")","v":11},{"$f":"IF(AND($A25<>0,$A25<>\"\"),LOOKUP($A25,Load_Switch_NFET[PARTNUMBER],Load_Switch_NFET[QGD]),\"\")","v":7.5},{"$f":"IF(AND($A25<>0,$A25<>\"\"),LOOKUP($A25,Load_Switch_NFET[PARTNUMBER],Load_Switch_NFET[QGTH]),\"\")","v":6.1},{"$f":"IF(AND($A25<>0,$A25<>\"\"),LOOKUP($A25,Load_Switch_NFET[PARTNUMBER],Load_Switch_NFET[VMILLER]),\"\")","v":2.4},{"$f":"IF(AND($A25<>0,$A25<>\"\"),LOOKUP($A25,Load_Switch_NFET[PARTNUMBER],Load_Switch_NFET[COSS_AT_VDSSPEC]),\"\")","v":1.77},12.4,1.4,6.5519999999999996,6.5519999999999996,{"$f":"IF(AND($A25<>0,$A25<>\"\"),LOOKUP($A25,Load_Switch_NFET[PARTNUMBER],Load_Switch_NFET[1KPRICE]),\"\")","v":0.80600000000000005},{"$f":"IF(AND($A25<>0,$A25<>\"\"),LOOKUP(A25,Load_Switch_NFET[PARTNUMBER],Load_Switch_NFET[TI_EQ_PACKAGE]),\"\")","v":"SON5x6"},"CSD17556Q5B, SON5x6, 6.552W, $0.806"]
[{"$f":"IF(CH=\"N\",NLogic!B26,\"\")","v":"CSD17559Q5"},{"$f":"IF(OR($A26=0,$A26=\"\"),\"0\",IF(LOOKUP($A26,Load_Switch_NFET[PARTNUMBER],Load_Switch_NFET[RDSON18])=\"(NULL)\",\"0\",\"1\"))","v":"0"},{"$f":"IF(OR($A26=0,$A26=\"\"),\"0\",IF(LOOKUP($A26,Load_Switch_NFET[PARTNUMBER],Load_Switch_NFET[RDSON25])=\"(NULL)\",\"0\",\"1\"))","v":"0"},{"$f":"IF(OR($A26=0,$A26=\"\"),\"0\",IF(LOOKUP($A26,Load_Switch_NFET[PARTNUMBER],Load_Switch_NFET[RDSON3])=\"(NULL)\",\"0\",\"1\"))","v":"0"},{"$f":"IF(OR($A26=0,$A26=\"\"),\"0\",IF(LOOKUP($A26,Load_Switch_NFET[PARTNUMBER],Load_Switch_NFET[RDSON45])=\"(NULL)\",\"0\",\"1\"))","v":"1"},{"$f":"IF(OR($A26=0,$A26=\"\"),\"0\",IF(LOOKUP($A26,Load_Switch_NFET[PARTNUMBER],Load_Switch_NFET[RDSON6])=\"(NULL)\",\"0\",\"1\"))","v":"0"},{"$f":"IF(OR($A26=0,$A26=\"\"),\"0\",IF(LOOKUP($A26,Load_Switch_NFET[PARTNUMBER],Load_Switch_NFET[RDSON8])=\"(NULL)\",\"0\",\"1\"))","v":"0"},{"$f":"IF(OR($A26=0,$A26=\"\"),\"0\",IF(LOOKUP($A26,Load_Switch_NFET[PARTNUMBER],Load_Switch_NFET[RDSON10])=\"(NULL)\",\"0\",\"1\"))","v":"1"},false,false,false,true,false,false,true,true,false,false,false,true,false,false,true,{"$f":"IF(W26,LOOKUP(A26,Load_Switch_NFET[PARTNUMBER],Load_Switch_NFET[RDSON10])*1000,IF(V26,LOOKUP(A26,Load_Switch_NFET[PARTNUMBER],Load_Switch_NFET[RDSON8])*1000,IF(U26,LOOKUP(A26,Load_Switch_NFET[PARTNUMBER],Load_Switch_NFET[RDSON6])*1000,IF(T26,LOOKUP(A26,Load_Switch_NFET[PARTNUMBER],Load_Switch_NFET[RDSON45])*1000,IF(S26,LOOKUP(A26,Load_Switch_NFET[PARTNUMBER],Load_Switch_NFET[RDSON3])*1000,IF(R26,LOOKUP(A26,Load_Switch_NFET[PARTNUMBER],Load_Switch_NFET[RDSON25])*1000,IF(Q26,LOOKUP(A26,Load_Switch_NFET[PARTNUMBER],Load_Switch_NFET[RDSON18])*1000,\"\")))))))","v":1.1000000000000001},{"$f":"IF(AND(A26<>0,A26<>\"\"),X26*(1+(Tj-25)*(LOOKUP(A26,Load_Switch_NFET[PARTNUMBER],Load_Switch_NFET[RDSDELTA])/((LOOKUP(A26,Load_Switch_NFET[PARTNUMBER],Load_Switch_NFET[TJMAX])-25)))),\"\")","v":1.4080000000000001},{"$f":"IF(AND(A26<>0,A26<>\"\"),LOOKUP(A26,Load_Switch_NFET[PARTNUMBER],Load_Switch_NFET[VTHMAX]),\"\")","v":1.7},{"$f":"IF(AND(A26<>0,A26<>\"\"),LOOKUP(A26,Load_Switch_NFET[PARTNUMBER],Load_Switch_NFET[VTHMIN]),\"\")","v":1.2},4.5,{"$f":"IF(AND(A26<>0,A26<>\"\"),LOOKUP(A26,Load_Switch_NFET[PARTNUMBER],Load_Switch_NFET[RGIMAX]),\"\")","v":2.4},{"$f":"IF(AND($A26<>0,$A26<>\"\"),LOOKUP($A26,Load_Switch_NFET[PARTNUMBER],Load_Switch_NFET[QGTYP]),\"\")","v":39},{"$f":"IF(AND($A26<>0,$A26<>\"\"),LOOKUP($A26,Load_Switch_NFET[PARTNUMBER],Load_Switch_NFET[QGS]),\"\")","v":14.4},{"$f":"IF(AND($A26<>0,$A26<>\"\"),LOOKUP($A26,Load_Switch_NFET[PARTNUMBER],Load_Switch_NFET[QGD]),\"\")","v":9.3000000000000007},{"$f":"IF(AND($A26<>0,$A26<>\"\"),LOOKUP($A26,Load_Switch_NFET[PARTNUMBER],Load_Switch_NFET[QGTH]),\"\")","v":8.3000000000000007},{"$f":"IF(AND($A26<>0,$A26<>\"\"),LOOKUP($A26,Load_Switch_NFET[PARTNUMBER],Load_Switch_NFET[VMILLER]),\"\")","v":2.2999999999999998},{"$f":"IF(AND($A26<>0,$A26<>\"\"),LOOKUP($A26,Load_Switch_NFET[PARTNUMBER],Load_Switch_NFET[COSS_AT_VDSSPEC]),\"\")","v":1.78},15.400000000000002,1.45,5.0688000000000004,5.069,{"$f":"IF(AND($A26<>0,$A26<>\"\"),LOOKUP($A26,Load_Switch_NFET[PARTNUMBER],Load_Switch_NFET[1KPRICE]),\"\")","v":0.89800000000000002},{"$f":"IF(AND($A26<>0,$A26<>\"\"),LOOKUP(A26,Load_Switch_NFET[PARTNUMBER],Load_Switch_NFET[TI_EQ_PACKAGE]),\"\")","v":"SON5X6"},"CSD17559Q5, SON5X6, 5.069W, $0.898"]
[{"$f":"IF(CH=\"N\",NLogic!B27,\"\")","v":"CSD17570Q5B"},{"$f":"IF(OR($A27=0,$A27=\"\"),\"0\",IF(LOOKUP($A27,Load_Switch_NFET[PARTNUMBER],Load_Switch_NFET[RDSON18])=\"(NULL)\",\"0\",\"1\"))","v":"0"},{"$f":"IF(OR($A27=0,$A27=\"\"),\"0\",IF(LOOKUP($A27,Load_Switch_NFET[PARTNUMBER],Load_Switch_NFET[RDSON25])=\"(NULL)\",\"0\",\"1\"))","v":"0"},{"$f":"IF(OR($A27=0,$A27=\"\"),\"0\",IF(LOOKUP($A27,Load_Switch_NFET[PARTNUMBER],Load_Switch_NFET[RDSON3])=\"(NULL)\",\"0\",\"1\"))","v":"0"},{"$f":"IF(OR($A27=0,$A27=\"\"),\"0\",IF(LOOKUP($A27,Load_Switch_NFET[PARTNUMBER],Load_Switch_NFET[RDSON45])=\"(NULL)\",\"0\",\"1\"))","v":"1"},{"$f":"IF(OR($A27=0,$A27=\"\"),\"0\",IF(LOOKUP($A27,Load_Switch_NFET[PARTNUMBER],Load_Switch_NFET[RDSON6])=\"(NULL)\",\"0\",\"1\"))","v":"0"},{"$f":"IF(OR($A27=0,$A27=\"\"),\"0\",IF(LOOKUP($A27,Load_Switch_NFET[PARTNUMBER],Load_Switch_NFET[RDSON8])=\"(NULL)\",\"0\",\"1\"))","v":"0"},{"$f":"IF(OR($A27=0,$A27=\"\"),\"0\",IF(LOOKUP($A27,Load_Switch_NFET[PARTNUMBER],Load_Switch_NFET[RDSON10])=\"(NULL)\",\"0\",\"1\"))","v":"1"},false,false,false,true,false,false,true,true,false,false,false,true,false,false,true,{"$f":"IF(W27,LOOKUP(A27,Load_Switch_NFET[PARTNUMBER],Load_Switch_NFET[RDSON10])*1000,IF(V27,LOOKUP(A27,Load_Switch_NFET[PARTNUMBER],Load_Switch_NFET[RDSON8])*1000,IF(U27,LOOKUP(A27,Load_Switch_NFET[PARTNUMBER],Load_Switch_NFET[RDSON6])*1000,IF(T27,LOOKUP(A27,Load_Switch_NFET[PARTNUMBER],Load_Switch_NFET[RDSON45])*1000,IF(S27,LOOKUP(A27,Load_Switch_NFET[PARTNUMBER],Load_Switch_NFET[RDSON3])*1000,IF(R27,LOOKUP(A27,Load_Switch_NFET[PARTNUMBER],Load_Switch_NFET[RDSON25])*1000,IF(Q27,LOOKUP(A27,Load_Switch_NFET[PARTNUMBER],Load_Switch_NFET[RDSON18])*1000,\"\")))))))","v":0.6},{"$f":"IF(AND(A27<>0,A27<>\"\"),X27*(1+(Tj-25)*(LOOKUP(A27,Load_Switch_NFET[PARTNUMBER],Load_Switch_NFET[RDSDELTA])/((LOOKUP(A27,Load_Switch_NFET[PARTNUMBER],Load_Switch_NFET[TJMAX])-25)))),\"\")","v":0.76319999999999999},{"$f":"IF(AND(A27<>0,A27<>\"\"),LOOKUP(A27,Load_Switch_NFET[PARTNUMBER],Load_Switch_NFET[VTHMAX]),\"\")","v":1.9},{"$f":"IF(AND(A27<>0,A27<>\"\"),LOOKUP(A27,Load_Switch_NFET[PARTNUMBER],Load_Switch_NFET[VTHMIN]),\"\")","v":1.1000000000000001},4.5,{"$f":"IF(AND(A27<>0,A27<>\"\"),LOOKUP(A27,Load_Switch_NFET[PARTNUMBER],Load_Switch_NFET[RGIMAX]),\"\")","v":3.6},{"$f":"IF(AND($A27<>0,$A27<>\"\"),LOOKUP($A27,Load_Switch_NFET[PARTNUMBER],Load_Switch_NFET[QGTYP]),\"\")","v":93},{"$f":"IF(AND($A27<>0,$A27<>\"\"),LOOKUP($A27,Load_Switch_NFET[PARTNUMBER],Load_Switch_NFET[QGS]),\"\")","v":27},{"$f":"IF(AND($A27<>0,$A27<>\"\"),LOOKUP($A27,Load_Switch_NFET[PARTNUMBER],Load_Switch_NFET[QGD]),\"\")","v":34},{"$f":"IF(AND($A27<>0,$A27<>\"\"),LOOKUP($A27,Load_Switch_NFET[PARTNUMBER],Load_Switch_NFET[QGTH]),\"\")","v":17},{"$f":"IF(AND($A27<>0,$A27<>\"\"),LOOKUP($A27,Load_Switch_NFET[PARTNUMBER],Load_Switch_NFET[VMILLER]),\"\")","v":2.4},{"$f":"IF(AND($A27<>0,$A27<>\"\"),LOOKUP($A27,Load_Switch_NFET[PARTNUMBER],Load_Switch_NFET[COSS_AT_VDSSPEC]),\"\")","v":1.45},44,1.5,2.7475200000000002,2.7480000000000002,{"$f":"IF(AND($A27<>0,$A27<>\"\"),LOOKUP($A27,Load_Switch_NFET[PARTNUMBER],Load_Switch_NFET[1KPRICE]),\"\")","v":0.76200000000000001},{"$f":"IF(AND($A27<>0,$A27<>\"\"),LOOKUP(A27,Load_Switch_NFET[PARTNUMBER],Load_Switch_NFET[TI_EQ_PACKAGE]),\"\")","v":"SON5X6"},"CSD17570Q5B, SON5X6, 2.748W, $0.762"]
[{"$f":"IF(CH=\"N\",NLogic!B28,\"\")","v":"CSD17573Q5B"},{"$f":"IF(OR($A28=0,$A28=\"\"),\"0\",IF(LOOKUP($A28,Load_Switch_NFET[PARTNUMBER],Load_Switch_NFET[RDSON18])=\"(NULL)\",\"0\",\"1\"))","v":"0"},{"$f":"IF(OR($A28=0,$A28=\"\"),\"0\",IF(LOOKUP($A28,Load_Switch_NFET[PARTNUMBER],Load_Switch_NFET[RDSON25])=\"(NULL)\",\"0\",\"1\"))","v":"0"},{"$f":"IF(OR($A28=0,$A28=\"\"),\"0\",IF(LOOKUP($A28,Load_Switch_NFET[PARTNUMBER],Load_Switch_NFET[RDSON3])=\"(NULL)\",\"0\",\"1\"))","v":"0"},{"$f":"IF(OR($A28=0,$A28=\"\"),\"0\",IF(LOOKUP($A28,Load_Switch_NFET[PARTNUMBER],Load_Switch_NFET[RDSON45])=\"(NULL)\",\"0\",\"1\"))","v":"1"},{"$f":"IF(OR($A28=0,$A28=\"\"),\"0\",IF(LOOKUP($A28,Load_Switch_NFET[PARTNUMBER],Load_Switch_NFET[RDSON6])=\"(NULL)\",\"0\",\"1\"))","v":"0"},{"$f":"IF(OR($A28=0,$A28=\"\"),\"0\",IF(LOOKUP($A28,Load_Switch_NFET[PARTNUMBER],Load_Switch_NFET[RDSON8])=\"(NULL)\",\"0\",\"1\"))","v":"0"},{"$f":"IF(OR($A28=0,$A28=\"\"),\"0\",IF(LOOKUP($A28,Load_Switch_NFET[PARTNUMBER],Load_Switch_NFET[RDSON10])=\"(NULL)\",\"0\",\"1\"))","v":"1"},false,false,false,true,false,false,true,true,false,false,false,true,false,false,true,{"$f":"IF(W28,LOOKUP(A28,Load_Switch_NFET[PARTNUMBER],Load_Switch_NFET[RDSON10])*1000,IF(V28,LOOKUP(A28,Load_Switch_NFET[PARTNUMBER],Load_Switch_NFET[RDSON8])*1000,IF(U28,LOOKUP(A28,Load_Switch_NFET[PARTNUMBER],Load_Switch_NFET[RDSON6])*1000,IF(T28,LOOKUP(A28,Load_Switch_NFET[PARTNUMBER],Load_Switch_NFET[RDSON45])*1000,IF(S28,LOOKUP(A28,Load_Switch_NFET[PARTNUMBER],Load_Switch_NFET[RDSON3])*1000,IF(R28,LOOKUP(A28,Load_Switch_NFET[PARTNUMBER],Load_Switch_NFET[RDSON25])*1000,IF(Q28,LOOKUP(A28,Load_Switch_NFET[PARTNUMBER],Load_Switch_NFET[RDSON18])*1000,\"\")))))))","v":1},{"$f":"IF(AND(A28<>0,A28<>\"\"),X28*(1+(Tj-25)*(LOOKUP(A28,Load_Switch_NFET[PARTNUMBER],Load_Switch_NFET[RDSDELTA])/((LOOKUP(A28,Load_Switch_NFET[PARTNUMBER],Load_Switch_NFET[TJMAX])-25)))),\"\")","v":1.3080000000000001},{"$f":"IF(AND(A28<>0,A28<>\"\"),LOOKUP(A28,Load_Switch_NFET[PARTNUMBER],Load_Switch_NFET[VTHMAX]),\"\")","v":1.8},{"$f":"IF(AND(A28<>0,A28<>\"\"),LOOKUP(A28,Load_Switch_NFET[PARTNUMBER],Load_Switch_NFET[VTHMIN]),\"\")","v":1.1000000000000001},4.5,{"$f":"IF(AND(A28<>0,A28<>\"\"),LOOKUP(A28,Load_Switch_NFET[PARTNUMBER],Load_Switch_NFET[RGIMAX]),\"\")","v":1.8},{"$f":"IF(AND($A28<>0,$A28<>\"\"),LOOKUP($A28,Load_Switch_NFET[PARTNUMBER],Load_Switch_NFET[QGTYP]),\"\")","v":49},{"$f":"IF(AND($A28<>0,$A28<>\"\"),LOOKUP($A28,Load_Switch_NFET[PARTNUMBER],Load_Switch_NFET[QGS]),\"\")","v":17.100000000000001},{"$f":"IF(AND($A28<>0,$A28<>\"\"),LOOKUP($A28,Load_Switch_NFET[PARTNUMBER],Load_Switch_NFET[QGD]),\"\")","v":11.9},{"$f":"IF(AND($A28<>0,$A28<>\"\"),LOOKUP($A28,Load_Switch_NFET[PARTNUMBER],Load_Switch_NFET[QGTH]),\"\")","v":8.6},{"$f":"IF(AND($A28<>0,$A28<>\"\"),LOOKUP($A28,Load_Switch_NFET[PARTNUMBER],Load_Switch_NFET[VMILLER]),\"\")","v":2.4},{"$f":"IF(AND($A28<>0,$A28<>\"\"),LOOKUP($A28,Load_Switch_NFET[PARTNUMBER],Load_Switch_NFET[COSS_AT_VDSSPEC]),\"\")","v":0.76900000000000002},20.399999999999999,1.4500000000000002,4.7088000000000001,4.7089999999999996,{"$f":"IF(AND($A28<>0,$A28<>\"\"),LOOKUP($A28,Load_Switch_NFET[PARTNUMBER],Load_Switch_NFET[1KPRICE]),\"\")","v":0.55000000000000004},{"$f":"IF(AND($A28<>0,$A28<>\"\"),LOOKUP(A28,Load_Switch_NFET[PARTNUMBER],Load_Switch_NFET[TI_EQ_PACKAGE]),\"\")","v":"SON5x6"},"CSD17573Q5B, SON5x6, 4.709W, $0.55"]
[{"$f":"IF(CH=\"N\",NLogic!B29,\"\")","v":"CSD17575Q3"},{"$f":"IF(OR($A29=0,$A29=\"\"),\"0\",IF(LOOKUP($A29,Load_Switch_NFET[PARTNUMBER],Load_Switch_NFET[RDSON18])=\"(NULL)\",\"0\",\"1\"))","v":"0"},{"$f":"IF(OR($A29=0,$A29=\"\"),\"0\",IF(LOOKUP($A29,Load_Switch_NFET[PARTNUMBER],Load_Switch_NFET[RDSON25])=\"(NULL)\",\"0\",\"1\"))","v":"0"},{"$f":"IF(OR($A29=0,$A29=\"\"),\"0\",IF(LOOKUP($A29,Load_Switch_NFET[PARTNUMBER],Load_Switch_NFET[RDSON3])=\"(NULL)\",\"0\",\"1\"))","v":"0"},{"$f":"IF(OR($A29=0,$A29=\"\"),\"0\",IF(LOOKUP($A29,Load_Switch_NFET[PARTNUMBER],Load_Switch_NFET[RDSON45])=\"(NULL)\",\"0\",\"1\"))","v":"1"},{"$f":"IF(OR($A29=0,$A29=\"\"),\"0\",IF(LOOKUP($A29,Load_Switch_NFET[PARTNUMBER],Load_Switch_NFET[RDSON6])=\"(NULL)\",\"0\",\"1\"))","v":"0"},{"$f":"IF(OR($A29=0,$A29=\"\"),\"0\",IF(LOOKUP($A29,Load_Switch_NFET[PARTNUMBER],Load_Switch_NFET[RDSON8])=\"(NULL)\",\"0\",\"1\"))","v":"0"},{"$f":"IF(OR($A29=0,$A29=\"\"),\"0\",IF(LOOKUP($A29,Load_Switch_NFET[PARTNUMBER],Load_Switch_NFET[RDSON10])=\"(NULL)\",\"0\",\"1\"))","v":"1"},false,false,false,true,false,false,true,true,false,false,false,true,false,false,true,{"$f":"IF(W29,LOOKUP(A29,Load_Switch_NFET[PARTNUMBER],Load_Switch_NFET[RDSON10])*1000,IF(V29,LOOKUP(A29,Load_Switch_NFET[PARTNUMBER],Load_Switch_NFET[RDSON8])*1000,IF(U29,LOOKUP(A29,Load_Switch_NFET[PARTNUMBER],Load_Switch_NFET[RDSON6])*1000,IF(T29,LOOKUP(A29,Load_Switch_NFET[PARTNUMBER],Load_Switch_NFET[RDSON45])*1000,IF(S29,LOOKUP(A29,Load_Switch_NFET[PARTNUMBER],Load_Switch_NFET[RDSON3])*1000,IF(R29,LOOKUP(A29,Load_Switch_NFET[PARTNUMBER],Load_Switch_NFET[RDSON25])*1000,IF(Q29,LOOKUP(A29,Load_Switch_NFET[PARTNUMBER],Load_Switch_NFET[RDSON18])*1000,\"\")))))))","v":2},{"$f":"IF(AND(A29<>0,A29<>\"\"),X29*(1+(Tj-25)*(LOOKUP(A29,Load_Switch_NFET[PARTNUMBER],Load_Switch_NFET[RDSDELTA])/((LOOKUP(A29,Load_Switch_NFET[PARTNUMBER],Load_Switch_NFET[TJMAX])-25)))),\"\")","v":2.6},{"$f":"IF(AND(A29<>0,A29<>\"\"),LOOKUP(A29,Load_Switch_NFET[PARTNUMBER],Load_Switch_NFET[VTHMAX]),\"\")","v":1.8},{"$f":"IF(AND(A29<>0,A29<>\"\"),LOOKUP(A29,Load_Switch_NFET[PARTNUMBER],Load_Switch_NFET[VTHMIN]),\"\")","v":1.1000000000000001},4.5,{"$f":"IF(AND(A29<>0,A29<>\"\"),LOOKUP(A29,Load_Switch_NFET[PARTNUMBER],Load_Switch_NFET[RGIMAX]),\"\")","v":1.8},{"$f":"IF(AND($A29<>0,$A29<>\"\"),LOOKUP($A29,Load_Switch_NFET[PARTNUMBER],Load_Switch_NFET[QGTYP]),\"\")","v":23},{"$f":"IF(AND($A29<>0,$A29<>\"\"),LOOKUP($A29,Load_Switch_NFET[PARTNUMBER],Load_Switch_NFET[QGS]),\"\")","v":8.5},{"$f":"IF(AND($A29<>0,$A29<>\"\"),LOOKUP($A29,Load_Switch_NFET[PARTNUMBER],Load_Switch_NFET[QGD]),\"\")","v":5.4},{"$f":"IF(AND($A29<>0,$A29<>\"\"),LOOKUP($A29,Load_Switch_NFET[PARTNUMBER],Load_Switch_NFET[QGTH]),\"\")","v":4.5999999999999996},{"$f":"IF(AND($A29<>0,$A29<>\"\"),LOOKUP($A29,Load_Switch_NFET[PARTNUMBER],Load_Switch_NFET[VMILLER]),\"\")","v":2.5},{"$f":"IF(AND($A29<>0,$A29<>\"\"),LOOKUP($A29,Load_Switch_NFET[PARTNUMBER],Load_Switch_NFET[COSS_AT_VDSSPEC]),\"\")","v":0.39300000000000002},9.3000000000000007,1.4500000000000002,9.36,9.36,{"$f":"IF(AND($A29<>0,$A29<>\"\"),LOOKUP($A29,Load_Switch_NFET[PARTNUMBER],Load_Switch_NFET[1KPRICE]),\"\")","v":0.32400000000000001},{"$f":"IF(AND($A29<>0,$A29<>\"\"),LOOKUP(A29,Load_Switch_NFET[PARTNUMBER],Load_Switch_NFET[TI_EQ_PACKAGE]),\"\")","v":"SON5X6"},"CSD17575Q3, SON5X6, 9.36W, $0.324"]
[{"$f":"IF(CH=\"N\",NLogic!B30,\"\")","v":"CSD17576Q5B"},{"$f":"IF(OR($A30=0,$A30=\"\"),\"0\",IF(LOOKUP($A30,Load_Switch_NFET[PARTNUMBER],Load_Switch_NFET[RDSON18])=\"(NULL)\",\"0\",\"1\"))","v":"0"},{"$f":"IF(OR($A30=0,$A30=\"\"),\"0\",IF(LOOKUP($A30,Load_Switch_NFET[PARTNUMBER],Load_Switch_NFET[RDSON25])=\"(NULL)\",\"0\",\"1\"))","v":"0"},{"$f":"IF(OR($A30=0,$A30=\"\"),\"0\",IF(LOOKUP($A30,Load_Switch_NFET[PARTNUMBER],Load_Switch_NFET[RDSON3])=\"(NULL)\",\"0\",\"1\"))","v":"0"},{"$f":"IF(OR($A30=0,$A30=\"\"),\"0\",IF(LOOKUP($A30,Load_Switch_NFET[PARTNUMBER],Load_Switch_NFET[RDSON45])=\"(NULL)\",\"0\",\"1\"))","v":"1"},{"$f":"IF(OR($A30=0,$A30=\"\"),\"0\",IF(LOOKUP($A30,Load_Switch_NFET[PARTNUMBER],Load_Switch_NFET[RDSON6])=\"(NULL)\",\"0\",\"1\"))","v":"0"},{"$f":"IF(OR($A30=0,$A30=\"\"),\"0\",IF(LOOKUP($A30,Load_Switch_NFET[PARTNUMBER],Load_Switch_NFET[RDSON8])=\"(NULL)\",\"0\",\"1\"))","v":"0"},{"$f":"IF(OR($A30=0,$A30=\"\"),\"0\",IF(LOOKUP($A30,Load_Switch_NFET[PARTNUMBER],Load_Switch_NFET[RDSON10])=\"(NULL)\",\"0\",\"1\"))","v":"1"},false,false,false,true,false,false,true,true,false,false,false,true,false,false,true,{"$f":"IF(W30,LOOKUP(A30,Load_Switch_NFET[PARTNUMBER],Load_Switch_NFET[RDSON10])*1000,IF(V30,LOOKUP(A30,Load_Switch_NFET[PARTNUMBER],Load_Switch_NFET[RDSON8])*1000,IF(U30,LOOKUP(A30,Load_Switch_NFET[PARTNUMBER],Load_Switch_NFET[RDSON6])*1000,IF(T30,LOOKUP(A30,Load_Switch_NFET[PARTNUMBER],Load_Switch_NFET[RDSON45])*1000,IF(S30,LOOKUP(A30,Load_Switch_NFET[PARTNUMBER],Load_Switch_NFET[RDSON3])*1000,IF(R30,LOOKUP(A30,Load_Switch_NFET[PARTNUMBER],Load_Switch_NFET[RDSON25])*1000,IF(Q30,LOOKUP(A30,Load_Switch_NFET[PARTNUMBER],Load_Switch_NFET[RDSON18])*1000,\"\")))))))","v":2},{"$f":"IF(AND(A30<>0,A30<>\"\"),X30*(1+(Tj-25)*(LOOKUP(A30,Load_Switch_NFET[PARTNUMBER],Load_Switch_NFET[RDSDELTA])/((LOOKUP(A30,Load_Switch_NFET[PARTNUMBER],Load_Switch_NFET[TJMAX])-25)))),\"\")","v":2.6799999999999997},{"$f":"IF(AND(A30<>0,A30<>\"\"),LOOKUP(A30,Load_Switch_NFET[PARTNUMBER],Load_Switch_NFET[VTHMAX]),\"\")","v":1.8},{"$f":"IF(AND(A30<>0,A30<>\"\"),LOOKUP(A30,Load_Switch_NFET[PARTNUMBER],Load_Switch_NFET[VTHMIN]),\"\")","v":1.1000000000000001},4.5,{"$f":"IF(AND(A30<>0,A30<>\"\"),LOOKUP(A30,Load_Switch_NFET[PARTNUMBER],Load_Switch_NFET[RGIMAX]),\"\")","v":2},{"$f":"IF(AND($A30<>0,$A30<>\"\"),LOOKUP($A30,Load_Switch_NFET[PARTNUMBER],Load_Switch_NFET[QGTYP]),\"\")","v":25},{"$f":"IF(AND($A30<>0,$A30<>\"\"),LOOKUP($A30,Load_Switch_NFET[PARTNUMBER],Load_Switch_NFET[QGS]),\"\")","v":8.9},{"$f":"IF(AND($A30<>0,$A30<>\"\"),LOOKUP($A30,Load_Switch_NFET[PARTNUMBER],Load_Switch_NFET[QGD]),\"\")","v":5.4},{"$f":"IF(AND($A30<>0,$A30<>\"\"),LOOKUP($A30,Load_Switch_NFET[PARTNUMBER],Load_Switch_NFET[QGTH]),\"\")","v":4.7},{"$f":"IF(AND($A30<>0,$A30<>\"\"),LOOKUP($A30,Load_Switch_NFET[PARTNUMBER],Load_Switch_NFET[VMILLER]),\"\")","v":2.4},{"$f":"IF(AND($A30<>0,$A30<>\"\"),LOOKUP($A30,Load_Switch_NFET[PARTNUMBER],Load_Switch_NFET[COSS_AT_VDSSPEC]),\"\")","v":0.38900000000000001},9.6000000000000014,1.4500000000000002,9.6479999999999979,9.6479999999999997,{"$f":"IF(AND($A30<>0,$A30<>\"\"),LOOKUP($A30,Load_Switch_NFET[PARTNUMBER],Load_Switch_NFET[1KPRICE]),\"\")","v":0.39700000000000002},{"$f":"IF(AND($A30<>0,$A30<>\"\"),LOOKUP(A30,Load_Switch_NFET[PARTNUMBER],Load_Switch_NFET[TI_EQ_PACKAGE]),\"\")","v":"SON5X6"},"CSD17576Q5B, SON5X6, 9.648W, $0.397"]
[{"$f":"IF(CH=\"N\",NLogic!B31,\"\")","v":"CSD17577Q5A"},{"$f":"IF(OR($A31=0,$A31=\"\"),\"0\",IF(LOOKUP($A31,Load_Switch_NFET[PARTNUMBER],Load_Switch_NFET[RDSON18])=\"(NULL)\",\"0\",\"1\"))","v":"0"},{"$f":"IF(OR($A31=0,$A31=\"\"),\"0\",IF(LOOKUP($A31,Load_Switch_NFET[PARTNUMBER],Load_Switch_NFET[RDSON25])=\"(NULL)\",\"0\",\"1\"))","v":"0"},{"$f":"IF(OR($A31=0,$A31=\"\"),\"0\",IF(LOOKUP($A31,Load_Switch_NFET[PARTNUMBER],Load_Switch_NFET[RDSON3])=\"(NULL)\",\"0\",\"1\"))","v":"0"},{"$f":"IF(OR($A31=0,$A31=\"\"),\"0\",IF(LOOKUP($A31,Load_Switch_NFET[PARTNUMBER],Load_Switch_NFET[RDSON45])=\"(NULL)\",\"0\",\"1\"))","v":"1"},{"$f":"IF(OR($A31=0,$A31=\"\"),\"0\",IF(LOOKUP($A31,Load_Switch_NFET[PARTNUMBER],Load_Switch_NFET[RDSON6])=\"(NULL)\",\"0\",\"1\"))","v":"0"},{"$f":"IF(OR($A31=0,$A31=\"\"),\"0\",IF(LOOKUP($A31,Load_Switch_NFET[PARTNUMBER],Load_Switch_NFET[RDSON8])=\"(NULL)\",\"0\",\"1\"))","v":"0"},{"$f":"IF(OR($A31=0,$A31=\"\"),\"0\",IF(LOOKUP($A31,Load_Switch_NFET[PARTNUMBER],Load_Switch_NFET[RDSON10])=\"(NULL)\",\"0\",\"1\"))","v":"1"},false,false,false,true,false,false,true,true,false,false,false,true,false,false,true,{"$f":"IF(W31,LOOKUP(A31,Load_Switch_NFET[PARTNUMBER],Load_Switch_NFET[RDSON10])*1000,IF(V31,LOOKUP(A31,Load_Switch_NFET[PARTNUMBER],Load_Switch_NFET[RDSON8])*1000,IF(U31,LOOKUP(A31,Load_Switch_NFET[PARTNUMBER],Load_Switch_NFET[RDSON6])*1000,IF(T31,LOOKUP(A31,Load_Switch_NFET[PARTNUMBER],Load_Switch_NFET[RDSON45])*1000,IF(S31,LOOKUP(A31,Load_Switch_NFET[PARTNUMBER],Load_Switch_NFET[RDSON3])*1000,IF(R31,LOOKUP(A31,Load_Switch_NFET[PARTNUMBER],Load_Switch_NFET[RDSON25])*1000,IF(Q31,LOOKUP(A31,Load_Switch_NFET[PARTNUMBER],Load_Switch_NFET[RDSON18])*1000,\"\")))))))","v":4.2},{"$f":"IF(AND(A31<>0,A31<>\"\"),X31*(1+(Tj-25)*(LOOKUP(A31,Load_Switch_NFET[PARTNUMBER],Load_Switch_NFET[RDSDELTA])/((LOOKUP(A31,Load_Switch_NFET[PARTNUMBER],Load_Switch_NFET[TJMAX])-25)))),\"\")","v":5.2080000000000002},{"$f":"IF(AND(A31<>0,A31<>\"\"),LOOKUP(A31,Load_Switch_NFET[PARTNUMBER],Load_Switch_NFET[VTHMAX]),\"\")","v":1.8},{"$f":"IF(AND(A31<>0,A31<>\"\"),LOOKUP(A31,Load_Switch_NFET[PARTNUMBER],Load_Switch_NFET[VTHMIN]),\"\")","v":1.1000000000000001},4.5,{"$f":"IF(AND(A31<>0,A31<>\"\"),LOOKUP(A31,Load_Switch_NFET[PARTNUMBER],Load_Switch_NFET[RGIMAX]),\"\")","v":2.8},{"$f":"IF(AND($A31<>0,$A31<>\"\"),LOOKUP($A31,Load_Switch_NFET[PARTNUMBER],Load_Switch_NFET[QGTYP]),\"\")","v":13},{"$f":"IF(AND($A31<>0,$A31<>\"\"),LOOKUP($A31,Load_Switch_NFET[PARTNUMBER],Load_Switch_NFET[QGS]),\"\")","v":5.0999999999999996},{"$f":"IF(AND($A31<>0,$A31<>\"\"),LOOKUP($A31,Load_Switch_NFET[PARTNUMBER],Load_Switch_NFET[QGD]),\"\")","v":2.8},{"$f":"IF(AND($A31<>0,$A31<>\"\"),LOOKUP($A31,Load_Switch_NFET[PARTNUMBER],Load_Switch_NFET[QGTH]),\"\")","v":2.5},{"$f":"IF(AND($A31<>0,$A31<>\"\"),LOOKUP($A31,Load_Switch_NFET[PARTNUMBER],Load_Switch_NFET[VMILLER]),\"\")","v":2.7},{"$f":"IF(AND($A31<>0,$A31<>\"\"),LOOKUP($A31,Load_Switch_NFET[PARTNUMBER],Load_Switch_NFET[COSS_AT_VDSSPEC]),\"\")","v":0.20799999999999999},5.3999999999999995,1.4500000000000002,18.748799999999999,18.748999999999999,{"$f":"IF(AND($A31<>0,$A31<>\"\"),LOOKUP($A31,Load_Switch_NFET[PARTNUMBER],Load_Switch_NFET[1KPRICE]),\"\")","v":0.21199999999999999},{"$f":"IF(AND($A31<>0,$A31<>\"\"),LOOKUP(A31,Load_Switch_NFET[PARTNUMBER],Load_Switch_NFET[TI_EQ_PACKAGE]),\"\")","v":"SON5x6"},"CSD17577Q5A, SON5x6, 18.749W, $0.212"]
[{"$f":"IF(CH=\"N\",NLogic!B32,\"\")","v":"CSD17581Q3A"},{"$f":"IF(OR($A32=0,$A32=\"\"),\"0\",IF(LOOKUP($A32,Load_Switch_NFET[PARTNUMBER],Load_Switch_NFET[RDSON18])=\"(NULL)\",\"0\",\"1\"))","v":"0"},{"$f":"IF(OR($A32=0,$A32=\"\"),\"0\",IF(LOOKUP($A32,Load_Switch_NFET[PARTNUMBER],Load_Switch_NFET[RDSON25])=\"(NULL)\",\"0\",\"1\"))","v":"0"},{"$f":"IF(OR($A32=0,$A32=\"\"),\"0\",IF(LOOKUP($A32,Load_Switch_NFET[PARTNUMBER],Load_Switch_NFET[RDSON3])=\"(NULL)\",\"0\",\"1\"))","v":"0"},{"$f":"IF(OR($A32=0,$A32=\"\"),\"0\",IF(LOOKUP($A32,Load_Switch_NFET[PARTNUMBER],Load_Switch_NFET[RDSON45])=\"(NULL)\",\"0\",\"1\"))","v":"1"},{"$f":"IF(OR($A32=0,$A32=\"\"),\"0\",IF(LOOKUP($A32,Load_Switch_NFET[PARTNUMBER],Load_Switch_NFET[RDSON6])=\"(NULL)\",\"0\",\"1\"))","v":"0"},{"$f":"IF(OR($A32=0,$A32=\"\"),\"0\",IF(LOOKUP($A32,Load_Switch_NFET[PARTNUMBER],Load_Switch_NFET[RDSON8])=\"(NULL)\",\"0\",\"1\"))","v":"0"},{"$f":"IF(OR($A32=0,$A32=\"\"),\"0\",IF(LOOKUP($A32,Load_Switch_NFET[PARTNUMBER],Load_Switch_NFET[RDSON10])=\"(NULL)\",\"0\",\"1\"))","v":"1"},false,false,false,true,false,false,true,true,false,false,false,true,false,false,true,{"$f":"IF(W32,LOOKUP(A32,Load_Switch_NFET[PARTNUMBER],Load_Switch_NFET[RDSON10])*1000,IF(V32,LOOKUP(A32,Load_Switch_NFET[PARTNUMBER],Load_Switch_NFET[RDSON8])*1000,IF(U32,LOOKUP(A32,Load_Switch_NFET[PARTNUMBER],Load_Switch_NFET[RDSON6])*1000,IF(T32,LOOKUP(A32,Load_Switch_NFET[PARTNUMBER],Load_Switch_NFET[RDSON45])*1000,IF(S32,LOOKUP(A32,Load_Switch_NFET[PARTNUMBER],Load_Switch_NFET[RDSON3])*1000,IF(R32,LOOKUP(A32,Load_Switch_NFET[PARTNUMBER],Load_Switch_NFET[RDSON25])*1000,IF(Q32,LOOKUP(A32,Load_Switch_NFET[PARTNUMBER],Load_Switch_NFET[RDSON18])*1000,\"\")))))))","v":3.8},{"$f":"IF(AND(A32<>0,A32<>\"\"),X32*(1+(Tj-25)*(LOOKUP(A32,Load_Switch_NFET[PARTNUMBER],Load_Switch_NFET[RDSDELTA])/((LOOKUP(A32,Load_Switch_NFET[PARTNUMBER],Load_Switch_NFET[TJMAX])-25)))),\"\")","v":4.7119999999999997},{"$f":"IF(AND(A32<>0,A32<>\"\"),LOOKUP(A32,Load_Switch_NFET[PARTNUMBER],Load_Switch_NFET[VTHMAX]),\"\")","v":1.7},{"$f":"IF(AND(A32<>0,A32<>\"\"),LOOKUP(A32,Load_Switch_NFET[PARTNUMBER],Load_Switch_NFET[VTHMIN]),\"\")","v":1},4.5,{"$f":"IF(AND(A32<>0,A32<>\"\"),LOOKUP(A32,Load_Switch_NFET[PARTNUMBER],Load_Switch_NFET[RGIMAX]),\"\")","v":3.6},{"$f":"IF(AND($A32<>0,$A32<>\"\"),LOOKUP($A32,Load_Switch_NFET[PARTNUMBER],Load_Switch_NFET[QGTYP]),\"\")","v":20},{"$f":"IF(AND($A32<>0,$A32<>\"\"),LOOKUP($A32,Load_Switch_NFET[PARTNUMBER],Load_Switch_NFET[QGS]),\"\")","v":6.9},{"$f":"IF(AND($A32<>0,$A32<>\"\"),LOOKUP($A32,Load_Switch_NFET[PARTNUMBER],Load_Switch_NFET[QGD]),\"\")","v":4},{"$f":"IF(AND($A32<>0,$A32<>\"\"),LOOKUP($A32,Load_Switch_NFET[PARTNUMBER],Load_Switch_NFET[QGTH]),\"\")","v":3.6},{"$f":"IF(AND($A32<>0,$A32<>\"\"),LOOKUP($A32,Load_Switch_NFET[PARTNUMBER],Load_Switch_NFET[VMILLER]),\"\")","v":2.4},{"$f":"IF(AND($A32<>0,$A32<>\"\"),LOOKUP($A32,Load_Switch_NFET[PARTNUMBER],Load_Switch_NFET[COSS_AT_VDSSPEC]),\"\")","v":0.35},7.3000000000000007,1.35,16.963200000000001,16.963000000000001,{"$f":"IF(AND($A32<>0,$A32<>\"\"),LOOKUP($A32,Load_Switch_NFET[PARTNUMBER],Load_Switch_NFET[1KPRICE]),\"\")","v":0.23400000000000001},{"$f":"IF(AND($A32<>0,$A32<>\"\"),LOOKUP(A32,Load_Switch_NFET[PARTNUMBER],Load_Switch_NFET[TI_EQ_PACKAGE]),\"\")","v":"SON3X3"},"CSD17581Q3A, SON3X3, 16.963W, $0.234"]
[{"$f":"IF(CH=\"N\",NLogic!B33,\"\")","v":"CSD17581Q5A"},{"$f":"IF(OR($A33=0,$A33=\"\"),\"0\",IF(LOOKUP($A33,Load_Switch_NFET[PARTNUMBER],Load_Switch_NFET[RDSON18])=\"(NULL)\",\"0\",\"1\"))","v":"0"},{"$f":"IF(OR($A33=0,$A33=\"\"),\"0\",IF(LOOKUP($A33,Load_Switch_NFET[PARTNUMBER],Load_Switch_NFET[RDSON25])=\"(NULL)\",\"0\",\"1\"))","v":"0"},{"$f":"IF(OR($A33=0,$A33=\"\"),\"0\",IF(LOOKUP($A33,Load_Switch_NFET[PARTNUMBER],Load_Switch_NFET[RDSON3])=\"(NULL)\",\"0\",\"1\"))","v":"0"},{"$f":"IF(OR($A33=0,$A33=\"\"),\"0\",IF(LOOKUP($A33,Load_Switch_NFET[PARTNUMBER],Load_Switch_NFET[RDSON45])=\"(NULL)\",\"0\",\"1\"))","v":"1"},{"$f":"IF(OR($A33=0,$A33=\"\"),\"0\",IF(LOOKUP($A33,Load_Switch_NFET[PARTNUMBER],Load_Switch_NFET[RDSON6])=\"(NULL)\",\"0\",\"1\"))","v":"0"},{"$f":"IF(OR($A33=0,$A33=\"\"),\"0\",IF(LOOKUP($A33,Load_Switch_NFET[PARTNUMBER],Load_Switch_NFET[RDSON8])=\"(NULL)\",\"0\",\"1\"))","v":"0"},{"$f":"IF(OR($A33=0,$A33=\"\"),\"0\",IF(LOOKUP($A33,Load_Switch_NFET[PARTNUMBER],Load_Switch_NFET[RDSON10])=\"(NULL)\",\"0\",\"1\"))","v":"1"},false,false,false,true,false,false,true,true,false,false,false,true,false,false,true,{"$f":"IF(W33,LOOKUP(A33,Load_Switch_NFET[PARTNUMBER],Load_Switch_NFET[RDSON10])*1000,IF(V33,LOOKUP(A33,Load_Switch_NFET[PARTNUMBER],Load_Switch_NFET[RDSON8])*1000,IF(U33,LOOKUP(A33,Load_Switch_NFET[PARTNUMBER],Load_Switch_NFET[RDSON6])*1000,IF(T33,LOOKUP(A33,Load_Switch_NFET[PARTNUMBER],Load_Switch_NFET[RDSON45])*1000,IF(S33,LOOKUP(A33,Load_Switch_NFET[PARTNUMBER],Load_Switch_NFET[RDSON3])*1000,IF(R33,LOOKUP(A33,Load_Switch_NFET[PARTNUMBER],Load_Switch_NFET[RDSON25])*1000,IF(Q33,LOOKUP(A33,Load_Switch_NFET[PARTNUMBER],Load_Switch_NFET[RDSON18])*1000,\"\")))))))","v":3.4},{"$f":"IF(AND(A33<>0,A33<>\"\"),X33*(1+(Tj-25)*(LOOKUP(A33,Load_Switch_NFET[PARTNUMBER],Load_Switch_NFET[RDSDELTA])/((LOOKUP(A33,Load_Switch_NFET[PARTNUMBER],Load_Switch_NFET[TJMAX])-25)))),\"\")","v":4.2160000000000002},{"$f":"IF(AND(A33<>0,A33<>\"\"),LOOKUP(A33,Load_Switch_NFET[PARTNUMBER],Load_Switch_NFET[VTHMAX]),\"\")","v":1.7},{"$f":"IF(AND(A33<>0,A33<>\"\"),LOOKUP(A33,Load_Switch_NFET[PARTNUMBER],Load_Switch_NFET[VTHMIN]),\"\")","v":1},4.5,{"$f":"IF(AND(A33<>0,A33<>\"\"),LOOKUP(A33,Load_Switch_NFET[PARTNUMBER],Load_Switch_NFET[RGIMAX]),\"\")","v":3.6},{"$f":"IF(AND($A33<>0,$A33<>\"\"),LOOKUP($A33,Load_Switch_NFET[PARTNUMBER],Load_Switch_NFET[QGTYP]),\"\")","v":20},{"$f":"IF(AND($A33<>0,$A33<>\"\"),LOOKUP($A33,Load_Switch_NFET[PARTNUMBER],Load_Switch_NFET[QGS]),\"\")","v":6.9},{"$f":"IF(AND($A33<>0,$A33<>\"\"),LOOKUP($A33,Load_Switch_NFET[PARTNUMBER],Load_Switch_NFET[QGD]),\"\")","v":4},{"$f":"IF(AND($A33<>0,$A33<>\"\"),LOOKUP($A33,Load_Switch_NFET[PARTNUMBER],Load_Switch_NFET[QGTH]),\"\")","v":3.6},{"$f":"IF(AND($A33<>0,$A33<>\"\"),LOOKUP($A33,Load_Switch_NFET[PARTNUMBER],Load_Switch_NFET[VMILLER]),\"\")","v":2.4},{"$f":"IF(AND($A33<>0,$A33<>\"\"),LOOKUP($A33,Load_Switch_NFET[PARTNUMBER],Load_Switch_NFET[COSS_AT_VDSSPEC]),\"\")","v":0.35},7.3000000000000007,1.35,15.1776,15.178000000000001,{"$f":"IF(AND($A33<>0,$A33<>\"\"),LOOKUP($A33,Load_Switch_NFET[PARTNUMBER],Load_Switch_NFET[1KPRICE]),\"\")","v":0.252},{"$f":"IF(AND($A33<>0,$A33<>\"\"),LOOKUP(A33,Load_Switch_NFET[PARTNUMBER],Load_Switch_NFET[TI_EQ_PACKAGE]),\"\")","v":"SON5X6"},"CSD17581Q5A, SON5X6, 15.178W, $0.252"]
[{"$f":"IF(CH=\"N\",NLogic!B34,\"\")","v":0},{"$f":"IF(OR($A34=0,$A34=\"\"),\"0\",IF(LOOKUP($A34,Load_Switch_NFET[PARTNUMBER],Load_Switch_NFET[RDSON18])=\"(NULL)\",\"0\",\"1\"))","v":"0"},{"$f":"IF(OR($A34=0,$A34=\"\"),\"0\",IF(LOOKUP($A34,Load_Switch_NFET[PARTNUMBER],Load_Switch_NFET[RDSON25])=\"(NULL)\",\"0\",\"1\"))","v":"0"},{"$f":"IF(OR($A34=0,$A34=\"\"),\"0\",IF(LOOKUP($A34,Load_Switch_NFET[PARTNUMBER],Load_Switch_NFET[RDSON3])=\"(NULL)\",\"0\",\"1\"))","v":"0"},{"$f":"IF(OR($A34=0,$A34=\"\"),\"0\",IF(LOOKUP($A34,Load_Switch_NFET[PARTNUMBER],Load_Switch_NFET[RDSON45])=\"(NULL)\",\"0\",\"1\"))","v":"0"},{"$f":"IF(OR($A34=0,$A34=\"\"),\"0\",IF(LOOKUP($A34,Load_Switch_NFET[PARTNUMBER],Load_Switch_NFET[RDSON6])=\"(NULL)\",\"0\",\"1\"))","v":"0"},{"$f":"IF(OR($A34=0,$A34=\"\"),\"0\",IF(LOOKUP($A34,Load_Switch_NFET[PARTNUMBER],Load_Switch_NFET[RDSON8])=\"(NULL)\",\"0\",\"1\"))","v":"0"},{"$f":"IF(OR($A34=0,$A34=\"\"),\"0\",IF(LOOKUP($A34,Load_Switch_NFET[PARTNUMBER],Load_Switch_NFET[RDSON10])=\"(NULL)\",\"0\",\"1\"))","v":"0"},false,false,false,false,false,false,false,false,false,false,{"$f":"IF($P34,K34,IF((D34=\"1\"),OR(AR$2,AR$9,AV$2,L34)))","v":false},{"$f":"IF($P34,L34,IF((E34=\"1\"),OR(AU$2,K34,AW$2,M34)))","v":false},{"$f":"IF($P34,M34,IF((F34=\"1\"),OR(AV$2,L34,AX$2,N34)))","v":false},{"$f":"IF($P34,N34,IF((G34=\"1\"),OR(AW$2,M34,AY$2,O34)))","v":false},{"$f":"IF($P34,O34,IF((H34=\"1\"),OR(AX$2,N34)))","v":false},{"$f":"IF(W34,LOOKUP(A34,Load_Switch_NFET[PARTNUMBER],Load_Switch_NFET[RDSON10])*1000,IF(V34,LOOKUP(A34,Load_Switch_NFET[PARTNUMBER],Load_Switch_NFET[RDSON8])*1000,IF(U34,LOOKUP(A34,Load_Switch_NFET[PARTNUMBER],Load_Switch_NFET[RDSON6])*1000,IF(T34,LOOKUP(A34,Load_Switch_NFET[PARTNUMBER],Load_Switch_NFET[RDSON45])*1000,IF(S34,LOOKUP(A34,Load_Switch_NFET[PARTNUMBER],Load_Switch_NFET[RDSON3])*1000,IF(R34,LOOKUP(A34,Load_Switch_NFET[PARTNUMBER],Load_Switch_NFET[RDSON25])*1000,IF(Q34,LOOKUP(A34,Load_Switch_NFET[PARTNUMBER],Load_Switch_NFET[RDSON18])*1000,\"\")))))))","v":""},{"$f":"IF(AND(A34<>0,A34<>\"\"),X34*(1+(Tj-25)*(LOOKUP(A34,Load_Switch_NFET[PARTNUMBER],Load_Switch_NFET[RDSDELTA])/((LOOKUP(A34,Load_Switch_NFET[PARTNUMBER],Load_Switch_NFET[TJMAX])-25)))),\"\")","v":""},{"$f":"IF(AND(A34<>0,A34<>\"\"),LOOKUP(A34,Load_Switch_NFET[PARTNUMBER],Load_Switch_NFET[VTHMAX]),\"\")","v":""},{"$f":"IF(AND(A34<>0,A34<>\"\"),LOOKUP(A34,Load_Switch_NFET[PARTNUMBER],Load_Switch_NFET[VTHMIN]),\"\")","v":""},{"$f":"IF(AND(A34<>0,A34<>\"\"),IF(B34=\"1\",1.8,IF(C34=\"1\",2.5,IF(D34=\"1\",3,IF(E34=\"1\",4.5,IF(F34=\"1\",6,IF(G34=\"1\",8,IF(H34=\"1\",10))))))),\"#N/A\")","v":"#N/A"},{"$f":"IF(AND(A34<>0,A34<>\"\"),LOOKUP(A34,Load_Switch_NFET[PARTNUMBER],Load_Switch_NFET[RGIMAX]),\"\")","v":""},{"$f":"IF(AND($A34<>0,$A34<>\"\"),LOOKUP($A34,Load_Switch_NFET[PARTNUMBER],Load_Switch_NFET[QGTYP]),\"\")","v":""},{"$f":"IF(AND($A34<>0,$A34<>\"\"),LOOKUP($A34,Load_Switch_NFET[PARTNUMBER],Load_Switch_NFET[QGS]),\"\")","v":""},{"$f":"IF(AND($A34<>0,$A34<>\"\"),LOOKUP($A34,Load_Switch_NFET[PARTNUMBER],Load_Switch_NFET[QGD]),\"\")","v":""},{"$f":"IF(AND($A34<>0,$A34<>\"\"),LOOKUP($A34,Load_Switch_NFET[PARTNUMBER],Load_Switch_NFET[QGTH]),\"\")","v":""},{"$f":"IF(AND($A34<>0,$A34<>\"\"),LOOKUP($A34,Load_Switch_NFET[PARTNUMBER],Load_Switch_NFET[VMILLER]),\"\")","v":""},{"$f":"IF(AND($A34<>0,$A34<>\"\"),LOOKUP($A34,Load_Switch_NFET[PARTNUMBER],Load_Switch_NFET[COSS_AT_VDSSPEC]),\"\")","v":""},{"$f":"IF(AND(A34<>0,A34<>\"\"),AE34+AF34-AG34,\"\")","v":""},{"$f":"IF(AND(A34<>0,A34<>\"\"),(Z34+AA34)/2,\"\")","v":""},{"$f":"IF(AND($A34<>0,$A34<>\"\"),Io^2*Y34*m,\"\")","v":""},{"$f":"IF(AND($A34<>0,$A34<>\"\"),ROUND(SUM(AL34:AL34),3),\"\")","v":""},{"$f":"IF(AND($A34<>0,$A34<>\"\"),LOOKUP($A34,Load_Switch_NFET[PARTNUMBER],Load_Switch_NFET[1KPRICE]),\"\")","v":""},{"$f":"IF(AND($A34<>0,$A34<>\"\"),LOOKUP(A34,Load_Switch_NFET[PARTNUMBER],Load_Switch_NFET[TI_EQ_PACKAGE]),\"\")","v":""},{"$f":"IF(AND($A34<>0,$A34<>\"\"),CONCATENATE(A34,\", \",AO34,\", \",AM34,\"W, $\",AN34),\"Invalid Part\")","v":"Invalid Part"}]
[{"$f":"IF(CH=\"N\",NLogic!B35,\"\")","v":0},{"$f":"IF(OR($A35=0,$A35=\"\"),\"0\",IF(LOOKUP($A35,Load_Switch_NFET[PARTNUMBER],Load_Switch_NFET[RDSON18])=\"(NULL)\",\"0\",\"1\"))","v":"0"},{"$f":"IF(OR($A35=0,$A35=\"\"),\"0\",IF(LOOKUP($A35,Load_Switch_NFET[PARTNUMBER],Load_Switch_NFET[RDSON25])=\"(NULL)\",\"0\",\"1\"))","v":"0"},{"$f":"IF(OR($A35=0,$A35=\"\"),\"0\",IF(LOOKUP($A35,Load_Switch_NFET[PARTNUMBER],Load_Switch_NFET[RDSON3])=\"(NULL)\",\"0\",\"1\"))","v":"0"},{"$f":"IF(OR($A35=0,$A35=\"\"),\"0\",IF(LOOKUP($A35,Load_Switch_NFET[PARTNUMBER],Load_Switch_NFET[RDSON45])=\"(NULL)\",\"0\",\"1\"))","v":"0"},{"$f":"IF(OR($A35=0,$A35=\"\"),\"0\",IF(LOOKUP($A35,Load_Switch_NFET[PARTNUMBER],Load_Switch_NFET[RDSON6])=\"(NULL)\",\"0\",\"1\"))","v":"0"},{"$f":"IF(OR($A35=0,$A35=\"\"),\"0\",IF(LOOKUP($A35,Load_Switch_NFET[PARTNUMBER],Load_Switch_NFET[RDSON8])=\"(NULL)\",\"0\",\"1\"))","v":"0"},{"$f":"IF(OR($A35=0,$A35=\"\"),\"0\",IF(LOOKUP($A35,Load_Switch_NFET[PARTNUMBER],Load_Switch_NFET[RDSON10])=\"(NULL)\",\"0\",\"1\"))","v":"0"},false,{"$f":"AND(AT$2,C35=\"1\")","v":false},{"$f":"AND(AU$2,D35=\"1\")","v":false},{"$f":"AND(AV$2,E35=\"1\")","v":false},{"$f":"AND(AW$2,F35=\"1\")","v":false},{"$f":"AND(AX$2,G35=\"1\")","v":false},{"$f":"AND(AY$2,H35=\"1\")","v":false},false,false,false,false,false,false,false,false,{"$f":"IF(W35,LOOKUP(A35,Load_Switch_NFET[PARTNUMBER],Load_Switch_NFET[RDSON10])*1000,IF(V35,LOOKUP(A35,Load_Switch_NFET[PARTNUMBER],Load_Switch_NFET[RDSON8])*1000,IF(U35,LOOKUP(A35,Load_Switch_NFET[PARTNUMBER],Load_Switch_NFET[RDSON6])*1000,IF(T35,LOOKUP(A35,Load_Switch_NFET[PARTNUMBER],Load_Switch_NFET[RDSON45])*1000,IF(S35,LOOKUP(A35,Load_Switch_NFET[PARTNUMBER],Load_Switch_NFET[RDSON3])*1000,IF(R35,LOOKUP(A35,Load_Switch_NFET[PARTNUMBER],Load_Switch_NFET[RDSON25])*1000,IF(Q35,LOOKUP(A35,Load_Switch_NFET[PARTNUMBER],Load_Switch_NFET[RDSON18])*1000,\"\")))))))","v":""},{"$f":"IF(AND(A35<>0,A35<>\"\"),X35*(1+(Tj-25)*(LOOKUP(A35,Load_Switch_NFET[PARTNUMBER],Load_Switch_NFET[RDSDELTA])/((LOOKUP(A35,Load_Switch_NFET[PARTNUMBER],Load_Switch_NFET[TJMAX])-25)))),\"\")","v":""},{"$f":"IF(AND(A35<>0,A35<>\"\"),LOOKUP(A35,Load_Switch_NFET[PARTNUMBER],Load_Switch_NFET[VTHMAX]),\"\")","v":""},{"$f":"IF(AND(A35<>0,A35<>\"\"),LOOKUP(A35,Load_Switch_NFET[PARTNUMBER],Load_Switch_NFET[VTHMIN]),\"\")","v":""},"#N/A",{"$f":"IF(AND(A35<>0,A35<>\"\"),LOOKUP(A35,Load_Switch_NFET[PARTNUMBER],Load_Switch_NFET[RGIMAX]),\"\")","v":""},{"$f":"IF(AND($A35<>0,$A35<>\"\"),LOOKUP($A35,Load_Switch_NFET[PARTNUMBER],Load_Switch_NFET[QGTYP]),\"\")","v":""},{"$f":"IF(AND($A35<>0,$A35<>\"\"),LOOKUP($A35,Load_Switch_NFET[PARTNUMBER],Load_Switch_NFET[QGS]),\"\")","v":""},{"$f":"IF(AND($A35<>0,$A35<>\"\"),LOOKUP($A35,Load_Switch_NFET[PARTNUMBER],Load_Switch_NFET[QGD]),\"\")","v":""},{"$f":"IF(AND($A35<>0,$A35<>\"\"),LOOKUP($A35,Load_Switch_NFET[PARTNUMBER],Load_Switch_NFET[QGTH]),\"\")","v":""},{"$f":"IF(AND($A35<>0,$A35<>\"\"),LOOKUP($A35,Load_Switch_NFET[PARTNUMBER],Load_Switch_NFET[VMILLER]),\"\")","v":""},{"$f":"IF(AND($A35<>0,$A35<>\"\"),LOOKUP($A35,Load_Switch_NFET[PARTNUMBER],Load_Switch_NFET[COSS_AT_VDSSPEC]),\"\")","v":""},"","","","",{"$f":"IF(AND($A35<>0,$A35<>\"\"),LOOKUP($A35,Load_Switch_NFET[PARTNUMBER],Load_Switch_NFET[1KPRICE]),\"\")","v":""},{"$f":"IF(AND($A35<>0,$A35<>\"\"),LOOKUP(A35,Load_Switch_NFET[PARTNUMBER],Load_Switch_NFET[TI_EQ_PACKAGE]),\"\")","v":""},"Invalid Part"]
[{"$f":"IF(CH=\"N\",NLogic!B36,\"\")","v":0},{"$f":"IF(OR($A36=0,$A36=\"\"),\"0\",IF(LOOKUP($A36,Load_Switch_NFET[PARTNUMBER],Load_Switch_NFET[RDSON18])=\"(NULL)\",\"0\",\"1\"))","v":"0"},{"$f":"IF(OR($A36=0,$A36=\"\"),\"0\",IF(LOOKUP($A36,Load_Switch_NFET[PARTNUMBER],Load_Switch_NFET[RDSON25])=\"(NULL)\",\"0\",\"1\"))","v":"0"},{"$f":"IF(OR($A36=0,$A36=\"\"),\"0\",IF(LOOKUP($A36,Load_Switch_NFET[PARTNUMBER],Load_Switch_NFET[RDSON3])=\"(NULL)\",\"0\",\"1\"))","v":"0"},{"$f":"IF(OR($A36=0,$A36=\"\"),\"0\",IF(LOOKUP($A36,Load_Switch_NFET[PARTNUMBER],Load_Switch_NFET[RDSON45])=\"(NULL)\",\"0\",\"1\"))","v":"0"},{"$f":"IF(OR($A36=0,$A36=\"\"),\"0\",IF(LOOKUP($A36,Load_Switch_NFET[PARTNUMBER],Load_Switch_NFET[RDSON6])=\"(NULL)\",\"0\",\"1\"))","v":"0"},{"$f":"IF(OR($A36=0,$A36=\"\"),\"0\",IF(LOOKUP($A36,Load_Switch_NFET[PARTNUMBER],Load_Switch_NFET[RDSON8])=\"(NULL)\",\"0\",\"1\"))","v":"0"},{"$f":"IF(OR($A36=0,$A36=\"\"),\"0\",IF(LOOKUP($A36,Load_Switch_NFET[PARTNUMBER],Load_Switch_NFET[RDSON10])=\"(NULL)\",\"0\",\"1\"))","v":"0"},false,false,false,false,false,false,false,false,false,{"$f":"IF($P36,J36,IF((C36=\"1\"),OR($AR$2,$AR$9)))","v":false},false,false,false,false,false,{"$f":"IF(W36,LOOKUP(A36,Load_Switch_NFET[PARTNUMBER],Load_Switch_NFET[RDSON10])*1000,IF(V36,LOOKUP(A36,Load_Switch_NFET[PARTNUMBER],Load_Switch_NFET[RDSON8])*1000,IF(U36,LOOKUP(A36,Load_Switch_NFET[PARTNUMBER],Load_Switch_NFET[RDSON6])*1000,IF(T36,LOOKUP(A36,Load_Switch_NFET[PARTNUMBER],Load_Switch_NFET[RDSON45])*1000,IF(S36,LOOKUP(A36,Load_Switch_NFET[PARTNUMBER],Load_Switch_NFET[RDSON3])*1000,IF(R36,LOOKUP(A36,Load_Switch_NFET[PARTNUMBER],Load_Switch_NFET[RDSON25])*1000,IF(Q36,LOOKUP(A36,Load_Switch_NFET[PARTNUMBER],Load_Switch_NFET[RDSON18])*1000,\"\")))))))","v":""},{"$f":"IF(AND(A36<>0,A36<>\"\"),X36*(1+(Tj-25)*(LOOKUP(A36,Load_Switch_NFET[PARTNUMBER],Load_Switch_NFET[RDSDELTA])/((LOOKUP(A36,Load_Switch_NFET[PARTNUMBER],Load_Switch_NFET[TJMAX])-25)))),\"\")","v":""},{"$f":"IF(AND(A36<>0,A36<>\"\"),LOOKUP(A36,Load_Switch_NFET[PARTNUMBER],Load_Switch_NFET[VTHMAX]),\"\")","v":""},{"$f":"IF(AND(A36<>0,A36<>\"\"),LOOKUP(A36,Load_Switch_NFET[PARTNUMBER],Load_Switch_NFET[VTHMIN]),\"\")","v":""},"#N/A",{"$f":"IF(AND(A36<>0,A36<>\"\"),LOOKUP(A36,Load_Switch_NFET[PARTNUMBER],Load_Switch_NFET[RGIMAX]),\"\")","v":""},{"$f":"IF(AND($A36<>0,$A36<>\"\"),LOOKUP($A36,Load_Switch_NFET[PARTNUMBER],Load_Switch_NFET[QGTYP]),\"\")","v":""},{"$f":"IF(AND($A36<>0,$A36<>\"\"),LOOKUP($A36,Load_Switch_NFET[PARTNUMBER],Load_Switch_NFET[QGS]),\"\")","v":""},{"$f":"IF(AND($A36<>0,$A36<>\"\"),LOOKUP($A36,Load_Switch_NFET[PARTNUMBER],Load_Switch_NFET[QGD]),\"\")","v":""},{"$f":"IF(AND($A36<>0,$A36<>\"\"),LOOKUP($A36,Load_Switch_NFET[PARTNUMBER],Load_Switch_NFET[QGTH]),\"\")","v":""},{"$f":"IF(AND($A36<>0,$A36<>\"\"),LOOKUP($A36,Load_Switch_NFET[PARTNUMBER],Load_Switch_NFET[VMILLER]),\"\")","v":""},{"$f":"IF(AND($A36<>0,$A36<>\"\"),LOOKUP($A36,Load_Switch_NFET[PARTNUMBER],Load_Switch_NFET[COSS_AT_VDSSPEC]),\"\")","v":""},"","","","",{"$f":"IF(AND($A36<>0,$A36<>\"\"),LOOKUP($A36,Load_Switch_NFET[PARTNUMBER],Load_Switch_NFET[1KPRICE]),\"\")","v":""},{"$f":"IF(AND($A36<>0,$A36<>\"\"),LOOKUP(A36,Load_Switch_NFET[PARTNUMBER],Load_Switch_NFET[TI_EQ_PACKAGE]),\"\")","v":""},"Invalid Part"]
[{"$f":"IF(CH=\"N\",NLogic!B37,\"\")","v":0},{"$f":"IF(OR($A37=0,$A37=\"\"),\"0\",IF(LOOKUP($A37,Load_Switch_NFET[PARTNUMBER],Load_Switch_NFET[RDSON18])=\"(NULL)\",\"0\",\"1\"))","v":"0"},{"$f":"IF(OR($A37=0,$A37=\"\"),\"0\",IF(LOOKUP($A37,Load_Switch_NFET[PARTNUMBER],Load_Switch_NFET[RDSON25])=\"(NULL)\",\"0\",\"1\"))","v":"0"},{"$f":"IF(OR($A37=0,$A37=\"\"),\"0\",IF(LOOKUP($A37,Load_Switch_NFET[PARTNUMBER],Load_Switch_NFET[RDSON3])=\"(NULL)\",\"0\",\"1\"))","v":"0"},{"$f":"IF(OR($A37=0,$A37=\"\"),\"0\",IF(LOOKUP($A37,Load_Switch_NFET[PARTNUMBER],Load_Switch_NFET[RDSON45])=\"(NULL)\",\"0\",\"1\"))","v":"0"},{"$f":"IF(OR($A37=0,$A37=\"\"),\"0\",IF(LOOKUP($A37,Load_Switch_NFET[PARTNUMBER],Load_Switch_NFET[RDSON6])=\"(NULL)\",\"0\",\"1\"))","v":"0"},{"$f":"IF(OR($A37=0,$A37=\"\"),\"0\",IF(LOOKUP($A37,Load_Switch_NFET[PARTNUMBER],Load_Switch_NFET[RDSON8])=\"(NULL)\",\"0\",\"1\"))","v":"0"},{"$f":"IF(OR($A37=0,$A37=\"\"),\"0\",IF(LOOKUP($A37,Load_Switch_NFET[PARTNUMBER],Load_Switch_NFET[RDSON10])=\"(NULL)\",\"0\",\"1\"))","v":"0"},false,false,false,false,false,false,false,false,false,false,false,false,false,false,false,{"$f":"IF(W37,LOOKUP(A37,Load_Switch_NFET[PARTNUMBER],Load_Switch_NFET[RDSON10])*1000,IF(V37,LOOKUP(A37,Load_Switch_NFET[PARTNUMBER],Load_Switch_NFET[RDSON8])*1000,IF(U37,LOOKUP(A37,Load_Switch_NFET[PARTNUMBER],Load_Switch_NFET[RDSON6])*1000,IF(T37,LOOKUP(A37,Load_Switch_NFET[PARTNUMBER],Load_Switch_NFET[RDSON45])*1000,IF(S37,LOOKUP(A37,Load_Switch_NFET[PARTNUMBER],Load_Switch_NFET[RDSON3])*1000,IF(R37,LOOKUP(A37,Load_Switch_NFET[PARTNUMBER],Load_Switch_NFET[RDSON25])*1000,IF(Q37,LOOKUP(A37,Load_Switch_NFET[PARTNUMBER],Load_Switch_NFET[RDSON18])*1000,\"\")))))))","v":""},{"$f":"IF(AND(A37<>0,A37<>\"\"),X37*(1+(Tj-25)*(LOOKUP(A37,Load_Switch_NFET[PARTNUMBER],Load_Switch_NFET[RDSDELTA])/((LOOKUP(A37,Load_Switch_NFET[PARTNUMBER],Load_Switch_NFET[TJMAX])-25)))),\"\")","v":""},{"$f":"IF(AND(A37<>0,A37<>\"\"),LOOKUP(A37,Load_Switch_NFET[PARTNUMBER],Load_Switch_NFET[VTHMAX]),\"\")","v":""},{"$f":"IF(AND(A37<>0,A37<>\"\"),LOOKUP(A37,Load_Switch_NFET[PARTNUMBER],Load_Switch_NFET[VTHMIN]),\"\")","v":""},"#N/A",{"$f":"IF(AND(A37<>0,A37<>\"\"),LOOKUP(A37,Load_Switch_NFET[PARTNUMBER],Load_Switch_NFET[RGIMAX]),\"\")","v":""},{"$f":"IF(AND($A37<>0,$A37<>\"\"),LOOKUP($A37,Load_Switch_NFET[PARTNUMBER],Load_Switch_NFET[QGTYP]),\"\")","v":""},{"$f":"IF(AND($A37<>0,$A37<>\"\"),LOOKUP($A37,Load_Switch_NFET[PARTNUMBER],Load_Switch_NFET[QGS]),\"\")","v":""},{"$f":"IF(AND($A37<>0,$A37<>\"\"),LOOKUP($A37,Load_Switch_NFET[PARTNUMBER],Load_Switch_NFET[QGD]),\"\")","v":""},{"$f":"IF(AND($A37<>0,$A37<>\"\"),LOOKUP($A37,Load_Switch_NFET[PARTNUMBER],Load_Switch_NFET[QGTH]),\"\")","v":""},{"$f":"IF(AND($A37<>0,$A37<>\"\"),LOOKUP($A37,Load_Switch_NFET[PARTNUMBER],Load_Switch_NFET[VMILLER]),\"\")","v":""},{"$f":"IF(AND($A37<>0,$A37<>\"\"),LOOKUP($A37,Load_Switch_NFET[PARTNUMBER],Load_Switch_NFET[COSS_AT_VDSSPEC]),\"\")","v":""},"","","","",{"$f":"IF(AND($A37<>0,$A37<>\"\"),LOOKUP($A37,Load_Switch_NFET[PARTNUMBER],Load_Switch_NFET[1KPRICE]),\"\")","v":""},{"$f":"IF(AND($A37<>0,$A37<>\"\"),LOOKUP(A37,Load_Switch_NFET[PARTNUMBER],Load_Switch_NFET[TI_EQ_PACKAGE]),\"\")","v":""},"Invalid Part"]
[{"$f":"IF(CH=\"N\",NLogic!B38,\"\")","v":0},{"$f":"IF(OR($A38=0,$A38=\"\"),\"0\",IF(LOOKUP($A38,Load_Switch_NFET[PARTNUMBER],Load_Switch_NFET[RDSON18])=\"(NULL)\",\"0\",\"1\"))","v":"0"},{"$f":"IF(OR($A38=0,$A38=\"\"),\"0\",IF(LOOKUP($A38,Load_Switch_NFET[PARTNUMBER],Load_Switch_NFET[RDSON25])=\"(NULL)\",\"0\",\"1\"))","v":"0"},{"$f":"IF(OR($A38=0,$A38=\"\"),\"0\",IF(LOOKUP($A38,Load_Switch_NFET[PARTNUMBER],Load_Switch_NFET[RDSON3])=\"(NULL)\",\"0\",\"1\"))","v":"0"},{"$f":"IF(OR($A38=0,$A38=\"\"),\"0\",IF(LOOKUP($A38,Load_Switch_NFET[PARTNUMBER],Load_Switch_NFET[RDSON45])=\"(NULL)\",\"0\",\"1\"))","v":"0"},{"$f":"IF(OR($A38=0,$A38=\"\"),\"0\",IF(LOOKUP($A38,Load_Switch_NFET[PARTNUMBER],Load_Switch_NFET[RDSON6])=\"(NULL)\",\"0\",\"1\"))","v":"0"},{"$f":"IF(OR($A38=0,$A38=\"\"),\"0\",IF(LOOKUP($A38,Load_Switch_NFET[PARTNUMBER],Load_Switch_NFET[RDSON8])=\"(NULL)\",\"0\",\"1\"))","v":"0"},{"$f":"IF(OR($A38=0,$A38=\"\"),\"0\",IF(LOOKUP($A38,Load_Switch_NFET[PARTNUMBER],Load_Switch_NFET[RDSON10])=\"(NULL)\",\"0\",\"1\"))","v":"0"},false,false,false,false,false,false,false,false,false,false,false,false,false,false,false,{"$f":"IF(W38,LOOKUP(A38,Load_Switch_NFET[PARTNUMBER],Load_Switch_NFET[RDSON10])*1000,IF(V38,LOOKUP(A38,Load_Switch_NFET[PARTNUMBER],Load_Switch_NFET[RDSON8])*1000,IF(U38,LOOKUP(A38,Load_Switch_NFET[PARTNUMBER],Load_Switch_NFET[RDSON6])*1000,IF(T38,LOOKUP(A38,Load_Switch_NFET[PARTNUMBER],Load_Switch_NFET[RDSON45])*1000,IF(S38,LOOKUP(A38,Load_Switch_NFET[PARTNUMBER],Load_Switch_NFET[RDSON3])*1000,IF(R38,LOOKUP(A38,Load_Switch_NFET[PARTNUMBER],Load_Switch_NFET[RDSON25])*1000,IF(Q38,LOOKUP(A38,Load_Switch_NFET[PARTNUMBER],Load_Switch_NFET[RDSON18])*1000,\"\")))))))","v":""},{"$f":"IF(AND(A38<>0,A38<>\"\"),X38*(1+(Tj-25)*(LOOKUP(A38,Load_Switch_NFET[PARTNUMBER],Load_Switch_NFET[RDSDELTA])/((LOOKUP(A38,Load_Switch_NFET[PARTNUMBER],Load_Switch_NFET[TJMAX])-25)))),\"\")","v":""},{"$f":"IF(AND(A38<>0,A38<>\"\"),LOOKUP(A38,Load_Switch_NFET[PARTNUMBER],Load_Switch_NFET[VTHMAX]),\"\")","v":""},{"$f":"IF(AND(A38<>0,A38<>\"\"),LOOKUP(A38,Load_Switch_NFET[PARTNUMBER],Load_Switch_NFET[VTHMIN]),\"\")","v":""},"#N/A",{"$f":"IF(AND(A38<>0,A38<>\"\"),LOOKUP(A38,Load_Switch_NFET[PARTNUMBER],Load_Switch_NFET[RGIMAX]),\"\")","v":""},{"$f":"IF(AND($A38<>0,$A38<>\"\"),LOOKUP($A38,Load_Switch_NFET[PARTNUMBER],Load_Switch_NFET[QGTYP]),\"\")","v":""},{"$f":"IF(AND($A38<>0,$A38<>\"\"),LOOKUP($A38,Load_Switch_NFET[PARTNUMBER],Load_Switch_NFET[QGS]),\"\")","v":""},{"$f":"IF(AND($A38<>0,$A38<>\"\"),LOOKUP($A38,Load_Switch_NFET[PARTNUMBER],Load_Switch_NFET[QGD]),\"\")","v":""},{"$f":"IF(AND($A38<>0,$A38<>\"\"),LOOKUP($A38,Load_Switch_NFET[PARTNUMBER],Load_Switch_NFET[QGTH]),\"\")","v":""},{"$f":"IF(AND($A38<>0,$A38<>\"\"),LOOKUP($A38,Load_Switch_NFET[PARTNUMBER],Load_Switch_NFET[VMILLER]),\"\")","v":""},{"$f":"IF(AND($A38<>0,$A38<>\"\"),LOOKUP($A38,Load_Switch_NFET[PARTNUMBER],Load_Switch_NFET[COSS_AT_VDSSPEC]),\"\")","v":""},"","","","",{"$f":"IF(AND($A38<>0,$A38<>\"\"),LOOKUP($A38,Load_Switch_NFET[PARTNUMBER],Load_Switch_NFET[1KPRICE]),\"\")","v":""},{"$f":"IF(AND($A38<>0,$A38<>\"\"),LOOKUP(A38,Load_Switch_NFET[PARTNUMBER],Load_Switch_NFET[TI_EQ_PACKAGE]),\"\")","v":""},"Invalid Part"]
[{"$f":"IF(CH=\"N\",NLogic!B39,\"\")","v":0},{"$f":"IF(OR($A39=0,$A39=\"\"),\"0\",IF(LOOKUP($A39,Load_Switch_NFET[PARTNUMBER],Load_Switch_NFET[RDSON18])=\"(NULL)\",\"0\",\"1\"))","v":"0"},{"$f":"IF(OR($A39=0,$A39=\"\"),\"0\",IF(LOOKUP($A39,Load_Switch_NFET[PARTNUMBER],Load_Switch_NFET[RDSON25])=\"(NULL)\",\"0\",\"1\"))","v":"0"},{"$f":"IF(OR($A39=0,$A39=\"\"),\"0\",IF(LOOKUP($A39,Load_Switch_NFET[PARTNUMBER],Load_Switch_NFET[RDSON3])=\"(NULL)\",\"0\",\"1\"))","v":"0"},{"$f":"IF(OR($A39=0,$A39=\"\"),\"0\",IF(LOOKUP($A39,Load_Switch_NFET[PARTNUMBER],Load_Switch_NFET[RDSON45])=\"(NULL)\",\"0\",\"1\"))","v":"0"},{"$f":"IF(OR($A39=0,$A39=\"\"),\"0\",IF(LOOKUP($A39,Load_Switch_NFET[PARTNUMBER],Load_Switch_NFET[RDSON6])=\"(NULL)\",\"0\",\"1\"))","v":"0"},{"$f":"IF(OR($A39=0,$A39=\"\"),\"0\",IF(LOOKUP($A39,Load_Switch_NFET[PARTNUMBER],Load_Switch_NFET[RDSON8])=\"(NULL)\",\"0\",\"1\"))","v":"0"},{"$f":"IF(OR($A39=0,$A39=\"\"),\"0\",IF(LOOKUP($A39,Load_Switch_NFET[PARTNUMBER],Load_Switch_NFET[RDSON10])=\"(NULL)\",\"0\",\"1\"))","v":"0"},false,false,false,false,false,false,false,false,false,false,false,false,false,false,false,{"$f":"IF(W39,LOOKUP(A39,Load_Switch_NFET[PARTNUMBER],Load_Switch_NFET[RDSON10])*1000,IF(V39,LOOKUP(A39,Load_Switch_NFET[PARTNUMBER],Load_Switch_NFET[RDSON8])*1000,IF(U39,LOOKUP(A39,Load_Switch_NFET[PARTNUMBER],Load_Switch_NFET[RDSON6])*1000,IF(T39,LOOKUP(A39,Load_Switch_NFET[PARTNUMBER],Load_Switch_NFET[RDSON45])*1000,IF(S39,LOOKUP(A39,Load_Switch_NFET[PARTNUMBER],Load_Switch_NFET[RDSON3])*1000,IF(R39,LOOKUP(A39,Load_Switch_NFET[PARTNUMBER],Load_Switch_NFET[RDSON25])*1000,IF(Q39,LOOKUP(A39,Load_Switch_NFET[PARTNUMBER],Load_Switch_NFET[RDSON18])*1000,\"\")))))))","v":""},{"$f":"IF(AND(A39<>0,A39<>\"\"),X39*(1+(Tj-25)*(LOOKUP(A39,Load_Switch_NFET[PARTNUMBER],Load_Switch_NFET[RDSDELTA])/((LOOKUP(A39,Load_Switch_NFET[PARTNUMBER],Load_Switch_NFET[TJMAX])-25)))),\"\")","v":""},{"$f":"IF(AND(A39<>0,A39<>\"\"),LOOKUP(A39,Load_Switch_NFET[PARTNUMBER],Load_Switch_NFET[VTHMAX]),\"\")","v":""},{"$f":"IF(AND(A39<>0,A39<>\"\"),LOOKUP(A39,Load_Switch_NFET[PARTNUMBER],Load_Switch_NFET[VTHMIN]),\"\")","v":""},"#N/A",{"$f":"IF(AND(A39<>0,A39<>\"\"),LOOKUP(A39,Load_Switch_NFET[PARTNUMBER],Load_Switch_NFET[RGIMAX]),\"\")","v":""},{"$f":"IF(AND($A39<>0,$A39<>\"\"),LOOKUP($A39,Load_Switch_NFET[PARTNUMBER],Load_Switch_NFET[QGTYP]),\"\")","v":""},{"$f":"IF(AND($A39<>0,$A39<>\"\"),LOOKUP($A39,Load_Switch_NFET[PARTNUMBER],Load_Switch_NFET[QGS]),\"\")","v":""},{"$f":"IF(AND($A39<>0,$A39<>\"\"),LOOKUP($A39,Load_Switch_NFET[PARTNUMBER],Load_Switch_NFET[QGD]),\"\")","v":""},{"$f":"IF(AND($A39<>0,$A39<>\"\"),LOOKUP($A39,Load_Switch_NFET[PARTNUMBER],Load_Switch_NFET[QGTH]),\"\")","v":""},{"$f":"IF(AND($A39<>0,$A39<>\"\"),LOOKUP($A39,Load_Switch_NFET[PARTNUMBER],Load_Switch_NFET[VMILLER]),\"\")","v":""},{"$f":"IF(AND($A39<>0,$A39<>\"\"),LOOKUP($A39,Load_Switch_NFET[PARTNUMBER],Load_Switch_NFET[COSS_AT_VDSSPEC]),\"\")","v":""},"","","","",{"$f":"IF(AND($A39<>0,$A39<>\"\"),LOOKUP($A39,Load_Switch_NFET[PARTNUMBER],Load_Switch_NFET[1KPRICE]),\"\")","v":""},{"$f":"IF(AND($A39<>0,$A39<>\"\"),LOOKUP(A39,Load_Switch_NFET[PARTNUMBER],Load_Switch_NFET[TI_EQ_PACKAGE]),\"\")","v":""},"Invalid Part"]
[{"$f":"IF(CH=\"N\",NLogic!B40,\"\")","v":0},{"$f":"IF(OR($A40=0,$A40=\"\"),\"0\",IF(LOOKUP($A40,Load_Switch_NFET[PARTNUMBER],Load_Switch_NFET[RDSON18])=\"(NULL)\",\"0\",\"1\"))","v":"0"},{"$f":"IF(OR($A40=0,$A40=\"\"),\"0\",IF(LOOKUP($A40,Load_Switch_NFET[PARTNUMBER],Load_Switch_NFET[RDSON25])=\"(NULL)\",\"0\",\"1\"))","v":"0"},{"$f":"IF(OR($A40=0,$A40=\"\"),\"0\",IF(LOOKUP($A40,Load_Switch_NFET[PARTNUMBER],Load_Switch_NFET[RDSON3])=\"(NULL)\",\"0\",\"1\"))","v":"0"},{"$f":"IF(OR($A40=0,$A40=\"\"),\"0\",IF(LOOKUP($A40,Load_Switch_NFET[PARTNUMBER],Load_Switch_NFET[RDSON45])=\"(NULL)\",\"0\",\"1\"))","v":"0"},{"$f":"IF(OR($A40=0,$A40=\"\"),\"0\",IF(LOOKUP($A40,Load_Switch_NFET[PARTNUMBER],Load_Switch_NFET[RDSON6])=\"(NULL)\",\"0\",\"1\"))","v":"0"},{"$f":"IF(OR($A40=0,$A40=\"\"),\"0\",IF(LOOKUP($A40,Load_Switch_NFET[PARTNUMBER],Load_Switch_NFET[RDSON8])=\"(NULL)\",\"0\",\"1\"))","v":"0"},{"$f":"IF(OR($A40=0,$A40=\"\"),\"0\",IF(LOOKUP($A40,Load_Switch_NFET[PARTNUMBER],Load_Switch_NFET[RDSON10])=\"(NULL)\",\"0\",\"1\"))","v":"0"},false,false,false,false,false,false,false,false,false,false,false,false,false,false,false,{"$f":"IF(W40,LOOKUP(A40,Load_Switch_NFET[PARTNUMBER],Load_Switch_NFET[RDSON10])*1000,IF(V40,LOOKUP(A40,Load_Switch_NFET[PARTNUMBER],Load_Switch_NFET[RDSON8])*1000,IF(U40,LOOKUP(A40,Load_Switch_NFET[PARTNUMBER],Load_Switch_NFET[RDSON6])*1000,IF(T40,LOOKUP(A40,Load_Switch_NFET[PARTNUMBER],Load_Switch_NFET[RDSON45])*1000,IF(S40,LOOKUP(A40,Load_Switch_NFET[PARTNUMBER],Load_Switch_NFET[RDSON3])*1000,IF(R40,LOOKUP(A40,Load_Switch_NFET[PARTNUMBER],Load_Switch_NFET[RDSON25])*1000,IF(Q40,LOOKUP(A40,Load_Switch_NFET[PARTNUMBER],Load_Switch_NFET[RDSON18])*1000,\"\")))))))","v":""},{"$f":"IF(AND(A40<>0,A40<>\"\"),X40*(1+(Tj-25)*(LOOKUP(A40,Load_Switch_NFET[PARTNUMBER],Load_Switch_NFET[RDSDELTA])/((LOOKUP(A40,Load_Switch_NFET[PARTNUMBER],Load_Switch_NFET[TJMAX])-25)))),\"\")","v":""},{"$f":"IF(AND(A40<>0,A40<>\"\"),LOOKUP(A40,Load_Switch_NFET[PARTNUMBER],Load_Switch_NFET[VTHMAX]),\"\")","v":""},{"$f":"IF(AND(A40<>0,A40<>\"\"),LOOKUP(A40,Load_Switch_NFET[PARTNUMBER],Load_Switch_NFET[VTHMIN]),\"\")","v":""},"#N/A",{"$f":"IF(AND(A40<>0,A40<>\"\"),LOOKUP(A40,Load_Switch_NFET[PARTNUMBER],Load_Switch_NFET[RGIMAX]),\"\")","v":""},{"$f":"IF(AND($A40<>0,$A40<>\"\"),LOOKUP($A40,Load_Switch_NFET[PARTNUMBER],Load_Switch_NFET[QGTYP]),\"\")","v":""},{"$f":"IF(AND($A40<>0,$A40<>\"\"),LOOKUP($A40,Load_Switch_NFET[PARTNUMBER],Load_Switch_NFET[QGS]),\"\")","v":""},{"$f":"IF(AND($A40<>0,$A40<>\"\"),LOOKUP($A40,Load_Switch_NFET[PARTNUMBER],Load_Switch_NFET[QGD]),\"\")","v":""},{"$f":"IF(AND($A40<>0,$A40<>\"\"),LOOKUP($A40,Load_Switch_NFET[PARTNUMBER],Load_Switch_NFET[QGTH]),\"\")","v":""},{"$f":"IF(AND($A40<>0,$A40<>\"\"),LOOKUP($A40,Load_Switch_NFET[PARTNUMBER],Load_Switch_NFET[VMILLER]),\"\")","v":""},{"$f":"IF(AND($A40<>0,$A40<>\"\"),LOOKUP($A40,Load_Switch_NFET[PARTNUMBER],Load_Switch_NFET[COSS_AT_VDSSPEC]),\"\")","v":""},"","","","",{"$f":"IF(AND($A40<>0,$A40<>\"\"),LOOKUP($A40,Load_Switch_NFET[PARTNUMBER],Load_Switch_NFET[1KPRICE]),\"\")","v":""},{"$f":"IF(AND($A40<>0,$A40<>\"\"),LOOKUP(A40,Load_Switch_NFET[PARTNUMBER],Load_Switch_NFET[TI_EQ_PACKAGE]),\"\")","v":""},"Invalid Part"]
[{"$f":"IF(CH=\"N\",NLogic!B41,\"\")","v":0},{"$f":"IF(OR($A41=0,$A41=\"\"),\"0\",IF(LOOKUP($A41,Load_Switch_NFET[PARTNUMBER],Load_Switch_NFET[RDSON18])=\"(NULL)\",\"0\",\"1\"))","v":"0"},{"$f":"IF(OR($A41=0,$A41=\"\"),\"0\",IF(LOOKUP($A41,Load_Switch_NFET[PARTNUMBER],Load_Switch_NFET[RDSON25])=\"(NULL)\",\"0\",\"1\"))","v":"0"},{"$f":"IF(OR($A41=0,$A41=\"\"),\"0\",IF(LOOKUP($A41,Load_Switch_NFET[PARTNUMBER],Load_Switch_NFET[RDSON3])=\"(NULL)\",\"0\",\"1\"))","v":"0"},{"$f":"IF(OR($A41=0,$A41=\"\"),\"0\",IF(LOOKUP($A41,Load_Switch_NFET[PARTNUMBER],Load_Switch_NFET[RDSON45])=\"(NULL)\",\"0\",\"1\"))","v":"0"},{"$f":"IF(OR($A41=0,$A41=\"\"),\"0\",IF(LOOKUP($A41,Load_Switch_NFET[PARTNUMBER],Load_Switch_NFET[RDSON6])=\"(NULL)\",\"0\",\"1\"))","v":"0"},{"$f":"IF(OR($A41=0,$A41=\"\"),\"0\",IF(LOOKUP($A41,Load_Switch_NFET[PARTNUMBER],Load_Switch_NFET[RDSON8])=\"(NULL)\",\"0\",\"1\"))","v":"0"},{"$f":"IF(OR($A41=0,$A41=\"\"),\"0\",IF(LOOKUP($A41,Load_Switch_NFET[PARTNUMBER],Load_Switch_NFET[RDSON10])=\"(NULL)\",\"0\",\"1\"))","v":"0"},false,false,false,false,false,false,false,false,false,false,false,false,false,false,false,{"$f":"IF(W41,LOOKUP(A41,Load_Switch_NFET[PARTNUMBER],Load_Switch_NFET[RDSON10])*1000,IF(V41,LOOKUP(A41,Load_Switch_NFET[PARTNUMBER],Load_Switch_NFET[RDSON8])*1000,IF(U41,LOOKUP(A41,Load_Switch_NFET[PARTNUMBER],Load_Switch_NFET[RDSON6])*1000,IF(T41,LOOKUP(A41,Load_Switch_NFET[PARTNUMBER],Load_Switch_NFET[RDSON45])*1000,IF(S41,LOOKUP(A41,Load_Switch_NFET[PARTNUMBER],Load_Switch_NFET[RDSON3])*1000,IF(R41,LOOKUP(A41,Load_Switch_NFET[PARTNUMBER],Load_Switch_NFET[RDSON25])*1000,IF(Q41,LOOKUP(A41,Load_Switch_NFET[PARTNUMBER],Load_Switch_NFET[RDSON18])*1000,\"\")))))))","v":""},{"$f":"IF(AND(A41<>0,A41<>\"\"),X41*(1+(Tj-25)*(LOOKUP(A41,Load_Switch_NFET[PARTNUMBER],Load_Switch_NFET[RDSDELTA])/((LOOKUP(A41,Load_Switch_NFET[PARTNUMBER],Load_Switch_NFET[TJMAX])-25)))),\"\")","v":""},{"$f":"IF(AND(A41<>0,A41<>\"\"),LOOKUP(A41,Load_Switch_NFET[PARTNUMBER],Load_Switch_NFET[VTHMAX]),\"\")","v":""},{"$f":"IF(AND(A41<>0,A41<>\"\"),LOOKUP(A41,Load_Switch_NFET[PARTNUMBER],Load_Switch_NFET[VTHMIN]),\"\")","v":""},"#N/A",{"$f":"IF(AND(A41<>0,A41<>\"\"),LOOKUP(A41,Load_Switch_NFET[PARTNUMBER],Load_Switch_NFET[RGIMAX]),\"\")","v":""},{"$f":"IF(AND($A41<>0,$A41<>\"\"),LOOKUP($A41,Load_Switch_NFET[PARTNUMBER],Load_Switch_NFET[QGTYP]),\"\")","v":""},{"$f":"IF(AND($A41<>0,$A41<>\"\"),LOOKUP($A41,Load_Switch_NFET[PARTNUMBER],Load_Switch_NFET[QGS]),\"\")","v":""},{"$f":"IF(AND($A41<>0,$A41<>\"\"),LOOKUP($A41,Load_Switch_NFET[PARTNUMBER],Load_Switch_NFET[QGD]),\"\")","v":""},{"$f":"IF(AND($A41<>0,$A41<>\"\"),LOOKUP($A41,Load_Switch_NFET[PARTNUMBER],Load_Switch_NFET[QGTH]),\"\")","v":""},{"$f":"IF(AND($A41<>0,$A41<>\"\"),LOOKUP($A41,Load_Switch_NFET[PARTNUMBER],Load_Switch_NFET[VMILLER]),\"\")","v":""},{"$f":"IF(AND($A41<>0,$A41<>\"\"),LOOKUP($A41,Load_Switch_NFET[PARTNUMBER],Load_Switch_NFET[COSS_AT_VDSSPEC]),\"\")","v":""},"","","","",{"$f":"IF(AND($A41<>0,$A41<>\"\"),LOOKUP($A41,Load_Switch_NFET[PARTNUMBER],Load_Switch_NFET[1KPRICE]),\"\")","v":""},{"$f":"IF(AND($A41<>0,$A41<>\"\"),LOOKUP(A41,Load_Switch_NFET[PARTNUMBER],Load_Switch_NFET[TI_EQ_PACKAGE]),\"\")","v":""},"Invalid Part"]
[{"$f":"IF(CH=\"N\",NLogic!B42,\"\")","v":0},{"$f":"IF(OR($A42=0,$A42=\"\"),\"0\",IF(LOOKUP($A42,Load_Switch_NFET[PARTNUMBER],Load_Switch_NFET[RDSON18])=\"(NULL)\",\"0\",\"1\"))","v":"0"},{"$f":"IF(OR($A42=0,$A42=\"\"),\"0\",IF(LOOKUP($A42,Load_Switch_NFET[PARTNUMBER],Load_Switch_NFET[RDSON25])=\"(NULL)\",\"0\",\"1\"))","v":"0"},{"$f":"IF(OR($A42=0,$A42=\"\"),\"0\",IF(LOOKUP($A42,Load_Switch_NFET[PARTNUMBER],Load_Switch_NFET[RDSON3])=\"(NULL)\",\"0\",\"1\"))","v":"0"},{"$f":"IF(OR($A42=0,$A42=\"\"),\"0\",IF(LOOKUP($A42,Load_Switch_NFET[PARTNUMBER],Load_Switch_NFET[RDSON45])=\"(NULL)\",\"0\",\"1\"))","v":"0"},{"$f":"IF(OR($A42=0,$A42=\"\"),\"0\",IF(LOOKUP($A42,Load_Switch_NFET[PARTNUMBER],Load_Switch_NFET[RDSON6])=\"(NULL)\",\"0\",\"1\"))","v":"0"},{"$f":"IF(OR($A42=0,$A42=\"\"),\"0\",IF(LOOKUP($A42,Load_Switch_NFET[PARTNUMBER],Load_Switch_NFET[RDSON8])=\"(NULL)\",\"0\",\"1\"))","v":"0"},{"$f":"IF(OR($A42=0,$A42=\"\"),\"0\",IF(LOOKUP($A42,Load_Switch_NFET[PARTNUMBER],Load_Switch_NFET[RDSON10])=\"(NULL)\",\"0\",\"1\"))","v":"0"},false,false,false,false,false,false,false,false,false,false,false,false,false,false,false,{"$f":"IF(W42,LOOKUP(A42,Load_Switch_NFET[PARTNUMBER],Load_Switch_NFET[RDSON10])*1000,IF(V42,LOOKUP(A42,Load_Switch_NFET[PARTNUMBER],Load_Switch_NFET[RDSON8])*1000,IF(U42,LOOKUP(A42,Load_Switch_NFET[PARTNUMBER],Load_Switch_NFET[RDSON6])*1000,IF(T42,LOOKUP(A42,Load_Switch_NFET[PARTNUMBER],Load_Switch_NFET[RDSON45])*1000,IF(S42,LOOKUP(A42,Load_Switch_NFET[PARTNUMBER],Load_Switch_NFET[RDSON3])*1000,IF(R42,LOOKUP(A42,Load_Switch_NFET[PARTNUMBER],Load_Switch_NFET[RDSON25])*1000,IF(Q42,LOOKUP(A42,Load_Switch_NFET[PARTNUMBER],Load_Switch_NFET[RDSON18])*1000,\"\")))))))","v":""},{"$f":"IF(AND(A42<>0,A42<>\"\"),X42*(1+(Tj-25)*(LOOKUP(A42,Load_Switch_NFET[PARTNUMBER],Load_Switch_NFET[RDSDELTA])/((LOOKUP(A42,Load_Switch_NFET[PARTNUMBER],Load_Switch_NFET[TJMAX])-25)))),\"\")","v":""},{"$f":"IF(AND(A42<>0,A42<>\"\"),LOOKUP(A42,Load_Switch_NFET[PARTNUMBER],Load_Switch_NFET[VTHMAX]),\"\")","v":""},{"$f":"IF(AND(A42<>0,A42<>\"\"),LOOKUP(A42,Load_Switch_NFET[PARTNUMBER],Load_Switch_NFET[VTHMIN]),\"\")","v":""},"#N/A",{"$f":"IF(AND(A42<>0,A42<>\"\"),LOOKUP(A42,Load_Switch_NFET[PARTNUMBER],Load_Switch_NFET[RGIMAX]),\"\")","v":""},{"$f":"IF(AND($A42<>0,$A42<>\"\"),LOOKUP($A42,Load_Switch_NFET[PARTNUMBER],Load_Switch_NFET[QGTYP]),\"\")","v":""},{"$f":"IF(AND($A42<>0,$A42<>\"\"),LOOKUP($A42,Load_Switch_NFET[PARTNUMBER],Load_Switch_NFET[QGS]),\"\")","v":""},{"$f":"IF(AND($A42<>0,$A42<>\"\"),LOOKUP($A42,Load_Switch_NFET[PARTNUMBER],Load_Switch_NFET[QGD]),\"\")","v":""},{"$f":"IF(AND($A42<>0,$A42<>\"\"),LOOKUP($A42,Load_Switch_NFET[PARTNUMBER],Load_Switch_NFET[QGTH]),\"\")","v":""},{"$f":"IF(AND($A42<>0,$A42<>\"\"),LOOKUP($A42,Load_Switch_NFET[PARTNUMBER],Load_Switch_NFET[VMILLER]),\"\")","v":""},{"$f":"IF(AND($A42<>0,$A42<>\"\"),LOOKUP($A42,Load_Switch_NFET[PARTNUMBER],Load_Switch_NFET[COSS_AT_VDSSPEC]),\"\")","v":""},"","","","",{"$f":"IF(AND($A42<>0,$A42<>\"\"),LOOKUP($A42,Load_Switch_NFET[PARTNUMBER],Load_Switch_NFET[1KPRICE]),\"\")","v":""},{"$f":"IF(AND($A42<>0,$A42<>\"\"),LOOKUP(A42,Load_Switch_NFET[PARTNUMBER],Load_Switch_NFET[TI_EQ_PACKAGE]),\"\")","v":""},"Invalid Part"]
[{"$f":"IF(CH=\"N\",NLogic!B43,\"\")","v":0},{"$f":"IF(OR($A43=0,$A43=\"\"),\"0\",IF(LOOKUP($A43,Load_Switch_NFET[PARTNUMBER],Load_Switch_NFET[RDSON18])=\"(NULL)\",\"0\",\"1\"))","v":"0"},{"$f":"IF(OR($A43=0,$A43=\"\"),\"0\",IF(LOOKUP($A43,Load_Switch_NFET[PARTNUMBER],Load_Switch_NFET[RDSON25])=\"(NULL)\",\"0\",\"1\"))","v":"0"},{"$f":"IF(OR($A43=0,$A43=\"\"),\"0\",IF(LOOKUP($A43,Load_Switch_NFET[PARTNUMBER],Load_Switch_NFET[RDSON3])=\"(NULL)\",\"0\",\"1\"))","v":"0"},{"$f":"IF(OR($A43=0,$A43=\"\"),\"0\",IF(LOOKUP($A43,Load_Switch_NFET[PARTNUMBER],Load_Switch_NFET[RDSON45])=\"(NULL)\",\"0\",\"1\"))","v":"0"},{"$f":"IF(OR($A43=0,$A43=\"\"),\"0\",IF(LOOKUP($A43,Load_Switch_NFET[PARTNUMBER],Load_Switch_NFET[RDSON6])=\"(NULL)\",\"0\",\"1\"))","v":"0"},{"$f":"IF(OR($A43=0,$A43=\"\"),\"0\",IF(LOOKUP($A43,Load_Switch_NFET[PARTNUMBER],Load_Switch_NFET[RDSON8])=\"(NULL)\",\"0\",\"1\"))","v":"0"},{"$f":"IF(OR($A43=0,$A43=\"\"),\"0\",IF(LOOKUP($A43,Load_Switch_NFET[PARTNUMBER],Load_Switch_NFET[RDSON10])=\"(NULL)\",\"0\",\"1\"))","v":"0"},false,false,false,false,false,false,false,false,false,false,false,false,false,false,false,{"$f":"IF(W43,LOOKUP(A43,Load_Switch_NFET[PARTNUMBER],Load_Switch_NFET[RDSON10])*1000,IF(V43,LOOKUP(A43,Load_Switch_NFET[PARTNUMBER],Load_Switch_NFET[RDSON8])*1000,IF(U43,LOOKUP(A43,Load_Switch_NFET[PARTNUMBER],Load_Switch_NFET[RDSON6])*1000,IF(T43,LOOKUP(A43,Load_Switch_NFET[PARTNUMBER],Load_Switch_NFET[RDSON45])*1000,IF(S43,LOOKUP(A43,Load_Switch_NFET[PARTNUMBER],Load_Switch_NFET[RDSON3])*1000,IF(R43,LOOKUP(A43,Load_Switch_NFET[PARTNUMBER],Load_Switch_NFET[RDSON25])*1000,IF(Q43,LOOKUP(A43,Load_Switch_NFET[PARTNUMBER],Load_Switch_NFET[RDSON18])*1000,\"\")))))))","v":""},{"$f":"IF(AND(A43<>0,A43<>\"\"),X43*(1+(Tj-25)*(LOOKUP(A43,Load_Switch_NFET[PARTNUMBER],Load_Switch_NFET[RDSDELTA])/((LOOKUP(A43,Load_Switch_NFET[PARTNUMBER],Load_Switch_NFET[TJMAX])-25)))),\"\")","v":""},{"$f":"IF(AND(A43<>0,A43<>\"\"),LOOKUP(A43,Load_Switch_NFET[PARTNUMBER],Load_Switch_NFET[VTHMAX]),\"\")","v":""},{"$f":"IF(AND(A43<>0,A43<>\"\"),LOOKUP(A43,Load_Switch_NFET[PARTNUMBER],Load_Switch_NFET[VTHMIN]),\"\")","v":""},"#N/A",{"$f":"IF(AND(A43<>0,A43<>\"\"),LOOKUP(A43,Load_Switch_NFET[PARTNUMBER],Load_Switch_NFET[RGIMAX]),\"\")","v":""},{"$f":"IF(AND($A43<>0,$A43<>\"\"),LOOKUP($A43,Load_Switch_NFET[PARTNUMBER],Load_Switch_NFET[QGTYP]),\"\")","v":""},{"$f":"IF(AND($A43<>0,$A43<>\"\"),LOOKUP($A43,Load_Switch_NFET[PARTNUMBER],Load_Switch_NFET[QGS]),\"\")","v":""},{"$f":"IF(AND($A43<>0,$A43<>\"\"),LOOKUP($A43,Load_Switch_NFET[PARTNUMBER],Load_Switch_NFET[QGD]),\"\")","v":""},{"$f":"IF(AND($A43<>0,$A43<>\"\"),LOOKUP($A43,Load_Switch_NFET[PARTNUMBER],Load_Switch_NFET[QGTH]),\"\")","v":""},{"$f":"IF(AND($A43<>0,$A43<>\"\"),LOOKUP($A43,Load_Switch_NFET[PARTNUMBER],Load_Switch_NFET[VMILLER]),\"\")","v":""},{"$f":"IF(AND($A43<>0,$A43<>\"\"),LOOKUP($A43,Load_Switch_NFET[PARTNUMBER],Load_Switch_NFET[COSS_AT_VDSSPEC]),\"\")","v":""},"","","","",{"$f":"IF(AND($A43<>0,$A43<>\"\"),LOOKUP($A43,Load_Switch_NFET[PARTNUMBER],Load_Switch_NFET[1KPRICE]),\"\")","v":""},{"$f":"IF(AND($A43<>0,$A43<>\"\"),LOOKUP(A43,Load_Switch_NFET[PARTNUMBER],Load_Switch_NFET[TI_EQ_PACKAGE]),\"\")","v":""},"Invalid Part"]
[{"$f":"IF(CH=\"N\",NLogic!B44,\"\")","v":0},{"$f":"IF(OR($A44=0,$A44=\"\"),\"0\",IF(LOOKUP($A44,Load_Switch_NFET[PARTNUMBER],Load_Switch_NFET[RDSON18])=\"(NULL)\",\"0\",\"1\"))","v":"0"},{"$f":"IF(OR($A44=0,$A44=\"\"),\"0\",IF(LOOKUP($A44,Load_Switch_NFET[PARTNUMBER],Load_Switch_NFET[RDSON25])=\"(NULL)\",\"0\",\"1\"))","v":"0"},{"$f":"IF(OR($A44=0,$A44=\"\"),\"0\",IF(LOOKUP($A44,Load_Switch_NFET[PARTNUMBER],Load_Switch_NFET[RDSON3])=\"(NULL)\",\"0\",\"1\"))","v":"0"},{"$f":"IF(OR($A44=0,$A44=\"\"),\"0\",IF(LOOKUP($A44,Load_Switch_NFET[PARTNUMBER],Load_Switch_NFET[RDSON45])=\"(NULL)\",\"0\",\"1\"))","v":"0"},{"$f":"IF(OR($A44=0,$A44=\"\"),\"0\",IF(LOOKUP($A44,Load_Switch_NFET[PARTNUMBER],Load_Switch_NFET[RDSON6])=\"(NULL)\",\"0\",\"1\"))","v":"0"},{"$f":"IF(OR($A44=0,$A44=\"\"),\"0\",IF(LOOKUP($A44,Load_Switch_NFET[PARTNUMBER],Load_Switch_NFET[RDSON8])=\"(NULL)\",\"0\",\"1\"))","v":"0"},{"$f":"IF(OR($A44=0,$A44=\"\"),\"0\",IF(LOOKUP($A44,Load_Switch_NFET[PARTNUMBER],Load_Switch_NFET[RDSON10])=\"(NULL)\",\"0\",\"1\"))","v":"0"},false,false,false,false,false,false,false,false,false,false,false,false,false,false,false,{"$f":"IF(W44,LOOKUP(A44,Load_Switch_NFET[PARTNUMBER],Load_Switch_NFET[RDSON10])*1000,IF(V44,LOOKUP(A44,Load_Switch_NFET[PARTNUMBER],Load_Switch_NFET[RDSON8])*1000,IF(U44,LOOKUP(A44,Load_Switch_NFET[PARTNUMBER],Load_Switch_NFET[RDSON6])*1000,IF(T44,LOOKUP(A44,Load_Switch_NFET[PARTNUMBER],Load_Switch_NFET[RDSON45])*1000,IF(S44,LOOKUP(A44,Load_Switch_NFET[PARTNUMBER],Load_Switch_NFET[RDSON3])*1000,IF(R44,LOOKUP(A44,Load_Switch_NFET[PARTNUMBER],Load_Switch_NFET[RDSON25])*1000,IF(Q44,LOOKUP(A44,Load_Switch_NFET[PARTNUMBER],Load_Switch_NFET[RDSON18])*1000,\"\")))))))","v":""},{"$f":"IF(AND(A44<>0,A44<>\"\"),X44*(1+(Tj-25)*(LOOKUP(A44,Load_Switch_NFET[PARTNUMBER],Load_Switch_NFET[RDSDELTA])/((LOOKUP(A44,Load_Switch_NFET[PARTNUMBER],Load_Switch_NFET[TJMAX])-25)))),\"\")","v":""},{"$f":"IF(AND(A44<>0,A44<>\"\"),LOOKUP(A44,Load_Switch_NFET[PARTNUMBER],Load_Switch_NFET[VTHMAX]),\"\")","v":""},{"$f":"IF(AND(A44<>0,A44<>\"\"),LOOKUP(A44,Load_Switch_NFET[PARTNUMBER],Load_Switch_NFET[VTHMIN]),\"\")","v":""},"#N/A",{"$f":"IF(AND(A44<>0,A44<>\"\"),LOOKUP(A44,Load_Switch_NFET[PARTNUMBER],Load_Switch_NFET[RGIMAX]),\"\")","v":""},{"$f":"IF(AND($A44<>0,$A44<>\"\"),LOOKUP($A44,Load_Switch_NFET[PARTNUMBER],Load_Switch_NFET[QGTYP]),\"\")","v":""},{"$f":"IF(AND($A44<>0,$A44<>\"\"),LOOKUP($A44,Load_Switch_NFET[PARTNUMBER],Load_Switch_NFET[QGS]),\"\")","v":""},{"$f":"IF(AND($A44<>0,$A44<>\"\"),LOOKUP($A44,Load_Switch_NFET[PARTNUMBER],Load_Switch_NFET[QGD]),\"\")","v":""},{"$f":"IF(AND($A44<>0,$A44<>\"\"),LOOKUP($A44,Load_Switch_NFET[PARTNUMBER],Load_Switch_NFET[QGTH]),\"\")","v":""},{"$f":"IF(AND($A44<>0,$A44<>\"\"),LOOKUP($A44,Load_Switch_NFET[PARTNUMBER],Load_Switch_NFET[VMILLER]),\"\")","v":""},{"$f":"IF(AND($A44<>0,$A44<>\"\"),LOOKUP($A44,Load_Switch_NFET[PARTNUMBER],Load_Switch_NFET[COSS_AT_VDSSPEC]),\"\")","v":""},"","","","",{"$f":"IF(AND($A44<>0,$A44<>\"\"),LOOKUP($A44,Load_Switch_NFET[PARTNUMBER],Load_Switch_NFET[1KPRICE]),\"\")","v":""},{"$f":"IF(AND($A44<>0,$A44<>\"\"),LOOKUP(A44,Load_Switch_NFET[PARTNUMBER],Load_Switch_NFET[TI_EQ_PACKAGE]),\"\")","v":""},"Invalid Part"]
[{"$f":"IF(CH=\"N\",NLogic!B45,\"\")","v":0},{"$f":"IF(OR($A45=0,$A45=\"\"),\"0\",IF(LOOKUP($A45,Load_Switch_NFET[PARTNUMBER],Load_Switch_NFET[RDSON18])=\"(NULL)\",\"0\",\"1\"))","v":"0"},{"$f":"IF(OR($A45=0,$A45=\"\"),\"0\",IF(LOOKUP($A45,Load_Switch_NFET[PARTNUMBER],Load_Switch_NFET[RDSON25])=\"(NULL)\",\"0\",\"1\"))","v":"0"},{"$f":"IF(OR($A45=0,$A45=\"\"),\"0\",IF(LOOKUP($A45,Load_Switch_NFET[PARTNUMBER],Load_Switch_NFET[RDSON3])=\"(NULL)\",\"0\",\"1\"))","v":"0"},{"$f":"IF(OR($A45=0,$A45=\"\"),\"0\",IF(LOOKUP($A45,Load_Switch_NFET[PARTNUMBER],Load_Switch_NFET[RDSON45])=\"(NULL)\",\"0\",\"1\"))","v":"0"},{"$f":"IF(OR($A45=0,$A45=\"\"),\"0\",IF(LOOKUP($A45,Load_Switch_NFET[PARTNUMBER],Load_Switch_NFET[RDSON6])=\"(NULL)\",\"0\",\"1\"))","v":"0"},{"$f":"IF(OR($A45=0,$A45=\"\"),\"0\",IF(LOOKUP($A45,Load_Switch_NFET[PARTNUMBER],Load_Switch_NFET[RDSON8])=\"(NULL)\",\"0\",\"1\"))","v":"0"},{"$f":"IF(OR($A45=0,$A45=\"\"),\"0\",IF(LOOKUP($A45,Load_Switch_NFET[PARTNUMBER],Load_Switch_NFET[RDSON10])=\"(NULL)\",\"0\",\"1\"))","v":"0"},false,false,false,false,false,false,false,false,false,false,false,false,false,false,false,{"$f":"IF(W45,LOOKUP(A45,Load_Switch_NFET[PARTNUMBER],Load_Switch_NFET[RDSON10])*1000,IF(V45,LOOKUP(A45,Load_Switch_NFET[PARTNUMBER],Load_Switch_NFET[RDSON8])*1000,IF(U45,LOOKUP(A45,Load_Switch_NFET[PARTNUMBER],Load_Switch_NFET[RDSON6])*1000,IF(T45,LOOKUP(A45,Load_Switch_NFET[PARTNUMBER],Load_Switch_NFET[RDSON45])*1000,IF(S45,LOOKUP(A45,Load_Switch_NFET[PARTNUMBER],Load_Switch_NFET[RDSON3])*1000,IF(R45,LOOKUP(A45,Load_Switch_NFET[PARTNUMBER],Load_Switch_NFET[RDSON25])*1000,IF(Q45,LOOKUP(A45,Load_Switch_NFET[PARTNUMBER],Load_Switch_NFET[RDSON18])*1000,\"\")))))))","v":""},{"$f":"IF(AND(A45<>0,A45<>\"\"),X45*(1+(Tj-25)*(LOOKUP(A45,Load_Switch_NFET[PARTNUMBER],Load_Switch_NFET[RDSDELTA])/((LOOKUP(A45,Load_Switch_NFET[PARTNUMBER],Load_Switch_NFET[TJMAX])-25)))),\"\")","v":""},{"$f":"IF(AND(A45<>0,A45<>\"\"),LOOKUP(A45,Load_Switch_NFET[PARTNUMBER],Load_Switch_NFET[VTHMAX]),\"\")","v":""},{"$f":"IF(AND(A45<>0,A45<>\"\"),LOOKUP(A45,Load_Switch_NFET[PARTNUMBER],Load_Switch_NFET[VTHMIN]),\"\")","v":""},"#N/A",{"$f":"IF(AND(A45<>0,A45<>\"\"),LOOKUP(A45,Load_Switch_NFET[PARTNUMBER],Load_Switch_NFET[RGIMAX]),\"\")","v":""},{"$f":"IF(AND($A45<>0,$A45<>\"\"),LOOKUP($A45,Load_Switch_NFET[PARTNUMBER],Load_Switch_NFET[QGTYP]),\"\")","v":""},{"$f":"IF(AND($A45<>0,$A45<>\"\"),LOOKUP($A45,Load_Switch_NFET[PARTNUMBER],Load_Switch_NFET[QGS]),\"\")","v":""},{"$f":"IF(AND($A45<>0,$A45<>\"\"),LOOKUP($A45,Load_Switch_NFET[PARTNUMBER],Load_Switch_NFET[QGD]),\"\")","v":""},{"$f":"IF(AND($A45<>0,$A45<>\"\"),LOOKUP($A45,Load_Switch_NFET[PARTNUMBER],Load_Switch_NFET[QGTH]),\"\")","v":""},{"$f":"IF(AND($A45<>0,$A45<>\"\"),LOOKUP($A45,Load_Switch_NFET[PARTNUMBER],Load_Switch_NFET[VMILLER]),\"\")","v":""},{"$f":"IF(AND($A45<>0,$A45<>\"\"),LOOKUP($A45,Load_Switch_NFET[PARTNUMBER],Load_Switch_NFET[COSS_AT_VDSSPEC]),\"\")","v":""},"","","","",{"$f":"IF(AND($A45<>0,$A45<>\"\"),LOOKUP($A45,Load_Switch_NFET[PARTNUMBER],Load_Switch_NFET[1KPRICE]),\"\")","v":""},{"$f":"IF(AND($A45<>0,$A45<>\"\"),LOOKUP(A45,Load_Switch_NFET[PARTNUMBER],Load_Switch_NFET[TI_EQ_PACKAGE]),\"\")","v":""},"Invalid Part"]
[{"$f":"IF(CH=\"N\",NLogic!B46,\"\")","v":0},{"$f":"IF(OR($A46=0,$A46=\"\"),\"0\",IF(LOOKUP($A46,Load_Switch_NFET[PARTNUMBER],Load_Switch_NFET[RDSON18])=\"(NULL)\",\"0\",\"1\"))","v":"0"},{"$f":"IF(OR($A46=0,$A46=\"\"),\"0\",IF(LOOKUP($A46,Load_Switch_NFET[PARTNUMBER],Load_Switch_NFET[RDSON25])=\"(NULL)\",\"0\",\"1\"))","v":"0"},{"$f":"IF(OR($A46=0,$A46=\"\"),\"0\",IF(LOOKUP($A46,Load_Switch_NFET[PARTNUMBER],Load_Switch_NFET[RDSON3])=\"(NULL)\",\"0\",\"1\"))","v":"0"},{"$f":"IF(OR($A46=0,$A46=\"\"),\"0\",IF(LOOKUP($A46,Load_Switch_NFET[PARTNUMBER],Load_Switch_NFET[RDSON45])=\"(NULL)\",\"0\",\"1\"))","v":"0"},{"$f":"IF(OR($A46=0,$A46=\"\"),\"0\",IF(LOOKUP($A46,Load_Switch_NFET[PARTNUMBER],Load_Switch_NFET[RDSON6])=\"(NULL)\",\"0\",\"1\"))","v":"0"},{"$f":"IF(OR($A46=0,$A46=\"\"),\"0\",IF(LOOKUP($A46,Load_Switch_NFET[PARTNUMBER],Load_Switch_NFET[RDSON8])=\"(NULL)\",\"0\",\"1\"))","v":"0"},{"$f":"IF(OR($A46=0,$A46=\"\"),\"0\",IF(LOOKUP($A46,Load_Switch_NFET[PARTNUMBER],Load_Switch_NFET[RDSON10])=\"(NULL)\",\"0\",\"1\"))","v":"0"},false,false,false,false,false,false,false,false,false,false,false,false,false,false,false,{"$f":"IF(W46,LOOKUP(A46,Load_Switch_NFET[PARTNUMBER],Load_Switch_NFET[RDSON10])*1000,IF(V46,LOOKUP(A46,Load_Switch_NFET[PARTNUMBER],Load_Switch_NFET[RDSON8])*1000,IF(U46,LOOKUP(A46,Load_Switch_NFET[PARTNUMBER],Load_Switch_NFET[RDSON6])*1000,IF(T46,LOOKUP(A46,Load_Switch_NFET[PARTNUMBER],Load_Switch_NFET[RDSON45])*1000,IF(S46,LOOKUP(A46,Load_Switch_NFET[PARTNUMBER],Load_Switch_NFET[RDSON3])*1000,IF(R46,LOOKUP(A46,Load_Switch_NFET[PARTNUMBER],Load_Switch_NFET[RDSON25])*1000,IF(Q46,LOOKUP(A46,Load_Switch_NFET[PARTNUMBER],Load_Switch_NFET[RDSON18])*1000,\"\")))))))","v":""},{"$f":"IF(AND(A46<>0,A46<>\"\"),X46*(1+(Tj-25)*(LOOKUP(A46,Load_Switch_NFET[PARTNUMBER],Load_Switch_NFET[RDSDELTA])/((LOOKUP(A46,Load_Switch_NFET[PARTNUMBER],Load_Switch_NFET[TJMAX])-25)))),\"\")","v":""},{"$f":"IF(AND(A46<>0,A46<>\"\"),LOOKUP(A46,Load_Switch_NFET[PARTNUMBER],Load_Switch_NFET[VTHMAX]),\"\")","v":""},{"$f":"IF(AND(A46<>0,A46<>\"\"),LOOKUP(A46,Load_Switch_NFET[PARTNUMBER],Load_Switch_NFET[VTHMIN]),\"\")","v":""},"#N/A",{"$f":"IF(AND(A46<>0,A46<>\"\"),LOOKUP(A46,Load_Switch_NFET[PARTNUMBER],Load_Switch_NFET[RGIMAX]),\"\")","v":""},{"$f":"IF(AND($A46<>0,$A46<>\"\"),LOOKUP($A46,Load_Switch_NFET[PARTNUMBER],Load_Switch_NFET[QGTYP]),\"\")","v":""},{"$f":"IF(AND($A46<>0,$A46<>\"\"),LOOKUP($A46,Load_Switch_NFET[PARTNUMBER],Load_Switch_NFET[QGS]),\"\")","v":""},{"$f":"IF(AND($A46<>0,$A46<>\"\"),LOOKUP($A46,Load_Switch_NFET[PARTNUMBER],Load_Switch_NFET[QGD]),\"\")","v":""},{"$f":"IF(AND($A46<>0,$A46<>\"\"),LOOKUP($A46,Load_Switch_NFET[PARTNUMBER],Load_Switch_NFET[QGTH]),\"\")","v":""},{"$f":"IF(AND($A46<>0,$A46<>\"\"),LOOKUP($A46,Load_Switch_NFET[PARTNUMBER],Load_Switch_NFET[VMILLER]),\"\")","v":""},{"$f":"IF(AND($A46<>0,$A46<>\"\"),LOOKUP($A46,Load_Switch_NFET[PARTNUMBER],Load_Switch_NFET[COSS_AT_VDSSPEC]),\"\")","v":""},"","","","",{"$f":"IF(AND($A46<>0,$A46<>\"\"),LOOKUP($A46,Load_Switch_NFET[PARTNUMBER],Load_Switch_NFET[1KPRICE]),\"\")","v":""},{"$f":"IF(AND($A46<>0,$A46<>\"\"),LOOKUP(A46,Load_Switch_NFET[PARTNUMBER],Load_Switch_NFET[TI_EQ_PACKAGE]),\"\")","v":""},"Invalid Part"]
[{"$f":"IF(CH=\"N\",NLogic!B47,\"\")","v":0},{"$f":"IF(OR($A47=0,$A47=\"\"),\"0\",IF(LOOKUP($A47,Load_Switch_NFET[PARTNUMBER],Load_Switch_NFET[RDSON18])=\"(NULL)\",\"0\",\"1\"))","v":"0"},{"$f":"IF(OR($A47=0,$A47=\"\"),\"0\",IF(LOOKUP($A47,Load_Switch_NFET[PARTNUMBER],Load_Switch_NFET[RDSON25])=\"(NULL)\",\"0\",\"1\"))","v":"0"},{"$f":"IF(OR($A47=0,$A47=\"\"),\"0\",IF(LOOKUP($A47,Load_Switch_NFET[PARTNUMBER],Load_Switch_NFET[RDSON3])=\"(NULL)\",\"0\",\"1\"))","v":"0"},{"$f":"IF(OR($A47=0,$A47=\"\"),\"0\",IF(LOOKUP($A47,Load_Switch_NFET[PARTNUMBER],Load_Switch_NFET[RDSON45])=\"(NULL)\",\"0\",\"1\"))","v":"0"},{"$f":"IF(OR($A47=0,$A47=\"\"),\"0\",IF(LOOKUP($A47,Load_Switch_NFET[PARTNUMBER],Load_Switch_NFET[RDSON6])=\"(NULL)\",\"0\",\"1\"))","v":"0"},{"$f":"IF(OR($A47=0,$A47=\"\"),\"0\",IF(LOOKUP($A47,Load_Switch_NFET[PARTNUMBER],Load_Switch_NFET[RDSON8])=\"(NULL)\",\"0\",\"1\"))","v":"0"},{"$f":"IF(OR($A47=0,$A47=\"\"),\"0\",IF(LOOKUP($A47,Load_Switch_NFET[PARTNUMBER],Load_Switch_NFET[RDSON10])=\"(NULL)\",\"0\",\"1\"))","v":"0"},false,false,false,false,false,false,false,false,false,false,false,false,false,false,false,{"$f":"IF(W47,LOOKUP(A47,Load_Switch_NFET[PARTNUMBER],Load_Switch_NFET[RDSON10])*1000,IF(V47,LOOKUP(A47,Load_Switch_NFET[PARTNUMBER],Load_Switch_NFET[RDSON8])*1000,IF(U47,LOOKUP(A47,Load_Switch_NFET[PARTNUMBER],Load_Switch_NFET[RDSON6])*1000,IF(T47,LOOKUP(A47,Load_Switch_NFET[PARTNUMBER],Load_Switch_NFET[RDSON45])*1000,IF(S47,LOOKUP(A47,Load_Switch_NFET[PARTNUMBER],Load_Switch_NFET[RDSON3])*1000,IF(R47,LOOKUP(A47,Load_Switch_NFET[PARTNUMBER],Load_Switch_NFET[RDSON25])*1000,IF(Q47,LOOKUP(A47,Load_Switch_NFET[PARTNUMBER],Load_Switch_NFET[RDSON18])*1000,\"\")))))))","v":""},{"$f":"IF(AND(A47<>0,A47<>\"\"),X47*(1+(Tj-25)*(LOOKUP(A47,Load_Switch_NFET[PARTNUMBER],Load_Switch_NFET[RDSDELTA])/((LOOKUP(A47,Load_Switch_NFET[PARTNUMBER],Load_Switch_NFET[TJMAX])-25)))),\"\")","v":""},{"$f":"IF(AND(A47<>0,A47<>\"\"),LOOKUP(A47,Load_Switch_NFET[PARTNUMBER],Load_Switch_NFET[VTHMAX]),\"\")","v":""},{"$f":"IF(AND(A47<>0,A47<>\"\"),LOOKUP(A47,Load_Switch_NFET[PARTNUMBER],Load_Switch_NFET[VTHMIN]),\"\")","v":""},"#N/A",{"$f":"IF(AND(A47<>0,A47<>\"\"),LOOKUP(A47,Load_Switch_NFET[PARTNUMBER],Load_Switch_NFET[RGIMAX]),\"\")","v":""},{"$f":"IF(AND($A47<>0,$A47<>\"\"),LOOKUP($A47,Load_Switch_NFET[PARTNUMBER],Load_Switch_NFET[QGTYP]),\"\")","v":""},{"$f":"IF(AND($A47<>0,$A47<>\"\"),LOOKUP($A47,Load_Switch_NFET[PARTNUMBER],Load_Switch_NFET[QGS]),\"\")","v":""},{"$f":"IF(AND($A47<>0,$A47<>\"\"),LOOKUP($A47,Load_Switch_NFET[PARTNUMBER],Load_Switch_NFET[QGD]),\"\")","v":""},{"$f":"IF(AND($A47<>0,$A47<>\"\"),LOOKUP($A47,Load_Switch_NFET[PARTNUMBER],Load_Switch_NFET[QGTH]),\"\")","v":""},{"$f":"IF(AND($A47<>0,$A47<>\"\"),LOOKUP($A47,Load_Switch_NFET[PARTNUMBER],Load_Switch_NFET[VMILLER]),\"\")","v":""},{"$f":"IF(AND($A47<>0,$A47<>\"\"),LOOKUP($A47,Load_Switch_NFET[PARTNUMBER],Load_Switch_NFET[COSS_AT_VDSSPEC]),\"\")","v":""},"","","","",{"$f":"IF(AND($A47<>0,$A47<>\"\"),LOOKUP($A47,Load_Switch_NFET[PARTNUMBER],Load_Switch_NFET[1KPRICE]),\"\")","v":""},{"$f":"IF(AND($A47<>0,$A47<>\"\"),LOOKUP(A47,Load_Switch_NFET[PARTNUMBER],Load_Switch_NFET[TI_EQ_PACKAGE]),\"\")","v":""},"Invalid Part"]
[{"$f":"IF(CH=\"N\",NLogic!B48,\"\")","v":0},{"$f":"IF(OR($A48=0,$A48=\"\"),\"0\",IF(LOOKUP($A48,Load_Switch_NFET[PARTNUMBER],Load_Switch_NFET[RDSON18])=\"(NULL)\",\"0\",\"1\"))","v":"0"},{"$f":"IF(OR($A48=0,$A48=\"\"),\"0\",IF(LOOKUP($A48,Load_Switch_NFET[PARTNUMBER],Load_Switch_NFET[RDSON25])=\"(NULL)\",\"0\",\"1\"))","v":"0"},{"$f":"IF(OR($A48=0,$A48=\"\"),\"0\",IF(LOOKUP($A48,Load_Switch_NFET[PARTNUMBER],Load_Switch_NFET[RDSON3])=\"(NULL)\",\"0\",\"1\"))","v":"0"},{"$f":"IF(OR($A48=0,$A48=\"\"),\"0\",IF(LOOKUP($A48,Load_Switch_NFET[PARTNUMBER],Load_Switch_NFET[RDSON45])=\"(NULL)\",\"0\",\"1\"))","v":"0"},{"$f":"IF(OR($A48=0,$A48=\"\"),\"0\",IF(LOOKUP($A48,Load_Switch_NFET[PARTNUMBER],Load_Switch_NFET[RDSON6])=\"(NULL)\",\"0\",\"1\"))","v":"0"},{"$f":"IF(OR($A48=0,$A48=\"\"),\"0\",IF(LOOKUP($A48,Load_Switch_NFET[PARTNUMBER],Load_Switch_NFET[RDSON8])=\"(NULL)\",\"0\",\"1\"))","v":"0"},{"$f":"IF(OR($A48=0,$A48=\"\"),\"0\",IF(LOOKUP($A48,Load_Switch_NFET[PARTNUMBER],Load_Switch_NFET[RDSON10])=\"(NULL)\",\"0\",\"1\"))","v":"0"},false,false,false,false,false,false,false,false,false,false,false,false,false,false,false,{"$f":"IF(W48,LOOKUP(A48,Load_Switch_NFET[PARTNUMBER],Load_Switch_NFET[RDSON10])*1000,IF(V48,LOOKUP(A48,Load_Switch_NFET[PARTNUMBER],Load_Switch_NFET[RDSON8])*1000,IF(U48,LOOKUP(A48,Load_Switch_NFET[PARTNUMBER],Load_Switch_NFET[RDSON6])*1000,IF(T48,LOOKUP(A48,Load_Switch_NFET[PARTNUMBER],Load_Switch_NFET[RDSON45])*1000,IF(S48,LOOKUP(A48,Load_Switch_NFET[PARTNUMBER],Load_Switch_NFET[RDSON3])*1000,IF(R48,LOOKUP(A48,Load_Switch_NFET[PARTNUMBER],Load_Switch_NFET[RDSON25])*1000,IF(Q48,LOOKUP(A48,Load_Switch_NFET[PARTNUMBER],Load_Switch_NFET[RDSON18])*1000,\"\")))))))","v":""},{"$f":"IF(AND(A48<>0,A48<>\"\"),X48*(1+(Tj-25)*(LOOKUP(A48,Load_Switch_NFET[PARTNUMBER],Load_Switch_NFET[RDSDELTA])/((LOOKUP(A48,Load_Switch_NFET[PARTNUMBER],Load_Switch_NFET[TJMAX])-25)))),\"\")","v":""},{"$f":"IF(AND(A48<>0,A48<>\"\"),LOOKUP(A48,Load_Switch_NFET[PARTNUMBER],Load_Switch_NFET[VTHMAX]),\"\")","v":""},{"$f":"IF(AND(A48<>0,A48<>\"\"),LOOKUP(A48,Load_Switch_NFET[PARTNUMBER],Load_Switch_NFET[VTHMIN]),\"\")","v":""},"#N/A",{"$f":"IF(AND(A48<>0,A48<>\"\"),LOOKUP(A48,Load_Switch_NFET[PARTNUMBER],Load_Switch_NFET[RGIMAX]),\"\")","v":""},{"$f":"IF(AND($A48<>0,$A48<>\"\"),LOOKUP($A48,Load_Switch_NFET[PARTNUMBER],Load_Switch_NFET[QGTYP]),\"\")","v":""},{"$f":"IF(AND($A48<>0,$A48<>\"\"),LOOKUP($A48,Load_Switch_NFET[PARTNUMBER],Load_Switch_NFET[QGS]),\"\")","v":""},{"$f":"IF(AND($A48<>0,$A48<>\"\"),LOOKUP($A48,Load_Switch_NFET[PARTNUMBER],Load_Switch_NFET[QGD]),\"\")","v":""},{"$f":"IF(AND($A48<>0,$A48<>\"\"),LOOKUP($A48,Load_Switch_NFET[PARTNUMBER],Load_Switch_NFET[QGTH]),\"\")","v":""},{"$f":"IF(AND($A48<>0,$A48<>\"\"),LOOKUP($A48,Load_Switch_NFET[PARTNUMBER],Load_Switch_NFET[VMILLER]),\"\")","v":""},{"$f":"IF(AND($A48<>0,$A48<>\"\"),LOOKUP($A48,Load_Switch_NFET[PARTNUMBER],Load_Switch_NFET[COSS_AT_VDSSPEC]),\"\")","v":""},"","","","",{"$f":"IF(AND($A48<>0,$A48<>\"\"),LOOKUP($A48,Load_Switch_NFET[PARTNUMBER],Load_Switch_NFET[1KPRICE]),\"\")","v":""},{"$f":"IF(AND($A48<>0,$A48<>\"\"),LOOKUP(A48,Load_Switch_NFET[PARTNUMBER],Load_Switch_NFET[TI_EQ_PACKAGE]),\"\")","v":""},"Invalid Part"]
[{"$f":"IF(CH=\"N\",NLogic!B49,\"\")","v":0},{"$f":"IF(OR($A49=0,$A49=\"\"),\"0\",IF(LOOKUP($A49,Load_Switch_NFET[PARTNUMBER],Load_Switch_NFET[RDSON18])=\"(NULL)\",\"0\",\"1\"))","v":"0"},{"$f":"IF(OR($A49=0,$A49=\"\"),\"0\",IF(LOOKUP($A49,Load_Switch_NFET[PARTNUMBER],Load_Switch_NFET[RDSON25])=\"(NULL)\",\"0\",\"1\"))","v":"0"},{"$f":"IF(OR($A49=0,$A49=\"\"),\"0\",IF(LOOKUP($A49,Load_Switch_NFET[PARTNUMBER],Load_Switch_NFET[RDSON3])=\"(NULL)\",\"0\",\"1\"))","v":"0"},{"$f":"IF(OR($A49=0,$A49=\"\"),\"0\",IF(LOOKUP($A49,Load_Switch_NFET[PARTNUMBER],Load_Switch_NFET[RDSON45])=\"(NULL)\",\"0\",\"1\"))","v":"0"},{"$f":"IF(OR($A49=0,$A49=\"\"),\"0\",IF(LOOKUP($A49,Load_Switch_NFET[PARTNUMBER],Load_Switch_NFET[RDSON6])=\"(NULL)\",\"0\",\"1\"))","v":"0"},{"$f":"IF(OR($A49=0,$A49=\"\"),\"0\",IF(LOOKUP($A49,Load_Switch_NFET[PARTNUMBER],Load_Switch_NFET[RDSON8])=\"(NULL)\",\"0\",\"1\"))","v":"0"},{"$f":"IF(OR($A49=0,$A49=\"\"),\"0\",IF(LOOKUP($A49,Load_Switch_NFET[PARTNUMBER],Load_Switch_NFET[RDSON10])=\"(NULL)\",\"0\",\"1\"))","v":"0"},false,false,false,false,false,false,false,false,false,false,false,false,false,false,false,{"$f":"IF(W49,LOOKUP(A49,Load_Switch_NFET[PARTNUMBER],Load_Switch_NFET[RDSON10])*1000,IF(V49,LOOKUP(A49,Load_Switch_NFET[PARTNUMBER],Load_Switch_NFET[RDSON8])*1000,IF(U49,LOOKUP(A49,Load_Switch_NFET[PARTNUMBER],Load_Switch_NFET[RDSON6])*1000,IF(T49,LOOKUP(A49,Load_Switch_NFET[PARTNUMBER],Load_Switch_NFET[RDSON45])*1000,IF(S49,LOOKUP(A49,Load_Switch_NFET[PARTNUMBER],Load_Switch_NFET[RDSON3])*1000,IF(R49,LOOKUP(A49,Load_Switch_NFET[PARTNUMBER],Load_Switch_NFET[RDSON25])*1000,IF(Q49,LOOKUP(A49,Load_Switch_NFET[PARTNUMBER],Load_Switch_NFET[RDSON18])*1000,\"\")))))))","v":""},{"$f":"IF(AND(A49<>0,A49<>\"\"),X49*(1+(Tj-25)*(LOOKUP(A49,Load_Switch_NFET[PARTNUMBER],Load_Switch_NFET[RDSDELTA])/((LOOKUP(A49,Load_Switch_NFET[PARTNUMBER],Load_Switch_NFET[TJMAX])-25)))),\"\")","v":""},{"$f":"IF(AND(A49<>0,A49<>\"\"),LOOKUP(A49,Load_Switch_NFET[PARTNUMBER],Load_Switch_NFET[VTHMAX]),\"\")","v":""},{"$f":"IF(AND(A49<>0,A49<>\"\"),LOOKUP(A49,Load_Switch_NFET[PARTNUMBER],Load_Switch_NFET[VTHMIN]),\"\")","v":""},"#N/A",{"$f":"IF(AND(A49<>0,A49<>\"\"),LOOKUP(A49,Load_Switch_NFET[PARTNUMBER],Load_Switch_NFET[RGIMAX]),\"\")","v":""},{"$f":"IF(AND($A49<>0,$A49<>\"\"),LOOKUP($A49,Load_Switch_NFET[PARTNUMBER],Load_Switch_NFET[QGTYP]),\"\")","v":""},{"$f":"IF(AND($A49<>0,$A49<>\"\"),LOOKUP($A49,Load_Switch_NFET[PARTNUMBER],Load_Switch_NFET[QGS]),\"\")","v":""},{"$f":"IF(AND($A49<>0,$A49<>\"\"),LOOKUP($A49,Load_Switch_NFET[PARTNUMBER],Load_Switch_NFET[QGD]),\"\")","v":""},{"$f":"IF(AND($A49<>0,$A49<>\"\"),LOOKUP($A49,Load_Switch_NFET[PARTNUMBER],Load_Switch_NFET[QGTH]),\"\")","v":""},{"$f":"IF(AND($A49<>0,$A49<>\"\"),LOOKUP($A49,Load_Switch_NFET[PARTNUMBER],Load_Switch_NFET[VMILLER]),\"\")","v":""},{"$f":"IF(AND($A49<>0,$A49<>\"\"),LOOKUP($A49,Load_Switch_NFET[PARTNUMBER],Load_Switch_NFET[COSS_AT_VDSSPEC]),\"\")","v":""},"","","","",{"$f":"IF(AND($A49<>0,$A49<>\"\"),LOOKUP($A49,Load_Switch_NFET[PARTNUMBER],Load_Switch_NFET[1KPRICE]),\"\")","v":""},{"$f":"IF(AND($A49<>0,$A49<>\"\"),LOOKUP(A49,Load_Switch_NFET[PARTNUMBER],Load_Switch_NFET[TI_EQ_PACKAGE]),\"\")","v":""},"Invalid Part"]
[{"$f":"IF(CH=\"N\",NLogic!B50,\"\")","v":0},{"$f":"IF(OR($A50=0,$A50=\"\"),\"0\",IF(LOOKUP($A50,Load_Switch_NFET[PARTNUMBER],Load_Switch_NFET[RDSON18])=\"(NULL)\",\"0\",\"1\"))","v":"0"},{"$f":"IF(OR($A50=0,$A50=\"\"),\"0\",IF(LOOKUP($A50,Load_Switch_NFET[PARTNUMBER],Load_Switch_NFET[RDSON25])=\"(NULL)\",\"0\",\"1\"))","v":"0"},{"$f":"IF(OR($A50=0,$A50=\"\"),\"0\",IF(LOOKUP($A50,Load_Switch_NFET[PARTNUMBER],Load_Switch_NFET[RDSON3])=\"(NULL)\",\"0\",\"1\"))","v":"0"},{"$f":"IF(OR($A50=0,$A50=\"\"),\"0\",IF(LOOKUP($A50,Load_Switch_NFET[PARTNUMBER],Load_Switch_NFET[RDSON45])=\"(NULL)\",\"0\",\"1\"))","v":"0"},{"$f":"IF(OR($A50=0,$A50=\"\"),\"0\",IF(LOOKUP($A50,Load_Switch_NFET[PARTNUMBER],Load_Switch_NFET[RDSON6])=\"(NULL)\",\"0\",\"1\"))","v":"0"},{"$f":"IF(OR($A50=0,$A50=\"\"),\"0\",IF(LOOKUP($A50,Load_Switch_NFET[PARTNUMBER],Load_Switch_NFET[RDSON8])=\"(NULL)\",\"0\",\"1\"))","v":"0"},{"$f":"IF(OR($A50=0,$A50=\"\"),\"0\",IF(LOOKUP($A50,Load_Switch_NFET[PARTNUMBER],Load_Switch_NFET[RDSON10])=\"(NULL)\",\"0\",\"1\"))","v":"0"},false,false,false,false,false,false,false,false,false,false,false,false,false,false,false,{"$f":"IF(W50,LOOKUP(A50,Load_Switch_NFET[PARTNUMBER],Load_Switch_NFET[RDSON10])*1000,IF(V50,LOOKUP(A50,Load_Switch_NFET[PARTNUMBER],Load_Switch_NFET[RDSON8])*1000,IF(U50,LOOKUP(A50,Load_Switch_NFET[PARTNUMBER],Load_Switch_NFET[RDSON6])*1000,IF(T50,LOOKUP(A50,Load_Switch_NFET[PARTNUMBER],Load_Switch_NFET[RDSON45])*1000,IF(S50,LOOKUP(A50,Load_Switch_NFET[PARTNUMBER],Load_Switch_NFET[RDSON3])*1000,IF(R50,LOOKUP(A50,Load_Switch_NFET[PARTNUMBER],Load_Switch_NFET[RDSON25])*1000,IF(Q50,LOOKUP(A50,Load_Switch_NFET[PARTNUMBER],Load_Switch_NFET[RDSON18])*1000,\"\")))))))","v":""},{"$f":"IF(AND(A50<>0,A50<>\"\"),X50*(1+(Tj-25)*(LOOKUP(A50,Load_Switch_NFET[PARTNUMBER],Load_Switch_NFET[RDSDELTA])/((LOOKUP(A50,Load_Switch_NFET[PARTNUMBER],Load_Switch_NFET[TJMAX])-25)))),\"\")","v":""},{"$f":"IF(AND(A50<>0,A50<>\"\"),LOOKUP(A50,Load_Switch_NFET[PARTNUMBER],Load_Switch_NFET[VTHMAX]),\"\")","v":""},{"$f":"IF(AND(A50<>0,A50<>\"\"),LOOKUP(A50,Load_Switch_NFET[PARTNUMBER],Load_Switch_NFET[VTHMIN]),\"\")","v":""},"#N/A",{"$f":"IF(AND(A50<>0,A50<>\"\"),LOOKUP(A50,Load_Switch_NFET[PARTNUMBER],Load_Switch_NFET[RGIMAX]),\"\")","v":""},{"$f":"IF(AND($A50<>0,$A50<>\"\"),LOOKUP($A50,Load_Switch_NFET[PARTNUMBER],Load_Switch_NFET[QGTYP]),\"\")","v":""},{"$f":"IF(AND($A50<>0,$A50<>\"\"),LOOKUP($A50,Load_Switch_NFET[PARTNUMBER],Load_Switch_NFET[QGS]),\"\")","v":""},{"$f":"IF(AND($A50<>0,$A50<>\"\"),LOOKUP($A50,Load_Switch_NFET[PARTNUMBER],Load_Switch_NFET[QGD]),\"\")","v":""},{"$f":"IF(AND($A50<>0,$A50<>\"\"),LOOKUP($A50,Load_Switch_NFET[PARTNUMBER],Load_Switch_NFET[QGTH]),\"\")","v":""},{"$f":"IF(AND($A50<>0,$A50<>\"\"),LOOKUP($A50,Load_Switch_NFET[PARTNUMBER],Load_Switch_NFET[VMILLER]),\"\")","v":""},{"$f":"IF(AND($A50<>0,$A50<>\"\"),LOOKUP($A50,Load_Switch_NFET[PARTNUMBER],Load_Switch_NFET[COSS_AT_VDSSPEC]),\"\")","v":""},"","","","",{"$f":"IF(AND($A50<>0,$A50<>\"\"),LOOKUP($A50,Load_Switch_NFET[PARTNUMBER],Load_Switch_NFET[1KPRICE]),\"\")","v":""},{"$f":"IF(AND($A50<>0,$A50<>\"\"),LOOKUP(A50,Load_Switch_NFET[PARTNUMBER],Load_Switch_NFET[TI_EQ_PACKAGE]),\"\")","v":""},"Invalid Part"]
[{"$f":"IF(CH=\"N\",NLogic!B51,\"\")","v":0},{"$f":"IF(OR($A51=0,$A51=\"\"),\"0\",IF(LOOKUP($A51,Load_Switch_NFET[PARTNUMBER],Load_Switch_NFET[RDSON18])=\"(NULL)\",\"0\",\"1\"))","v":"0"},{"$f":"IF(OR($A51=0,$A51=\"\"),\"0\",IF(LOOKUP($A51,Load_Switch_NFET[PARTNUMBER],Load_Switch_NFET[RDSON25])=\"(NULL)\",\"0\",\"1\"))","v":"0"},{"$f":"IF(OR($A51=0,$A51=\"\"),\"0\",IF(LOOKUP($A51,Load_Switch_NFET[PARTNUMBER],Load_Switch_NFET[RDSON3])=\"(NULL)\",\"0\",\"1\"))","v":"0"},{"$f":"IF(OR($A51=0,$A51=\"\"),\"0\",IF(LOOKUP($A51,Load_Switch_NFET[PARTNUMBER],Load_Switch_NFET[RDSON45])=\"(NULL)\",\"0\",\"1\"))","v":"0"},{"$f":"IF(OR($A51=0,$A51=\"\"),\"0\",IF(LOOKUP($A51,Load_Switch_NFET[PARTNUMBER],Load_Switch_NFET[RDSON6])=\"(NULL)\",\"0\",\"1\"))","v":"0"},{"$f":"IF(OR($A51=0,$A51=\"\"),\"0\",IF(LOOKUP($A51,Load_Switch_NFET[PARTNUMBER],Load_Switch_NFET[RDSON8])=\"(NULL)\",\"0\",\"1\"))","v":"0"},{"$f":"IF(OR($A51=0,$A51=\"\"),\"0\",IF(LOOKUP($A51,Load_Switch_NFET[PARTNUMBER],Load_Switch_NFET[RDSON10])=\"(NULL)\",\"0\",\"1\"))","v":"0"},false,false,false,false,false,false,false,false,false,false,false,false,false,false,false,{"$f":"IF(W51,LOOKUP(A51,Load_Switch_NFET[PARTNUMBER],Load_Switch_NFET[RDSON10])*1000,IF(V51,LOOKUP(A51,Load_Switch_NFET[PARTNUMBER],Load_Switch_NFET[RDSON8])*1000,IF(U51,LOOKUP(A51,Load_Switch_NFET[PARTNUMBER],Load_Switch_NFET[RDSON6])*1000,IF(T51,LOOKUP(A51,Load_Switch_NFET[PARTNUMBER],Load_Switch_NFET[RDSON45])*1000,IF(S51,LOOKUP(A51,Load_Switch_NFET[PARTNUMBER],Load_Switch_NFET[RDSON3])*1000,IF(R51,LOOKUP(A51,Load_Switch_NFET[PARTNUMBER],Load_Switch_NFET[RDSON25])*1000,IF(Q51,LOOKUP(A51,Load_Switch_NFET[PARTNUMBER],Load_Switch_NFET[RDSON18])*1000,\"\")))))))","v":""},{"$f":"IF(AND(A51<>0,A51<>\"\"),X51*(1+(Tj-25)*(LOOKUP(A51,Load_Switch_NFET[PARTNUMBER],Load_Switch_NFET[RDSDELTA])/((LOOKUP(A51,Load_Switch_NFET[PARTNUMBER],Load_Switch_NFET[TJMAX])-25)))),\"\")","v":""},{"$f":"IF(AND(A51<>0,A51<>\"\"),LOOKUP(A51,Load_Switch_NFET[PARTNUMBER],Load_Switch_NFET[VTHMAX]),\"\")","v":""},{"$f":"IF(AND(A51<>0,A51<>\"\"),LOOKUP(A51,Load_Switch_NFET[PARTNUMBER],Load_Switch_NFET[VTHMIN]),\"\")","v":""},"#N/A",{"$f":"IF(AND(A51<>0,A51<>\"\"),LOOKUP(A51,Load_Switch_NFET[PARTNUMBER],Load_Switch_NFET[RGIMAX]),\"\")","v":""},{"$f":"IF(AND($A51<>0,$A51<>\"\"),LOOKUP($A51,Load_Switch_NFET[PARTNUMBER],Load_Switch_NFET[QGTYP]),\"\")","v":""},{"$f":"IF(AND($A51<>0,$A51<>\"\"),LOOKUP($A51,Load_Switch_NFET[PARTNUMBER],Load_Switch_NFET[QGS]),\"\")","v":""},{"$f":"IF(AND($A51<>0,$A51<>\"\"),LOOKUP($A51,Load_Switch_NFET[PARTNUMBER],Load_Switch_NFET[QGD]),\"\")","v":""},{"$f":"IF(AND($A51<>0,$A51<>\"\"),LOOKUP($A51,Load_Switch_NFET[PARTNUMBER],Load_Switch_NFET[QGTH]),\"\")","v":""},{"$f":"IF(AND($A51<>0,$A51<>\"\"),LOOKUP($A51,Load_Switch_NFET[PARTNUMBER],Load_Switch_NFET[VMILLER]),\"\")","v":""},{"$f":"IF(AND($A51<>0,$A51<>\"\"),LOOKUP($A51,Load_Switch_NFET[PARTNUMBER],Load_Switch_NFET[COSS_AT_VDSSPEC]),\"\")","v":""},"","","","",{"$f":"IF(AND($A51<>0,$A51<>\"\"),LOOKUP($A51,Load_Switch_NFET[PARTNUMBER],Load_Switch_NFET[1KPRICE]),\"\")","v":""},{"$f":"IF(AND($A51<>0,$A51<>\"\"),LOOKUP(A51,Load_Switch_NFET[PARTNUMBER],Load_Switch_NFET[TI_EQ_PACKAGE]),\"\")","v":""},"Invalid Part"]
[{"$f":"IF(CH=\"N\",NLogic!B52,\"\")","v":0},{"$f":"IF(OR($A52=0,$A52=\"\"),\"0\",IF(LOOKUP($A52,Load_Switch_NFET[PARTNUMBER],Load_Switch_NFET[RDSON18])=\"(NULL)\",\"0\",\"1\"))","v":"0"},{"$f":"IF(OR($A52=0,$A52=\"\"),\"0\",IF(LOOKUP($A52,Load_Switch_NFET[PARTNUMBER],Load_Switch_NFET[RDSON25])=\"(NULL)\",\"0\",\"1\"))","v":"0"},{"$f":"IF(OR($A52=0,$A52=\"\"),\"0\",IF(LOOKUP($A52,Load_Switch_NFET[PARTNUMBER],Load_Switch_NFET[RDSON3])=\"(NULL)\",\"0\",\"1\"))","v":"0"},{"$f":"IF(OR($A52=0,$A52=\"\"),\"0\",IF(LOOKUP($A52,Load_Switch_NFET[PARTNUMBER],Load_Switch_NFET[RDSON45])=\"(NULL)\",\"0\",\"1\"))","v":"0"},{"$f":"IF(OR($A52=0,$A52=\"\"),\"0\",IF(LOOKUP($A52,Load_Switch_NFET[PARTNUMBER],Load_Switch_NFET[RDSON6])=\"(NULL)\",\"0\",\"1\"))","v":"0"},{"$f":"IF(OR($A52=0,$A52=\"\"),\"0\",IF(LOOKUP($A52,Load_Switch_NFET[PARTNUMBER],Load_Switch_NFET[RDSON8])=\"(NULL)\",\"0\",\"1\"))","v":"0"},{"$f":"IF(OR($A52=0,$A52=\"\"),\"0\",IF(LOOKUP($A52,Load_Switch_NFET[PARTNUMBER],Load_Switch_NFET[RDSON10])=\"(NULL)\",\"0\",\"1\"))","v":"0"},false,false,false,false,false,false,false,false,false,false,false,false,false,false,false,{"$f":"IF(W52,LOOKUP(A52,Load_Switch_NFET[PARTNUMBER],Load_Switch_NFET[RDSON10])*1000,IF(V52,LOOKUP(A52,Load_Switch_NFET[PARTNUMBER],Load_Switch_NFET[RDSON8])*1000,IF(U52,LOOKUP(A52,Load_Switch_NFET[PARTNUMBER],Load_Switch_NFET[RDSON6])*1000,IF(T52,LOOKUP(A52,Load_Switch_NFET[PARTNUMBER],Load_Switch_NFET[RDSON45])*1000,IF(S52,LOOKUP(A52,Load_Switch_NFET[PARTNUMBER],Load_Switch_NFET[RDSON3])*1000,IF(R52,LOOKUP(A52,Load_Switch_NFET[PARTNUMBER],Load_Switch_NFET[RDSON25])*1000,IF(Q52,LOOKUP(A52,Load_Switch_NFET[PARTNUMBER],Load_Switch_NFET[RDSON18])*1000,\"\")))))))","v":""},{"$f":"IF(AND(A52<>0,A52<>\"\"),X52*(1+(Tj-25)*(LOOKUP(A52,Load_Switch_NFET[PARTNUMBER],Load_Switch_NFET[RDSDELTA])/((LOOKUP(A52,Load_Switch_NFET[PARTNUMBER],Load_Switch_NFET[TJMAX])-25)))),\"\")","v":""},{"$f":"IF(AND(A52<>0,A52<>\"\"),LOOKUP(A52,Load_Switch_NFET[PARTNUMBER],Load_Switch_NFET[VTHMAX]),\"\")","v":""},{"$f":"IF(AND(A52<>0,A52<>\"\"),LOOKUP(A52,Load_Switch_NFET[PARTNUMBER],Load_Switch_NFET[VTHMIN]),\"\")","v":""},"#N/A",{"$f":"IF(AND(A52<>0,A52<>\"\"),LOOKUP(A52,Load_Switch_NFET[PARTNUMBER],Load_Switch_NFET[RGIMAX]),\"\")","v":""},{"$f":"IF(AND($A52<>0,$A52<>\"\"),LOOKUP($A52,Load_Switch_NFET[PARTNUMBER],Load_Switch_NFET[QGTYP]),\"\")","v":""},{"$f":"IF(AND($A52<>0,$A52<>\"\"),LOOKUP($A52,Load_Switch_NFET[PARTNUMBER],Load_Switch_NFET[QGS]),\"\")","v":""},{"$f":"IF(AND($A52<>0,$A52<>\"\"),LOOKUP($A52,Load_Switch_NFET[PARTNUMBER],Load_Switch_NFET[QGD]),\"\")","v":""},{"$f":"IF(AND($A52<>0,$A52<>\"\"),LOOKUP($A52,Load_Switch_NFET[PARTNUMBER],Load_Switch_NFET[QGTH]),\"\")","v":""},{"$f":"IF(AND($A52<>0,$A52<>\"\"),LOOKUP($A52,Load_Switch_NFET[PARTNUMBER],Load_Switch_NFET[VMILLER]),\"\")","v":""},{"$f":"IF(AND($A52<>0,$A52<>\"\"),LOOKUP($A52,Load_Switch_NFET[PARTNUMBER],Load_Switch_NFET[COSS_AT_VDSSPEC]),\"\")","v":""},"","","","",{"$f":"IF(AND($A52<>0,$A52<>\"\"),LOOKUP($A52,Load_Switch_NFET[PARTNUMBER],Load_Switch_NFET[1KPRICE]),\"\")","v":""},{"$f":"IF(AND($A52<>0,$A52<>\"\"),LOOKUP(A52,Load_Switch_NFET[PARTNUMBER],Load_Switch_NFET[TI_EQ_PACKAGE]),\"\")","v":""},"Invalid Part"]
[{"$f":"IF(CH=\"N\",NLogic!B53,\"\")","v":0},{"$f":"IF(OR($A53=0,$A53=\"\"),\"0\",IF(LOOKUP($A53,Load_Switch_NFET[PARTNUMBER],Load_Switch_NFET[RDSON18])=\"(NULL)\",\"0\",\"1\"))","v":"0"},{"$f":"IF(OR($A53=0,$A53=\"\"),\"0\",IF(LOOKUP($A53,Load_Switch_NFET[PARTNUMBER],Load_Switch_NFET[RDSON25])=\"(NULL)\",\"0\",\"1\"))","v":"0"},{"$f":"IF(OR($A53=0,$A53=\"\"),\"0\",IF(LOOKUP($A53,Load_Switch_NFET[PARTNUMBER],Load_Switch_NFET[RDSON3])=\"(NULL)\",\"0\",\"1\"))","v":"0"},{"$f":"IF(OR($A53=0,$A53=\"\"),\"0\",IF(LOOKUP($A53,Load_Switch_NFET[PARTNUMBER],Load_Switch_NFET[RDSON45])=\"(NULL)\",\"0\",\"1\"))","v":"0"},{"$f":"IF(OR($A53=0,$A53=\"\"),\"0\",IF(LOOKUP($A53,Load_Switch_NFET[PARTNUMBER],Load_Switch_NFET[RDSON6])=\"(NULL)\",\"0\",\"1\"))","v":"0"},{"$f":"IF(OR($A53=0,$A53=\"\"),\"0\",IF(LOOKUP($A53,Load_Switch_NFET[PARTNUMBER],Load_Switch_NFET[RDSON8])=\"(NULL)\",\"0\",\"1\"))","v":"0"},{"$f":"IF(OR($A53=0,$A53=\"\"),\"0\",IF(LOOKUP($A53,Load_Switch_NFET[PARTNUMBER],Load_Switch_NFET[RDSON10])=\"(NULL)\",\"0\",\"1\"))","v":"0"},false,false,false,false,false,false,false,false,false,false,false,false,false,false,false,{"$f":"IF(W53,LOOKUP(A53,Load_Switch_NFET[PARTNUMBER],Load_Switch_NFET[RDSON10])*1000,IF(V53,LOOKUP(A53,Load_Switch_NFET[PARTNUMBER],Load_Switch_NFET[RDSON8])*1000,IF(U53,LOOKUP(A53,Load_Switch_NFET[PARTNUMBER],Load_Switch_NFET[RDSON6])*1000,IF(T53,LOOKUP(A53,Load_Switch_NFET[PARTNUMBER],Load_Switch_NFET[RDSON45])*1000,IF(S53,LOOKUP(A53,Load_Switch_NFET[PARTNUMBER],Load_Switch_NFET[RDSON3])*1000,IF(R53,LOOKUP(A53,Load_Switch_NFET[PARTNUMBER],Load_Switch_NFET[RDSON25])*1000,IF(Q53,LOOKUP(A53,Load_Switch_NFET[PARTNUMBER],Load_Switch_NFET[RDSON18])*1000,\"\")))))))","v":""},{"$f":"IF(AND(A53<>0,A53<>\"\"),X53*(1+(Tj-25)*(LOOKUP(A53,Load_Switch_NFET[PARTNUMBER],Load_Switch_NFET[RDSDELTA])/((LOOKUP(A53,Load_Switch_NFET[PARTNUMBER],Load_Switch_NFET[TJMAX])-25)))),\"\")","v":""},{"$f":"IF(AND(A53<>0,A53<>\"\"),LOOKUP(A53,Load_Switch_NFET[PARTNUMBER],Load_Switch_NFET[VTHMAX]),\"\")","v":""},{"$f":"IF(AND(A53<>0,A53<>\"\"),LOOKUP(A53,Load_Switch_NFET[PARTNUMBER],Load_Switch_NFET[VTHMIN]),\"\")","v":""},"#N/A",{"$f":"IF(AND(A53<>0,A53<>\"\"),LOOKUP(A53,Load_Switch_NFET[PARTNUMBER],Load_Switch_NFET[RGIMAX]),\"\")","v":""},{"$f":"IF(AND($A53<>0,$A53<>\"\"),LOOKUP($A53,Load_Switch_NFET[PARTNUMBER],Load_Switch_NFET[QGTYP]),\"\")","v":""},{"$f":"IF(AND($A53<>0,$A53<>\"\"),LOOKUP($A53,Load_Switch_NFET[PARTNUMBER],Load_Switch_NFET[QGS]),\"\")","v":""},{"$f":"IF(AND($A53<>0,$A53<>\"\"),LOOKUP($A53,Load_Switch_NFET[PARTNUMBER],Load_Switch_NFET[QGD]),\"\")","v":""},{"$f":"IF(AND($A53<>0,$A53<>\"\"),LOOKUP($A53,Load_Switch_NFET[PARTNUMBER],Load_Switch_NFET[QGTH]),\"\")","v":""},{"$f":"IF(AND($A53<>0,$A53<>\"\"),LOOKUP($A53,Load_Switch_NFET[PARTNUMBER],Load_Switch_NFET[VMILLER]),\"\")","v":""},{"$f":"IF(AND($A53<>0,$A53<>\"\"),LOOKUP($A53,Load_Switch_NFET[PARTNUMBER],Load_Switch_NFET[COSS_AT_VDSSPEC]),\"\")","v":""},"","","","",{"$f":"IF(AND($A53<>0,$A53<>\"\"),LOOKUP($A53,Load_Switch_NFET[PARTNUMBER],Load_Switch_NFET[1KPRICE]),\"\")","v":""},{"$f":"IF(AND($A53<>0,$A53<>\"\"),LOOKUP(A53,Load_Switch_NFET[PARTNUMBER],Load_Switch_NFET[TI_EQ_PACKAGE]),\"\")","v":""},"Invalid Part"]
[{"$f":"IF(CH=\"N\",NLogic!B54,\"\")","v":0},{"$f":"IF(OR($A54=0,$A54=\"\"),\"0\",IF(LOOKUP($A54,Load_Switch_NFET[PARTNUMBER],Load_Switch_NFET[RDSON18])=\"(NULL)\",\"0\",\"1\"))","v":"0"},{"$f":"IF(OR($A54=0,$A54=\"\"),\"0\",IF(LOOKUP($A54,Load_Switch_NFET[PARTNUMBER],Load_Switch_NFET[RDSON25])=\"(NULL)\",\"0\",\"1\"))","v":"0"},{"$f":"IF(OR($A54=0,$A54=\"\"),\"0\",IF(LOOKUP($A54,Load_Switch_NFET[PARTNUMBER],Load_Switch_NFET[RDSON3])=\"(NULL)\",\"0\",\"1\"))","v":"0"},{"$f":"IF(OR($A54=0,$A54=\"\"),\"0\",IF(LOOKUP($A54,Load_Switch_NFET[PARTNUMBER],Load_Switch_NFET[RDSON45])=\"(NULL)\",\"0\",\"1\"))","v":"0"},{"$f":"IF(OR($A54=0,$A54=\"\"),\"0\",IF(LOOKUP($A54,Load_Switch_NFET[PARTNUMBER],Load_Switch_NFET[RDSON6])=\"(NULL)\",\"0\",\"1\"))","v":"0"},{"$f":"IF(OR($A54=0,$A54=\"\"),\"0\",IF(LOOKUP($A54,Load_Switch_NFET[PARTNUMBER],Load_Switch_NFET[RDSON8])=\"(NULL)\",\"0\",\"1\"))","v":"0"},{"$f":"IF(OR($A54=0,$A54=\"\"),\"0\",IF(LOOKUP($A54,Load_Switch_NFET[PARTNUMBER],Load_Switch_NFET[RDSON10])=\"(NULL)\",\"0\",\"1\"))","v":"0"},false,false,false,false,false,false,false,false,false,false,false,false,false,false,false,{"$f":"IF(W54,LOOKUP(A54,Load_Switch_NFET[PARTNUMBER],Load_Switch_NFET[RDSON10])*1000,IF(V54,LOOKUP(A54,Load_Switch_NFET[PARTNUMBER],Load_Switch_NFET[RDSON8])*1000,IF(U54,LOOKUP(A54,Load_Switch_NFET[PARTNUMBER],Load_Switch_NFET[RDSON6])*1000,IF(T54,LOOKUP(A54,Load_Switch_NFET[PARTNUMBER],Load_Switch_NFET[RDSON45])*1000,IF(S54,LOOKUP(A54,Load_Switch_NFET[PARTNUMBER],Load_Switch_NFET[RDSON3])*1000,IF(R54,LOOKUP(A54,Load_Switch_NFET[PARTNUMBER],Load_Switch_NFET[RDSON25])*1000,IF(Q54,LOOKUP(A54,Load_Switch_NFET[PARTNUMBER],Load_Switch_NFET[RDSON18])*1000,\"\")))))))","v":""},{"$f":"IF(AND(A54<>0,A54<>\"\"),X54*(1+(Tj-25)*(LOOKUP(A54,Load_Switch_NFET[PARTNUMBER],Load_Switch_NFET[RDSDELTA])/((LOOKUP(A54,Load_Switch_NFET[PARTNUMBER],Load_Switch_NFET[TJMAX])-25)))),\"\")","v":""},{"$f":"IF(AND(A54<>0,A54<>\"\"),LOOKUP(A54,Load_Switch_NFET[PARTNUMBER],Load_Switch_NFET[VTHMAX]),\"\")","v":""},{"$f":"IF(AND(A54<>0,A54<>\"\"),LOOKUP(A54,Load_Switch_NFET[PARTNUMBER],Load_Switch_NFET[VTHMIN]),\"\")","v":""},"#N/A",{"$f":"IF(AND(A54<>0,A54<>\"\"),LOOKUP(A54,Load_Switch_NFET[PARTNUMBER],Load_Switch_NFET[RGIMAX]),\"\")","v":""},{"$f":"IF(AND($A54<>0,$A54<>\"\"),LOOKUP($A54,Load_Switch_NFET[PARTNUMBER],Load_Switch_NFET[QGTYP]),\"\")","v":""},{"$f":"IF(AND($A54<>0,$A54<>\"\"),LOOKUP($A54,Load_Switch_NFET[PARTNUMBER],Load_Switch_NFET[QGS]),\"\")","v":""},{"$f":"IF(AND($A54<>0,$A54<>\"\"),LOOKUP($A54,Load_Switch_NFET[PARTNUMBER],Load_Switch_NFET[QGD]),\"\")","v":""},{"$f":"IF(AND($A54<>0,$A54<>\"\"),LOOKUP($A54,Load_Switch_NFET[PARTNUMBER],Load_Switch_NFET[QGTH]),\"\")","v":""},{"$f":"IF(AND($A54<>0,$A54<>\"\"),LOOKUP($A54,Load_Switch_NFET[PARTNUMBER],Load_Switch_NFET[VMILLER]),\"\")","v":""},{"$f":"IF(AND($A54<>0,$A54<>\"\"),LOOKUP($A54,Load_Switch_NFET[PARTNUMBER],Load_Switch_NFET[COSS_AT_VDSSPEC]),\"\")","v":""},"","","","",{"$f":"IF(AND($A54<>0,$A54<>\"\"),LOOKUP($A54,Load_Switch_NFET[PARTNUMBER],Load_Switch_NFET[1KPRICE]),\"\")","v":""},{"$f":"IF(AND($A54<>0,$A54<>\"\"),LOOKUP(A54,Load_Switch_NFET[PARTNUMBER],Load_Switch_NFET[TI_EQ_PACKAGE]),\"\")","v":""},"Invalid Part"]
[{"$f":"IF(CH=\"N\",NLogic!B55,\"\")","v":0},{"$f":"IF(OR($A55=0,$A55=\"\"),\"0\",IF(LOOKUP($A55,Load_Switch_NFET[PARTNUMBER],Load_Switch_NFET[RDSON18])=\"(NULL)\",\"0\",\"1\"))","v":"0"},{"$f":"IF(OR($A55=0,$A55=\"\"),\"0\",IF(LOOKUP($A55,Load_Switch_NFET[PARTNUMBER],Load_Switch_NFET[RDSON25])=\"(NULL)\",\"0\",\"1\"))","v":"0"},{"$f":"IF(OR($A55=0,$A55=\"\"),\"0\",IF(LOOKUP($A55,Load_Switch_NFET[PARTNUMBER],Load_Switch_NFET[RDSON3])=\"(NULL)\",\"0\",\"1\"))","v":"0"},{"$f":"IF(OR($A55=0,$A55=\"\"),\"0\",IF(LOOKUP($A55,Load_Switch_NFET[PARTNUMBER],Load_Switch_NFET[RDSON45])=\"(NULL)\",\"0\",\"1\"))","v":"0"},{"$f":"IF(OR($A55=0,$A55=\"\"),\"0\",IF(LOOKUP($A55,Load_Switch_NFET[PARTNUMBER],Load_Switch_NFET[RDSON6])=\"(NULL)\",\"0\",\"1\"))","v":"0"},{"$f":"IF(OR($A55=0,$A55=\"\"),\"0\",IF(LOOKUP($A55,Load_Switch_NFET[PARTNUMBER],Load_Switch_NFET[RDSON8])=\"(NULL)\",\"0\",\"1\"))","v":"0"},{"$f":"IF(OR($A55=0,$A55=\"\"),\"0\",IF(LOOKUP($A55,Load_Switch_NFET[PARTNUMBER],Load_Switch_NFET[RDSON10])=\"(NULL)\",\"0\",\"1\"))","v":"0"},false,false,false,false,false,false,false,false,false,false,false,false,false,false,false,{"$f":"IF(W55,LOOKUP(A55,Load_Switch_NFET[PARTNUMBER],Load_Switch_NFET[RDSON10])*1000,IF(V55,LOOKUP(A55,Load_Switch_NFET[PARTNUMBER],Load_Switch_NFET[RDSON8])*1000,IF(U55,LOOKUP(A55,Load_Switch_NFET[PARTNUMBER],Load_Switch_NFET[RDSON6])*1000,IF(T55,LOOKUP(A55,Load_Switch_NFET[PARTNUMBER],Load_Switch_NFET[RDSON45])*1000,IF(S55,LOOKUP(A55,Load_Switch_NFET[PARTNUMBER],Load_Switch_NFET[RDSON3])*1000,IF(R55,LOOKUP(A55,Load_Switch_NFET[PARTNUMBER],Load_Switch_NFET[RDSON25])*1000,IF(Q55,LOOKUP(A55,Load_Switch_NFET[PARTNUMBER],Load_Switch_NFET[RDSON18])*1000,\"\")))))))","v":""},{"$f":"IF(AND(A55<>0,A55<>\"\"),X55*(1+(Tj-25)*(LOOKUP(A55,Load_Switch_NFET[PARTNUMBER],Load_Switch_NFET[RDSDELTA])/((LOOKUP(A55,Load_Switch_NFET[PARTNUMBER],Load_Switch_NFET[TJMAX])-25)))),\"\")","v":""},{"$f":"IF(AND(A55<>0,A55<>\"\"),LOOKUP(A55,Load_Switch_NFET[PARTNUMBER],Load_Switch_NFET[VTHMAX]),\"\")","v":""},{"$f":"IF(AND(A55<>0,A55<>\"\"),LOOKUP(A55,Load_Switch_NFET[PARTNUMBER],Load_Switch_NFET[VTHMIN]),\"\")","v":""},"#N/A",{"$f":"IF(AND(A55<>0,A55<>\"\"),LOOKUP(A55,Load_Switch_NFET[PARTNUMBER],Load_Switch_NFET[RGIMAX]),\"\")","v":""},{"$f":"IF(AND($A55<>0,$A55<>\"\"),LOOKUP($A55,Load_Switch_NFET[PARTNUMBER],Load_Switch_NFET[QGTYP]),\"\")","v":""},{"$f":"IF(AND($A55<>0,$A55<>\"\"),LOOKUP($A55,Load_Switch_NFET[PARTNUMBER],Load_Switch_NFET[QGS]),\"\")","v":""},{"$f":"IF(AND($A55<>0,$A55<>\"\"),LOOKUP($A55,Load_Switch_NFET[PARTNUMBER],Load_Switch_NFET[QGD]),\"\")","v":""},{"$f":"IF(AND($A55<>0,$A55<>\"\"),LOOKUP($A55,Load_Switch_NFET[PARTNUMBER],Load_Switch_NFET[QGTH]),\"\")","v":""},{"$f":"IF(AND($A55<>0,$A55<>\"\"),LOOKUP($A55,Load_Switch_NFET[PARTNUMBER],Load_Switch_NFET[VMILLER]),\"\")","v":""},{"$f":"IF(AND($A55<>0,$A55<>\"\"),LOOKUP($A55,Load_Switch_NFET[PARTNUMBER],Load_Switch_NFET[COSS_AT_VDSSPEC]),\"\")","v":""},"","","","",{"$f":"IF(AND($A55<>0,$A55<>\"\"),LOOKUP($A55,Load_Switch_NFET[PARTNUMBER],Load_Switch_NFET[1KPRICE]),\"\")","v":""},{"$f":"IF(AND($A55<>0,$A55<>\"\"),LOOKUP(A55,Load_Switch_NFET[PARTNUMBER],Load_Switch_NFET[TI_EQ_PACKAGE]),\"\")","v":""},"Invalid Part"]
[{"$f":"IF(CH=\"N\",NLogic!B56,\"\")","v":0},{"$f":"IF(OR($A56=0,$A56=\"\"),\"0\",IF(LOOKUP($A56,Load_Switch_NFET[PARTNUMBER],Load_Switch_NFET[RDSON18])=\"(NULL)\",\"0\",\"1\"))","v":"0"},{"$f":"IF(OR($A56=0,$A56=\"\"),\"0\",IF(LOOKUP($A56,Load_Switch_NFET[PARTNUMBER],Load_Switch_NFET[RDSON25])=\"(NULL)\",\"0\",\"1\"))","v":"0"},{"$f":"IF(OR($A56=0,$A56=\"\"),\"0\",IF(LOOKUP($A56,Load_Switch_NFET[PARTNUMBER],Load_Switch_NFET[RDSON3])=\"(NULL)\",\"0\",\"1\"))","v":"0"},{"$f":"IF(OR($A56=0,$A56=\"\"),\"0\",IF(LOOKUP($A56,Load_Switch_NFET[PARTNUMBER],Load_Switch_NFET[RDSON45])=\"(NULL)\",\"0\",\"1\"))","v":"0"},{"$f":"IF(OR($A56=0,$A56=\"\"),\"0\",IF(LOOKUP($A56,Load_Switch_NFET[PARTNUMBER],Load_Switch_NFET[RDSON6])=\"(NULL)\",\"0\",\"1\"))","v":"0"},{"$f":"IF(OR($A56=0,$A56=\"\"),\"0\",IF(LOOKUP($A56,Load_Switch_NFET[PARTNUMBER],Load_Switch_NFET[RDSON8])=\"(NULL)\",\"0\",\"1\"))","v":"0"},{"$f":"IF(OR($A56=0,$A56=\"\"),\"0\",IF(LOOKUP($A56,Load_Switch_NFET[PARTNUMBER],Load_Switch_NFET[RDSON10])=\"(NULL)\",\"0\",\"1\"))","v":"0"},false,false,false,false,false,false,false,false,false,false,false,false,false,false,false,{"$f":"IF(W56,LOOKUP(A56,Load_Switch_NFET[PARTNUMBER],Load_Switch_NFET[RDSON10])*1000,IF(V56,LOOKUP(A56,Load_Switch_NFET[PARTNUMBER],Load_Switch_NFET[RDSON8])*1000,IF(U56,LOOKUP(A56,Load_Switch_NFET[PARTNUMBER],Load_Switch_NFET[RDSON6])*1000,IF(T56,LOOKUP(A56,Load_Switch_NFET[PARTNUMBER],Load_Switch_NFET[RDSON45])*1000,IF(S56,LOOKUP(A56,Load_Switch_NFET[PARTNUMBER],Load_Switch_NFET[RDSON3])*1000,IF(R56,LOOKUP(A56,Load_Switch_NFET[PARTNUMBER],Load_Switch_NFET[RDSON25])*1000,IF(Q56,LOOKUP(A56,Load_Switch_NFET[PARTNUMBER],Load_Switch_NFET[RDSON18])*1000,\"\")))))))","v":""},{"$f":"IF(AND(A56<>0,A56<>\"\"),X56*(1+(Tj-25)*(LOOKUP(A56,Load_Switch_NFET[PARTNUMBER],Load_Switch_NFET[RDSDELTA])/((LOOKUP(A56,Load_Switch_NFET[PARTNUMBER],Load_Switch_NFET[TJMAX])-25)))),\"\")","v":""},{"$f":"IF(AND(A56<>0,A56<>\"\"),LOOKUP(A56,Load_Switch_NFET[PARTNUMBER],Load_Switch_NFET[VTHMAX]),\"\")","v":""},{"$f":"IF(AND(A56<>0,A56<>\"\"),LOOKUP(A56,Load_Switch_NFET[PARTNUMBER],Load_Switch_NFET[VTHMIN]),\"\")","v":""},"#N/A",{"$f":"IF(AND(A56<>0,A56<>\"\"),LOOKUP(A56,Load_Switch_NFET[PARTNUMBER],Load_Switch_NFET[RGIMAX]),\"\")","v":""},{"$f":"IF(AND($A56<>0,$A56<>\"\"),LOOKUP($A56,Load_Switch_NFET[PARTNUMBER],Load_Switch_NFET[QGTYP]),\"\")","v":""},{"$f":"IF(AND($A56<>0,$A56<>\"\"),LOOKUP($A56,Load_Switch_NFET[PARTNUMBER],Load_Switch_NFET[QGS]),\"\")","v":""},{"$f":"IF(AND($A56<>0,$A56<>\"\"),LOOKUP($A56,Load_Switch_NFET[PARTNUMBER],Load_Switch_NFET[QGD]),\"\")","v":""},{"$f":"IF(AND($A56<>0,$A56<>\"\"),LOOKUP($A56,Load_Switch_NFET[PARTNUMBER],Load_Switch_NFET[QGTH]),\"\")","v":""},{"$f":"IF(AND($A56<>0,$A56<>\"\"),LOOKUP($A56,Load_Switch_NFET[PARTNUMBER],Load_Switch_NFET[VMILLER]),\"\")","v":""},{"$f":"IF(AND($A56<>0,$A56<>\"\"),LOOKUP($A56,Load_Switch_NFET[PARTNUMBER],Load_Switch_NFET[COSS_AT_VDSSPEC]),\"\")","v":""},"","","","",{"$f":"IF(AND($A56<>0,$A56<>\"\"),LOOKUP($A56,Load_Switch_NFET[PARTNUMBER],Load_Switch_NFET[1KPRICE]),\"\")","v":""},{"$f":"IF(AND($A56<>0,$A56<>\"\"),LOOKUP(A56,Load_Switch_NFET[PARTNUMBER],Load_Switch_NFET[TI_EQ_PACKAGE]),\"\")","v":""},"Invalid Part"]
[{"$f":"IF(CH=\"N\",NLogic!B57,\"\")","v":0},{"$f":"IF(OR($A57=0,$A57=\"\"),\"0\",IF(LOOKUP($A57,Load_Switch_NFET[PARTNUMBER],Load_Switch_NFET[RDSON18])=\"(NULL)\",\"0\",\"1\"))","v":"0"},{"$f":"IF(OR($A57=0,$A57=\"\"),\"0\",IF(LOOKUP($A57,Load_Switch_NFET[PARTNUMBER],Load_Switch_NFET[RDSON25])=\"(NULL)\",\"0\",\"1\"))","v":"0"},{"$f":"IF(OR($A57=0,$A57=\"\"),\"0\",IF(LOOKUP($A57,Load_Switch_NFET[PARTNUMBER],Load_Switch_NFET[RDSON3])=\"(NULL)\",\"0\",\"1\"))","v":"0"},{"$f":"IF(OR($A57=0,$A57=\"\"),\"0\",IF(LOOKUP($A57,Load_Switch_NFET[PARTNUMBER],Load_Switch_NFET[RDSON45])=\"(NULL)\",\"0\",\"1\"))","v":"0"},{"$f":"IF(OR($A57=0,$A57=\"\"),\"0\",IF(LOOKUP($A57,Load_Switch_NFET[PARTNUMBER],Load_Switch_NFET[RDSON6])=\"(NULL)\",\"0\",\"1\"))","v":"0"},{"$f":"IF(OR($A57=0,$A57=\"\"),\"0\",IF(LOOKUP($A57,Load_Switch_NFET[PARTNUMBER],Load_Switch_NFET[RDSON8])=\"(NULL)\",\"0\",\"1\"))","v":"0"},{"$f":"IF(OR($A57=0,$A57=\"\"),\"0\",IF(LOOKUP($A57,Load_Switch_NFET[PARTNUMBER],Load_Switch_NFET[RDSON10])=\"(NULL)\",\"0\",\"1\"))","v":"0"},false,false,false,false,false,false,false,false,false,false,false,false,false,false,false,{"$f":"IF(W57,LOOKUP(A57,Load_Switch_NFET[PARTNUMBER],Load_Switch_NFET[RDSON10])*1000,IF(V57,LOOKUP(A57,Load_Switch_NFET[PARTNUMBER],Load_Switch_NFET[RDSON8])*1000,IF(U57,LOOKUP(A57,Load_Switch_NFET[PARTNUMBER],Load_Switch_NFET[RDSON6])*1000,IF(T57,LOOKUP(A57,Load_Switch_NFET[PARTNUMBER],Load_Switch_NFET[RDSON45])*1000,IF(S57,LOOKUP(A57,Load_Switch_NFET[PARTNUMBER],Load_Switch_NFET[RDSON3])*1000,IF(R57,LOOKUP(A57,Load_Switch_NFET[PARTNUMBER],Load_Switch_NFET[RDSON25])*1000,IF(Q57,LOOKUP(A57,Load_Switch_NFET[PARTNUMBER],Load_Switch_NFET[RDSON18])*1000,\"\")))))))","v":""},{"$f":"IF(AND(A57<>0,A57<>\"\"),X57*(1+(Tj-25)*(LOOKUP(A57,Load_Switch_NFET[PARTNUMBER],Load_Switch_NFET[RDSDELTA])/((LOOKUP(A57,Load_Switch_NFET[PARTNUMBER],Load_Switch_NFET[TJMAX])-25)))),\"\")","v":""},{"$f":"IF(AND(A57<>0,A57<>\"\"),LOOKUP(A57,Load_Switch_NFET[PARTNUMBER],Load_Switch_NFET[VTHMAX]),\"\")","v":""},{"$f":"IF(AND(A57<>0,A57<>\"\"),LOOKUP(A57,Load_Switch_NFET[PARTNUMBER],Load_Switch_NFET[VTHMIN]),\"\")","v":""},"#N/A",{"$f":"IF(AND(A57<>0,A57<>\"\"),LOOKUP(A57,Load_Switch_NFET[PARTNUMBER],Load_Switch_NFET[RGIMAX]),\"\")","v":""},{"$f":"IF(AND($A57<>0,$A57<>\"\"),LOOKUP($A57,Load_Switch_NFET[PARTNUMBER],Load_Switch_NFET[QGTYP]),\"\")","v":""},{"$f":"IF(AND($A57<>0,$A57<>\"\"),LOOKUP($A57,Load_Switch_NFET[PARTNUMBER],Load_Switch_NFET[QGS]),\"\")","v":""},{"$f":"IF(AND($A57<>0,$A57<>\"\"),LOOKUP($A57,Load_Switch_NFET[PARTNUMBER],Load_Switch_NFET[QGD]),\"\")","v":""},{"$f":"IF(AND($A57<>0,$A57<>\"\"),LOOKUP($A57,Load_Switch_NFET[PARTNUMBER],Load_Switch_NFET[QGTH]),\"\")","v":""},{"$f":"IF(AND($A57<>0,$A57<>\"\"),LOOKUP($A57,Load_Switch_NFET[PARTNUMBER],Load_Switch_NFET[VMILLER]),\"\")","v":""},{"$f":"IF(AND($A57<>0,$A57<>\"\"),LOOKUP($A57,Load_Switch_NFET[PARTNUMBER],Load_Switch_NFET[COSS_AT_VDSSPEC]),\"\")","v":""},"","","","",{"$f":"IF(AND($A57<>0,$A57<>\"\"),LOOKUP($A57,Load_Switch_NFET[PARTNUMBER],Load_Switch_NFET[1KPRICE]),\"\")","v":""},{"$f":"IF(AND($A57<>0,$A57<>\"\"),LOOKUP(A57,Load_Switch_NFET[PARTNUMBER],Load_Switch_NFET[TI_EQ_PACKAGE]),\"\")","v":""},"Invalid Part"]
[{"$f":"IF(CH=\"N\",NLogic!B58,\"\")","v":0},{"$f":"IF(OR($A58=0,$A58=\"\"),\"0\",IF(LOOKUP($A58,Load_Switch_NFET[PARTNUMBER],Load_Switch_NFET[RDSON18])=\"(NULL)\",\"0\",\"1\"))","v":"0"},{"$f":"IF(OR($A58=0,$A58=\"\"),\"0\",IF(LOOKUP($A58,Load_Switch_NFET[PARTNUMBER],Load_Switch_NFET[RDSON25])=\"(NULL)\",\"0\",\"1\"))","v":"0"},{"$f":"IF(OR($A58=0,$A58=\"\"),\"0\",IF(LOOKUP($A58,Load_Switch_NFET[PARTNUMBER],Load_Switch_NFET[RDSON3])=\"(NULL)\",\"0\",\"1\"))","v":"0"},{"$f":"IF(OR($A58=0,$A58=\"\"),\"0\",IF(LOOKUP($A58,Load_Switch_NFET[PARTNUMBER],Load_Switch_NFET[RDSON45])=\"(NULL)\",\"0\",\"1\"))","v":"0"},{"$f":"IF(OR($A58=0,$A58=\"\"),\"0\",IF(LOOKUP($A58,Load_Switch_NFET[PARTNUMBER],Load_Switch_NFET[RDSON6])=\"(NULL)\",\"0\",\"1\"))","v":"0"},{"$f":"IF(OR($A58=0,$A58=\"\"),\"0\",IF(LOOKUP($A58,Load_Switch_NFET[PARTNUMBER],Load_Switch_NFET[RDSON8])=\"(NULL)\",\"0\",\"1\"))","v":"0"},{"$f":"IF(OR($A58=0,$A58=\"\"),\"0\",IF(LOOKUP($A58,Load_Switch_NFET[PARTNUMBER],Load_Switch_NFET[RDSON10])=\"(NULL)\",\"0\",\"1\"))","v":"0"},false,false,false,false,false,false,false,false,false,false,false,false,false,false,false,{"$f":"IF(W58,LOOKUP(A58,Load_Switch_NFET[PARTNUMBER],Load_Switch_NFET[RDSON10])*1000,IF(V58,LOOKUP(A58,Load_Switch_NFET[PARTNUMBER],Load_Switch_NFET[RDSON8])*1000,IF(U58,LOOKUP(A58,Load_Switch_NFET[PARTNUMBER],Load_Switch_NFET[RDSON6])*1000,IF(T58,LOOKUP(A58,Load_Switch_NFET[PARTNUMBER],Load_Switch_NFET[RDSON45])*1000,IF(S58,LOOKUP(A58,Load_Switch_NFET[PARTNUMBER],Load_Switch_NFET[RDSON3])*1000,IF(R58,LOOKUP(A58,Load_Switch_NFET[PARTNUMBER],Load_Switch_NFET[RDSON25])*1000,IF(Q58,LOOKUP(A58,Load_Switch_NFET[PARTNUMBER],Load_Switch_NFET[RDSON18])*1000,\"\")))))))","v":""},{"$f":"IF(AND(A58<>0,A58<>\"\"),X58*(1+(Tj-25)*(LOOKUP(A58,Load_Switch_NFET[PARTNUMBER],Load_Switch_NFET[RDSDELTA])/((LOOKUP(A58,Load_Switch_NFET[PARTNUMBER],Load_Switch_NFET[TJMAX])-25)))),\"\")","v":""},{"$f":"IF(AND(A58<>0,A58<>\"\"),LOOKUP(A58,Load_Switch_NFET[PARTNUMBER],Load_Switch_NFET[VTHMAX]),\"\")","v":""},{"$f":"IF(AND(A58<>0,A58<>\"\"),LOOKUP(A58,Load_Switch_NFET[PARTNUMBER],Load_Switch_NFET[VTHMIN]),\"\")","v":""},"#N/A",{"$f":"IF(AND(A58<>0,A58<>\"\"),LOOKUP(A58,Load_Switch_NFET[PARTNUMBER],Load_Switch_NFET[RGIMAX]),\"\")","v":""},{"$f":"IF(AND($A58<>0,$A58<>\"\"),LOOKUP($A58,Load_Switch_NFET[PARTNUMBER],Load_Switch_NFET[QGTYP]),\"\")","v":""},{"$f":"IF(AND($A58<>0,$A58<>\"\"),LOOKUP($A58,Load_Switch_NFET[PARTNUMBER],Load_Switch_NFET[QGS]),\"\")","v":""},{"$f":"IF(AND($A58<>0,$A58<>\"\"),LOOKUP($A58,Load_Switch_NFET[PARTNUMBER],Load_Switch_NFET[QGD]),\"\")","v":""},{"$f":"IF(AND($A58<>0,$A58<>\"\"),LOOKUP($A58,Load_Switch_NFET[PARTNUMBER],Load_Switch_NFET[QGTH]),\"\")","v":""},{"$f":"IF(AND($A58<>0,$A58<>\"\"),LOOKUP($A58,Load_Switch_NFET[PARTNUMBER],Load_Switch_NFET[VMILLER]),\"\")","v":""},{"$f":"IF(AND($A58<>0,$A58<>\"\"),LOOKUP($A58,Load_Switch_NFET[PARTNUMBER],Load_Switch_NFET[COSS_AT_VDSSPEC]),\"\")","v":""},"","","","",{"$f":"IF(AND($A58<>0,$A58<>\"\"),LOOKUP($A58,Load_Switch_NFET[PARTNUMBER],Load_Switch_NFET[1KPRICE]),\"\")","v":""},{"$f":"IF(AND($A58<>0,$A58<>\"\"),LOOKUP(A58,Load_Switch_NFET[PARTNUMBER],Load_Switch_NFET[TI_EQ_PACKAGE]),\"\")","v":""},"Invalid Part"]
[{"$f":"IF(CH=\"N\",NLogic!B59,\"\")","v":0},{"$f":"IF(OR($A59=0,$A59=\"\"),\"0\",IF(LOOKUP($A59,Load_Switch_NFET[PARTNUMBER],Load_Switch_NFET[RDSON18])=\"(NULL)\",\"0\",\"1\"))","v":"0"},{"$f":"IF(OR($A59=0,$A59=\"\"),\"0\",IF(LOOKUP($A59,Load_Switch_NFET[PARTNUMBER],Load_Switch_NFET[RDSON25])=\"(NULL)\",\"0\",\"1\"))","v":"0"},{"$f":"IF(OR($A59=0,$A59=\"\"),\"0\",IF(LOOKUP($A59,Load_Switch_NFET[PARTNUMBER],Load_Switch_NFET[RDSON3])=\"(NULL)\",\"0\",\"1\"))","v":"0"},{"$f":"IF(OR($A59=0,$A59=\"\"),\"0\",IF(LOOKUP($A59,Load_Switch_NFET[PARTNUMBER],Load_Switch_NFET[RDSON45])=\"(NULL)\",\"0\",\"1\"))","v":"0"},{"$f":"IF(OR($A59=0,$A59=\"\"),\"0\",IF(LOOKUP($A59,Load_Switch_NFET[PARTNUMBER],Load_Switch_NFET[RDSON6])=\"(NULL)\",\"0\",\"1\"))","v":"0"},{"$f":"IF(OR($A59=0,$A59=\"\"),\"0\",IF(LOOKUP($A59,Load_Switch_NFET[PARTNUMBER],Load_Switch_NFET[RDSON8])=\"(NULL)\",\"0\",\"1\"))","v":"0"},{"$f":"IF(OR($A59=0,$A59=\"\"),\"0\",IF(LOOKUP($A59,Load_Switch_NFET[PARTNUMBER],Load_Switch_NFET[RDSON10])=\"(NULL)\",\"0\",\"1\"))","v":"0"},false,false,false,false,false,false,false,false,false,false,false,false,false,false,false,{"$f":"IF(W59,LOOKUP(A59,Load_Switch_NFET[PARTNUMBER],Load_Switch_NFET[RDSON10])*1000,IF(V59,LOOKUP(A59,Load_Switch_NFET[PARTNUMBER],Load_Switch_NFET[RDSON8])*1000,IF(U59,LOOKUP(A59,Load_Switch_NFET[PARTNUMBER],Load_Switch_NFET[RDSON6])*1000,IF(T59,LOOKUP(A59,Load_Switch_NFET[PARTNUMBER],Load_Switch_NFET[RDSON45])*1000,IF(S59,LOOKUP(A59,Load_Switch_NFET[PARTNUMBER],Load_Switch_NFET[RDSON3])*1000,IF(R59,LOOKUP(A59,Load_Switch_NFET[PARTNUMBER],Load_Switch_NFET[RDSON25])*1000,IF(Q59,LOOKUP(A59,Load_Switch_NFET[PARTNUMBER],Load_Switch_NFET[RDSON18])*1000,\"\")))))))","v":""},{"$f":"IF(AND(A59<>0,A59<>\"\"),X59*(1+(Tj-25)*(LOOKUP(A59,Load_Switch_NFET[PARTNUMBER],Load_Switch_NFET[RDSDELTA])/((LOOKUP(A59,Load_Switch_NFET[PARTNUMBER],Load_Switch_NFET[TJMAX])-25)))),\"\")","v":""},{"$f":"IF(AND(A59<>0,A59<>\"\"),LOOKUP(A59,Load_Switch_NFET[PARTNUMBER],Load_Switch_NFET[VTHMAX]),\"\")","v":""},{"$f":"IF(AND(A59<>0,A59<>\"\"),LOOKUP(A59,Load_Switch_NFET[PARTNUMBER],Load_Switch_NFET[VTHMIN]),\"\")","v":""},"#N/A",{"$f":"IF(AND(A59<>0,A59<>\"\"),LOOKUP(A59,Load_Switch_NFET[PARTNUMBER],Load_Switch_NFET[RGIMAX]),\"\")","v":""},{"$f":"IF(AND($A59<>0,$A59<>\"\"),LOOKUP($A59,Load_Switch_NFET[PARTNUMBER],Load_Switch_NFET[QGTYP]),\"\")","v":""},{"$f":"IF(AND($A59<>0,$A59<>\"\"),LOOKUP($A59,Load_Switch_NFET[PARTNUMBER],Load_Switch_NFET[QGS]),\"\")","v":""},{"$f":"IF(AND($A59<>0,$A59<>\"\"),LOOKUP($A59,Load_Switch_NFET[PARTNUMBER],Load_Switch_NFET[QGD]),\"\")","v":""},{"$f":"IF(AND($A59<>0,$A59<>\"\"),LOOKUP($A59,Load_Switch_NFET[PARTNUMBER],Load_Switch_NFET[QGTH]),\"\")","v":""},{"$f":"IF(AND($A59<>0,$A59<>\"\"),LOOKUP($A59,Load_Switch_NFET[PARTNUMBER],Load_Switch_NFET[VMILLER]),\"\")","v":""},{"$f":"IF(AND($A59<>0,$A59<>\"\"),LOOKUP($A59,Load_Switch_NFET[PARTNUMBER],Load_Switch_NFET[COSS_AT_VDSSPEC]),\"\")","v":""},"","","","",{"$f":"IF(AND($A59<>0,$A59<>\"\"),LOOKUP($A59,Load_Switch_NFET[PARTNUMBER],Load_Switch_NFET[1KPRICE]),\"\")","v":""},{"$f":"IF(AND($A59<>0,$A59<>\"\"),LOOKUP(A59,Load_Switch_NFET[PARTNUMBER],Load_Switch_NFET[TI_EQ_PACKAGE]),\"\")","v":""},"Invalid Part"]
[{"$f":"IF(CH=\"N\",NLogic!B60,\"\")","v":0},{"$f":"IF(OR($A60=0,$A60=\"\"),\"0\",IF(LOOKUP($A60,Load_Switch_NFET[PARTNUMBER],Load_Switch_NFET[RDSON18])=\"(NULL)\",\"0\",\"1\"))","v":"0"},{"$f":"IF(OR($A60=0,$A60=\"\"),\"0\",IF(LOOKUP($A60,Load_Switch_NFET[PARTNUMBER],Load_Switch_NFET[RDSON25])=\"(NULL)\",\"0\",\"1\"))","v":"0"},{"$f":"IF(OR($A60=0,$A60=\"\"),\"0\",IF(LOOKUP($A60,Load_Switch_NFET[PARTNUMBER],Load_Switch_NFET[RDSON3])=\"(NULL)\",\"0\",\"1\"))","v":"0"},{"$f":"IF(OR($A60=0,$A60=\"\"),\"0\",IF(LOOKUP($A60,Load_Switch_NFET[PARTNUMBER],Load_Switch_NFET[RDSON45])=\"(NULL)\",\"0\",\"1\"))","v":"0"},{"$f":"IF(OR($A60=0,$A60=\"\"),\"0\",IF(LOOKUP($A60,Load_Switch_NFET[PARTNUMBER],Load_Switch_NFET[RDSON6])=\"(NULL)\",\"0\",\"1\"))","v":"0"},{"$f":"IF(OR($A60=0,$A60=\"\"),\"0\",IF(LOOKUP($A60,Load_Switch_NFET[PARTNUMBER],Load_Switch_NFET[RDSON8])=\"(NULL)\",\"0\",\"1\"))","v":"0"},{"$f":"IF(OR($A60=0,$A60=\"\"),\"0\",IF(LOOKUP($A60,Load_Switch_NFET[PARTNUMBER],Load_Switch_NFET[RDSON10])=\"(NULL)\",\"0\",\"1\"))","v":"0"},false,false,false,false,false,false,false,false,false,false,false,false,false,false,false,{"$f":"IF(W60,LOOKUP(A60,Load_Switch_NFET[PARTNUMBER],Load_Switch_NFET[RDSON10])*1000,IF(V60,LOOKUP(A60,Load_Switch_NFET[PARTNUMBER],Load_Switch_NFET[RDSON8])*1000,IF(U60,LOOKUP(A60,Load_Switch_NFET[PARTNUMBER],Load_Switch_NFET[RDSON6])*1000,IF(T60,LOOKUP(A60,Load_Switch_NFET[PARTNUMBER],Load_Switch_NFET[RDSON45])*1000,IF(S60,LOOKUP(A60,Load_Switch_NFET[PARTNUMBER],Load_Switch_NFET[RDSON3])*1000,IF(R60,LOOKUP(A60,Load_Switch_NFET[PARTNUMBER],Load_Switch_NFET[RDSON25])*1000,IF(Q60,LOOKUP(A60,Load_Switch_NFET[PARTNUMBER],Load_Switch_NFET[RDSON18])*1000,\"\")))))))","v":""},{"$f":"IF(AND(A60<>0,A60<>\"\"),X60*(1+(Tj-25)*(LOOKUP(A60,Load_Switch_NFET[PARTNUMBER],Load_Switch_NFET[RDSDELTA])/((LOOKUP(A60,Load_Switch_NFET[PARTNUMBER],Load_Switch_NFET[TJMAX])-25)))),\"\")","v":""},{"$f":"IF(AND(A60<>0,A60<>\"\"),LOOKUP(A60,Load_Switch_NFET[PARTNUMBER],Load_Switch_NFET[VTHMAX]),\"\")","v":""},{"$f":"IF(AND(A60<>0,A60<>\"\"),LOOKUP(A60,Load_Switch_NFET[PARTNUMBER],Load_Switch_NFET[VTHMIN]),\"\")","v":""},"#N/A",{"$f":"IF(AND(A60<>0,A60<>\"\"),LOOKUP(A60,Load_Switch_NFET[PARTNUMBER],Load_Switch_NFET[RGIMAX]),\"\")","v":""},{"$f":"IF(AND($A60<>0,$A60<>\"\"),LOOKUP($A60,Load_Switch_NFET[PARTNUMBER],Load_Switch_NFET[QGTYP]),\"\")","v":""},{"$f":"IF(AND($A60<>0,$A60<>\"\"),LOOKUP($A60,Load_Switch_NFET[PARTNUMBER],Load_Switch_NFET[QGS]),\"\")","v":""},{"$f":"IF(AND($A60<>0,$A60<>\"\"),LOOKUP($A60,Load_Switch_NFET[PARTNUMBER],Load_Switch_NFET[QGD]),\"\")","v":""},{"$f":"IF(AND($A60<>0,$A60<>\"\"),LOOKUP($A60,Load_Switch_NFET[PARTNUMBER],Load_Switch_NFET[QGTH]),\"\")","v":""},{"$f":"IF(AND($A60<>0,$A60<>\"\"),LOOKUP($A60,Load_Switch_NFET[PARTNUMBER],Load_Switch_NFET[VMILLER]),\"\")","v":""},{"$f":"IF(AND($A60<>0,$A60<>\"\"),LOOKUP($A60,Load_Switch_NFET[PARTNUMBER],Load_Switch_NFET[COSS_AT_VDSSPEC]),\"\")","v":""},"","","","",{"$f":"IF(AND($A60<>0,$A60<>\"\"),LOOKUP($A60,Load_Switch_NFET[PARTNUMBER],Load_Switch_NFET[1KPRICE]),\"\")","v":""},{"$f":"IF(AND($A60<>0,$A60<>\"\"),LOOKUP(A60,Load_Switch_NFET[PARTNUMBER],Load_Switch_NFET[TI_EQ_PACKAGE]),\"\")","v":""},"Invalid Part"]
[{"$f":"IF(CH=\"N\",NLogic!B61,\"\")","v":0},{"$f":"IF(OR($A61=0,$A61=\"\"),\"0\",IF(LOOKUP($A61,Load_Switch_NFET[PARTNUMBER],Load_Switch_NFET[RDSON18])=\"(NULL)\",\"0\",\"1\"))","v":"0"},{"$f":"IF(OR($A61=0,$A61=\"\"),\"0\",IF(LOOKUP($A61,Load_Switch_NFET[PARTNUMBER],Load_Switch_NFET[RDSON25])=\"(NULL)\",\"0\",\"1\"))","v":"0"},{"$f":"IF(OR($A61=0,$A61=\"\"),\"0\",IF(LOOKUP($A61,Load_Switch_NFET[PARTNUMBER],Load_Switch_NFET[RDSON3])=\"(NULL)\",\"0\",\"1\"))","v":"0"},{"$f":"IF(OR($A61=0,$A61=\"\"),\"0\",IF(LOOKUP($A61,Load_Switch_NFET[PARTNUMBER],Load_Switch_NFET[RDSON45])=\"(NULL)\",\"0\",\"1\"))","v":"0"},{"$f":"IF(OR($A61=0,$A61=\"\"),\"0\",IF(LOOKUP($A61,Load_Switch_NFET[PARTNUMBER],Load_Switch_NFET[RDSON6])=\"(NULL)\",\"0\",\"1\"))","v":"0"},{"$f":"IF(OR($A61=0,$A61=\"\"),\"0\",IF(LOOKUP($A61,Load_Switch_NFET[PARTNUMBER],Load_Switch_NFET[RDSON8])=\"(NULL)\",\"0\",\"1\"))","v":"0"},{"$f":"IF(OR($A61=0,$A61=\"\"),\"0\",IF(LOOKUP($A61,Load_Switch_NFET[PARTNUMBER],Load_Switch_NFET[RDSON10])=\"(NULL)\",\"0\",\"1\"))","v":"0"},false,false,false,false,false,false,false,false,false,false,false,false,false,false,false,{"$f":"IF(W61,LOOKUP(A61,Load_Switch_NFET[PARTNUMBER],Load_Switch_NFET[RDSON10])*1000,IF(V61,LOOKUP(A61,Load_Switch_NFET[PARTNUMBER],Load_Switch_NFET[RDSON8])*1000,IF(U61,LOOKUP(A61,Load_Switch_NFET[PARTNUMBER],Load_Switch_NFET[RDSON6])*1000,IF(T61,LOOKUP(A61,Load_Switch_NFET[PARTNUMBER],Load_Switch_NFET[RDSON45])*1000,IF(S61,LOOKUP(A61,Load_Switch_NFET[PARTNUMBER],Load_Switch_NFET[RDSON3])*1000,IF(R61,LOOKUP(A61,Load_Switch_NFET[PARTNUMBER],Load_Switch_NFET[RDSON25])*1000,IF(Q61,LOOKUP(A61,Load_Switch_NFET[PARTNUMBER],Load_Switch_NFET[RDSON18])*1000,\"\")))))))","v":""},{"$f":"IF(AND(A61<>0,A61<>\"\"),X61*(1+(Tj-25)*(LOOKUP(A61,Load_Switch_NFET[PARTNUMBER],Load_Switch_NFET[RDSDELTA])/((LOOKUP(A61,Load_Switch_NFET[PARTNUMBER],Load_Switch_NFET[TJMAX])-25)))),\"\")","v":""},{"$f":"IF(AND(A61<>0,A61<>\"\"),LOOKUP(A61,Load_Switch_NFET[PARTNUMBER],Load_Switch_NFET[VTHMAX]),\"\")","v":""},{"$f":"IF(AND(A61<>0,A61<>\"\"),LOOKUP(A61,Load_Switch_NFET[PARTNUMBER],Load_Switch_NFET[VTHMIN]),\"\")","v":""},"#N/A",{"$f":"IF(AND(A61<>0,A61<>\"\"),LOOKUP(A61,Load_Switch_NFET[PARTNUMBER],Load_Switch_NFET[RGIMAX]),\"\")","v":""},{"$f":"IF(AND($A61<>0,$A61<>\"\"),LOOKUP($A61,Load_Switch_NFET[PARTNUMBER],Load_Switch_NFET[QGTYP]),\"\")","v":""},{"$f":"IF(AND($A61<>0,$A61<>\"\"),LOOKUP($A61,Load_Switch_NFET[PARTNUMBER],Load_Switch_NFET[QGS]),\"\")","v":""},{"$f":"IF(AND($A61<>0,$A61<>\"\"),LOOKUP($A61,Load_Switch_NFET[PARTNUMBER],Load_Switch_NFET[QGD]),\"\")","v":""},{"$f":"IF(AND($A61<>0,$A61<>\"\"),LOOKUP($A61,Load_Switch_NFET[PARTNUMBER],Load_Switch_NFET[QGTH]),\"\")","v":""},{"$f":"IF(AND($A61<>0,$A61<>\"\"),LOOKUP($A61,Load_Switch_NFET[PARTNUMBER],Load_Switch_NFET[VMILLER]),\"\")","v":""},{"$f":"IF(AND($A61<>0,$A61<>\"\"),LOOKUP($A61,Load_Switch_NFET[PARTNUMBER],Load_Switch_NFET[COSS_AT_VDSSPEC]),\"\")","v":""},"","","","",{"$f":"IF(AND($A61<>0,$A61<>\"\"),LOOKUP($A61,Load_Switch_NFET[PARTNUMBER],Load_Switch_NFET[1KPRICE]),\"\")","v":""},{"$f":"IF(AND($A61<>0,$A61<>\"\"),LOOKUP(A61,Load_Switch_NFET[PARTNUMBER],Load_Switch_NFET[TI_EQ_PACKAGE]),\"\")","v":""},"Invalid Part"]
[{"$f":"IF(CH=\"N\",NLogic!B62,\"\")","v":0},{"$f":"IF(OR($A62=0,$A62=\"\"),\"0\",IF(LOOKUP($A62,Load_Switch_NFET[PARTNUMBER],Load_Switch_NFET[RDSON18])=\"(NULL)\",\"0\",\"1\"))","v":"0"},{"$f":"IF(OR($A62=0,$A62=\"\"),\"0\",IF(LOOKUP($A62,Load_Switch_NFET[PARTNUMBER],Load_Switch_NFET[RDSON25])=\"(NULL)\",\"0\",\"1\"))","v":"0"},{"$f":"IF(OR($A62=0,$A62=\"\"),\"0\",IF(LOOKUP($A62,Load_Switch_NFET[PARTNUMBER],Load_Switch_NFET[RDSON3])=\"(NULL)\",\"0\",\"1\"))","v":"0"},{"$f":"IF(OR($A62=0,$A62=\"\"),\"0\",IF(LOOKUP($A62,Load_Switch_NFET[PARTNUMBER],Load_Switch_NFET[RDSON45])=\"(NULL)\",\"0\",\"1\"))","v":"0"},{"$f":"IF(OR($A62=0,$A62=\"\"),\"0\",IF(LOOKUP($A62,Load_Switch_NFET[PARTNUMBER],Load_Switch_NFET[RDSON6])=\"(NULL)\",\"0\",\"1\"))","v":"0"},{"$f":"IF(OR($A62=0,$A62=\"\"),\"0\",IF(LOOKUP($A62,Load_Switch_NFET[PARTNUMBER],Load_Switch_NFET[RDSON8])=\"(NULL)\",\"0\",\"1\"))","v":"0"},{"$f":"IF(OR($A62=0,$A62=\"\"),\"0\",IF(LOOKUP($A62,Load_Switch_NFET[PARTNUMBER],Load_Switch_NFET[RDSON10])=\"(NULL)\",\"0\",\"1\"))","v":"0"},false,false,false,false,false,false,false,false,false,false,false,false,false,false,false,{"$f":"IF(W62,LOOKUP(A62,Load_Switch_NFET[PARTNUMBER],Load_Switch_NFET[RDSON10])*1000,IF(V62,LOOKUP(A62,Load_Switch_NFET[PARTNUMBER],Load_Switch_NFET[RDSON8])*1000,IF(U62,LOOKUP(A62,Load_Switch_NFET[PARTNUMBER],Load_Switch_NFET[RDSON6])*1000,IF(T62,LOOKUP(A62,Load_Switch_NFET[PARTNUMBER],Load_Switch_NFET[RDSON45])*1000,IF(S62,LOOKUP(A62,Load_Switch_NFET[PARTNUMBER],Load_Switch_NFET[RDSON3])*1000,IF(R62,LOOKUP(A62,Load_Switch_NFET[PARTNUMBER],Load_Switch_NFET[RDSON25])*1000,IF(Q62,LOOKUP(A62,Load_Switch_NFET[PARTNUMBER],Load_Switch_NFET[RDSON18])*1000,\"\")))))))","v":""},{"$f":"IF(AND(A62<>0,A62<>\"\"),X62*(1+(Tj-25)*(LOOKUP(A62,Load_Switch_NFET[PARTNUMBER],Load_Switch_NFET[RDSDELTA])/((LOOKUP(A62,Load_Switch_NFET[PARTNUMBER],Load_Switch_NFET[TJMAX])-25)))),\"\")","v":""},{"$f":"IF(AND(A62<>0,A62<>\"\"),LOOKUP(A62,Load_Switch_NFET[PARTNUMBER],Load_Switch_NFET[VTHMAX]),\"\")","v":""},{"$f":"IF(AND(A62<>0,A62<>\"\"),LOOKUP(A62,Load_Switch_NFET[PARTNUMBER],Load_Switch_NFET[VTHMIN]),\"\")","v":""},"#N/A",{"$f":"IF(AND(A62<>0,A62<>\"\"),LOOKUP(A62,Load_Switch_NFET[PARTNUMBER],Load_Switch_NFET[RGIMAX]),\"\")","v":""},{"$f":"IF(AND($A62<>0,$A62<>\"\"),LOOKUP($A62,Load_Switch_NFET[PARTNUMBER],Load_Switch_NFET[QGTYP]),\"\")","v":""},{"$f":"IF(AND($A62<>0,$A62<>\"\"),LOOKUP($A62,Load_Switch_NFET[PARTNUMBER],Load_Switch_NFET[QGS]),\"\")","v":""},{"$f":"IF(AND($A62<>0,$A62<>\"\"),LOOKUP($A62,Load_Switch_NFET[PARTNUMBER],Load_Switch_NFET[QGD]),\"\")","v":""},{"$f":"IF(AND($A62<>0,$A62<>\"\"),LOOKUP($A62,Load_Switch_NFET[PARTNUMBER],Load_Switch_NFET[QGTH]),\"\")","v":""},{"$f":"IF(AND($A62<>0,$A62<>\"\"),LOOKUP($A62,Load_Switch_NFET[PARTNUMBER],Load_Switch_NFET[VMILLER]),\"\")","v":""},{"$f":"IF(AND($A62<>0,$A62<>\"\"),LOOKUP($A62,Load_Switch_NFET[PARTNUMBER],Load_Switch_NFET[COSS_AT_VDSSPEC]),\"\")","v":""},"","","","",{"$f":"IF(AND($A62<>0,$A62<>\"\"),LOOKUP($A62,Load_Switch_NFET[PARTNUMBER],Load_Switch_NFET[1KPRICE]),\"\")","v":""},{"$f":"IF(AND($A62<>0,$A62<>\"\"),LOOKUP(A62,Load_Switch_NFET[PARTNUMBER],Load_Switch_NFET[TI_EQ_PACKAGE]),\"\")","v":""},"Invalid Part"]
[{"$f":"IF(CH=\"N\",NLogic!B63,\"\")","v":0},{"$f":"IF(OR($A63=0,$A63=\"\"),\"0\",IF(LOOKUP($A63,Load_Switch_NFET[PARTNUMBER],Load_Switch_NFET[RDSON18])=\"(NULL)\",\"0\",\"1\"))","v":"0"},{"$f":"IF(OR($A63=0,$A63=\"\"),\"0\",IF(LOOKUP($A63,Load_Switch_NFET[PARTNUMBER],Load_Switch_NFET[RDSON25])=\"(NULL)\",\"0\",\"1\"))","v":"0"},{"$f":"IF(OR($A63=0,$A63=\"\"),\"0\",IF(LOOKUP($A63,Load_Switch_NFET[PARTNUMBER],Load_Switch_NFET[RDSON3])=\"(NULL)\",\"0\",\"1\"))","v":"0"},{"$f":"IF(OR($A63=0,$A63=\"\"),\"0\",IF(LOOKUP($A63,Load_Switch_NFET[PARTNUMBER],Load_Switch_NFET[RDSON45])=\"(NULL)\",\"0\",\"1\"))","v":"0"},{"$f":"IF(OR($A63=0,$A63=\"\"),\"0\",IF(LOOKUP($A63,Load_Switch_NFET[PARTNUMBER],Load_Switch_NFET[RDSON6])=\"(NULL)\",\"0\",\"1\"))","v":"0"},{"$f":"IF(OR($A63=0,$A63=\"\"),\"0\",IF(LOOKUP($A63,Load_Switch_NFET[PARTNUMBER],Load_Switch_NFET[RDSON8])=\"(NULL)\",\"0\",\"1\"))","v":"0"},{"$f":"IF(OR($A63=0,$A63=\"\"),\"0\",IF(LOOKUP($A63,Load_Switch_NFET[PARTNUMBER],Load_Switch_NFET[RDSON10])=\"(NULL)\",\"0\",\"1\"))","v":"0"},false,false,false,false,false,false,false,false,false,false,false,false,false,false,false,{"$f":"IF(W63,LOOKUP(A63,Load_Switch_NFET[PARTNUMBER],Load_Switch_NFET[RDSON10])*1000,IF(V63,LOOKUP(A63,Load_Switch_NFET[PARTNUMBER],Load_Switch_NFET[RDSON8])*1000,IF(U63,LOOKUP(A63,Load_Switch_NFET[PARTNUMBER],Load_Switch_NFET[RDSON6])*1000,IF(T63,LOOKUP(A63,Load_Switch_NFET[PARTNUMBER],Load_Switch_NFET[RDSON45])*1000,IF(S63,LOOKUP(A63,Load_Switch_NFET[PARTNUMBER],Load_Switch_NFET[RDSON3])*1000,IF(R63,LOOKUP(A63,Load_Switch_NFET[PARTNUMBER],Load_Switch_NFET[RDSON25])*1000,IF(Q63,LOOKUP(A63,Load_Switch_NFET[PARTNUMBER],Load_Switch_NFET[RDSON18])*1000,\"\")))))))","v":""},{"$f":"IF(AND(A63<>0,A63<>\"\"),X63*(1+(Tj-25)*(LOOKUP(A63,Load_Switch_NFET[PARTNUMBER],Load_Switch_NFET[RDSDELTA])/((LOOKUP(A63,Load_Switch_NFET[PARTNUMBER],Load_Switch_NFET[TJMAX])-25)))),\"\")","v":""},{"$f":"IF(AND(A63<>0,A63<>\"\"),LOOKUP(A63,Load_Switch_NFET[PARTNUMBER],Load_Switch_NFET[VTHMAX]),\"\")","v":""},{"$f":"IF(AND(A63<>0,A63<>\"\"),LOOKUP(A63,Load_Switch_NFET[PARTNUMBER],Load_Switch_NFET[VTHMIN]),\"\")","v":""},"#N/A",{"$f":"IF(AND(A63<>0,A63<>\"\"),LOOKUP(A63,Load_Switch_NFET[PARTNUMBER],Load_Switch_NFET[RGIMAX]),\"\")","v":""},{"$f":"IF(AND($A63<>0,$A63<>\"\"),LOOKUP($A63,Load_Switch_NFET[PARTNUMBER],Load_Switch_NFET[QGTYP]),\"\")","v":""},{"$f":"IF(AND($A63<>0,$A63<>\"\"),LOOKUP($A63,Load_Switch_NFET[PARTNUMBER],Load_Switch_NFET[QGS]),\"\")","v":""},{"$f":"IF(AND($A63<>0,$A63<>\"\"),LOOKUP($A63,Load_Switch_NFET[PARTNUMBER],Load_Switch_NFET[QGD]),\"\")","v":""},{"$f":"IF(AND($A63<>0,$A63<>\"\"),LOOKUP($A63,Load_Switch_NFET[PARTNUMBER],Load_Switch_NFET[QGTH]),\"\")","v":""},{"$f":"IF(AND($A63<>0,$A63<>\"\"),LOOKUP($A63,Load_Switch_NFET[PARTNUMBER],Load_Switch_NFET[VMILLER]),\"\")","v":""},{"$f":"IF(AND($A63<>0,$A63<>\"\"),LOOKUP($A63,Load_Switch_NFET[PARTNUMBER],Load_Switch_NFET[COSS_AT_VDSSPEC]),\"\")","v":""},"","","","",{"$f":"IF(AND($A63<>0,$A63<>\"\"),LOOKUP($A63,Load_Switch_NFET[PARTNUMBER],Load_Switch_NFET[1KPRICE]),\"\")","v":""},{"$f":"IF(AND($A63<>0,$A63<>\"\"),LOOKUP(A63,Load_Switch_NFET[PARTNUMBER],Load_Switch_NFET[TI_EQ_PACKAGE]),\"\")","v":""},"Invalid Part"]
[{"$f":"IF(CH=\"N\",NLogic!B64,\"\")","v":0},{"$f":"IF(OR($A64=0,$A64=\"\"),\"0\",IF(LOOKUP($A64,Load_Switch_NFET[PARTNUMBER],Load_Switch_NFET[RDSON18])=\"(NULL)\",\"0\",\"1\"))","v":"0"},{"$f":"IF(OR($A64=0,$A64=\"\"),\"0\",IF(LOOKUP($A64,Load_Switch_NFET[PARTNUMBER],Load_Switch_NFET[RDSON25])=\"(NULL)\",\"0\",\"1\"))","v":"0"},{"$f":"IF(OR($A64=0,$A64=\"\"),\"0\",IF(LOOKUP($A64,Load_Switch_NFET[PARTNUMBER],Load_Switch_NFET[RDSON3])=\"(NULL)\",\"0\",\"1\"))","v":"0"},{"$f":"IF(OR($A64=0,$A64=\"\"),\"0\",IF(LOOKUP($A64,Load_Switch_NFET[PARTNUMBER],Load_Switch_NFET[RDSON45])=\"(NULL)\",\"0\",\"1\"))","v":"0"},{"$f":"IF(OR($A64=0,$A64=\"\"),\"0\",IF(LOOKUP($A64,Load_Switch_NFET[PARTNUMBER],Load_Switch_NFET[RDSON6])=\"(NULL)\",\"0\",\"1\"))","v":"0"},{"$f":"IF(OR($A64=0,$A64=\"\"),\"0\",IF(LOOKUP($A64,Load_Switch_NFET[PARTNUMBER],Load_Switch_NFET[RDSON8])=\"(NULL)\",\"0\",\"1\"))","v":"0"},{"$f":"IF(OR($A64=0,$A64=\"\"),\"0\",IF(LOOKUP($A64,Load_Switch_NFET[PARTNUMBER],Load_Switch_NFET[RDSON10])=\"(NULL)\",\"0\",\"1\"))","v":"0"},false,false,false,false,false,false,false,false,false,false,false,false,false,false,false,{"$f":"IF(W64,LOOKUP(A64,Load_Switch_NFET[PARTNUMBER],Load_Switch_NFET[RDSON10])*1000,IF(V64,LOOKUP(A64,Load_Switch_NFET[PARTNUMBER],Load_Switch_NFET[RDSON8])*1000,IF(U64,LOOKUP(A64,Load_Switch_NFET[PARTNUMBER],Load_Switch_NFET[RDSON6])*1000,IF(T64,LOOKUP(A64,Load_Switch_NFET[PARTNUMBER],Load_Switch_NFET[RDSON45])*1000,IF(S64,LOOKUP(A64,Load_Switch_NFET[PARTNUMBER],Load_Switch_NFET[RDSON3])*1000,IF(R64,LOOKUP(A64,Load_Switch_NFET[PARTNUMBER],Load_Switch_NFET[RDSON25])*1000,IF(Q64,LOOKUP(A64,Load_Switch_NFET[PARTNUMBER],Load_Switch_NFET[RDSON18])*1000,\"\")))))))","v":""},{"$f":"IF(AND(A64<>0,A64<>\"\"),X64*(1+(Tj-25)*(LOOKUP(A64,Load_Switch_NFET[PARTNUMBER],Load_Switch_NFET[RDSDELTA])/((LOOKUP(A64,Load_Switch_NFET[PARTNUMBER],Load_Switch_NFET[TJMAX])-25)))),\"\")","v":""},{"$f":"IF(AND(A64<>0,A64<>\"\"),LOOKUP(A64,Load_Switch_NFET[PARTNUMBER],Load_Switch_NFET[VTHMAX]),\"\")","v":""},{"$f":"IF(AND(A64<>0,A64<>\"\"),LOOKUP(A64,Load_Switch_NFET[PARTNUMBER],Load_Switch_NFET[VTHMIN]),\"\")","v":""},"#N/A",{"$f":"IF(AND(A64<>0,A64<>\"\"),LOOKUP(A64,Load_Switch_NFET[PARTNUMBER],Load_Switch_NFET[RGIMAX]),\"\")","v":""},{"$f":"IF(AND($A64<>0,$A64<>\"\"),LOOKUP($A64,Load_Switch_NFET[PARTNUMBER],Load_Switch_NFET[QGTYP]),\"\")","v":""},{"$f":"IF(AND($A64<>0,$A64<>\"\"),LOOKUP($A64,Load_Switch_NFET[PARTNUMBER],Load_Switch_NFET[QGS]),\"\")","v":""},{"$f":"IF(AND($A64<>0,$A64<>\"\"),LOOKUP($A64,Load_Switch_NFET[PARTNUMBER],Load_Switch_NFET[QGD]),\"\")","v":""},{"$f":"IF(AND($A64<>0,$A64<>\"\"),LOOKUP($A64,Load_Switch_NFET[PARTNUMBER],Load_Switch_NFET[QGTH]),\"\")","v":""},{"$f":"IF(AND($A64<>0,$A64<>\"\"),LOOKUP($A64,Load_Switch_NFET[PARTNUMBER],Load_Switch_NFET[VMILLER]),\"\")","v":""},{"$f":"IF(AND($A64<>0,$A64<>\"\"),LOOKUP($A64,Load_Switch_NFET[PARTNUMBER],Load_Switch_NFET[COSS_AT_VDSSPEC]),\"\")","v":""},"","","","",{"$f":"IF(AND($A64<>0,$A64<>\"\"),LOOKUP($A64,Load_Switch_NFET[PARTNUMBER],Load_Switch_NFET[1KPRICE]),\"\")","v":""},{"$f":"IF(AND($A64<>0,$A64<>\"\"),LOOKUP(A64,Load_Switch_NFET[PARTNUMBER],Load_Switch_NFET[TI_EQ_PACKAGE]),\"\")","v":""},"Invalid Part"]
[{"$f":"IF(CH=\"N\",NLogic!B65,\"\")","v":0},{"$f":"IF(OR($A65=0,$A65=\"\"),\"0\",IF(LOOKUP($A65,Load_Switch_NFET[PARTNUMBER],Load_Switch_NFET[RDSON18])=\"(NULL)\",\"0\",\"1\"))","v":"0"},{"$f":"IF(OR($A65=0,$A65=\"\"),\"0\",IF(LOOKUP($A65,Load_Switch_NFET[PARTNUMBER],Load_Switch_NFET[RDSON25])=\"(NULL)\",\"0\",\"1\"))","v":"0"},{"$f":"IF(OR($A65=0,$A65=\"\"),\"0\",IF(LOOKUP($A65,Load_Switch_NFET[PARTNUMBER],Load_Switch_NFET[RDSON3])=\"(NULL)\",\"0\",\"1\"))","v":"0"},{"$f":"IF(OR($A65=0,$A65=\"\"),\"0\",IF(LOOKUP($A65,Load_Switch_NFET[PARTNUMBER],Load_Switch_NFET[RDSON45])=\"(NULL)\",\"0\",\"1\"))","v":"0"},{"$f":"IF(OR($A65=0,$A65=\"\"),\"0\",IF(LOOKUP($A65,Load_Switch_NFET[PARTNUMBER],Load_Switch_NFET[RDSON6])=\"(NULL)\",\"0\",\"1\"))","v":"0"},{"$f":"IF(OR($A65=0,$A65=\"\"),\"0\",IF(LOOKUP($A65,Load_Switch_NFET[PARTNUMBER],Load_Switch_NFET[RDSON8])=\"(NULL)\",\"0\",\"1\"))","v":"0"},{"$f":"IF(OR($A65=0,$A65=\"\"),\"0\",IF(LOOKUP($A65,Load_Switch_NFET[PARTNUMBER],Load_Switch_NFET[RDSON10])=\"(NULL)\",\"0\",\"1\"))","v":"0"},false,false,false,false,false,false,false,false,false,false,false,false,false,false,false,{"$f":"IF(W65,LOOKUP(A65,Load_Switch_NFET[PARTNUMBER],Load_Switch_NFET[RDSON10])*1000,IF(V65,LOOKUP(A65,Load_Switch_NFET[PARTNUMBER],Load_Switch_NFET[RDSON8])*1000,IF(U65,LOOKUP(A65,Load_Switch_NFET[PARTNUMBER],Load_Switch_NFET[RDSON6])*1000,IF(T65,LOOKUP(A65,Load_Switch_NFET[PARTNUMBER],Load_Switch_NFET[RDSON45])*1000,IF(S65,LOOKUP(A65,Load_Switch_NFET[PARTNUMBER],Load_Switch_NFET[RDSON3])*1000,IF(R65,LOOKUP(A65,Load_Switch_NFET[PARTNUMBER],Load_Switch_NFET[RDSON25])*1000,IF(Q65,LOOKUP(A65,Load_Switch_NFET[PARTNUMBER],Load_Switch_NFET[RDSON18])*1000,\"\")))))))","v":""},{"$f":"IF(AND(A65<>0,A65<>\"\"),X65*(1+(Tj-25)*(LOOKUP(A65,Load_Switch_NFET[PARTNUMBER],Load_Switch_NFET[RDSDELTA])/((LOOKUP(A65,Load_Switch_NFET[PARTNUMBER],Load_Switch_NFET[TJMAX])-25)))),\"\")","v":""},{"$f":"IF(AND(A65<>0,A65<>\"\"),LOOKUP(A65,Load_Switch_NFET[PARTNUMBER],Load_Switch_NFET[VTHMAX]),\"\")","v":""},{"$f":"IF(AND(A65<>0,A65<>\"\"),LOOKUP(A65,Load_Switch_NFET[PARTNUMBER],Load_Switch_NFET[VTHMIN]),\"\")","v":""},"#N/A",{"$f":"IF(AND(A65<>0,A65<>\"\"),LOOKUP(A65,Load_Switch_NFET[PARTNUMBER],Load_Switch_NFET[RGIMAX]),\"\")","v":""},{"$f":"IF(AND($A65<>0,$A65<>\"\"),LOOKUP($A65,Load_Switch_NFET[PARTNUMBER],Load_Switch_NFET[QGTYP]),\"\")","v":""},{"$f":"IF(AND($A65<>0,$A65<>\"\"),LOOKUP($A65,Load_Switch_NFET[PARTNUMBER],Load_Switch_NFET[QGS]),\"\")","v":""},{"$f":"IF(AND($A65<>0,$A65<>\"\"),LOOKUP($A65,Load_Switch_NFET[PARTNUMBER],Load_Switch_NFET[QGD]),\"\")","v":""},{"$f":"IF(AND($A65<>0,$A65<>\"\"),LOOKUP($A65,Load_Switch_NFET[PARTNUMBER],Load_Switch_NFET[QGTH]),\"\")","v":""},{"$f":"IF(AND($A65<>0,$A65<>\"\"),LOOKUP($A65,Load_Switch_NFET[PARTNUMBER],Load_Switch_NFET[VMILLER]),\"\")","v":""},{"$f":"IF(AND($A65<>0,$A65<>\"\"),LOOKUP($A65,Load_Switch_NFET[PARTNUMBER],Load_Switch_NFET[COSS_AT_VDSSPEC]),\"\")","v":""},"","","","",{"$f":"IF(AND($A65<>0,$A65<>\"\"),LOOKUP($A65,Load_Switch_NFET[PARTNUMBER],Load_Switch_NFET[1KPRICE]),\"\")","v":""},{"$f":"IF(AND($A65<>0,$A65<>\"\"),LOOKUP(A65,Load_Switch_NFET[PARTNUMBER],Load_Switch_NFET[TI_EQ_PACKAGE]),\"\")","v":""},"Invalid Part"]
[{"$f":"IF(CH=\"N\",NLogic!B66,\"\")","v":0},{"$f":"IF(OR($A66=0,$A66=\"\"),\"0\",IF(LOOKUP($A66,Load_Switch_NFET[PARTNUMBER],Load_Switch_NFET[RDSON18])=\"(NULL)\",\"0\",\"1\"))","v":"0"},{"$f":"IF(OR($A66=0,$A66=\"\"),\"0\",IF(LOOKUP($A66,Load_Switch_NFET[PARTNUMBER],Load_Switch_NFET[RDSON25])=\"(NULL)\",\"0\",\"1\"))","v":"0"},{"$f":"IF(OR($A66=0,$A66=\"\"),\"0\",IF(LOOKUP($A66,Load_Switch_NFET[PARTNUMBER],Load_Switch_NFET[RDSON3])=\"(NULL)\",\"0\",\"1\"))","v":"0"},{"$f":"IF(OR($A66=0,$A66=\"\"),\"0\",IF(LOOKUP($A66,Load_Switch_NFET[PARTNUMBER],Load_Switch_NFET[RDSON45])=\"(NULL)\",\"0\",\"1\"))","v":"0"},{"$f":"IF(OR($A66=0,$A66=\"\"),\"0\",IF(LOOKUP($A66,Load_Switch_NFET[PARTNUMBER],Load_Switch_NFET[RDSON6])=\"(NULL)\",\"0\",\"1\"))","v":"0"},{"$f":"IF(OR($A66=0,$A66=\"\"),\"0\",IF(LOOKUP($A66,Load_Switch_NFET[PARTNUMBER],Load_Switch_NFET[RDSON8])=\"(NULL)\",\"0\",\"1\"))","v":"0"},{"$f":"IF(OR($A66=0,$A66=\"\"),\"0\",IF(LOOKUP($A66,Load_Switch_NFET[PARTNUMBER],Load_Switch_NFET[RDSON10])=\"(NULL)\",\"0\",\"1\"))","v":"0"},false,false,false,false,false,false,false,false,false,false,{"$f":"IF($P66,K66,IF((D66=\"1\"),OR(AR$2,AR$9,AV$2,L66)))","v":false},{"$f":"IF($P66,L66,IF((E66=\"1\"),OR(AU$2,K66,AW$2,M66)))","v":false},{"$f":"IF($P66,M66,IF((F66=\"1\"),OR(AV$2,L66,AX$2,N66)))","v":false},{"$f":"IF($P66,N66,IF((G66=\"1\"),OR(AW$2,M66,AY$2,O66)))","v":false},{"$f":"IF($P66,O66,IF((H66=\"1\"),OR(AX$2,N66)))","v":false},{"$f":"IF(W66,LOOKUP(A66,Load_Switch_NFET[PARTNUMBER],Load_Switch_NFET[RDSON10])*1000,IF(V66,LOOKUP(A66,Load_Switch_NFET[PARTNUMBER],Load_Switch_NFET[RDSON8])*1000,IF(U66,LOOKUP(A66,Load_Switch_NFET[PARTNUMBER],Load_Switch_NFET[RDSON6])*1000,IF(T66,LOOKUP(A66,Load_Switch_NFET[PARTNUMBER],Load_Switch_NFET[RDSON45])*1000,IF(S66,LOOKUP(A66,Load_Switch_NFET[PARTNUMBER],Load_Switch_NFET[RDSON3])*1000,IF(R66,LOOKUP(A66,Load_Switch_NFET[PARTNUMBER],Load_Switch_NFET[RDSON25])*1000,IF(Q66,LOOKUP(A66,Load_Switch_NFET[PARTNUMBER],Load_Switch_NFET[RDSON18])*1000,\"\")))))))","v":""},{"$f":"IF(AND(A66<>0,A66<>\"\"),X66*(1+(Tj-25)*(LOOKUP(A66,Load_Switch_NFET[PARTNUMBER],Load_Switch_NFET[RDSDELTA])/((LOOKUP(A66,Load_Switch_NFET[PARTNUMBER],Load_Switch_NFET[TJMAX])-25)))),\"\")","v":""},{"$f":"IF(AND(A66<>0,A66<>\"\"),LOOKUP(A66,Load_Switch_NFET[PARTNUMBER],Load_Switch_NFET[VTHMAX]),\"\")","v":""},{"$f":"IF(AND(A66<>0,A66<>\"\"),LOOKUP(A66,Load_Switch_NFET[PARTNUMBER],Load_Switch_NFET[VTHMIN]),\"\")","v":""},{"$f":"IF(AND(A66<>0,A66<>\"\"),IF(B66=\"1\",1.8,IF(C66=\"1\",2.5,IF(D66=\"1\",3,IF(E66=\"1\",4.5,IF(F66=\"1\",6,IF(G66=\"1\",8,IF(H66=\"1\",10))))))),\"#N/A\")","v":"#N/A"},{"$f":"IF(AND(A66<>0,A66<>\"\"),LOOKUP(A66,Load_Switch_NFET[PARTNUMBER],Load_Switch_NFET[RGIMAX]),\"\")","v":""},{"$f":"IF(AND($A66<>0,$A66<>\"\"),LOOKUP($A66,Load_Switch_NFET[PARTNUMBER],Load_Switch_NFET[QGTYP]),\"\")","v":""},{"$f":"IF(AND($A66<>0,$A66<>\"\"),LOOKUP($A66,Load_Switch_NFET[PARTNUMBER],Load_Switch_NFET[QGS]),\"\")","v":""},{"$f":"IF(AND($A66<>0,$A66<>\"\"),LOOKUP($A66,Load_Switch_NFET[PARTNUMBER],Load_Switch_NFET[QGD]),\"\")","v":""},{"$f":"IF(AND($A66<>0,$A66<>\"\"),LOOKUP($A66,Load_Switch_NFET[PARTNUMBER],Load_Switch_NFET[QGTH]),\"\")","v":""},{"$f":"IF(AND($A66<>0,$A66<>\"\"),LOOKUP($A66,Load_Switch_NFET[PARTNUMBER],Load_Switch_NFET[VMILLER]),\"\")","v":""},{"$f":"IF(AND($A66<>0,$A66<>\"\"),LOOKUP($A66,Load_Switch_NFET[PARTNUMBER],Load_Switch_NFET[COSS_AT_VDSSPEC]),\"\")","v":""},{"$f":"IF(AND(A66<>0,A66<>\"\"),AE66+AF66-AG66,\"\")","v":""},{"$f":"IF(AND(A66<>0,A66<>\"\"),(Z66+AA66)/2,\"\")","v":""},{"$f":"IF(AND($A66<>0,$A66<>\"\"),Io^2*Y66*m,\"\")","v":""},{"$f":"IF(AND($A66<>0,$A66<>\"\"),ROUND(SUM(AL66:AL66),3),\"\")","v":""},{"$f":"IF(AND($A66<>0,$A66<>\"\"),LOOKUP($A66,Load_Switch_NFET[PARTNUMBER],Load_Switch_NFET[1KPRICE]),\"\")","v":""},{"$f":"IF(AND($A66<>0,$A66<>\"\"),LOOKUP(A66,Load_Switch_NFET[PARTNUMBER],Load_Switch_NFET[TI_EQ_PACKAGE]),\"\")","v":""},{"$f":"IF(AND($A66<>0,$A66<>\"\"),CONCATENATE(A66,\", \",AO66,\", \",AM66,\"W, $\",AN66),\"Invalid Part\")","v":"Invalid Part"}]
[{"$f":"IF(CH=\"N\",NLogic!B67,\"\")","v":0},{"$f":"IF(OR($A67=0,$A67=\"\"),\"0\",IF(LOOKUP($A67,Load_Switch_NFET[PARTNUMBER],Load_Switch_NFET[RDSON18])=\"(NULL)\",\"0\",\"1\"))","v":"0"},{"$f":"IF(OR($A67=0,$A67=\"\"),\"0\",IF(LOOKUP($A67,Load_Switch_NFET[PARTNUMBER],Load_Switch_NFET[RDSON25])=\"(NULL)\",\"0\",\"1\"))","v":"0"},{"$f":"IF(OR($A67=0,$A67=\"\"),\"0\",IF(LOOKUP($A67,Load_Switch_NFET[PARTNUMBER],Load_Switch_NFET[RDSON3])=\"(NULL)\",\"0\",\"1\"))","v":"0"},{"$f":"IF(OR($A67=0,$A67=\"\"),\"0\",IF(LOOKUP($A67,Load_Switch_NFET[PARTNUMBER],Load_Switch_NFET[RDSON45])=\"(NULL)\",\"0\",\"1\"))","v":"0"},{"$f":"IF(OR($A67=0,$A67=\"\"),\"0\",IF(LOOKUP($A67,Load_Switch_NFET[PARTNUMBER],Load_Switch_NFET[RDSON6])=\"(NULL)\",\"0\",\"1\"))","v":"0"},{"$f":"IF(OR($A67=0,$A67=\"\"),\"0\",IF(LOOKUP($A67,Load_Switch_NFET[PARTNUMBER],Load_Switch_NFET[RDSON8])=\"(NULL)\",\"0\",\"1\"))","v":"0"},{"$f":"IF(OR($A67=0,$A67=\"\"),\"0\",IF(LOOKUP($A67,Load_Switch_NFET[PARTNUMBER],Load_Switch_NFET[RDSON10])=\"(NULL)\",\"0\",\"1\"))","v":"0"},{"$f":"AND(AS$2,B67=\"1\")","v":false},{"$f":"AND(AT$2,C67=\"1\")","v":false},{"$f":"AND(AU$2,D67=\"1\")","v":false},{"$f":"AND(AV$2,E67=\"1\")","v":false},{"$f":"AND(AW$2,F67=\"1\")","v":false},{"$f":"AND(AX$2,G67=\"1\")","v":false},{"$f":"AND(AY$2,H67=\"1\")","v":false},{"$f":"OR(I67:O67)","v":false},false,false,false,false,false,false,false,{"$f":"IF(W67,LOOKUP(A67,Load_Switch_NFET[PARTNUMBER],Load_Switch_NFET[RDSON10])*1000,IF(V67,LOOKUP(A67,Load_Switch_NFET[PARTNUMBER],Load_Switch_NFET[RDSON8])*1000,IF(U67,LOOKUP(A67,Load_Switch_NFET[PARTNUMBER],Load_Switch_NFET[RDSON6])*1000,IF(T67,LOOKUP(A67,Load_Switch_NFET[PARTNUMBER],Load_Switch_NFET[RDSON45])*1000,IF(S67,LOOKUP(A67,Load_Switch_NFET[PARTNUMBER],Load_Switch_NFET[RDSON3])*1000,IF(R67,LOOKUP(A67,Load_Switch_NFET[PARTNUMBER],Load_Switch_NFET[RDSON25])*1000,IF(Q67,LOOKUP(A67,Load_Switch_NFET[PARTNUMBER],Load_Switch_NFET[RDSON18])*1000,\"\")))))))","v":""},{"$f":"IF(AND(A67<>0,A67<>\"\"),X67*(1+(Tj-25)*(LOOKUP(A67,Load_Switch_NFET[PARTNUMBER],Load_Switch_NFET[RDSDELTA])/((LOOKUP(A67,Load_Switch_NFET[PARTNUMBER],Load_Switch_NFET[TJMAX])-25)))),\"\")","v":""},{"$f":"IF(AND(A67<>0,A67<>\"\"),LOOKUP(A67,Load_Switch_NFET[PARTNUMBER],Load_Switch_NFET[VTHMAX]),\"\")","v":""},{"$f":"IF(AND(A67<>0,A67<>\"\"),LOOKUP(A67,Load_Switch_NFET[PARTNUMBER],Load_Switch_NFET[VTHMIN]),\"\")","v":""},"#N/A",{"$f":"IF(AND(A67<>0,A67<>\"\"),LOOKUP(A67,Load_Switch_NFET[PARTNUMBER],Load_Switch_NFET[RGIMAX]),\"\")","v":""},{"$f":"IF(AND($A67<>0,$A67<>\"\"),LOOKUP($A67,Load_Switch_NFET[PARTNUMBER],Load_Switch_NFET[QGTYP]),\"\")","v":""},{"$f":"IF(AND($A67<>0,$A67<>\"\"),LOOKUP($A67,Load_Switch_NFET[PARTNUMBER],Load_Switch_NFET[QGS]),\"\")","v":""},{"$f":"IF(AND($A67<>0,$A67<>\"\"),LOOKUP($A67,Load_Switch_NFET[PARTNUMBER],Load_Switch_NFET[QGD]),\"\")","v":""},{"$f":"IF(AND($A67<>0,$A67<>\"\"),LOOKUP($A67,Load_Switch_NFET[PARTNUMBER],Load_Switch_NFET[QGTH]),\"\")","v":""},{"$f":"IF(AND($A67<>0,$A67<>\"\"),LOOKUP($A67,Load_Switch_NFET[PARTNUMBER],Load_Switch_NFET[VMILLER]),\"\")","v":""},{"$f":"IF(AND($A67<>0,$A67<>\"\"),LOOKUP($A67,Load_Switch_NFET[PARTNUMBER],Load_Switch_NFET[COSS_AT_VDSSPEC]),\"\")","v":""},"","","","",{"$f":"IF(AND($A67<>0,$A67<>\"\"),LOOKUP($A67,Load_Switch_NFET[PARTNUMBER],Load_Switch_NFET[1KPRICE]),\"\")","v":""},{"$f":"IF(AND($A67<>0,$A67<>\"\"),LOOKUP(A67,Load_Switch_NFET[PARTNUMBER],Load_Switch_NFET[TI_EQ_PACKAGE]),\"\")","v":""},"Invalid Part"]
[{"$f":"IF(CH=\"N\",NLogic!B68,\"\")","v":0},{"$f":"IF(OR($A68=0,$A68=\"\"),\"0\",IF(LOOKUP($A68,Load_Switch_NFET[PARTNUMBER],Load_Switch_NFET[RDSON18])=\"(NULL)\",\"0\",\"1\"))","v":"0"},{"$f":"IF(OR($A68=0,$A68=\"\"),\"0\",IF(LOOKUP($A68,Load_Switch_NFET[PARTNUMBER],Load_Switch_NFET[RDSON25])=\"(NULL)\",\"0\",\"1\"))","v":"0"},{"$f":"IF(OR($A68=0,$A68=\"\"),\"0\",IF(LOOKUP($A68,Load_Switch_NFET[PARTNUMBER],Load_Switch_NFET[RDSON3])=\"(NULL)\",\"0\",\"1\"))","v":"0"},{"$f":"IF(OR($A68=0,$A68=\"\"),\"0\",IF(LOOKUP($A68,Load_Switch_NFET[PARTNUMBER],Load_Switch_NFET[RDSON45])=\"(NULL)\",\"0\",\"1\"))","v":"0"},{"$f":"IF(OR($A68=0,$A68=\"\"),\"0\",IF(LOOKUP($A68,Load_Switch_NFET[PARTNUMBER],Load_Switch_NFET[RDSON6])=\"(NULL)\",\"0\",\"1\"))","v":"0"},{"$f":"IF(OR($A68=0,$A68=\"\"),\"0\",IF(LOOKUP($A68,Load_Switch_NFET[PARTNUMBER],Load_Switch_NFET[RDSON8])=\"(NULL)\",\"0\",\"1\"))","v":"0"},{"$f":"IF(OR($A68=0,$A68=\"\"),\"0\",IF(LOOKUP($A68,Load_Switch_NFET[PARTNUMBER],Load_Switch_NFET[RDSON10])=\"(NULL)\",\"0\",\"1\"))","v":"0"},false,false,false,false,false,false,false,false,{"$f":"IF($P68,I68,IF((B68=\"1\"),OR($AR$2,$AR$9)))","v":false},{"$f":"IF($P68,J68,IF((C68=\"1\"),OR($AR$2,$AR$9)))","v":false},false,false,false,false,false,{"$f":"IF(W68,LOOKUP(A68,Load_Switch_NFET[PARTNUMBER],Load_Switch_NFET[RDSON10])*1000,IF(V68,LOOKUP(A68,Load_Switch_NFET[PARTNUMBER],Load_Switch_NFET[RDSON8])*1000,IF(U68,LOOKUP(A68,Load_Switch_NFET[PARTNUMBER],Load_Switch_NFET[RDSON6])*1000,IF(T68,LOOKUP(A68,Load_Switch_NFET[PARTNUMBER],Load_Switch_NFET[RDSON45])*1000,IF(S68,LOOKUP(A68,Load_Switch_NFET[PARTNUMBER],Load_Switch_NFET[RDSON3])*1000,IF(R68,LOOKUP(A68,Load_Switch_NFET[PARTNUMBER],Load_Switch_NFET[RDSON25])*1000,IF(Q68,LOOKUP(A68,Load_Switch_NFET[PARTNUMBER],Load_Switch_NFET[RDSON18])*1000,\"\")))))))","v":""},{"$f":"IF(AND(A68<>0,A68<>\"\"),X68*(1+(Tj-25)*(LOOKUP(A68,Load_Switch_NFET[PARTNUMBER],Load_Switch_NFET[RDSDELTA])/((LOOKUP(A68,Load_Switch_NFET[PARTNUMBER],Load_Switch_NFET[TJMAX])-25)))),\"\")","v":""},{"$f":"IF(AND(A68<>0,A68<>\"\"),LOOKUP(A68,Load_Switch_NFET[PARTNUMBER],Load_Switch_NFET[VTHMAX]),\"\")","v":""},{"$f":"IF(AND(A68<>0,A68<>\"\"),LOOKUP(A68,Load_Switch_NFET[PARTNUMBER],Load_Switch_NFET[VTHMIN]),\"\")","v":""},"#N/A",{"$f":"IF(AND(A68<>0,A68<>\"\"),LOOKUP(A68,Load_Switch_NFET[PARTNUMBER],Load_Switch_NFET[RGIMAX]),\"\")","v":""},{"$f":"IF(AND($A68<>0,$A68<>\"\"),LOOKUP($A68,Load_Switch_NFET[PARTNUMBER],Load_Switch_NFET[QGTYP]),\"\")","v":""},{"$f":"IF(AND($A68<>0,$A68<>\"\"),LOOKUP($A68,Load_Switch_NFET[PARTNUMBER],Load_Switch_NFET[QGS]),\"\")","v":""},{"$f":"IF(AND($A68<>0,$A68<>\"\"),LOOKUP($A68,Load_Switch_NFET[PARTNUMBER],Load_Switch_NFET[QGD]),\"\")","v":""},{"$f":"IF(AND($A68<>0,$A68<>\"\"),LOOKUP($A68,Load_Switch_NFET[PARTNUMBER],Load_Switch_NFET[QGTH]),\"\")","v":""},{"$f":"IF(AND($A68<>0,$A68<>\"\"),LOOKUP($A68,Load_Switch_NFET[PARTNUMBER],Load_Switch_NFET[VMILLER]),\"\")","v":""},{"$f":"IF(AND($A68<>0,$A68<>\"\"),LOOKUP($A68,Load_Switch_NFET[PARTNUMBER],Load_Switch_NFET[COSS_AT_VDSSPEC]),\"\")","v":""},"","","","",{"$f":"IF(AND($A68<>0,$A68<>\"\"),LOOKUP($A68,Load_Switch_NFET[PARTNUMBER],Load_Switch_NFET[1KPRICE]),\"\")","v":""},{"$f":"IF(AND($A68<>0,$A68<>\"\"),LOOKUP(A68,Load_Switch_NFET[PARTNUMBER],Load_Switch_NFET[TI_EQ_PACKAGE]),\"\")","v":""},"Invalid Part"]
[{"$f":"IF(CH=\"N\",NLogic!B69,\"\")","v":0},{"$f":"IF(OR($A69=0,$A69=\"\"),\"0\",IF(LOOKUP($A69,Load_Switch_NFET[PARTNUMBER],Load_Switch_NFET[RDSON18])=\"(NULL)\",\"0\",\"1\"))","v":"0"},{"$f":"IF(OR($A69=0,$A69=\"\"),\"0\",IF(LOOKUP($A69,Load_Switch_NFET[PARTNUMBER],Load_Switch_NFET[RDSON25])=\"(NULL)\",\"0\",\"1\"))","v":"0"},{"$f":"IF(OR($A69=0,$A69=\"\"),\"0\",IF(LOOKUP($A69,Load_Switch_NFET[PARTNUMBER],Load_Switch_NFET[RDSON3])=\"(NULL)\",\"0\",\"1\"))","v":"0"},{"$f":"IF(OR($A69=0,$A69=\"\"),\"0\",IF(LOOKUP($A69,Load_Switch_NFET[PARTNUMBER],Load_Switch_NFET[RDSON45])=\"(NULL)\",\"0\",\"1\"))","v":"0"},{"$f":"IF(OR($A69=0,$A69=\"\"),\"0\",IF(LOOKUP($A69,Load_Switch_NFET[PARTNUMBER],Load_Switch_NFET[RDSON6])=\"(NULL)\",\"0\",\"1\"))","v":"0"},{"$f":"IF(OR($A69=0,$A69=\"\"),\"0\",IF(LOOKUP($A69,Load_Switch_NFET[PARTNUMBER],Load_Switch_NFET[RDSON8])=\"(NULL)\",\"0\",\"1\"))","v":"0"},{"$f":"IF(OR($A69=0,$A69=\"\"),\"0\",IF(LOOKUP($A69,Load_Switch_NFET[PARTNUMBER],Load_Switch_NFET[RDSON10])=\"(NULL)\",\"0\",\"1\"))","v":"0"},false,false,false,false,false,false,false,false,false,false,false,false,false,false,false,{"$f":"IF(W69,LOOKUP(A69,Load_Switch_NFET[PARTNUMBER],Load_Switch_NFET[RDSON10])*1000,IF(V69,LOOKUP(A69,Load_Switch_NFET[PARTNUMBER],Load_Switch_NFET[RDSON8])*1000,IF(U69,LOOKUP(A69,Load_Switch_NFET[PARTNUMBER],Load_Switch_NFET[RDSON6])*1000,IF(T69,LOOKUP(A69,Load_Switch_NFET[PARTNUMBER],Load_Switch_NFET[RDSON45])*1000,IF(S69,LOOKUP(A69,Load_Switch_NFET[PARTNUMBER],Load_Switch_NFET[RDSON3])*1000,IF(R69,LOOKUP(A69,Load_Switch_NFET[PARTNUMBER],Load_Switch_NFET[RDSON25])*1000,IF(Q69,LOOKUP(A69,Load_Switch_NFET[PARTNUMBER],Load_Switch_NFET[RDSON18])*1000,\"\")))))))","v":""},{"$f":"IF(AND(A69<>0,A69<>\"\"),X69*(1+(Tj-25)*(LOOKUP(A69,Load_Switch_NFET[PARTNUMBER],Load_Switch_NFET[RDSDELTA])/((LOOKUP(A69,Load_Switch_NFET[PARTNUMBER],Load_Switch_NFET[TJMAX])-25)))),\"\")","v":""},{"$f":"IF(AND(A69<>0,A69<>\"\"),LOOKUP(A69,Load_Switch_NFET[PARTNUMBER],Load_Switch_NFET[VTHMAX]),\"\")","v":""},{"$f":"IF(AND(A69<>0,A69<>\"\"),LOOKUP(A69,Load_Switch_NFET[PARTNUMBER],Load_Switch_NFET[VTHMIN]),\"\")","v":""},"#N/A",{"$f":"IF(AND(A69<>0,A69<>\"\"),LOOKUP(A69,Load_Switch_NFET[PARTNUMBER],Load_Switch_NFET[RGIMAX]),\"\")","v":""},{"$f":"IF(AND($A69<>0,$A69<>\"\"),LOOKUP($A69,Load_Switch_NFET[PARTNUMBER],Load_Switch_NFET[QGTYP]),\"\")","v":""},{"$f":"IF(AND($A69<>0,$A69<>\"\"),LOOKUP($A69,Load_Switch_NFET[PARTNUMBER],Load_Switch_NFET[QGS]),\"\")","v":""},{"$f":"IF(AND($A69<>0,$A69<>\"\"),LOOKUP($A69,Load_Switch_NFET[PARTNUMBER],Load_Switch_NFET[QGD]),\"\")","v":""},{"$f":"IF(AND($A69<>0,$A69<>\"\"),LOOKUP($A69,Load_Switch_NFET[PARTNUMBER],Load_Switch_NFET[QGTH]),\"\")","v":""},{"$f":"IF(AND($A69<>0,$A69<>\"\"),LOOKUP($A69,Load_Switch_NFET[PARTNUMBER],Load_Switch_NFET[VMILLER]),\"\")","v":""},{"$f":"IF(AND($A69<>0,$A69<>\"\"),LOOKUP($A69,Load_Switch_NFET[PARTNUMBER],Load_Switch_NFET[COSS_AT_VDSSPEC]),\"\")","v":""},"","","","",{"$f":"IF(AND($A69<>0,$A69<>\"\"),LOOKUP($A69,Load_Switch_NFET[PARTNUMBER],Load_Switch_NFET[1KPRICE]),\"\")","v":""},{"$f":"IF(AND($A69<>0,$A69<>\"\"),LOOKUP(A69,Load_Switch_NFET[PARTNUMBER],Load_Switch_NFET[TI_EQ_PACKAGE]),\"\")","v":""},"Invalid Part"]
[{"$f":"IF(CH=\"N\",NLogic!B70,\"\")","v":0},{"$f":"IF(OR($A70=0,$A70=\"\"),\"0\",IF(LOOKUP($A70,Load_Switch_NFET[PARTNUMBER],Load_Switch_NFET[RDSON18])=\"(NULL)\",\"0\",\"1\"))","v":"0"},{"$f":"IF(OR($A70=0,$A70=\"\"),\"0\",IF(LOOKUP($A70,Load_Switch_NFET[PARTNUMBER],Load_Switch_NFET[RDSON25])=\"(NULL)\",\"0\",\"1\"))","v":"0"},{"$f":"IF(OR($A70=0,$A70=\"\"),\"0\",IF(LOOKUP($A70,Load_Switch_NFET[PARTNUMBER],Load_Switch_NFET[RDSON3])=\"(NULL)\",\"0\",\"1\"))","v":"0"},{"$f":"IF(OR($A70=0,$A70=\"\"),\"0\",IF(LOOKUP($A70,Load_Switch_NFET[PARTNUMBER],Load_Switch_NFET[RDSON45])=\"(NULL)\",\"0\",\"1\"))","v":"0"},{"$f":"IF(OR($A70=0,$A70=\"\"),\"0\",IF(LOOKUP($A70,Load_Switch_NFET[PARTNUMBER],Load_Switch_NFET[RDSON6])=\"(NULL)\",\"0\",\"1\"))","v":"0"},{"$f":"IF(OR($A70=0,$A70=\"\"),\"0\",IF(LOOKUP($A70,Load_Switch_NFET[PARTNUMBER],Load_Switch_NFET[RDSON8])=\"(NULL)\",\"0\",\"1\"))","v":"0"},{"$f":"IF(OR($A70=0,$A70=\"\"),\"0\",IF(LOOKUP($A70,Load_Switch_NFET[PARTNUMBER],Load_Switch_NFET[RDSON10])=\"(NULL)\",\"0\",\"1\"))","v":"0"},false,false,false,false,false,false,false,false,false,false,false,false,false,false,false,{"$f":"IF(W70,LOOKUP(A70,Load_Switch_NFET[PARTNUMBER],Load_Switch_NFET[RDSON10])*1000,IF(V70,LOOKUP(A70,Load_Switch_NFET[PARTNUMBER],Load_Switch_NFET[RDSON8])*1000,IF(U70,LOOKUP(A70,Load_Switch_NFET[PARTNUMBER],Load_Switch_NFET[RDSON6])*1000,IF(T70,LOOKUP(A70,Load_Switch_NFET[PARTNUMBER],Load_Switch_NFET[RDSON45])*1000,IF(S70,LOOKUP(A70,Load_Switch_NFET[PARTNUMBER],Load_Switch_NFET[RDSON3])*1000,IF(R70,LOOKUP(A70,Load_Switch_NFET[PARTNUMBER],Load_Switch_NFET[RDSON25])*1000,IF(Q70,LOOKUP(A70,Load_Switch_NFET[PARTNUMBER],Load_Switch_NFET[RDSON18])*1000,\"\")))))))","v":""},{"$f":"IF(AND(A70<>0,A70<>\"\"),X70*(1+(Tj-25)*(LOOKUP(A70,Load_Switch_NFET[PARTNUMBER],Load_Switch_NFET[RDSDELTA])/((LOOKUP(A70,Load_Switch_NFET[PARTNUMBER],Load_Switch_NFET[TJMAX])-25)))),\"\")","v":""},{"$f":"IF(AND(A70<>0,A70<>\"\"),LOOKUP(A70,Load_Switch_NFET[PARTNUMBER],Load_Switch_NFET[VTHMAX]),\"\")","v":""},{"$f":"IF(AND(A70<>0,A70<>\"\"),LOOKUP(A70,Load_Switch_NFET[PARTNUMBER],Load_Switch_NFET[VTHMIN]),\"\")","v":""},"#N/A",{"$f":"IF(AND(A70<>0,A70<>\"\"),LOOKUP(A70,Load_Switch_NFET[PARTNUMBER],Load_Switch_NFET[RGIMAX]),\"\")","v":""},{"$f":"IF(AND($A70<>0,$A70<>\"\"),LOOKUP($A70,Load_Switch_NFET[PARTNUMBER],Load_Switch_NFET[QGTYP]),\"\")","v":""},{"$f":"IF(AND($A70<>0,$A70<>\"\"),LOOKUP($A70,Load_Switch_NFET[PARTNUMBER],Load_Switch_NFET[QGS]),\"\")","v":""},{"$f":"IF(AND($A70<>0,$A70<>\"\"),LOOKUP($A70,Load_Switch_NFET[PARTNUMBER],Load_Switch_NFET[QGD]),\"\")","v":""},{"$f":"IF(AND($A70<>0,$A70<>\"\"),LOOKUP($A70,Load_Switch_NFET[PARTNUMBER],Load_Switch_NFET[QGTH]),\"\")","v":""},{"$f":"IF(AND($A70<>0,$A70<>\"\"),LOOKUP($A70,Load_Switch_NFET[PARTNUMBER],Load_Switch_NFET[VMILLER]),\"\")","v":""},{"$f":"IF(AND($A70<>0,$A70<>\"\"),LOOKUP($A70,Load_Switch_NFET[PARTNUMBER],Load_Switch_NFET[COSS_AT_VDSSPEC]),\"\")","v":""},"","","","",{"$f":"IF(AND($A70<>0,$A70<>\"\"),LOOKUP($A70,Load_Switch_NFET[PARTNUMBER],Load_Switch_NFET[1KPRICE]),\"\")","v":""},{"$f":"IF(AND($A70<>0,$A70<>\"\"),LOOKUP(A70,Load_Switch_NFET[PARTNUMBER],Load_Switch_NFET[TI_EQ_PACKAGE]),\"\")","v":""},"Invalid Part"]
[{"$f":"IF(CH=\"N\",NLogic!B71,\"\")","v":0},{"$f":"IF(OR($A71=0,$A71=\"\"),\"0\",IF(LOOKUP($A71,Load_Switch_NFET[PARTNUMBER],Load_Switch_NFET[RDSON18])=\"(NULL)\",\"0\",\"1\"))","v":"0"},{"$f":"IF(OR($A71=0,$A71=\"\"),\"0\",IF(LOOKUP($A71,Load_Switch_NFET[PARTNUMBER],Load_Switch_NFET[RDSON25])=\"(NULL)\",\"0\",\"1\"))","v":"0"},{"$f":"IF(OR($A71=0,$A71=\"\"),\"0\",IF(LOOKUP($A71,Load_Switch_NFET[PARTNUMBER],Load_Switch_NFET[RDSON3])=\"(NULL)\",\"0\",\"1\"))","v":"0"},{"$f":"IF(OR($A71=0,$A71=\"\"),\"0\",IF(LOOKUP($A71,Load_Switch_NFET[PARTNUMBER],Load_Switch_NFET[RDSON45])=\"(NULL)\",\"0\",\"1\"))","v":"0"},{"$f":"IF(OR($A71=0,$A71=\"\"),\"0\",IF(LOOKUP($A71,Load_Switch_NFET[PARTNUMBER],Load_Switch_NFET[RDSON6])=\"(NULL)\",\"0\",\"1\"))","v":"0"},{"$f":"IF(OR($A71=0,$A71=\"\"),\"0\",IF(LOOKUP($A71,Load_Switch_NFET[PARTNUMBER],Load_Switch_NFET[RDSON8])=\"(NULL)\",\"0\",\"1\"))","v":"0"},{"$f":"IF(OR($A71=0,$A71=\"\"),\"0\",IF(LOOKUP($A71,Load_Switch_NFET[PARTNUMBER],Load_Switch_NFET[RDSON10])=\"(NULL)\",\"0\",\"1\"))","v":"0"},false,false,false,false,false,false,false,false,false,false,false,false,false,false,false,{"$f":"IF(W71,LOOKUP(A71,Load_Switch_NFET[PARTNUMBER],Load_Switch_NFET[RDSON10])*1000,IF(V71,LOOKUP(A71,Load_Switch_NFET[PARTNUMBER],Load_Switch_NFET[RDSON8])*1000,IF(U71,LOOKUP(A71,Load_Switch_NFET[PARTNUMBER],Load_Switch_NFET[RDSON6])*1000,IF(T71,LOOKUP(A71,Load_Switch_NFET[PARTNUMBER],Load_Switch_NFET[RDSON45])*1000,IF(S71,LOOKUP(A71,Load_Switch_NFET[PARTNUMBER],Load_Switch_NFET[RDSON3])*1000,IF(R71,LOOKUP(A71,Load_Switch_NFET[PARTNUMBER],Load_Switch_NFET[RDSON25])*1000,IF(Q71,LOOKUP(A71,Load_Switch_NFET[PARTNUMBER],Load_Switch_NFET[RDSON18])*1000,\"\")))))))","v":""},{"$f":"IF(AND(A71<>0,A71<>\"\"),X71*(1+(Tj-25)*(LOOKUP(A71,Load_Switch_NFET[PARTNUMBER],Load_Switch_NFET[RDSDELTA])/((LOOKUP(A71,Load_Switch_NFET[PARTNUMBER],Load_Switch_NFET[TJMAX])-25)))),\"\")","v":""},{"$f":"IF(AND(A71<>0,A71<>\"\"),LOOKUP(A71,Load_Switch_NFET[PARTNUMBER],Load_Switch_NFET[VTHMAX]),\"\")","v":""},{"$f":"IF(AND(A71<>0,A71<>\"\"),LOOKUP(A71,Load_Switch_NFET[PARTNUMBER],Load_Switch_NFET[VTHMIN]),\"\")","v":""},"#N/A",{"$f":"IF(AND(A71<>0,A71<>\"\"),LOOKUP(A71,Load_Switch_NFET[PARTNUMBER],Load_Switch_NFET[RGIMAX]),\"\")","v":""},{"$f":"IF(AND($A71<>0,$A71<>\"\"),LOOKUP($A71,Load_Switch_NFET[PARTNUMBER],Load_Switch_NFET[QGTYP]),\"\")","v":""},{"$f":"IF(AND($A71<>0,$A71<>\"\"),LOOKUP($A71,Load_Switch_NFET[PARTNUMBER],Load_Switch_NFET[QGS]),\"\")","v":""},{"$f":"IF(AND($A71<>0,$A71<>\"\"),LOOKUP($A71,Load_Switch_NFET[PARTNUMBER],Load_Switch_NFET[QGD]),\"\")","v":""},{"$f":"IF(AND($A71<>0,$A71<>\"\"),LOOKUP($A71,Load_Switch_NFET[PARTNUMBER],Load_Switch_NFET[QGTH]),\"\")","v":""},{"$f":"IF(AND($A71<>0,$A71<>\"\"),LOOKUP($A71,Load_Switch_NFET[PARTNUMBER],Load_Switch_NFET[VMILLER]),\"\")","v":""},{"$f":"IF(AND($A71<>0,$A71<>\"\"),LOOKUP($A71,Load_Switch_NFET[PARTNUMBER],Load_Switch_NFET[COSS_AT_VDSSPEC]),\"\")","v":""},"","","","",{"$f":"IF(AND($A71<>0,$A71<>\"\"),LOOKUP($A71,Load_Switch_NFET[PARTNUMBER],Load_Switch_NFET[1KPRICE]),\"\")","v":""},{"$f":"IF(AND($A71<>0,$A71<>\"\"),LOOKUP(A71,Load_Switch_NFET[PARTNUMBER],Load_Switch_NFET[TI_EQ_PACKAGE]),\"\")","v":""},"Invalid Part"]
[{"$f":"IF(CH=\"N\",NLogic!B72,\"\")","v":0},{"$f":"IF(OR($A72=0,$A72=\"\"),\"0\",IF(LOOKUP($A72,Load_Switch_NFET[PARTNUMBER],Load_Switch_NFET[RDSON18])=\"(NULL)\",\"0\",\"1\"))","v":"0"},{"$f":"IF(OR($A72=0,$A72=\"\"),\"0\",IF(LOOKUP($A72,Load_Switch_NFET[PARTNUMBER],Load_Switch_NFET[RDSON25])=\"(NULL)\",\"0\",\"1\"))","v":"0"},{"$f":"IF(OR($A72=0,$A72=\"\"),\"0\",IF(LOOKUP($A72,Load_Switch_NFET[PARTNUMBER],Load_Switch_NFET[RDSON3])=\"(NULL)\",\"0\",\"1\"))","v":"0"},{"$f":"IF(OR($A72=0,$A72=\"\"),\"0\",IF(LOOKUP($A72,Load_Switch_NFET[PARTNUMBER],Load_Switch_NFET[RDSON45])=\"(NULL)\",\"0\",\"1\"))","v":"0"},{"$f":"IF(OR($A72=0,$A72=\"\"),\"0\",IF(LOOKUP($A72,Load_Switch_NFET[PARTNUMBER],Load_Switch_NFET[RDSON6])=\"(NULL)\",\"0\",\"1\"))","v":"0"},{"$f":"IF(OR($A72=0,$A72=\"\"),\"0\",IF(LOOKUP($A72,Load_Switch_NFET[PARTNUMBER],Load_Switch_NFET[RDSON8])=\"(NULL)\",\"0\",\"1\"))","v":"0"},{"$f":"IF(OR($A72=0,$A72=\"\"),\"0\",IF(LOOKUP($A72,Load_Switch_NFET[PARTNUMBER],Load_Switch_NFET[RDSON10])=\"(NULL)\",\"0\",\"1\"))","v":"0"},false,false,false,false,false,false,false,false,false,false,false,false,false,false,false,{"$f":"IF(W72,LOOKUP(A72,Load_Switch_NFET[PARTNUMBER],Load_Switch_NFET[RDSON10])*1000,IF(V72,LOOKUP(A72,Load_Switch_NFET[PARTNUMBER],Load_Switch_NFET[RDSON8])*1000,IF(U72,LOOKUP(A72,Load_Switch_NFET[PARTNUMBER],Load_Switch_NFET[RDSON6])*1000,IF(T72,LOOKUP(A72,Load_Switch_NFET[PARTNUMBER],Load_Switch_NFET[RDSON45])*1000,IF(S72,LOOKUP(A72,Load_Switch_NFET[PARTNUMBER],Load_Switch_NFET[RDSON3])*1000,IF(R72,LOOKUP(A72,Load_Switch_NFET[PARTNUMBER],Load_Switch_NFET[RDSON25])*1000,IF(Q72,LOOKUP(A72,Load_Switch_NFET[PARTNUMBER],Load_Switch_NFET[RDSON18])*1000,\"\")))))))","v":""},{"$f":"IF(AND(A72<>0,A72<>\"\"),X72*(1+(Tj-25)*(LOOKUP(A72,Load_Switch_NFET[PARTNUMBER],Load_Switch_NFET[RDSDELTA])/((LOOKUP(A72,Load_Switch_NFET[PARTNUMBER],Load_Switch_NFET[TJMAX])-25)))),\"\")","v":""},{"$f":"IF(AND(A72<>0,A72<>\"\"),LOOKUP(A72,Load_Switch_NFET[PARTNUMBER],Load_Switch_NFET[VTHMAX]),\"\")","v":""},{"$f":"IF(AND(A72<>0,A72<>\"\"),LOOKUP(A72,Load_Switch_NFET[PARTNUMBER],Load_Switch_NFET[VTHMIN]),\"\")","v":""},"#N/A",{"$f":"IF(AND(A72<>0,A72<>\"\"),LOOKUP(A72,Load_Switch_NFET[PARTNUMBER],Load_Switch_NFET[RGIMAX]),\"\")","v":""},{"$f":"IF(AND($A72<>0,$A72<>\"\"),LOOKUP($A72,Load_Switch_NFET[PARTNUMBER],Load_Switch_NFET[QGTYP]),\"\")","v":""},{"$f":"IF(AND($A72<>0,$A72<>\"\"),LOOKUP($A72,Load_Switch_NFET[PARTNUMBER],Load_Switch_NFET[QGS]),\"\")","v":""},{"$f":"IF(AND($A72<>0,$A72<>\"\"),LOOKUP($A72,Load_Switch_NFET[PARTNUMBER],Load_Switch_NFET[QGD]),\"\")","v":""},{"$f":"IF(AND($A72<>0,$A72<>\"\"),LOOKUP($A72,Load_Switch_NFET[PARTNUMBER],Load_Switch_NFET[QGTH]),\"\")","v":""},{"$f":"IF(AND($A72<>0,$A72<>\"\"),LOOKUP($A72,Load_Switch_NFET[PARTNUMBER],Load_Switch_NFET[VMILLER]),\"\")","v":""},{"$f":"IF(AND($A72<>0,$A72<>\"\"),LOOKUP($A72,Load_Switch_NFET[PARTNUMBER],Load_Switch_NFET[COSS_AT_VDSSPEC]),\"\")","v":""},"","","","",{"$f":"IF(AND($A72<>0,$A72<>\"\"),LOOKUP($A72,Load_Switch_NFET[PARTNUMBER],Load_Switch_NFET[1KPRICE]),\"\")","v":""},{"$f":"IF(AND($A72<>0,$A72<>\"\"),LOOKUP(A72,Load_Switch_NFET[PARTNUMBER],Load_Switch_NFET[TI_EQ_PACKAGE]),\"\")","v":""},"Invalid Part"]
[{"$f":"IF(CH=\"N\",NLogic!B73,\"\")","v":0},{"$f":"IF(OR($A73=0,$A73=\"\"),\"0\",IF(LOOKUP($A73,Load_Switch_NFET[PARTNUMBER],Load_Switch_NFET[RDSON18])=\"(NULL)\",\"0\",\"1\"))","v":"0"},{"$f":"IF(OR($A73=0,$A73=\"\"),\"0\",IF(LOOKUP($A73,Load_Switch_NFET[PARTNUMBER],Load_Switch_NFET[RDSON25])=\"(NULL)\",\"0\",\"1\"))","v":"0"},{"$f":"IF(OR($A73=0,$A73=\"\"),\"0\",IF(LOOKUP($A73,Load_Switch_NFET[PARTNUMBER],Load_Switch_NFET[RDSON3])=\"(NULL)\",\"0\",\"1\"))","v":"0"},{"$f":"IF(OR($A73=0,$A73=\"\"),\"0\",IF(LOOKUP($A73,Load_Switch_NFET[PARTNUMBER],Load_Switch_NFET[RDSON45])=\"(NULL)\",\"0\",\"1\"))","v":"0"},{"$f":"IF(OR($A73=0,$A73=\"\"),\"0\",IF(LOOKUP($A73,Load_Switch_NFET[PARTNUMBER],Load_Switch_NFET[RDSON6])=\"(NULL)\",\"0\",\"1\"))","v":"0"},{"$f":"IF(OR($A73=0,$A73=\"\"),\"0\",IF(LOOKUP($A73,Load_Switch_NFET[PARTNUMBER],Load_Switch_NFET[RDSON8])=\"(NULL)\",\"0\",\"1\"))","v":"0"},{"$f":"IF(OR($A73=0,$A73=\"\"),\"0\",IF(LOOKUP($A73,Load_Switch_NFET[PARTNUMBER],Load_Switch_NFET[RDSON10])=\"(NULL)\",\"0\",\"1\"))","v":"0"},false,false,false,false,false,false,false,false,false,false,false,false,false,false,false,{"$f":"IF(W73,LOOKUP(A73,Load_Switch_NFET[PARTNUMBER],Load_Switch_NFET[RDSON10])*1000,IF(V73,LOOKUP(A73,Load_Switch_NFET[PARTNUMBER],Load_Switch_NFET[RDSON8])*1000,IF(U73,LOOKUP(A73,Load_Switch_NFET[PARTNUMBER],Load_Switch_NFET[RDSON6])*1000,IF(T73,LOOKUP(A73,Load_Switch_NFET[PARTNUMBER],Load_Switch_NFET[RDSON45])*1000,IF(S73,LOOKUP(A73,Load_Switch_NFET[PARTNUMBER],Load_Switch_NFET[RDSON3])*1000,IF(R73,LOOKUP(A73,Load_Switch_NFET[PARTNUMBER],Load_Switch_NFET[RDSON25])*1000,IF(Q73,LOOKUP(A73,Load_Switch_NFET[PARTNUMBER],Load_Switch_NFET[RDSON18])*1000,\"\")))))))","v":""},{"$f":"IF(AND(A73<>0,A73<>\"\"),X73*(1+(Tj-25)*(LOOKUP(A73,Load_Switch_NFET[PARTNUMBER],Load_Switch_NFET[RDSDELTA])/((LOOKUP(A73,Load_Switch_NFET[PARTNUMBER],Load_Switch_NFET[TJMAX])-25)))),\"\")","v":""},{"$f":"IF(AND(A73<>0,A73<>\"\"),LOOKUP(A73,Load_Switch_NFET[PARTNUMBER],Load_Switch_NFET[VTHMAX]),\"\")","v":""},{"$f":"IF(AND(A73<>0,A73<>\"\"),LOOKUP(A73,Load_Switch_NFET[PARTNUMBER],Load_Switch_NFET[VTHMIN]),\"\")","v":""},"#N/A",{"$f":"IF(AND(A73<>0,A73<>\"\"),LOOKUP(A73,Load_Switch_NFET[PARTNUMBER],Load_Switch_NFET[RGIMAX]),\"\")","v":""},{"$f":"IF(AND($A73<>0,$A73<>\"\"),LOOKUP($A73,Load_Switch_NFET[PARTNUMBER],Load_Switch_NFET[QGTYP]),\"\")","v":""},{"$f":"IF(AND($A73<>0,$A73<>\"\"),LOOKUP($A73,Load_Switch_NFET[PARTNUMBER],Load_Switch_NFET[QGS]),\"\")","v":""},{"$f":"IF(AND($A73<>0,$A73<>\"\"),LOOKUP($A73,Load_Switch_NFET[PARTNUMBER],Load_Switch_NFET[QGD]),\"\")","v":""},{"$f":"IF(AND($A73<>0,$A73<>\"\"),LOOKUP($A73,Load_Switch_NFET[PARTNUMBER],Load_Switch_NFET[QGTH]),\"\")","v":""},{"$f":"IF(AND($A73<>0,$A73<>\"\"),LOOKUP($A73,Load_Switch_NFET[PARTNUMBER],Load_Switch_NFET[VMILLER]),\"\")","v":""},{"$f":"IF(AND($A73<>0,$A73<>\"\"),LOOKUP($A73,Load_Switch_NFET[PARTNUMBER],Load_Switch_NFET[COSS_AT_VDSSPEC]),\"\")","v":""},"","","","",{"$f":"IF(AND($A73<>0,$A73<>\"\"),LOOKUP($A73,Load_Switch_NFET[PARTNUMBER],Load_Switch_NFET[1KPRICE]),\"\")","v":""},{"$f":"IF(AND($A73<>0,$A73<>\"\"),LOOKUP(A73,Load_Switch_NFET[PARTNUMBER],Load_Switch_NFET[TI_EQ_PACKAGE]),\"\")","v":""},"Invalid Part"]
[{"$f":"IF(CH=\"N\",NLogic!B74,\"\")","v":0},{"$f":"IF(OR($A74=0,$A74=\"\"),\"0\",IF(LOOKUP($A74,Load_Switch_NFET[PARTNUMBER],Load_Switch_NFET[RDSON18])=\"(NULL)\",\"0\",\"1\"))","v":"0"},{"$f":"IF(OR($A74=0,$A74=\"\"),\"0\",IF(LOOKUP($A74,Load_Switch_NFET[PARTNUMBER],Load_Switch_NFET[RDSON25])=\"(NULL)\",\"0\",\"1\"))","v":"0"},{"$f":"IF(OR($A74=0,$A74=\"\"),\"0\",IF(LOOKUP($A74,Load_Switch_NFET[PARTNUMBER],Load_Switch_NFET[RDSON3])=\"(NULL)\",\"0\",\"1\"))","v":"0"},{"$f":"IF(OR($A74=0,$A74=\"\"),\"0\",IF(LOOKUP($A74,Load_Switch_NFET[PARTNUMBER],Load_Switch_NFET[RDSON45])=\"(NULL)\",\"0\",\"1\"))","v":"0"},{"$f":"IF(OR($A74=0,$A74=\"\"),\"0\",IF(LOOKUP($A74,Load_Switch_NFET[PARTNUMBER],Load_Switch_NFET[RDSON6])=\"(NULL)\",\"0\",\"1\"))","v":"0"},{"$f":"IF(OR($A74=0,$A74=\"\"),\"0\",IF(LOOKUP($A74,Load_Switch_NFET[PARTNUMBER],Load_Switch_NFET[RDSON8])=\"(NULL)\",\"0\",\"1\"))","v":"0"},{"$f":"IF(OR($A74=0,$A74=\"\"),\"0\",IF(LOOKUP($A74,Load_Switch_NFET[PARTNUMBER],Load_Switch_NFET[RDSON10])=\"(NULL)\",\"0\",\"1\"))","v":"0"},false,false,false,false,false,false,false,false,false,false,false,false,false,false,false,{"$f":"IF(W74,LOOKUP(A74,Load_Switch_NFET[PARTNUMBER],Load_Switch_NFET[RDSON10])*1000,IF(V74,LOOKUP(A74,Load_Switch_NFET[PARTNUMBER],Load_Switch_NFET[RDSON8])*1000,IF(U74,LOOKUP(A74,Load_Switch_NFET[PARTNUMBER],Load_Switch_NFET[RDSON6])*1000,IF(T74,LOOKUP(A74,Load_Switch_NFET[PARTNUMBER],Load_Switch_NFET[RDSON45])*1000,IF(S74,LOOKUP(A74,Load_Switch_NFET[PARTNUMBER],Load_Switch_NFET[RDSON3])*1000,IF(R74,LOOKUP(A74,Load_Switch_NFET[PARTNUMBER],Load_Switch_NFET[RDSON25])*1000,IF(Q74,LOOKUP(A74,Load_Switch_NFET[PARTNUMBER],Load_Switch_NFET[RDSON18])*1000,\"\")))))))","v":""},{"$f":"IF(AND(A74<>0,A74<>\"\"),X74*(1+(Tj-25)*(LOOKUP(A74,Load_Switch_NFET[PARTNUMBER],Load_Switch_NFET[RDSDELTA])/((LOOKUP(A74,Load_Switch_NFET[PARTNUMBER],Load_Switch_NFET[TJMAX])-25)))),\"\")","v":""},{"$f":"IF(AND(A74<>0,A74<>\"\"),LOOKUP(A74,Load_Switch_NFET[PARTNUMBER],Load_Switch_NFET[VTHMAX]),\"\")","v":""},{"$f":"IF(AND(A74<>0,A74<>\"\"),LOOKUP(A74,Load_Switch_NFET[PARTNUMBER],Load_Switch_NFET[VTHMIN]),\"\")","v":""},"#N/A",{"$f":"IF(AND(A74<>0,A74<>\"\"),LOOKUP(A74,Load_Switch_NFET[PARTNUMBER],Load_Switch_NFET[RGIMAX]),\"\")","v":""},{"$f":"IF(AND($A74<>0,$A74<>\"\"),LOOKUP($A74,Load_Switch_NFET[PARTNUMBER],Load_Switch_NFET[QGTYP]),\"\")","v":""},{"$f":"IF(AND($A74<>0,$A74<>\"\"),LOOKUP($A74,Load_Switch_NFET[PARTNUMBER],Load_Switch_NFET[QGS]),\"\")","v":""},{"$f":"IF(AND($A74<>0,$A74<>\"\"),LOOKUP($A74,Load_Switch_NFET[PARTNUMBER],Load_Switch_NFET[QGD]),\"\")","v":""},{"$f":"IF(AND($A74<>0,$A74<>\"\"),LOOKUP($A74,Load_Switch_NFET[PARTNUMBER],Load_Switch_NFET[QGTH]),\"\")","v":""},{"$f":"IF(AND($A74<>0,$A74<>\"\"),LOOKUP($A74,Load_Switch_NFET[PARTNUMBER],Load_Switch_NFET[VMILLER]),\"\")","v":""},{"$f":"IF(AND($A74<>0,$A74<>\"\"),LOOKUP($A74,Load_Switch_NFET[PARTNUMBER],Load_Switch_NFET[COSS_AT_VDSSPEC]),\"\")","v":""},"","","","",{"$f":"IF(AND($A74<>0,$A74<>\"\"),LOOKUP($A74,Load_Switch_NFET[PARTNUMBER],Load_Switch_NFET[1KPRICE]),\"\")","v":""},{"$f":"IF(AND($A74<>0,$A74<>\"\"),LOOKUP(A74,Load_Switch_NFET[PARTNUMBER],Load_Switch_NFET[TI_EQ_PACKAGE]),\"\")","v":""},"Invalid Part"]
[{"$f":"IF(CH=\"N\",NLogic!B75,\"\")","v":0},{"$f":"IF(OR($A75=0,$A75=\"\"),\"0\",IF(LOOKUP($A75,Load_Switch_NFET[PARTNUMBER],Load_Switch_NFET[RDSON18])=\"(NULL)\",\"0\",\"1\"))","v":"0"},{"$f":"IF(OR($A75=0,$A75=\"\"),\"0\",IF(LOOKUP($A75,Load_Switch_NFET[PARTNUMBER],Load_Switch_NFET[RDSON25])=\"(NULL)\",\"0\",\"1\"))","v":"0"},{"$f":"IF(OR($A75=0,$A75=\"\"),\"0\",IF(LOOKUP($A75,Load_Switch_NFET[PARTNUMBER],Load_Switch_NFET[RDSON3])=\"(NULL)\",\"0\",\"1\"))","v":"0"},{"$f":"IF(OR($A75=0,$A75=\"\"),\"0\",IF(LOOKUP($A75,Load_Switch_NFET[PARTNUMBER],Load_Switch_NFET[RDSON45])=\"(NULL)\",\"0\",\"1\"))","v":"0"},{"$f":"IF(OR($A75=0,$A75=\"\"),\"0\",IF(LOOKUP($A75,Load_Switch_NFET[PARTNUMBER],Load_Switch_NFET[RDSON6])=\"(NULL)\",\"0\",\"1\"))","v":"0"},{"$f":"IF(OR($A75=0,$A75=\"\"),\"0\",IF(LOOKUP($A75,Load_Switch_NFET[PARTNUMBER],Load_Switch_NFET[RDSON8])=\"(NULL)\",\"0\",\"1\"))","v":"0"},{"$f":"IF(OR($A75=0,$A75=\"\"),\"0\",IF(LOOKUP($A75,Load_Switch_NFET[PARTNUMBER],Load_Switch_NFET[RDSON10])=\"(NULL)\",\"0\",\"1\"))","v":"0"},false,false,false,false,false,false,false,false,false,false,false,false,false,false,false,{"$f":"IF(W75,LOOKUP(A75,Load_Switch_NFET[PARTNUMBER],Load_Switch_NFET[RDSON10])*1000,IF(V75,LOOKUP(A75,Load_Switch_NFET[PARTNUMBER],Load_Switch_NFET[RDSON8])*1000,IF(U75,LOOKUP(A75,Load_Switch_NFET[PARTNUMBER],Load_Switch_NFET[RDSON6])*1000,IF(T75,LOOKUP(A75,Load_Switch_NFET[PARTNUMBER],Load_Switch_NFET[RDSON45])*1000,IF(S75,LOOKUP(A75,Load_Switch_NFET[PARTNUMBER],Load_Switch_NFET[RDSON3])*1000,IF(R75,LOOKUP(A75,Load_Switch_NFET[PARTNUMBER],Load_Switch_NFET[RDSON25])*1000,IF(Q75,LOOKUP(A75,Load_Switch_NFET[PARTNUMBER],Load_Switch_NFET[RDSON18])*1000,\"\")))))))","v":""},{"$f":"IF(AND(A75<>0,A75<>\"\"),X75*(1+(Tj-25)*(LOOKUP(A75,Load_Switch_NFET[PARTNUMBER],Load_Switch_NFET[RDSDELTA])/((LOOKUP(A75,Load_Switch_NFET[PARTNUMBER],Load_Switch_NFET[TJMAX])-25)))),\"\")","v":""},{"$f":"IF(AND(A75<>0,A75<>\"\"),LOOKUP(A75,Load_Switch_NFET[PARTNUMBER],Load_Switch_NFET[VTHMAX]),\"\")","v":""},{"$f":"IF(AND(A75<>0,A75<>\"\"),LOOKUP(A75,Load_Switch_NFET[PARTNUMBER],Load_Switch_NFET[VTHMIN]),\"\")","v":""},"#N/A",{"$f":"IF(AND(A75<>0,A75<>\"\"),LOOKUP(A75,Load_Switch_NFET[PARTNUMBER],Load_Switch_NFET[RGIMAX]),\"\")","v":""},{"$f":"IF(AND($A75<>0,$A75<>\"\"),LOOKUP($A75,Load_Switch_NFET[PARTNUMBER],Load_Switch_NFET[QGTYP]),\"\")","v":""},{"$f":"IF(AND($A75<>0,$A75<>\"\"),LOOKUP($A75,Load_Switch_NFET[PARTNUMBER],Load_Switch_NFET[QGS]),\"\")","v":""},{"$f":"IF(AND($A75<>0,$A75<>\"\"),LOOKUP($A75,Load_Switch_NFET[PARTNUMBER],Load_Switch_NFET[QGD]),\"\")","v":""},{"$f":"IF(AND($A75<>0,$A75<>\"\"),LOOKUP($A75,Load_Switch_NFET[PARTNUMBER],Load_Switch_NFET[QGTH]),\"\")","v":""},{"$f":"IF(AND($A75<>0,$A75<>\"\"),LOOKUP($A75,Load_Switch_NFET[PARTNUMBER],Load_Switch_NFET[VMILLER]),\"\")","v":""},{"$f":"IF(AND($A75<>0,$A75<>\"\"),LOOKUP($A75,Load_Switch_NFET[PARTNUMBER],Load_Switch_NFET[COSS_AT_VDSSPEC]),\"\")","v":""},"","","","",{"$f":"IF(AND($A75<>0,$A75<>\"\"),LOOKUP($A75,Load_Switch_NFET[PARTNUMBER],Load_Switch_NFET[1KPRICE]),\"\")","v":""},{"$f":"IF(AND($A75<>0,$A75<>\"\"),LOOKUP(A75,Load_Switch_NFET[PARTNUMBER],Load_Switch_NFET[TI_EQ_PACKAGE]),\"\")","v":""},"Invalid Part"]
[{"$f":"IF(CH=\"N\",NLogic!B76,\"\")","v":0},{"$f":"IF(OR($A76=0,$A76=\"\"),\"0\",IF(LOOKUP($A76,Load_Switch_NFET[PARTNUMBER],Load_Switch_NFET[RDSON18])=\"(NULL)\",\"0\",\"1\"))","v":"0"},{"$f":"IF(OR($A76=0,$A76=\"\"),\"0\",IF(LOOKUP($A76,Load_Switch_NFET[PARTNUMBER],Load_Switch_NFET[RDSON25])=\"(NULL)\",\"0\",\"1\"))","v":"0"},{"$f":"IF(OR($A76=0,$A76=\"\"),\"0\",IF(LOOKUP($A76,Load_Switch_NFET[PARTNUMBER],Load_Switch_NFET[RDSON3])=\"(NULL)\",\"0\",\"1\"))","v":"0"},{"$f":"IF(OR($A76=0,$A76=\"\"),\"0\",IF(LOOKUP($A76,Load_Switch_NFET[PARTNUMBER],Load_Switch_NFET[RDSON45])=\"(NULL)\",\"0\",\"1\"))","v":"0"},{"$f":"IF(OR($A76=0,$A76=\"\"),\"0\",IF(LOOKUP($A76,Load_Switch_NFET[PARTNUMBER],Load_Switch_NFET[RDSON6])=\"(NULL)\",\"0\",\"1\"))","v":"0"},{"$f":"IF(OR($A76=0,$A76=\"\"),\"0\",IF(LOOKUP($A76,Load_Switch_NFET[PARTNUMBER],Load_Switch_NFET[RDSON8])=\"(NULL)\",\"0\",\"1\"))","v":"0"},{"$f":"IF(OR($A76=0,$A76=\"\"),\"0\",IF(LOOKUP($A76,Load_Switch_NFET[PARTNUMBER],Load_Switch_NFET[RDSON10])=\"(NULL)\",\"0\",\"1\"))","v":"0"},false,false,false,false,false,false,false,false,false,false,false,false,false,false,false,{"$f":"IF(W76,LOOKUP(A76,Load_Switch_NFET[PARTNUMBER],Load_Switch_NFET[RDSON10])*1000,IF(V76,LOOKUP(A76,Load_Switch_NFET[PARTNUMBER],Load_Switch_NFET[RDSON8])*1000,IF(U76,LOOKUP(A76,Load_Switch_NFET[PARTNUMBER],Load_Switch_NFET[RDSON6])*1000,IF(T76,LOOKUP(A76,Load_Switch_NFET[PARTNUMBER],Load_Switch_NFET[RDSON45])*1000,IF(S76,LOOKUP(A76,Load_Switch_NFET[PARTNUMBER],Load_Switch_NFET[RDSON3])*1000,IF(R76,LOOKUP(A76,Load_Switch_NFET[PARTNUMBER],Load_Switch_NFET[RDSON25])*1000,IF(Q76,LOOKUP(A76,Load_Switch_NFET[PARTNUMBER],Load_Switch_NFET[RDSON18])*1000,\"\")))))))","v":""},{"$f":"IF(AND(A76<>0,A76<>\"\"),X76*(1+(Tj-25)*(LOOKUP(A76,Load_Switch_NFET[PARTNUMBER],Load_Switch_NFET[RDSDELTA])/((LOOKUP(A76,Load_Switch_NFET[PARTNUMBER],Load_Switch_NFET[TJMAX])-25)))),\"\")","v":""},{"$f":"IF(AND(A76<>0,A76<>\"\"),LOOKUP(A76,Load_Switch_NFET[PARTNUMBER],Load_Switch_NFET[VTHMAX]),\"\")","v":""},{"$f":"IF(AND(A76<>0,A76<>\"\"),LOOKUP(A76,Load_Switch_NFET[PARTNUMBER],Load_Switch_NFET[VTHMIN]),\"\")","v":""},"#N/A",{"$f":"IF(AND(A76<>0,A76<>\"\"),LOOKUP(A76,Load_Switch_NFET[PARTNUMBER],Load_Switch_NFET[RGIMAX]),\"\")","v":""},{"$f":"IF(AND($A76<>0,$A76<>\"\"),LOOKUP($A76,Load_Switch_NFET[PARTNUMBER],Load_Switch_NFET[QGTYP]),\"\")","v":""},{"$f":"IF(AND($A76<>0,$A76<>\"\"),LOOKUP($A76,Load_Switch_NFET[PARTNUMBER],Load_Switch_NFET[QGS]),\"\")","v":""},{"$f":"IF(AND($A76<>0,$A76<>\"\"),LOOKUP($A76,Load_Switch_NFET[PARTNUMBER],Load_Switch_NFET[QGD]),\"\")","v":""},{"$f":"IF(AND($A76<>0,$A76<>\"\"),LOOKUP($A76,Load_Switch_NFET[PARTNUMBER],Load_Switch_NFET[QGTH]),\"\")","v":""},{"$f":"IF(AND($A76<>0,$A76<>\"\"),LOOKUP($A76,Load_Switch_NFET[PARTNUMBER],Load_Switch_NFET[VMILLER]),\"\")","v":""},{"$f":"IF(AND($A76<>0,$A76<>\"\"),LOOKUP($A76,Load_Switch_NFET[PARTNUMBER],Load_Switch_NFET[COSS_AT_VDSSPEC]),\"\")","v":""},"","","","",{"$f":"IF(AND($A76<>0,$A76<>\"\"),LOOKUP($A76,Load_Switch_NFET[PARTNUMBER],Load_Switch_NFET[1KPRICE]),\"\")","v":""},{"$f":"IF(AND($A76<>0,$A76<>\"\"),LOOKUP(A76,Load_Switch_NFET[PARTNUMBER],Load_Switch_NFET[TI_EQ_PACKAGE]),\"\")","v":""},"Invalid Part"]
[{"$f":"IF(CH=\"N\",NLogic!B77,\"\")","v":0},{"$f":"IF(OR($A77=0,$A77=\"\"),\"0\",IF(LOOKUP($A77,Load_Switch_NFET[PARTNUMBER],Load_Switch_NFET[RDSON18])=\"(NULL)\",\"0\",\"1\"))","v":"0"},{"$f":"IF(OR($A77=0,$A77=\"\"),\"0\",IF(LOOKUP($A77,Load_Switch_NFET[PARTNUMBER],Load_Switch_NFET[RDSON25])=\"(NULL)\",\"0\",\"1\"))","v":"0"},{"$f":"IF(OR($A77=0,$A77=\"\"),\"0\",IF(LOOKUP($A77,Load_Switch_NFET[PARTNUMBER],Load_Switch_NFET[RDSON3])=\"(NULL)\",\"0\",\"1\"))","v":"0"},{"$f":"IF(OR($A77=0,$A77=\"\"),\"0\",IF(LOOKUP($A77,Load_Switch_NFET[PARTNUMBER],Load_Switch_NFET[RDSON45])=\"(NULL)\",\"0\",\"1\"))","v":"0"},{"$f":"IF(OR($A77=0,$A77=\"\"),\"0\",IF(LOOKUP($A77,Load_Switch_NFET[PARTNUMBER],Load_Switch_NFET[RDSON6])=\"(NULL)\",\"0\",\"1\"))","v":"0"},{"$f":"IF(OR($A77=0,$A77=\"\"),\"0\",IF(LOOKUP($A77,Load_Switch_NFET[PARTNUMBER],Load_Switch_NFET[RDSON8])=\"(NULL)\",\"0\",\"1\"))","v":"0"},{"$f":"IF(OR($A77=0,$A77=\"\"),\"0\",IF(LOOKUP($A77,Load_Switch_NFET[PARTNUMBER],Load_Switch_NFET[RDSON10])=\"(NULL)\",\"0\",\"1\"))","v":"0"},false,false,false,false,false,false,false,false,false,false,false,false,false,false,false,{"$f":"IF(W77,LOOKUP(A77,Load_Switch_NFET[PARTNUMBER],Load_Switch_NFET[RDSON10])*1000,IF(V77,LOOKUP(A77,Load_Switch_NFET[PARTNUMBER],Load_Switch_NFET[RDSON8])*1000,IF(U77,LOOKUP(A77,Load_Switch_NFET[PARTNUMBER],Load_Switch_NFET[RDSON6])*1000,IF(T77,LOOKUP(A77,Load_Switch_NFET[PARTNUMBER],Load_Switch_NFET[RDSON45])*1000,IF(S77,LOOKUP(A77,Load_Switch_NFET[PARTNUMBER],Load_Switch_NFET[RDSON3])*1000,IF(R77,LOOKUP(A77,Load_Switch_NFET[PARTNUMBER],Load_Switch_NFET[RDSON25])*1000,IF(Q77,LOOKUP(A77,Load_Switch_NFET[PARTNUMBER],Load_Switch_NFET[RDSON18])*1000,\"\")))))))","v":""},{"$f":"IF(AND(A77<>0,A77<>\"\"),X77*(1+(Tj-25)*(LOOKUP(A77,Load_Switch_NFET[PARTNUMBER],Load_Switch_NFET[RDSDELTA])/((LOOKUP(A77,Load_Switch_NFET[PARTNUMBER],Load_Switch_NFET[TJMAX])-25)))),\"\")","v":""},{"$f":"IF(AND(A77<>0,A77<>\"\"),LOOKUP(A77,Load_Switch_NFET[PARTNUMBER],Load_Switch_NFET[VTHMAX]),\"\")","v":""},{"$f":"IF(AND(A77<>0,A77<>\"\"),LOOKUP(A77,Load_Switch_NFET[PARTNUMBER],Load_Switch_NFET[VTHMIN]),\"\")","v":""},"#N/A",{"$f":"IF(AND(A77<>0,A77<>\"\"),LOOKUP(A77,Load_Switch_NFET[PARTNUMBER],Load_Switch_NFET[RGIMAX]),\"\")","v":""},{"$f":"IF(AND($A77<>0,$A77<>\"\"),LOOKUP($A77,Load_Switch_NFET[PARTNUMBER],Load_Switch_NFET[QGTYP]),\"\")","v":""},{"$f":"IF(AND($A77<>0,$A77<>\"\"),LOOKUP($A77,Load_Switch_NFET[PARTNUMBER],Load_Switch_NFET[QGS]),\"\")","v":""},{"$f":"IF(AND($A77<>0,$A77<>\"\"),LOOKUP($A77,Load_Switch_NFET[PARTNUMBER],Load_Switch_NFET[QGD]),\"\")","v":""},{"$f":"IF(AND($A77<>0,$A77<>\"\"),LOOKUP($A77,Load_Switch_NFET[PARTNUMBER],Load_Switch_NFET[QGTH]),\"\")","v":""},{"$f":"IF(AND($A77<>0,$A77<>\"\"),LOOKUP($A77,Load_Switch_NFET[PARTNUMBER],Load_Switch_NFET[VMILLER]),\"\")","v":""},{"$f":"IF(AND($A77<>0,$A77<>\"\"),LOOKUP($A77,Load_Switch_NFET[PARTNUMBER],Load_Switch_NFET[COSS_AT_VDSSPEC]),\"\")","v":""},"","","","",{"$f":"IF(AND($A77<>0,$A77<>\"\"),LOOKUP($A77,Load_Switch_NFET[PARTNUMBER],Load_Switch_NFET[1KPRICE]),\"\")","v":""},{"$f":"IF(AND($A77<>0,$A77<>\"\"),LOOKUP(A77,Load_Switch_NFET[PARTNUMBER],Load_Switch_NFET[TI_EQ_PACKAGE]),\"\")","v":""},"Invalid Part"]
[{"$f":"IF(CH=\"N\",NLogic!B78,\"\")","v":0},{"$f":"IF(OR($A78=0,$A78=\"\"),\"0\",IF(LOOKUP($A78,Load_Switch_NFET[PARTNUMBER],Load_Switch_NFET[RDSON18])=\"(NULL)\",\"0\",\"1\"))","v":"0"},{"$f":"IF(OR($A78=0,$A78=\"\"),\"0\",IF(LOOKUP($A78,Load_Switch_NFET[PARTNUMBER],Load_Switch_NFET[RDSON25])=\"(NULL)\",\"0\",\"1\"))","v":"0"},{"$f":"IF(OR($A78=0,$A78=\"\"),\"0\",IF(LOOKUP($A78,Load_Switch_NFET[PARTNUMBER],Load_Switch_NFET[RDSON3])=\"(NULL)\",\"0\",\"1\"))","v":"0"},{"$f":"IF(OR($A78=0,$A78=\"\"),\"0\",IF(LOOKUP($A78,Load_Switch_NFET[PARTNUMBER],Load_Switch_NFET[RDSON45])=\"(NULL)\",\"0\",\"1\"))","v":"0"},{"$f":"IF(OR($A78=0,$A78=\"\"),\"0\",IF(LOOKUP($A78,Load_Switch_NFET[PARTNUMBER],Load_Switch_NFET[RDSON6])=\"(NULL)\",\"0\",\"1\"))","v":"0"},{"$f":"IF(OR($A78=0,$A78=\"\"),\"0\",IF(LOOKUP($A78,Load_Switch_NFET[PARTNUMBER],Load_Switch_NFET[RDSON8])=\"(NULL)\",\"0\",\"1\"))","v":"0"},{"$f":"IF(OR($A78=0,$A78=\"\"),\"0\",IF(LOOKUP($A78,Load_Switch_NFET[PARTNUMBER],Load_Switch_NFET[RDSON10])=\"(NULL)\",\"0\",\"1\"))","v":"0"},false,false,false,false,false,false,false,false,false,false,false,false,false,false,false,{"$f":"IF(W78,LOOKUP(A78,Load_Switch_NFET[PARTNUMBER],Load_Switch_NFET[RDSON10])*1000,IF(V78,LOOKUP(A78,Load_Switch_NFET[PARTNUMBER],Load_Switch_NFET[RDSON8])*1000,IF(U78,LOOKUP(A78,Load_Switch_NFET[PARTNUMBER],Load_Switch_NFET[RDSON6])*1000,IF(T78,LOOKUP(A78,Load_Switch_NFET[PARTNUMBER],Load_Switch_NFET[RDSON45])*1000,IF(S78,LOOKUP(A78,Load_Switch_NFET[PARTNUMBER],Load_Switch_NFET[RDSON3])*1000,IF(R78,LOOKUP(A78,Load_Switch_NFET[PARTNUMBER],Load_Switch_NFET[RDSON25])*1000,IF(Q78,LOOKUP(A78,Load_Switch_NFET[PARTNUMBER],Load_Switch_NFET[RDSON18])*1000,\"\")))))))","v":""},{"$f":"IF(AND(A78<>0,A78<>\"\"),X78*(1+(Tj-25)*(LOOKUP(A78,Load_Switch_NFET[PARTNUMBER],Load_Switch_NFET[RDSDELTA])/((LOOKUP(A78,Load_Switch_NFET[PARTNUMBER],Load_Switch_NFET[TJMAX])-25)))),\"\")","v":""},{"$f":"IF(AND(A78<>0,A78<>\"\"),LOOKUP(A78,Load_Switch_NFET[PARTNUMBER],Load_Switch_NFET[VTHMAX]),\"\")","v":""},{"$f":"IF(AND(A78<>0,A78<>\"\"),LOOKUP(A78,Load_Switch_NFET[PARTNUMBER],Load_Switch_NFET[VTHMIN]),\"\")","v":""},"#N/A",{"$f":"IF(AND(A78<>0,A78<>\"\"),LOOKUP(A78,Load_Switch_NFET[PARTNUMBER],Load_Switch_NFET[RGIMAX]),\"\")","v":""},{"$f":"IF(AND($A78<>0,$A78<>\"\"),LOOKUP($A78,Load_Switch_NFET[PARTNUMBER],Load_Switch_NFET[QGTYP]),\"\")","v":""},{"$f":"IF(AND($A78<>0,$A78<>\"\"),LOOKUP($A78,Load_Switch_NFET[PARTNUMBER],Load_Switch_NFET[QGS]),\"\")","v":""},{"$f":"IF(AND($A78<>0,$A78<>\"\"),LOOKUP($A78,Load_Switch_NFET[PARTNUMBER],Load_Switch_NFET[QGD]),\"\")","v":""},{"$f":"IF(AND($A78<>0,$A78<>\"\"),LOOKUP($A78,Load_Switch_NFET[PARTNUMBER],Load_Switch_NFET[QGTH]),\"\")","v":""},{"$f":"IF(AND($A78<>0,$A78<>\"\"),LOOKUP($A78,Load_Switch_NFET[PARTNUMBER],Load_Switch_NFET[VMILLER]),\"\")","v":""},{"$f":"IF(AND($A78<>0,$A78<>\"\"),LOOKUP($A78,Load_Switch_NFET[PARTNUMBER],Load_Switch_NFET[COSS_AT_VDSSPEC]),\"\")","v":""},"","","","",{"$f":"IF(AND($A78<>0,$A78<>\"\"),LOOKUP($A78,Load_Switch_NFET[PARTNUMBER],Load_Switch_NFET[1KPRICE]),\"\")","v":""},{"$f":"IF(AND($A78<>0,$A78<>\"\"),LOOKUP(A78,Load_Switch_NFET[PARTNUMBER],Load_Switch_NFET[TI_EQ_PACKAGE]),\"\")","v":""},"Invalid Part"]
[{"$f":"IF(CH=\"N\",NLogic!B79,\"\")","v":0},{"$f":"IF(OR($A79=0,$A79=\"\"),\"0\",IF(LOOKUP($A79,Load_Switch_NFET[PARTNUMBER],Load_Switch_NFET[RDSON18])=\"(NULL)\",\"0\",\"1\"))","v":"0"},{"$f":"IF(OR($A79=0,$A79=\"\"),\"0\",IF(LOOKUP($A79,Load_Switch_NFET[PARTNUMBER],Load_Switch_NFET[RDSON25])=\"(NULL)\",\"0\",\"1\"))","v":"0"},{"$f":"IF(OR($A79=0,$A79=\"\"),\"0\",IF(LOOKUP($A79,Load_Switch_NFET[PARTNUMBER],Load_Switch_NFET[RDSON3])=\"(NULL)\",\"0\",\"1\"))","v":"0"},{"$f":"IF(OR($A79=0,$A79=\"\"),\"0\",IF(LOOKUP($A79,Load_Switch_NFET[PARTNUMBER],Load_Switch_NFET[RDSON45])=\"(NULL)\",\"0\",\"1\"))","v":"0"},{"$f":"IF(OR($A79=0,$A79=\"\"),\"0\",IF(LOOKUP($A79,Load_Switch_NFET[PARTNUMBER],Load_Switch_NFET[RDSON6])=\"(NULL)\",\"0\",\"1\"))","v":"0"},{"$f":"IF(OR($A79=0,$A79=\"\"),\"0\",IF(LOOKUP($A79,Load_Switch_NFET[PARTNUMBER],Load_Switch_NFET[RDSON8])=\"(NULL)\",\"0\",\"1\"))","v":"0"},{"$f":"IF(OR($A79=0,$A79=\"\"),\"0\",IF(LOOKUP($A79,Load_Switch_NFET[PARTNUMBER],Load_Switch_NFET[RDSON10])=\"(NULL)\",\"0\",\"1\"))","v":"0"},false,false,false,false,false,false,false,false,false,false,false,false,false,false,false,{"$f":"IF(W79,LOOKUP(A79,Load_Switch_NFET[PARTNUMBER],Load_Switch_NFET[RDSON10])*1000,IF(V79,LOOKUP(A79,Load_Switch_NFET[PARTNUMBER],Load_Switch_NFET[RDSON8])*1000,IF(U79,LOOKUP(A79,Load_Switch_NFET[PARTNUMBER],Load_Switch_NFET[RDSON6])*1000,IF(T79,LOOKUP(A79,Load_Switch_NFET[PARTNUMBER],Load_Switch_NFET[RDSON45])*1000,IF(S79,LOOKUP(A79,Load_Switch_NFET[PARTNUMBER],Load_Switch_NFET[RDSON3])*1000,IF(R79,LOOKUP(A79,Load_Switch_NFET[PARTNUMBER],Load_Switch_NFET[RDSON25])*1000,IF(Q79,LOOKUP(A79,Load_Switch_NFET[PARTNUMBER],Load_Switch_NFET[RDSON18])*1000,\"\")))))))","v":""},{"$f":"IF(AND(A79<>0,A79<>\"\"),X79*(1+(Tj-25)*(LOOKUP(A79,Load_Switch_NFET[PARTNUMBER],Load_Switch_NFET[RDSDELTA])/((LOOKUP(A79,Load_Switch_NFET[PARTNUMBER],Load_Switch_NFET[TJMAX])-25)))),\"\")","v":""},{"$f":"IF(AND(A79<>0,A79<>\"\"),LOOKUP(A79,Load_Switch_NFET[PARTNUMBER],Load_Switch_NFET[VTHMAX]),\"\")","v":""},{"$f":"IF(AND(A79<>0,A79<>\"\"),LOOKUP(A79,Load_Switch_NFET[PARTNUMBER],Load_Switch_NFET[VTHMIN]),\"\")","v":""},"#N/A",{"$f":"IF(AND(A79<>0,A79<>\"\"),LOOKUP(A79,Load_Switch_NFET[PARTNUMBER],Load_Switch_NFET[RGIMAX]),\"\")","v":""},{"$f":"IF(AND($A79<>0,$A79<>\"\"),LOOKUP($A79,Load_Switch_NFET[PARTNUMBER],Load_Switch_NFET[QGTYP]),\"\")","v":""},{"$f":"IF(AND($A79<>0,$A79<>\"\"),LOOKUP($A79,Load_Switch_NFET[PARTNUMBER],Load_Switch_NFET[QGS]),\"\")","v":""},{"$f":"IF(AND($A79<>0,$A79<>\"\"),LOOKUP($A79,Load_Switch_NFET[PARTNUMBER],Load_Switch_NFET[QGD]),\"\")","v":""},{"$f":"IF(AND($A79<>0,$A79<>\"\"),LOOKUP($A79,Load_Switch_NFET[PARTNUMBER],Load_Switch_NFET[QGTH]),\"\")","v":""},{"$f":"IF(AND($A79<>0,$A79<>\"\"),LOOKUP($A79,Load_Switch_NFET[PARTNUMBER],Load_Switch_NFET[VMILLER]),\"\")","v":""},{"$f":"IF(AND($A79<>0,$A79<>\"\"),LOOKUP($A79,Load_Switch_NFET[PARTNUMBER],Load_Switch_NFET[COSS_AT_VDSSPEC]),\"\")","v":""},"","","","",{"$f":"IF(AND($A79<>0,$A79<>\"\"),LOOKUP($A79,Load_Switch_NFET[PARTNUMBER],Load_Switch_NFET[1KPRICE]),\"\")","v":""},{"$f":"IF(AND($A79<>0,$A79<>\"\"),LOOKUP(A79,Load_Switch_NFET[PARTNUMBER],Load_Switch_NFET[TI_EQ_PACKAGE]),\"\")","v":""},"Invalid Part"]
[{"$f":"IF(CH=\"N\",NLogic!B80,\"\")","v":0},{"$f":"IF(OR($A80=0,$A80=\"\"),\"0\",IF(LOOKUP($A80,Load_Switch_NFET[PARTNUMBER],Load_Switch_NFET[RDSON18])=\"(NULL)\",\"0\",\"1\"))","v":"0"},{"$f":"IF(OR($A80=0,$A80=\"\"),\"0\",IF(LOOKUP($A80,Load_Switch_NFET[PARTNUMBER],Load_Switch_NFET[RDSON25])=\"(NULL)\",\"0\",\"1\"))","v":"0"},{"$f":"IF(OR($A80=0,$A80=\"\"),\"0\",IF(LOOKUP($A80,Load_Switch_NFET[PARTNUMBER],Load_Switch_NFET[RDSON3])=\"(NULL)\",\"0\",\"1\"))","v":"0"},{"$f":"IF(OR($A80=0,$A80=\"\"),\"0\",IF(LOOKUP($A80,Load_Switch_NFET[PARTNUMBER],Load_Switch_NFET[RDSON45])=\"(NULL)\",\"0\",\"1\"))","v":"0"},{"$f":"IF(OR($A80=0,$A80=\"\"),\"0\",IF(LOOKUP($A80,Load_Switch_NFET[PARTNUMBER],Load_Switch_NFET[RDSON6])=\"(NULL)\",\"0\",\"1\"))","v":"0"},{"$f":"IF(OR($A80=0,$A80=\"\"),\"0\",IF(LOOKUP($A80,Load_Switch_NFET[PARTNUMBER],Load_Switch_NFET[RDSON8])=\"(NULL)\",\"0\",\"1\"))","v":"0"},{"$f":"IF(OR($A80=0,$A80=\"\"),\"0\",IF(LOOKUP($A80,Load_Switch_NFET[PARTNUMBER],Load_Switch_NFET[RDSON10])=\"(NULL)\",\"0\",\"1\"))","v":"0"},false,false,false,false,false,false,false,false,false,false,false,false,false,false,false,{"$f":"IF(W80,LOOKUP(A80,Load_Switch_NFET[PARTNUMBER],Load_Switch_NFET[RDSON10])*1000,IF(V80,LOOKUP(A80,Load_Switch_NFET[PARTNUMBER],Load_Switch_NFET[RDSON8])*1000,IF(U80,LOOKUP(A80,Load_Switch_NFET[PARTNUMBER],Load_Switch_NFET[RDSON6])*1000,IF(T80,LOOKUP(A80,Load_Switch_NFET[PARTNUMBER],Load_Switch_NFET[RDSON45])*1000,IF(S80,LOOKUP(A80,Load_Switch_NFET[PARTNUMBER],Load_Switch_NFET[RDSON3])*1000,IF(R80,LOOKUP(A80,Load_Switch_NFET[PARTNUMBER],Load_Switch_NFET[RDSON25])*1000,IF(Q80,LOOKUP(A80,Load_Switch_NFET[PARTNUMBER],Load_Switch_NFET[RDSON18])*1000,\"\")))))))","v":""},{"$f":"IF(AND(A80<>0,A80<>\"\"),X80*(1+(Tj-25)*(LOOKUP(A80,Load_Switch_NFET[PARTNUMBER],Load_Switch_NFET[RDSDELTA])/((LOOKUP(A80,Load_Switch_NFET[PARTNUMBER],Load_Switch_NFET[TJMAX])-25)))),\"\")","v":""},{"$f":"IF(AND(A80<>0,A80<>\"\"),LOOKUP(A80,Load_Switch_NFET[PARTNUMBER],Load_Switch_NFET[VTHMAX]),\"\")","v":""},{"$f":"IF(AND(A80<>0,A80<>\"\"),LOOKUP(A80,Load_Switch_NFET[PARTNUMBER],Load_Switch_NFET[VTHMIN]),\"\")","v":""},"#N/A",{"$f":"IF(AND(A80<>0,A80<>\"\"),LOOKUP(A80,Load_Switch_NFET[PARTNUMBER],Load_Switch_NFET[RGIMAX]),\"\")","v":""},{"$f":"IF(AND($A80<>0,$A80<>\"\"),LOOKUP($A80,Load_Switch_NFET[PARTNUMBER],Load_Switch_NFET[QGTYP]),\"\")","v":""},{"$f":"IF(AND($A80<>0,$A80<>\"\"),LOOKUP($A80,Load_Switch_NFET[PARTNUMBER],Load_Switch_NFET[QGS]),\"\")","v":""},{"$f":"IF(AND($A80<>0,$A80<>\"\"),LOOKUP($A80,Load_Switch_NFET[PARTNUMBER],Load_Switch_NFET[QGD]),\"\")","v":""},{"$f":"IF(AND($A80<>0,$A80<>\"\"),LOOKUP($A80,Load_Switch_NFET[PARTNUMBER],Load_Switch_NFET[QGTH]),\"\")","v":""},{"$f":"IF(AND($A80<>0,$A80<>\"\"),LOOKUP($A80,Load_Switch_NFET[PARTNUMBER],Load_Switch_NFET[VMILLER]),\"\")","v":""},{"$f":"IF(AND($A80<>0,$A80<>\"\"),LOOKUP($A80,Load_Switch_NFET[PARTNUMBER],Load_Switch_NFET[COSS_AT_VDSSPEC]),\"\")","v":""},"","","","",{"$f":"IF(AND($A80<>0,$A80<>\"\"),LOOKUP($A80,Load_Switch_NFET[PARTNUMBER],Load_Switch_NFET[1KPRICE]),\"\")","v":""},{"$f":"IF(AND($A80<>0,$A80<>\"\"),LOOKUP(A80,Load_Switch_NFET[PARTNUMBER],Load_Switch_NFET[TI_EQ_PACKAGE]),\"\")","v":""},"Invalid Part"]
[{"$f":"IF(CH=\"N\",NLogic!B81,\"\")","v":0},{"$f":"IF(OR($A81=0,$A81=\"\"),\"0\",IF(LOOKUP($A81,Load_Switch_NFET[PARTNUMBER],Load_Switch_NFET[RDSON18])=\"(NULL)\",\"0\",\"1\"))","v":"0"},{"$f":"IF(OR($A81=0,$A81=\"\"),\"0\",IF(LOOKUP($A81,Load_Switch_NFET[PARTNUMBER],Load_Switch_NFET[RDSON25])=\"(NULL)\",\"0\",\"1\"))","v":"0"},{"$f":"IF(OR($A81=0,$A81=\"\"),\"0\",IF(LOOKUP($A81,Load_Switch_NFET[PARTNUMBER],Load_Switch_NFET[RDSON3])=\"(NULL)\",\"0\",\"1\"))","v":"0"},{"$f":"IF(OR($A81=0,$A81=\"\"),\"0\",IF(LOOKUP($A81,Load_Switch_NFET[PARTNUMBER],Load_Switch_NFET[RDSON45])=\"(NULL)\",\"0\",\"1\"))","v":"0"},{"$f":"IF(OR($A81=0,$A81=\"\"),\"0\",IF(LOOKUP($A81,Load_Switch_NFET[PARTNUMBER],Load_Switch_NFET[RDSON6])=\"(NULL)\",\"0\",\"1\"))","v":"0"},{"$f":"IF(OR($A81=0,$A81=\"\"),\"0\",IF(LOOKUP($A81,Load_Switch_NFET[PARTNUMBER],Load_Switch_NFET[RDSON8])=\"(NULL)\",\"0\",\"1\"))","v":"0"},{"$f":"IF(OR($A81=0,$A81=\"\"),\"0\",IF(LOOKUP($A81,Load_Switch_NFET[PARTNUMBER],Load_Switch_NFET[RDSON10])=\"(NULL)\",\"0\",\"1\"))","v":"0"},false,false,false,false,false,false,false,false,false,false,false,false,false,false,false,{"$f":"IF(W81,LOOKUP(A81,Load_Switch_NFET[PARTNUMBER],Load_Switch_NFET[RDSON10])*1000,IF(V81,LOOKUP(A81,Load_Switch_NFET[PARTNUMBER],Load_Switch_NFET[RDSON8])*1000,IF(U81,LOOKUP(A81,Load_Switch_NFET[PARTNUMBER],Load_Switch_NFET[RDSON6])*1000,IF(T81,LOOKUP(A81,Load_Switch_NFET[PARTNUMBER],Load_Switch_NFET[RDSON45])*1000,IF(S81,LOOKUP(A81,Load_Switch_NFET[PARTNUMBER],Load_Switch_NFET[RDSON3])*1000,IF(R81,LOOKUP(A81,Load_Switch_NFET[PARTNUMBER],Load_Switch_NFET[RDSON25])*1000,IF(Q81,LOOKUP(A81,Load_Switch_NFET[PARTNUMBER],Load_Switch_NFET[RDSON18])*1000,\"\")))))))","v":""},{"$f":"IF(AND(A81<>0,A81<>\"\"),X81*(1+(Tj-25)*(LOOKUP(A81,Load_Switch_NFET[PARTNUMBER],Load_Switch_NFET[RDSDELTA])/((LOOKUP(A81,Load_Switch_NFET[PARTNUMBER],Load_Switch_NFET[TJMAX])-25)))),\"\")","v":""},{"$f":"IF(AND(A81<>0,A81<>\"\"),LOOKUP(A81,Load_Switch_NFET[PARTNUMBER],Load_Switch_NFET[VTHMAX]),\"\")","v":""},{"$f":"IF(AND(A81<>0,A81<>\"\"),LOOKUP(A81,Load_Switch_NFET[PARTNUMBER],Load_Switch_NFET[VTHMIN]),\"\")","v":""},"#N/A",{"$f":"IF(AND(A81<>0,A81<>\"\"),LOOKUP(A81,Load_Switch_NFET[PARTNUMBER],Load_Switch_NFET[RGIMAX]),\"\")","v":""},{"$f":"IF(AND($A81<>0,$A81<>\"\"),LOOKUP($A81,Load_Switch_NFET[PARTNUMBER],Load_Switch_NFET[QGTYP]),\"\")","v":""},{"$f":"IF(AND($A81<>0,$A81<>\"\"),LOOKUP($A81,Load_Switch_NFET[PARTNUMBER],Load_Switch_NFET[QGS]),\"\")","v":""},{"$f":"IF(AND($A81<>0,$A81<>\"\"),LOOKUP($A81,Load_Switch_NFET[PARTNUMBER],Load_Switch_NFET[QGD]),\"\")","v":""},{"$f":"IF(AND($A81<>0,$A81<>\"\"),LOOKUP($A81,Load_Switch_NFET[PARTNUMBER],Load_Switch_NFET[QGTH]),\"\")","v":""},{"$f":"IF(AND($A81<>0,$A81<>\"\"),LOOKUP($A81,Load_Switch_NFET[PARTNUMBER],Load_Switch_NFET[VMILLER]),\"\")","v":""},{"$f":"IF(AND($A81<>0,$A81<>\"\"),LOOKUP($A81,Load_Switch_NFET[PARTNUMBER],Load_Switch_NFET[COSS_AT_VDSSPEC]),\"\")","v":""},"","","","",{"$f":"IF(AND($A81<>0,$A81<>\"\"),LOOKUP($A81,Load_Switch_NFET[PARTNUMBER],Load_Switch_NFET[1KPRICE]),\"\")","v":""},{"$f":"IF(AND($A81<>0,$A81<>\"\"),LOOKUP(A81,Load_Switch_NFET[PARTNUMBER],Load_Switch_NFET[TI_EQ_PACKAGE]),\"\")","v":""},"Invalid Part"]
[{"$f":"IF(CH=\"N\",NLogic!B82,\"\")","v":0},{"$f":"IF(OR($A82=0,$A82=\"\"),\"0\",IF(LOOKUP($A82,Load_Switch_NFET[PARTNUMBER],Load_Switch_NFET[RDSON18])=\"(NULL)\",\"0\",\"1\"))","v":"0"},{"$f":"IF(OR($A82=0,$A82=\"\"),\"0\",IF(LOOKUP($A82,Load_Switch_NFET[PARTNUMBER],Load_Switch_NFET[RDSON25])=\"(NULL)\",\"0\",\"1\"))","v":"0"},{"$f":"IF(OR($A82=0,$A82=\"\"),\"0\",IF(LOOKUP($A82,Load_Switch_NFET[PARTNUMBER],Load_Switch_NFET[RDSON3])=\"(NULL)\",\"0\",\"1\"))","v":"0"},{"$f":"IF(OR($A82=0,$A82=\"\"),\"0\",IF(LOOKUP($A82,Load_Switch_NFET[PARTNUMBER],Load_Switch_NFET[RDSON45])=\"(NULL)\",\"0\",\"1\"))","v":"0"},{"$f":"IF(OR($A82=0,$A82=\"\"),\"0\",IF(LOOKUP($A82,Load_Switch_NFET[PARTNUMBER],Load_Switch_NFET[RDSON6])=\"(NULL)\",\"0\",\"1\"))","v":"0"},{"$f":"IF(OR($A82=0,$A82=\"\"),\"0\",IF(LOOKUP($A82,Load_Switch_NFET[PARTNUMBER],Load_Switch_NFET[RDSON8])=\"(NULL)\",\"0\",\"1\"))","v":"0"},{"$f":"IF(OR($A82=0,$A82=\"\"),\"0\",IF(LOOKUP($A82,Load_Switch_NFET[PARTNUMBER],Load_Switch_NFET[RDSON10])=\"(NULL)\",\"0\",\"1\"))","v":"0"},false,false,false,false,false,false,false,false,false,false,false,false,false,false,false,{"$f":"IF(W82,LOOKUP(A82,Load_Switch_NFET[PARTNUMBER],Load_Switch_NFET[RDSON10])*1000,IF(V82,LOOKUP(A82,Load_Switch_NFET[PARTNUMBER],Load_Switch_NFET[RDSON8])*1000,IF(U82,LOOKUP(A82,Load_Switch_NFET[PARTNUMBER],Load_Switch_NFET[RDSON6])*1000,IF(T82,LOOKUP(A82,Load_Switch_NFET[PARTNUMBER],Load_Switch_NFET[RDSON45])*1000,IF(S82,LOOKUP(A82,Load_Switch_NFET[PARTNUMBER],Load_Switch_NFET[RDSON3])*1000,IF(R82,LOOKUP(A82,Load_Switch_NFET[PARTNUMBER],Load_Switch_NFET[RDSON25])*1000,IF(Q82,LOOKUP(A82,Load_Switch_NFET[PARTNUMBER],Load_Switch_NFET[RDSON18])*1000,\"\")))))))","v":""},{"$f":"IF(AND(A82<>0,A82<>\"\"),X82*(1+(Tj-25)*(LOOKUP(A82,Load_Switch_NFET[PARTNUMBER],Load_Switch_NFET[RDSDELTA])/((LOOKUP(A82,Load_Switch_NFET[PARTNUMBER],Load_Switch_NFET[TJMAX])-25)))),\"\")","v":""},{"$f":"IF(AND(A82<>0,A82<>\"\"),LOOKUP(A82,Load_Switch_NFET[PARTNUMBER],Load_Switch_NFET[VTHMAX]),\"\")","v":""},{"$f":"IF(AND(A82<>0,A82<>\"\"),LOOKUP(A82,Load_Switch_NFET[PARTNUMBER],Load_Switch_NFET[VTHMIN]),\"\")","v":""},"#N/A",{"$f":"IF(AND(A82<>0,A82<>\"\"),LOOKUP(A82,Load_Switch_NFET[PARTNUMBER],Load_Switch_NFET[RGIMAX]),\"\")","v":""},{"$f":"IF(AND($A82<>0,$A82<>\"\"),LOOKUP($A82,Load_Switch_NFET[PARTNUMBER],Load_Switch_NFET[QGTYP]),\"\")","v":""},{"$f":"IF(AND($A82<>0,$A82<>\"\"),LOOKUP($A82,Load_Switch_NFET[PARTNUMBER],Load_Switch_NFET[QGS]),\"\")","v":""},{"$f":"IF(AND($A82<>0,$A82<>\"\"),LOOKUP($A82,Load_Switch_NFET[PARTNUMBER],Load_Switch_NFET[QGD]),\"\")","v":""},{"$f":"IF(AND($A82<>0,$A82<>\"\"),LOOKUP($A82,Load_Switch_NFET[PARTNUMBER],Load_Switch_NFET[QGTH]),\"\")","v":""},{"$f":"IF(AND($A82<>0,$A82<>\"\"),LOOKUP($A82,Load_Switch_NFET[PARTNUMBER],Load_Switch_NFET[VMILLER]),\"\")","v":""},{"$f":"IF(AND($A82<>0,$A82<>\"\"),LOOKUP($A82,Load_Switch_NFET[PARTNUMBER],Load_Switch_NFET[COSS_AT_VDSSPEC]),\"\")","v":""},"","","","",{"$f":"IF(AND($A82<>0,$A82<>\"\"),LOOKUP($A82,Load_Switch_NFET[PARTNUMBER],Load_Switch_NFET[1KPRICE]),\"\")","v":""},{"$f":"IF(AND($A82<>0,$A82<>\"\"),LOOKUP(A82,Load_Switch_NFET[PARTNUMBER],Load_Switch_NFET[TI_EQ_PACKAGE]),\"\")","v":""},"Invalid Part"]
[{"$f":"IF(CH=\"N\",NLogic!B83,\"\")","v":0},{"$f":"IF(OR($A83=0,$A83=\"\"),\"0\",IF(LOOKUP($A83,Load_Switch_NFET[PARTNUMBER],Load_Switch_NFET[RDSON18])=\"(NULL)\",\"0\",\"1\"))","v":"0"},{"$f":"IF(OR($A83=0,$A83=\"\"),\"0\",IF(LOOKUP($A83,Load_Switch_NFET[PARTNUMBER],Load_Switch_NFET[RDSON25])=\"(NULL)\",\"0\",\"1\"))","v":"0"},{"$f":"IF(OR($A83=0,$A83=\"\"),\"0\",IF(LOOKUP($A83,Load_Switch_NFET[PARTNUMBER],Load_Switch_NFET[RDSON3])=\"(NULL)\",\"0\",\"1\"))","v":"0"},{"$f":"IF(OR($A83=0,$A83=\"\"),\"0\",IF(LOOKUP($A83,Load_Switch_NFET[PARTNUMBER],Load_Switch_NFET[RDSON45])=\"(NULL)\",\"0\",\"1\"))","v":"0"},{"$f":"IF(OR($A83=0,$A83=\"\"),\"0\",IF(LOOKUP($A83,Load_Switch_NFET[PARTNUMBER],Load_Switch_NFET[RDSON6])=\"(NULL)\",\"0\",\"1\"))","v":"0"},{"$f":"IF(OR($A83=0,$A83=\"\"),\"0\",IF(LOOKUP($A83,Load_Switch_NFET[PARTNUMBER],Load_Switch_NFET[RDSON8])=\"(NULL)\",\"0\",\"1\"))","v":"0"},{"$f":"IF(OR($A83=0,$A83=\"\"),\"0\",IF(LOOKUP($A83,Load_Switch_NFET[PARTNUMBER],Load_Switch_NFET[RDSON10])=\"(NULL)\",\"0\",\"1\"))","v":"0"},false,false,false,false,false,false,false,false,false,false,false,false,false,false,false,{"$f":"IF(W83,LOOKUP(A83,Load_Switch_NFET[PARTNUMBER],Load_Switch_NFET[RDSON10])*1000,IF(V83,LOOKUP(A83,Load_Switch_NFET[PARTNUMBER],Load_Switch_NFET[RDSON8])*1000,IF(U83,LOOKUP(A83,Load_Switch_NFET[PARTNUMBER],Load_Switch_NFET[RDSON6])*1000,IF(T83,LOOKUP(A83,Load_Switch_NFET[PARTNUMBER],Load_Switch_NFET[RDSON45])*1000,IF(S83,LOOKUP(A83,Load_Switch_NFET[PARTNUMBER],Load_Switch_NFET[RDSON3])*1000,IF(R83,LOOKUP(A83,Load_Switch_NFET[PARTNUMBER],Load_Switch_NFET[RDSON25])*1000,IF(Q83,LOOKUP(A83,Load_Switch_NFET[PARTNUMBER],Load_Switch_NFET[RDSON18])*1000,\"\")))))))","v":""},{"$f":"IF(AND(A83<>0,A83<>\"\"),X83*(1+(Tj-25)*(LOOKUP(A83,Load_Switch_NFET[PARTNUMBER],Load_Switch_NFET[RDSDELTA])/((LOOKUP(A83,Load_Switch_NFET[PARTNUMBER],Load_Switch_NFET[TJMAX])-25)))),\"\")","v":""},{"$f":"IF(AND(A83<>0,A83<>\"\"),LOOKUP(A83,Load_Switch_NFET[PARTNUMBER],Load_Switch_NFET[VTHMAX]),\"\")","v":""},{"$f":"IF(AND(A83<>0,A83<>\"\"),LOOKUP(A83,Load_Switch_NFET[PARTNUMBER],Load_Switch_NFET[VTHMIN]),\"\")","v":""},"#N/A",{"$f":"IF(AND(A83<>0,A83<>\"\"),LOOKUP(A83,Load_Switch_NFET[PARTNUMBER],Load_Switch_NFET[RGIMAX]),\"\")","v":""},{"$f":"IF(AND($A83<>0,$A83<>\"\"),LOOKUP($A83,Load_Switch_NFET[PARTNUMBER],Load_Switch_NFET[QGTYP]),\"\")","v":""},{"$f":"IF(AND($A83<>0,$A83<>\"\"),LOOKUP($A83,Load_Switch_NFET[PARTNUMBER],Load_Switch_NFET[QGS]),\"\")","v":""},{"$f":"IF(AND($A83<>0,$A83<>\"\"),LOOKUP($A83,Load_Switch_NFET[PARTNUMBER],Load_Switch_NFET[QGD]),\"\")","v":""},{"$f":"IF(AND($A83<>0,$A83<>\"\"),LOOKUP($A83,Load_Switch_NFET[PARTNUMBER],Load_Switch_NFET[QGTH]),\"\")","v":""},{"$f":"IF(AND($A83<>0,$A83<>\"\"),LOOKUP($A83,Load_Switch_NFET[PARTNUMBER],Load_Switch_NFET[VMILLER]),\"\")","v":""},{"$f":"IF(AND($A83<>0,$A83<>\"\"),LOOKUP($A83,Load_Switch_NFET[PARTNUMBER],Load_Switch_NFET[COSS_AT_VDSSPEC]),\"\")","v":""},"","","","",{"$f":"IF(AND($A83<>0,$A83<>\"\"),LOOKUP($A83,Load_Switch_NFET[PARTNUMBER],Load_Switch_NFET[1KPRICE]),\"\")","v":""},{"$f":"IF(AND($A83<>0,$A83<>\"\"),LOOKUP(A83,Load_Switch_NFET[PARTNUMBER],Load_Switch_NFET[TI_EQ_PACKAGE]),\"\")","v":""},"Invalid Part"]
[{"$f":"IF(CH=\"N\",NLogic!B84,\"\")","v":0},{"$f":"IF(OR($A84=0,$A84=\"\"),\"0\",IF(LOOKUP($A84,Load_Switch_NFET[PARTNUMBER],Load_Switch_NFET[RDSON18])=\"(NULL)\",\"0\",\"1\"))","v":"0"},{"$f":"IF(OR($A84=0,$A84=\"\"),\"0\",IF(LOOKUP($A84,Load_Switch_NFET[PARTNUMBER],Load_Switch_NFET[RDSON25])=\"(NULL)\",\"0\",\"1\"))","v":"0"},{"$f":"IF(OR($A84=0,$A84=\"\"),\"0\",IF(LOOKUP($A84,Load_Switch_NFET[PARTNUMBER],Load_Switch_NFET[RDSON3])=\"(NULL)\",\"0\",\"1\"))","v":"0"},{"$f":"IF(OR($A84=0,$A84=\"\"),\"0\",IF(LOOKUP($A84,Load_Switch_NFET[PARTNUMBER],Load_Switch_NFET[RDSON45])=\"(NULL)\",\"0\",\"1\"))","v":"0"},{"$f":"IF(OR($A84=0,$A84=\"\"),\"0\",IF(LOOKUP($A84,Load_Switch_NFET[PARTNUMBER],Load_Switch_NFET[RDSON6])=\"(NULL)\",\"0\",\"1\"))","v":"0"},{"$f":"IF(OR($A84=0,$A84=\"\"),\"0\",IF(LOOKUP($A84,Load_Switch_NFET[PARTNUMBER],Load_Switch_NFET[RDSON8])=\"(NULL)\",\"0\",\"1\"))","v":"0"},{"$f":"IF(OR($A84=0,$A84=\"\"),\"0\",IF(LOOKUP($A84,Load_Switch_NFET[PARTNUMBER],Load_Switch_NFET[RDSON10])=\"(NULL)\",\"0\",\"1\"))","v":"0"},false,false,false,false,false,false,false,false,false,false,false,false,false,false,false,{"$f":"IF(W84,LOOKUP(A84,Load_Switch_NFET[PARTNUMBER],Load_Switch_NFET[RDSON10])*1000,IF(V84,LOOKUP(A84,Load_Switch_NFET[PARTNUMBER],Load_Switch_NFET[RDSON8])*1000,IF(U84,LOOKUP(A84,Load_Switch_NFET[PARTNUMBER],Load_Switch_NFET[RDSON6])*1000,IF(T84,LOOKUP(A84,Load_Switch_NFET[PARTNUMBER],Load_Switch_NFET[RDSON45])*1000,IF(S84,LOOKUP(A84,Load_Switch_NFET[PARTNUMBER],Load_Switch_NFET[RDSON3])*1000,IF(R84,LOOKUP(A84,Load_Switch_NFET[PARTNUMBER],Load_Switch_NFET[RDSON25])*1000,IF(Q84,LOOKUP(A84,Load_Switch_NFET[PARTNUMBER],Load_Switch_NFET[RDSON18])*1000,\"\")))))))","v":""},{"$f":"IF(AND(A84<>0,A84<>\"\"),X84*(1+(Tj-25)*(LOOKUP(A84,Load_Switch_NFET[PARTNUMBER],Load_Switch_NFET[RDSDELTA])/((LOOKUP(A84,Load_Switch_NFET[PARTNUMBER],Load_Switch_NFET[TJMAX])-25)))),\"\")","v":""},{"$f":"IF(AND(A84<>0,A84<>\"\"),LOOKUP(A84,Load_Switch_NFET[PARTNUMBER],Load_Switch_NFET[VTHMAX]),\"\")","v":""},{"$f":"IF(AND(A84<>0,A84<>\"\"),LOOKUP(A84,Load_Switch_NFET[PARTNUMBER],Load_Switch_NFET[VTHMIN]),\"\")","v":""},"#N/A",{"$f":"IF(AND(A84<>0,A84<>\"\"),LOOKUP(A84,Load_Switch_NFET[PARTNUMBER],Load_Switch_NFET[RGIMAX]),\"\")","v":""},{"$f":"IF(AND($A84<>0,$A84<>\"\"),LOOKUP($A84,Load_Switch_NFET[PARTNUMBER],Load_Switch_NFET[QGTYP]),\"\")","v":""},{"$f":"IF(AND($A84<>0,$A84<>\"\"),LOOKUP($A84,Load_Switch_NFET[PARTNUMBER],Load_Switch_NFET[QGS]),\"\")","v":""},{"$f":"IF(AND($A84<>0,$A84<>\"\"),LOOKUP($A84,Load_Switch_NFET[PARTNUMBER],Load_Switch_NFET[QGD]),\"\")","v":""},{"$f":"IF(AND($A84<>0,$A84<>\"\"),LOOKUP($A84,Load_Switch_NFET[PARTNUMBER],Load_Switch_NFET[QGTH]),\"\")","v":""},{"$f":"IF(AND($A84<>0,$A84<>\"\"),LOOKUP($A84,Load_Switch_NFET[PARTNUMBER],Load_Switch_NFET[VMILLER]),\"\")","v":""},{"$f":"IF(AND($A84<>0,$A84<>\"\"),LOOKUP($A84,Load_Switch_NFET[PARTNUMBER],Load_Switch_NFET[COSS_AT_VDSSPEC]),\"\")","v":""},"","","","",{"$f":"IF(AND($A84<>0,$A84<>\"\"),LOOKUP($A84,Load_Switch_NFET[PARTNUMBER],Load_Switch_NFET[1KPRICE]),\"\")","v":""},{"$f":"IF(AND($A84<>0,$A84<>\"\"),LOOKUP(A84,Load_Switch_NFET[PARTNUMBER],Load_Switch_NFET[TI_EQ_PACKAGE]),\"\")","v":""},"Invalid Part"]
[{"$f":"IF(CH=\"N\",NLogic!B85,\"\")","v":0},{"$f":"IF(OR($A85=0,$A85=\"\"),\"0\",IF(LOOKUP($A85,Load_Switch_NFET[PARTNUMBER],Load_Switch_NFET[RDSON18])=\"(NULL)\",\"0\",\"1\"))","v":"0"},{"$f":"IF(OR($A85=0,$A85=\"\"),\"0\",IF(LOOKUP($A85,Load_Switch_NFET[PARTNUMBER],Load_Switch_NFET[RDSON25])=\"(NULL)\",\"0\",\"1\"))","v":"0"},{"$f":"IF(OR($A85=0,$A85=\"\"),\"0\",IF(LOOKUP($A85,Load_Switch_NFET[PARTNUMBER],Load_Switch_NFET[RDSON3])=\"(NULL)\",\"0\",\"1\"))","v":"0"},{"$f":"IF(OR($A85=0,$A85=\"\"),\"0\",IF(LOOKUP($A85,Load_Switch_NFET[PARTNUMBER],Load_Switch_NFET[RDSON45])=\"(NULL)\",\"0\",\"1\"))","v":"0"},{"$f":"IF(OR($A85=0,$A85=\"\"),\"0\",IF(LOOKUP($A85,Load_Switch_NFET[PARTNUMBER],Load_Switch_NFET[RDSON6])=\"(NULL)\",\"0\",\"1\"))","v":"0"},{"$f":"IF(OR($A85=0,$A85=\"\"),\"0\",IF(LOOKUP($A85,Load_Switch_NFET[PARTNUMBER],Load_Switch_NFET[RDSON8])=\"(NULL)\",\"0\",\"1\"))","v":"0"},{"$f":"IF(OR($A85=0,$A85=\"\"),\"0\",IF(LOOKUP($A85,Load_Switch_NFET[PARTNUMBER],Load_Switch_NFET[RDSON10])=\"(NULL)\",\"0\",\"1\"))","v":"0"},false,false,false,false,false,false,false,false,false,false,false,false,false,false,false,{"$f":"IF(W85,LOOKUP(A85,Load_Switch_NFET[PARTNUMBER],Load_Switch_NFET[RDSON10])*1000,IF(V85,LOOKUP(A85,Load_Switch_NFET[PARTNUMBER],Load_Switch_NFET[RDSON8])*1000,IF(U85,LOOKUP(A85,Load_Switch_NFET[PARTNUMBER],Load_Switch_NFET[RDSON6])*1000,IF(T85,LOOKUP(A85,Load_Switch_NFET[PARTNUMBER],Load_Switch_NFET[RDSON45])*1000,IF(S85,LOOKUP(A85,Load_Switch_NFET[PARTNUMBER],Load_Switch_NFET[RDSON3])*1000,IF(R85,LOOKUP(A85,Load_Switch_NFET[PARTNUMBER],Load_Switch_NFET[RDSON25])*1000,IF(Q85,LOOKUP(A85,Load_Switch_NFET[PARTNUMBER],Load_Switch_NFET[RDSON18])*1000,\"\")))))))","v":""},{"$f":"IF(AND(A85<>0,A85<>\"\"),X85*(1+(Tj-25)*(LOOKUP(A85,Load_Switch_NFET[PARTNUMBER],Load_Switch_NFET[RDSDELTA])/((LOOKUP(A85,Load_Switch_NFET[PARTNUMBER],Load_Switch_NFET[TJMAX])-25)))),\"\")","v":""},{"$f":"IF(AND(A85<>0,A85<>\"\"),LOOKUP(A85,Load_Switch_NFET[PARTNUMBER],Load_Switch_NFET[VTHMAX]),\"\")","v":""},{"$f":"IF(AND(A85<>0,A85<>\"\"),LOOKUP(A85,Load_Switch_NFET[PARTNUMBER],Load_Switch_NFET[VTHMIN]),\"\")","v":""},"#N/A",{"$f":"IF(AND(A85<>0,A85<>\"\"),LOOKUP(A85,Load_Switch_NFET[PARTNUMBER],Load_Switch_NFET[RGIMAX]),\"\")","v":""},{"$f":"IF(AND($A85<>0,$A85<>\"\"),LOOKUP($A85,Load_Switch_NFET[PARTNUMBER],Load_Switch_NFET[QGTYP]),\"\")","v":""},{"$f":"IF(AND($A85<>0,$A85<>\"\"),LOOKUP($A85,Load_Switch_NFET[PARTNUMBER],Load_Switch_NFET[QGS]),\"\")","v":""},{"$f":"IF(AND($A85<>0,$A85<>\"\"),LOOKUP($A85,Load_Switch_NFET[PARTNUMBER],Load_Switch_NFET[QGD]),\"\")","v":""},{"$f":"IF(AND($A85<>0,$A85<>\"\"),LOOKUP($A85,Load_Switch_NFET[PARTNUMBER],Load_Switch_NFET[QGTH]),\"\")","v":""},{"$f":"IF(AND($A85<>0,$A85<>\"\"),LOOKUP($A85,Load_Switch_NFET[PARTNUMBER],Load_Switch_NFET[VMILLER]),\"\")","v":""},{"$f":"IF(AND($A85<>0,$A85<>\"\"),LOOKUP($A85,Load_Switch_NFET[PARTNUMBER],Load_Switch_NFET[COSS_AT_VDSSPEC]),\"\")","v":""},"","","","",{"$f":"IF(AND($A85<>0,$A85<>\"\"),LOOKUP($A85,Load_Switch_NFET[PARTNUMBER],Load_Switch_NFET[1KPRICE]),\"\")","v":""},{"$f":"IF(AND($A85<>0,$A85<>\"\"),LOOKUP(A85,Load_Switch_NFET[PARTNUMBER],Load_Switch_NFET[TI_EQ_PACKAGE]),\"\")","v":""},"Invalid Part"]
[{"$f":"IF(CH=\"N\",NLogic!B86,\"\")","v":0},{"$f":"IF(OR($A86=0,$A86=\"\"),\"0\",IF(LOOKUP($A86,Load_Switch_NFET[PARTNUMBER],Load_Switch_NFET[RDSON18])=\"(NULL)\",\"0\",\"1\"))","v":"0"},{"$f":"IF(OR($A86=0,$A86=\"\"),\"0\",IF(LOOKUP($A86,Load_Switch_NFET[PARTNUMBER],Load_Switch_NFET[RDSON25])=\"(NULL)\",\"0\",\"1\"))","v":"0"},{"$f":"IF(OR($A86=0,$A86=\"\"),\"0\",IF(LOOKUP($A86,Load_Switch_NFET[PARTNUMBER],Load_Switch_NFET[RDSON3])=\"(NULL)\",\"0\",\"1\"))","v":"0"},{"$f":"IF(OR($A86=0,$A86=\"\"),\"0\",IF(LOOKUP($A86,Load_Switch_NFET[PARTNUMBER],Load_Switch_NFET[RDSON45])=\"(NULL)\",\"0\",\"1\"))","v":"0"},{"$f":"IF(OR($A86=0,$A86=\"\"),\"0\",IF(LOOKUP($A86,Load_Switch_NFET[PARTNUMBER],Load_Switch_NFET[RDSON6])=\"(NULL)\",\"0\",\"1\"))","v":"0"},{"$f":"IF(OR($A86=0,$A86=\"\"),\"0\",IF(LOOKUP($A86,Load_Switch_NFET[PARTNUMBER],Load_Switch_NFET[RDSON8])=\"(NULL)\",\"0\",\"1\"))","v":"0"},{"$f":"IF(OR($A86=0,$A86=\"\"),\"0\",IF(LOOKUP($A86,Load_Switch_NFET[PARTNUMBER],Load_Switch_NFET[RDSON10])=\"(NULL)\",\"0\",\"1\"))","v":"0"},false,false,false,false,false,false,false,false,false,false,false,false,false,false,false,{"$f":"IF(W86,LOOKUP(A86,Load_Switch_NFET[PARTNUMBER],Load_Switch_NFET[RDSON10])*1000,IF(V86,LOOKUP(A86,Load_Switch_NFET[PARTNUMBER],Load_Switch_NFET[RDSON8])*1000,IF(U86,LOOKUP(A86,Load_Switch_NFET[PARTNUMBER],Load_Switch_NFET[RDSON6])*1000,IF(T86,LOOKUP(A86,Load_Switch_NFET[PARTNUMBER],Load_Switch_NFET[RDSON45])*1000,IF(S86,LOOKUP(A86,Load_Switch_NFET[PARTNUMBER],Load_Switch_NFET[RDSON3])*1000,IF(R86,LOOKUP(A86,Load_Switch_NFET[PARTNUMBER],Load_Switch_NFET[RDSON25])*1000,IF(Q86,LOOKUP(A86,Load_Switch_NFET[PARTNUMBER],Load_Switch_NFET[RDSON18])*1000,\"\")))))))","v":""},{"$f":"IF(AND(A86<>0,A86<>\"\"),X86*(1+(Tj-25)*(LOOKUP(A86,Load_Switch_NFET[PARTNUMBER],Load_Switch_NFET[RDSDELTA])/((LOOKUP(A86,Load_Switch_NFET[PARTNUMBER],Load_Switch_NFET[TJMAX])-25)))),\"\")","v":""},{"$f":"IF(AND(A86<>0,A86<>\"\"),LOOKUP(A86,Load_Switch_NFET[PARTNUMBER],Load_Switch_NFET[VTHMAX]),\"\")","v":""},{"$f":"IF(AND(A86<>0,A86<>\"\"),LOOKUP(A86,Load_Switch_NFET[PARTNUMBER],Load_Switch_NFET[VTHMIN]),\"\")","v":""},"#N/A",{"$f":"IF(AND(A86<>0,A86<>\"\"),LOOKUP(A86,Load_Switch_NFET[PARTNUMBER],Load_Switch_NFET[RGIMAX]),\"\")","v":""},{"$f":"IF(AND($A86<>0,$A86<>\"\"),LOOKUP($A86,Load_Switch_NFET[PARTNUMBER],Load_Switch_NFET[QGTYP]),\"\")","v":""},{"$f":"IF(AND($A86<>0,$A86<>\"\"),LOOKUP($A86,Load_Switch_NFET[PARTNUMBER],Load_Switch_NFET[QGS]),\"\")","v":""},{"$f":"IF(AND($A86<>0,$A86<>\"\"),LOOKUP($A86,Load_Switch_NFET[PARTNUMBER],Load_Switch_NFET[QGD]),\"\")","v":""},{"$f":"IF(AND($A86<>0,$A86<>\"\"),LOOKUP($A86,Load_Switch_NFET[PARTNUMBER],Load_Switch_NFET[QGTH]),\"\")","v":""},{"$f":"IF(AND($A86<>0,$A86<>\"\"),LOOKUP($A86,Load_Switch_NFET[PARTNUMBER],Load_Switch_NFET[VMILLER]),\"\")","v":""},{"$f":"IF(AND($A86<>0,$A86<>\"\"),LOOKUP($A86,Load_Switch_NFET[PARTNUMBER],Load_Switch_NFET[COSS_AT_VDSSPEC]),\"\")","v":""},"","","","",{"$f":"IF(AND($A86<>0,$A86<>\"\"),LOOKUP($A86,Load_Switch_NFET[PARTNUMBER],Load_Switch_NFET[1KPRICE]),\"\")","v":""},{"$f":"IF(AND($A86<>0,$A86<>\"\"),LOOKUP(A86,Load_Switch_NFET[PARTNUMBER],Load_Switch_NFET[TI_EQ_PACKAGE]),\"\")","v":""},"Invalid Part"]
[{"$f":"IF(CH=\"N\",NLogic!B87,\"\")","v":0},{"$f":"IF(OR($A87=0,$A87=\"\"),\"0\",IF(LOOKUP($A87,Load_Switch_NFET[PARTNUMBER],Load_Switch_NFET[RDSON18])=\"(NULL)\",\"0\",\"1\"))","v":"0"},{"$f":"IF(OR($A87=0,$A87=\"\"),\"0\",IF(LOOKUP($A87,Load_Switch_NFET[PARTNUMBER],Load_Switch_NFET[RDSON25])=\"(NULL)\",\"0\",\"1\"))","v":"0"},{"$f":"IF(OR($A87=0,$A87=\"\"),\"0\",IF(LOOKUP($A87,Load_Switch_NFET[PARTNUMBER],Load_Switch_NFET[RDSON3])=\"(NULL)\",\"0\",\"1\"))","v":"0"},{"$f":"IF(OR($A87=0,$A87=\"\"),\"0\",IF(LOOKUP($A87,Load_Switch_NFET[PARTNUMBER],Load_Switch_NFET[RDSON45])=\"(NULL)\",\"0\",\"1\"))","v":"0"},{"$f":"IF(OR($A87=0,$A87=\"\"),\"0\",IF(LOOKUP($A87,Load_Switch_NFET[PARTNUMBER],Load_Switch_NFET[RDSON6])=\"(NULL)\",\"0\",\"1\"))","v":"0"},{"$f":"IF(OR($A87=0,$A87=\"\"),\"0\",IF(LOOKUP($A87,Load_Switch_NFET[PARTNUMBER],Load_Switch_NFET[RDSON8])=\"(NULL)\",\"0\",\"1\"))","v":"0"},{"$f":"IF(OR($A87=0,$A87=\"\"),\"0\",IF(LOOKUP($A87,Load_Switch_NFET[PARTNUMBER],Load_Switch_NFET[RDSON10])=\"(NULL)\",\"0\",\"1\"))","v":"0"},false,false,false,false,false,false,false,false,false,false,false,false,false,false,false,{"$f":"IF(W87,LOOKUP(A87,Load_Switch_NFET[PARTNUMBER],Load_Switch_NFET[RDSON10])*1000,IF(V87,LOOKUP(A87,Load_Switch_NFET[PARTNUMBER],Load_Switch_NFET[RDSON8])*1000,IF(U87,LOOKUP(A87,Load_Switch_NFET[PARTNUMBER],Load_Switch_NFET[RDSON6])*1000,IF(T87,LOOKUP(A87,Load_Switch_NFET[PARTNUMBER],Load_Switch_NFET[RDSON45])*1000,IF(S87,LOOKUP(A87,Load_Switch_NFET[PARTNUMBER],Load_Switch_NFET[RDSON3])*1000,IF(R87,LOOKUP(A87,Load_Switch_NFET[PARTNUMBER],Load_Switch_NFET[RDSON25])*1000,IF(Q87,LOOKUP(A87,Load_Switch_NFET[PARTNUMBER],Load_Switch_NFET[RDSON18])*1000,\"\")))))))","v":""},{"$f":"IF(AND(A87<>0,A87<>\"\"),X87*(1+(Tj-25)*(LOOKUP(A87,Load_Switch_NFET[PARTNUMBER],Load_Switch_NFET[RDSDELTA])/((LOOKUP(A87,Load_Switch_NFET[PARTNUMBER],Load_Switch_NFET[TJMAX])-25)))),\"\")","v":""},{"$f":"IF(AND(A87<>0,A87<>\"\"),LOOKUP(A87,Load_Switch_NFET[PARTNUMBER],Load_Switch_NFET[VTHMAX]),\"\")","v":""},{"$f":"IF(AND(A87<>0,A87<>\"\"),LOOKUP(A87,Load_Switch_NFET[PARTNUMBER],Load_Switch_NFET[VTHMIN]),\"\")","v":""},"#N/A",{"$f":"IF(AND(A87<>0,A87<>\"\"),LOOKUP(A87,Load_Switch_NFET[PARTNUMBER],Load_Switch_NFET[RGIMAX]),\"\")","v":""},{"$f":"IF(AND($A87<>0,$A87<>\"\"),LOOKUP($A87,Load_Switch_NFET[PARTNUMBER],Load_Switch_NFET[QGTYP]),\"\")","v":""},{"$f":"IF(AND($A87<>0,$A87<>\"\"),LOOKUP($A87,Load_Switch_NFET[PARTNUMBER],Load_Switch_NFET[QGS]),\"\")","v":""},{"$f":"IF(AND($A87<>0,$A87<>\"\"),LOOKUP($A87,Load_Switch_NFET[PARTNUMBER],Load_Switch_NFET[QGD]),\"\")","v":""},{"$f":"IF(AND($A87<>0,$A87<>\"\"),LOOKUP($A87,Load_Switch_NFET[PARTNUMBER],Load_Switch_NFET[QGTH]),\"\")","v":""},{"$f":"IF(AND($A87<>0,$A87<>\"\"),LOOKUP($A87,Load_Switch_NFET[PARTNUMBER],Load_Switch_NFET[VMILLER]),\"\")","v":""},{"$f":"IF(AND($A87<>0,$A87<>\"\"),LOOKUP($A87,Load_Switch_NFET[PARTNUMBER],Load_Switch_NFET[COSS_AT_VDSSPEC]),\"\")","v":""},"","","","",{"$f":"IF(AND($A87<>0,$A87<>\"\"),LOOKUP($A87,Load_Switch_NFET[PARTNUMBER],Load_Switch_NFET[1KPRICE]),\"\")","v":""},{"$f":"IF(AND($A87<>0,$A87<>\"\"),LOOKUP(A87,Load_Switch_NFET[PARTNUMBER],Load_Switch_NFET[TI_EQ_PACKAGE]),\"\")","v":""},"Invalid Part"]
[{"$f":"IF(CH=\"N\",NLogic!B88,\"\")","v":0},{"$f":"IF(OR($A88=0,$A88=\"\"),\"0\",IF(LOOKUP($A88,Load_Switch_NFET[PARTNUMBER],Load_Switch_NFET[RDSON18])=\"(NULL)\",\"0\",\"1\"))","v":"0"},{"$f":"IF(OR($A88=0,$A88=\"\"),\"0\",IF(LOOKUP($A88,Load_Switch_NFET[PARTNUMBER],Load_Switch_NFET[RDSON25])=\"(NULL)\",\"0\",\"1\"))","v":"0"},{"$f":"IF(OR($A88=0,$A88=\"\"),\"0\",IF(LOOKUP($A88,Load_Switch_NFET[PARTNUMBER],Load_Switch_NFET[RDSON3])=\"(NULL)\",\"0\",\"1\"))","v":"0"},{"$f":"IF(OR($A88=0,$A88=\"\"),\"0\",IF(LOOKUP($A88,Load_Switch_NFET[PARTNUMBER],Load_Switch_NFET[RDSON45])=\"(NULL)\",\"0\",\"1\"))","v":"0"},{"$f":"IF(OR($A88=0,$A88=\"\"),\"0\",IF(LOOKUP($A88,Load_Switch_NFET[PARTNUMBER],Load_Switch_NFET[RDSON6])=\"(NULL)\",\"0\",\"1\"))","v":"0"},{"$f":"IF(OR($A88=0,$A88=\"\"),\"0\",IF(LOOKUP($A88,Load_Switch_NFET[PARTNUMBER],Load_Switch_NFET[RDSON8])=\"(NULL)\",\"0\",\"1\"))","v":"0"},{"$f":"IF(OR($A88=0,$A88=\"\"),\"0\",IF(LOOKUP($A88,Load_Switch_NFET[PARTNUMBER],Load_Switch_NFET[RDSON10])=\"(NULL)\",\"0\",\"1\"))","v":"0"},false,false,false,false,false,false,false,false,false,false,false,false,false,false,false,{"$f":"IF(W88,LOOKUP(A88,Load_Switch_NFET[PARTNUMBER],Load_Switch_NFET[RDSON10])*1000,IF(V88,LOOKUP(A88,Load_Switch_NFET[PARTNUMBER],Load_Switch_NFET[RDSON8])*1000,IF(U88,LOOKUP(A88,Load_Switch_NFET[PARTNUMBER],Load_Switch_NFET[RDSON6])*1000,IF(T88,LOOKUP(A88,Load_Switch_NFET[PARTNUMBER],Load_Switch_NFET[RDSON45])*1000,IF(S88,LOOKUP(A88,Load_Switch_NFET[PARTNUMBER],Load_Switch_NFET[RDSON3])*1000,IF(R88,LOOKUP(A88,Load_Switch_NFET[PARTNUMBER],Load_Switch_NFET[RDSON25])*1000,IF(Q88,LOOKUP(A88,Load_Switch_NFET[PARTNUMBER],Load_Switch_NFET[RDSON18])*1000,\"\")))))))","v":""},{"$f":"IF(AND(A88<>0,A88<>\"\"),X88*(1+(Tj-25)*(LOOKUP(A88,Load_Switch_NFET[PARTNUMBER],Load_Switch_NFET[RDSDELTA])/((LOOKUP(A88,Load_Switch_NFET[PARTNUMBER],Load_Switch_NFET[TJMAX])-25)))),\"\")","v":""},{"$f":"IF(AND(A88<>0,A88<>\"\"),LOOKUP(A88,Load_Switch_NFET[PARTNUMBER],Load_Switch_NFET[VTHMAX]),\"\")","v":""},{"$f":"IF(AND(A88<>0,A88<>\"\"),LOOKUP(A88,Load_Switch_NFET[PARTNUMBER],Load_Switch_NFET[VTHMIN]),\"\")","v":""},"#N/A",{"$f":"IF(AND(A88<>0,A88<>\"\"),LOOKUP(A88,Load_Switch_NFET[PARTNUMBER],Load_Switch_NFET[RGIMAX]),\"\")","v":""},{"$f":"IF(AND($A88<>0,$A88<>\"\"),LOOKUP($A88,Load_Switch_NFET[PARTNUMBER],Load_Switch_NFET[QGTYP]),\"\")","v":""},{"$f":"IF(AND($A88<>0,$A88<>\"\"),LOOKUP($A88,Load_Switch_NFET[PARTNUMBER],Load_Switch_NFET[QGS]),\"\")","v":""},{"$f":"IF(AND($A88<>0,$A88<>\"\"),LOOKUP($A88,Load_Switch_NFET[PARTNUMBER],Load_Switch_NFET[QGD]),\"\")","v":""},{"$f":"IF(AND($A88<>0,$A88<>\"\"),LOOKUP($A88,Load_Switch_NFET[PARTNUMBER],Load_Switch_NFET[QGTH]),\"\")","v":""},{"$f":"IF(AND($A88<>0,$A88<>\"\"),LOOKUP($A88,Load_Switch_NFET[PARTNUMBER],Load_Switch_NFET[VMILLER]),\"\")","v":""},{"$f":"IF(AND($A88<>0,$A88<>\"\"),LOOKUP($A88,Load_Switch_NFET[PARTNUMBER],Load_Switch_NFET[COSS_AT_VDSSPEC]),\"\")","v":""},"","","","",{"$f":"IF(AND($A88<>0,$A88<>\"\"),LOOKUP($A88,Load_Switch_NFET[PARTNUMBER],Load_Switch_NFET[1KPRICE]),\"\")","v":""},{"$f":"IF(AND($A88<>0,$A88<>\"\"),LOOKUP(A88,Load_Switch_NFET[PARTNUMBER],Load_Switch_NFET[TI_EQ_PACKAGE]),\"\")","v":""},"Invalid Part"]
[{"$f":"IF(CH=\"N\",NLogic!B89,\"\")","v":0},{"$f":"IF(OR($A89=0,$A89=\"\"),\"0\",IF(LOOKUP($A89,Load_Switch_NFET[PARTNUMBER],Load_Switch_NFET[RDSON18])=\"(NULL)\",\"0\",\"1\"))","v":"0"},{"$f":"IF(OR($A89=0,$A89=\"\"),\"0\",IF(LOOKUP($A89,Load_Switch_NFET[PARTNUMBER],Load_Switch_NFET[RDSON25])=\"(NULL)\",\"0\",\"1\"))","v":"0"},{"$f":"IF(OR($A89=0,$A89=\"\"),\"0\",IF(LOOKUP($A89,Load_Switch_NFET[PARTNUMBER],Load_Switch_NFET[RDSON3])=\"(NULL)\",\"0\",\"1\"))","v":"0"},{"$f":"IF(OR($A89=0,$A89=\"\"),\"0\",IF(LOOKUP($A89,Load_Switch_NFET[PARTNUMBER],Load_Switch_NFET[RDSON45])=\"(NULL)\",\"0\",\"1\"))","v":"0"},{"$f":"IF(OR($A89=0,$A89=\"\"),\"0\",IF(LOOKUP($A89,Load_Switch_NFET[PARTNUMBER],Load_Switch_NFET[RDSON6])=\"(NULL)\",\"0\",\"1\"))","v":"0"},{"$f":"IF(OR($A89=0,$A89=\"\"),\"0\",IF(LOOKUP($A89,Load_Switch_NFET[PARTNUMBER],Load_Switch_NFET[RDSON8])=\"(NULL)\",\"0\",\"1\"))","v":"0"},{"$f":"IF(OR($A89=0,$A89=\"\"),\"0\",IF(LOOKUP($A89,Load_Switch_NFET[PARTNUMBER],Load_Switch_NFET[RDSON10])=\"(NULL)\",\"0\",\"1\"))","v":"0"},false,false,false,false,false,false,false,false,false,false,false,false,false,false,false,{"$f":"IF(W89,LOOKUP(A89,Load_Switch_NFET[PARTNUMBER],Load_Switch_NFET[RDSON10])*1000,IF(V89,LOOKUP(A89,Load_Switch_NFET[PARTNUMBER],Load_Switch_NFET[RDSON8])*1000,IF(U89,LOOKUP(A89,Load_Switch_NFET[PARTNUMBER],Load_Switch_NFET[RDSON6])*1000,IF(T89,LOOKUP(A89,Load_Switch_NFET[PARTNUMBER],Load_Switch_NFET[RDSON45])*1000,IF(S89,LOOKUP(A89,Load_Switch_NFET[PARTNUMBER],Load_Switch_NFET[RDSON3])*1000,IF(R89,LOOKUP(A89,Load_Switch_NFET[PARTNUMBER],Load_Switch_NFET[RDSON25])*1000,IF(Q89,LOOKUP(A89,Load_Switch_NFET[PARTNUMBER],Load_Switch_NFET[RDSON18])*1000,\"\")))))))","v":""},{"$f":"IF(AND(A89<>0,A89<>\"\"),X89*(1+(Tj-25)*(LOOKUP(A89,Load_Switch_NFET[PARTNUMBER],Load_Switch_NFET[RDSDELTA])/((LOOKUP(A89,Load_Switch_NFET[PARTNUMBER],Load_Switch_NFET[TJMAX])-25)))),\"\")","v":""},{"$f":"IF(AND(A89<>0,A89<>\"\"),LOOKUP(A89,Load_Switch_NFET[PARTNUMBER],Load_Switch_NFET[VTHMAX]),\"\")","v":""},{"$f":"IF(AND(A89<>0,A89<>\"\"),LOOKUP(A89,Load_Switch_NFET[PARTNUMBER],Load_Switch_NFET[VTHMIN]),\"\")","v":""},"#N/A",{"$f":"IF(AND(A89<>0,A89<>\"\"),LOOKUP(A89,Load_Switch_NFET[PARTNUMBER],Load_Switch_NFET[RGIMAX]),\"\")","v":""},{"$f":"IF(AND($A89<>0,$A89<>\"\"),LOOKUP($A89,Load_Switch_NFET[PARTNUMBER],Load_Switch_NFET[QGTYP]),\"\")","v":""},{"$f":"IF(AND($A89<>0,$A89<>\"\"),LOOKUP($A89,Load_Switch_NFET[PARTNUMBER],Load_Switch_NFET[QGS]),\"\")","v":""},{"$f":"IF(AND($A89<>0,$A89<>\"\"),LOOKUP($A89,Load_Switch_NFET[PARTNUMBER],Load_Switch_NFET[QGD]),\"\")","v":""},{"$f":"IF(AND($A89<>0,$A89<>\"\"),LOOKUP($A89,Load_Switch_NFET[PARTNUMBER],Load_Switch_NFET[QGTH]),\"\")","v":""},{"$f":"IF(AND($A89<>0,$A89<>\"\"),LOOKUP($A89,Load_Switch_NFET[PARTNUMBER],Load_Switch_NFET[VMILLER]),\"\")","v":""},{"$f":"IF(AND($A89<>0,$A89<>\"\"),LOOKUP($A89,Load_Switch_NFET[PARTNUMBER],Load_Switch_NFET[COSS_AT_VDSSPEC]),\"\")","v":""},"","","","",{"$f":"IF(AND($A89<>0,$A89<>\"\"),LOOKUP($A89,Load_Switch_NFET[PARTNUMBER],Load_Switch_NFET[1KPRICE]),\"\")","v":""},{"$f":"IF(AND($A89<>0,$A89<>\"\"),LOOKUP(A89,Load_Switch_NFET[PARTNUMBER],Load_Switch_NFET[TI_EQ_PACKAGE]),\"\")","v":""},"Invalid Part"]
[{"$f":"IF(CH=\"N\",NLogic!B90,\"\")","v":0},{"$f":"IF(OR($A90=0,$A90=\"\"),\"0\",IF(LOOKUP($A90,Load_Switch_NFET[PARTNUMBER],Load_Switch_NFET[RDSON18])=\"(NULL)\",\"0\",\"1\"))","v":"0"},{"$f":"IF(OR($A90=0,$A90=\"\"),\"0\",IF(LOOKUP($A90,Load_Switch_NFET[PARTNUMBER],Load_Switch_NFET[RDSON25])=\"(NULL)\",\"0\",\"1\"))","v":"0"},{"$f":"IF(OR($A90=0,$A90=\"\"),\"0\",IF(LOOKUP($A90,Load_Switch_NFET[PARTNUMBER],Load_Switch_NFET[RDSON3])=\"(NULL)\",\"0\",\"1\"))","v":"0"},{"$f":"IF(OR($A90=0,$A90=\"\"),\"0\",IF(LOOKUP($A90,Load_Switch_NFET[PARTNUMBER],Load_Switch_NFET[RDSON45])=\"(NULL)\",\"0\",\"1\"))","v":"0"},{"$f":"IF(OR($A90=0,$A90=\"\"),\"0\",IF(LOOKUP($A90,Load_Switch_NFET[PARTNUMBER],Load_Switch_NFET[RDSON6])=\"(NULL)\",\"0\",\"1\"))","v":"0"},{"$f":"IF(OR($A90=0,$A90=\"\"),\"0\",IF(LOOKUP($A90,Load_Switch_NFET[PARTNUMBER],Load_Switch_NFET[RDSON8])=\"(NULL)\",\"0\",\"1\"))","v":"0"},{"$f":"IF(OR($A90=0,$A90=\"\"),\"0\",IF(LOOKUP($A90,Load_Switch_NFET[PARTNUMBER],Load_Switch_NFET[RDSON10])=\"(NULL)\",\"0\",\"1\"))","v":"0"},false,false,false,false,false,false,false,false,false,false,false,false,false,false,false,{"$f":"IF(W90,LOOKUP(A90,Load_Switch_NFET[PARTNUMBER],Load_Switch_NFET[RDSON10])*1000,IF(V90,LOOKUP(A90,Load_Switch_NFET[PARTNUMBER],Load_Switch_NFET[RDSON8])*1000,IF(U90,LOOKUP(A90,Load_Switch_NFET[PARTNUMBER],Load_Switch_NFET[RDSON6])*1000,IF(T90,LOOKUP(A90,Load_Switch_NFET[PARTNUMBER],Load_Switch_NFET[RDSON45])*1000,IF(S90,LOOKUP(A90,Load_Switch_NFET[PARTNUMBER],Load_Switch_NFET[RDSON3])*1000,IF(R90,LOOKUP(A90,Load_Switch_NFET[PARTNUMBER],Load_Switch_NFET[RDSON25])*1000,IF(Q90,LOOKUP(A90,Load_Switch_NFET[PARTNUMBER],Load_Switch_NFET[RDSON18])*1000,\"\")))))))","v":""},{"$f":"IF(AND(A90<>0,A90<>\"\"),X90*(1+(Tj-25)*(LOOKUP(A90,Load_Switch_NFET[PARTNUMBER],Load_Switch_NFET[RDSDELTA])/((LOOKUP(A90,Load_Switch_NFET[PARTNUMBER],Load_Switch_NFET[TJMAX])-25)))),\"\")","v":""},{"$f":"IF(AND(A90<>0,A90<>\"\"),LOOKUP(A90,Load_Switch_NFET[PARTNUMBER],Load_Switch_NFET[VTHMAX]),\"\")","v":""},{"$f":"IF(AND(A90<>0,A90<>\"\"),LOOKUP(A90,Load_Switch_NFET[PARTNUMBER],Load_Switch_NFET[VTHMIN]),\"\")","v":""},"#N/A",{"$f":"IF(AND(A90<>0,A90<>\"\"),LOOKUP(A90,Load_Switch_NFET[PARTNUMBER],Load_Switch_NFET[RGIMAX]),\"\")","v":""},{"$f":"IF(AND($A90<>0,$A90<>\"\"),LOOKUP($A90,Load_Switch_NFET[PARTNUMBER],Load_Switch_NFET[QGTYP]),\"\")","v":""},{"$f":"IF(AND($A90<>0,$A90<>\"\"),LOOKUP($A90,Load_Switch_NFET[PARTNUMBER],Load_Switch_NFET[QGS]),\"\")","v":""},{"$f":"IF(AND($A90<>0,$A90<>\"\"),LOOKUP($A90,Load_Switch_NFET[PARTNUMBER],Load_Switch_NFET[QGD]),\"\")","v":""},{"$f":"IF(AND($A90<>0,$A90<>\"\"),LOOKUP($A90,Load_Switch_NFET[PARTNUMBER],Load_Switch_NFET[QGTH]),\"\")","v":""},{"$f":"IF(AND($A90<>0,$A90<>\"\"),LOOKUP($A90,Load_Switch_NFET[PARTNUMBER],Load_Switch_NFET[VMILLER]),\"\")","v":""},{"$f":"IF(AND($A90<>0,$A90<>\"\"),LOOKUP($A90,Load_Switch_NFET[PARTNUMBER],Load_Switch_NFET[COSS_AT_VDSSPEC]),\"\")","v":""},"","","","",{"$f":"IF(AND($A90<>0,$A90<>\"\"),LOOKUP($A90,Load_Switch_NFET[PARTNUMBER],Load_Switch_NFET[1KPRICE]),\"\")","v":""},{"$f":"IF(AND($A90<>0,$A90<>\"\"),LOOKUP(A90,Load_Switch_NFET[PARTNUMBER],Load_Switch_NFET[TI_EQ_PACKAGE]),\"\")","v":""},"Invalid Part"]
[{"$f":"IF(CH=\"N\",NLogic!B91,\"\")","v":0},{"$f":"IF(OR($A91=0,$A91=\"\"),\"0\",IF(LOOKUP($A91,Load_Switch_NFET[PARTNUMBER],Load_Switch_NFET[RDSON18])=\"(NULL)\",\"0\",\"1\"))","v":"0"},{"$f":"IF(OR($A91=0,$A91=\"\"),\"0\",IF(LOOKUP($A91,Load_Switch_NFET[PARTNUMBER],Load_Switch_NFET[RDSON25])=\"(NULL)\",\"0\",\"1\"))","v":"0"},{"$f":"IF(OR($A91=0,$A91=\"\"),\"0\",IF(LOOKUP($A91,Load_Switch_NFET[PARTNUMBER],Load_Switch_NFET[RDSON3])=\"(NULL)\",\"0\",\"1\"))","v":"0"},{"$f":"IF(OR($A91=0,$A91=\"\"),\"0\",IF(LOOKUP($A91,Load_Switch_NFET[PARTNUMBER],Load_Switch_NFET[RDSON45])=\"(NULL)\",\"0\",\"1\"))","v":"0"},{"$f":"IF(OR($A91=0,$A91=\"\"),\"0\",IF(LOOKUP($A91,Load_Switch_NFET[PARTNUMBER],Load_Switch_NFET[RDSON6])=\"(NULL)\",\"0\",\"1\"))","v":"0"},{"$f":"IF(OR($A91=0,$A91=\"\"),\"0\",IF(LOOKUP($A91,Load_Switch_NFET[PARTNUMBER],Load_Switch_NFET[RDSON8])=\"(NULL)\",\"0\",\"1\"))","v":"0"},{"$f":"IF(OR($A91=0,$A91=\"\"),\"0\",IF(LOOKUP($A91,Load_Switch_NFET[PARTNUMBER],Load_Switch_NFET[RDSON10])=\"(NULL)\",\"0\",\"1\"))","v":"0"},false,false,false,false,false,false,false,false,false,false,false,false,false,false,false,{"$f":"IF(W91,LOOKUP(A91,Load_Switch_NFET[PARTNUMBER],Load_Switch_NFET[RDSON10])*1000,IF(V91,LOOKUP(A91,Load_Switch_NFET[PARTNUMBER],Load_Switch_NFET[RDSON8])*1000,IF(U91,LOOKUP(A91,Load_Switch_NFET[PARTNUMBER],Load_Switch_NFET[RDSON6])*1000,IF(T91,LOOKUP(A91,Load_Switch_NFET[PARTNUMBER],Load_Switch_NFET[RDSON45])*1000,IF(S91,LOOKUP(A91,Load_Switch_NFET[PARTNUMBER],Load_Switch_NFET[RDSON3])*1000,IF(R91,LOOKUP(A91,Load_Switch_NFET[PARTNUMBER],Load_Switch_NFET[RDSON25])*1000,IF(Q91,LOOKUP(A91,Load_Switch_NFET[PARTNUMBER],Load_Switch_NFET[RDSON18])*1000,\"\")))))))","v":""},{"$f":"IF(AND(A91<>0,A91<>\"\"),X91*(1+(Tj-25)*(LOOKUP(A91,Load_Switch_NFET[PARTNUMBER],Load_Switch_NFET[RDSDELTA])/((LOOKUP(A91,Load_Switch_NFET[PARTNUMBER],Load_Switch_NFET[TJMAX])-25)))),\"\")","v":""},{"$f":"IF(AND(A91<>0,A91<>\"\"),LOOKUP(A91,Load_Switch_NFET[PARTNUMBER],Load_Switch_NFET[VTHMAX]),\"\")","v":""},{"$f":"IF(AND(A91<>0,A91<>\"\"),LOOKUP(A91,Load_Switch_NFET[PARTNUMBER],Load_Switch_NFET[VTHMIN]),\"\")","v":""},"#N/A",{"$f":"IF(AND(A91<>0,A91<>\"\"),LOOKUP(A91,Load_Switch_NFET[PARTNUMBER],Load_Switch_NFET[RGIMAX]),\"\")","v":""},{"$f":"IF(AND($A91<>0,$A91<>\"\"),LOOKUP($A91,Load_Switch_NFET[PARTNUMBER],Load_Switch_NFET[QGTYP]),\"\")","v":""},{"$f":"IF(AND($A91<>0,$A91<>\"\"),LOOKUP($A91,Load_Switch_NFET[PARTNUMBER],Load_Switch_NFET[QGS]),\"\")","v":""},{"$f":"IF(AND($A91<>0,$A91<>\"\"),LOOKUP($A91,Load_Switch_NFET[PARTNUMBER],Load_Switch_NFET[QGD]),\"\")","v":""},{"$f":"IF(AND($A91<>0,$A91<>\"\"),LOOKUP($A91,Load_Switch_NFET[PARTNUMBER],Load_Switch_NFET[QGTH]),\"\")","v":""},{"$f":"IF(AND($A91<>0,$A91<>\"\"),LOOKUP($A91,Load_Switch_NFET[PARTNUMBER],Load_Switch_NFET[VMILLER]),\"\")","v":""},{"$f":"IF(AND($A91<>0,$A91<>\"\"),LOOKUP($A91,Load_Switch_NFET[PARTNUMBER],Load_Switch_NFET[COSS_AT_VDSSPEC]),\"\")","v":""},"","","","",{"$f":"IF(AND($A91<>0,$A91<>\"\"),LOOKUP($A91,Load_Switch_NFET[PARTNUMBER],Load_Switch_NFET[1KPRICE]),\"\")","v":""},{"$f":"IF(AND($A91<>0,$A91<>\"\"),LOOKUP(A91,Load_Switch_NFET[PARTNUMBER],Load_Switch_NFET[TI_EQ_PACKAGE]),\"\")","v":""},"Invalid Part"]
[{"$f":"IF(CH=\"N\",NLogic!B92,\"\")","v":0},{"$f":"IF(OR($A92=0,$A92=\"\"),\"0\",IF(LOOKUP($A92,Load_Switch_NFET[PARTNUMBER],Load_Switch_NFET[RDSON18])=\"(NULL)\",\"0\",\"1\"))","v":"0"},{"$f":"IF(OR($A92=0,$A92=\"\"),\"0\",IF(LOOKUP($A92,Load_Switch_NFET[PARTNUMBER],Load_Switch_NFET[RDSON25])=\"(NULL)\",\"0\",\"1\"))","v":"0"},{"$f":"IF(OR($A92=0,$A92=\"\"),\"0\",IF(LOOKUP($A92,Load_Switch_NFET[PARTNUMBER],Load_Switch_NFET[RDSON3])=\"(NULL)\",\"0\",\"1\"))","v":"0"},{"$f":"IF(OR($A92=0,$A92=\"\"),\"0\",IF(LOOKUP($A92,Load_Switch_NFET[PARTNUMBER],Load_Switch_NFET[RDSON45])=\"(NULL)\",\"0\",\"1\"))","v":"0"},{"$f":"IF(OR($A92=0,$A92=\"\"),\"0\",IF(LOOKUP($A92,Load_Switch_NFET[PARTNUMBER],Load_Switch_NFET[RDSON6])=\"(NULL)\",\"0\",\"1\"))","v":"0"},{"$f":"IF(OR($A92=0,$A92=\"\"),\"0\",IF(LOOKUP($A92,Load_Switch_NFET[PARTNUMBER],Load_Switch_NFET[RDSON8])=\"(NULL)\",\"0\",\"1\"))","v":"0"},{"$f":"IF(OR($A92=0,$A92=\"\"),\"0\",IF(LOOKUP($A92,Load_Switch_NFET[PARTNUMBER],Load_Switch_NFET[RDSON10])=\"(NULL)\",\"0\",\"1\"))","v":"0"},false,false,false,false,false,false,false,false,false,false,false,false,false,false,false,{"$f":"IF(W92,LOOKUP(A92,Load_Switch_NFET[PARTNUMBER],Load_Switch_NFET[RDSON10])*1000,IF(V92,LOOKUP(A92,Load_Switch_NFET[PARTNUMBER],Load_Switch_NFET[RDSON8])*1000,IF(U92,LOOKUP(A92,Load_Switch_NFET[PARTNUMBER],Load_Switch_NFET[RDSON6])*1000,IF(T92,LOOKUP(A92,Load_Switch_NFET[PARTNUMBER],Load_Switch_NFET[RDSON45])*1000,IF(S92,LOOKUP(A92,Load_Switch_NFET[PARTNUMBER],Load_Switch_NFET[RDSON3])*1000,IF(R92,LOOKUP(A92,Load_Switch_NFET[PARTNUMBER],Load_Switch_NFET[RDSON25])*1000,IF(Q92,LOOKUP(A92,Load_Switch_NFET[PARTNUMBER],Load_Switch_NFET[RDSON18])*1000,\"\")))))))","v":""},{"$f":"IF(AND(A92<>0,A92<>\"\"),X92*(1+(Tj-25)*(LOOKUP(A92,Load_Switch_NFET[PARTNUMBER],Load_Switch_NFET[RDSDELTA])/((LOOKUP(A92,Load_Switch_NFET[PARTNUMBER],Load_Switch_NFET[TJMAX])-25)))),\"\")","v":""},{"$f":"IF(AND(A92<>0,A92<>\"\"),LOOKUP(A92,Load_Switch_NFET[PARTNUMBER],Load_Switch_NFET[VTHMAX]),\"\")","v":""},{"$f":"IF(AND(A92<>0,A92<>\"\"),LOOKUP(A92,Load_Switch_NFET[PARTNUMBER],Load_Switch_NFET[VTHMIN]),\"\")","v":""},"#N/A",{"$f":"IF(AND(A92<>0,A92<>\"\"),LOOKUP(A92,Load_Switch_NFET[PARTNUMBER],Load_Switch_NFET[RGIMAX]),\"\")","v":""},{"$f":"IF(AND($A92<>0,$A92<>\"\"),LOOKUP($A92,Load_Switch_NFET[PARTNUMBER],Load_Switch_NFET[QGTYP]),\"\")","v":""},{"$f":"IF(AND($A92<>0,$A92<>\"\"),LOOKUP($A92,Load_Switch_NFET[PARTNUMBER],Load_Switch_NFET[QGS]),\"\")","v":""},{"$f":"IF(AND($A92<>0,$A92<>\"\"),LOOKUP($A92,Load_Switch_NFET[PARTNUMBER],Load_Switch_NFET[QGD]),\"\")","v":""},{"$f":"IF(AND($A92<>0,$A92<>\"\"),LOOKUP($A92,Load_Switch_NFET[PARTNUMBER],Load_Switch_NFET[QGTH]),\"\")","v":""},{"$f":"IF(AND($A92<>0,$A92<>\"\"),LOOKUP($A92,Load_Switch_NFET[PARTNUMBER],Load_Switch_NFET[VMILLER]),\"\")","v":""},{"$f":"IF(AND($A92<>0,$A92<>\"\"),LOOKUP($A92,Load_Switch_NFET[PARTNUMBER],Load_Switch_NFET[COSS_AT_VDSSPEC]),\"\")","v":""},"","","","",{"$f":"IF(AND($A92<>0,$A92<>\"\"),LOOKUP($A92,Load_Switch_NFET[PARTNUMBER],Load_Switch_NFET[1KPRICE]),\"\")","v":""},{"$f":"IF(AND($A92<>0,$A92<>\"\"),LOOKUP(A92,Load_Switch_NFET[PARTNUMBER],Load_Switch_NFET[TI_EQ_PACKAGE]),\"\")","v":""},"Invalid Part"]
[{"$f":"IF(CH=\"N\",NLogic!B93,\"\")","v":0},{"$f":"IF(OR($A93=0,$A93=\"\"),\"0\",IF(LOOKUP($A93,Load_Switch_NFET[PARTNUMBER],Load_Switch_NFET[RDSON18])=\"(NULL)\",\"0\",\"1\"))","v":"0"},{"$f":"IF(OR($A93=0,$A93=\"\"),\"0\",IF(LOOKUP($A93,Load_Switch_NFET[PARTNUMBER],Load_Switch_NFET[RDSON25])=\"(NULL)\",\"0\",\"1\"))","v":"0"},{"$f":"IF(OR($A93=0,$A93=\"\"),\"0\",IF(LOOKUP($A93,Load_Switch_NFET[PARTNUMBER],Load_Switch_NFET[RDSON3])=\"(NULL)\",\"0\",\"1\"))","v":"0"},{"$f":"IF(OR($A93=0,$A93=\"\"),\"0\",IF(LOOKUP($A93,Load_Switch_NFET[PARTNUMBER],Load_Switch_NFET[RDSON45])=\"(NULL)\",\"0\",\"1\"))","v":"0"},{"$f":"IF(OR($A93=0,$A93=\"\"),\"0\",IF(LOOKUP($A93,Load_Switch_NFET[PARTNUMBER],Load_Switch_NFET[RDSON6])=\"(NULL)\",\"0\",\"1\"))","v":"0"},{"$f":"IF(OR($A93=0,$A93=\"\"),\"0\",IF(LOOKUP($A93,Load_Switch_NFET[PARTNUMBER],Load_Switch_NFET[RDSON8])=\"(NULL)\",\"0\",\"1\"))","v":"0"},{"$f":"IF(OR($A93=0,$A93=\"\"),\"0\",IF(LOOKUP($A93,Load_Switch_NFET[PARTNUMBER],Load_Switch_NFET[RDSON10])=\"(NULL)\",\"0\",\"1\"))","v":"0"},false,false,false,false,false,false,false,false,false,false,false,false,false,false,false,{"$f":"IF(W93,LOOKUP(A93,Load_Switch_NFET[PARTNUMBER],Load_Switch_NFET[RDSON10])*1000,IF(V93,LOOKUP(A93,Load_Switch_NFET[PARTNUMBER],Load_Switch_NFET[RDSON8])*1000,IF(U93,LOOKUP(A93,Load_Switch_NFET[PARTNUMBER],Load_Switch_NFET[RDSON6])*1000,IF(T93,LOOKUP(A93,Load_Switch_NFET[PARTNUMBER],Load_Switch_NFET[RDSON45])*1000,IF(S93,LOOKUP(A93,Load_Switch_NFET[PARTNUMBER],Load_Switch_NFET[RDSON3])*1000,IF(R93,LOOKUP(A93,Load_Switch_NFET[PARTNUMBER],Load_Switch_NFET[RDSON25])*1000,IF(Q93,LOOKUP(A93,Load_Switch_NFET[PARTNUMBER],Load_Switch_NFET[RDSON18])*1000,\"\")))))))","v":""},{"$f":"IF(AND(A93<>0,A93<>\"\"),X93*(1+(Tj-25)*(LOOKUP(A93,Load_Switch_NFET[PARTNUMBER],Load_Switch_NFET[RDSDELTA])/((LOOKUP(A93,Load_Switch_NFET[PARTNUMBER],Load_Switch_NFET[TJMAX])-25)))),\"\")","v":""},{"$f":"IF(AND(A93<>0,A93<>\"\"),LOOKUP(A93,Load_Switch_NFET[PARTNUMBER],Load_Switch_NFET[VTHMAX]),\"\")","v":""},{"$f":"IF(AND(A93<>0,A93<>\"\"),LOOKUP(A93,Load_Switch_NFET[PARTNUMBER],Load_Switch_NFET[VTHMIN]),\"\")","v":""},"#N/A",{"$f":"IF(AND(A93<>0,A93<>\"\"),LOOKUP(A93,Load_Switch_NFET[PARTNUMBER],Load_Switch_NFET[RGIMAX]),\"\")","v":""},{"$f":"IF(AND($A93<>0,$A93<>\"\"),LOOKUP($A93,Load_Switch_NFET[PARTNUMBER],Load_Switch_NFET[QGTYP]),\"\")","v":""},{"$f":"IF(AND($A93<>0,$A93<>\"\"),LOOKUP($A93,Load_Switch_NFET[PARTNUMBER],Load_Switch_NFET[QGS]),\"\")","v":""},{"$f":"IF(AND($A93<>0,$A93<>\"\"),LOOKUP($A93,Load_Switch_NFET[PARTNUMBER],Load_Switch_NFET[QGD]),\"\")","v":""},{"$f":"IF(AND($A93<>0,$A93<>\"\"),LOOKUP($A93,Load_Switch_NFET[PARTNUMBER],Load_Switch_NFET[QGTH]),\"\")","v":""},{"$f":"IF(AND($A93<>0,$A93<>\"\"),LOOKUP($A93,Load_Switch_NFET[PARTNUMBER],Load_Switch_NFET[VMILLER]),\"\")","v":""},{"$f":"IF(AND($A93<>0,$A93<>\"\"),LOOKUP($A93,Load_Switch_NFET[PARTNUMBER],Load_Switch_NFET[COSS_AT_VDSSPEC]),\"\")","v":""},"","","","",{"$f":"IF(AND($A93<>0,$A93<>\"\"),LOOKUP($A93,Load_Switch_NFET[PARTNUMBER],Load_Switch_NFET[1KPRICE]),\"\")","v":""},{"$f":"IF(AND($A93<>0,$A93<>\"\"),LOOKUP(A93,Load_Switch_NFET[PARTNUMBER],Load_Switch_NFET[TI_EQ_PACKAGE]),\"\")","v":""},"Invalid Part"]
[{"$f":"IF(CH=\"N\",NLogic!B94,\"\")","v":0},{"$f":"IF(OR($A94=0,$A94=\"\"),\"0\",IF(LOOKUP($A94,Load_Switch_NFET[PARTNUMBER],Load_Switch_NFET[RDSON18])=\"(NULL)\",\"0\",\"1\"))","v":"0"},{"$f":"IF(OR($A94=0,$A94=\"\"),\"0\",IF(LOOKUP($A94,Load_Switch_NFET[PARTNUMBER],Load_Switch_NFET[RDSON25])=\"(NULL)\",\"0\",\"1\"))","v":"0"},{"$f":"IF(OR($A94=0,$A94=\"\"),\"0\",IF(LOOKUP($A94,Load_Switch_NFET[PARTNUMBER],Load_Switch_NFET[RDSON3])=\"(NULL)\",\"0\",\"1\"))","v":"0"},{"$f":"IF(OR($A94=0,$A94=\"\"),\"0\",IF(LOOKUP($A94,Load_Switch_NFET[PARTNUMBER],Load_Switch_NFET[RDSON45])=\"(NULL)\",\"0\",\"1\"))","v":"0"},{"$f":"IF(OR($A94=0,$A94=\"\"),\"0\",IF(LOOKUP($A94,Load_Switch_NFET[PARTNUMBER],Load_Switch_NFET[RDSON6])=\"(NULL)\",\"0\",\"1\"))","v":"0"},{"$f":"IF(OR($A94=0,$A94=\"\"),\"0\",IF(LOOKUP($A94,Load_Switch_NFET[PARTNUMBER],Load_Switch_NFET[RDSON8])=\"(NULL)\",\"0\",\"1\"))","v":"0"},{"$f":"IF(OR($A94=0,$A94=\"\"),\"0\",IF(LOOKUP($A94,Load_Switch_NFET[PARTNUMBER],Load_Switch_NFET[RDSON10])=\"(NULL)\",\"0\",\"1\"))","v":"0"},false,false,false,false,false,false,false,false,false,false,false,false,false,false,false,{"$f":"IF(W94,LOOKUP(A94,Load_Switch_NFET[PARTNUMBER],Load_Switch_NFET[RDSON10])*1000,IF(V94,LOOKUP(A94,Load_Switch_NFET[PARTNUMBER],Load_Switch_NFET[RDSON8])*1000,IF(U94,LOOKUP(A94,Load_Switch_NFET[PARTNUMBER],Load_Switch_NFET[RDSON6])*1000,IF(T94,LOOKUP(A94,Load_Switch_NFET[PARTNUMBER],Load_Switch_NFET[RDSON45])*1000,IF(S94,LOOKUP(A94,Load_Switch_NFET[PARTNUMBER],Load_Switch_NFET[RDSON3])*1000,IF(R94,LOOKUP(A94,Load_Switch_NFET[PARTNUMBER],Load_Switch_NFET[RDSON25])*1000,IF(Q94,LOOKUP(A94,Load_Switch_NFET[PARTNUMBER],Load_Switch_NFET[RDSON18])*1000,\"\")))))))","v":""},{"$f":"IF(AND(A94<>0,A94<>\"\"),X94*(1+(Tj-25)*(LOOKUP(A94,Load_Switch_NFET[PARTNUMBER],Load_Switch_NFET[RDSDELTA])/((LOOKUP(A94,Load_Switch_NFET[PARTNUMBER],Load_Switch_NFET[TJMAX])-25)))),\"\")","v":""},{"$f":"IF(AND(A94<>0,A94<>\"\"),LOOKUP(A94,Load_Switch_NFET[PARTNUMBER],Load_Switch_NFET[VTHMAX]),\"\")","v":""},{"$f":"IF(AND(A94<>0,A94<>\"\"),LOOKUP(A94,Load_Switch_NFET[PARTNUMBER],Load_Switch_NFET[VTHMIN]),\"\")","v":""},"#N/A",{"$f":"IF(AND(A94<>0,A94<>\"\"),LOOKUP(A94,Load_Switch_NFET[PARTNUMBER],Load_Switch_NFET[RGIMAX]),\"\")","v":""},{"$f":"IF(AND($A94<>0,$A94<>\"\"),LOOKUP($A94,Load_Switch_NFET[PARTNUMBER],Load_Switch_NFET[QGTYP]),\"\")","v":""},{"$f":"IF(AND($A94<>0,$A94<>\"\"),LOOKUP($A94,Load_Switch_NFET[PARTNUMBER],Load_Switch_NFET[QGS]),\"\")","v":""},{"$f":"IF(AND($A94<>0,$A94<>\"\"),LOOKUP($A94,Load_Switch_NFET[PARTNUMBER],Load_Switch_NFET[QGD]),\"\")","v":""},{"$f":"IF(AND($A94<>0,$A94<>\"\"),LOOKUP($A94,Load_Switch_NFET[PARTNUMBER],Load_Switch_NFET[QGTH]),\"\")","v":""},{"$f":"IF(AND($A94<>0,$A94<>\"\"),LOOKUP($A94,Load_Switch_NFET[PARTNUMBER],Load_Switch_NFET[VMILLER]),\"\")","v":""},{"$f":"IF(AND($A94<>0,$A94<>\"\"),LOOKUP($A94,Load_Switch_NFET[PARTNUMBER],Load_Switch_NFET[COSS_AT_VDSSPEC]),\"\")","v":""},"","","","",{"$f":"IF(AND($A94<>0,$A94<>\"\"),LOOKUP($A94,Load_Switch_NFET[PARTNUMBER],Load_Switch_NFET[1KPRICE]),\"\")","v":""},{"$f":"IF(AND($A94<>0,$A94<>\"\"),LOOKUP(A94,Load_Switch_NFET[PARTNUMBER],Load_Switch_NFET[TI_EQ_PACKAGE]),\"\")","v":""},"Invalid Part"]
[{"$f":"IF(CH=\"N\",NLogic!B95,\"\")","v":0},{"$f":"IF(OR($A95=0,$A95=\"\"),\"0\",IF(LOOKUP($A95,Load_Switch_NFET[PARTNUMBER],Load_Switch_NFET[RDSON18])=\"(NULL)\",\"0\",\"1\"))","v":"0"},{"$f":"IF(OR($A95=0,$A95=\"\"),\"0\",IF(LOOKUP($A95,Load_Switch_NFET[PARTNUMBER],Load_Switch_NFET[RDSON25])=\"(NULL)\",\"0\",\"1\"))","v":"0"},{"$f":"IF(OR($A95=0,$A95=\"\"),\"0\",IF(LOOKUP($A95,Load_Switch_NFET[PARTNUMBER],Load_Switch_NFET[RDSON3])=\"(NULL)\",\"0\",\"1\"))","v":"0"},{"$f":"IF(OR($A95=0,$A95=\"\"),\"0\",IF(LOOKUP($A95,Load_Switch_NFET[PARTNUMBER],Load_Switch_NFET[RDSON45])=\"(NULL)\",\"0\",\"1\"))","v":"0"},{"$f":"IF(OR($A95=0,$A95=\"\"),\"0\",IF(LOOKUP($A95,Load_Switch_NFET[PARTNUMBER],Load_Switch_NFET[RDSON6])=\"(NULL)\",\"0\",\"1\"))","v":"0"},{"$f":"IF(OR($A95=0,$A95=\"\"),\"0\",IF(LOOKUP($A95,Load_Switch_NFET[PARTNUMBER],Load_Switch_NFET[RDSON8])=\"(NULL)\",\"0\",\"1\"))","v":"0"},{"$f":"IF(OR($A95=0,$A95=\"\"),\"0\",IF(LOOKUP($A95,Load_Switch_NFET[PARTNUMBER],Load_Switch_NFET[RDSON10])=\"(NULL)\",\"0\",\"1\"))","v":"0"},false,false,false,false,false,false,false,false,false,false,false,false,false,false,false,{"$f":"IF(W95,LOOKUP(A95,Load_Switch_NFET[PARTNUMBER],Load_Switch_NFET[RDSON10])*1000,IF(V95,LOOKUP(A95,Load_Switch_NFET[PARTNUMBER],Load_Switch_NFET[RDSON8])*1000,IF(U95,LOOKUP(A95,Load_Switch_NFET[PARTNUMBER],Load_Switch_NFET[RDSON6])*1000,IF(T95,LOOKUP(A95,Load_Switch_NFET[PARTNUMBER],Load_Switch_NFET[RDSON45])*1000,IF(S95,LOOKUP(A95,Load_Switch_NFET[PARTNUMBER],Load_Switch_NFET[RDSON3])*1000,IF(R95,LOOKUP(A95,Load_Switch_NFET[PARTNUMBER],Load_Switch_NFET[RDSON25])*1000,IF(Q95,LOOKUP(A95,Load_Switch_NFET[PARTNUMBER],Load_Switch_NFET[RDSON18])*1000,\"\")))))))","v":""},{"$f":"IF(AND(A95<>0,A95<>\"\"),X95*(1+(Tj-25)*(LOOKUP(A95,Load_Switch_NFET[PARTNUMBER],Load_Switch_NFET[RDSDELTA])/((LOOKUP(A95,Load_Switch_NFET[PARTNUMBER],Load_Switch_NFET[TJMAX])-25)))),\"\")","v":""},{"$f":"IF(AND(A95<>0,A95<>\"\"),LOOKUP(A95,Load_Switch_NFET[PARTNUMBER],Load_Switch_NFET[VTHMAX]),\"\")","v":""},{"$f":"IF(AND(A95<>0,A95<>\"\"),LOOKUP(A95,Load_Switch_NFET[PARTNUMBER],Load_Switch_NFET[VTHMIN]),\"\")","v":""},"#N/A",{"$f":"IF(AND(A95<>0,A95<>\"\"),LOOKUP(A95,Load_Switch_NFET[PARTNUMBER],Load_Switch_NFET[RGIMAX]),\"\")","v":""},{"$f":"IF(AND($A95<>0,$A95<>\"\"),LOOKUP($A95,Load_Switch_NFET[PARTNUMBER],Load_Switch_NFET[QGTYP]),\"\")","v":""},{"$f":"IF(AND($A95<>0,$A95<>\"\"),LOOKUP($A95,Load_Switch_NFET[PARTNUMBER],Load_Switch_NFET[QGS]),\"\")","v":""},{"$f":"IF(AND($A95<>0,$A95<>\"\"),LOOKUP($A95,Load_Switch_NFET[PARTNUMBER],Load_Switch_NFET[QGD]),\"\")","v":""},{"$f":"IF(AND($A95<>0,$A95<>\"\"),LOOKUP($A95,Load_Switch_NFET[PARTNUMBER],Load_Switch_NFET[QGTH]),\"\")","v":""},{"$f":"IF(AND($A95<>0,$A95<>\"\"),LOOKUP($A95,Load_Switch_NFET[PARTNUMBER],Load_Switch_NFET[VMILLER]),\"\")","v":""},{"$f":"IF(AND($A95<>0,$A95<>\"\"),LOOKUP($A95,Load_Switch_NFET[PARTNUMBER],Load_Switch_NFET[COSS_AT_VDSSPEC]),\"\")","v":""},"","","","",{"$f":"IF(AND($A95<>0,$A95<>\"\"),LOOKUP($A95,Load_Switch_NFET[PARTNUMBER],Load_Switch_NFET[1KPRICE]),\"\")","v":""},{"$f":"IF(AND($A95<>0,$A95<>\"\"),LOOKUP(A95,Load_Switch_NFET[PARTNUMBER],Load_Switch_NFET[TI_EQ_PACKAGE]),\"\")","v":""},"Invalid Part"]
[{"$f":"IF(CH=\"N\",NLogic!B96,\"\")","v":0},{"$f":"IF(OR($A96=0,$A96=\"\"),\"0\",IF(LOOKUP($A96,Load_Switch_NFET[PARTNUMBER],Load_Switch_NFET[RDSON18])=\"(NULL)\",\"0\",\"1\"))","v":"0"},{"$f":"IF(OR($A96=0,$A96=\"\"),\"0\",IF(LOOKUP($A96,Load_Switch_NFET[PARTNUMBER],Load_Switch_NFET[RDSON25])=\"(NULL)\",\"0\",\"1\"))","v":"0"},{"$f":"IF(OR($A96=0,$A96=\"\"),\"0\",IF(LOOKUP($A96,Load_Switch_NFET[PARTNUMBER],Load_Switch_NFET[RDSON3])=\"(NULL)\",\"0\",\"1\"))","v":"0"},{"$f":"IF(OR($A96=0,$A96=\"\"),\"0\",IF(LOOKUP($A96,Load_Switch_NFET[PARTNUMBER],Load_Switch_NFET[RDSON45])=\"(NULL)\",\"0\",\"1\"))","v":"0"},{"$f":"IF(OR($A96=0,$A96=\"\"),\"0\",IF(LOOKUP($A96,Load_Switch_NFET[PARTNUMBER],Load_Switch_NFET[RDSON6])=\"(NULL)\",\"0\",\"1\"))","v":"0"},{"$f":"IF(OR($A96=0,$A96=\"\"),\"0\",IF(LOOKUP($A96,Load_Switch_NFET[PARTNUMBER],Load_Switch_NFET[RDSON8])=\"(NULL)\",\"0\",\"1\"))","v":"0"},{"$f":"IF(OR($A96=0,$A96=\"\"),\"0\",IF(LOOKUP($A96,Load_Switch_NFET[PARTNUMBER],Load_Switch_NFET[RDSON10])=\"(NULL)\",\"0\",\"1\"))","v":"0"},false,false,false,false,false,false,false,false,false,false,false,false,false,false,false,{"$f":"IF(W96,LOOKUP(A96,Load_Switch_NFET[PARTNUMBER],Load_Switch_NFET[RDSON10])*1000,IF(V96,LOOKUP(A96,Load_Switch_NFET[PARTNUMBER],Load_Switch_NFET[RDSON8])*1000,IF(U96,LOOKUP(A96,Load_Switch_NFET[PARTNUMBER],Load_Switch_NFET[RDSON6])*1000,IF(T96,LOOKUP(A96,Load_Switch_NFET[PARTNUMBER],Load_Switch_NFET[RDSON45])*1000,IF(S96,LOOKUP(A96,Load_Switch_NFET[PARTNUMBER],Load_Switch_NFET[RDSON3])*1000,IF(R96,LOOKUP(A96,Load_Switch_NFET[PARTNUMBER],Load_Switch_NFET[RDSON25])*1000,IF(Q96,LOOKUP(A96,Load_Switch_NFET[PARTNUMBER],Load_Switch_NFET[RDSON18])*1000,\"\")))))))","v":""},{"$f":"IF(AND(A96<>0,A96<>\"\"),X96*(1+(Tj-25)*(LOOKUP(A96,Load_Switch_NFET[PARTNUMBER],Load_Switch_NFET[RDSDELTA])/((LOOKUP(A96,Load_Switch_NFET[PARTNUMBER],Load_Switch_NFET[TJMAX])-25)))),\"\")","v":""},{"$f":"IF(AND(A96<>0,A96<>\"\"),LOOKUP(A96,Load_Switch_NFET[PARTNUMBER],Load_Switch_NFET[VTHMAX]),\"\")","v":""},{"$f":"IF(AND(A96<>0,A96<>\"\"),LOOKUP(A96,Load_Switch_NFET[PARTNUMBER],Load_Switch_NFET[VTHMIN]),\"\")","v":""},"#N/A",{"$f":"IF(AND(A96<>0,A96<>\"\"),LOOKUP(A96,Load_Switch_NFET[PARTNUMBER],Load_Switch_NFET[RGIMAX]),\"\")","v":""},{"$f":"IF(AND($A96<>0,$A96<>\"\"),LOOKUP($A96,Load_Switch_NFET[PARTNUMBER],Load_Switch_NFET[QGTYP]),\"\")","v":""},{"$f":"IF(AND($A96<>0,$A96<>\"\"),LOOKUP($A96,Load_Switch_NFET[PARTNUMBER],Load_Switch_NFET[QGS]),\"\")","v":""},{"$f":"IF(AND($A96<>0,$A96<>\"\"),LOOKUP($A96,Load_Switch_NFET[PARTNUMBER],Load_Switch_NFET[QGD]),\"\")","v":""},{"$f":"IF(AND($A96<>0,$A96<>\"\"),LOOKUP($A96,Load_Switch_NFET[PARTNUMBER],Load_Switch_NFET[QGTH]),\"\")","v":""},{"$f":"IF(AND($A96<>0,$A96<>\"\"),LOOKUP($A96,Load_Switch_NFET[PARTNUMBER],Load_Switch_NFET[VMILLER]),\"\")","v":""},{"$f":"IF(AND($A96<>0,$A96<>\"\"),LOOKUP($A96,Load_Switch_NFET[PARTNUMBER],Load_Switch_NFET[COSS_AT_VDSSPEC]),\"\")","v":""},"","","","",{"$f":"IF(AND($A96<>0,$A96<>\"\"),LOOKUP($A96,Load_Switch_NFET[PARTNUMBER],Load_Switch_NFET[1KPRICE]),\"\")","v":""},{"$f":"IF(AND($A96<>0,$A96<>\"\"),LOOKUP(A96,Load_Switch_NFET[PARTNUMBER],Load_Switch_NFET[TI_EQ_PACKAGE]),\"\")","v":""},"Invalid Part"]
[{"$f":"IF(CH=\"N\",NLogic!B97,\"\")","v":0},{"$f":"IF(OR($A97=0,$A97=\"\"),\"0\",IF(LOOKUP($A97,Load_Switch_NFET[PARTNUMBER],Load_Switch_NFET[RDSON18])=\"(NULL)\",\"0\",\"1\"))","v":"0"},{"$f":"IF(OR($A97=0,$A97=\"\"),\"0\",IF(LOOKUP($A97,Load_Switch_NFET[PARTNUMBER],Load_Switch_NFET[RDSON25])=\"(NULL)\",\"0\",\"1\"))","v":"0"},{"$f":"IF(OR($A97=0,$A97=\"\"),\"0\",IF(LOOKUP($A97,Load_Switch_NFET[PARTNUMBER],Load_Switch_NFET[RDSON3])=\"(NULL)\",\"0\",\"1\"))","v":"0"},{"$f":"IF(OR($A97=0,$A97=\"\"),\"0\",IF(LOOKUP($A97,Load_Switch_NFET[PARTNUMBER],Load_Switch_NFET[RDSON45])=\"(NULL)\",\"0\",\"1\"))","v":"0"},{"$f":"IF(OR($A97=0,$A97=\"\"),\"0\",IF(LOOKUP($A97,Load_Switch_NFET[PARTNUMBER],Load_Switch_NFET[RDSON6])=\"(NULL)\",\"0\",\"1\"))","v":"0"},{"$f":"IF(OR($A97=0,$A97=\"\"),\"0\",IF(LOOKUP($A97,Load_Switch_NFET[PARTNUMBER],Load_Switch_NFET[RDSON8])=\"(NULL)\",\"0\",\"1\"))","v":"0"},{"$f":"IF(OR($A97=0,$A97=\"\"),\"0\",IF(LOOKUP($A97,Load_Switch_NFET[PARTNUMBER],Load_Switch_NFET[RDSON10])=\"(NULL)\",\"0\",\"1\"))","v":"0"},false,false,false,false,false,false,false,false,false,false,false,false,false,false,false,{"$f":"IF(W97,LOOKUP(A97,Load_Switch_NFET[PARTNUMBER],Load_Switch_NFET[RDSON10])*1000,IF(V97,LOOKUP(A97,Load_Switch_NFET[PARTNUMBER],Load_Switch_NFET[RDSON8])*1000,IF(U97,LOOKUP(A97,Load_Switch_NFET[PARTNUMBER],Load_Switch_NFET[RDSON6])*1000,IF(T97,LOOKUP(A97,Load_Switch_NFET[PARTNUMBER],Load_Switch_NFET[RDSON45])*1000,IF(S97,LOOKUP(A97,Load_Switch_NFET[PARTNUMBER],Load_Switch_NFET[RDSON3])*1000,IF(R97,LOOKUP(A97,Load_Switch_NFET[PARTNUMBER],Load_Switch_NFET[RDSON25])*1000,IF(Q97,LOOKUP(A97,Load_Switch_NFET[PARTNUMBER],Load_Switch_NFET[RDSON18])*1000,\"\")))))))","v":""},{"$f":"IF(AND(A97<>0,A97<>\"\"),X97*(1+(Tj-25)*(LOOKUP(A97,Load_Switch_NFET[PARTNUMBER],Load_Switch_NFET[RDSDELTA])/((LOOKUP(A97,Load_Switch_NFET[PARTNUMBER],Load_Switch_NFET[TJMAX])-25)))),\"\")","v":""},{"$f":"IF(AND(A97<>0,A97<>\"\"),LOOKUP(A97,Load_Switch_NFET[PARTNUMBER],Load_Switch_NFET[VTHMAX]),\"\")","v":""},{"$f":"IF(AND(A97<>0,A97<>\"\"),LOOKUP(A97,Load_Switch_NFET[PARTNUMBER],Load_Switch_NFET[VTHMIN]),\"\")","v":""},"#N/A",{"$f":"IF(AND(A97<>0,A97<>\"\"),LOOKUP(A97,Load_Switch_NFET[PARTNUMBER],Load_Switch_NFET[RGIMAX]),\"\")","v":""},{"$f":"IF(AND($A97<>0,$A97<>\"\"),LOOKUP($A97,Load_Switch_NFET[PARTNUMBER],Load_Switch_NFET[QGTYP]),\"\")","v":""},{"$f":"IF(AND($A97<>0,$A97<>\"\"),LOOKUP($A97,Load_Switch_NFET[PARTNUMBER],Load_Switch_NFET[QGS]),\"\")","v":""},{"$f":"IF(AND($A97<>0,$A97<>\"\"),LOOKUP($A97,Load_Switch_NFET[PARTNUMBER],Load_Switch_NFET[QGD]),\"\")","v":""},{"$f":"IF(AND($A97<>0,$A97<>\"\"),LOOKUP($A97,Load_Switch_NFET[PARTNUMBER],Load_Switch_NFET[QGTH]),\"\")","v":""},{"$f":"IF(AND($A97<>0,$A97<>\"\"),LOOKUP($A97,Load_Switch_NFET[PARTNUMBER],Load_Switch_NFET[VMILLER]),\"\")","v":""},{"$f":"IF(AND($A97<>0,$A97<>\"\"),LOOKUP($A97,Load_Switch_NFET[PARTNUMBER],Load_Switch_NFET[COSS_AT_VDSSPEC]),\"\")","v":""},"","","","",{"$f":"IF(AND($A97<>0,$A97<>\"\"),LOOKUP($A97,Load_Switch_NFET[PARTNUMBER],Load_Switch_NFET[1KPRICE]),\"\")","v":""},{"$f":"IF(AND($A97<>0,$A97<>\"\"),LOOKUP(A97,Load_Switch_NFET[PARTNUMBER],Load_Switch_NFET[TI_EQ_PACKAGE]),\"\")","v":""},"Invalid Part"]
[{"$f":"IF(CH=\"N\",NLogic!B98,\"\")","v":0},{"$f":"IF(OR($A98=0,$A98=\"\"),\"0\",IF(LOOKUP($A98,Load_Switch_NFET[PARTNUMBER],Load_Switch_NFET[RDSON18])=\"(NULL)\",\"0\",\"1\"))","v":"0"},{"$f":"IF(OR($A98=0,$A98=\"\"),\"0\",IF(LOOKUP($A98,Load_Switch_NFET[PARTNUMBER],Load_Switch_NFET[RDSON25])=\"(NULL)\",\"0\",\"1\"))","v":"0"},{"$f":"IF(OR($A98=0,$A98=\"\"),\"0\",IF(LOOKUP($A98,Load_Switch_NFET[PARTNUMBER],Load_Switch_NFET[RDSON3])=\"(NULL)\",\"0\",\"1\"))","v":"0"},{"$f":"IF(OR($A98=0,$A98=\"\"),\"0\",IF(LOOKUP($A98,Load_Switch_NFET[PARTNUMBER],Load_Switch_NFET[RDSON45])=\"(NULL)\",\"0\",\"1\"))","v":"0"},{"$f":"IF(OR($A98=0,$A98=\"\"),\"0\",IF(LOOKUP($A98,Load_Switch_NFET[PARTNUMBER],Load_Switch_NFET[RDSON6])=\"(NULL)\",\"0\",\"1\"))","v":"0"},{"$f":"IF(OR($A98=0,$A98=\"\"),\"0\",IF(LOOKUP($A98,Load_Switch_NFET[PARTNUMBER],Load_Switch_NFET[RDSON8])=\"(NULL)\",\"0\",\"1\"))","v":"0"},{"$f":"IF(OR($A98=0,$A98=\"\"),\"0\",IF(LOOKUP($A98,Load_Switch_NFET[PARTNUMBER],Load_Switch_NFET[RDSON10])=\"(NULL)\",\"0\",\"1\"))","v":"0"},false,false,false,false,false,false,false,false,false,false,{"$f":"IF($P98,K98,IF((D98=\"1\"),OR(AR$2,AR$9,AV$2,L98)))","v":false},{"$f":"IF($P98,L98,IF((E98=\"1\"),OR(AU$2,K98,AW$2,M98)))","v":false},{"$f":"IF($P98,M98,IF((F98=\"1\"),OR(AV$2,L98,AX$2,N98)))","v":false},{"$f":"IF($P98,N98,IF((G98=\"1\"),OR(AW$2,M98,AY$2,O98)))","v":false},{"$f":"IF($P98,O98,IF((H98=\"1\"),OR(AX$2,N98)))","v":false},{"$f":"IF(W98,LOOKUP(A98,Load_Switch_NFET[PARTNUMBER],Load_Switch_NFET[RDSON10])*1000,IF(V98,LOOKUP(A98,Load_Switch_NFET[PARTNUMBER],Load_Switch_NFET[RDSON8])*1000,IF(U98,LOOKUP(A98,Load_Switch_NFET[PARTNUMBER],Load_Switch_NFET[RDSON6])*1000,IF(T98,LOOKUP(A98,Load_Switch_NFET[PARTNUMBER],Load_Switch_NFET[RDSON45])*1000,IF(S98,LOOKUP(A98,Load_Switch_NFET[PARTNUMBER],Load_Switch_NFET[RDSON3])*1000,IF(R98,LOOKUP(A98,Load_Switch_NFET[PARTNUMBER],Load_Switch_NFET[RDSON25])*1000,IF(Q98,LOOKUP(A98,Load_Switch_NFET[PARTNUMBER],Load_Switch_NFET[RDSON18])*1000,\"\")))))))","v":""},{"$f":"IF(AND(A98<>0,A98<>\"\"),X98*(1+(Tj-25)*(LOOKUP(A98,Load_Switch_NFET[PARTNUMBER],Load_Switch_NFET[RDSDELTA])/((LOOKUP(A98,Load_Switch_NFET[PARTNUMBER],Load_Switch_NFET[TJMAX])-25)))),\"\")","v":""},{"$f":"IF(AND(A98<>0,A98<>\"\"),LOOKUP(A98,Load_Switch_NFET[PARTNUMBER],Load_Switch_NFET[VTHMAX]),\"\")","v":""},{"$f":"IF(AND(A98<>0,A98<>\"\"),LOOKUP(A98,Load_Switch_NFET[PARTNUMBER],Load_Switch_NFET[VTHMIN]),\"\")","v":""},{"$f":"IF(AND(A98<>0,A98<>\"\"),IF(B98=\"1\",1.8,IF(C98=\"1\",2.5,IF(D98=\"1\",3,IF(E98=\"1\",4.5,IF(F98=\"1\",6,IF(G98=\"1\",8,IF(H98=\"1\",10))))))),\"#N/A\")","v":"#N/A"},{"$f":"IF(AND(A98<>0,A98<>\"\"),LOOKUP(A98,Load_Switch_NFET[PARTNUMBER],Load_Switch_NFET[RGIMAX]),\"\")","v":""},{"$f":"IF(AND($A98<>0,$A98<>\"\"),LOOKUP($A98,Load_Switch_NFET[PARTNUMBER],Load_Switch_NFET[QGTYP]),\"\")","v":""},{"$f":"IF(AND($A98<>0,$A98<>\"\"),LOOKUP($A98,Load_Switch_NFET[PARTNUMBER],Load_Switch_NFET[QGS]),\"\")","v":""},{"$f":"IF(AND($A98<>0,$A98<>\"\"),LOOKUP($A98,Load_Switch_NFET[PARTNUMBER],Load_Switch_NFET[QGD]),\"\")","v":""},{"$f":"IF(AND($A98<>0,$A98<>\"\"),LOOKUP($A98,Load_Switch_NFET[PARTNUMBER],Load_Switch_NFET[QGTH]),\"\")","v":""},{"$f":"IF(AND($A98<>0,$A98<>\"\"),LOOKUP($A98,Load_Switch_NFET[PARTNUMBER],Load_Switch_NFET[VMILLER]),\"\")","v":""},{"$f":"IF(AND($A98<>0,$A98<>\"\"),LOOKUP($A98,Load_Switch_NFET[PARTNUMBER],Load_Switch_NFET[COSS_AT_VDSSPEC]),\"\")","v":""},{"$f":"IF(AND(A98<>0,A98<>\"\"),AE98+AF98-AG98,\"\")","v":""},{"$f":"IF(AND(A98<>0,A98<>\"\"),(Z98+AA98)/2,\"\")","v":""},{"$f":"IF(AND($A98<>0,$A98<>\"\"),Io^2*Y98*m,\"\")","v":""},{"$f":"IF(AND($A98<>0,$A98<>\"\"),ROUND(SUM(AL98:AL98),3),\"\")","v":""},{"$f":"IF(AND($A98<>0,$A98<>\"\"),LOOKUP($A98,Load_Switch_NFET[PARTNUMBER],Load_Switch_NFET[1KPRICE]),\"\")","v":""},{"$f":"IF(AND($A98<>0,$A98<>\"\"),LOOKUP(A98,Load_Switch_NFET[PARTNUMBER],Load_Switch_NFET[TI_EQ_PACKAGE]),\"\")","v":""},{"$f":"IF(AND($A98<>0,$A98<>\"\"),CONCATENATE(A98,\", \",AO98,\", \",AM98,\"W, $\",AN98),\"Invalid Part\")","v":"Invalid Part"}]
[{"$f":"IF(CH=\"N\",NLogic!B99,\"\")","v":0},{"$f":"IF(OR($A99=0,$A99=\"\"),\"0\",IF(LOOKUP($A99,Load_Switch_NFET[PARTNUMBER],Load_Switch_NFET[RDSON18])=\"(NULL)\",\"0\",\"1\"))","v":"0"},{"$f":"IF(OR($A99=0,$A99=\"\"),\"0\",IF(LOOKUP($A99,Load_Switch_NFET[PARTNUMBER],Load_Switch_NFET[RDSON25])=\"(NULL)\",\"0\",\"1\"))","v":"0"},{"$f":"IF(OR($A99=0,$A99=\"\"),\"0\",IF(LOOKUP($A99,Load_Switch_NFET[PARTNUMBER],Load_Switch_NFET[RDSON3])=\"(NULL)\",\"0\",\"1\"))","v":"0"},{"$f":"IF(OR($A99=0,$A99=\"\"),\"0\",IF(LOOKUP($A99,Load_Switch_NFET[PARTNUMBER],Load_Switch_NFET[RDSON45])=\"(NULL)\",\"0\",\"1\"))","v":"0"},{"$f":"IF(OR($A99=0,$A99=\"\"),\"0\",IF(LOOKUP($A99,Load_Switch_NFET[PARTNUMBER],Load_Switch_NFET[RDSON6])=\"(NULL)\",\"0\",\"1\"))","v":"0"},{"$f":"IF(OR($A99=0,$A99=\"\"),\"0\",IF(LOOKUP($A99,Load_Switch_NFET[PARTNUMBER],Load_Switch_NFET[RDSON8])=\"(NULL)\",\"0\",\"1\"))","v":"0"},{"$f":"IF(OR($A99=0,$A99=\"\"),\"0\",IF(LOOKUP($A99,Load_Switch_NFET[PARTNUMBER],Load_Switch_NFET[RDSON10])=\"(NULL)\",\"0\",\"1\"))","v":"0"},false,{"$f":"AND(AT$2,C99=\"1\")","v":false},{"$f":"AND(AU$2,D99=\"1\")","v":false},{"$f":"AND(AV$2,E99=\"1\")","v":false},{"$f":"AND(AW$2,F99=\"1\")","v":false},{"$f":"AND(AX$2,G99=\"1\")","v":false},{"$f":"AND(AY$2,H99=\"1\")","v":false},false,false,false,false,false,false,false,false,{"$f":"IF(W99,LOOKUP(A99,Load_Switch_NFET[PARTNUMBER],Load_Switch_NFET[RDSON10])*1000,IF(V99,LOOKUP(A99,Load_Switch_NFET[PARTNUMBER],Load_Switch_NFET[RDSON8])*1000,IF(U99,LOOKUP(A99,Load_Switch_NFET[PARTNUMBER],Load_Switch_NFET[RDSON6])*1000,IF(T99,LOOKUP(A99,Load_Switch_NFET[PARTNUMBER],Load_Switch_NFET[RDSON45])*1000,IF(S99,LOOKUP(A99,Load_Switch_NFET[PARTNUMBER],Load_Switch_NFET[RDSON3])*1000,IF(R99,LOOKUP(A99,Load_Switch_NFET[PARTNUMBER],Load_Switch_NFET[RDSON25])*1000,IF(Q99,LOOKUP(A99,Load_Switch_NFET[PARTNUMBER],Load_Switch_NFET[RDSON18])*1000,\"\")))))))","v":""},{"$f":"IF(AND(A99<>0,A99<>\"\"),X99*(1+(Tj-25)*(LOOKUP(A99,Load_Switch_NFET[PARTNUMBER],Load_Switch_NFET[RDSDELTA])/((LOOKUP(A99,Load_Switch_NFET[PARTNUMBER],Load_Switch_NFET[TJMAX])-25)))),\"\")","v":""},{"$f":"IF(AND(A99<>0,A99<>\"\"),LOOKUP(A99,Load_Switch_NFET[PARTNUMBER],Load_Switch_NFET[VTHMAX]),\"\")","v":""},{"$f":"IF(AND(A99<>0,A99<>\"\"),LOOKUP(A99,Load_Switch_NFET[PARTNUMBER],Load_Switch_NFET[VTHMIN]),\"\")","v":""},"#N/A",{"$f":"IF(AND(A99<>0,A99<>\"\"),LOOKUP(A99,Load_Switch_NFET[PARTNUMBER],Load_Switch_NFET[RGIMAX]),\"\")","v":""},{"$f":"IF(AND($A99<>0,$A99<>\"\"),LOOKUP($A99,Load_Switch_NFET[PARTNUMBER],Load_Switch_NFET[QGTYP]),\"\")","v":""},{"$f":"IF(AND($A99<>0,$A99<>\"\"),LOOKUP($A99,Load_Switch_NFET[PARTNUMBER],Load_Switch_NFET[QGS]),\"\")","v":""},{"$f":"IF(AND($A99<>0,$A99<>\"\"),LOOKUP($A99,Load_Switch_NFET[PARTNUMBER],Load_Switch_NFET[QGD]),\"\")","v":""},{"$f":"IF(AND($A99<>0,$A99<>\"\"),LOOKUP($A99,Load_Switch_NFET[PARTNUMBER],Load_Switch_NFET[QGTH]),\"\")","v":""},{"$f":"IF(AND($A99<>0,$A99<>\"\"),LOOKUP($A99,Load_Switch_NFET[PARTNUMBER],Load_Switch_NFET[VMILLER]),\"\")","v":""},{"$f":"IF(AND($A99<>0,$A99<>\"\"),LOOKUP($A99,Load_Switch_NFET[PARTNUMBER],Load_Switch_NFET[COSS_AT_VDSSPEC]),\"\")","v":""},"","","","",{"$f":"IF(AND($A99<>0,$A99<>\"\"),LOOKUP($A99,Load_Switch_NFET[PARTNUMBER],Load_Switch_NFET[1KPRICE]),\"\")","v":""},{"$f":"IF(AND($A99<>0,$A99<>\"\"),LOOKUP(A99,Load_Switch_NFET[PARTNUMBER],Load_Switch_NFET[TI_EQ_PACKAGE]),\"\")","v":""},"Invalid Part"]
[{"$f":"IF(CH=\"N\",NLogic!B100,\"\")","v":0},{"$f":"IF(OR($A100=0,$A100=\"\"),\"0\",IF(LOOKUP($A100,Load_Switch_NFET[PARTNUMBER],Load_Switch_NFET[RDSON18])=\"(NULL)\",\"0\",\"1\"))","v":"0"},{"$f":"IF(OR($A100=0,$A100=\"\"),\"0\",IF(LOOKUP($A100,Load_Switch_NFET[PARTNUMBER],Load_Switch_NFET[RDSON25])=\"(NULL)\",\"0\",\"1\"))","v":"0"},{"$f":"IF(OR($A100=0,$A100=\"\"),\"0\",IF(LOOKUP($A100,Load_Switch_NFET[PARTNUMBER],Load_Switch_NFET[RDSON3])=\"(NULL)\",\"0\",\"1\"))","v":"0"},{"$f":"IF(OR($A100=0,$A100=\"\"),\"0\",IF(LOOKUP($A100,Load_Switch_NFET[PARTNUMBER],Load_Switch_NFET[RDSON45])=\"(NULL)\",\"0\",\"1\"))","v":"0"},{"$f":"IF(OR($A100=0,$A100=\"\"),\"0\",IF(LOOKUP($A100,Load_Switch_NFET[PARTNUMBER],Load_Switch_NFET[RDSON6])=\"(NULL)\",\"0\",\"1\"))","v":"0"},{"$f":"IF(OR($A100=0,$A100=\"\"),\"0\",IF(LOOKUP($A100,Load_Switch_NFET[PARTNUMBER],Load_Switch_NFET[RDSON8])=\"(NULL)\",\"0\",\"1\"))","v":"0"},{"$f":"IF(OR($A100=0,$A100=\"\"),\"0\",IF(LOOKUP($A100,Load_Switch_NFET[PARTNUMBER],Load_Switch_NFET[RDSON10])=\"(NULL)\",\"0\",\"1\"))","v":"0"},false,false,false,false,false,false,false,false,false,{"$f":"IF($P100,J100,IF((C100=\"1\"),OR($AR$2,$AR$9)))","v":false},false,false,false,false,false,{"$f":"IF(W100,LOOKUP(A100,Load_Switch_NFET[PARTNUMBER],Load_Switch_NFET[RDSON10])*1000,IF(V100,LOOKUP(A100,Load_Switch_NFET[PARTNUMBER],Load_Switch_NFET[RDSON8])*1000,IF(U100,LOOKUP(A100,Load_Switch_NFET[PARTNUMBER],Load_Switch_NFET[RDSON6])*1000,IF(T100,LOOKUP(A100,Load_Switch_NFET[PARTNUMBER],Load_Switch_NFET[RDSON45])*1000,IF(S100,LOOKUP(A100,Load_Switch_NFET[PARTNUMBER],Load_Switch_NFET[RDSON3])*1000,IF(R100,LOOKUP(A100,Load_Switch_NFET[PARTNUMBER],Load_Switch_NFET[RDSON25])*1000,IF(Q100,LOOKUP(A100,Load_Switch_NFET[PARTNUMBER],Load_Switch_NFET[RDSON18])*1000,\"\")))))))","v":""},{"$f":"IF(AND(A100<>0,A100<>\"\"),X100*(1+(Tj-25)*(LOOKUP(A100,Load_Switch_NFET[PARTNUMBER],Load_Switch_NFET[RDSDELTA])/((LOOKUP(A100,Load_Switch_NFET[PARTNUMBER],Load_Switch_NFET[TJMAX])-25)))),\"\")","v":""},{"$f":"IF(AND(A100<>0,A100<>\"\"),LOOKUP(A100,Load_Switch_NFET[PARTNUMBER],Load_Switch_NFET[VTHMAX]),\"\")","v":""},{"$f":"IF(AND(A100<>0,A100<>\"\"),LOOKUP(A100,Load_Switch_NFET[PARTNUMBER],Load_Switch_NFET[VTHMIN]),\"\")","v":""},"#N/A",{"$f":"IF(AND(A100<>0,A100<>\"\"),LOOKUP(A100,Load_Switch_NFET[PARTNUMBER],Load_Switch_NFET[RGIMAX]),\"\")","v":""},{"$f":"IF(AND($A100<>0,$A100<>\"\"),LOOKUP($A100,Load_Switch_NFET[PARTNUMBER],Load_Switch_NFET[QGTYP]),\"\")","v":""},{"$f":"IF(AND($A100<>0,$A100<>\"\"),LOOKUP($A100,Load_Switch_NFET[PARTNUMBER],Load_Switch_NFET[QGS]),\"\")","v":""},{"$f":"IF(AND($A100<>0,$A100<>\"\"),LOOKUP($A100,Load_Switch_NFET[PARTNUMBER],Load_Switch_NFET[QGD]),\"\")","v":""},{"$f":"IF(AND($A100<>0,$A100<>\"\"),LOOKUP($A100,Load_Switch_NFET[PARTNUMBER],Load_Switch_NFET[QGTH]),\"\")","v":""},{"$f":"IF(AND($A100<>0,$A100<>\"\"),LOOKUP($A100,Load_Switch_NFET[PARTNUMBER],Load_Switch_NFET[VMILLER]),\"\")","v":""},{"$f":"IF(AND($A100<>0,$A100<>\"\"),LOOKUP($A100,Load_Switch_NFET[PARTNUMBER],Load_Switch_NFET[COSS_AT_VDSSPEC]),\"\")","v":""},"","","","",{"$f":"IF(AND($A100<>0,$A100<>\"\"),LOOKUP($A100,Load_Switch_NFET[PARTNUMBER],Load_Switch_NFET[1KPRICE]),\"\")","v":""},{"$f":"IF(AND($A100<>0,$A100<>\"\"),LOOKUP(A100,Load_Switch_NFET[PARTNUMBER],Load_Switch_NFET[TI_EQ_PACKAGE]),\"\")","v":""},"Invalid Part"]
[{"$f":"IF(CH=\"N\",NLogic!B101,\"\")","v":0},{"$f":"IF(OR($A101=0,$A101=\"\"),\"0\",IF(LOOKUP($A101,Load_Switch_NFET[PARTNUMBER],Load_Switch_NFET[RDSON18])=\"(NULL)\",\"0\",\"1\"))","v":"0"},{"$f":"IF(OR($A101=0,$A101=\"\"),\"0\",IF(LOOKUP($A101,Load_Switch_NFET[PARTNUMBER],Load_Switch_NFET[RDSON25])=\"(NULL)\",\"0\",\"1\"))","v":"0"},{"$f":"IF(OR($A101=0,$A101=\"\"),\"0\",IF(LOOKUP($A101,Load_Switch_NFET[PARTNUMBER],Load_Switch_NFET[RDSON3])=\"(NULL)\",\"0\",\"1\"))","v":"0"},{"$f":"IF(OR($A101=0,$A101=\"\"),\"0\",IF(LOOKUP($A101,Load_Switch_NFET[PARTNUMBER],Load_Switch_NFET[RDSON45])=\"(NULL)\",\"0\",\"1\"))","v":"0"},{"$f":"IF(OR($A101=0,$A101=\"\"),\"0\",IF(LOOKUP($A101,Load_Switch_NFET[PARTNUMBER],Load_Switch_NFET[RDSON6])=\"(NULL)\",\"0\",\"1\"))","v":"0"},{"$f":"IF(OR($A101=0,$A101=\"\"),\"0\",IF(LOOKUP($A101,Load_Switch_NFET[PARTNUMBER],Load_Switch_NFET[RDSON8])=\"(NULL)\",\"0\",\"1\"))","v":"0"},{"$f":"IF(OR($A101=0,$A101=\"\"),\"0\",IF(LOOKUP($A101,Load_Switch_NFET[PARTNUMBER],Load_Switch_NFET[RDSON10])=\"(NULL)\",\"0\",\"1\"))","v":"0"},false,false,false,false,false,false,false,false,false,false,false,false,false,false,false,{"$f":"IF(W101,LOOKUP(A101,Load_Switch_NFET[PARTNUMBER],Load_Switch_NFET[RDSON10])*1000,IF(V101,LOOKUP(A101,Load_Switch_NFET[PARTNUMBER],Load_Switch_NFET[RDSON8])*1000,IF(U101,LOOKUP(A101,Load_Switch_NFET[PARTNUMBER],Load_Switch_NFET[RDSON6])*1000,IF(T101,LOOKUP(A101,Load_Switch_NFET[PARTNUMBER],Load_Switch_NFET[RDSON45])*1000,IF(S101,LOOKUP(A101,Load_Switch_NFET[PARTNUMBER],Load_Switch_NFET[RDSON3])*1000,IF(R101,LOOKUP(A101,Load_Switch_NFET[PARTNUMBER],Load_Switch_NFET[RDSON25])*1000,IF(Q101,LOOKUP(A101,Load_Switch_NFET[PARTNUMBER],Load_Switch_NFET[RDSON18])*1000,\"\")))))))","v":""},{"$f":"IF(AND(A101<>0,A101<>\"\"),X101*(1+(Tj-25)*(LOOKUP(A101,Load_Switch_NFET[PARTNUMBER],Load_Switch_NFET[RDSDELTA])/((LOOKUP(A101,Load_Switch_NFET[PARTNUMBER],Load_Switch_NFET[TJMAX])-25)))),\"\")","v":""},{"$f":"IF(AND(A101<>0,A101<>\"\"),LOOKUP(A101,Load_Switch_NFET[PARTNUMBER],Load_Switch_NFET[VTHMAX]),\"\")","v":""},{"$f":"IF(AND(A101<>0,A101<>\"\"),LOOKUP(A101,Load_Switch_NFET[PARTNUMBER],Load_Switch_NFET[VTHMIN]),\"\")","v":""},"#N/A",{"$f":"IF(AND(A101<>0,A101<>\"\"),LOOKUP(A101,Load_Switch_NFET[PARTNUMBER],Load_Switch_NFET[RGIMAX]),\"\")","v":""},{"$f":"IF(AND($A101<>0,$A101<>\"\"),LOOKUP($A101,Load_Switch_NFET[PARTNUMBER],Load_Switch_NFET[QGTYP]),\"\")","v":""},{"$f":"IF(AND($A101<>0,$A101<>\"\"),LOOKUP($A101,Load_Switch_NFET[PARTNUMBER],Load_Switch_NFET[QGS]),\"\")","v":""},{"$f":"IF(AND($A101<>0,$A101<>\"\"),LOOKUP($A101,Load_Switch_NFET[PARTNUMBER],Load_Switch_NFET[QGD]),\"\")","v":""},{"$f":"IF(AND($A101<>0,$A101<>\"\"),LOOKUP($A101,Load_Switch_NFET[PARTNUMBER],Load_Switch_NFET[QGTH]),\"\")","v":""},{"$f":"IF(AND($A101<>0,$A101<>\"\"),LOOKUP($A101,Load_Switch_NFET[PARTNUMBER],Load_Switch_NFET[VMILLER]),\"\")","v":""},{"$f":"IF(AND($A101<>0,$A101<>\"\"),LOOKUP($A101,Load_Switch_NFET[PARTNUMBER],Load_Switch_NFET[COSS_AT_VDSSPEC]),\"\")","v":""},"","","","",{"$f":"IF(AND($A101<>0,$A101<>\"\"),LOOKUP($A101,Load_Switch_NFET[PARTNUMBER],Load_Switch_NFET[1KPRICE]),\"\")","v":""},{"$f":"IF(AND($A101<>0,$A101<>\"\"),LOOKUP(A101,Load_Switch_NFET[PARTNUMBER],Load_Switch_NFET[TI_EQ_PACKAGE]),\"\")","v":""},"Invalid Part"]
[{"$f":"IF(CH=\"N\",NLogic!B102,\"\")","v":0},{"$f":"IF(OR($A102=0,$A102=\"\"),\"0\",IF(LOOKUP($A102,Load_Switch_NFET[PARTNUMBER],Load_Switch_NFET[RDSON18])=\"(NULL)\",\"0\",\"1\"))","v":"0"},{"$f":"IF(OR($A102=0,$A102=\"\"),\"0\",IF(LOOKUP($A102,Load_Switch_NFET[PARTNUMBER],Load_Switch_NFET[RDSON25])=\"(NULL)\",\"0\",\"1\"))","v":"0"},{"$f":"IF(OR($A102=0,$A102=\"\"),\"0\",IF(LOOKUP($A102,Load_Switch_NFET[PARTNUMBER],Load_Switch_NFET[RDSON3])=\"(NULL)\",\"0\",\"1\"))","v":"0"},{"$f":"IF(OR($A102=0,$A102=\"\"),\"0\",IF(LOOKUP($A102,Load_Switch_NFET[PARTNUMBER],Load_Switch_NFET[RDSON45])=\"(NULL)\",\"0\",\"1\"))","v":"0"},{"$f":"IF(OR($A102=0,$A102=\"\"),\"0\",IF(LOOKUP($A102,Load_Switch_NFET[PARTNUMBER],Load_Switch_NFET[RDSON6])=\"(NULL)\",\"0\",\"1\"))","v":"0"},{"$f":"IF(OR($A102=0,$A102=\"\"),\"0\",IF(LOOKUP($A102,Load_Switch_NFET[PARTNUMBER],Load_Switch_NFET[RDSON8])=\"(NULL)\",\"0\",\"1\"))","v":"0"},{"$f":"IF(OR($A102=0,$A102=\"\"),\"0\",IF(LOOKUP($A102,Load_Switch_NFET[PARTNUMBER],Load_Switch_NFET[RDSON10])=\"(NULL)\",\"0\",\"1\"))","v":"0"},false,false,false,false,false,false,false,false,false,false,false,false,false,false,false,{"$f":"IF(W102,LOOKUP(A102,Load_Switch_NFET[PARTNUMBER],Load_Switch_NFET[RDSON10])*1000,IF(V102,LOOKUP(A102,Load_Switch_NFET[PARTNUMBER],Load_Switch_NFET[RDSON8])*1000,IF(U102,LOOKUP(A102,Load_Switch_NFET[PARTNUMBER],Load_Switch_NFET[RDSON6])*1000,IF(T102,LOOKUP(A102,Load_Switch_NFET[PARTNUMBER],Load_Switch_NFET[RDSON45])*1000,IF(S102,LOOKUP(A102,Load_Switch_NFET[PARTNUMBER],Load_Switch_NFET[RDSON3])*1000,IF(R102,LOOKUP(A102,Load_Switch_NFET[PARTNUMBER],Load_Switch_NFET[RDSON25])*1000,IF(Q102,LOOKUP(A102,Load_Switch_NFET[PARTNUMBER],Load_Switch_NFET[RDSON18])*1000,\"\")))))))","v":""},{"$f":"IF(AND(A102<>0,A102<>\"\"),X102*(1+(Tj-25)*(LOOKUP(A102,Load_Switch_NFET[PARTNUMBER],Load_Switch_NFET[RDSDELTA])/((LOOKUP(A102,Load_Switch_NFET[PARTNUMBER],Load_Switch_NFET[TJMAX])-25)))),\"\")","v":""},{"$f":"IF(AND(A102<>0,A102<>\"\"),LOOKUP(A102,Load_Switch_NFET[PARTNUMBER],Load_Switch_NFET[VTHMAX]),\"\")","v":""},{"$f":"IF(AND(A102<>0,A102<>\"\"),LOOKUP(A102,Load_Switch_NFET[PARTNUMBER],Load_Switch_NFET[VTHMIN]),\"\")","v":""},"#N/A",{"$f":"IF(AND(A102<>0,A102<>\"\"),LOOKUP(A102,Load_Switch_NFET[PARTNUMBER],Load_Switch_NFET[RGIMAX]),\"\")","v":""},{"$f":"IF(AND($A102<>0,$A102<>\"\"),LOOKUP($A102,Load_Switch_NFET[PARTNUMBER],Load_Switch_NFET[QGTYP]),\"\")","v":""},{"$f":"IF(AND($A102<>0,$A102<>\"\"),LOOKUP($A102,Load_Switch_NFET[PARTNUMBER],Load_Switch_NFET[QGS]),\"\")","v":""},{"$f":"IF(AND($A102<>0,$A102<>\"\"),LOOKUP($A102,Load_Switch_NFET[PARTNUMBER],Load_Switch_NFET[QGD]),\"\")","v":""},{"$f":"IF(AND($A102<>0,$A102<>\"\"),LOOKUP($A102,Load_Switch_NFET[PARTNUMBER],Load_Switch_NFET[QGTH]),\"\")","v":""},{"$f":"IF(AND($A102<>0,$A102<>\"\"),LOOKUP($A102,Load_Switch_NFET[PARTNUMBER],Load_Switch_NFET[VMILLER]),\"\")","v":""},{"$f":"IF(AND($A102<>0,$A102<>\"\"),LOOKUP($A102,Load_Switch_NFET[PARTNUMBER],Load_Switch_NFET[COSS_AT_VDSSPEC]),\"\")","v":""},"","","","",{"$f":"IF(AND($A102<>0,$A102<>\"\"),LOOKUP($A102,Load_Switch_NFET[PARTNUMBER],Load_Switch_NFET[1KPRICE]),\"\")","v":""},{"$f":"IF(AND($A102<>0,$A102<>\"\"),LOOKUP(A102,Load_Switch_NFET[PARTNUMBER],Load_Switch_NFET[TI_EQ_PACKAGE]),\"\")","v":""},"Invalid Part"]
[{"$f":"IF(CH=\"N\",NLogic!B103,\"\")","v":0},{"$f":"IF(OR($A103=0,$A103=\"\"),\"0\",IF(LOOKUP($A103,Load_Switch_NFET[PARTNUMBER],Load_Switch_NFET[RDSON18])=\"(NULL)\",\"0\",\"1\"))","v":"0"},{"$f":"IF(OR($A103=0,$A103=\"\"),\"0\",IF(LOOKUP($A103,Load_Switch_NFET[PARTNUMBER],Load_Switch_NFET[RDSON25])=\"(NULL)\",\"0\",\"1\"))","v":"0"},{"$f":"IF(OR($A103=0,$A103=\"\"),\"0\",IF(LOOKUP($A103,Load_Switch_NFET[PARTNUMBER],Load_Switch_NFET[RDSON3])=\"(NULL)\",\"0\",\"1\"))","v":"0"},{"$f":"IF(OR($A103=0,$A103=\"\"),\"0\",IF(LOOKUP($A103,Load_Switch_NFET[PARTNUMBER],Load_Switch_NFET[RDSON45])=\"(NULL)\",\"0\",\"1\"))","v":"0"},{"$f":"IF(OR($A103=0,$A103=\"\"),\"0\",IF(LOOKUP($A103,Load_Switch_NFET[PARTNUMBER],Load_Switch_NFET[RDSON6])=\"(NULL)\",\"0\",\"1\"))","v":"0"},{"$f":"IF(OR($A103=0,$A103=\"\"),\"0\",IF(LOOKUP($A103,Load_Switch_NFET[PARTNUMBER],Load_Switch_NFET[RDSON8])=\"(NULL)\",\"0\",\"1\"))","v":"0"},{"$f":"IF(OR($A103=0,$A103=\"\"),\"0\",IF(LOOKUP($A103,Load_Switch_NFET[PARTNUMBER],Load_Switch_NFET[RDSON10])=\"(NULL)\",\"0\",\"1\"))","v":"0"},false,false,false,false,false,false,false,false,false,false,false,false,false,false,false,{"$f":"IF(W103,LOOKUP(A103,Load_Switch_NFET[PARTNUMBER],Load_Switch_NFET[RDSON10])*1000,IF(V103,LOOKUP(A103,Load_Switch_NFET[PARTNUMBER],Load_Switch_NFET[RDSON8])*1000,IF(U103,LOOKUP(A103,Load_Switch_NFET[PARTNUMBER],Load_Switch_NFET[RDSON6])*1000,IF(T103,LOOKUP(A103,Load_Switch_NFET[PARTNUMBER],Load_Switch_NFET[RDSON45])*1000,IF(S103,LOOKUP(A103,Load_Switch_NFET[PARTNUMBER],Load_Switch_NFET[RDSON3])*1000,IF(R103,LOOKUP(A103,Load_Switch_NFET[PARTNUMBER],Load_Switch_NFET[RDSON25])*1000,IF(Q103,LOOKUP(A103,Load_Switch_NFET[PARTNUMBER],Load_Switch_NFET[RDSON18])*1000,\"\")))))))","v":""},{"$f":"IF(AND(A103<>0,A103<>\"\"),X103*(1+(Tj-25)*(LOOKUP(A103,Load_Switch_NFET[PARTNUMBER],Load_Switch_NFET[RDSDELTA])/((LOOKUP(A103,Load_Switch_NFET[PARTNUMBER],Load_Switch_NFET[TJMAX])-25)))),\"\")","v":""},{"$f":"IF(AND(A103<>0,A103<>\"\"),LOOKUP(A103,Load_Switch_NFET[PARTNUMBER],Load_Switch_NFET[VTHMAX]),\"\")","v":""},{"$f":"IF(AND(A103<>0,A103<>\"\"),LOOKUP(A103,Load_Switch_NFET[PARTNUMBER],Load_Switch_NFET[VTHMIN]),\"\")","v":""},"#N/A",{"$f":"IF(AND(A103<>0,A103<>\"\"),LOOKUP(A103,Load_Switch_NFET[PARTNUMBER],Load_Switch_NFET[RGIMAX]),\"\")","v":""},{"$f":"IF(AND($A103<>0,$A103<>\"\"),LOOKUP($A103,Load_Switch_NFET[PARTNUMBER],Load_Switch_NFET[QGTYP]),\"\")","v":""},{"$f":"IF(AND($A103<>0,$A103<>\"\"),LOOKUP($A103,Load_Switch_NFET[PARTNUMBER],Load_Switch_NFET[QGS]),\"\")","v":""},{"$f":"IF(AND($A103<>0,$A103<>\"\"),LOOKUP($A103,Load_Switch_NFET[PARTNUMBER],Load_Switch_NFET[QGD]),\"\")","v":""},{"$f":"IF(AND($A103<>0,$A103<>\"\"),LOOKUP($A103,Load_Switch_NFET[PARTNUMBER],Load_Switch_NFET[QGTH]),\"\")","v":""},{"$f":"IF(AND($A103<>0,$A103<>\"\"),LOOKUP($A103,Load_Switch_NFET[PARTNUMBER],Load_Switch_NFET[VMILLER]),\"\")","v":""},{"$f":"IF(AND($A103<>0,$A103<>\"\"),LOOKUP($A103,Load_Switch_NFET[PARTNUMBER],Load_Switch_NFET[COSS_AT_VDSSPEC]),\"\")","v":""},"","","","",{"$f":"IF(AND($A103<>0,$A103<>\"\"),LOOKUP($A103,Load_Switch_NFET[PARTNUMBER],Load_Switch_NFET[1KPRICE]),\"\")","v":""},{"$f":"IF(AND($A103<>0,$A103<>\"\"),LOOKUP(A103,Load_Switch_NFET[PARTNUMBER],Load_Switch_NFET[TI_EQ_PACKAGE]),\"\")","v":""},"Invalid Part"]
[{"$f":"IF(CH=\"N\",NLogic!B104,\"\")","v":0},{"$f":"IF(OR($A104=0,$A104=\"\"),\"0\",IF(LOOKUP($A104,Load_Switch_NFET[PARTNUMBER],Load_Switch_NFET[RDSON18])=\"(NULL)\",\"0\",\"1\"))","v":"0"},{"$f":"IF(OR($A104=0,$A104=\"\"),\"0\",IF(LOOKUP($A104,Load_Switch_NFET[PARTNUMBER],Load_Switch_NFET[RDSON25])=\"(NULL)\",\"0\",\"1\"))","v":"0"},{"$f":"IF(OR($A104=0,$A104=\"\"),\"0\",IF(LOOKUP($A104,Load_Switch_NFET[PARTNUMBER],Load_Switch_NFET[RDSON3])=\"(NULL)\",\"0\",\"1\"))","v":"0"},{"$f":"IF(OR($A104=0,$A104=\"\"),\"0\",IF(LOOKUP($A104,Load_Switch_NFET[PARTNUMBER],Load_Switch_NFET[RDSON45])=\"(NULL)\",\"0\",\"1\"))","v":"0"},{"$f":"IF(OR($A104=0,$A104=\"\"),\"0\",IF(LOOKUP($A104,Load_Switch_NFET[PARTNUMBER],Load_Switch_NFET[RDSON6])=\"(NULL)\",\"0\",\"1\"))","v":"0"},{"$f":"IF(OR($A104=0,$A104=\"\"),\"0\",IF(LOOKUP($A104,Load_Switch_NFET[PARTNUMBER],Load_Switch_NFET[RDSON8])=\"(NULL)\",\"0\",\"1\"))","v":"0"},{"$f":"IF(OR($A104=0,$A104=\"\"),\"0\",IF(LOOKUP($A104,Load_Switch_NFET[PARTNUMBER],Load_Switch_NFET[RDSON10])=\"(NULL)\",\"0\",\"1\"))","v":"0"},false,false,false,false,false,false,false,false,false,false,false,false,false,false,false,{"$f":"IF(W104,LOOKUP(A104,Load_Switch_NFET[PARTNUMBER],Load_Switch_NFET[RDSON10])*1000,IF(V104,LOOKUP(A104,Load_Switch_NFET[PARTNUMBER],Load_Switch_NFET[RDSON8])*1000,IF(U104,LOOKUP(A104,Load_Switch_NFET[PARTNUMBER],Load_Switch_NFET[RDSON6])*1000,IF(T104,LOOKUP(A104,Load_Switch_NFET[PARTNUMBER],Load_Switch_NFET[RDSON45])*1000,IF(S104,LOOKUP(A104,Load_Switch_NFET[PARTNUMBER],Load_Switch_NFET[RDSON3])*1000,IF(R104,LOOKUP(A104,Load_Switch_NFET[PARTNUMBER],Load_Switch_NFET[RDSON25])*1000,IF(Q104,LOOKUP(A104,Load_Switch_NFET[PARTNUMBER],Load_Switch_NFET[RDSON18])*1000,\"\")))))))","v":""},{"$f":"IF(AND(A104<>0,A104<>\"\"),X104*(1+(Tj-25)*(LOOKUP(A104,Load_Switch_NFET[PARTNUMBER],Load_Switch_NFET[RDSDELTA])/((LOOKUP(A104,Load_Switch_NFET[PARTNUMBER],Load_Switch_NFET[TJMAX])-25)))),\"\")","v":""},{"$f":"IF(AND(A104<>0,A104<>\"\"),LOOKUP(A104,Load_Switch_NFET[PARTNUMBER],Load_Switch_NFET[VTHMAX]),\"\")","v":""},{"$f":"IF(AND(A104<>0,A104<>\"\"),LOOKUP(A104,Load_Switch_NFET[PARTNUMBER],Load_Switch_NFET[VTHMIN]),\"\")","v":""},"#N/A",{"$f":"IF(AND(A104<>0,A104<>\"\"),LOOKUP(A104,Load_Switch_NFET[PARTNUMBER],Load_Switch_NFET[RGIMAX]),\"\")","v":""},{"$f":"IF(AND($A104<>0,$A104<>\"\"),LOOKUP($A104,Load_Switch_NFET[PARTNUMBER],Load_Switch_NFET[QGTYP]),\"\")","v":""},{"$f":"IF(AND($A104<>0,$A104<>\"\"),LOOKUP($A104,Load_Switch_NFET[PARTNUMBER],Load_Switch_NFET[QGS]),\"\")","v":""},{"$f":"IF(AND($A104<>0,$A104<>\"\"),LOOKUP($A104,Load_Switch_NFET[PARTNUMBER],Load_Switch_NFET[QGD]),\"\")","v":""},{"$f":"IF(AND($A104<>0,$A104<>\"\"),LOOKUP($A104,Load_Switch_NFET[PARTNUMBER],Load_Switch_NFET[QGTH]),\"\")","v":""},{"$f":"IF(AND($A104<>0,$A104<>\"\"),LOOKUP($A104,Load_Switch_NFET[PARTNUMBER],Load_Switch_NFET[VMILLER]),\"\")","v":""},{"$f":"IF(AND($A104<>0,$A104<>\"\"),LOOKUP($A104,Load_Switch_NFET[PARTNUMBER],Load_Switch_NFET[COSS_AT_VDSSPEC]),\"\")","v":""},"","","","",{"$f":"IF(AND($A104<>0,$A104<>\"\"),LOOKUP($A104,Load_Switch_NFET[PARTNUMBER],Load_Switch_NFET[1KPRICE]),\"\")","v":""},{"$f":"IF(AND($A104<>0,$A104<>\"\"),LOOKUP(A104,Load_Switch_NFET[PARTNUMBER],Load_Switch_NFET[TI_EQ_PACKAGE]),\"\")","v":""},"Invalid Part"]
[{"$f":"IF(CH=\"N\",NLogic!B105,\"\")","v":0},{"$f":"IF(OR($A105=0,$A105=\"\"),\"0\",IF(LOOKUP($A105,Load_Switch_NFET[PARTNUMBER],Load_Switch_NFET[RDSON18])=\"(NULL)\",\"0\",\"1\"))","v":"0"},{"$f":"IF(OR($A105=0,$A105=\"\"),\"0\",IF(LOOKUP($A105,Load_Switch_NFET[PARTNUMBER],Load_Switch_NFET[RDSON25])=\"(NULL)\",\"0\",\"1\"))","v":"0"},{"$f":"IF(OR($A105=0,$A105=\"\"),\"0\",IF(LOOKUP($A105,Load_Switch_NFET[PARTNUMBER],Load_Switch_NFET[RDSON3])=\"(NULL)\",\"0\",\"1\"))","v":"0"},{"$f":"IF(OR($A105=0,$A105=\"\"),\"0\",IF(LOOKUP($A105,Load_Switch_NFET[PARTNUMBER],Load_Switch_NFET[RDSON45])=\"(NULL)\",\"0\",\"1\"))","v":"0"},{"$f":"IF(OR($A105=0,$A105=\"\"),\"0\",IF(LOOKUP($A105,Load_Switch_NFET[PARTNUMBER],Load_Switch_NFET[RDSON6])=\"(NULL)\",\"0\",\"1\"))","v":"0"},{"$f":"IF(OR($A105=0,$A105=\"\"),\"0\",IF(LOOKUP($A105,Load_Switch_NFET[PARTNUMBER],Load_Switch_NFET[RDSON8])=\"(NULL)\",\"0\",\"1\"))","v":"0"},{"$f":"IF(OR($A105=0,$A105=\"\"),\"0\",IF(LOOKUP($A105,Load_Switch_NFET[PARTNUMBER],Load_Switch_NFET[RDSON10])=\"(NULL)\",\"0\",\"1\"))","v":"0"},false,false,false,false,false,false,false,false,false,false,false,false,false,false,false,{"$f":"IF(W105,LOOKUP(A105,Load_Switch_NFET[PARTNUMBER],Load_Switch_NFET[RDSON10])*1000,IF(V105,LOOKUP(A105,Load_Switch_NFET[PARTNUMBER],Load_Switch_NFET[RDSON8])*1000,IF(U105,LOOKUP(A105,Load_Switch_NFET[PARTNUMBER],Load_Switch_NFET[RDSON6])*1000,IF(T105,LOOKUP(A105,Load_Switch_NFET[PARTNUMBER],Load_Switch_NFET[RDSON45])*1000,IF(S105,LOOKUP(A105,Load_Switch_NFET[PARTNUMBER],Load_Switch_NFET[RDSON3])*1000,IF(R105,LOOKUP(A105,Load_Switch_NFET[PARTNUMBER],Load_Switch_NFET[RDSON25])*1000,IF(Q105,LOOKUP(A105,Load_Switch_NFET[PARTNUMBER],Load_Switch_NFET[RDSON18])*1000,\"\")))))))","v":""},{"$f":"IF(AND(A105<>0,A105<>\"\"),X105*(1+(Tj-25)*(LOOKUP(A105,Load_Switch_NFET[PARTNUMBER],Load_Switch_NFET[RDSDELTA])/((LOOKUP(A105,Load_Switch_NFET[PARTNUMBER],Load_Switch_NFET[TJMAX])-25)))),\"\")","v":""},{"$f":"IF(AND(A105<>0,A105<>\"\"),LOOKUP(A105,Load_Switch_NFET[PARTNUMBER],Load_Switch_NFET[VTHMAX]),\"\")","v":""},{"$f":"IF(AND(A105<>0,A105<>\"\"),LOOKUP(A105,Load_Switch_NFET[PARTNUMBER],Load_Switch_NFET[VTHMIN]),\"\")","v":""},"#N/A",{"$f":"IF(AND(A105<>0,A105<>\"\"),LOOKUP(A105,Load_Switch_NFET[PARTNUMBER],Load_Switch_NFET[RGIMAX]),\"\")","v":""},{"$f":"IF(AND($A105<>0,$A105<>\"\"),LOOKUP($A105,Load_Switch_NFET[PARTNUMBER],Load_Switch_NFET[QGTYP]),\"\")","v":""},{"$f":"IF(AND($A105<>0,$A105<>\"\"),LOOKUP($A105,Load_Switch_NFET[PARTNUMBER],Load_Switch_NFET[QGS]),\"\")","v":""},{"$f":"IF(AND($A105<>0,$A105<>\"\"),LOOKUP($A105,Load_Switch_NFET[PARTNUMBER],Load_Switch_NFET[QGD]),\"\")","v":""},{"$f":"IF(AND($A105<>0,$A105<>\"\"),LOOKUP($A105,Load_Switch_NFET[PARTNUMBER],Load_Switch_NFET[QGTH]),\"\")","v":""},{"$f":"IF(AND($A105<>0,$A105<>\"\"),LOOKUP($A105,Load_Switch_NFET[PARTNUMBER],Load_Switch_NFET[VMILLER]),\"\")","v":""},{"$f":"IF(AND($A105<>0,$A105<>\"\"),LOOKUP($A105,Load_Switch_NFET[PARTNUMBER],Load_Switch_NFET[COSS_AT_VDSSPEC]),\"\")","v":""},"","","","",{"$f":"IF(AND($A105<>0,$A105<>\"\"),LOOKUP($A105,Load_Switch_NFET[PARTNUMBER],Load_Switch_NFET[1KPRICE]),\"\")","v":""},{"$f":"IF(AND($A105<>0,$A105<>\"\"),LOOKUP(A105,Load_Switch_NFET[PARTNUMBER],Load_Switch_NFET[TI_EQ_PACKAGE]),\"\")","v":""},"Invalid Part"]
[{"$f":"IF(CH=\"N\",NLogic!B106,\"\")","v":0},{"$f":"IF(OR($A106=0,$A106=\"\"),\"0\",IF(LOOKUP($A106,Load_Switch_NFET[PARTNUMBER],Load_Switch_NFET[RDSON18])=\"(NULL)\",\"0\",\"1\"))","v":"0"},{"$f":"IF(OR($A106=0,$A106=\"\"),\"0\",IF(LOOKUP($A106,Load_Switch_NFET[PARTNUMBER],Load_Switch_NFET[RDSON25])=\"(NULL)\",\"0\",\"1\"))","v":"0"},{"$f":"IF(OR($A106=0,$A106=\"\"),\"0\",IF(LOOKUP($A106,Load_Switch_NFET[PARTNUMBER],Load_Switch_NFET[RDSON3])=\"(NULL)\",\"0\",\"1\"))","v":"0"},{"$f":"IF(OR($A106=0,$A106=\"\"),\"0\",IF(LOOKUP($A106,Load_Switch_NFET[PARTNUMBER],Load_Switch_NFET[RDSON45])=\"(NULL)\",\"0\",\"1\"))","v":"0"},{"$f":"IF(OR($A106=0,$A106=\"\"),\"0\",IF(LOOKUP($A106,Load_Switch_NFET[PARTNUMBER],Load_Switch_NFET[RDSON6])=\"(NULL)\",\"0\",\"1\"))","v":"0"},{"$f":"IF(OR($A106=0,$A106=\"\"),\"0\",IF(LOOKUP($A106,Load_Switch_NFET[PARTNUMBER],Load_Switch_NFET[RDSON8])=\"(NULL)\",\"0\",\"1\"))","v":"0"},{"$f":"IF(OR($A106=0,$A106=\"\"),\"0\",IF(LOOKUP($A106,Load_Switch_NFET[PARTNUMBER],Load_Switch_NFET[RDSON10])=\"(NULL)\",\"0\",\"1\"))","v":"0"},false,false,false,false,false,false,false,false,false,false,false,false,false,false,false,{"$f":"IF(W106,LOOKUP(A106,Load_Switch_NFET[PARTNUMBER],Load_Switch_NFET[RDSON10])*1000,IF(V106,LOOKUP(A106,Load_Switch_NFET[PARTNUMBER],Load_Switch_NFET[RDSON8])*1000,IF(U106,LOOKUP(A106,Load_Switch_NFET[PARTNUMBER],Load_Switch_NFET[RDSON6])*1000,IF(T106,LOOKUP(A106,Load_Switch_NFET[PARTNUMBER],Load_Switch_NFET[RDSON45])*1000,IF(S106,LOOKUP(A106,Load_Switch_NFET[PARTNUMBER],Load_Switch_NFET[RDSON3])*1000,IF(R106,LOOKUP(A106,Load_Switch_NFET[PARTNUMBER],Load_Switch_NFET[RDSON25])*1000,IF(Q106,LOOKUP(A106,Load_Switch_NFET[PARTNUMBER],Load_Switch_NFET[RDSON18])*1000,\"\")))))))","v":""},{"$f":"IF(AND(A106<>0,A106<>\"\"),X106*(1+(Tj-25)*(LOOKUP(A106,Load_Switch_NFET[PARTNUMBER],Load_Switch_NFET[RDSDELTA])/((LOOKUP(A106,Load_Switch_NFET[PARTNUMBER],Load_Switch_NFET[TJMAX])-25)))),\"\")","v":""},{"$f":"IF(AND(A106<>0,A106<>\"\"),LOOKUP(A106,Load_Switch_NFET[PARTNUMBER],Load_Switch_NFET[VTHMAX]),\"\")","v":""},{"$f":"IF(AND(A106<>0,A106<>\"\"),LOOKUP(A106,Load_Switch_NFET[PARTNUMBER],Load_Switch_NFET[VTHMIN]),\"\")","v":""},"#N/A",{"$f":"IF(AND(A106<>0,A106<>\"\"),LOOKUP(A106,Load_Switch_NFET[PARTNUMBER],Load_Switch_NFET[RGIMAX]),\"\")","v":""},{"$f":"IF(AND($A106<>0,$A106<>\"\"),LOOKUP($A106,Load_Switch_NFET[PARTNUMBER],Load_Switch_NFET[QGTYP]),\"\")","v":""},{"$f":"IF(AND($A106<>0,$A106<>\"\"),LOOKUP($A106,Load_Switch_NFET[PARTNUMBER],Load_Switch_NFET[QGS]),\"\")","v":""},{"$f":"IF(AND($A106<>0,$A106<>\"\"),LOOKUP($A106,Load_Switch_NFET[PARTNUMBER],Load_Switch_NFET[QGD]),\"\")","v":""},{"$f":"IF(AND($A106<>0,$A106<>\"\"),LOOKUP($A106,Load_Switch_NFET[PARTNUMBER],Load_Switch_NFET[QGTH]),\"\")","v":""},{"$f":"IF(AND($A106<>0,$A106<>\"\"),LOOKUP($A106,Load_Switch_NFET[PARTNUMBER],Load_Switch_NFET[VMILLER]),\"\")","v":""},{"$f":"IF(AND($A106<>0,$A106<>\"\"),LOOKUP($A106,Load_Switch_NFET[PARTNUMBER],Load_Switch_NFET[COSS_AT_VDSSPEC]),\"\")","v":""},"","","","",{"$f":"IF(AND($A106<>0,$A106<>\"\"),LOOKUP($A106,Load_Switch_NFET[PARTNUMBER],Load_Switch_NFET[1KPRICE]),\"\")","v":""},{"$f":"IF(AND($A106<>0,$A106<>\"\"),LOOKUP(A106,Load_Switch_NFET[PARTNUMBER],Load_Switch_NFET[TI_EQ_PACKAGE]),\"\")","v":""},"Invalid Part"]
[{"$f":"IF(CH=\"N\",NLogic!B107,\"\")","v":0},{"$f":"IF(OR($A107=0,$A107=\"\"),\"0\",IF(LOOKUP($A107,Load_Switch_NFET[PARTNUMBER],Load_Switch_NFET[RDSON18])=\"(NULL)\",\"0\",\"1\"))","v":"0"},{"$f":"IF(OR($A107=0,$A107=\"\"),\"0\",IF(LOOKUP($A107,Load_Switch_NFET[PARTNUMBER],Load_Switch_NFET[RDSON25])=\"(NULL)\",\"0\",\"1\"))","v":"0"},{"$f":"IF(OR($A107=0,$A107=\"\"),\"0\",IF(LOOKUP($A107,Load_Switch_NFET[PARTNUMBER],Load_Switch_NFET[RDSON3])=\"(NULL)\",\"0\",\"1\"))","v":"0"},{"$f":"IF(OR($A107=0,$A107=\"\"),\"0\",IF(LOOKUP($A107,Load_Switch_NFET[PARTNUMBER],Load_Switch_NFET[RDSON45])=\"(NULL)\",\"0\",\"1\"))","v":"0"},{"$f":"IF(OR($A107=0,$A107=\"\"),\"0\",IF(LOOKUP($A107,Load_Switch_NFET[PARTNUMBER],Load_Switch_NFET[RDSON6])=\"(NULL)\",\"0\",\"1\"))","v":"0"},{"$f":"IF(OR($A107=0,$A107=\"\"),\"0\",IF(LOOKUP($A107,Load_Switch_NFET[PARTNUMBER],Load_Switch_NFET[RDSON8])=\"(NULL)\",\"0\",\"1\"))","v":"0"},{"$f":"IF(OR($A107=0,$A107=\"\"),\"0\",IF(LOOKUP($A107,Load_Switch_NFET[PARTNUMBER],Load_Switch_NFET[RDSON10])=\"(NULL)\",\"0\",\"1\"))","v":"0"},false,false,false,false,false,false,false,false,false,false,false,false,false,false,false,{"$f":"IF(W107,LOOKUP(A107,Load_Switch_NFET[PARTNUMBER],Load_Switch_NFET[RDSON10])*1000,IF(V107,LOOKUP(A107,Load_Switch_NFET[PARTNUMBER],Load_Switch_NFET[RDSON8])*1000,IF(U107,LOOKUP(A107,Load_Switch_NFET[PARTNUMBER],Load_Switch_NFET[RDSON6])*1000,IF(T107,LOOKUP(A107,Load_Switch_NFET[PARTNUMBER],Load_Switch_NFET[RDSON45])*1000,IF(S107,LOOKUP(A107,Load_Switch_NFET[PARTNUMBER],Load_Switch_NFET[RDSON3])*1000,IF(R107,LOOKUP(A107,Load_Switch_NFET[PARTNUMBER],Load_Switch_NFET[RDSON25])*1000,IF(Q107,LOOKUP(A107,Load_Switch_NFET[PARTNUMBER],Load_Switch_NFET[RDSON18])*1000,\"\")))))))","v":""},{"$f":"IF(AND(A107<>0,A107<>\"\"),X107*(1+(Tj-25)*(LOOKUP(A107,Load_Switch_NFET[PARTNUMBER],Load_Switch_NFET[RDSDELTA])/((LOOKUP(A107,Load_Switch_NFET[PARTNUMBER],Load_Switch_NFET[TJMAX])-25)))),\"\")","v":""},{"$f":"IF(AND(A107<>0,A107<>\"\"),LOOKUP(A107,Load_Switch_NFET[PARTNUMBER],Load_Switch_NFET[VTHMAX]),\"\")","v":""},{"$f":"IF(AND(A107<>0,A107<>\"\"),LOOKUP(A107,Load_Switch_NFET[PARTNUMBER],Load_Switch_NFET[VTHMIN]),\"\")","v":""},"#N/A",{"$f":"IF(AND(A107<>0,A107<>\"\"),LOOKUP(A107,Load_Switch_NFET[PARTNUMBER],Load_Switch_NFET[RGIMAX]),\"\")","v":""},{"$f":"IF(AND($A107<>0,$A107<>\"\"),LOOKUP($A107,Load_Switch_NFET[PARTNUMBER],Load_Switch_NFET[QGTYP]),\"\")","v":""},{"$f":"IF(AND($A107<>0,$A107<>\"\"),LOOKUP($A107,Load_Switch_NFET[PARTNUMBER],Load_Switch_NFET[QGS]),\"\")","v":""},{"$f":"IF(AND($A107<>0,$A107<>\"\"),LOOKUP($A107,Load_Switch_NFET[PARTNUMBER],Load_Switch_NFET[QGD]),\"\")","v":""},{"$f":"IF(AND($A107<>0,$A107<>\"\"),LOOKUP($A107,Load_Switch_NFET[PARTNUMBER],Load_Switch_NFET[QGTH]),\"\")","v":""},{"$f":"IF(AND($A107<>0,$A107<>\"\"),LOOKUP($A107,Load_Switch_NFET[PARTNUMBER],Load_Switch_NFET[VMILLER]),\"\")","v":""},{"$f":"IF(AND($A107<>0,$A107<>\"\"),LOOKUP($A107,Load_Switch_NFET[PARTNUMBER],Load_Switch_NFET[COSS_AT_VDSSPEC]),\"\")","v":""},"","","","",{"$f":"IF(AND($A107<>0,$A107<>\"\"),LOOKUP($A107,Load_Switch_NFET[PARTNUMBER],Load_Switch_NFET[1KPRICE]),\"\")","v":""},{"$f":"IF(AND($A107<>0,$A107<>\"\"),LOOKUP(A107,Load_Switch_NFET[PARTNUMBER],Load_Switch_NFET[TI_EQ_PACKAGE]),\"\")","v":""},"Invalid Part"]
[{"$f":"IF(CH=\"N\",NLogic!B108,\"\")","v":0},{"$f":"IF(OR($A108=0,$A108=\"\"),\"0\",IF(LOOKUP($A108,Load_Switch_NFET[PARTNUMBER],Load_Switch_NFET[RDSON18])=\"(NULL)\",\"0\",\"1\"))","v":"0"},{"$f":"IF(OR($A108=0,$A108=\"\"),\"0\",IF(LOOKUP($A108,Load_Switch_NFET[PARTNUMBER],Load_Switch_NFET[RDSON25])=\"(NULL)\",\"0\",\"1\"))","v":"0"},{"$f":"IF(OR($A108=0,$A108=\"\"),\"0\",IF(LOOKUP($A108,Load_Switch_NFET[PARTNUMBER],Load_Switch_NFET[RDSON3])=\"(NULL)\",\"0\",\"1\"))","v":"0"},{"$f":"IF(OR($A108=0,$A108=\"\"),\"0\",IF(LOOKUP($A108,Load_Switch_NFET[PARTNUMBER],Load_Switch_NFET[RDSON45])=\"(NULL)\",\"0\",\"1\"))","v":"0"},{"$f":"IF(OR($A108=0,$A108=\"\"),\"0\",IF(LOOKUP($A108,Load_Switch_NFET[PARTNUMBER],Load_Switch_NFET[RDSON6])=\"(NULL)\",\"0\",\"1\"))","v":"0"},{"$f":"IF(OR($A108=0,$A108=\"\"),\"0\",IF(LOOKUP($A108,Load_Switch_NFET[PARTNUMBER],Load_Switch_NFET[RDSON8])=\"(NULL)\",\"0\",\"1\"))","v":"0"},{"$f":"IF(OR($A108=0,$A108=\"\"),\"0\",IF(LOOKUP($A108,Load_Switch_NFET[PARTNUMBER],Load_Switch_NFET[RDSON10])=\"(NULL)\",\"0\",\"1\"))","v":"0"},false,false,false,false,false,false,false,false,false,false,false,false,false,false,false,{"$f":"IF(W108,LOOKUP(A108,Load_Switch_NFET[PARTNUMBER],Load_Switch_NFET[RDSON10])*1000,IF(V108,LOOKUP(A108,Load_Switch_NFET[PARTNUMBER],Load_Switch_NFET[RDSON8])*1000,IF(U108,LOOKUP(A108,Load_Switch_NFET[PARTNUMBER],Load_Switch_NFET[RDSON6])*1000,IF(T108,LOOKUP(A108,Load_Switch_NFET[PARTNUMBER],Load_Switch_NFET[RDSON45])*1000,IF(S108,LOOKUP(A108,Load_Switch_NFET[PARTNUMBER],Load_Switch_NFET[RDSON3])*1000,IF(R108,LOOKUP(A108,Load_Switch_NFET[PARTNUMBER],Load_Switch_NFET[RDSON25])*1000,IF(Q108,LOOKUP(A108,Load_Switch_NFET[PARTNUMBER],Load_Switch_NFET[RDSON18])*1000,\"\")))))))","v":""},{"$f":"IF(AND(A108<>0,A108<>\"\"),X108*(1+(Tj-25)*(LOOKUP(A108,Load_Switch_NFET[PARTNUMBER],Load_Switch_NFET[RDSDELTA])/((LOOKUP(A108,Load_Switch_NFET[PARTNUMBER],Load_Switch_NFET[TJMAX])-25)))),\"\")","v":""},{"$f":"IF(AND(A108<>0,A108<>\"\"),LOOKUP(A108,Load_Switch_NFET[PARTNUMBER],Load_Switch_NFET[VTHMAX]),\"\")","v":""},{"$f":"IF(AND(A108<>0,A108<>\"\"),LOOKUP(A108,Load_Switch_NFET[PARTNUMBER],Load_Switch_NFET[VTHMIN]),\"\")","v":""},"#N/A",{"$f":"IF(AND(A108<>0,A108<>\"\"),LOOKUP(A108,Load_Switch_NFET[PARTNUMBER],Load_Switch_NFET[RGIMAX]),\"\")","v":""},{"$f":"IF(AND($A108<>0,$A108<>\"\"),LOOKUP($A108,Load_Switch_NFET[PARTNUMBER],Load_Switch_NFET[QGTYP]),\"\")","v":""},{"$f":"IF(AND($A108<>0,$A108<>\"\"),LOOKUP($A108,Load_Switch_NFET[PARTNUMBER],Load_Switch_NFET[QGS]),\"\")","v":""},{"$f":"IF(AND($A108<>0,$A108<>\"\"),LOOKUP($A108,Load_Switch_NFET[PARTNUMBER],Load_Switch_NFET[QGD]),\"\")","v":""},{"$f":"IF(AND($A108<>0,$A108<>\"\"),LOOKUP($A108,Load_Switch_NFET[PARTNUMBER],Load_Switch_NFET[QGTH]),\"\")","v":""},{"$f":"IF(AND($A108<>0,$A108<>\"\"),LOOKUP($A108,Load_Switch_NFET[PARTNUMBER],Load_Switch_NFET[VMILLER]),\"\")","v":""},{"$f":"IF(AND($A108<>0,$A108<>\"\"),LOOKUP($A108,Load_Switch_NFET[PARTNUMBER],Load_Switch_NFET[COSS_AT_VDSSPEC]),\"\")","v":""},"","","","",{"$f":"IF(AND($A108<>0,$A108<>\"\"),LOOKUP($A108,Load_Switch_NFET[PARTNUMBER],Load_Switch_NFET[1KPRICE]),\"\")","v":""},{"$f":"IF(AND($A108<>0,$A108<>\"\"),LOOKUP(A108,Load_Switch_NFET[PARTNUMBER],Load_Switch_NFET[TI_EQ_PACKAGE]),\"\")","v":""},"Invalid Part"]
[{"$f":"IF(CH=\"N\",NLogic!B109,\"\")","v":0},{"$f":"IF(OR($A109=0,$A109=\"\"),\"0\",IF(LOOKUP($A109,Load_Switch_NFET[PARTNUMBER],Load_Switch_NFET[RDSON18])=\"(NULL)\",\"0\",\"1\"))","v":"0"},{"$f":"IF(OR($A109=0,$A109=\"\"),\"0\",IF(LOOKUP($A109,Load_Switch_NFET[PARTNUMBER],Load_Switch_NFET[RDSON25])=\"(NULL)\",\"0\",\"1\"))","v":"0"},{"$f":"IF(OR($A109=0,$A109=\"\"),\"0\",IF(LOOKUP($A109,Load_Switch_NFET[PARTNUMBER],Load_Switch_NFET[RDSON3])=\"(NULL)\",\"0\",\"1\"))","v":"0"},{"$f":"IF(OR($A109=0,$A109=\"\"),\"0\",IF(LOOKUP($A109,Load_Switch_NFET[PARTNUMBER],Load_Switch_NFET[RDSON45])=\"(NULL)\",\"0\",\"1\"))","v":"0"},{"$f":"IF(OR($A109=0,$A109=\"\"),\"0\",IF(LOOKUP($A109,Load_Switch_NFET[PARTNUMBER],Load_Switch_NFET[RDSON6])=\"(NULL)\",\"0\",\"1\"))","v":"0"},{"$f":"IF(OR($A109=0,$A109=\"\"),\"0\",IF(LOOKUP($A109,Load_Switch_NFET[PARTNUMBER],Load_Switch_NFET[RDSON8])=\"(NULL)\",\"0\",\"1\"))","v":"0"},{"$f":"IF(OR($A109=0,$A109=\"\"),\"0\",IF(LOOKUP($A109,Load_Switch_NFET[PARTNUMBER],Load_Switch_NFET[RDSON10])=\"(NULL)\",\"0\",\"1\"))","v":"0"},false,false,false,false,false,false,false,false,false,false,false,false,false,false,false,{"$f":"IF(W109,LOOKUP(A109,Load_Switch_NFET[PARTNUMBER],Load_Switch_NFET[RDSON10])*1000,IF(V109,LOOKUP(A109,Load_Switch_NFET[PARTNUMBER],Load_Switch_NFET[RDSON8])*1000,IF(U109,LOOKUP(A109,Load_Switch_NFET[PARTNUMBER],Load_Switch_NFET[RDSON6])*1000,IF(T109,LOOKUP(A109,Load_Switch_NFET[PARTNUMBER],Load_Switch_NFET[RDSON45])*1000,IF(S109,LOOKUP(A109,Load_Switch_NFET[PARTNUMBER],Load_Switch_NFET[RDSON3])*1000,IF(R109,LOOKUP(A109,Load_Switch_NFET[PARTNUMBER],Load_Switch_NFET[RDSON25])*1000,IF(Q109,LOOKUP(A109,Load_Switch_NFET[PARTNUMBER],Load_Switch_NFET[RDSON18])*1000,\"\")))))))","v":""},{"$f":"IF(AND(A109<>0,A109<>\"\"),X109*(1+(Tj-25)*(LOOKUP(A109,Load_Switch_NFET[PARTNUMBER],Load_Switch_NFET[RDSDELTA])/((LOOKUP(A109,Load_Switch_NFET[PARTNUMBER],Load_Switch_NFET[TJMAX])-25)))),\"\")","v":""},{"$f":"IF(AND(A109<>0,A109<>\"\"),LOOKUP(A109,Load_Switch_NFET[PARTNUMBER],Load_Switch_NFET[VTHMAX]),\"\")","v":""},{"$f":"IF(AND(A109<>0,A109<>\"\"),LOOKUP(A109,Load_Switch_NFET[PARTNUMBER],Load_Switch_NFET[VTHMIN]),\"\")","v":""},"#N/A",{"$f":"IF(AND(A109<>0,A109<>\"\"),LOOKUP(A109,Load_Switch_NFET[PARTNUMBER],Load_Switch_NFET[RGIMAX]),\"\")","v":""},{"$f":"IF(AND($A109<>0,$A109<>\"\"),LOOKUP($A109,Load_Switch_NFET[PARTNUMBER],Load_Switch_NFET[QGTYP]),\"\")","v":""},{"$f":"IF(AND($A109<>0,$A109<>\"\"),LOOKUP($A109,Load_Switch_NFET[PARTNUMBER],Load_Switch_NFET[QGS]),\"\")","v":""},{"$f":"IF(AND($A109<>0,$A109<>\"\"),LOOKUP($A109,Load_Switch_NFET[PARTNUMBER],Load_Switch_NFET[QGD]),\"\")","v":""},{"$f":"IF(AND($A109<>0,$A109<>\"\"),LOOKUP($A109,Load_Switch_NFET[PARTNUMBER],Load_Switch_NFET[QGTH]),\"\")","v":""},{"$f":"IF(AND($A109<>0,$A109<>\"\"),LOOKUP($A109,Load_Switch_NFET[PARTNUMBER],Load_Switch_NFET[VMILLER]),\"\")","v":""},{"$f":"IF(AND($A109<>0,$A109<>\"\"),LOOKUP($A109,Load_Switch_NFET[PARTNUMBER],Load_Switch_NFET[COSS_AT_VDSSPEC]),\"\")","v":""},"","","","",{"$f":"IF(AND($A109<>0,$A109<>\"\"),LOOKUP($A109,Load_Switch_NFET[PARTNUMBER],Load_Switch_NFET[1KPRICE]),\"\")","v":""},{"$f":"IF(AND($A109<>0,$A109<>\"\"),LOOKUP(A109,Load_Switch_NFET[PARTNUMBER],Load_Switch_NFET[TI_EQ_PACKAGE]),\"\")","v":""},"Invalid Part"]
[{"$f":"IF(CH=\"N\",NLogic!B110,\"\")","v":0},{"$f":"IF(OR($A110=0,$A110=\"\"),\"0\",IF(LOOKUP($A110,Load_Switch_NFET[PARTNUMBER],Load_Switch_NFET[RDSON18])=\"(NULL)\",\"0\",\"1\"))","v":"0"},{"$f":"IF(OR($A110=0,$A110=\"\"),\"0\",IF(LOOKUP($A110,Load_Switch_NFET[PARTNUMBER],Load_Switch_NFET[RDSON25])=\"(NULL)\",\"0\",\"1\"))","v":"0"},{"$f":"IF(OR($A110=0,$A110=\"\"),\"0\",IF(LOOKUP($A110,Load_Switch_NFET[PARTNUMBER],Load_Switch_NFET[RDSON3])=\"(NULL)\",\"0\",\"1\"))","v":"0"},{"$f":"IF(OR($A110=0,$A110=\"\"),\"0\",IF(LOOKUP($A110,Load_Switch_NFET[PARTNUMBER],Load_Switch_NFET[RDSON45])=\"(NULL)\",\"0\",\"1\"))","v":"0"},{"$f":"IF(OR($A110=0,$A110=\"\"),\"0\",IF(LOOKUP($A110,Load_Switch_NFET[PARTNUMBER],Load_Switch_NFET[RDSON6])=\"(NULL)\",\"0\",\"1\"))","v":"0"},{"$f":"IF(OR($A110=0,$A110=\"\"),\"0\",IF(LOOKUP($A110,Load_Switch_NFET[PARTNUMBER],Load_Switch_NFET[RDSON8])=\"(NULL)\",\"0\",\"1\"))","v":"0"},{"$f":"IF(OR($A110=0,$A110=\"\"),\"0\",IF(LOOKUP($A110,Load_Switch_NFET[PARTNUMBER],Load_Switch_NFET[RDSON10])=\"(NULL)\",\"0\",\"1\"))","v":"0"},false,false,false,false,false,false,false,false,false,false,false,false,false,false,false,{"$f":"IF(W110,LOOKUP(A110,Load_Switch_NFET[PARTNUMBER],Load_Switch_NFET[RDSON10])*1000,IF(V110,LOOKUP(A110,Load_Switch_NFET[PARTNUMBER],Load_Switch_NFET[RDSON8])*1000,IF(U110,LOOKUP(A110,Load_Switch_NFET[PARTNUMBER],Load_Switch_NFET[RDSON6])*1000,IF(T110,LOOKUP(A110,Load_Switch_NFET[PARTNUMBER],Load_Switch_NFET[RDSON45])*1000,IF(S110,LOOKUP(A110,Load_Switch_NFET[PARTNUMBER],Load_Switch_NFET[RDSON3])*1000,IF(R110,LOOKUP(A110,Load_Switch_NFET[PARTNUMBER],Load_Switch_NFET[RDSON25])*1000,IF(Q110,LOOKUP(A110,Load_Switch_NFET[PARTNUMBER],Load_Switch_NFET[RDSON18])*1000,\"\")))))))","v":""},{"$f":"IF(AND(A110<>0,A110<>\"\"),X110*(1+(Tj-25)*(LOOKUP(A110,Load_Switch_NFET[PARTNUMBER],Load_Switch_NFET[RDSDELTA])/((LOOKUP(A110,Load_Switch_NFET[PARTNUMBER],Load_Switch_NFET[TJMAX])-25)))),\"\")","v":""},{"$f":"IF(AND(A110<>0,A110<>\"\"),LOOKUP(A110,Load_Switch_NFET[PARTNUMBER],Load_Switch_NFET[VTHMAX]),\"\")","v":""},{"$f":"IF(AND(A110<>0,A110<>\"\"),LOOKUP(A110,Load_Switch_NFET[PARTNUMBER],Load_Switch_NFET[VTHMIN]),\"\")","v":""},"#N/A",{"$f":"IF(AND(A110<>0,A110<>\"\"),LOOKUP(A110,Load_Switch_NFET[PARTNUMBER],Load_Switch_NFET[RGIMAX]),\"\")","v":""},{"$f":"IF(AND($A110<>0,$A110<>\"\"),LOOKUP($A110,Load_Switch_NFET[PARTNUMBER],Load_Switch_NFET[QGTYP]),\"\")","v":""},{"$f":"IF(AND($A110<>0,$A110<>\"\"),LOOKUP($A110,Load_Switch_NFET[PARTNUMBER],Load_Switch_NFET[QGS]),\"\")","v":""},{"$f":"IF(AND($A110<>0,$A110<>\"\"),LOOKUP($A110,Load_Switch_NFET[PARTNUMBER],Load_Switch_NFET[QGD]),\"\")","v":""},{"$f":"IF(AND($A110<>0,$A110<>\"\"),LOOKUP($A110,Load_Switch_NFET[PARTNUMBER],Load_Switch_NFET[QGTH]),\"\")","v":""},{"$f":"IF(AND($A110<>0,$A110<>\"\"),LOOKUP($A110,Load_Switch_NFET[PARTNUMBER],Load_Switch_NFET[VMILLER]),\"\")","v":""},{"$f":"IF(AND($A110<>0,$A110<>\"\"),LOOKUP($A110,Load_Switch_NFET[PARTNUMBER],Load_Switch_NFET[COSS_AT_VDSSPEC]),\"\")","v":""},"","","","",{"$f":"IF(AND($A110<>0,$A110<>\"\"),LOOKUP($A110,Load_Switch_NFET[PARTNUMBER],Load_Switch_NFET[1KPRICE]),\"\")","v":""},{"$f":"IF(AND($A110<>0,$A110<>\"\"),LOOKUP(A110,Load_Switch_NFET[PARTNUMBER],Load_Switch_NFET[TI_EQ_PACKAGE]),\"\")","v":""},"Invalid Part"]
[{"$f":"IF(CH=\"N\",NLogic!B111,\"\")","v":0},{"$f":"IF(OR($A111=0,$A111=\"\"),\"0\",IF(LOOKUP($A111,Load_Switch_NFET[PARTNUMBER],Load_Switch_NFET[RDSON18])=\"(NULL)\",\"0\",\"1\"))","v":"0"},{"$f":"IF(OR($A111=0,$A111=\"\"),\"0\",IF(LOOKUP($A111,Load_Switch_NFET[PARTNUMBER],Load_Switch_NFET[RDSON25])=\"(NULL)\",\"0\",\"1\"))","v":"0"},{"$f":"IF(OR($A111=0,$A111=\"\"),\"0\",IF(LOOKUP($A111,Load_Switch_NFET[PARTNUMBER],Load_Switch_NFET[RDSON3])=\"(NULL)\",\"0\",\"1\"))","v":"0"},{"$f":"IF(OR($A111=0,$A111=\"\"),\"0\",IF(LOOKUP($A111,Load_Switch_NFET[PARTNUMBER],Load_Switch_NFET[RDSON45])=\"(NULL)\",\"0\",\"1\"))","v":"0"},{"$f":"IF(OR($A111=0,$A111=\"\"),\"0\",IF(LOOKUP($A111,Load_Switch_NFET[PARTNUMBER],Load_Switch_NFET[RDSON6])=\"(NULL)\",\"0\",\"1\"))","v":"0"},{"$f":"IF(OR($A111=0,$A111=\"\"),\"0\",IF(LOOKUP($A111,Load_Switch_NFET[PARTNUMBER],Load_Switch_NFET[RDSON8])=\"(NULL)\",\"0\",\"1\"))","v":"0"},{"$f":"IF(OR($A111=0,$A111=\"\"),\"0\",IF(LOOKUP($A111,Load_Switch_NFET[PARTNUMBER],Load_Switch_NFET[RDSON10])=\"(NULL)\",\"0\",\"1\"))","v":"0"},false,false,false,false,false,false,false,false,false,false,false,false,false,false,false,{"$f":"IF(W111,LOOKUP(A111,Load_Switch_NFET[PARTNUMBER],Load_Switch_NFET[RDSON10])*1000,IF(V111,LOOKUP(A111,Load_Switch_NFET[PARTNUMBER],Load_Switch_NFET[RDSON8])*1000,IF(U111,LOOKUP(A111,Load_Switch_NFET[PARTNUMBER],Load_Switch_NFET[RDSON6])*1000,IF(T111,LOOKUP(A111,Load_Switch_NFET[PARTNUMBER],Load_Switch_NFET[RDSON45])*1000,IF(S111,LOOKUP(A111,Load_Switch_NFET[PARTNUMBER],Load_Switch_NFET[RDSON3])*1000,IF(R111,LOOKUP(A111,Load_Switch_NFET[PARTNUMBER],Load_Switch_NFET[RDSON25])*1000,IF(Q111,LOOKUP(A111,Load_Switch_NFET[PARTNUMBER],Load_Switch_NFET[RDSON18])*1000,\"\")))))))","v":""},{"$f":"IF(AND(A111<>0,A111<>\"\"),X111*(1+(Tj-25)*(LOOKUP(A111,Load_Switch_NFET[PARTNUMBER],Load_Switch_NFET[RDSDELTA])/((LOOKUP(A111,Load_Switch_NFET[PARTNUMBER],Load_Switch_NFET[TJMAX])-25)))),\"\")","v":""},{"$f":"IF(AND(A111<>0,A111<>\"\"),LOOKUP(A111,Load_Switch_NFET[PARTNUMBER],Load_Switch_NFET[VTHMAX]),\"\")","v":""},{"$f":"IF(AND(A111<>0,A111<>\"\"),LOOKUP(A111,Load_Switch_NFET[PARTNUMBER],Load_Switch_NFET[VTHMIN]),\"\")","v":""},"#N/A",{"$f":"IF(AND(A111<>0,A111<>\"\"),LOOKUP(A111,Load_Switch_NFET[PARTNUMBER],Load_Switch_NFET[RGIMAX]),\"\")","v":""},{"$f":"IF(AND($A111<>0,$A111<>\"\"),LOOKUP($A111,Load_Switch_NFET[PARTNUMBER],Load_Switch_NFET[QGTYP]),\"\")","v":""},{"$f":"IF(AND($A111<>0,$A111<>\"\"),LOOKUP($A111,Load_Switch_NFET[PARTNUMBER],Load_Switch_NFET[QGS]),\"\")","v":""},{"$f":"IF(AND($A111<>0,$A111<>\"\"),LOOKUP($A111,Load_Switch_NFET[PARTNUMBER],Load_Switch_NFET[QGD]),\"\")","v":""},{"$f":"IF(AND($A111<>0,$A111<>\"\"),LOOKUP($A111,Load_Switch_NFET[PARTNUMBER],Load_Switch_NFET[QGTH]),\"\")","v":""},{"$f":"IF(AND($A111<>0,$A111<>\"\"),LOOKUP($A111,Load_Switch_NFET[PARTNUMBER],Load_Switch_NFET[VMILLER]),\"\")","v":""},{"$f":"IF(AND($A111<>0,$A111<>\"\"),LOOKUP($A111,Load_Switch_NFET[PARTNUMBER],Load_Switch_NFET[COSS_AT_VDSSPEC]),\"\")","v":""},"","","","",{"$f":"IF(AND($A111<>0,$A111<>\"\"),LOOKUP($A111,Load_Switch_NFET[PARTNUMBER],Load_Switch_NFET[1KPRICE]),\"\")","v":""},{"$f":"IF(AND($A111<>0,$A111<>\"\"),LOOKUP(A111,Load_Switch_NFET[PARTNUMBER],Load_Switch_NFET[TI_EQ_PACKAGE]),\"\")","v":""},"Invalid Part"]
[{"$f":"IF(CH=\"N\",NLogic!B112,\"\")","v":0},{"$f":"IF(OR($A112=0,$A112=\"\"),\"0\",IF(LOOKUP($A112,Load_Switch_NFET[PARTNUMBER],Load_Switch_NFET[RDSON18])=\"(NULL)\",\"0\",\"1\"))","v":"0"},{"$f":"IF(OR($A112=0,$A112=\"\"),\"0\",IF(LOOKUP($A112,Load_Switch_NFET[PARTNUMBER],Load_Switch_NFET[RDSON25])=\"(NULL)\",\"0\",\"1\"))","v":"0"},{"$f":"IF(OR($A112=0,$A112=\"\"),\"0\",IF(LOOKUP($A112,Load_Switch_NFET[PARTNUMBER],Load_Switch_NFET[RDSON3])=\"(NULL)\",\"0\",\"1\"))","v":"0"},{"$f":"IF(OR($A112=0,$A112=\"\"),\"0\",IF(LOOKUP($A112,Load_Switch_NFET[PARTNUMBER],Load_Switch_NFET[RDSON45])=\"(NULL)\",\"0\",\"1\"))","v":"0"},{"$f":"IF(OR($A112=0,$A112=\"\"),\"0\",IF(LOOKUP($A112,Load_Switch_NFET[PARTNUMBER],Load_Switch_NFET[RDSON6])=\"(NULL)\",\"0\",\"1\"))","v":"0"},{"$f":"IF(OR($A112=0,$A112=\"\"),\"0\",IF(LOOKUP($A112,Load_Switch_NFET[PARTNUMBER],Load_Switch_NFET[RDSON8])=\"(NULL)\",\"0\",\"1\"))","v":"0"},{"$f":"IF(OR($A112=0,$A112=\"\"),\"0\",IF(LOOKUP($A112,Load_Switch_NFET[PARTNUMBER],Load_Switch_NFET[RDSON10])=\"(NULL)\",\"0\",\"1\"))","v":"0"},false,false,false,false,false,false,false,false,false,false,false,false,false,false,false,{"$f":"IF(W112,LOOKUP(A112,Load_Switch_NFET[PARTNUMBER],Load_Switch_NFET[RDSON10])*1000,IF(V112,LOOKUP(A112,Load_Switch_NFET[PARTNUMBER],Load_Switch_NFET[RDSON8])*1000,IF(U112,LOOKUP(A112,Load_Switch_NFET[PARTNUMBER],Load_Switch_NFET[RDSON6])*1000,IF(T112,LOOKUP(A112,Load_Switch_NFET[PARTNUMBER],Load_Switch_NFET[RDSON45])*1000,IF(S112,LOOKUP(A112,Load_Switch_NFET[PARTNUMBER],Load_Switch_NFET[RDSON3])*1000,IF(R112,LOOKUP(A112,Load_Switch_NFET[PARTNUMBER],Load_Switch_NFET[RDSON25])*1000,IF(Q112,LOOKUP(A112,Load_Switch_NFET[PARTNUMBER],Load_Switch_NFET[RDSON18])*1000,\"\")))))))","v":""},{"$f":"IF(AND(A112<>0,A112<>\"\"),X112*(1+(Tj-25)*(LOOKUP(A112,Load_Switch_NFET[PARTNUMBER],Load_Switch_NFET[RDSDELTA])/((LOOKUP(A112,Load_Switch_NFET[PARTNUMBER],Load_Switch_NFET[TJMAX])-25)))),\"\")","v":""},{"$f":"IF(AND(A112<>0,A112<>\"\"),LOOKUP(A112,Load_Switch_NFET[PARTNUMBER],Load_Switch_NFET[VTHMAX]),\"\")","v":""},{"$f":"IF(AND(A112<>0,A112<>\"\"),LOOKUP(A112,Load_Switch_NFET[PARTNUMBER],Load_Switch_NFET[VTHMIN]),\"\")","v":""},"#N/A",{"$f":"IF(AND(A112<>0,A112<>\"\"),LOOKUP(A112,Load_Switch_NFET[PARTNUMBER],Load_Switch_NFET[RGIMAX]),\"\")","v":""},{"$f":"IF(AND($A112<>0,$A112<>\"\"),LOOKUP($A112,Load_Switch_NFET[PARTNUMBER],Load_Switch_NFET[QGTYP]),\"\")","v":""},{"$f":"IF(AND($A112<>0,$A112<>\"\"),LOOKUP($A112,Load_Switch_NFET[PARTNUMBER],Load_Switch_NFET[QGS]),\"\")","v":""},{"$f":"IF(AND($A112<>0,$A112<>\"\"),LOOKUP($A112,Load_Switch_NFET[PARTNUMBER],Load_Switch_NFET[QGD]),\"\")","v":""},{"$f":"IF(AND($A112<>0,$A112<>\"\"),LOOKUP($A112,Load_Switch_NFET[PARTNUMBER],Load_Switch_NFET[QGTH]),\"\")","v":""},{"$f":"IF(AND($A112<>0,$A112<>\"\"),LOOKUP($A112,Load_Switch_NFET[PARTNUMBER],Load_Switch_NFET[VMILLER]),\"\")","v":""},{"$f":"IF(AND($A112<>0,$A112<>\"\"),LOOKUP($A112,Load_Switch_NFET[PARTNUMBER],Load_Switch_NFET[COSS_AT_VDSSPEC]),\"\")","v":""},"","","","",{"$f":"IF(AND($A112<>0,$A112<>\"\"),LOOKUP($A112,Load_Switch_NFET[PARTNUMBER],Load_Switch_NFET[1KPRICE]),\"\")","v":""},{"$f":"IF(AND($A112<>0,$A112<>\"\"),LOOKUP(A112,Load_Switch_NFET[PARTNUMBER],Load_Switch_NFET[TI_EQ_PACKAGE]),\"\")","v":""},"Invalid Part"]
[{"$f":"IF(CH=\"N\",NLogic!B113,\"\")","v":0},{"$f":"IF(OR($A113=0,$A113=\"\"),\"0\",IF(LOOKUP($A113,Load_Switch_NFET[PARTNUMBER],Load_Switch_NFET[RDSON18])=\"(NULL)\",\"0\",\"1\"))","v":"0"},{"$f":"IF(OR($A113=0,$A113=\"\"),\"0\",IF(LOOKUP($A113,Load_Switch_NFET[PARTNUMBER],Load_Switch_NFET[RDSON25])=\"(NULL)\",\"0\",\"1\"))","v":"0"},{"$f":"IF(OR($A113=0,$A113=\"\"),\"0\",IF(LOOKUP($A113,Load_Switch_NFET[PARTNUMBER],Load_Switch_NFET[RDSON3])=\"(NULL)\",\"0\",\"1\"))","v":"0"},{"$f":"IF(OR($A113=0,$A113=\"\"),\"0\",IF(LOOKUP($A113,Load_Switch_NFET[PARTNUMBER],Load_Switch_NFET[RDSON45])=\"(NULL)\",\"0\",\"1\"))","v":"0"},{"$f":"IF(OR($A113=0,$A113=\"\"),\"0\",IF(LOOKUP($A113,Load_Switch_NFET[PARTNUMBER],Load_Switch_NFET[RDSON6])=\"(NULL)\",\"0\",\"1\"))","v":"0"},{"$f":"IF(OR($A113=0,$A113=\"\"),\"0\",IF(LOOKUP($A113,Load_Switch_NFET[PARTNUMBER],Load_Switch_NFET[RDSON8])=\"(NULL)\",\"0\",\"1\"))","v":"0"},{"$f":"IF(OR($A113=0,$A113=\"\"),\"0\",IF(LOOKUP($A113,Load_Switch_NFET[PARTNUMBER],Load_Switch_NFET[RDSON10])=\"(NULL)\",\"0\",\"1\"))","v":"0"},false,false,false,false,false,false,false,false,false,false,false,false,false,false,false,{"$f":"IF(W113,LOOKUP(A113,Load_Switch_NFET[PARTNUMBER],Load_Switch_NFET[RDSON10])*1000,IF(V113,LOOKUP(A113,Load_Switch_NFET[PARTNUMBER],Load_Switch_NFET[RDSON8])*1000,IF(U113,LOOKUP(A113,Load_Switch_NFET[PARTNUMBER],Load_Switch_NFET[RDSON6])*1000,IF(T113,LOOKUP(A113,Load_Switch_NFET[PARTNUMBER],Load_Switch_NFET[RDSON45])*1000,IF(S113,LOOKUP(A113,Load_Switch_NFET[PARTNUMBER],Load_Switch_NFET[RDSON3])*1000,IF(R113,LOOKUP(A113,Load_Switch_NFET[PARTNUMBER],Load_Switch_NFET[RDSON25])*1000,IF(Q113,LOOKUP(A113,Load_Switch_NFET[PARTNUMBER],Load_Switch_NFET[RDSON18])*1000,\"\")))))))","v":""},{"$f":"IF(AND(A113<>0,A113<>\"\"),X113*(1+(Tj-25)*(LOOKUP(A113,Load_Switch_NFET[PARTNUMBER],Load_Switch_NFET[RDSDELTA])/((LOOKUP(A113,Load_Switch_NFET[PARTNUMBER],Load_Switch_NFET[TJMAX])-25)))),\"\")","v":""},{"$f":"IF(AND(A113<>0,A113<>\"\"),LOOKUP(A113,Load_Switch_NFET[PARTNUMBER],Load_Switch_NFET[VTHMAX]),\"\")","v":""},{"$f":"IF(AND(A113<>0,A113<>\"\"),LOOKUP(A113,Load_Switch_NFET[PARTNUMBER],Load_Switch_NFET[VTHMIN]),\"\")","v":""},"#N/A",{"$f":"IF(AND(A113<>0,A113<>\"\"),LOOKUP(A113,Load_Switch_NFET[PARTNUMBER],Load_Switch_NFET[RGIMAX]),\"\")","v":""},{"$f":"IF(AND($A113<>0,$A113<>\"\"),LOOKUP($A113,Load_Switch_NFET[PARTNUMBER],Load_Switch_NFET[QGTYP]),\"\")","v":""},{"$f":"IF(AND($A113<>0,$A113<>\"\"),LOOKUP($A113,Load_Switch_NFET[PARTNUMBER],Load_Switch_NFET[QGS]),\"\")","v":""},{"$f":"IF(AND($A113<>0,$A113<>\"\"),LOOKUP($A113,Load_Switch_NFET[PARTNUMBER],Load_Switch_NFET[QGD]),\"\")","v":""},{"$f":"IF(AND($A113<>0,$A113<>\"\"),LOOKUP($A113,Load_Switch_NFET[PARTNUMBER],Load_Switch_NFET[QGTH]),\"\")","v":""},{"$f":"IF(AND($A113<>0,$A113<>\"\"),LOOKUP($A113,Load_Switch_NFET[PARTNUMBER],Load_Switch_NFET[VMILLER]),\"\")","v":""},{"$f":"IF(AND($A113<>0,$A113<>\"\"),LOOKUP($A113,Load_Switch_NFET[PARTNUMBER],Load_Switch_NFET[COSS_AT_VDSSPEC]),\"\")","v":""},"","","","",{"$f":"IF(AND($A113<>0,$A113<>\"\"),LOOKUP($A113,Load_Switch_NFET[PARTNUMBER],Load_Switch_NFET[1KPRICE]),\"\")","v":""},{"$f":"IF(AND($A113<>0,$A113<>\"\"),LOOKUP(A113,Load_Switch_NFET[PARTNUMBER],Load_Switch_NFET[TI_EQ_PACKAGE]),\"\")","v":""},"Invalid Part"]
[{"$f":"IF(CH=\"N\",NLogic!B114,\"\")","v":0},{"$f":"IF(OR($A114=0,$A114=\"\"),\"0\",IF(LOOKUP($A114,Load_Switch_NFET[PARTNUMBER],Load_Switch_NFET[RDSON18])=\"(NULL)\",\"0\",\"1\"))","v":"0"},{"$f":"IF(OR($A114=0,$A114=\"\"),\"0\",IF(LOOKUP($A114,Load_Switch_NFET[PARTNUMBER],Load_Switch_NFET[RDSON25])=\"(NULL)\",\"0\",\"1\"))","v":"0"},{"$f":"IF(OR($A114=0,$A114=\"\"),\"0\",IF(LOOKUP($A114,Load_Switch_NFET[PARTNUMBER],Load_Switch_NFET[RDSON3])=\"(NULL)\",\"0\",\"1\"))","v":"0"},{"$f":"IF(OR($A114=0,$A114=\"\"),\"0\",IF(LOOKUP($A114,Load_Switch_NFET[PARTNUMBER],Load_Switch_NFET[RDSON45])=\"(NULL)\",\"0\",\"1\"))","v":"0"},{"$f":"IF(OR($A114=0,$A114=\"\"),\"0\",IF(LOOKUP($A114,Load_Switch_NFET[PARTNUMBER],Load_Switch_NFET[RDSON6])=\"(NULL)\",\"0\",\"1\"))","v":"0"},{"$f":"IF(OR($A114=0,$A114=\"\"),\"0\",IF(LOOKUP($A114,Load_Switch_NFET[PARTNUMBER],Load_Switch_NFET[RDSON8])=\"(NULL)\",\"0\",\"1\"))","v":"0"},{"$f":"IF(OR($A114=0,$A114=\"\"),\"0\",IF(LOOKUP($A114,Load_Switch_NFET[PARTNUMBER],Load_Switch_NFET[RDSON10])=\"(NULL)\",\"0\",\"1\"))","v":"0"},false,false,false,false,false,false,false,false,false,false,false,false,false,false,false,{"$f":"IF(W114,LOOKUP(A114,Load_Switch_NFET[PARTNUMBER],Load_Switch_NFET[RDSON10])*1000,IF(V114,LOOKUP(A114,Load_Switch_NFET[PARTNUMBER],Load_Switch_NFET[RDSON8])*1000,IF(U114,LOOKUP(A114,Load_Switch_NFET[PARTNUMBER],Load_Switch_NFET[RDSON6])*1000,IF(T114,LOOKUP(A114,Load_Switch_NFET[PARTNUMBER],Load_Switch_NFET[RDSON45])*1000,IF(S114,LOOKUP(A114,Load_Switch_NFET[PARTNUMBER],Load_Switch_NFET[RDSON3])*1000,IF(R114,LOOKUP(A114,Load_Switch_NFET[PARTNUMBER],Load_Switch_NFET[RDSON25])*1000,IF(Q114,LOOKUP(A114,Load_Switch_NFET[PARTNUMBER],Load_Switch_NFET[RDSON18])*1000,\"\")))))))","v":""},{"$f":"IF(AND(A114<>0,A114<>\"\"),X114*(1+(Tj-25)*(LOOKUP(A114,Load_Switch_NFET[PARTNUMBER],Load_Switch_NFET[RDSDELTA])/((LOOKUP(A114,Load_Switch_NFET[PARTNUMBER],Load_Switch_NFET[TJMAX])-25)))),\"\")","v":""},{"$f":"IF(AND(A114<>0,A114<>\"\"),LOOKUP(A114,Load_Switch_NFET[PARTNUMBER],Load_Switch_NFET[VTHMAX]),\"\")","v":""},{"$f":"IF(AND(A114<>0,A114<>\"\"),LOOKUP(A114,Load_Switch_NFET[PARTNUMBER],Load_Switch_NFET[VTHMIN]),\"\")","v":""},"#N/A",{"$f":"IF(AND(A114<>0,A114<>\"\"),LOOKUP(A114,Load_Switch_NFET[PARTNUMBER],Load_Switch_NFET[RGIMAX]),\"\")","v":""},{"$f":"IF(AND($A114<>0,$A114<>\"\"),LOOKUP($A114,Load_Switch_NFET[PARTNUMBER],Load_Switch_NFET[QGTYP]),\"\")","v":""},{"$f":"IF(AND($A114<>0,$A114<>\"\"),LOOKUP($A114,Load_Switch_NFET[PARTNUMBER],Load_Switch_NFET[QGS]),\"\")","v":""},{"$f":"IF(AND($A114<>0,$A114<>\"\"),LOOKUP($A114,Load_Switch_NFET[PARTNUMBER],Load_Switch_NFET[QGD]),\"\")","v":""},{"$f":"IF(AND($A114<>0,$A114<>\"\"),LOOKUP($A114,Load_Switch_NFET[PARTNUMBER],Load_Switch_NFET[QGTH]),\"\")","v":""},{"$f":"IF(AND($A114<>0,$A114<>\"\"),LOOKUP($A114,Load_Switch_NFET[PARTNUMBER],Load_Switch_NFET[VMILLER]),\"\")","v":""},{"$f":"IF(AND($A114<>0,$A114<>\"\"),LOOKUP($A114,Load_Switch_NFET[PARTNUMBER],Load_Switch_NFET[COSS_AT_VDSSPEC]),\"\")","v":""},"","","","",{"$f":"IF(AND($A114<>0,$A114<>\"\"),LOOKUP($A114,Load_Switch_NFET[PARTNUMBER],Load_Switch_NFET[1KPRICE]),\"\")","v":""},{"$f":"IF(AND($A114<>0,$A114<>\"\"),LOOKUP(A114,Load_Switch_NFET[PARTNUMBER],Load_Switch_NFET[TI_EQ_PACKAGE]),\"\")","v":""},"Invalid Part"]
[{"$f":"IF(CH=\"N\",NLogic!B115,\"\")","v":0},{"$f":"IF(OR($A115=0,$A115=\"\"),\"0\",IF(LOOKUP($A115,Load_Switch_NFET[PARTNUMBER],Load_Switch_NFET[RDSON18])=\"(NULL)\",\"0\",\"1\"))","v":"0"},{"$f":"IF(OR($A115=0,$A115=\"\"),\"0\",IF(LOOKUP($A115,Load_Switch_NFET[PARTNUMBER],Load_Switch_NFET[RDSON25])=\"(NULL)\",\"0\",\"1\"))","v":"0"},{"$f":"IF(OR($A115=0,$A115=\"\"),\"0\",IF(LOOKUP($A115,Load_Switch_NFET[PARTNUMBER],Load_Switch_NFET[RDSON3])=\"(NULL)\",\"0\",\"1\"))","v":"0"},{"$f":"IF(OR($A115=0,$A115=\"\"),\"0\",IF(LOOKUP($A115,Load_Switch_NFET[PARTNUMBER],Load_Switch_NFET[RDSON45])=\"(NULL)\",\"0\",\"1\"))","v":"0"},{"$f":"IF(OR($A115=0,$A115=\"\"),\"0\",IF(LOOKUP($A115,Load_Switch_NFET[PARTNUMBER],Load_Switch_NFET[RDSON6])=\"(NULL)\",\"0\",\"1\"))","v":"0"},{"$f":"IF(OR($A115=0,$A115=\"\"),\"0\",IF(LOOKUP($A115,Load_Switch_NFET[PARTNUMBER],Load_Switch_NFET[RDSON8])=\"(NULL)\",\"0\",\"1\"))","v":"0"},{"$f":"IF(OR($A115=0,$A115=\"\"),\"0\",IF(LOOKUP($A115,Load_Switch_NFET[PARTNUMBER],Load_Switch_NFET[RDSON10])=\"(NULL)\",\"0\",\"1\"))","v":"0"},false,false,false,false,false,false,false,false,false,false,false,false,false,false,false,{"$f":"IF(W115,LOOKUP(A115,Load_Switch_NFET[PARTNUMBER],Load_Switch_NFET[RDSON10])*1000,IF(V115,LOOKUP(A115,Load_Switch_NFET[PARTNUMBER],Load_Switch_NFET[RDSON8])*1000,IF(U115,LOOKUP(A115,Load_Switch_NFET[PARTNUMBER],Load_Switch_NFET[RDSON6])*1000,IF(T115,LOOKUP(A115,Load_Switch_NFET[PARTNUMBER],Load_Switch_NFET[RDSON45])*1000,IF(S115,LOOKUP(A115,Load_Switch_NFET[PARTNUMBER],Load_Switch_NFET[RDSON3])*1000,IF(R115,LOOKUP(A115,Load_Switch_NFET[PARTNUMBER],Load_Switch_NFET[RDSON25])*1000,IF(Q115,LOOKUP(A115,Load_Switch_NFET[PARTNUMBER],Load_Switch_NFET[RDSON18])*1000,\"\")))))))","v":""},{"$f":"IF(AND(A115<>0,A115<>\"\"),X115*(1+(Tj-25)*(LOOKUP(A115,Load_Switch_NFET[PARTNUMBER],Load_Switch_NFET[RDSDELTA])/((LOOKUP(A115,Load_Switch_NFET[PARTNUMBER],Load_Switch_NFET[TJMAX])-25)))),\"\")","v":""},{"$f":"IF(AND(A115<>0,A115<>\"\"),LOOKUP(A115,Load_Switch_NFET[PARTNUMBER],Load_Switch_NFET[VTHMAX]),\"\")","v":""},{"$f":"IF(AND(A115<>0,A115<>\"\"),LOOKUP(A115,Load_Switch_NFET[PARTNUMBER],Load_Switch_NFET[VTHMIN]),\"\")","v":""},"#N/A",{"$f":"IF(AND(A115<>0,A115<>\"\"),LOOKUP(A115,Load_Switch_NFET[PARTNUMBER],Load_Switch_NFET[RGIMAX]),\"\")","v":""},{"$f":"IF(AND($A115<>0,$A115<>\"\"),LOOKUP($A115,Load_Switch_NFET[PARTNUMBER],Load_Switch_NFET[QGTYP]),\"\")","v":""},{"$f":"IF(AND($A115<>0,$A115<>\"\"),LOOKUP($A115,Load_Switch_NFET[PARTNUMBER],Load_Switch_NFET[QGS]),\"\")","v":""},{"$f":"IF(AND($A115<>0,$A115<>\"\"),LOOKUP($A115,Load_Switch_NFET[PARTNUMBER],Load_Switch_NFET[QGD]),\"\")","v":""},{"$f":"IF(AND($A115<>0,$A115<>\"\"),LOOKUP($A115,Load_Switch_NFET[PARTNUMBER],Load_Switch_NFET[QGTH]),\"\")","v":""},{"$f":"IF(AND($A115<>0,$A115<>\"\"),LOOKUP($A115,Load_Switch_NFET[PARTNUMBER],Load_Switch_NFET[VMILLER]),\"\")","v":""},{"$f":"IF(AND($A115<>0,$A115<>\"\"),LOOKUP($A115,Load_Switch_NFET[PARTNUMBER],Load_Switch_NFET[COSS_AT_VDSSPEC]),\"\")","v":""},"","","","",{"$f":"IF(AND($A115<>0,$A115<>\"\"),LOOKUP($A115,Load_Switch_NFET[PARTNUMBER],Load_Switch_NFET[1KPRICE]),\"\")","v":""},{"$f":"IF(AND($A115<>0,$A115<>\"\"),LOOKUP(A115,Load_Switch_NFET[PARTNUMBER],Load_Switch_NFET[TI_EQ_PACKAGE]),\"\")","v":""},"Invalid Part"]
[{"$f":"IF(CH=\"N\",NLogic!B116,\"\")","v":0},{"$f":"IF(OR($A116=0,$A116=\"\"),\"0\",IF(LOOKUP($A116,Load_Switch_NFET[PARTNUMBER],Load_Switch_NFET[RDSON18])=\"(NULL)\",\"0\",\"1\"))","v":"0"},{"$f":"IF(OR($A116=0,$A116=\"\"),\"0\",IF(LOOKUP($A116,Load_Switch_NFET[PARTNUMBER],Load_Switch_NFET[RDSON25])=\"(NULL)\",\"0\",\"1\"))","v":"0"},{"$f":"IF(OR($A116=0,$A116=\"\"),\"0\",IF(LOOKUP($A116,Load_Switch_NFET[PARTNUMBER],Load_Switch_NFET[RDSON3])=\"(NULL)\",\"0\",\"1\"))","v":"0"},{"$f":"IF(OR($A116=0,$A116=\"\"),\"0\",IF(LOOKUP($A116,Load_Switch_NFET[PARTNUMBER],Load_Switch_NFET[RDSON45])=\"(NULL)\",\"0\",\"1\"))","v":"0"},{"$f":"IF(OR($A116=0,$A116=\"\"),\"0\",IF(LOOKUP($A116,Load_Switch_NFET[PARTNUMBER],Load_Switch_NFET[RDSON6])=\"(NULL)\",\"0\",\"1\"))","v":"0"},{"$f":"IF(OR($A116=0,$A116=\"\"),\"0\",IF(LOOKUP($A116,Load_Switch_NFET[PARTNUMBER],Load_Switch_NFET[RDSON8])=\"(NULL)\",\"0\",\"1\"))","v":"0"},{"$f":"IF(OR($A116=0,$A116=\"\"),\"0\",IF(LOOKUP($A116,Load_Switch_NFET[PARTNUMBER],Load_Switch_NFET[RDSON10])=\"(NULL)\",\"0\",\"1\"))","v":"0"},false,false,false,false,false,false,false,false,false,false,false,false,false,false,false,{"$f":"IF(W116,LOOKUP(A116,Load_Switch_NFET[PARTNUMBER],Load_Switch_NFET[RDSON10])*1000,IF(V116,LOOKUP(A116,Load_Switch_NFET[PARTNUMBER],Load_Switch_NFET[RDSON8])*1000,IF(U116,LOOKUP(A116,Load_Switch_NFET[PARTNUMBER],Load_Switch_NFET[RDSON6])*1000,IF(T116,LOOKUP(A116,Load_Switch_NFET[PARTNUMBER],Load_Switch_NFET[RDSON45])*1000,IF(S116,LOOKUP(A116,Load_Switch_NFET[PARTNUMBER],Load_Switch_NFET[RDSON3])*1000,IF(R116,LOOKUP(A116,Load_Switch_NFET[PARTNUMBER],Load_Switch_NFET[RDSON25])*1000,IF(Q116,LOOKUP(A116,Load_Switch_NFET[PARTNUMBER],Load_Switch_NFET[RDSON18])*1000,\"\")))))))","v":""},{"$f":"IF(AND(A116<>0,A116<>\"\"),X116*(1+(Tj-25)*(LOOKUP(A116,Load_Switch_NFET[PARTNUMBER],Load_Switch_NFET[RDSDELTA])/((LOOKUP(A116,Load_Switch_NFET[PARTNUMBER],Load_Switch_NFET[TJMAX])-25)))),\"\")","v":""},{"$f":"IF(AND(A116<>0,A116<>\"\"),LOOKUP(A116,Load_Switch_NFET[PARTNUMBER],Load_Switch_NFET[VTHMAX]),\"\")","v":""},{"$f":"IF(AND(A116<>0,A116<>\"\"),LOOKUP(A116,Load_Switch_NFET[PARTNUMBER],Load_Switch_NFET[VTHMIN]),\"\")","v":""},"#N/A",{"$f":"IF(AND(A116<>0,A116<>\"\"),LOOKUP(A116,Load_Switch_NFET[PARTNUMBER],Load_Switch_NFET[RGIMAX]),\"\")","v":""},{"$f":"IF(AND($A116<>0,$A116<>\"\"),LOOKUP($A116,Load_Switch_NFET[PARTNUMBER],Load_Switch_NFET[QGTYP]),\"\")","v":""},{"$f":"IF(AND($A116<>0,$A116<>\"\"),LOOKUP($A116,Load_Switch_NFET[PARTNUMBER],Load_Switch_NFET[QGS]),\"\")","v":""},{"$f":"IF(AND($A116<>0,$A116<>\"\"),LOOKUP($A116,Load_Switch_NFET[PARTNUMBER],Load_Switch_NFET[QGD]),\"\")","v":""},{"$f":"IF(AND($A116<>0,$A116<>\"\"),LOOKUP($A116,Load_Switch_NFET[PARTNUMBER],Load_Switch_NFET[QGTH]),\"\")","v":""},{"$f":"IF(AND($A116<>0,$A116<>\"\"),LOOKUP($A116,Load_Switch_NFET[PARTNUMBER],Load_Switch_NFET[VMILLER]),\"\")","v":""},{"$f":"IF(AND($A116<>0,$A116<>\"\"),LOOKUP($A116,Load_Switch_NFET[PARTNUMBER],Load_Switch_NFET[COSS_AT_VDSSPEC]),\"\")","v":""},"","","","",{"$f":"IF(AND($A116<>0,$A116<>\"\"),LOOKUP($A116,Load_Switch_NFET[PARTNUMBER],Load_Switch_NFET[1KPRICE]),\"\")","v":""},{"$f":"IF(AND($A116<>0,$A116<>\"\"),LOOKUP(A116,Load_Switch_NFET[PARTNUMBER],Load_Switch_NFET[TI_EQ_PACKAGE]),\"\")","v":""},"Invalid Part"]
[{"$f":"IF(CH=\"N\",NLogic!B117,\"\")","v":0},{"$f":"IF(OR($A117=0,$A117=\"\"),\"0\",IF(LOOKUP($A117,Load_Switch_NFET[PARTNUMBER],Load_Switch_NFET[RDSON18])=\"(NULL)\",\"0\",\"1\"))","v":"0"},{"$f":"IF(OR($A117=0,$A117=\"\"),\"0\",IF(LOOKUP($A117,Load_Switch_NFET[PARTNUMBER],Load_Switch_NFET[RDSON25])=\"(NULL)\",\"0\",\"1\"))","v":"0"},{"$f":"IF(OR($A117=0,$A117=\"\"),\"0\",IF(LOOKUP($A117,Load_Switch_NFET[PARTNUMBER],Load_Switch_NFET[RDSON3])=\"(NULL)\",\"0\",\"1\"))","v":"0"},{"$f":"IF(OR($A117=0,$A117=\"\"),\"0\",IF(LOOKUP($A117,Load_Switch_NFET[PARTNUMBER],Load_Switch_NFET[RDSON45])=\"(NULL)\",\"0\",\"1\"))","v":"0"},{"$f":"IF(OR($A117=0,$A117=\"\"),\"0\",IF(LOOKUP($A117,Load_Switch_NFET[PARTNUMBER],Load_Switch_NFET[RDSON6])=\"(NULL)\",\"0\",\"1\"))","v":"0"},{"$f":"IF(OR($A117=0,$A117=\"\"),\"0\",IF(LOOKUP($A117,Load_Switch_NFET[PARTNUMBER],Load_Switch_NFET[RDSON8])=\"(NULL)\",\"0\",\"1\"))","v":"0"},{"$f":"IF(OR($A117=0,$A117=\"\"),\"0\",IF(LOOKUP($A117,Load_Switch_NFET[PARTNUMBER],Load_Switch_NFET[RDSON10])=\"(NULL)\",\"0\",\"1\"))","v":"0"},false,{"$f":"AND(AT$2,C117=\"1\")","v":false},{"$f":"AND(AU$2,D117=\"1\")","v":false},{"$f":"AND(AV$2,E117=\"1\")","v":false},{"$f":"AND(AW$2,F117=\"1\")","v":false},{"$f":"AND(AX$2,G117=\"1\")","v":false},{"$f":"AND(AY$2,H117=\"1\")","v":false},false,false,{"$f":"IF($P117,J117,IF((C117=\"1\"),OR($AR$2,$AR$9)))","v":false},{"$f":"IF($P117,K117,IF((D117=\"1\"),OR(AR$2,AR$9,AV$2,L117)))","v":false},{"$f":"IF($P117,L117,IF((E117=\"1\"),OR(AU$2,K117,AW$2,M117)))","v":false},{"$f":"IF($P117,M117,IF((F117=\"1\"),OR(AV$2,L117,AX$2,N117)))","v":false},{"$f":"IF($P117,N117,IF((G117=\"1\"),OR(AW$2,M117,AY$2,O117)))","v":false},{"$f":"IF($P117,O117,IF((H117=\"1\"),OR(AX$2,N117)))","v":false},{"$f":"IF(W117,LOOKUP(A117,Load_Switch_NFET[PARTNUMBER],Load_Switch_NFET[RDSON10])*1000,IF(V117,LOOKUP(A117,Load_Switch_NFET[PARTNUMBER],Load_Switch_NFET[RDSON8])*1000,IF(U117,LOOKUP(A117,Load_Switch_NFET[PARTNUMBER],Load_Switch_NFET[RDSON6])*1000,IF(T117,LOOKUP(A117,Load_Switch_NFET[PARTNUMBER],Load_Switch_NFET[RDSON45])*1000,IF(S117,LOOKUP(A117,Load_Switch_NFET[PARTNUMBER],Load_Switch_NFET[RDSON3])*1000,IF(R117,LOOKUP(A117,Load_Switch_NFET[PARTNUMBER],Load_Switch_NFET[RDSON25])*1000,IF(Q117,LOOKUP(A117,Load_Switch_NFET[PARTNUMBER],Load_Switch_NFET[RDSON18])*1000,\"\")))))))","v":""},null,null,null,"#N/A",null,null,null,null,null,null,null,null,null,null,"",{"$f":"IF(AND($A117<>0,$A117<>\"\"),LOOKUP($A117,Load_Switch_NFET[PARTNUMBER],Load_Switch_NFET[1KPRICE]),\"\")","v":""},null,"Invalid Part"]
[{"$f":"IF(CH=\"N\",NLogic!B118,\"\")","v":0},{"$f":"IF(OR($A118=0,$A118=\"\"),\"0\",IF(LOOKUP($A118,Load_Switch_NFET[PARTNUMBER],Load_Switch_NFET[RDSON18])=\"(NULL)\",\"0\",\"1\"))","v":"0"},{"$f":"IF(OR($A118=0,$A118=\"\"),\"0\",IF(LOOKUP($A118,Load_Switch_NFET[PARTNUMBER],Load_Switch_NFET[RDSON25])=\"(NULL)\",\"0\",\"1\"))","v":"0"},{"$f":"IF(OR($A118=0,$A118=\"\"),\"0\",IF(LOOKUP($A118,Load_Switch_NFET[PARTNUMBER],Load_Switch_NFET[RDSON3])=\"(NULL)\",\"0\",\"1\"))","v":"0"},{"$f":"IF(OR($A118=0,$A118=\"\"),\"0\",IF(LOOKUP($A118,Load_Switch_NFET[PARTNUMBER],Load_Switch_NFET[RDSON45])=\"(NULL)\",\"0\",\"1\"))","v":"0"},{"$f":"IF(OR($A118=0,$A118=\"\"),\"0\",IF(LOOKUP($A118,Load_Switch_NFET[PARTNUMBER],Load_Switch_NFET[RDSON6])=\"(NULL)\",\"0\",\"1\"))","v":"0"},{"$f":"IF(OR($A118=0,$A118=\"\"),\"0\",IF(LOOKUP($A118,Load_Switch_NFET[PARTNUMBER],Load_Switch_NFET[RDSON8])=\"(NULL)\",\"0\",\"1\"))","v":"0"},{"$f":"IF(OR($A118=0,$A118=\"\"),\"0\",IF(LOOKUP($A118,Load_Switch_NFET[PARTNUMBER],Load_Switch_NFET[RDSON10])=\"(NULL)\",\"0\",\"1\"))","v":"0"},false,false,false,false,false,false,false,false,false,false,false,false,false,false,false,{"$f":"IF(W118,LOOKUP(A118,Load_Switch_NFET[PARTNUMBER],Load_Switch_NFET[RDSON10])*1000,IF(V118,LOOKUP(A118,Load_Switch_NFET[PARTNUMBER],Load_Switch_NFET[RDSON8])*1000,IF(U118,LOOKUP(A118,Load_Switch_NFET[PARTNUMBER],Load_Switch_NFET[RDSON6])*1000,IF(T118,LOOKUP(A118,Load_Switch_NFET[PARTNUMBER],Load_Switch_NFET[RDSON45])*1000,IF(S118,LOOKUP(A118,Load_Switch_NFET[PARTNUMBER],Load_Switch_NFET[RDSON3])*1000,IF(R118,LOOKUP(A118,Load_Switch_NFET[PARTNUMBER],Load_Switch_NFET[RDSON25])*1000,IF(Q118,LOOKUP(A118,Load_Switch_NFET[PARTNUMBER],Load_Switch_NFET[RDSON18])*1000,\"\")))))))","v":""},null,null,null,"#N/A",null,null,null,null,null,null,null,null,null,null,"",{"$f":"IF(AND($A118<>0,$A118<>\"\"),LOOKUP($A118,Load_Switch_NFET[PARTNUMBER],Load_Switch_NFET[1KPRICE]),\"\")","v":""},null,"Invalid Part"]
[{"$f":"IF(CH=\"N\",NLogic!B119,\"\")","v":0},{"$f":"IF(OR($A119=0,$A119=\"\"),\"0\",IF(LOOKUP($A119,Load_Switch_NFET[PARTNUMBER],Load_Switch_NFET[RDSON18])=\"(NULL)\",\"0\",\"1\"))","v":"0"},{"$f":"IF(OR($A119=0,$A119=\"\"),\"0\",IF(LOOKUP($A119,Load_Switch_NFET[PARTNUMBER],Load_Switch_NFET[RDSON25])=\"(NULL)\",\"0\",\"1\"))","v":"0"},{"$f":"IF(OR($A119=0,$A119=\"\"),\"0\",IF(LOOKUP($A119,Load_Switch_NFET[PARTNUMBER],Load_Switch_NFET[RDSON3])=\"(NULL)\",\"0\",\"1\"))","v":"0"},{"$f":"IF(OR($A119=0,$A119=\"\"),\"0\",IF(LOOKUP($A119,Load_Switch_NFET[PARTNUMBER],Load_Switch_NFET[RDSON45])=\"(NULL)\",\"0\",\"1\"))","v":"0"},{"$f":"IF(OR($A119=0,$A119=\"\"),\"0\",IF(LOOKUP($A119,Load_Switch_NFET[PARTNUMBER],Load_Switch_NFET[RDSON6])=\"(NULL)\",\"0\",\"1\"))","v":"0"},{"$f":"IF(OR($A119=0,$A119=\"\"),\"0\",IF(LOOKUP($A119,Load_Switch_NFET[PARTNUMBER],Load_Switch_NFET[RDSON8])=\"(NULL)\",\"0\",\"1\"))","v":"0"},{"$f":"IF(OR($A119=0,$A119=\"\"),\"0\",IF(LOOKUP($A119,Load_Switch_NFET[PARTNUMBER],Load_Switch_NFET[RDSON10])=\"(NULL)\",\"0\",\"1\"))","v":"0"},false,false,false,false,false,false,false,false,false,false,false,false,false,false,false,{"$f":"IF(W119,LOOKUP(A119,Load_Switch_NFET[PARTNUMBER],Load_Switch_NFET[RDSON10])*1000,IF(V119,LOOKUP(A119,Load_Switch_NFET[PARTNUMBER],Load_Switch_NFET[RDSON8])*1000,IF(U119,LOOKUP(A119,Load_Switch_NFET[PARTNUMBER],Load_Switch_NFET[RDSON6])*1000,IF(T119,LOOKUP(A119,Load_Switch_NFET[PARTNUMBER],Load_Switch_NFET[RDSON45])*1000,IF(S119,LOOKUP(A119,Load_Switch_NFET[PARTNUMBER],Load_Switch_NFET[RDSON3])*1000,IF(R119,LOOKUP(A119,Load_Switch_NFET[PARTNUMBER],Load_Switch_NFET[RDSON25])*1000,IF(Q119,LOOKUP(A119,Load_Switch_NFET[PARTNUMBER],Load_Switch_NFET[RDSON18])*1000,\"\")))))))","v":""},null,null,null,"#N/A",null,null,null,null,null,null,null,null,null,null,"",{"$f":"IF(AND($A119<>0,$A119<>\"\"),LOOKUP($A119,Load_Switch_NFET[PARTNUMBER],Load_Switch_NFET[1KPRICE]),\"\")","v":""},null,"Invalid Part"]
[{"$f":"IF(CH=\"N\",NLogic!B120,\"\")","v":0},{"$f":"IF(OR($A120=0,$A120=\"\"),\"0\",IF(LOOKUP($A120,Load_Switch_NFET[PARTNUMBER],Load_Switch_NFET[RDSON18])=\"(NULL)\",\"0\",\"1\"))","v":"0"},{"$f":"IF(OR($A120=0,$A120=\"\"),\"0\",IF(LOOKUP($A120,Load_Switch_NFET[PARTNUMBER],Load_Switch_NFET[RDSON25])=\"(NULL)\",\"0\",\"1\"))","v":"0"},{"$f":"IF(OR($A120=0,$A120=\"\"),\"0\",IF(LOOKUP($A120,Load_Switch_NFET[PARTNUMBER],Load_Switch_NFET[RDSON3])=\"(NULL)\",\"0\",\"1\"))","v":"0"},{"$f":"IF(OR($A120=0,$A120=\"\"),\"0\",IF(LOOKUP($A120,Load_Switch_NFET[PARTNUMBER],Load_Switch_NFET[RDSON45])=\"(NULL)\",\"0\",\"1\"))","v":"0"},{"$f":"IF(OR($A120=0,$A120=\"\"),\"0\",IF(LOOKUP($A120,Load_Switch_NFET[PARTNUMBER],Load_Switch_NFET[RDSON6])=\"(NULL)\",\"0\",\"1\"))","v":"0"},{"$f":"IF(OR($A120=0,$A120=\"\"),\"0\",IF(LOOKUP($A120,Load_Switch_NFET[PARTNUMBER],Load_Switch_NFET[RDSON8])=\"(NULL)\",\"0\",\"1\"))","v":"0"},{"$f":"IF(OR($A120=0,$A120=\"\"),\"0\",IF(LOOKUP($A120,Load_Switch_NFET[PARTNUMBER],Load_Switch_NFET[RDSON10])=\"(NULL)\",\"0\",\"1\"))","v":"0"},false,false,false,false,false,false,false,false,false,false,false,false,false,false,false,{"$f":"IF(W120,LOOKUP(A120,Load_Switch_NFET[PARTNUMBER],Load_Switch_NFET[RDSON10])*1000,IF(V120,LOOKUP(A120,Load_Switch_NFET[PARTNUMBER],Load_Switch_NFET[RDSON8])*1000,IF(U120,LOOKUP(A120,Load_Switch_NFET[PARTNUMBER],Load_Switch_NFET[RDSON6])*1000,IF(T120,LOOKUP(A120,Load_Switch_NFET[PARTNUMBER],Load_Switch_NFET[RDSON45])*1000,IF(S120,LOOKUP(A120,Load_Switch_NFET[PARTNUMBER],Load_Switch_NFET[RDSON3])*1000,IF(R120,LOOKUP(A120,Load_Switch_NFET[PARTNUMBER],Load_Switch_NFET[RDSON25])*1000,IF(Q120,LOOKUP(A120,Load_Switch_NFET[PARTNUMBER],Load_Switch_NFET[RDSON18])*1000,\"\")))))))","v":""},null,null,null,"#N/A",null,null,null,null,null,null,null,null,null,null,"",{"$f":"IF(AND($A120<>0,$A120<>\"\"),LOOKUP($A120,Load_Switch_NFET[PARTNUMBER],Load_Switch_NFET[1KPRICE]),\"\")","v":""},null,"Invalid Part"]
[{"$f":"IF(CH=\"N\",NLogic!B121,\"\")","v":0},{"$f":"IF(OR($A121=0,$A121=\"\"),\"0\",IF(LOOKUP($A121,Load_Switch_NFET[PARTNUMBER],Load_Switch_NFET[RDSON18])=\"(NULL)\",\"0\",\"1\"))","v":"0"},{"$f":"IF(OR($A121=0,$A121=\"\"),\"0\",IF(LOOKUP($A121,Load_Switch_NFET[PARTNUMBER],Load_Switch_NFET[RDSON25])=\"(NULL)\",\"0\",\"1\"))","v":"0"},{"$f":"IF(OR($A121=0,$A121=\"\"),\"0\",IF(LOOKUP($A121,Load_Switch_NFET[PARTNUMBER],Load_Switch_NFET[RDSON3])=\"(NULL)\",\"0\",\"1\"))","v":"0"},{"$f":"IF(OR($A121=0,$A121=\"\"),\"0\",IF(LOOKUP($A121,Load_Switch_NFET[PARTNUMBER],Load_Switch_NFET[RDSON45])=\"(NULL)\",\"0\",\"1\"))","v":"0"},{"$f":"IF(OR($A121=0,$A121=\"\"),\"0\",IF(LOOKUP($A121,Load_Switch_NFET[PARTNUMBER],Load_Switch_NFET[RDSON6])=\"(NULL)\",\"0\",\"1\"))","v":"0"},{"$f":"IF(OR($A121=0,$A121=\"\"),\"0\",IF(LOOKUP($A121,Load_Switch_NFET[PARTNUMBER],Load_Switch_NFET[RDSON8])=\"(NULL)\",\"0\",\"1\"))","v":"0"},{"$f":"IF(OR($A121=0,$A121=\"\"),\"0\",IF(LOOKUP($A121,Load_Switch_NFET[PARTNUMBER],Load_Switch_NFET[RDSON10])=\"(NULL)\",\"0\",\"1\"))","v":"0"},false,false,false,false,false,false,false,false,false,false,false,false,false,false,false,{"$f":"IF(W121,LOOKUP(A121,Load_Switch_NFET[PARTNUMBER],Load_Switch_NFET[RDSON10])*1000,IF(V121,LOOKUP(A121,Load_Switch_NFET[PARTNUMBER],Load_Switch_NFET[RDSON8])*1000,IF(U121,LOOKUP(A121,Load_Switch_NFET[PARTNUMBER],Load_Switch_NFET[RDSON6])*1000,IF(T121,LOOKUP(A121,Load_Switch_NFET[PARTNUMBER],Load_Switch_NFET[RDSON45])*1000,IF(S121,LOOKUP(A121,Load_Switch_NFET[PARTNUMBER],Load_Switch_NFET[RDSON3])*1000,IF(R121,LOOKUP(A121,Load_Switch_NFET[PARTNUMBER],Load_Switch_NFET[RDSON25])*1000,IF(Q121,LOOKUP(A121,Load_Switch_NFET[PARTNUMBER],Load_Switch_NFET[RDSON18])*1000,\"\")))))))","v":""},null,null,null,"#N/A",null,null,null,null,null,null,null,null,null,null,"",{"$f":"IF(AND($A121<>0,$A121<>\"\"),LOOKUP($A121,Load_Switch_NFET[PARTNUMBER],Load_Switch_NFET[1KPRICE]),\"\")","v":""},null,"Invalid Part"]
[{"$f":"IF(CH=\"N\",NLogic!B122,\"\")","v":0},{"$f":"IF(OR($A122=0,$A122=\"\"),\"0\",IF(LOOKUP($A122,Load_Switch_NFET[PARTNUMBER],Load_Switch_NFET[RDSON18])=\"(NULL)\",\"0\",\"1\"))","v":"0"},{"$f":"IF(OR($A122=0,$A122=\"\"),\"0\",IF(LOOKUP($A122,Load_Switch_NFET[PARTNUMBER],Load_Switch_NFET[RDSON25])=\"(NULL)\",\"0\",\"1\"))","v":"0"},{"$f":"IF(OR($A122=0,$A122=\"\"),\"0\",IF(LOOKUP($A122,Load_Switch_NFET[PARTNUMBER],Load_Switch_NFET[RDSON3])=\"(NULL)\",\"0\",\"1\"))","v":"0"},{"$f":"IF(OR($A122=0,$A122=\"\"),\"0\",IF(LOOKUP($A122,Load_Switch_NFET[PARTNUMBER],Load_Switch_NFET[RDSON45])=\"(NULL)\",\"0\",\"1\"))","v":"0"},{"$f":"IF(OR($A122=0,$A122=\"\"),\"0\",IF(LOOKUP($A122,Load_Switch_NFET[PARTNUMBER],Load_Switch_NFET[RDSON6])=\"(NULL)\",\"0\",\"1\"))","v":"0"},{"$f":"IF(OR($A122=0,$A122=\"\"),\"0\",IF(LOOKUP($A122,Load_Switch_NFET[PARTNUMBER],Load_Switch_NFET[RDSON8])=\"(NULL)\",\"0\",\"1\"))","v":"0"},{"$f":"IF(OR($A122=0,$A122=\"\"),\"0\",IF(LOOKUP($A122,Load_Switch_NFET[PARTNUMBER],Load_Switch_NFET[RDSON10])=\"(NULL)\",\"0\",\"1\"))","v":"0"},false,false,false,false,false,false,false,false,false,false,false,false,false,false,false,{"$f":"IF(W122,LOOKUP(A122,Load_Switch_NFET[PARTNUMBER],Load_Switch_NFET[RDSON10])*1000,IF(V122,LOOKUP(A122,Load_Switch_NFET[PARTNUMBER],Load_Switch_NFET[RDSON8])*1000,IF(U122,LOOKUP(A122,Load_Switch_NFET[PARTNUMBER],Load_Switch_NFET[RDSON6])*1000,IF(T122,LOOKUP(A122,Load_Switch_NFET[PARTNUMBER],Load_Switch_NFET[RDSON45])*1000,IF(S122,LOOKUP(A122,Load_Switch_NFET[PARTNUMBER],Load_Switch_NFET[RDSON3])*1000,IF(R122,LOOKUP(A122,Load_Switch_NFET[PARTNUMBER],Load_Switch_NFET[RDSON25])*1000,IF(Q122,LOOKUP(A122,Load_Switch_NFET[PARTNUMBER],Load_Switch_NFET[RDSON18])*1000,\"\")))))))","v":""},null,null,null,"#N/A",null,null,null,null,null,null,null,null,null,null,"",{"$f":"IF(AND($A122<>0,$A122<>\"\"),LOOKUP($A122,Load_Switch_NFET[PARTNUMBER],Load_Switch_NFET[1KPRICE]),\"\")","v":""},null,"Invalid Part"]
[{"$f":"IF(CH=\"N\",NLogic!B123,\"\")","v":0},{"$f":"IF(OR($A123=0,$A123=\"\"),\"0\",IF(LOOKUP($A123,Load_Switch_NFET[PARTNUMBER],Load_Switch_NFET[RDSON18])=\"(NULL)\",\"0\",\"1\"))","v":"0"},{"$f":"IF(OR($A123=0,$A123=\"\"),\"0\",IF(LOOKUP($A123,Load_Switch_NFET[PARTNUMBER],Load_Switch_NFET[RDSON25])=\"(NULL)\",\"0\",\"1\"))","v":"0"},{"$f":"IF(OR($A123=0,$A123=\"\"),\"0\",IF(LOOKUP($A123,Load_Switch_NFET[PARTNUMBER],Load_Switch_NFET[RDSON3])=\"(NULL)\",\"0\",\"1\"))","v":"0"},{"$f":"IF(OR($A123=0,$A123=\"\"),\"0\",IF(LOOKUP($A123,Load_Switch_NFET[PARTNUMBER],Load_Switch_NFET[RDSON45])=\"(NULL)\",\"0\",\"1\"))","v":"0"},{"$f":"IF(OR($A123=0,$A123=\"\"),\"0\",IF(LOOKUP($A123,Load_Switch_NFET[PARTNUMBER],Load_Switch_NFET[RDSON6])=\"(NULL)\",\"0\",\"1\"))","v":"0"},{"$f":"IF(OR($A123=0,$A123=\"\"),\"0\",IF(LOOKUP($A123,Load_Switch_NFET[PARTNUMBER],Load_Switch_NFET[RDSON8])=\"(NULL)\",\"0\",\"1\"))","v":"0"},{"$f":"IF(OR($A123=0,$A123=\"\"),\"0\",IF(LOOKUP($A123,Load_Switch_NFET[PARTNUMBER],Load_Switch_NFET[RDSON10])=\"(NULL)\",\"0\",\"1\"))","v":"0"},false,false,false,false,false,false,false,false,false,false,false,false,false,false,false,{"$f":"IF(W123,LOOKUP(A123,Load_Switch_NFET[PARTNUMBER],Load_Switch_NFET[RDSON10])*1000,IF(V123,LOOKUP(A123,Load_Switch_NFET[PARTNUMBER],Load_Switch_NFET[RDSON8])*1000,IF(U123,LOOKUP(A123,Load_Switch_NFET[PARTNUMBER],Load_Switch_NFET[RDSON6])*1000,IF(T123,LOOKUP(A123,Load_Switch_NFET[PARTNUMBER],Load_Switch_NFET[RDSON45])*1000,IF(S123,LOOKUP(A123,Load_Switch_NFET[PARTNUMBER],Load_Switch_NFET[RDSON3])*1000,IF(R123,LOOKUP(A123,Load_Switch_NFET[PARTNUMBER],Load_Switch_NFET[RDSON25])*1000,IF(Q123,LOOKUP(A123,Load_Switch_NFET[PARTNUMBER],Load_Switch_NFET[RDSON18])*1000,\"\")))))))","v":""},null,null,null,"#N/A",null,null,null,null,null,null,null,null,null,null,"",{"$f":"IF(AND($A123<>0,$A123<>\"\"),LOOKUP($A123,Load_Switch_NFET[PARTNUMBER],Load_Switch_NFET[1KPRICE]),\"\")","v":""},null,"Invalid Part"]
[{"$f":"IF(CH=\"N\",NLogic!B124,\"\")","v":0},{"$f":"IF(OR($A124=0,$A124=\"\"),\"0\",IF(LOOKUP($A124,Load_Switch_NFET[PARTNUMBER],Load_Switch_NFET[RDSON18])=\"(NULL)\",\"0\",\"1\"))","v":"0"},{"$f":"IF(OR($A124=0,$A124=\"\"),\"0\",IF(LOOKUP($A124,Load_Switch_NFET[PARTNUMBER],Load_Switch_NFET[RDSON25])=\"(NULL)\",\"0\",\"1\"))","v":"0"},{"$f":"IF(OR($A124=0,$A124=\"\"),\"0\",IF(LOOKUP($A124,Load_Switch_NFET[PARTNUMBER],Load_Switch_NFET[RDSON3])=\"(NULL)\",\"0\",\"1\"))","v":"0"},{"$f":"IF(OR($A124=0,$A124=\"\"),\"0\",IF(LOOKUP($A124,Load_Switch_NFET[PARTNUMBER],Load_Switch_NFET[RDSON45])=\"(NULL)\",\"0\",\"1\"))","v":"0"},{"$f":"IF(OR($A124=0,$A124=\"\"),\"0\",IF(LOOKUP($A124,Load_Switch_NFET[PARTNUMBER],Load_Switch_NFET[RDSON6])=\"(NULL)\",\"0\",\"1\"))","v":"0"},{"$f":"IF(OR($A124=0,$A124=\"\"),\"0\",IF(LOOKUP($A124,Load_Switch_NFET[PARTNUMBER],Load_Switch_NFET[RDSON8])=\"(NULL)\",\"0\",\"1\"))","v":"0"},{"$f":"IF(OR($A124=0,$A124=\"\"),\"0\",IF(LOOKUP($A124,Load_Switch_NFET[PARTNUMBER],Load_Switch_NFET[RDSON10])=\"(NULL)\",\"0\",\"1\"))","v":"0"},false,false,false,false,false,false,false,false,false,false,false,false,false,false,false,{"$f":"IF(W124,LOOKUP(A124,Load_Switch_NFET[PARTNUMBER],Load_Switch_NFET[RDSON10])*1000,IF(V124,LOOKUP(A124,Load_Switch_NFET[PARTNUMBER],Load_Switch_NFET[RDSON8])*1000,IF(U124,LOOKUP(A124,Load_Switch_NFET[PARTNUMBER],Load_Switch_NFET[RDSON6])*1000,IF(T124,LOOKUP(A124,Load_Switch_NFET[PARTNUMBER],Load_Switch_NFET[RDSON45])*1000,IF(S124,LOOKUP(A124,Load_Switch_NFET[PARTNUMBER],Load_Switch_NFET[RDSON3])*1000,IF(R124,LOOKUP(A124,Load_Switch_NFET[PARTNUMBER],Load_Switch_NFET[RDSON25])*1000,IF(Q124,LOOKUP(A124,Load_Switch_NFET[PARTNUMBER],Load_Switch_NFET[RDSON18])*1000,\"\")))))))","v":""},null,null,null,"#N/A",null,null,null,null,null,null,null,null,null,null,"",{"$f":"IF(AND($A124<>0,$A124<>\"\"),LOOKUP($A124,Load_Switch_NFET[PARTNUMBER],Load_Switch_NFET[1KPRICE]),\"\")","v":""},null,"Invalid Part"]
[{"$f":"IF(CH=\"N\",NLogic!B125,\"\")","v":0},{"$f":"IF(OR($A125=0,$A125=\"\"),\"0\",IF(LOOKUP($A125,Load_Switch_NFET[PARTNUMBER],Load_Switch_NFET[RDSON18])=\"(NULL)\",\"0\",\"1\"))","v":"0"},{"$f":"IF(OR($A125=0,$A125=\"\"),\"0\",IF(LOOKUP($A125,Load_Switch_NFET[PARTNUMBER],Load_Switch_NFET[RDSON25])=\"(NULL)\",\"0\",\"1\"))","v":"0"},{"$f":"IF(OR($A125=0,$A125=\"\"),\"0\",IF(LOOKUP($A125,Load_Switch_NFET[PARTNUMBER],Load_Switch_NFET[RDSON3])=\"(NULL)\",\"0\",\"1\"))","v":"0"},{"$f":"IF(OR($A125=0,$A125=\"\"),\"0\",IF(LOOKUP($A125,Load_Switch_NFET[PARTNUMBER],Load_Switch_NFET[RDSON45])=\"(NULL)\",\"0\",\"1\"))","v":"0"},{"$f":"IF(OR($A125=0,$A125=\"\"),\"0\",IF(LOOKUP($A125,Load_Switch_NFET[PARTNUMBER],Load_Switch_NFET[RDSON6])=\"(NULL)\",\"0\",\"1\"))","v":"0"},{"$f":"IF(OR($A125=0,$A125=\"\"),\"0\",IF(LOOKUP($A125,Load_Switch_NFET[PARTNUMBER],Load_Switch_NFET[RDSON8])=\"(NULL)\",\"0\",\"1\"))","v":"0"},{"$f":"IF(OR($A125=0,$A125=\"\"),\"0\",IF(LOOKUP($A125,Load_Switch_NFET[PARTNUMBER],Load_Switch_NFET[RDSON10])=\"(NULL)\",\"0\",\"1\"))","v":"0"},false,false,false,false,false,false,false,false,false,false,false,false,false,false,false,{"$f":"IF(W125,LOOKUP(A125,Load_Switch_NFET[PARTNUMBER],Load_Switch_NFET[RDSON10])*1000,IF(V125,LOOKUP(A125,Load_Switch_NFET[PARTNUMBER],Load_Switch_NFET[RDSON8])*1000,IF(U125,LOOKUP(A125,Load_Switch_NFET[PARTNUMBER],Load_Switch_NFET[RDSON6])*1000,IF(T125,LOOKUP(A125,Load_Switch_NFET[PARTNUMBER],Load_Switch_NFET[RDSON45])*1000,IF(S125,LOOKUP(A125,Load_Switch_NFET[PARTNUMBER],Load_Switch_NFET[RDSON3])*1000,IF(R125,LOOKUP(A125,Load_Switch_NFET[PARTNUMBER],Load_Switch_NFET[RDSON25])*1000,IF(Q125,LOOKUP(A125,Load_Switch_NFET[PARTNUMBER],Load_Switch_NFET[RDSON18])*1000,\"\")))))))","v":""},null,null,null,"#N/A",null,null,null,null,null,null,null,null,null,null,"",{"$f":"IF(AND($A125<>0,$A125<>\"\"),LOOKUP($A125,Load_Switch_NFET[PARTNUMBER],Load_Switch_NFET[1KPRICE]),\"\")","v":""},null,"Invalid Part"]
[{"$f":"IF(CH=\"N\",NLogic!B126,\"\")","v":0},{"$f":"IF(OR($A126=0,$A126=\"\"),\"0\",IF(LOOKUP($A126,Load_Switch_NFET[PARTNUMBER],Load_Switch_NFET[RDSON18])=\"(NULL)\",\"0\",\"1\"))","v":"0"},{"$f":"IF(OR($A126=0,$A126=\"\"),\"0\",IF(LOOKUP($A126,Load_Switch_NFET[PARTNUMBER],Load_Switch_NFET[RDSON25])=\"(NULL)\",\"0\",\"1\"))","v":"0"},{"$f":"IF(OR($A126=0,$A126=\"\"),\"0\",IF(LOOKUP($A126,Load_Switch_NFET[PARTNUMBER],Load_Switch_NFET[RDSON3])=\"(NULL)\",\"0\",\"1\"))","v":"0"},{"$f":"IF(OR($A126=0,$A126=\"\"),\"0\",IF(LOOKUP($A126,Load_Switch_NFET[PARTNUMBER],Load_Switch_NFET[RDSON45])=\"(NULL)\",\"0\",\"1\"))","v":"0"},{"$f":"IF(OR($A126=0,$A126=\"\"),\"0\",IF(LOOKUP($A126,Load_Switch_NFET[PARTNUMBER],Load_Switch_NFET[RDSON6])=\"(NULL)\",\"0\",\"1\"))","v":"0"},{"$f":"IF(OR($A126=0,$A126=\"\"),\"0\",IF(LOOKUP($A126,Load_Switch_NFET[PARTNUMBER],Load_Switch_NFET[RDSON8])=\"(NULL)\",\"0\",\"1\"))","v":"0"},{"$f":"IF(OR($A126=0,$A126=\"\"),\"0\",IF(LOOKUP($A126,Load_Switch_NFET[PARTNUMBER],Load_Switch_NFET[RDSON10])=\"(NULL)\",\"0\",\"1\"))","v":"0"},false,false,false,false,false,false,false,false,false,false,false,false,false,false,false,{"$f":"IF(W126,LOOKUP(A126,Load_Switch_NFET[PARTNUMBER],Load_Switch_NFET[RDSON10])*1000,IF(V126,LOOKUP(A126,Load_Switch_NFET[PARTNUMBER],Load_Switch_NFET[RDSON8])*1000,IF(U126,LOOKUP(A126,Load_Switch_NFET[PARTNUMBER],Load_Switch_NFET[RDSON6])*1000,IF(T126,LOOKUP(A126,Load_Switch_NFET[PARTNUMBER],Load_Switch_NFET[RDSON45])*1000,IF(S126,LOOKUP(A126,Load_Switch_NFET[PARTNUMBER],Load_Switch_NFET[RDSON3])*1000,IF(R126,LOOKUP(A126,Load_Switch_NFET[PARTNUMBER],Load_Switch_NFET[RDSON25])*1000,IF(Q126,LOOKUP(A126,Load_Switch_NFET[PARTNUMBER],Load_Switch_NFET[RDSON18])*1000,\"\")))))))","v":""},null,null,null,"#N/A",null,null,null,null,null,null,null,null,null,null,"",{"$f":"IF(AND($A126<>0,$A126<>\"\"),LOOKUP($A126,Load_Switch_NFET[PARTNUMBER],Load_Switch_NFET[1KPRICE]),\"\")","v":""},null,"Invalid Part"]
[{"$f":"IF(CH=\"N\",NLogic!B127,\"\")","v":0},{"$f":"IF(OR($A127=0,$A127=\"\"),\"0\",IF(LOOKUP($A127,Load_Switch_NFET[PARTNUMBER],Load_Switch_NFET[RDSON18])=\"(NULL)\",\"0\",\"1\"))","v":"0"},{"$f":"IF(OR($A127=0,$A127=\"\"),\"0\",IF(LOOKUP($A127,Load_Switch_NFET[PARTNUMBER],Load_Switch_NFET[RDSON25])=\"(NULL)\",\"0\",\"1\"))","v":"0"},{"$f":"IF(OR($A127=0,$A127=\"\"),\"0\",IF(LOOKUP($A127,Load_Switch_NFET[PARTNUMBER],Load_Switch_NFET[RDSON3])=\"(NULL)\",\"0\",\"1\"))","v":"0"},{"$f":"IF(OR($A127=0,$A127=\"\"),\"0\",IF(LOOKUP($A127,Load_Switch_NFET[PARTNUMBER],Load_Switch_NFET[RDSON45])=\"(NULL)\",\"0\",\"1\"))","v":"0"},{"$f":"IF(OR($A127=0,$A127=\"\"),\"0\",IF(LOOKUP($A127,Load_Switch_NFET[PARTNUMBER],Load_Switch_NFET[RDSON6])=\"(NULL)\",\"0\",\"1\"))","v":"0"},{"$f":"IF(OR($A127=0,$A127=\"\"),\"0\",IF(LOOKUP($A127,Load_Switch_NFET[PARTNUMBER],Load_Switch_NFET[RDSON8])=\"(NULL)\",\"0\",\"1\"))","v":"0"},{"$f":"IF(OR($A127=0,$A127=\"\"),\"0\",IF(LOOKUP($A127,Load_Switch_NFET[PARTNUMBER],Load_Switch_NFET[RDSON10])=\"(NULL)\",\"0\",\"1\"))","v":"0"},false,false,false,false,false,false,false,false,false,false,false,false,false,false,false,{"$f":"IF(W127,LOOKUP(A127,Load_Switch_NFET[PARTNUMBER],Load_Switch_NFET[RDSON10])*1000,IF(V127,LOOKUP(A127,Load_Switch_NFET[PARTNUMBER],Load_Switch_NFET[RDSON8])*1000,IF(U127,LOOKUP(A127,Load_Switch_NFET[PARTNUMBER],Load_Switch_NFET[RDSON6])*1000,IF(T127,LOOKUP(A127,Load_Switch_NFET[PARTNUMBER],Load_Switch_NFET[RDSON45])*1000,IF(S127,LOOKUP(A127,Load_Switch_NFET[PARTNUMBER],Load_Switch_NFET[RDSON3])*1000,IF(R127,LOOKUP(A127,Load_Switch_NFET[PARTNUMBER],Load_Switch_NFET[RDSON25])*1000,IF(Q127,LOOKUP(A127,Load_Switch_NFET[PARTNUMBER],Load_Switch_NFET[RDSON18])*1000,\"\")))))))","v":""},null,null,null,"#N/A",null,null,null,null,null,null,null,null,null,null,"",{"$f":"IF(AND($A127<>0,$A127<>\"\"),LOOKUP($A127,Load_Switch_NFET[PARTNUMBER],Load_Switch_NFET[1KPRICE]),\"\")","v":""},null,"Invalid Part"]
[{"$f":"IF(CH=\"N\",NLogic!B128,\"\")","v":0},{"$f":"IF(OR($A128=0,$A128=\"\"),\"0\",IF(LOOKUP($A128,Load_Switch_NFET[PARTNUMBER],Load_Switch_NFET[RDSON18])=\"(NULL)\",\"0\",\"1\"))","v":"0"},{"$f":"IF(OR($A128=0,$A128=\"\"),\"0\",IF(LOOKUP($A128,Load_Switch_NFET[PARTNUMBER],Load_Switch_NFET[RDSON25])=\"(NULL)\",\"0\",\"1\"))","v":"0"},{"$f":"IF(OR($A128=0,$A128=\"\"),\"0\",IF(LOOKUP($A128,Load_Switch_NFET[PARTNUMBER],Load_Switch_NFET[RDSON3])=\"(NULL)\",\"0\",\"1\"))","v":"0"},{"$f":"IF(OR($A128=0,$A128=\"\"),\"0\",IF(LOOKUP($A128,Load_Switch_NFET[PARTNUMBER],Load_Switch_NFET[RDSON45])=\"(NULL)\",\"0\",\"1\"))","v":"0"},{"$f":"IF(OR($A128=0,$A128=\"\"),\"0\",IF(LOOKUP($A128,Load_Switch_NFET[PARTNUMBER],Load_Switch_NFET[RDSON6])=\"(NULL)\",\"0\",\"1\"))","v":"0"},{"$f":"IF(OR($A128=0,$A128=\"\"),\"0\",IF(LOOKUP($A128,Load_Switch_NFET[PARTNUMBER],Load_Switch_NFET[RDSON8])=\"(NULL)\",\"0\",\"1\"))","v":"0"},{"$f":"IF(OR($A128=0,$A128=\"\"),\"0\",IF(LOOKUP($A128,Load_Switch_NFET[PARTNUMBER],Load_Switch_NFET[RDSON10])=\"(NULL)\",\"0\",\"1\"))","v":"0"},false,false,false,false,false,false,false,false,false,false,false,false,false,false,false,{"$f":"IF(W128,LOOKUP(A128,Load_Switch_NFET[PARTNUMBER],Load_Switch_NFET[RDSON10])*1000,IF(V128,LOOKUP(A128,Load_Switch_NFET[PARTNUMBER],Load_Switch_NFET[RDSON8])*1000,IF(U128,LOOKUP(A128,Load_Switch_NFET[PARTNUMBER],Load_Switch_NFET[RDSON6])*1000,IF(T128,LOOKUP(A128,Load_Switch_NFET[PARTNUMBER],Load_Switch_NFET[RDSON45])*1000,IF(S128,LOOKUP(A128,Load_Switch_NFET[PARTNUMBER],Load_Switch_NFET[RDSON3])*1000,IF(R128,LOOKUP(A128,Load_Switch_NFET[PARTNUMBER],Load_Switch_NFET[RDSON25])*1000,IF(Q128,LOOKUP(A128,Load_Switch_NFET[PARTNUMBER],Load_Switch_NFET[RDSON18])*1000,\"\")))))))","v":""},null,null,null,"#N/A",null,null,null,null,null,null,null,null,null,null,"",{"$f":"IF(AND($A128<>0,$A128<>\"\"),LOOKUP($A128,Load_Switch_NFET[PARTNUMBER],Load_Switch_NFET[1KPRICE]),\"\")","v":""},null,"Invalid Part"]
[{"$f":"IF(CH=\"N\",NLogic!B129,\"\")","v":0},{"$f":"IF(OR($A129=0,$A129=\"\"),\"0\",IF(LOOKUP($A129,Load_Switch_NFET[PARTNUMBER],Load_Switch_NFET[RDSON18])=\"(NULL)\",\"0\",\"1\"))","v":"0"},{"$f":"IF(OR($A129=0,$A129=\"\"),\"0\",IF(LOOKUP($A129,Load_Switch_NFET[PARTNUMBER],Load_Switch_NFET[RDSON25])=\"(NULL)\",\"0\",\"1\"))","v":"0"},{"$f":"IF(OR($A129=0,$A129=\"\"),\"0\",IF(LOOKUP($A129,Load_Switch_NFET[PARTNUMBER],Load_Switch_NFET[RDSON3])=\"(NULL)\",\"0\",\"1\"))","v":"0"},{"$f":"IF(OR($A129=0,$A129=\"\"),\"0\",IF(LOOKUP($A129,Load_Switch_NFET[PARTNUMBER],Load_Switch_NFET[RDSON45])=\"(NULL)\",\"0\",\"1\"))","v":"0"},{"$f":"IF(OR($A129=0,$A129=\"\"),\"0\",IF(LOOKUP($A129,Load_Switch_NFET[PARTNUMBER],Load_Switch_NFET[RDSON6])=\"(NULL)\",\"0\",\"1\"))","v":"0"},{"$f":"IF(OR($A129=0,$A129=\"\"),\"0\",IF(LOOKUP($A129,Load_Switch_NFET[PARTNUMBER],Load_Switch_NFET[RDSON8])=\"(NULL)\",\"0\",\"1\"))","v":"0"},{"$f":"IF(OR($A129=0,$A129=\"\"),\"0\",IF(LOOKUP($A129,Load_Switch_NFET[PARTNUMBER],Load_Switch_NFET[RDSON10])=\"(NULL)\",\"0\",\"1\"))","v":"0"},false,false,false,false,false,false,false,false,false,false,false,false,false,false,false,{"$f":"IF(W129,LOOKUP(A129,Load_Switch_NFET[PARTNUMBER],Load_Switch_NFET[RDSON10])*1000,IF(V129,LOOKUP(A129,Load_Switch_NFET[PARTNUMBER],Load_Switch_NFET[RDSON8])*1000,IF(U129,LOOKUP(A129,Load_Switch_NFET[PARTNUMBER],Load_Switch_NFET[RDSON6])*1000,IF(T129,LOOKUP(A129,Load_Switch_NFET[PARTNUMBER],Load_Switch_NFET[RDSON45])*1000,IF(S129,LOOKUP(A129,Load_Switch_NFET[PARTNUMBER],Load_Switch_NFET[RDSON3])*1000,IF(R129,LOOKUP(A129,Load_Switch_NFET[PARTNUMBER],Load_Switch_NFET[RDSON25])*1000,IF(Q129,LOOKUP(A129,Load_Switch_NFET[PARTNUMBER],Load_Switch_NFET[RDSON18])*1000,\"\")))))))","v":""},null,null,null,"#N/A",null,null,null,null,null,null,null,null,null,null,"",{"$f":"IF(AND($A129<>0,$A129<>\"\"),LOOKUP($A129,Load_Switch_NFET[PARTNUMBER],Load_Switch_NFET[1KPRICE]),\"\")","v":""},null,"Invalid Part"]
[{"$f":"IF(CH=\"N\",NLogic!B130,\"\")","v":0},{"$f":"IF(OR($A130=0,$A130=\"\"),\"0\",IF(LOOKUP($A130,Load_Switch_NFET[PARTNUMBER],Load_Switch_NFET[RDSON18])=\"(NULL)\",\"0\",\"1\"))","v":"0"},{"$f":"IF(OR($A130=0,$A130=\"\"),\"0\",IF(LOOKUP($A130,Load_Switch_NFET[PARTNUMBER],Load_Switch_NFET[RDSON25])=\"(NULL)\",\"0\",\"1\"))","v":"0"},{"$f":"IF(OR($A130=0,$A130=\"\"),\"0\",IF(LOOKUP($A130,Load_Switch_NFET[PARTNUMBER],Load_Switch_NFET[RDSON3])=\"(NULL)\",\"0\",\"1\"))","v":"0"},{"$f":"IF(OR($A130=0,$A130=\"\"),\"0\",IF(LOOKUP($A130,Load_Switch_NFET[PARTNUMBER],Load_Switch_NFET[RDSON45])=\"(NULL)\",\"0\",\"1\"))","v":"0"},{"$f":"IF(OR($A130=0,$A130=\"\"),\"0\",IF(LOOKUP($A130,Load_Switch_NFET[PARTNUMBER],Load_Switch_NFET[RDSON6])=\"(NULL)\",\"0\",\"1\"))","v":"0"},{"$f":"IF(OR($A130=0,$A130=\"\"),\"0\",IF(LOOKUP($A130,Load_Switch_NFET[PARTNUMBER],Load_Switch_NFET[RDSON8])=\"(NULL)\",\"0\",\"1\"))","v":"0"},{"$f":"IF(OR($A130=0,$A130=\"\"),\"0\",IF(LOOKUP($A130,Load_Switch_NFET[PARTNUMBER],Load_Switch_NFET[RDSON10])=\"(NULL)\",\"0\",\"1\"))","v":"0"},false,false,false,false,false,false,false,false,false,false,false,false,false,false,false,{"$f":"IF(W130,LOOKUP(A130,Load_Switch_NFET[PARTNUMBER],Load_Switch_NFET[RDSON10])*1000,IF(V130,LOOKUP(A130,Load_Switch_NFET[PARTNUMBER],Load_Switch_NFET[RDSON8])*1000,IF(U130,LOOKUP(A130,Load_Switch_NFET[PARTNUMBER],Load_Switch_NFET[RDSON6])*1000,IF(T130,LOOKUP(A130,Load_Switch_NFET[PARTNUMBER],Load_Switch_NFET[RDSON45])*1000,IF(S130,LOOKUP(A130,Load_Switch_NFET[PARTNUMBER],Load_Switch_NFET[RDSON3])*1000,IF(R130,LOOKUP(A130,Load_Switch_NFET[PARTNUMBER],Load_Switch_NFET[RDSON25])*1000,IF(Q130,LOOKUP(A130,Load_Switch_NFET[PARTNUMBER],Load_Switch_NFET[RDSON18])*1000,\"\")))))))","v":""},null,null,null,"#N/A",null,null,null,null,null,null,null,null,null,null,{"$f":"IF(AND($A130<>0,$A130<>\"\"),ROUND(SUM(AL130:AL130),3),\"\")","v":""},{"$f":"IF(AND($A130<>0,$A130<>\"\"),LOOKUP($A130,Load_Switch_NFET[PARTNUMBER],Load_Switch_NFET[1KPRICE]),\"\")","v":""},null,{"$f":"IF(AND($A130<>0,$A130<>\"\"),CONCATENATE(A130,\", \",AO130,\", \",AM130,\"W, $\",AN130),\"Invalid Part\")","v":"Invalid Part"}]
[{"$f":"IF(CH=\"N\",NLogic!B131,\"\")","v":0},{"$f":"IF(OR($A131=0,$A131=\"\"),\"0\",IF(LOOKUP($A131,Load_Switch_NFET[PARTNUMBER],Load_Switch_NFET[RDSON18])=\"(NULL)\",\"0\",\"1\"))","v":"0"},{"$f":"IF(OR($A131=0,$A131=\"\"),\"0\",IF(LOOKUP($A131,Load_Switch_NFET[PARTNUMBER],Load_Switch_NFET[RDSON25])=\"(NULL)\",\"0\",\"1\"))","v":"0"},{"$f":"IF(OR($A131=0,$A131=\"\"),\"0\",IF(LOOKUP($A131,Load_Switch_NFET[PARTNUMBER],Load_Switch_NFET[RDSON3])=\"(NULL)\",\"0\",\"1\"))","v":"0"},{"$f":"IF(OR($A131=0,$A131=\"\"),\"0\",IF(LOOKUP($A131,Load_Switch_NFET[PARTNUMBER],Load_Switch_NFET[RDSON45])=\"(NULL)\",\"0\",\"1\"))","v":"0"},{"$f":"IF(OR($A131=0,$A131=\"\"),\"0\",IF(LOOKUP($A131,Load_Switch_NFET[PARTNUMBER],Load_Switch_NFET[RDSON6])=\"(NULL)\",\"0\",\"1\"))","v":"0"},{"$f":"IF(OR($A131=0,$A131=\"\"),\"0\",IF(LOOKUP($A131,Load_Switch_NFET[PARTNUMBER],Load_Switch_NFET[RDSON8])=\"(NULL)\",\"0\",\"1\"))","v":"0"},{"$f":"IF(OR($A131=0,$A131=\"\"),\"0\",IF(LOOKUP($A131,Load_Switch_NFET[PARTNUMBER],Load_Switch_NFET[RDSON10])=\"(NULL)\",\"0\",\"1\"))","v":"0"},{"$f":"AND(AS$2,B131=\"1\")","v":false},{"$f":"AND(AT$2,C131=\"1\")","v":false},{"$f":"AND(AU$2,D131=\"1\")","v":false},{"$f":"AND(AV$2,E131=\"1\")","v":false},{"$f":"AND(AW$2,F131=\"1\")","v":false},{"$f":"AND(AX$2,G131=\"1\")","v":false},{"$f":"AND(AY$2,H131=\"1\")","v":false},{"$f":"OR(I131:O131)","v":false},{"$f":"IF($P131,I131,IF((B131=\"1\"),OR($AR$2,$AR$9)))","v":false},{"$f":"IF($P131,J131,IF((C131=\"1\"),OR($AR$2,$AR$9)))","v":false},{"$f":"IF($P131,K131,IF((D131=\"1\"),OR(AR$2,AR$9,AV$2,L131)))","v":false},{"$f":"IF($P131,L131,IF((E131=\"1\"),OR(AU$2,K131,AW$2,M131)))","v":false},{"$f":"IF($P131,M131,IF((F131=\"1\"),OR(AV$2,L131,AX$2,N131)))","v":false},{"$f":"IF($P131,N131,IF((G131=\"1\"),OR(AW$2,M131,AY$2,O131)))","v":false},{"$f":"IF($P131,O131,IF((H131=\"1\"),OR(AX$2,N131)))","v":false},{"$f":"IF(W131,LOOKUP(A131,Load_Switch_NFET[PARTNUMBER],Load_Switch_NFET[RDSON10])*1000,IF(V131,LOOKUP(A131,Load_Switch_NFET[PARTNUMBER],Load_Switch_NFET[RDSON8])*1000,IF(U131,LOOKUP(A131,Load_Switch_NFET[PARTNUMBER],Load_Switch_NFET[RDSON6])*1000,IF(T131,LOOKUP(A131,Load_Switch_NFET[PARTNUMBER],Load_Switch_NFET[RDSON45])*1000,IF(S131,LOOKUP(A131,Load_Switch_NFET[PARTNUMBER],Load_Switch_NFET[RDSON3])*1000,IF(R131,LOOKUP(A131,Load_Switch_NFET[PARTNUMBER],Load_Switch_NFET[RDSON25])*1000,IF(Q131,LOOKUP(A131,Load_Switch_NFET[PARTNUMBER],Load_Switch_NFET[RDSON18])*1000,\"\")))))))","v":""},null,null,null,{"$f":"IF(AND(A131<>0,A131<>\"\"),IF(B131=\"1\",1.8,IF(C131=\"1\",2.5,IF(D131=\"1\",3,IF(E131=\"1\",4.5,IF(F131=\"1\",6,IF(G131=\"1\",8,IF(H131=\"1\",10))))))),\"#N/A\")","v":"#N/A"},null,null,null,null,null,null,null,null,null,null,{"$f":"IF(AND($A131<>0,$A131<>\"\"),ROUND(SUM(AL131:AL131),3),\"\")","v":""},{"$f":"IF(AND($A131<>0,$A131<>\"\"),LOOKUP($A131,Load_Switch_NFET[PARTNUMBER],Load_Switch_NFET[1KPRICE]),\"\")","v":""},null,{"$f":"IF(AND($A131<>0,$A131<>\"\"),CONCATENATE(A131,\", \",AO131,\", \",AM131,\"W, $\",AN131),\"Invalid Part\")","v":"Invalid Part"}]
[{"$f":"IF(CH=\"N\",NLogic!B132,\"\")","v":0},{"$f":"IF(OR($A132=0,$A132=\"\"),\"0\",IF(LOOKUP($A132,Load_Switch_NFET[PARTNUMBER],Load_Switch_NFET[RDSON18])=\"(NULL)\",\"0\",\"1\"))","v":"0"},{"$f":"IF(OR($A132=0,$A132=\"\"),\"0\",IF(LOOKUP($A132,Load_Switch_NFET[PARTNUMBER],Load_Switch_NFET[RDSON25])=\"(NULL)\",\"0\",\"1\"))","v":"0"},{"$f":"IF(OR($A132=0,$A132=\"\"),\"0\",IF(LOOKUP($A132,Load_Switch_NFET[PARTNUMBER],Load_Switch_NFET[RDSON3])=\"(NULL)\",\"0\",\"1\"))","v":"0"},{"$f":"IF(OR($A132=0,$A132=\"\"),\"0\",IF(LOOKUP($A132,Load_Switch_NFET[PARTNUMBER],Load_Switch_NFET[RDSON45])=\"(NULL)\",\"0\",\"1\"))","v":"0"},{"$f":"IF(OR($A132=0,$A132=\"\"),\"0\",IF(LOOKUP($A132,Load_Switch_NFET[PARTNUMBER],Load_Switch_NFET[RDSON6])=\"(NULL)\",\"0\",\"1\"))","v":"0"},{"$f":"IF(OR($A132=0,$A132=\"\"),\"0\",IF(LOOKUP($A132,Load_Switch_NFET[PARTNUMBER],Load_Switch_NFET[RDSON8])=\"(NULL)\",\"0\",\"1\"))","v":"0"},{"$f":"IF(OR($A132=0,$A132=\"\"),\"0\",IF(LOOKUP($A132,Load_Switch_NFET[PARTNUMBER],Load_Switch_NFET[RDSON10])=\"(NULL)\",\"0\",\"1\"))","v":"0"},false,false,false,false,false,false,false,false,false,false,false,false,false,false,false,{"$f":"IF(W132,LOOKUP(A132,Load_Switch_NFET[PARTNUMBER],Load_Switch_NFET[RDSON10])*1000,IF(V132,LOOKUP(A132,Load_Switch_NFET[PARTNUMBER],Load_Switch_NFET[RDSON8])*1000,IF(U132,LOOKUP(A132,Load_Switch_NFET[PARTNUMBER],Load_Switch_NFET[RDSON6])*1000,IF(T132,LOOKUP(A132,Load_Switch_NFET[PARTNUMBER],Load_Switch_NFET[RDSON45])*1000,IF(S132,LOOKUP(A132,Load_Switch_NFET[PARTNUMBER],Load_Switch_NFET[RDSON3])*1000,IF(R132,LOOKUP(A132,Load_Switch_NFET[PARTNUMBER],Load_Switch_NFET[RDSON25])*1000,IF(Q132,LOOKUP(A132,Load_Switch_NFET[PARTNUMBER],Load_Switch_NFET[RDSON18])*1000,\"\")))))))","v":""},null,null,null,"#N/A",null,null,null,null,null,null,null,null,null,null,"",{"$f":"IF(AND($A132<>0,$A132<>\"\"),LOOKUP($A132,Load_Switch_NFET[PARTNUMBER],Load_Switch_NFET[1KPRICE]),\"\")","v":""},null,"Invalid Part"]
[{"$f":"IF(CH=\"N\",NLogic!B133,\"\")","v":0},{"$f":"IF(OR($A133=0,$A133=\"\"),\"0\",IF(LOOKUP($A133,Load_Switch_NFET[PARTNUMBER],Load_Switch_NFET[RDSON18])=\"(NULL)\",\"0\",\"1\"))","v":"0"},{"$f":"IF(OR($A133=0,$A133=\"\"),\"0\",IF(LOOKUP($A133,Load_Switch_NFET[PARTNUMBER],Load_Switch_NFET[RDSON25])=\"(NULL)\",\"0\",\"1\"))","v":"0"},{"$f":"IF(OR($A133=0,$A133=\"\"),\"0\",IF(LOOKUP($A133,Load_Switch_NFET[PARTNUMBER],Load_Switch_NFET[RDSON3])=\"(NULL)\",\"0\",\"1\"))","v":"0"},{"$f":"IF(OR($A133=0,$A133=\"\"),\"0\",IF(LOOKUP($A133,Load_Switch_NFET[PARTNUMBER],Load_Switch_NFET[RDSON45])=\"(NULL)\",\"0\",\"1\"))","v":"0"},{"$f":"IF(OR($A133=0,$A133=\"\"),\"0\",IF(LOOKUP($A133,Load_Switch_NFET[PARTNUMBER],Load_Switch_NFET[RDSON6])=\"(NULL)\",\"0\",\"1\"))","v":"0"},{"$f":"IF(OR($A133=0,$A133=\"\"),\"0\",IF(LOOKUP($A133,Load_Switch_NFET[PARTNUMBER],Load_Switch_NFET[RDSON8])=\"(NULL)\",\"0\",\"1\"))","v":"0"},{"$f":"IF(OR($A133=0,$A133=\"\"),\"0\",IF(LOOKUP($A133,Load_Switch_NFET[PARTNUMBER],Load_Switch_NFET[RDSON10])=\"(NULL)\",\"0\",\"1\"))","v":"0"},false,false,false,false,false,false,false,false,false,false,false,false,false,false,false,{"$f":"IF(W133,LOOKUP(A133,Load_Switch_NFET[PARTNUMBER],Load_Switch_NFET[RDSON10])*1000,IF(V133,LOOKUP(A133,Load_Switch_NFET[PARTNUMBER],Load_Switch_NFET[RDSON8])*1000,IF(U133,LOOKUP(A133,Load_Switch_NFET[PARTNUMBER],Load_Switch_NFET[RDSON6])*1000,IF(T133,LOOKUP(A133,Load_Switch_NFET[PARTNUMBER],Load_Switch_NFET[RDSON45])*1000,IF(S133,LOOKUP(A133,Load_Switch_NFET[PARTNUMBER],Load_Switch_NFET[RDSON3])*1000,IF(R133,LOOKUP(A133,Load_Switch_NFET[PARTNUMBER],Load_Switch_NFET[RDSON25])*1000,IF(Q133,LOOKUP(A133,Load_Switch_NFET[PARTNUMBER],Load_Switch_NFET[RDSON18])*1000,\"\")))))))","v":""},null,null,null,"#N/A",null,null,null,null,null,null,null,null,null,null,"",{"$f":"IF(AND($A133<>0,$A133<>\"\"),LOOKUP($A133,Load_Switch_NFET[PARTNUMBER],Load_Switch_NFET[1KPRICE]),\"\")","v":""},null,"Invalid Part"]
[{"$f":"IF(CH=\"N\",NLogic!B134,\"\")","v":0},{"$f":"IF(OR($A134=0,$A134=\"\"),\"0\",IF(LOOKUP($A134,Load_Switch_NFET[PARTNUMBER],Load_Switch_NFET[RDSON18])=\"(NULL)\",\"0\",\"1\"))","v":"0"},{"$f":"IF(OR($A134=0,$A134=\"\"),\"0\",IF(LOOKUP($A134,Load_Switch_NFET[PARTNUMBER],Load_Switch_NFET[RDSON25])=\"(NULL)\",\"0\",\"1\"))","v":"0"},{"$f":"IF(OR($A134=0,$A134=\"\"),\"0\",IF(LOOKUP($A134,Load_Switch_NFET[PARTNUMBER],Load_Switch_NFET[RDSON3])=\"(NULL)\",\"0\",\"1\"))","v":"0"},{"$f":"IF(OR($A134=0,$A134=\"\"),\"0\",IF(LOOKUP($A134,Load_Switch_NFET[PARTNUMBER],Load_Switch_NFET[RDSON45])=\"(NULL)\",\"0\",\"1\"))","v":"0"},{"$f":"IF(OR($A134=0,$A134=\"\"),\"0\",IF(LOOKUP($A134,Load_Switch_NFET[PARTNUMBER],Load_Switch_NFET[RDSON6])=\"(NULL)\",\"0\",\"1\"))","v":"0"},{"$f":"IF(OR($A134=0,$A134=\"\"),\"0\",IF(LOOKUP($A134,Load_Switch_NFET[PARTNUMBER],Load_Switch_NFET[RDSON8])=\"(NULL)\",\"0\",\"1\"))","v":"0"},{"$f":"IF(OR($A134=0,$A134=\"\"),\"0\",IF(LOOKUP($A134,Load_Switch_NFET[PARTNUMBER],Load_Switch_NFET[RDSON10])=\"(NULL)\",\"0\",\"1\"))","v":"0"},false,false,false,false,false,false,false,false,false,false,false,false,false,false,false,{"$f":"IF(W134,LOOKUP(A134,Load_Switch_NFET[PARTNUMBER],Load_Switch_NFET[RDSON10])*1000,IF(V134,LOOKUP(A134,Load_Switch_NFET[PARTNUMBER],Load_Switch_NFET[RDSON8])*1000,IF(U134,LOOKUP(A134,Load_Switch_NFET[PARTNUMBER],Load_Switch_NFET[RDSON6])*1000,IF(T134,LOOKUP(A134,Load_Switch_NFET[PARTNUMBER],Load_Switch_NFET[RDSON45])*1000,IF(S134,LOOKUP(A134,Load_Switch_NFET[PARTNUMBER],Load_Switch_NFET[RDSON3])*1000,IF(R134,LOOKUP(A134,Load_Switch_NFET[PARTNUMBER],Load_Switch_NFET[RDSON25])*1000,IF(Q134,LOOKUP(A134,Load_Switch_NFET[PARTNUMBER],Load_Switch_NFET[RDSON18])*1000,\"\")))))))","v":""},null,null,null,"#N/A",null,null,null,null,null,null,null,null,null,null,"",{"$f":"IF(AND($A134<>0,$A134<>\"\"),LOOKUP($A134,Load_Switch_NFET[PARTNUMBER],Load_Switch_NFET[1KPRICE]),\"\")","v":""},null,"Invalid Part"]
[{"$f":"IF(CH=\"N\",NLogic!B135,\"\")","v":0},{"$f":"IF(OR($A135=0,$A135=\"\"),\"0\",IF(LOOKUP($A135,Load_Switch_NFET[PARTNUMBER],Load_Switch_NFET[RDSON18])=\"(NULL)\",\"0\",\"1\"))","v":"0"},{"$f":"IF(OR($A135=0,$A135=\"\"),\"0\",IF(LOOKUP($A135,Load_Switch_NFET[PARTNUMBER],Load_Switch_NFET[RDSON25])=\"(NULL)\",\"0\",\"1\"))","v":"0"},{"$f":"IF(OR($A135=0,$A135=\"\"),\"0\",IF(LOOKUP($A135,Load_Switch_NFET[PARTNUMBER],Load_Switch_NFET[RDSON3])=\"(NULL)\",\"0\",\"1\"))","v":"0"},{"$f":"IF(OR($A135=0,$A135=\"\"),\"0\",IF(LOOKUP($A135,Load_Switch_NFET[PARTNUMBER],Load_Switch_NFET[RDSON45])=\"(NULL)\",\"0\",\"1\"))","v":"0"},{"$f":"IF(OR($A135=0,$A135=\"\"),\"0\",IF(LOOKUP($A135,Load_Switch_NFET[PARTNUMBER],Load_Switch_NFET[RDSON6])=\"(NULL)\",\"0\",\"1\"))","v":"0"},{"$f":"IF(OR($A135=0,$A135=\"\"),\"0\",IF(LOOKUP($A135,Load_Switch_NFET[PARTNUMBER],Load_Switch_NFET[RDSON8])=\"(NULL)\",\"0\",\"1\"))","v":"0"},{"$f":"IF(OR($A135=0,$A135=\"\"),\"0\",IF(LOOKUP($A135,Load_Switch_NFET[PARTNUMBER],Load_Switch_NFET[RDSON10])=\"(NULL)\",\"0\",\"1\"))","v":"0"},false,false,false,false,false,false,false,false,false,false,false,false,false,false,false,{"$f":"IF(W135,LOOKUP(A135,Load_Switch_NFET[PARTNUMBER],Load_Switch_NFET[RDSON10])*1000,IF(V135,LOOKUP(A135,Load_Switch_NFET[PARTNUMBER],Load_Switch_NFET[RDSON8])*1000,IF(U135,LOOKUP(A135,Load_Switch_NFET[PARTNUMBER],Load_Switch_NFET[RDSON6])*1000,IF(T135,LOOKUP(A135,Load_Switch_NFET[PARTNUMBER],Load_Switch_NFET[RDSON45])*1000,IF(S135,LOOKUP(A135,Load_Switch_NFET[PARTNUMBER],Load_Switch_NFET[RDSON3])*1000,IF(R135,LOOKUP(A135,Load_Switch_NFET[PARTNUMBER],Load_Switch_NFET[RDSON25])*1000,IF(Q135,LOOKUP(A135,Load_Switch_NFET[PARTNUMBER],Load_Switch_NFET[RDSON18])*1000,\"\")))))))","v":""},null,null,null,"#N/A",null,null,null,null,null,null,null,null,null,null,"",{"$f":"IF(AND($A135<>0,$A135<>\"\"),LOOKUP($A135,Load_Switch_NFET[PARTNUMBER],Load_Switch_NFET[1KPRICE]),\"\")","v":""},null,"Invalid Part"]
[{"$f":"IF(CH=\"N\",NLogic!B136,\"\")","v":0},{"$f":"IF(OR($A136=0,$A136=\"\"),\"0\",IF(LOOKUP($A136,Load_Switch_NFET[PARTNUMBER],Load_Switch_NFET[RDSON18])=\"(NULL)\",\"0\",\"1\"))","v":"0"},{"$f":"IF(OR($A136=0,$A136=\"\"),\"0\",IF(LOOKUP($A136,Load_Switch_NFET[PARTNUMBER],Load_Switch_NFET[RDSON25])=\"(NULL)\",\"0\",\"1\"))","v":"0"},{"$f":"IF(OR($A136=0,$A136=\"\"),\"0\",IF(LOOKUP($A136,Load_Switch_NFET[PARTNUMBER],Load_Switch_NFET[RDSON3])=\"(NULL)\",\"0\",\"1\"))","v":"0"},{"$f":"IF(OR($A136=0,$A136=\"\"),\"0\",IF(LOOKUP($A136,Load_Switch_NFET[PARTNUMBER],Load_Switch_NFET[RDSON45])=\"(NULL)\",\"0\",\"1\"))","v":"0"},{"$f":"IF(OR($A136=0,$A136=\"\"),\"0\",IF(LOOKUP($A136,Load_Switch_NFET[PARTNUMBER],Load_Switch_NFET[RDSON6])=\"(NULL)\",\"0\",\"1\"))","v":"0"},{"$f":"IF(OR($A136=0,$A136=\"\"),\"0\",IF(LOOKUP($A136,Load_Switch_NFET[PARTNUMBER],Load_Switch_NFET[RDSON8])=\"(NULL)\",\"0\",\"1\"))","v":"0"},{"$f":"IF(OR($A136=0,$A136=\"\"),\"0\",IF(LOOKUP($A136,Load_Switch_NFET[PARTNUMBER],Load_Switch_NFET[RDSON10])=\"(NULL)\",\"0\",\"1\"))","v":"0"},false,false,false,false,false,false,false,false,false,false,false,false,false,false,false,{"$f":"IF(W136,LOOKUP(A136,Load_Switch_NFET[PARTNUMBER],Load_Switch_NFET[RDSON10])*1000,IF(V136,LOOKUP(A136,Load_Switch_NFET[PARTNUMBER],Load_Switch_NFET[RDSON8])*1000,IF(U136,LOOKUP(A136,Load_Switch_NFET[PARTNUMBER],Load_Switch_NFET[RDSON6])*1000,IF(T136,LOOKUP(A136,Load_Switch_NFET[PARTNUMBER],Load_Switch_NFET[RDSON45])*1000,IF(S136,LOOKUP(A136,Load_Switch_NFET[PARTNUMBER],Load_Switch_NFET[RDSON3])*1000,IF(R136,LOOKUP(A136,Load_Switch_NFET[PARTNUMBER],Load_Switch_NFET[RDSON25])*1000,IF(Q136,LOOKUP(A136,Load_Switch_NFET[PARTNUMBER],Load_Switch_NFET[RDSON18])*1000,\"\")))))))","v":""},null,null,null,"#N/A",null,null,null,null,null,null,null,null,null,null,"",{"$f":"IF(AND($A136<>0,$A136<>\"\"),LOOKUP($A136,Load_Switch_NFET[PARTNUMBER],Load_Switch_NFET[1KPRICE]),\"\")","v":""},null,"Invalid Part"]
[{"$f":"IF(CH=\"N\",NLogic!B137,\"\")","v":0},{"$f":"IF(OR($A137=0,$A137=\"\"),\"0\",IF(LOOKUP($A137,Load_Switch_NFET[PARTNUMBER],Load_Switch_NFET[RDSON18])=\"(NULL)\",\"0\",\"1\"))","v":"0"},{"$f":"IF(OR($A137=0,$A137=\"\"),\"0\",IF(LOOKUP($A137,Load_Switch_NFET[PARTNUMBER],Load_Switch_NFET[RDSON25])=\"(NULL)\",\"0\",\"1\"))","v":"0"},{"$f":"IF(OR($A137=0,$A137=\"\"),\"0\",IF(LOOKUP($A137,Load_Switch_NFET[PARTNUMBER],Load_Switch_NFET[RDSON3])=\"(NULL)\",\"0\",\"1\"))","v":"0"},{"$f":"IF(OR($A137=0,$A137=\"\"),\"0\",IF(LOOKUP($A137,Load_Switch_NFET[PARTNUMBER],Load_Switch_NFET[RDSON45])=\"(NULL)\",\"0\",\"1\"))","v":"0"},{"$f":"IF(OR($A137=0,$A137=\"\"),\"0\",IF(LOOKUP($A137,Load_Switch_NFET[PARTNUMBER],Load_Switch_NFET[RDSON6])=\"(NULL)\",\"0\",\"1\"))","v":"0"},{"$f":"IF(OR($A137=0,$A137=\"\"),\"0\",IF(LOOKUP($A137,Load_Switch_NFET[PARTNUMBER],Load_Switch_NFET[RDSON8])=\"(NULL)\",\"0\",\"1\"))","v":"0"},{"$f":"IF(OR($A137=0,$A137=\"\"),\"0\",IF(LOOKUP($A137,Load_Switch_NFET[PARTNUMBER],Load_Switch_NFET[RDSON10])=\"(NULL)\",\"0\",\"1\"))","v":"0"},false,false,false,false,false,false,false,false,false,false,false,false,false,false,false,{"$f":"IF(W137,LOOKUP(A137,Load_Switch_NFET[PARTNUMBER],Load_Switch_NFET[RDSON10])*1000,IF(V137,LOOKUP(A137,Load_Switch_NFET[PARTNUMBER],Load_Switch_NFET[RDSON8])*1000,IF(U137,LOOKUP(A137,Load_Switch_NFET[PARTNUMBER],Load_Switch_NFET[RDSON6])*1000,IF(T137,LOOKUP(A137,Load_Switch_NFET[PARTNUMBER],Load_Switch_NFET[RDSON45])*1000,IF(S137,LOOKUP(A137,Load_Switch_NFET[PARTNUMBER],Load_Switch_NFET[RDSON3])*1000,IF(R137,LOOKUP(A137,Load_Switch_NFET[PARTNUMBER],Load_Switch_NFET[RDSON25])*1000,IF(Q137,LOOKUP(A137,Load_Switch_NFET[PARTNUMBER],Load_Switch_NFET[RDSON18])*1000,\"\")))))))","v":""},null,null,null,"#N/A",null,null,null,null,null,null,null,null,null,null,"",{"$f":"IF(AND($A137<>0,$A137<>\"\"),LOOKUP($A137,Load_Switch_NFET[PARTNUMBER],Load_Switch_NFET[1KPRICE]),\"\")","v":""},null,"Invalid Part"]
[{"$f":"IF(CH=\"N\",NLogic!B138,\"\")","v":0},{"$f":"IF(OR($A138=0,$A138=\"\"),\"0\",IF(LOOKUP($A138,Load_Switch_NFET[PARTNUMBER],Load_Switch_NFET[RDSON18])=\"(NULL)\",\"0\",\"1\"))","v":"0"},{"$f":"IF(OR($A138=0,$A138=\"\"),\"0\",IF(LOOKUP($A138,Load_Switch_NFET[PARTNUMBER],Load_Switch_NFET[RDSON25])=\"(NULL)\",\"0\",\"1\"))","v":"0"},{"$f":"IF(OR($A138=0,$A138=\"\"),\"0\",IF(LOOKUP($A138,Load_Switch_NFET[PARTNUMBER],Load_Switch_NFET[RDSON3])=\"(NULL)\",\"0\",\"1\"))","v":"0"},{"$f":"IF(OR($A138=0,$A138=\"\"),\"0\",IF(LOOKUP($A138,Load_Switch_NFET[PARTNUMBER],Load_Switch_NFET[RDSON45])=\"(NULL)\",\"0\",\"1\"))","v":"0"},{"$f":"IF(OR($A138=0,$A138=\"\"),\"0\",IF(LOOKUP($A138,Load_Switch_NFET[PARTNUMBER],Load_Switch_NFET[RDSON6])=\"(NULL)\",\"0\",\"1\"))","v":"0"},{"$f":"IF(OR($A138=0,$A138=\"\"),\"0\",IF(LOOKUP($A138,Load_Switch_NFET[PARTNUMBER],Load_Switch_NFET[RDSON8])=\"(NULL)\",\"0\",\"1\"))","v":"0"},{"$f":"IF(OR($A138=0,$A138=\"\"),\"0\",IF(LOOKUP($A138,Load_Switch_NFET[PARTNUMBER],Load_Switch_NFET[RDSON10])=\"(NULL)\",\"0\",\"1\"))","v":"0"},false,false,false,false,false,false,false,false,false,false,false,false,false,false,false,{"$f":"IF(W138,LOOKUP(A138,Load_Switch_NFET[PARTNUMBER],Load_Switch_NFET[RDSON10])*1000,IF(V138,LOOKUP(A138,Load_Switch_NFET[PARTNUMBER],Load_Switch_NFET[RDSON8])*1000,IF(U138,LOOKUP(A138,Load_Switch_NFET[PARTNUMBER],Load_Switch_NFET[RDSON6])*1000,IF(T138,LOOKUP(A138,Load_Switch_NFET[PARTNUMBER],Load_Switch_NFET[RDSON45])*1000,IF(S138,LOOKUP(A138,Load_Switch_NFET[PARTNUMBER],Load_Switch_NFET[RDSON3])*1000,IF(R138,LOOKUP(A138,Load_Switch_NFET[PARTNUMBER],Load_Switch_NFET[RDSON25])*1000,IF(Q138,LOOKUP(A138,Load_Switch_NFET[PARTNUMBER],Load_Switch_NFET[RDSON18])*1000,\"\")))))))","v":""},null,null,null,"#N/A",null,null,null,null,null,null,null,null,null,null,"",{"$f":"IF(AND($A138<>0,$A138<>\"\"),LOOKUP($A138,Load_Switch_NFET[PARTNUMBER],Load_Switch_NFET[1KPRICE]),\"\")","v":""},null,"Invalid Part"]
[{"$f":"IF(CH=\"N\",NLogic!B139,\"\")","v":0},{"$f":"IF(OR($A139=0,$A139=\"\"),\"0\",IF(LOOKUP($A139,Load_Switch_NFET[PARTNUMBER],Load_Switch_NFET[RDSON18])=\"(NULL)\",\"0\",\"1\"))","v":"0"},{"$f":"IF(OR($A139=0,$A139=\"\"),\"0\",IF(LOOKUP($A139,Load_Switch_NFET[PARTNUMBER],Load_Switch_NFET[RDSON25])=\"(NULL)\",\"0\",\"1\"))","v":"0"},{"$f":"IF(OR($A139=0,$A139=\"\"),\"0\",IF(LOOKUP($A139,Load_Switch_NFET[PARTNUMBER],Load_Switch_NFET[RDSON3])=\"(NULL)\",\"0\",\"1\"))","v":"0"},{"$f":"IF(OR($A139=0,$A139=\"\"),\"0\",IF(LOOKUP($A139,Load_Switch_NFET[PARTNUMBER],Load_Switch_NFET[RDSON45])=\"(NULL)\",\"0\",\"1\"))","v":"0"},{"$f":"IF(OR($A139=0,$A139=\"\"),\"0\",IF(LOOKUP($A139,Load_Switch_NFET[PARTNUMBER],Load_Switch_NFET[RDSON6])=\"(NULL)\",\"0\",\"1\"))","v":"0"},{"$f":"IF(OR($A139=0,$A139=\"\"),\"0\",IF(LOOKUP($A139,Load_Switch_NFET[PARTNUMBER],Load_Switch_NFET[RDSON8])=\"(NULL)\",\"0\",\"1\"))","v":"0"},{"$f":"IF(OR($A139=0,$A139=\"\"),\"0\",IF(LOOKUP($A139,Load_Switch_NFET[PARTNUMBER],Load_Switch_NFET[RDSON10])=\"(NULL)\",\"0\",\"1\"))","v":"0"},false,false,false,false,false,false,false,false,false,false,false,false,false,false,false,{"$f":"IF(W139,LOOKUP(A139,Load_Switch_NFET[PARTNUMBER],Load_Switch_NFET[RDSON10])*1000,IF(V139,LOOKUP(A139,Load_Switch_NFET[PARTNUMBER],Load_Switch_NFET[RDSON8])*1000,IF(U139,LOOKUP(A139,Load_Switch_NFET[PARTNUMBER],Load_Switch_NFET[RDSON6])*1000,IF(T139,LOOKUP(A139,Load_Switch_NFET[PARTNUMBER],Load_Switch_NFET[RDSON45])*1000,IF(S139,LOOKUP(A139,Load_Switch_NFET[PARTNUMBER],Load_Switch_NFET[RDSON3])*1000,IF(R139,LOOKUP(A139,Load_Switch_NFET[PARTNUMBER],Load_Switch_NFET[RDSON25])*1000,IF(Q139,LOOKUP(A139,Load_Switch_NFET[PARTNUMBER],Load_Switch_NFET[RDSON18])*1000,\"\")))))))","v":""},null,null,null,"#N/A",null,null,null,null,null,null,null,null,null,null,"",{"$f":"IF(AND($A139<>0,$A139<>\"\"),LOOKUP($A139,Load_Switch_NFET[PARTNUMBER],Load_Switch_NFET[1KPRICE]),\"\")","v":""},null,"Invalid Part"]
[{"$f":"IF(CH=\"N\",NLogic!B140,\"\")","v":0},{"$f":"IF(OR($A140=0,$A140=\"\"),\"0\",IF(LOOKUP($A140,Load_Switch_NFET[PARTNUMBER],Load_Switch_NFET[RDSON18])=\"(NULL)\",\"0\",\"1\"))","v":"0"},{"$f":"IF(OR($A140=0,$A140=\"\"),\"0\",IF(LOOKUP($A140,Load_Switch_NFET[PARTNUMBER],Load_Switch_NFET[RDSON25])=\"(NULL)\",\"0\",\"1\"))","v":"0"},{"$f":"IF(OR($A140=0,$A140=\"\"),\"0\",IF(LOOKUP($A140,Load_Switch_NFET[PARTNUMBER],Load_Switch_NFET[RDSON3])=\"(NULL)\",\"0\",\"1\"))","v":"0"},{"$f":"IF(OR($A140=0,$A140=\"\"),\"0\",IF(LOOKUP($A140,Load_Switch_NFET[PARTNUMBER],Load_Switch_NFET[RDSON45])=\"(NULL)\",\"0\",\"1\"))","v":"0"},{"$f":"IF(OR($A140=0,$A140=\"\"),\"0\",IF(LOOKUP($A140,Load_Switch_NFET[PARTNUMBER],Load_Switch_NFET[RDSON6])=\"(NULL)\",\"0\",\"1\"))","v":"0"},{"$f":"IF(OR($A140=0,$A140=\"\"),\"0\",IF(LOOKUP($A140,Load_Switch_NFET[PARTNUMBER],Load_Switch_NFET[RDSON8])=\"(NULL)\",\"0\",\"1\"))","v":"0"},{"$f":"IF(OR($A140=0,$A140=\"\"),\"0\",IF(LOOKUP($A140,Load_Switch_NFET[PARTNUMBER],Load_Switch_NFET[RDSON10])=\"(NULL)\",\"0\",\"1\"))","v":"0"},false,false,false,false,false,false,false,false,false,false,false,false,false,false,false,{"$f":"IF(W140,LOOKUP(A140,Load_Switch_NFET[PARTNUMBER],Load_Switch_NFET[RDSON10])*1000,IF(V140,LOOKUP(A140,Load_Switch_NFET[PARTNUMBER],Load_Switch_NFET[RDSON8])*1000,IF(U140,LOOKUP(A140,Load_Switch_NFET[PARTNUMBER],Load_Switch_NFET[RDSON6])*1000,IF(T140,LOOKUP(A140,Load_Switch_NFET[PARTNUMBER],Load_Switch_NFET[RDSON45])*1000,IF(S140,LOOKUP(A140,Load_Switch_NFET[PARTNUMBER],Load_Switch_NFET[RDSON3])*1000,IF(R140,LOOKUP(A140,Load_Switch_NFET[PARTNUMBER],Load_Switch_NFET[RDSON25])*1000,IF(Q140,LOOKUP(A140,Load_Switch_NFET[PARTNUMBER],Load_Switch_NFET[RDSON18])*1000,\"\")))))))","v":""},null,null,null,"#N/A",null,null,null,null,null,null,null,null,null,null,"",{"$f":"IF(AND($A140<>0,$A140<>\"\"),LOOKUP($A140,Load_Switch_NFET[PARTNUMBER],Load_Switch_NFET[1KPRICE]),\"\")","v":""},null,"Invalid Part"]
[{"$f":"IF(CH=\"N\",NLogic!B141,\"\")","v":0},{"$f":"IF(OR($A141=0,$A141=\"\"),\"0\",IF(LOOKUP($A141,Load_Switch_NFET[PARTNUMBER],Load_Switch_NFET[RDSON18])=\"(NULL)\",\"0\",\"1\"))","v":"0"},{"$f":"IF(OR($A141=0,$A141=\"\"),\"0\",IF(LOOKUP($A141,Load_Switch_NFET[PARTNUMBER],Load_Switch_NFET[RDSON25])=\"(NULL)\",\"0\",\"1\"))","v":"0"},{"$f":"IF(OR($A141=0,$A141=\"\"),\"0\",IF(LOOKUP($A141,Load_Switch_NFET[PARTNUMBER],Load_Switch_NFET[RDSON3])=\"(NULL)\",\"0\",\"1\"))","v":"0"},{"$f":"IF(OR($A141=0,$A141=\"\"),\"0\",IF(LOOKUP($A141,Load_Switch_NFET[PARTNUMBER],Load_Switch_NFET[RDSON45])=\"(NULL)\",\"0\",\"1\"))","v":"0"},{"$f":"IF(OR($A141=0,$A141=\"\"),\"0\",IF(LOOKUP($A141,Load_Switch_NFET[PARTNUMBER],Load_Switch_NFET[RDSON6])=\"(NULL)\",\"0\",\"1\"))","v":"0"},{"$f":"IF(OR($A141=0,$A141=\"\"),\"0\",IF(LOOKUP($A141,Load_Switch_NFET[PARTNUMBER],Load_Switch_NFET[RDSON8])=\"(NULL)\",\"0\",\"1\"))","v":"0"},{"$f":"IF(OR($A141=0,$A141=\"\"),\"0\",IF(LOOKUP($A141,Load_Switch_NFET[PARTNUMBER],Load_Switch_NFET[RDSON10])=\"(NULL)\",\"0\",\"1\"))","v":"0"},false,false,false,false,false,false,false,false,false,false,false,false,false,false,false,{"$f":"IF(W141,LOOKUP(A141,Load_Switch_NFET[PARTNUMBER],Load_Switch_NFET[RDSON10])*1000,IF(V141,LOOKUP(A141,Load_Switch_NFET[PARTNUMBER],Load_Switch_NFET[RDSON8])*1000,IF(U141,LOOKUP(A141,Load_Switch_NFET[PARTNUMBER],Load_Switch_NFET[RDSON6])*1000,IF(T141,LOOKUP(A141,Load_Switch_NFET[PARTNUMBER],Load_Switch_NFET[RDSON45])*1000,IF(S141,LOOKUP(A141,Load_Switch_NFET[PARTNUMBER],Load_Switch_NFET[RDSON3])*1000,IF(R141,LOOKUP(A141,Load_Switch_NFET[PARTNUMBER],Load_Switch_NFET[RDSON25])*1000,IF(Q141,LOOKUP(A141,Load_Switch_NFET[PARTNUMBER],Load_Switch_NFET[RDSON18])*1000,\"\")))))))","v":""},null,null,null,"#N/A",null,null,null,null,null,null,null,null,null,null,"",{"$f":"IF(AND($A141<>0,$A141<>\"\"),LOOKUP($A141,Load_Switch_NFET[PARTNUMBER],Load_Switch_NFET[1KPRICE]),\"\")","v":""},null,"Invalid Part"]
[{"$f":"IF(CH=\"N\",NLogic!B142,\"\")","v":0},{"$f":"IF(OR($A142=0,$A142=\"\"),\"0\",IF(LOOKUP($A142,Load_Switch_NFET[PARTNUMBER],Load_Switch_NFET[RDSON18])=\"(NULL)\",\"0\",\"1\"))","v":"0"},{"$f":"IF(OR($A142=0,$A142=\"\"),\"0\",IF(LOOKUP($A142,Load_Switch_NFET[PARTNUMBER],Load_Switch_NFET[RDSON25])=\"(NULL)\",\"0\",\"1\"))","v":"0"},{"$f":"IF(OR($A142=0,$A142=\"\"),\"0\",IF(LOOKUP($A142,Load_Switch_NFET[PARTNUMBER],Load_Switch_NFET[RDSON3])=\"(NULL)\",\"0\",\"1\"))","v":"0"},{"$f":"IF(OR($A142=0,$A142=\"\"),\"0\",IF(LOOKUP($A142,Load_Switch_NFET[PARTNUMBER],Load_Switch_NFET[RDSON45])=\"(NULL)\",\"0\",\"1\"))","v":"0"},{"$f":"IF(OR($A142=0,$A142=\"\"),\"0\",IF(LOOKUP($A142,Load_Switch_NFET[PARTNUMBER],Load_Switch_NFET[RDSON6])=\"(NULL)\",\"0\",\"1\"))","v":"0"},{"$f":"IF(OR($A142=0,$A142=\"\"),\"0\",IF(LOOKUP($A142,Load_Switch_NFET[PARTNUMBER],Load_Switch_NFET[RDSON8])=\"(NULL)\",\"0\",\"1\"))","v":"0"},{"$f":"IF(OR($A142=0,$A142=\"\"),\"0\",IF(LOOKUP($A142,Load_Switch_NFET[PARTNUMBER],Load_Switch_NFET[RDSON10])=\"(NULL)\",\"0\",\"1\"))","v":"0"},false,false,false,false,false,false,false,false,false,false,false,false,false,false,false,{"$f":"IF(W142,LOOKUP(A142,Load_Switch_NFET[PARTNUMBER],Load_Switch_NFET[RDSON10])*1000,IF(V142,LOOKUP(A142,Load_Switch_NFET[PARTNUMBER],Load_Switch_NFET[RDSON8])*1000,IF(U142,LOOKUP(A142,Load_Switch_NFET[PARTNUMBER],Load_Switch_NFET[RDSON6])*1000,IF(T142,LOOKUP(A142,Load_Switch_NFET[PARTNUMBER],Load_Switch_NFET[RDSON45])*1000,IF(S142,LOOKUP(A142,Load_Switch_NFET[PARTNUMBER],Load_Switch_NFET[RDSON3])*1000,IF(R142,LOOKUP(A142,Load_Switch_NFET[PARTNUMBER],Load_Switch_NFET[RDSON25])*1000,IF(Q142,LOOKUP(A142,Load_Switch_NFET[PARTNUMBER],Load_Switch_NFET[RDSON18])*1000,\"\")))))))","v":""},null,null,null,"#N/A",null,null,null,null,null,null,null,null,null,null,"",{"$f":"IF(AND($A142<>0,$A142<>\"\"),LOOKUP($A142,Load_Switch_NFET[PARTNUMBER],Load_Switch_NFET[1KPRICE]),\"\")","v":""},null,"Invalid Part"]
[{"$f":"IF(CH=\"N\",NLogic!B143,\"\")","v":0},{"$f":"IF(OR($A143=0,$A143=\"\"),\"0\",IF(LOOKUP($A143,Load_Switch_NFET[PARTNUMBER],Load_Switch_NFET[RDSON18])=\"(NULL)\",\"0\",\"1\"))","v":"0"},{"$f":"IF(OR($A143=0,$A143=\"\"),\"0\",IF(LOOKUP($A143,Load_Switch_NFET[PARTNUMBER],Load_Switch_NFET[RDSON25])=\"(NULL)\",\"0\",\"1\"))","v":"0"},{"$f":"IF(OR($A143=0,$A143=\"\"),\"0\",IF(LOOKUP($A143,Load_Switch_NFET[PARTNUMBER],Load_Switch_NFET[RDSON3])=\"(NULL)\",\"0\",\"1\"))","v":"0"},{"$f":"IF(OR($A143=0,$A143=\"\"),\"0\",IF(LOOKUP($A143,Load_Switch_NFET[PARTNUMBER],Load_Switch_NFET[RDSON45])=\"(NULL)\",\"0\",\"1\"))","v":"0"},{"$f":"IF(OR($A143=0,$A143=\"\"),\"0\",IF(LOOKUP($A143,Load_Switch_NFET[PARTNUMBER],Load_Switch_NFET[RDSON6])=\"(NULL)\",\"0\",\"1\"))","v":"0"},{"$f":"IF(OR($A143=0,$A143=\"\"),\"0\",IF(LOOKUP($A143,Load_Switch_NFET[PARTNUMBER],Load_Switch_NFET[RDSON8])=\"(NULL)\",\"0\",\"1\"))","v":"0"},{"$f":"IF(OR($A143=0,$A143=\"\"),\"0\",IF(LOOKUP($A143,Load_Switch_NFET[PARTNUMBER],Load_Switch_NFET[RDSON10])=\"(NULL)\",\"0\",\"1\"))","v":"0"},false,false,false,false,false,false,false,false,false,false,false,false,false,false,false,{"$f":"IF(W143,LOOKUP(A143,Load_Switch_NFET[PARTNUMBER],Load_Switch_NFET[RDSON10])*1000,IF(V143,LOOKUP(A143,Load_Switch_NFET[PARTNUMBER],Load_Switch_NFET[RDSON8])*1000,IF(U143,LOOKUP(A143,Load_Switch_NFET[PARTNUMBER],Load_Switch_NFET[RDSON6])*1000,IF(T143,LOOKUP(A143,Load_Switch_NFET[PARTNUMBER],Load_Switch_NFET[RDSON45])*1000,IF(S143,LOOKUP(A143,Load_Switch_NFET[PARTNUMBER],Load_Switch_NFET[RDSON3])*1000,IF(R143,LOOKUP(A143,Load_Switch_NFET[PARTNUMBER],Load_Switch_NFET[RDSON25])*1000,IF(Q143,LOOKUP(A143,Load_Switch_NFET[PARTNUMBER],Load_Switch_NFET[RDSON18])*1000,\"\")))))))","v":""},null,null,null,"#N/A",null,null,null,null,null,null,null,null,null,null,"",{"$f":"IF(AND($A143<>0,$A143<>\"\"),LOOKUP($A143,Load_Switch_NFET[PARTNUMBER],Load_Switch_NFET[1KPRICE]),\"\")","v":""},null,"Invalid Part"]
[{"$f":"IF(CH=\"N\",NLogic!B144,\"\")","v":0},{"$f":"IF(OR($A144=0,$A144=\"\"),\"0\",IF(LOOKUP($A144,Load_Switch_NFET[PARTNUMBER],Load_Switch_NFET[RDSON18])=\"(NULL)\",\"0\",\"1\"))","v":"0"},{"$f":"IF(OR($A144=0,$A144=\"\"),\"0\",IF(LOOKUP($A144,Load_Switch_NFET[PARTNUMBER],Load_Switch_NFET[RDSON25])=\"(NULL)\",\"0\",\"1\"))","v":"0"},{"$f":"IF(OR($A144=0,$A144=\"\"),\"0\",IF(LOOKUP($A144,Load_Switch_NFET[PARTNUMBER],Load_Switch_NFET[RDSON3])=\"(NULL)\",\"0\",\"1\"))","v":"0"},{"$f":"IF(OR($A144=0,$A144=\"\"),\"0\",IF(LOOKUP($A144,Load_Switch_NFET[PARTNUMBER],Load_Switch_NFET[RDSON45])=\"(NULL)\",\"0\",\"1\"))","v":"0"},{"$f":"IF(OR($A144=0,$A144=\"\"),\"0\",IF(LOOKUP($A144,Load_Switch_NFET[PARTNUMBER],Load_Switch_NFET[RDSON6])=\"(NULL)\",\"0\",\"1\"))","v":"0"},{"$f":"IF(OR($A144=0,$A144=\"\"),\"0\",IF(LOOKUP($A144,Load_Switch_NFET[PARTNUMBER],Load_Switch_NFET[RDSON8])=\"(NULL)\",\"0\",\"1\"))","v":"0"},{"$f":"IF(OR($A144=0,$A144=\"\"),\"0\",IF(LOOKUP($A144,Load_Switch_NFET[PARTNUMBER],Load_Switch_NFET[RDSON10])=\"(NULL)\",\"0\",\"1\"))","v":"0"},false,false,false,false,false,false,false,false,false,false,false,false,false,false,false,{"$f":"IF(W144,LOOKUP(A144,Load_Switch_NFET[PARTNUMBER],Load_Switch_NFET[RDSON10])*1000,IF(V144,LOOKUP(A144,Load_Switch_NFET[PARTNUMBER],Load_Switch_NFET[RDSON8])*1000,IF(U144,LOOKUP(A144,Load_Switch_NFET[PARTNUMBER],Load_Switch_NFET[RDSON6])*1000,IF(T144,LOOKUP(A144,Load_Switch_NFET[PARTNUMBER],Load_Switch_NFET[RDSON45])*1000,IF(S144,LOOKUP(A144,Load_Switch_NFET[PARTNUMBER],Load_Switch_NFET[RDSON3])*1000,IF(R144,LOOKUP(A144,Load_Switch_NFET[PARTNUMBER],Load_Switch_NFET[RDSON25])*1000,IF(Q144,LOOKUP(A144,Load_Switch_NFET[PARTNUMBER],Load_Switch_NFET[RDSON18])*1000,\"\")))))))","v":""},null,null,null,"#N/A",null,null,null,null,null,null,null,null,null,null,"",{"$f":"IF(AND($A144<>0,$A144<>\"\"),LOOKUP($A144,Load_Switch_NFET[PARTNUMBER],Load_Switch_NFET[1KPRICE]),\"\")","v":""},null,"Invalid Part"]
[{"$f":"IF(CH=\"P\",PLogic!B3,\"\")","v":""}]
[{"$f":"IF(CH=\"P\",PLogic!B4,\"\")","v":""}]
[{"$f":"IF(CH=\"P\",PLogic!B5,\"\")","v":""}]
[{"$f":"IF(CH=\"P\",PLogic!B6,\"\")","v":""}]
[{"$f":"IF(CH=\"P\",PLogic!B7,\"\")","v":""}]
[{"$f":"IF(CH=\"P\",PLogic!B8,\"\")","v":""}]
[{"$f":"IF(CH=\"P\",PLogic!B9,\"\")","v":""}]
[{"$f":"IF(CH=\"P\",PLogic!B10,\"\")","v":""}]
[{"$f":"IF(CH=\"P\",PLogic!B11,\"\")","v":""}]
[{"$f":"IF(CH=\"P\",PLogic!B12,\"\")","v":""}]
[{"$f":"IF(CH=\"P\",PLogic!B13,\"\")","v":""}]
[{"$f":"IF(CH=\"P\",PLogic!B14,\"\")","v":""}]
[{"$f":"IF(CH=\"P\",PLogic!B15,\"\")","v":""}]
[{"$f":"IF(CH=\"P\",PLogic!B16,\"\")","v":""}]
[{"$f":"IF(CH=\"P\",PLogic!B17,\"\")","v":""}]
[{"$f":"IF(CH=\"P\",PLogic!B18,\"\")","v":""}]
[{"$f":"IF(CH=\"P\",PLogic!B19,\"\")","v":""}]
[{"$f":"IF(CH=\"P\",PLogic!B20,\"\")","v":""}]
[{"$f":"IF(CH=\"P\",PLogic!B21,\"\")","v":""}]
[{"$f":"IF(CH=\"P\",PLogic!B22,\"\")","v":""}]
[{"$f":"IF(CH=\"P\",PLogic!B23,\"\")","v":""}]
[{"$f":"IF(CH=\"P\",PLogic!B24,\"\")","v":""}]
[{"$f":"IF(CH=\"P\",PLogic!B25,\"\")","v":""}]

{"sheet":"Ploss_All_PFETs","index":9,"n_rows":26,"n_cols":41,"rows_kept":26,"cut":false,"hidden":true,"merged":[]}
["PN","RDS_1V5","RDS_1V8","RDS_2V5","RDS_4V5","RDS_8V","1V5","1V8","2V5","4V5","8V","OR","VGS_1V5","VGS_1V8","VGS_2V5","VGS_4V5","VGS_8V","RDSON","RDSONTJ","VTHMAX","VTHMIN","VGSMIN","RGMAX","QGTYP","QGS","QGD","COSS","VGTH","PCOND","PTOT","1KPRICE","PACKAGE","RESULTS",null,null,"RDSON18 1.8V<=VGS<2.5V","RDSON25 2.5V<=VGS<3V"," 4V<=VGS<5.5VRDS45","RDSON8 7V<=VGS<9V","RDSON10 9V<=VGS<=16V","RDSON"]
[{"$f":"IF(CH=\"P\",PLogic!B2,\"\")","v":""},{"$f":"IF(OR($A2=0,$A2=\"\"),\"0\",IF(LOOKUP($A2,Load_Switch_PFET[PARTNUMBER],Load_Switch_PFET[RDSON15])=\"(NULL)\",\"0\",\"1\"))","v":"0"},{"$f":"IF(OR($A2=0,$A2=\"\"),\"0\",IF(LOOKUP($A2,Load_Switch_PFET[PARTNUMBER],Load_Switch_PFET[RDSON18])=\"(NULL)\",\"0\",\"1\"))","v":"0"},{"$f":"IF(OR($A2=0,$A2=\"\"),\"0\",IF(LOOKUP($A2,Load_Switch_PFET[PARTNUMBER],Load_Switch_PFET[RDSON25])=\"(NULL)\",\"0\",\"1\"))","v":"0"},{"$f":"IF(OR($A2=0,$A2=\"\"),\"0\",IF(LOOKUP($A2,Load_Switch_PFET[PARTNUMBER],Load_Switch_PFET[RDSON45])=\"(NULL)\",\"0\",\"1\"))","v":"0"},{"$f":"IF(OR($A2=0,$A2=\"\"),\"0\",IF(LOOKUP($A2,Load_Switch_PFET[PARTNUMBER],Load_Switch_PFET[RDSON8])=\"(NULL)\",\"0\",\"1\"))","v":"0"},{"$f":"AND(AJ$2,B2=\"1\")","v":false},{"$f":"AND(AK$2,C2=\"1\")","v":false},{"$f":"AND(AL$2,D2=\"1\")","v":false},{"$f":"AND(AM$2,E2=\"1\")","v":false},{"$f":"AND(AN$2,F2=\"1\")","v":false},{"$f":"OR(PFET_PLOSS[[#This Row],[1V5]:[8V]])","v":false},{"$f":"IF($L2,G2,IF((B2=\"1\"),OR($AI$2,$AI$9)))","v":false},{"$f":"IF($L2,H2,IF((C2=\"1\"),OR($AI$2,$AI$9)))","v":false},{"$f":"IF($L2,I2,IF((D2=\"1\"),OR(AI$2,AI$9,AL$2,J2)))","v":false},{"$f":"IF($L2,J2,IF((E2=\"1\"),OR(AJ$2,AJ$9,AM$2,K2)))","v":false},{"$f":"IF($L2,K2,IF((F2=\"1\"),OR(AK$2,AK$9,AN$2,L2)))","v":false},{"$f":"IF(Q2,LOOKUP(A2,Load_Switch_PFET[PARTNUMBER],Load_Switch_PFET[RDSON8])*1000,IF(P2,LOOKUP(A2,Load_Switch_PFET[PARTNUMBER],Load_Switch_PFET[RDSON45])*1000,IF(O2,LOOKUP(A2,Load_Switch_PFET[PARTNUMBER],Load_Switch_PFET[RDSON25])*1000,IF(N2,LOOKUP(A2,Load_Switch_PFET[PARTNUMBER],Load_Switch_PFET[RDSON18])*1000,IF(M2,LOOKUP(A2,Load_Switch_PFET[PARTNUMBER],Load_Switch_PFET[RDSON15])*1000,\"\")))))","v":""},{"$f":"IF(AND(A2<>0,A2<>\"\"),R2*(1+(Tj-25)*(LOOKUP(A2,Load_Switch_PFET[PARTNUMBER],Load_Switch_PFET[RDSDELTA])/((LOOKUP(A2,Load_Switch_PFET[PARTNUMBER],Load_Switch_PFET[TJMAX])-25)))),\"\")","v":""},{"$f":"IF(AND(A2<>0,A2<>\"\"),LOOKUP(A2,Load_Switch_PFET[PARTNUMBER],Load_Switch_PFET[VTHMAX]),\"\")","v":""},{"$f":"IF(AND(A2<>0,A2<>\"\"),LOOKUP(A2,Load_Switch_PFET[PARTNUMBER],Load_Switch_PFET[VTHMIN]),\"\")","v":""},null,{"$f":"IF(AND($A2<>0,$A2<>\"\"),LOOKUP($A2,Load_Switch_PFET[PARTNUMBER],Load_Switch_PFET[RGIMAX]),\"\")","v":""},{"$f":"IF(AND($A2<>0,$A2<>\"\"),LOOKUP($A2,Load_Switch_PFET[PARTNUMBER],Load_Switch_PFET[QGTYP]),\"\")","v":""},{"$f":"IF(AND($A2<>0,$A2<>\"\"),LOOKUP($A2,Load_Switch_PFET[PARTNUMBER],Load_Switch_PFET[QGS]),\"\")","v":""},{"$f":"IF(AND($A2<>0,$A2<>\"\"),LOOKUP($A2,Load_Switch_PFET[PARTNUMBER],Load_Switch_PFET[QGD]),\"\")","v":""},{"$f":"IF(AND($A2<>0,$A2<>\"\"),LOOKUP($A2,Load_Switch_PFET[PARTNUMBER],Load_Switch_PFET[COSS_AT_VDSSPEC]),\"\")","v":""},{"$f":"IF(AND(A2<>0,A2<>\"\"),(T2+U2)/2,\"\")","v":""},{"$f":"IF(AND($A2<>0,$A2<>\"\"),Io^2*S2*m,\"\")","v":""},{"$f":"IF(AND($A2<>0,$A2<>\"\"),ROUND(AC2,3),\"\")","v":""},{"$f":"IF(AND($A2<>0,$A2<>\"\"),LOOKUP($A2,Load_Switch_PFET[PARTNUMBER],Load_Switch_PFET[1KPRICE]),\"\")","v":""},{"$f":"IF(AND($A2<>0,$A2<>\"\"),LOOKUP(A2,Load_Switch_PFET[PARTNUMBER],Load_Switch_PFET[TI_EQ_PACKAGE]),\"\")","v":""},null,null,{"$f":"AND('NFET Data'!L2>1.1*Vi,'NFET Data'!M2>1.1*(VGS_DR))","v":false},{"$f":"((VGS_DR)>=1.5)","v":true},{"$f":"((VGS_DR)>=1.7)","v":true},{"$f":"((VGS_DR)>=2.2)","v":true},{"$f":"((VGS_DR)>=4)","v":true},{"$f":"((VGS_DR)>=7)","v":true}]
[{"$f":"IF(CH=\"P\",PLogic!B3,\"\")","v":""},{"$f":"IF(OR($A3=0,$A3=\"\"),\"0\",IF(LOOKUP($A3,Load_Switch_PFET[PARTNUMBER],Load_Switch_PFET[RDSON15])=\"(NULL)\",\"0\",\"1\"))","v":"0"},{"$f":"IF(OR($A3=0,$A3=\"\"),\"0\",IF(LOOKUP($A3,Load_Switch_PFET[PARTNUMBER],Load_Switch_PFET[RDSON18])=\"(NULL)\",\"0\",\"1\"))","v":"0"},{"$f":"IF(OR($A3=0,$A3=\"\"),\"0\",IF(LOOKUP($A3,Load_Switch_PFET[PARTNUMBER],Load_Switch_PFET[RDSON25])=\"(NULL)\",\"0\",\"1\"))","v":"0"},{"$f":"IF(OR($A3=0,$A3=\"\"),\"0\",IF(LOOKUP($A3,Load_Switch_PFET[PARTNUMBER],Load_Switch_PFET[RDSON45])=\"(NULL)\",\"0\",\"1\"))","v":"0"},{"$f":"IF(OR($A3=0,$A3=\"\"),\"0\",IF(LOOKUP($A3,Load_Switch_PFET[PARTNUMBER],Load_Switch_PFET[RDSON8])=\"(NULL)\",\"0\",\"1\"))","v":"0"},false,false,false,false,false,{"$f":"OR(PFET_PLOSS[[#This Row],[1V5]:[8V]])","v":false},false,false,false,false,false,{"$f":"IF(Q3,LOOKUP(A3,Load_Switch_PFET[PARTNUMBER],Load_Switch_PFET[RDSON8])*1000,IF(P3,LOOKUP(A3,Load_Switch_PFET[PARTNUMBER],Load_Switch_PFET[RDSON45])*1000,IF(O3,LOOKUP(A3,Load_Switch_PFET[PARTNUMBER],Load_Switch_PFET[RDSON25])*1000,IF(N3,LOOKUP(A3,Load_Switch_PFET[PARTNUMBER],Load_Switch_PFET[RDSON18])*1000,IF(M3,LOOKUP(A3,Load_Switch_PFET[PARTNUMBER],Load_Switch_PFET[RDSON15])*1000,\"\")))))","v":""},{"$f":"IF(AND(A3<>0,A3<>\"\"),R3*(1+(Tj-25)*(LOOKUP(A3,Load_Switch_PFET[PARTNUMBER],Load_Switch_PFET[RDSDELTA])/((LOOKUP(A3,Load_Switch_PFET[PARTNUMBER],Load_Switch_PFET[TJMAX])-25)))),\"\")","v":""},{"$f":"IF(AND(A3<>0,A3<>\"\"),LOOKUP(A3,Load_Switch_PFET[PARTNUMBER],Load_Switch_PFET[VTHMAX]),\"\")","v":""},{"$f":"IF(AND(A3<>0,A3<>\"\"),LOOKUP(A3,Load_Switch_PFET[PARTNUMBER],Load_Switch_PFET[VTHMIN]),\"\")","v":""},{"$f":"IF(AND(A3<>0,A3<>\"\"),IF(B3=\"1\",-1.5,IF(C3=\"1\",-1.8,IF(D3=\"1\",-2.5,IF(E3=\"1\",-4.5,IF(F3=\"1\",-8))))),\"#N/A\")","v":"#N/A"},{"$f":"IF(AND($A3<>0,$A3<>\"\"),LOOKUP($A3,Load_Switch_PFET[PARTNUMBER],Load_Switch_PFET[RGIMAX]),\"\")","v":""},{"$f":"IF(AND($A3<>0,$A3<>\"\"),LOOKUP($A3,Load_Switch_PFET[PARTNUMBER],Load_Switch_PFET[QGTYP]),\"\")","v":""},{"$f":"IF(AND($A3<>0,$A3<>\"\"),LOOKUP($A3,Load_Switch_PFET[PARTNUMBER],Load_Switch_PFET[QGS]),\"\")","v":""},{"$f":"IF(AND($A3<>0,$A3<>\"\"),LOOKUP($A3,Load_Switch_PFET[PARTNUMBER],Load_Switch_PFET[QGD]),\"\")","v":""},{"$f":"IF(AND($A3<>0,$A3<>\"\"),LOOKUP($A3,Load_Switch_PFET[PARTNUMBER],Load_Switch_PFET[COSS_AT_VDSSPEC]),\"\")","v":""},{"$f":"IF(AND(A3<>0,A3<>\"\"),(T3+U3)/2,\"\")","v":""},"","",{"$f":"IF(AND($A3<>0,$A3<>\"\"),LOOKUP($A3,Load_Switch_PFET[PARTNUMBER],Load_Switch_PFET[1KPRICE]),\"\")","v":""},{"$f":"IF(AND($A3<>0,$A3<>\"\"),LOOKUP(A3,Load_Switch_PFET[PARTNUMBER],Load_Switch_PFET[TI_EQ_PACKAGE]),\"\")","v":""},{"$f":"IF(AND($A3<>0,$A3<>\"\"),CONCATENATE(A3,\", \",AF3,\", \",AD3,\"W, $\",AE3),\"Invalid Part\")","v":"Invalid Part"},null,null,null,null,null,null,null,{"$f":"IF(AK5,LOOKUP(Part_Number,Load_Switch_NFET[PARTNUMBER],Load_Switch_NFET[RDSON25])*1000,IF(#REF!,LOOKUP(Part_Number,Load_Switch_NFET[PARTNUMBER],Load_Switch_NFET[RDSON3])*1000,IF(AM5,LOOKUP(Part_Number,Load_Switch_NFET[PARTNUMBER],Load_Switch_NFET[RDSON8])*1000,IF(#REF!,LOOKUP(Part_Number,Load_Switch_NFET[PARTNUMBER],Load_Switch_NFET[RDSON6])*1000,IF(AL5,LOOKUP(Part_Number,Load_Switch_NFET[PARTNUMBER],Load_Switch_NFET[RDSON45])*1000,IF(AN5,LOOKUP(Part_Number,Load_Switch_NFET[PARTNUMBER],Load_Switch_NFET[RDSON10])*1000,\"\"))))))","v":{"$error":"#REF!"}}]
[{"$f":"IF(CH=\"P\",PLogic!B4,\"\")","v":""},{"$f":"IF(OR($A4=0,$A4=\"\"),\"0\",IF(LOOKUP($A4,Load_Switch_PFET[PARTNUMBER],Load_Switch_PFET[RDSON15])=\"(NULL)\",\"0\",\"1\"))","v":"0"},{"$f":"IF(OR($A4=0,$A4=\"\"),\"0\",IF(LOOKUP($A4,Load_Switch_PFET[PARTNUMBER],Load_Switch_PFET[RDSON18])=\"(NULL)\",\"0\",\"1\"))","v":"0"},{"$f":"IF(OR($A4=0,$A4=\"\"),\"0\",IF(LOOKUP($A4,Load_Switch_PFET[PARTNUMBER],Load_Switch_PFET[RDSON25])=\"(NULL)\",\"0\",\"1\"))","v":"0"},{"$f":"IF(OR($A4=0,$A4=\"\"),\"0\",IF(LOOKUP($A4,Load_Switch_PFET[PARTNUMBER],Load_Switch_PFET[RDSON45])=\"(NULL)\",\"0\",\"1\"))","v":"0"},{"$f":"IF(OR($A4=0,$A4=\"\"),\"0\",IF(LOOKUP($A4,Load_Switch_PFET[PARTNUMBER],Load_Switch_PFET[RDSON8])=\"(NULL)\",\"0\",\"1\"))","v":"0"},false,false,false,false,false,{"$f":"OR(PFET_PLOSS[[#This Row],[1V5]:[8V]])","v":false},false,false,false,false,false,{"$f":"IF(Q4,LOOKUP(A4,Load_Switch_PFET[PARTNUMBER],Load_Switch_PFET[RDSON8])*1000,IF(P4,LOOKUP(A4,Load_Switch_PFET[PARTNUMBER],Load_Switch_PFET[RDSON45])*1000,IF(O4,LOOKUP(A4,Load_Switch_PFET[PARTNUMBER],Load_Switch_PFET[RDSON25])*1000,IF(N4,LOOKUP(A4,Load_Switch_PFET[PARTNUMBER],Load_Switch_PFET[RDSON18])*1000,IF(M4,LOOKUP(A4,Load_Switch_PFET[PARTNUMBER],Load_Switch_PFET[RDSON15])*1000,\"\")))))","v":""},{"$f":"IF(AND(A4<>0,A4<>\"\"),R4*(1+(Tj-25)*(LOOKUP(A4,Load_Switch_PFET[PARTNUMBER],Load_Switch_PFET[RDSDELTA])/((LOOKUP(A4,Load_Switch_PFET[PARTNUMBER],Load_Switch_PFET[TJMAX])-25)))),\"\")","v":""},{"$f":"IF(AND(A4<>0,A4<>\"\"),LOOKUP(A4,Load_Switch_PFET[PARTNUMBER],Load_Switch_PFET[VTHMAX]),\"\")","v":""},{"$f":"IF(AND(A4<>0,A4<>\"\"),LOOKUP(A4,Load_Switch_PFET[PARTNUMBER],Load_Switch_PFET[VTHMIN]),\"\")","v":""},"#N/A",{"$f":"IF(AND($A4<>0,$A4<>\"\"),LOOKUP($A4,Load_Switch_PFET[PARTNUMBER],Load_Switch_PFET[RGIMAX]),\"\")","v":""},{"$f":"IF(AND($A4<>0,$A4<>\"\"),LOOKUP($A4,Load_Switch_PFET[PARTNUMBER],Load_Switch_PFET[QGTYP]),\"\")","v":""},{"$f":"IF(AND($A4<>0,$A4<>\"\"),LOOKUP($A4,Load_Switch_PFET[PARTNUMBER],Load_Switch_PFET[QGS]),\"\")","v":""},{"$f":"IF(AND($A4<>0,$A4<>\"\"),LOOKUP($A4,Load_Switch_PFET[PARTNUMBER],Load_Switch_PFET[QGD]),\"\")","v":""},{"$f":"IF(AND($A4<>0,$A4<>\"\"),LOOKUP($A4,Load_Switch_PFET[PARTNUMBER],Load_Switch_PFET[COSS_AT_VDSSPEC]),\"\")","v":""},{"$f":"IF(AND(A4<>0,A4<>\"\"),(T4+U4)/2,\"\")","v":""},"","",{"$f":"IF(AND($A4<>0,$A4<>\"\"),LOOKUP($A4,Load_Switch_PFET[PARTNUMBER],Load_Switch_PFET[1KPRICE]),\"\")","v":""},{"$f":"IF(AND($A4<>0,$A4<>\"\"),LOOKUP(A4,Load_Switch_PFET[PARTNUMBER],Load_Switch_PFET[TI_EQ_PACKAGE]),\"\")","v":""},"Invalid Part"]
[{"$f":"IF(CH=\"P\",PLogic!B5,\"\")","v":""},{"$f":"IF(OR($A5=0,$A5=\"\"),\"0\",IF(LOOKUP($A5,Load_Switch_PFET[PARTNUMBER],Load_Switch_PFET[RDSON15])=\"(NULL)\",\"0\",\"1\"))","v":"0"},{"$f":"IF(OR($A5=0,$A5=\"\"),\"0\",IF(LOOKUP($A5,Load_Switch_PFET[PARTNUMBER],Load_Switch_PFET[RDSON18])=\"(NULL)\",\"0\",\"1\"))","v":"0"},{"$f":"IF(OR($A5=0,$A5=\"\"),\"0\",IF(LOOKUP($A5,Load_Switch_PFET[PARTNUMBER],Load_Switch_PFET[RDSON25])=\"(NULL)\",\"0\",\"1\"))","v":"0"},{"$f":"IF(OR($A5=0,$A5=\"\"),\"0\",IF(LOOKUP($A5,Load_Switch_PFET[PARTNUMBER],Load_Switch_PFET[RDSON45])=\"(NULL)\",\"0\",\"1\"))","v":"0"},{"$f":"IF(OR($A5=0,$A5=\"\"),\"0\",IF(LOOKUP($A5,Load_Switch_PFET[PARTNUMBER],Load_Switch_PFET[RDSON8])=\"(NULL)\",\"0\",\"1\"))","v":"0"},false,false,false,false,false,{"$f":"OR(PFET_PLOSS[[#This Row],[1V5]:[8V]])","v":false},false,false,false,false,false,{"$f":"IF(Q5,LOOKUP(A5,Load_Switch_PFET[PARTNUMBER],Load_Switch_PFET[RDSON8])*1000,IF(P5,LOOKUP(A5,Load_Switch_PFET[PARTNUMBER],Load_Switch_PFET[RDSON45])*1000,IF(O5,LOOKUP(A5,Load_Switch_PFET[PARTNUMBER],Load_Switch_PFET[RDSON25])*1000,IF(N5,LOOKUP(A5,Load_Switch_PFET[PARTNUMBER],Load_Switch_PFET[RDSON18])*1000,IF(M5,LOOKUP(A5,Load_Switch_PFET[PARTNUMBER],Load_Switch_PFET[RDSON15])*1000,\"\")))))","v":""},{"$f":"IF(AND(A5<>0,A5<>\"\"),R5*(1+(Tj-25)*(LOOKUP(A5,Load_Switch_PFET[PARTNUMBER],Load_Switch_PFET[RDSDELTA])/((LOOKUP(A5,Load_Switch_PFET[PARTNUMBER],Load_Switch_PFET[TJMAX])-25)))),\"\")","v":""},{"$f":"IF(AND(A5<>0,A5<>\"\"),LOOKUP(A5,Load_Switch_PFET[PARTNUMBER],Load_Switch_PFET[VTHMAX]),\"\")","v":""},{"$f":"IF(AND(A5<>0,A5<>\"\"),LOOKUP(A5,Load_Switch_PFET[PARTNUMBER],Load_Switch_PFET[VTHMIN]),\"\")","v":""},"#N/A",{"$f":"IF(AND($A5<>0,$A5<>\"\"),LOOKUP($A5,Load_Switch_PFET[PARTNUMBER],Load_Switch_PFET[RGIMAX]),\"\")","v":""},{"$f":"IF(AND($A5<>0,$A5<>\"\"),LOOKUP($A5,Load_Switch_PFET[PARTNUMBER],Load_Switch_PFET[QGTYP]),\"\")","v":""},{"$f":"IF(AND($A5<>0,$A5<>\"\"),LOOKUP($A5,Load_Switch_PFET[PARTNUMBER],Load_Switch_PFET[QGS]),\"\")","v":""},{"$f":"IF(AND($A5<>0,$A5<>\"\"),LOOKUP($A5,Load_Switch_PFET[PARTNUMBER],Load_Switch_PFET[QGD]),\"\")","v":""},{"$f":"IF(AND($A5<>0,$A5<>\"\"),LOOKUP($A5,Load_Switch_PFET[PARTNUMBER],Load_Switch_PFET[COSS_AT_VDSSPEC]),\"\")","v":""},"","","",{"$f":"IF(AND($A5<>0,$A5<>\"\"),LOOKUP($A5,Load_Switch_PFET[PARTNUMBER],Load_Switch_PFET[1KPRICE]),\"\")","v":""},{"$f":"IF(AND($A5<>0,$A5<>\"\"),LOOKUP(A5,Load_Switch_PFET[PARTNUMBER],Load_Switch_PFET[TI_EQ_PACKAGE]),\"\")","v":""},"Invalid Part"]
[{"$f":"IF(CH=\"P\",PLogic!B6,\"\")","v":""},{"$f":"IF(OR($A6=0,$A6=\"\"),\"0\",IF(LOOKUP($A6,Load_Switch_PFET[PARTNUMBER],Load_Switch_PFET[RDSON15])=\"(NULL)\",\"0\",\"1\"))","v":"0"},{"$f":"IF(OR($A6=0,$A6=\"\"),\"0\",IF(LOOKUP($A6,Load_Switch_PFET[PARTNUMBER],Load_Switch_PFET[RDSON18])=\"(NULL)\",\"0\",\"1\"))","v":"0"},{"$f":"IF(OR($A6=0,$A6=\"\"),\"0\",IF(LOOKUP($A6,Load_Switch_PFET[PARTNUMBER],Load_Switch_PFET[RDSON25])=\"(NULL)\",\"0\",\"1\"))","v":"0"},{"$f":"IF(OR($A6=0,$A6=\"\"),\"0\",IF(LOOKUP($A6,Load_Switch_PFET[PARTNUMBER],Load_Switch_PFET[RDSON45])=\"(NULL)\",\"0\",\"1\"))","v":"0"},{"$f":"IF(OR($A6=0,$A6=\"\"),\"0\",IF(LOOKUP($A6,Load_Switch_PFET[PARTNUMBER],Load_Switch_PFET[RDSON8])=\"(NULL)\",\"0\",\"1\"))","v":"0"},false,false,false,false,false,{"$f":"OR(PFET_PLOSS[[#This Row],[1V5]:[8V]])","v":false},false,false,false,false,false,{"$f":"IF(Q6,LOOKUP(A6,Load_Switch_PFET[PARTNUMBER],Load_Switch_PFET[RDSON8])*1000,IF(P6,LOOKUP(A6,Load_Switch_PFET[PARTNUMBER],Load_Switch_PFET[RDSON45])*1000,IF(O6,LOOKUP(A6,Load_Switch_PFET[PARTNUMBER],Load_Switch_PFET[RDSON25])*1000,IF(N6,LOOKUP(A6,Load_Switch_PFET[PARTNUMBER],Load_Switch_PFET[RDSON18])*1000,IF(M6,LOOKUP(A6,Load_Switch_PFET[PARTNUMBER],Load_Switch_PFET[RDSON15])*1000,\"\")))))","v":""},{"$f":"IF(AND(A6<>0,A6<>\"\"),R6*(1+(Tj-25)*(LOOKUP(A6,Load_Switch_PFET[PARTNUMBER],Load_Switch_PFET[RDSDELTA])/((LOOKUP(A6,Load_Switch_PFET[PARTNUMBER],Load_Switch_PFET[TJMAX])-25)))),\"\")","v":""},{"$f":"IF(AND(A6<>0,A6<>\"\"),LOOKUP(A6,Load_Switch_PFET[PARTNUMBER],Load_Switch_PFET[VTHMAX]),\"\")","v":""},{"$f":"IF(AND(A6<>0,A6<>\"\"),LOOKUP(A6,Load_Switch_PFET[PARTNUMBER],Load_Switch_PFET[VTHMIN]),\"\")","v":""},"#N/A",{"$f":"IF(AND($A6<>0,$A6<>\"\"),LOOKUP($A6,Load_Switch_PFET[PARTNUMBER],Load_Switch_PFET[RGIMAX]),\"\")","v":""},{"$f":"IF(AND($A6<>0,$A6<>\"\"),LOOKUP($A6,Load_Switch_PFET[PARTNUMBER],Load_Switch_PFET[QGTYP]),\"\")","v":""},{"$f":"IF(AND($A6<>0,$A6<>\"\"),LOOKUP($A6,Load_Switch_PFET[PARTNUMBER],Load_Switch_PFET[QGS]),\"\")","v":""},{"$f":"IF(AND($A6<>0,$A6<>\"\"),LOOKUP($A6,Load_Switch_PFET[PARTNUMBER],Load_Switch_PFET[QGD]),\"\")","v":""},{"$f":"IF(AND($A6<>0,$A6<>\"\"),LOOKUP($A6,Load_Switch_PFET[PARTNUMBER],Load_Switch_PFET[COSS_AT_VDSSPEC]),\"\")","v":""},"","","",{"$f":"IF(AND($A6<>0,$A6<>\"\"),LOOKUP($A6,Load_Switch_PFET[PARTNUMBER],Load_Switch_PFET[1KPRICE]),\"\")","v":""},{"$f":"IF(AND($A6<>0,$A6<>\"\"),LOOKUP(A6,Load_Switch_PFET[PARTNUMBER],Load_Switch_PFET[TI_EQ_PACKAGE]),\"\")","v":""},"Invalid Part"]
[{"$f":"IF(CH=\"P\",PLogic!B7,\"\")","v":""},{"$f":"IF(OR($A7=0,$A7=\"\"),\"0\",IF(LOOKUP($A7,Load_Switch_PFET[PARTNUMBER],Load_Switch_PFET[RDSON15])=\"(NULL)\",\"0\",\"1\"))","v":"0"},{"$f":"IF(OR($A7=0,$A7=\"\"),\"0\",IF(LOOKUP($A7,Load_Switch_PFET[PARTNUMBER],Load_Switch_PFET[RDSON18])=\"(NULL)\",\"0\",\"1\"))","v":"0"},{"$f":"IF(OR($A7=0,$A7=\"\"),\"0\",IF(LOOKUP($A7,Load_Switch_PFET[PARTNUMBER],Load_Switch_PFET[RDSON25])=\"(NULL)\",\"0\",\"1\"))","v":"0"},{"$f":"IF(OR($A7=0,$A7=\"\"),\"0\",IF(LOOKUP($A7,Load_Switch_PFET[PARTNUMBER],Load_Switch_PFET[RDSON45])=\"(NULL)\",\"0\",\"1\"))","v":"0"},{"$f":"IF(OR($A7=0,$A7=\"\"),\"0\",IF(LOOKUP($A7,Load_Switch_PFET[PARTNUMBER],Load_Switch_PFET[RDSON8])=\"(NULL)\",\"0\",\"1\"))","v":"0"},false,false,false,false,false,{"$f":"OR(PFET_PLOSS[[#This Row],[1V5]:[8V]])","v":false},false,false,false,false,false,{"$f":"IF(Q7,LOOKUP(A7,Load_Switch_PFET[PARTNUMBER],Load_Switch_PFET[RDSON8])*1000,IF(P7,LOOKUP(A7,Load_Switch_PFET[PARTNUMBER],Load_Switch_PFET[RDSON45])*1000,IF(O7,LOOKUP(A7,Load_Switch_PFET[PARTNUMBER],Load_Switch_PFET[RDSON25])*1000,IF(N7,LOOKUP(A7,Load_Switch_PFET[PARTNUMBER],Load_Switch_PFET[RDSON18])*1000,IF(M7,LOOKUP(A7,Load_Switch_PFET[PARTNUMBER],Load_Switch_PFET[RDSON15])*1000,\"\")))))","v":""},{"$f":"IF(AND(A7<>0,A7<>\"\"),R7*(1+(Tj-25)*(LOOKUP(A7,Load_Switch_PFET[PARTNUMBER],Load_Switch_PFET[RDSDELTA])/((LOOKUP(A7,Load_Switch_PFET[PARTNUMBER],Load_Switch_PFET[TJMAX])-25)))),\"\")","v":""},{"$f":"IF(AND(A7<>0,A7<>\"\"),LOOKUP(A7,Load_Switch_PFET[PARTNUMBER],Load_Switch_PFET[VTHMAX]),\"\")","v":""},{"$f":"IF(AND(A7<>0,A7<>\"\"),LOOKUP(A7,Load_Switch_PFET[PARTNUMBER],Load_Switch_PFET[VTHMIN]),\"\")","v":""},"#N/A",{"$f":"IF(AND($A7<>0,$A7<>\"\"),LOOKUP($A7,Load_Switch_PFET[PARTNUMBER],Load_Switch_PFET[RGIMAX]),\"\")","v":""},{"$f":"IF(AND($A7<>0,$A7<>\"\"),LOOKUP($A7,Load_Switch_PFET[PARTNUMBER],Load_Switch_PFET[QGTYP]),\"\")","v":""},{"$f":"IF(AND($A7<>0,$A7<>\"\"),LOOKUP($A7,Load_Switch_PFET[PARTNUMBER],Load_Switch_PFET[QGS]),\"\")","v":""},{"$f":"IF(AND($A7<>0,$A7<>\"\"),LOOKUP($A7,Load_Switch_PFET[PARTNUMBER],Load_Switch_PFET[QGD]),\"\")","v":""},{"$f":"IF(AND($A7<>0,$A7<>\"\"),LOOKUP($A7,Load_Switch_PFET[PARTNUMBER],Load_Switch_PFET[COSS_AT_VDSSPEC]),\"\")","v":""},"","","",{"$f":"IF(AND($A7<>0,$A7<>\"\"),LOOKUP($A7,Load_Switch_PFET[PARTNUMBER],Load_Switch_PFET[1KPRICE]),\"\")","v":""},{"$f":"IF(AND($A7<>0,$A7<>\"\"),LOOKUP(A7,Load_Switch_PFET[PARTNUMBER],Load_Switch_PFET[TI_EQ_PACKAGE]),\"\")","v":""},"Invalid Part"]
[{"$f":"IF(CH=\"P\",PLogic!B8,\"\")","v":""},{"$f":"IF(OR($A8=0,$A8=\"\"),\"0\",IF(LOOKUP($A8,Load_Switch_PFET[PARTNUMBER],Load_Switch_PFET[RDSON15])=\"(NULL)\",\"0\",\"1\"))","v":"0"},{"$f":"IF(OR($A8=0,$A8=\"\"),\"0\",IF(LOOKUP($A8,Load_Switch_PFET[PARTNUMBER],Load_Switch_PFET[RDSON18])=\"(NULL)\",\"0\",\"1\"))","v":"0"},{"$f":"IF(OR($A8=0,$A8=\"\"),\"0\",IF(LOOKUP($A8,Load_Switch_PFET[PARTNUMBER],Load_Switch_PFET[RDSON25])=\"(NULL)\",\"0\",\"1\"))","v":"0"},{"$f":"IF(OR($A8=0,$A8=\"\"),\"0\",IF(LOOKUP($A8,Load_Switch_PFET[PARTNUMBER],Load_Switch_PFET[RDSON45])=\"(NULL)\",\"0\",\"1\"))","v":"0"},{"$f":"IF(OR($A8=0,$A8=\"\"),\"0\",IF(LOOKUP($A8,Load_Switch_PFET[PARTNUMBER],Load_Switch_PFET[RDSON8])=\"(NULL)\",\"0\",\"1\"))","v":"0"},false,false,false,false,false,{"$f":"OR(PFET_PLOSS[[#This Row],[1V5]:[8V]])","v":false},false,false,false,false,false,{"$f":"IF(Q8,LOOKUP(A8,Load_Switch_PFET[PARTNUMBER],Load_Switch_PFET[RDSON8])*1000,IF(P8,LOOKUP(A8,Load_Switch_PFET[PARTNUMBER],Load_Switch_PFET[RDSON45])*1000,IF(O8,LOOKUP(A8,Load_Switch_PFET[PARTNUMBER],Load_Switch_PFET[RDSON25])*1000,IF(N8,LOOKUP(A8,Load_Switch_PFET[PARTNUMBER],Load_Switch_PFET[RDSON18])*1000,IF(M8,LOOKUP(A8,Load_Switch_PFET[PARTNUMBER],Load_Switch_PFET[RDSON15])*1000,\"\")))))","v":""},{"$f":"IF(AND(A8<>0,A8<>\"\"),R8*(1+(Tj-25)*(LOOKUP(A8,Load_Switch_PFET[PARTNUMBER],Load_Switch_PFET[RDSDELTA])/((LOOKUP(A8,Load_Switch_PFET[PARTNUMBER],Load_Switch_PFET[TJMAX])-25)))),\"\")","v":""},{"$f":"IF(AND(A8<>0,A8<>\"\"),LOOKUP(A8,Load_Switch_PFET[PARTNUMBER],Load_Switch_PFET[VTHMAX]),\"\")","v":""},{"$f":"IF(AND(A8<>0,A8<>\"\"),LOOKUP(A8,Load_Switch_PFET[PARTNUMBER],Load_Switch_PFET[VTHMIN]),\"\")","v":""},"#N/A",{"$f":"IF(AND($A8<>0,$A8<>\"\"),LOOKUP($A8,Load_Switch_PFET[PARTNUMBER],Load_Switch_PFET[RGIMAX]),\"\")","v":""},{"$f":"IF(AND($A8<>0,$A8<>\"\"),LOOKUP($A8,Load_Switch_PFET[PARTNUMBER],Load_Switch_PFET[QGTYP]),\"\")","v":""},{"$f":"IF(AND($A8<>0,$A8<>\"\"),LOOKUP($A8,Load_Switch_PFET[PARTNUMBER],Load_Switch_PFET[QGS]),\"\")","v":""},{"$f":"IF(AND($A8<>0,$A8<>\"\"),LOOKUP($A8,Load_Switch_PFET[PARTNUMBER],Load_Switch_PFET[QGD]),\"\")","v":""},{"$f":"IF(AND($A8<>0,$A8<>\"\"),LOOKUP($A8,Load_Switch_PFET[PARTNUMBER],Load_Switch_PFET[COSS_AT_VDSSPEC]),\"\")","v":""},"","","",{"$f":"IF(AND($A8<>0,$A8<>\"\"),LOOKUP($A8,Load_Switch_PFET[PARTNUMBER],Load_Switch_PFET[1KPRICE]),\"\")","v":""},{"$f":"IF(AND($A8<>0,$A8<>\"\"),LOOKUP(A8,Load_Switch_PFET[PARTNUMBER],Load_Switch_PFET[TI_EQ_PACKAGE]),\"\")","v":""},"Invalid Part"]
[{"$f":"IF(CH=\"P\",PLogic!B9,\"\")","v":""},{"$f":"IF(OR($A9=0,$A9=\"\"),\"0\",IF(LOOKUP($A9,Load_Switch_PFET[PARTNUMBER],Load_Switch_PFET[RDSON15])=\"(NULL)\",\"0\",\"1\"))","v":"0"},{"$f":"IF(OR($A9=0,$A9=\"\"),\"0\",IF(LOOKUP($A9,Load_Switch_PFET[PARTNUMBER],Load_Switch_PFET[RDSON18])=\"(NULL)\",\"0\",\"1\"))","v":"0"},{"$f":"IF(OR($A9=0,$A9=\"\"),\"0\",IF(LOOKUP($A9,Load_Switch_PFET[PARTNUMBER],Load_Switch_PFET[RDSON25])=\"(NULL)\",\"0\",\"1\"))","v":"0"},{"$f":"IF(OR($A9=0,$A9=\"\"),\"0\",IF(LOOKUP($A9,Load_Switch_PFET[PARTNUMBER],Load_Switch_PFET[RDSON45])=\"(NULL)\",\"0\",\"1\"))","v":"0"},{"$f":"IF(OR($A9=0,$A9=\"\"),\"0\",IF(LOOKUP($A9,Load_Switch_PFET[PARTNUMBER],Load_Switch_PFET[RDSON8])=\"(NULL)\",\"0\",\"1\"))","v":"0"},false,false,false,false,false,{"$f":"OR(PFET_PLOSS[[#This Row],[1V5]:[8V]])","v":false},false,false,false,false,false,{"$f":"IF(Q9,LOOKUP(A9,Load_Switch_PFET[PARTNUMBER],Load_Switch_PFET[RDSON8])*1000,IF(P9,LOOKUP(A9,Load_Switch_PFET[PARTNUMBER],Load_Switch_PFET[RDSON45])*1000,IF(O9,LOOKUP(A9,Load_Switch_PFET[PARTNUMBER],Load_Switch_PFET[RDSON25])*1000,IF(N9,LOOKUP(A9,Load_Switch_PFET[PARTNUMBER],Load_Switch_PFET[RDSON18])*1000,IF(M9,LOOKUP(A9,Load_Switch_PFET[PARTNUMBER],Load_Switch_PFET[RDSON15])*1000,\"\")))))","v":""},{"$f":"IF(AND(A9<>0,A9<>\"\"),R9*(1+(Tj-25)*(LOOKUP(A9,Load_Switch_PFET[PARTNUMBER],Load_Switch_PFET[RDSDELTA])/((LOOKUP(A9,Load_Switch_PFET[PARTNUMBER],Load_Switch_PFET[TJMAX])-25)))),\"\")","v":""},{"$f":"IF(AND(A9<>0,A9<>\"\"),LOOKUP(A9,Load_Switch_PFET[PARTNUMBER],Load_Switch_PFET[VTHMAX]),\"\")","v":""},{"$f":"IF(AND(A9<>0,A9<>\"\"),LOOKUP(A9,Load_Switch_PFET[PARTNUMBER],Load_Switch_PFET[VTHMIN]),\"\")","v":""},"#N/A",{"$f":"IF(AND($A9<>0,$A9<>\"\"),LOOKUP($A9,Load_Switch_PFET[PARTNUMBER],Load_Switch_PFET[RGIMAX]),\"\")","v":""},{"$f":"IF(AND($A9<>0,$A9<>\"\"),LOOKUP($A9,Load_Switch_PFET[PARTNUMBER],Load_Switch_PFET[QGTYP]),\"\")","v":""},{"$f":"IF(AND($A9<>0,$A9<>\"\"),LOOKUP($A9,Load_Switch_PFET[PARTNUMBER],Load_Switch_PFET[QGS]),\"\")","v":""},{"$f":"IF(AND($A9<>0,$A9<>\"\"),LOOKUP($A9,Load_Switch_PFET[PARTNUMBER],Load_Switch_PFET[QGD]),\"\")","v":""},{"$f":"IF(AND($A9<>0,$A9<>\"\"),LOOKUP($A9,Load_Switch_PFET[PARTNUMBER],Load_Switch_PFET[COSS_AT_VDSSPEC]),\"\")","v":""},"","","",{"$f":"IF(AND($A9<>0,$A9<>\"\"),LOOKUP($A9,Load_Switch_PFET[PARTNUMBER],Load_Switch_PFET[1KPRICE]),\"\")","v":""},{"$f":"IF(AND($A9<>0,$A9<>\"\"),LOOKUP(A9,Load_Switch_PFET[PARTNUMBER],Load_Switch_PFET[TI_EQ_PACKAGE]),\"\")","v":""},"Invalid Part"]
[{"$f":"IF(CH=\"P\",PLogic!B10,\"\")","v":""},{"$f":"IF(OR($A10=0,$A10=\"\"),\"0\",IF(LOOKUP($A10,Load_Switch_PFET[PARTNUMBER],Load_Switch_PFET[RDSON15])=\"(NULL)\",\"0\",\"1\"))","v":"0"},{"$f":"IF(OR($A10=0,$A10=\"\"),\"0\",IF(LOOKUP($A10,Load_Switch_PFET[PARTNUMBER],Load_Switch_PFET[RDSON18])=\"(NULL)\",\"0\",\"1\"))","v":"0"},{"$f":"IF(OR($A10=0,$A10=\"\"),\"0\",IF(LOOKUP($A10,Load_Switch_PFET[PARTNUMBER],Load_Switch_PFET[RDSON25])=\"(NULL)\",\"0\",\"1\"))","v":"0"},{"$f":"IF(OR($A10=0,$A10=\"\"),\"0\",IF(LOOKUP($A10,Load_Switch_PFET[PARTNUMBER],Load_Switch_PFET[RDSON45])=\"(NULL)\",\"0\",\"1\"))","v":"0"},{"$f":"IF(OR($A10=0,$A10=\"\"),\"0\",IF(LOOKUP($A10,Load_Switch_PFET[PARTNUMBER],Load_Switch_PFET[RDSON8])=\"(NULL)\",\"0\",\"1\"))","v":"0"},false,false,false,false,false,{"$f":"OR(PFET_PLOSS[[#This Row],[1V5]:[8V]])","v":false},false,false,false,false,false,{"$f":"IF(Q10,LOOKUP(A10,Load_Switch_PFET[PARTNUMBER],Load_Switch_PFET[RDSON8])*1000,IF(P10,LOOKUP(A10,Load_Switch_PFET[PARTNUMBER],Load_Switch_PFET[RDSON45])*1000,IF(O10,LOOKUP(A10,Load_Switch_PFET[PARTNUMBER],Load_Switch_PFET[RDSON25])*1000,IF(N10,LOOKUP(A10,Load_Switch_PFET[PARTNUMBER],Load_Switch_PFET[RDSON18])*1000,IF(M10,LOOKUP(A10,Load_Switch_PFET[PARTNUMBER],Load_Switch_PFET[RDSON15])*1000,\"\")))))","v":""},{"$f":"IF(AND(A10<>0,A10<>\"\"),R10*(1+(Tj-25)*(LOOKUP(A10,Load_Switch_PFET[PARTNUMBER],Load_Switch_PFET[RDSDELTA])/((LOOKUP(A10,Load_Switch_PFET[PARTNUMBER],Load_Switch_PFET[TJMAX])-25)))),\"\")","v":""},{"$f":"IF(AND(A10<>0,A10<>\"\"),LOOKUP(A10,Load_Switch_PFET[PARTNUMBER],Load_Switch_PFET[VTHMAX]),\"\")","v":""},{"$f":"IF(AND(A10<>0,A10<>\"\"),LOOKUP(A10,Load_Switch_PFET[PARTNUMBER],Load_Switch_PFET[VTHMIN]),\"\")","v":""},"#N/A",{"$f":"IF(AND($A10<>0,$A10<>\"\"),LOOKUP($A10,Load_Switch_PFET[PARTNUMBER],Load_Switch_PFET[RGIMAX]),\"\")","v":""},{"$f":"IF(AND($A10<>0,$A10<>\"\"),LOOKUP($A10,Load_Switch_PFET[PARTNUMBER],Load_Switch_PFET[QGTYP]),\"\")","v":""},{"$f":"IF(AND($A10<>0,$A10<>\"\"),LOOKUP($A10,Load_Switch_PFET[PARTNUMBER],Load_Switch_PFET[QGS]),\"\")","v":""},{"$f":"IF(AND($A10<>0,$A10<>\"\"),LOOKUP($A10,Load_Switch_PFET[PARTNUMBER],Load_Switch_PFET[QGD]),\"\")","v":""},{"$f":"IF(AND($A10<>0,$A10<>\"\"),LOOKUP($A10,Load_Switch_PFET[PARTNUMBER],Load_Switch_PFET[COSS_AT_VDSSPEC]),\"\")","v":""},"","","",{"$f":"IF(AND($A10<>0,$A10<>\"\"),LOOKUP($A10,Load_Switch_PFET[PARTNUMBER],Load_Switch_PFET[1KPRICE]),\"\")","v":""},{"$f":"IF(AND($A10<>0,$A10<>\"\"),LOOKUP(A10,Load_Switch_PFET[PARTNUMBER],Load_Switch_PFET[TI_EQ_PACKAGE]),\"\")","v":""},"Invalid Part"]
[{"$f":"IF(CH=\"P\",PLogic!B11,\"\")","v":""},{"$f":"IF(OR($A11=0,$A11=\"\"),\"0\",IF(LOOKUP($A11,Load_Switch_PFET[PARTNUMBER],Load_Switch_PFET[RDSON15])=\"(NULL)\",\"0\",\"1\"))","v":"0"},{"$f":"IF(OR($A11=0,$A11=\"\"),\"0\",IF(LOOKUP($A11,Load_Switch_PFET[PARTNUMBER],Load_Switch_PFET[RDSON18])=\"(NULL)\",\"0\",\"1\"))","v":"0"},{"$f":"IF(OR($A11=0,$A11=\"\"),\"0\",IF(LOOKUP($A11,Load_Switch_PFET[PARTNUMBER],Load_Switch_PFET[RDSON25])=\"(NULL)\",\"0\",\"1\"))","v":"0"},{"$f":"IF(OR($A11=0,$A11=\"\"),\"0\",IF(LOOKUP($A11,Load_Switch_PFET[PARTNUMBER],Load_Switch_PFET[RDSON45])=\"(NULL)\",\"0\",\"1\"))","v":"0"},{"$f":"IF(OR($A11=0,$A11=\"\"),\"0\",IF(LOOKUP($A11,Load_Switch_PFET[PARTNUMBER],Load_Switch_PFET[RDSON8])=\"(NULL)\",\"0\",\"1\"))","v":"0"},false,false,false,false,false,{"$f":"OR(PFET_PLOSS[[#This Row],[1V5]:[8V]])","v":false},false,false,false,false,false,{"$f":"IF(Q11,LOOKUP(A11,Load_Switch_PFET[PARTNUMBER],Load_Switch_PFET[RDSON8])*1000,IF(P11,LOOKUP(A11,Load_Switch_PFET[PARTNUMBER],Load_Switch_PFET[RDSON45])*1000,IF(O11,LOOKUP(A11,Load_Switch_PFET[PARTNUMBER],Load_Switch_PFET[RDSON25])*1000,IF(N11,LOOKUP(A11,Load_Switch_PFET[PARTNUMBER],Load_Switch_PFET[RDSON18])*1000,IF(M11,LOOKUP(A11,Load_Switch_PFET[PARTNUMBER],Load_Switch_PFET[RDSON15])*1000,\"\")))))","v":""},{"$f":"IF(AND(A11<>0,A11<>\"\"),R11*(1+(Tj-25)*(LOOKUP(A11,Load_Switch_PFET[PARTNUMBER],Load_Switch_PFET[RDSDELTA])/((LOOKUP(A11,Load_Switch_PFET[PARTNUMBER],Load_Switch_PFET[TJMAX])-25)))),\"\")","v":""},{"$f":"IF(AND(A11<>0,A11<>\"\"),LOOKUP(A11,Load_Switch_PFET[PARTNUMBER],Load_Switch_PFET[VTHMAX]),\"\")","v":""},{"$f":"IF(AND(A11<>0,A11<>\"\"),LOOKUP(A11,Load_Switch_PFET[PARTNUMBER],Load_Switch_PFET[VTHMIN]),\"\")","v":""},"#N/A",{"$f":"IF(AND($A11<>0,$A11<>\"\"),LOOKUP($A11,Load_Switch_PFET[PARTNUMBER],Load_Switch_PFET[RGIMAX]),\"\")","v":""},{"$f":"IF(AND($A11<>0,$A11<>\"\"),LOOKUP($A11,Load_Switch_PFET[PARTNUMBER],Load_Switch_PFET[QGTYP]),\"\")","v":""},{"$f":"IF(AND($A11<>0,$A11<>\"\"),LOOKUP($A11,Load_Switch_PFET[PARTNUMBER],Load_Switch_PFET[QGS]),\"\")","v":""},{"$f":"IF(AND($A11<>0,$A11<>\"\"),LOOKUP($A11,Load_Switch_PFET[PARTNUMBER],Load_Switch_PFET[QGD]),\"\")","v":""},{"$f":"IF(AND($A11<>0,$A11<>\"\"),LOOKUP($A11,Load_Switch_PFET[PARTNUMBER],Load_Switch_PFET[COSS_AT_VDSSPEC]),\"\")","v":""},"","","",{"$f":"IF(AND($A11<>0,$A11<>\"\"),LOOKUP($A11,Load_Switch_PFET[PARTNUMBER],Load_Switch_PFET[1KPRICE]),\"\")","v":""},{"$f":"IF(AND($A11<>0,$A11<>\"\"),LOOKUP(A11,Load_Switch_PFET[PARTNUMBER],Load_Switch_PFET[TI_EQ_PACKAGE]),\"\")","v":""},"Invalid Part"]
[{"$f":"IF(CH=\"P\",PLogic!B12,\"\")","v":""},{"$f":"IF(OR($A12=0,$A12=\"\"),\"0\",IF(LOOKUP($A12,Load_Switch_PFET[PARTNUMBER],Load_Switch_PFET[RDSON15])=\"(NULL)\",\"0\",\"1\"))","v":"0"},{"$f":"IF(OR($A12=0,$A12=\"\"),\"0\",IF(LOOKUP($A12,Load_Switch_PFET[PARTNUMBER],Load_Switch_PFET[RDSON18])=\"(NULL)\",\"0\",\"1\"))","v":"0"},{"$f":"IF(OR($A12=0,$A12=\"\"),\"0\",IF(LOOKUP($A12,Load_Switch_PFET[PARTNUMBER],Load_Switch_PFET[RDSON25])=\"(NULL)\",\"0\",\"1\"))","v":"0"},{"$f":"IF(OR($A12=0,$A12=\"\"),\"0\",IF(LOOKUP($A12,Load_Switch_PFET[PARTNUMBER],Load_Switch_PFET[RDSON45])=\"(NULL)\",\"0\",\"1\"))","v":"0"},{"$f":"IF(OR($A12=0,$A12=\"\"),\"0\",IF(LOOKUP($A12,Load_Switch_PFET[PARTNUMBER],Load_Switch_PFET[RDSON8])=\"(NULL)\",\"0\",\"1\"))","v":"0"},false,false,false,false,false,{"$f":"OR(PFET_PLOSS[[#This Row],[1V5]:[8V]])","v":false},false,false,false,false,false,{"$f":"IF(Q12,LOOKUP(A12,Load_Switch_PFET[PARTNUMBER],Load_Switch_PFET[RDSON8])*1000,IF(P12,LOOKUP(A12,Load_Switch_PFET[PARTNUMBER],Load_Switch_PFET[RDSON45])*1000,IF(O12,LOOKUP(A12,Load_Switch_PFET[PARTNUMBER],Load_Switch_PFET[RDSON25])*1000,IF(N12,LOOKUP(A12,Load_Switch_PFET[PARTNUMBER],Load_Switch_PFET[RDSON18])*1000,IF(M12,LOOKUP(A12,Load_Switch_PFET[PARTNUMBER],Load_Switch_PFET[RDSON15])*1000,\"\")))))","v":""},{"$f":"IF(AND(A12<>0,A12<>\"\"),R12*(1+(Tj-25)*(LOOKUP(A12,Load_Switch_PFET[PARTNUMBER],Load_Switch_PFET[RDSDELTA])/((LOOKUP(A12,Load_Switch_PFET[PARTNUMBER],Load_Switch_PFET[TJMAX])-25)))),\"\")","v":""},{"$f":"IF(AND(A12<>0,A12<>\"\"),LOOKUP(A12,Load_Switch_PFET[PARTNUMBER],Load_Switch_PFET[VTHMAX]),\"\")","v":""},{"$f":"IF(AND(A12<>0,A12<>\"\"),LOOKUP(A12,Load_Switch_PFET[PARTNUMBER],Load_Switch_PFET[VTHMIN]),\"\")","v":""},"#N/A",{"$f":"IF(AND($A12<>0,$A12<>\"\"),LOOKUP($A12,Load_Switch_PFET[PARTNUMBER],Load_Switch_PFET[RGIMAX]),\"\")","v":""},{"$f":"IF(AND($A12<>0,$A12<>\"\"),LOOKUP($A12,Load_Switch_PFET[PARTNUMBER],Load_Switch_PFET[QGTYP]),\"\")","v":""},{"$f":"IF(AND($A12<>0,$A12<>\"\"),LOOKUP($A12,Load_Switch_PFET[PARTNUMBER],Load_Switch_PFET[QGS]),\"\")","v":""},{"$f":"IF(AND($A12<>0,$A12<>\"\"),LOOKUP($A12,Load_Switch_PFET[PARTNUMBER],Load_Switch_PFET[QGD]),\"\")","v":""},{"$f":"IF(AND($A12<>0,$A12<>\"\"),LOOKUP($A12,Load_Switch_PFET[PARTNUMBER],Load_Switch_PFET[COSS_AT_VDSSPEC]),\"\")","v":""},"","","",{"$f":"IF(AND($A12<>0,$A12<>\"\"),LOOKUP($A12,Load_Switch_PFET[PARTNUMBER],Load_Switch_PFET[1KPRICE]),\"\")","v":""},{"$f":"IF(AND($A12<>0,$A12<>\"\"),LOOKUP(A12,Load_Switch_PFET[PARTNUMBER],Load_Switch_PFET[TI_EQ_PACKAGE]),\"\")","v":""},"Invalid Part"]
[{"$f":"IF(CH=\"P\",PLogic!B13,\"\")","v":""},{"$f":"IF(OR($A13=0,$A13=\"\"),\"0\",IF(LOOKUP($A13,Load_Switch_PFET[PARTNUMBER],Load_Switch_PFET[RDSON15])=\"(NULL)\",\"0\",\"1\"))","v":"0"},{"$f":"IF(OR($A13=0,$A13=\"\"),\"0\",IF(LOOKUP($A13,Load_Switch_PFET[PARTNUMBER],Load_Switch_PFET[RDSON18])=\"(NULL)\",\"0\",\"1\"))","v":"0"},{"$f":"IF(OR($A13=0,$A13=\"\"),\"0\",IF(LOOKUP($A13,Load_Switch_PFET[PARTNUMBER],Load_Switch_PFET[RDSON25])=\"(NULL)\",\"0\",\"1\"))","v":"0"},{"$f":"IF(OR($A13=0,$A13=\"\"),\"0\",IF(LOOKUP($A13,Load_Switch_PFET[PARTNUMBER],Load_Switch_PFET[RDSON45])=\"(NULL)\",\"0\",\"1\"))","v":"0"},{"$f":"IF(OR($A13=0,$A13=\"\"),\"0\",IF(LOOKUP($A13,Load_Switch_PFET[PARTNUMBER],Load_Switch_PFET[RDSON8])=\"(NULL)\",\"0\",\"1\"))","v":"0"},false,false,false,false,false,{"$f":"OR(PFET_PLOSS[[#This Row],[1V5]:[8V]])","v":false},false,false,false,false,false,{"$f":"IF(Q13,LOOKUP(A13,Load_Switch_PFET[PARTNUMBER],Load_Switch_PFET[RDSON8])*1000,IF(P13,LOOKUP(A13,Load_Switch_PFET[PARTNUMBER],Load_Switch_PFET[RDSON45])*1000,IF(O13,LOOKUP(A13,Load_Switch_PFET[PARTNUMBER],Load_Switch_PFET[RDSON25])*1000,IF(N13,LOOKUP(A13,Load_Switch_PFET[PARTNUMBER],Load_Switch_PFET[RDSON18])*1000,IF(M13,LOOKUP(A13,Load_Switch_PFET[PARTNUMBER],Load_Switch_PFET[RDSON15])*1000,\"\")))))","v":""},{"$f":"IF(AND(A13<>0,A13<>\"\"),R13*(1+(Tj-25)*(LOOKUP(A13,Load_Switch_PFET[PARTNUMBER],Load_Switch_PFET[RDSDELTA])/((LOOKUP(A13,Load_Switch_PFET[PARTNUMBER],Load_Switch_PFET[TJMAX])-25)))),\"\")","v":""},{"$f":"IF(AND(A13<>0,A13<>\"\"),LOOKUP(A13,Load_Switch_PFET[PARTNUMBER],Load_Switch_PFET[VTHMAX]),\"\")","v":""},{"$f":"IF(AND(A13<>0,A13<>\"\"),LOOKUP(A13,Load_Switch_PFET[PARTNUMBER],Load_Switch_PFET[VTHMIN]),\"\")","v":""},"#N/A",{"$f":"IF(AND($A13<>0,$A13<>\"\"),LOOKUP($A13,Load_Switch_PFET[PARTNUMBER],Load_Switch_PFET[RGIMAX]),\"\")","v":""},{"$f":"IF(AND($A13<>0,$A13<>\"\"),LOOKUP($A13,Load_Switch_PFET[PARTNUMBER],Load_Switch_PFET[QGTYP]),\"\")","v":""},{"$f":"IF(AND($A13<>0,$A13<>\"\"),LOOKUP($A13,Load_Switch_PFET[PARTNUMBER],Load_Switch_PFET[QGS]),\"\")","v":""},{"$f":"IF(AND($A13<>0,$A13<>\"\"),LOOKUP($A13,Load_Switch_PFET[PARTNUMBER],Load_Switch_PFET[QGD]),\"\")","v":""},{"$f":"IF(AND($A13<>0,$A13<>\"\"),LOOKUP($A13,Load_Switch_PFET[PARTNUMBER],Load_Switch_PFET[COSS_AT_VDSSPEC]),\"\")","v":""},"","","",{"$f":"IF(AND($A13<>0,$A13<>\"\"),LOOKUP($A13,Load_Switch_PFET[PARTNUMBER],Load_Switch_PFET[1KPRICE]),\"\")","v":""},{"$f":"IF(AND($A13<>0,$A13<>\"\"),LOOKUP(A13,Load_Switch_PFET[PARTNUMBER],Load_Switch_PFET[TI_EQ_PACKAGE]),\"\")","v":""},"Invalid Part"]
[{"$f":"IF(CH=\"P\",PLogic!B14,\"\")","v":""},{"$f":"IF(OR($A14=0,$A14=\"\"),\"0\",IF(LOOKUP($A14,Load_Switch_PFET[PARTNUMBER],Load_Switch_PFET[RDSON15])=\"(NULL)\",\"0\",\"1\"))","v":"0"},{"$f":"IF(OR($A14=0,$A14=\"\"),\"0\",IF(LOOKUP($A14,Load_Switch_PFET[PARTNUMBER],Load_Switch_PFET[RDSON18])=\"(NULL)\",\"0\",\"1\"))","v":"0"},{"$f":"IF(OR($A14=0,$A14=\"\"),\"0\",IF(LOOKUP($A14,Load_Switch_PFET[PARTNUMBER],Load_Switch_PFET[RDSON25])=\"(NULL)\",\"0\",\"1\"))","v":"0"},{"$f":"IF(OR($A14=0,$A14=\"\"),\"0\",IF(LOOKUP($A14,Load_Switch_PFET[PARTNUMBER],Load_Switch_PFET[RDSON45])=\"(NULL)\",\"0\",\"1\"))","v":"0"},{"$f":"IF(OR($A14=0,$A14=\"\"),\"0\",IF(LOOKUP($A14,Load_Switch_PFET[PARTNUMBER],Load_Switch_PFET[RDSON8])=\"(NULL)\",\"0\",\"1\"))","v":"0"},false,false,false,false,false,{"$f":"OR(PFET_PLOSS[[#This Row],[1V5]:[8V]])","v":false},false,false,false,false,false,{"$f":"IF(Q14,LOOKUP(A14,Load_Switch_PFET[PARTNUMBER],Load_Switch_PFET[RDSON8])*1000,IF(P14,LOOKUP(A14,Load_Switch_PFET[PARTNUMBER],Load_Switch_PFET[RDSON45])*1000,IF(O14,LOOKUP(A14,Load_Switch_PFET[PARTNUMBER],Load_Switch_PFET[RDSON25])*1000,IF(N14,LOOKUP(A14,Load_Switch_PFET[PARTNUMBER],Load_Switch_PFET[RDSON18])*1000,IF(M14,LOOKUP(A14,Load_Switch_PFET[PARTNUMBER],Load_Switch_PFET[RDSON15])*1000,\"\")))))","v":""},{"$f":"IF(AND(A14<>0,A14<>\"\"),R14*(1+(Tj-25)*(LOOKUP(A14,Load_Switch_PFET[PARTNUMBER],Load_Switch_PFET[RDSDELTA])/((LOOKUP(A14,Load_Switch_PFET[PARTNUMBER],Load_Switch_PFET[TJMAX])-25)))),\"\")","v":""},{"$f":"IF(AND(A14<>0,A14<>\"\"),LOOKUP(A14,Load_Switch_PFET[PARTNUMBER],Load_Switch_PFET[VTHMAX]),\"\")","v":""},{"$f":"IF(AND(A14<>0,A14<>\"\"),LOOKUP(A14,Load_Switch_PFET[PARTNUMBER],Load_Switch_PFET[VTHMIN]),\"\")","v":""},"#N/A",{"$f":"IF(AND($A14<>0,$A14<>\"\"),LOOKUP($A14,Load_Switch_PFET[PARTNUMBER],Load_Switch_PFET[RGIMAX]),\"\")","v":""},{"$f":"IF(AND($A14<>0,$A14<>\"\"),LOOKUP($A14,Load_Switch_PFET[PARTNUMBER],Load_Switch_PFET[QGTYP]),\"\")","v":""},{"$f":"IF(AND($A14<>0,$A14<>\"\"),LOOKUP($A14,Load_Switch_PFET[PARTNUMBER],Load_Switch_PFET[QGS]),\"\")","v":""},{"$f":"IF(AND($A14<>0,$A14<>\"\"),LOOKUP($A14,Load_Switch_PFET[PARTNUMBER],Load_Switch_PFET[QGD]),\"\")","v":""},{"$f":"IF(AND($A14<>0,$A14<>\"\"),LOOKUP($A14,Load_Switch_PFET[PARTNUMBER],Load_Switch_PFET[COSS_AT_VDSSPEC]),\"\")","v":""},"","","",{"$f":"IF(AND($A14<>0,$A14<>\"\"),LOOKUP($A14,Load_Switch_PFET[PARTNUMBER],Load_Switch_PFET[1KPRICE]),\"\")","v":""},{"$f":"IF(AND($A14<>0,$A14<>\"\"),LOOKUP(A14,Load_Switch_PFET[PARTNUMBER],Load_Switch_PFET[TI_EQ_PACKAGE]),\"\")","v":""},"Invalid Part"]
[{"$f":"IF(CH=\"P\",PLogic!B15,\"\")","v":""},{"$f":"IF(OR($A15=0,$A15=\"\"),\"0\",IF(LOOKUP($A15,Load_Switch_PFET[PARTNUMBER],Load_Switch_PFET[RDSON15])=\"(NULL)\",\"0\",\"1\"))","v":"0"},{"$f":"IF(OR($A15=0,$A15=\"\"),\"0\",IF(LOOKUP($A15,Load_Switch_PFET[PARTNUMBER],Load_Switch_PFET[RDSON18])=\"(NULL)\",\"0\",\"1\"))","v":"0"},{"$f":"IF(OR($A15=0,$A15=\"\"),\"0\",IF(LOOKUP($A15,Load_Switch_PFET[PARTNUMBER],Load_Switch_PFET[RDSON25])=\"(NULL)\",\"0\",\"1\"))","v":"0"},{"$f":"IF(OR($A15=0,$A15=\"\"),\"0\",IF(LOOKUP($A15,Load_Switch_PFET[PARTNUMBER],Load_Switch_PFET[RDSON45])=\"(NULL)\",\"0\",\"1\"))","v":"0"},{"$f":"IF(OR($A15=0,$A15=\"\"),\"0\",IF(LOOKUP($A15,Load_Switch_PFET[PARTNUMBER],Load_Switch_PFET[RDSON8])=\"(NULL)\",\"0\",\"1\"))","v":"0"},false,false,false,false,false,{"$f":"OR(PFET_PLOSS[[#This Row],[1V5]:[8V]])","v":false},false,false,false,false,false,{"$f":"IF(Q15,LOOKUP(A15,Load_Switch_PFET[PARTNUMBER],Load_Switch_PFET[RDSON8])*1000,IF(P15,LOOKUP(A15,Load_Switch_PFET[PARTNUMBER],Load_Switch_PFET[RDSON45])*1000,IF(O15,LOOKUP(A15,Load_Switch_PFET[PARTNUMBER],Load_Switch_PFET[RDSON25])*1000,IF(N15,LOOKUP(A15,Load_Switch_PFET[PARTNUMBER],Load_Switch_PFET[RDSON18])*1000,IF(M15,LOOKUP(A15,Load_Switch_PFET[PARTNUMBER],Load_Switch_PFET[RDSON15])*1000,\"\")))))","v":""},{"$f":"IF(AND(A15<>0,A15<>\"\"),R15*(1+(Tj-25)*(LOOKUP(A15,Load_Switch_PFET[PARTNUMBER],Load_Switch_PFET[RDSDELTA])/((LOOKUP(A15,Load_Switch_PFET[PARTNUMBER],Load_Switch_PFET[TJMAX])-25)))),\"\")","v":""},{"$f":"IF(AND(A15<>0,A15<>\"\"),LOOKUP(A15,Load_Switch_PFET[PARTNUMBER],Load_Switch_PFET[VTHMAX]),\"\")","v":""},{"$f":"IF(AND(A15<>0,A15<>\"\"),LOOKUP(A15,Load_Switch_PFET[PARTNUMBER],Load_Switch_PFET[VTHMIN]),\"\")","v":""},"#N/A",{"$f":"IF(AND($A15<>0,$A15<>\"\"),LOOKUP($A15,Load_Switch_PFET[PARTNUMBER],Load_Switch_PFET[RGIMAX]),\"\")","v":""},{"$f":"IF(AND($A15<>0,$A15<>\"\"),LOOKUP($A15,Load_Switch_PFET[PARTNUMBER],Load_Switch_PFET[QGTYP]),\"\")","v":""},{"$f":"IF(AND($A15<>0,$A15<>\"\"),LOOKUP($A15,Load_Switch_PFET[PARTNUMBER],Load_Switch_PFET[QGS]),\"\")","v":""},{"$f":"IF(AND($A15<>0,$A15<>\"\"),LOOKUP($A15,Load_Switch_PFET[PARTNUMBER],Load_Switch_PFET[QGD]),\"\")","v":""},{"$f":"IF(AND($A15<>0,$A15<>\"\"),LOOKUP($A15,Load_Switch_PFET[PARTNUMBER],Load_Switch_PFET[COSS_AT_VDSSPEC]),\"\")","v":""},"","","",{"$f":"IF(AND($A15<>0,$A15<>\"\"),LOOKUP($A15,Load_Switch_PFET[PARTNUMBER],Load_Switch_PFET[1KPRICE]),\"\")","v":""},{"$f":"IF(AND($A15<>0,$A15<>\"\"),LOOKUP(A15,Load_Switch_PFET[PARTNUMBER],Load_Switch_PFET[TI_EQ_PACKAGE]),\"\")","v":""},"Invalid Part"]
[{"$f":"IF(CH=\"P\",PLogic!B16,\"\")","v":""},{"$f":"IF(OR($A16=0,$A16=\"\"),\"0\",IF(LOOKUP($A16,Load_Switch_PFET[PARTNUMBER],Load_Switch_PFET[RDSON15])=\"(NULL)\",\"0\",\"1\"))","v":"0"},{"$f":"IF(OR($A16=0,$A16=\"\"),\"0\",IF(LOOKUP($A16,Load_Switch_PFET[PARTNUMBER],Load_Switch_PFET[RDSON18])=\"(NULL)\",\"0\",\"1\"))","v":"0"},{"$f":"IF(OR($A16=0,$A16=\"\"),\"0\",IF(LOOKUP($A16,Load_Switch_PFET[PARTNUMBER],Load_Switch_PFET[RDSON25])=\"(NULL)\",\"0\",\"1\"))","v":"0"},{"$f":"IF(OR($A16=0,$A16=\"\"),\"0\",IF(LOOKUP($A16,Load_Switch_PFET[PARTNUMBER],Load_Switch_PFET[RDSON45])=\"(NULL)\",\"0\",\"1\"))","v":"0"},{"$f":"IF(OR($A16=0,$A16=\"\"),\"0\",IF(LOOKUP($A16,Load_Switch_PFET[PARTNUMBER],Load_Switch_PFET[RDSON8])=\"(NULL)\",\"0\",\"1\"))","v":"0"},false,false,false,false,false,{"$f":"OR(PFET_PLOSS[[#This Row],[1V5]:[8V]])","v":false},false,false,false,false,false,{"$f":"IF(Q16,LOOKUP(A16,Load_Switch_PFET[PARTNUMBER],Load_Switch_PFET[RDSON8])*1000,IF(P16,LOOKUP(A16,Load_Switch_PFET[PARTNUMBER],Load_Switch_PFET[RDSON45])*1000,IF(O16,LOOKUP(A16,Load_Switch_PFET[PARTNUMBER],Load_Switch_PFET[RDSON25])*1000,IF(N16,LOOKUP(A16,Load_Switch_PFET[PARTNUMBER],Load_Switch_PFET[RDSON18])*1000,IF(M16,LOOKUP(A16,Load_Switch_PFET[PARTNUMBER],Load_Switch_PFET[RDSON15])*1000,\"\")))))","v":""},{"$f":"IF(AND(A16<>0,A16<>\"\"),R16*(1+(Tj-25)*(LOOKUP(A16,Load_Switch_PFET[PARTNUMBER],Load_Switch_PFET[RDSDELTA])/((LOOKUP(A16,Load_Switch_PFET[PARTNUMBER],Load_Switch_PFET[TJMAX])-25)))),\"\")","v":""},{"$f":"IF(AND(A16<>0,A16<>\"\"),LOOKUP(A16,Load_Switch_PFET[PARTNUMBER],Load_Switch_PFET[VTHMAX]),\"\")","v":""},{"$f":"IF(AND(A16<>0,A16<>\"\"),LOOKUP(A16,Load_Switch_PFET[PARTNUMBER],Load_Switch_PFET[VTHMIN]),\"\")","v":""},"#N/A",{"$f":"IF(AND($A16<>0,$A16<>\"\"),LOOKUP($A16,Load_Switch_PFET[PARTNUMBER],Load_Switch_PFET[RGIMAX]),\"\")","v":""},{"$f":"IF(AND($A16<>0,$A16<>\"\"),LOOKUP($A16,Load_Switch_PFET[PARTNUMBER],Load_Switch_PFET[QGTYP]),\"\")","v":""},{"$f":"IF(AND($A16<>0,$A16<>\"\"),LOOKUP($A16,Load_Switch_PFET[PARTNUMBER],Load_Switch_PFET[QGS]),\"\")","v":""},{"$f":"IF(AND($A16<>0,$A16<>\"\"),LOOKUP($A16,Load_Switch_PFET[PARTNUMBER],Load_Switch_PFET[QGD]),\"\")","v":""},{"$f":"IF(AND($A16<>0,$A16<>\"\"),LOOKUP($A16,Load_Switch_PFET[PARTNUMBER],Load_Switch_PFET[COSS_AT_VDSSPEC]),\"\")","v":""},"","","",{"$f":"IF(AND($A16<>0,$A16<>\"\"),LOOKUP($A16,Load_Switch_PFET[PARTNUMBER],Load_Switch_PFET[1KPRICE]),\"\")","v":""},{"$f":"IF(AND($A16<>0,$A16<>\"\"),LOOKUP(A16,Load_Switch_PFET[PARTNUMBER],Load_Switch_PFET[TI_EQ_PACKAGE]),\"\")","v":""},"Invalid Part"]
[{"$f":"IF(CH=\"P\",PLogic!B17,\"\")","v":""},{"$f":"IF(OR($A17=0,$A17=\"\"),\"0\",IF(LOOKUP($A17,Load_Switch_PFET[PARTNUMBER],Load_Switch_PFET[RDSON15])=\"(NULL)\",\"0\",\"1\"))","v":"0"},{"$f":"IF(OR($A17=0,$A17=\"\"),\"0\",IF(LOOKUP($A17,Load_Switch_PFET[PARTNUMBER],Load_Switch_PFET[RDSON18])=\"(NULL)\",\"0\",\"1\"))","v":"0"},{"$f":"IF(OR($A17=0,$A17=\"\"),\"0\",IF(LOOKUP($A17,Load_Switch_PFET[PARTNUMBER],Load_Switch_PFET[RDSON25])=\"(NULL)\",\"0\",\"1\"))","v":"0"},{"$f":"IF(OR($A17=0,$A17=\"\"),\"0\",IF(LOOKUP($A17,Load_Switch_PFET[PARTNUMBER],Load_Switch_PFET[RDSON45])=\"(NULL)\",\"0\",\"1\"))","v":"0"},{"$f":"IF(OR($A17=0,$A17=\"\"),\"0\",IF(LOOKUP($A17,Load_Switch_PFET[PARTNUMBER],Load_Switch_PFET[RDSON8])=\"(NULL)\",\"0\",\"1\"))","v":"0"},false,false,false,false,false,{"$f":"OR(PFET_PLOSS[[#This Row],[1V5]:[8V]])","v":false},false,false,false,false,false,{"$f":"IF(Q17,LOOKUP(A17,Load_Switch_PFET[PARTNUMBER],Load_Switch_PFET[RDSON8])*1000,IF(P17,LOOKUP(A17,Load_Switch_PFET[PARTNUMBER],Load_Switch_PFET[RDSON45])*1000,IF(O17,LOOKUP(A17,Load_Switch_PFET[PARTNUMBER],Load_Switch_PFET[RDSON25])*1000,IF(N17,LOOKUP(A17,Load_Switch_PFET[PARTNUMBER],Load_Switch_PFET[RDSON18])*1000,IF(M17,LOOKUP(A17,Load_Switch_PFET[PARTNUMBER],Load_Switch_PFET[RDSON15])*1000,\"\")))))","v":""},{"$f":"IF(AND(A17<>0,A17<>\"\"),R17*(1+(Tj-25)*(LOOKUP(A17,Load_Switch_PFET[PARTNUMBER],Load_Switch_PFET[RDSDELTA])/((LOOKUP(A17,Load_Switch_PFET[PARTNUMBER],Load_Switch_PFET[TJMAX])-25)))),\"\")","v":""},{"$f":"IF(AND(A17<>0,A17<>\"\"),LOOKUP(A17,Load_Switch_PFET[PARTNUMBER],Load_Switch_PFET[VTHMAX]),\"\")","v":""},{"$f":"IF(AND(A17<>0,A17<>\"\"),LOOKUP(A17,Load_Switch_PFET[PARTNUMBER],Load_Switch_PFET[VTHMIN]),\"\")","v":""},"#N/A",{"$f":"IF(AND($A17<>0,$A17<>\"\"),LOOKUP($A17,Load_Switch_PFET[PARTNUMBER],Load_Switch_PFET[RGIMAX]),\"\")","v":""},{"$f":"IF(AND($A17<>0,$A17<>\"\"),LOOKUP($A17,Load_Switch_PFET[PARTNUMBER],Load_Switch_PFET[QGTYP]),\"\")","v":""},{"$f":"IF(AND($A17<>0,$A17<>\"\"),LOOKUP($A17,Load_Switch_PFET[PARTNUMBER],Load_Switch_PFET[QGS]),\"\")","v":""},{"$f":"IF(AND($A17<>0,$A17<>\"\"),LOOKUP($A17,Load_Switch_PFET[PARTNUMBER],Load_Switch_PFET[QGD]),\"\")","v":""},{"$f":"IF(AND($A17<>0,$A17<>\"\"),LOOKUP($A17,Load_Switch_PFET[PARTNUMBER],Load_Switch_PFET[COSS_AT_VDSSPEC]),\"\")","v":""},"","","",{"$f":"IF(AND($A17<>0,$A17<>\"\"),LOOKUP($A17,Load_Switch_PFET[PARTNUMBER],Load_Switch_PFET[1KPRICE]),\"\")","v":""},{"$f":"IF(AND($A17<>0,$A17<>\"\"),LOOKUP(A17,Load_Switch_PFET[PARTNUMBER],Load_Switch_PFET[TI_EQ_PACKAGE]),\"\")","v":""},"Invalid Part"]
[{"$f":"IF(CH=\"P\",PLogic!B18,\"\")","v":""},{"$f":"IF(OR($A18=0,$A18=\"\"),\"0\",IF(LOOKUP($A18,Load_Switch_PFET[PARTNUMBER],Load_Switch_PFET[RDSON15])=\"(NULL)\",\"0\",\"1\"))","v":"0"},{"$f":"IF(OR($A18=0,$A18=\"\"),\"0\",IF(LOOKUP($A18,Load_Switch_PFET[PARTNUMBER],Load_Switch_PFET[RDSON18])=\"(NULL)\",\"0\",\"1\"))","v":"0"},{"$f":"IF(OR($A18=0,$A18=\"\"),\"0\",IF(LOOKUP($A18,Load_Switch_PFET[PARTNUMBER],Load_Switch_PFET[RDSON25])=\"(NULL)\",\"0\",\"1\"))","v":"0"},{"$f":"IF(OR($A18=0,$A18=\"\"),\"0\",IF(LOOKUP($A18,Load_Switch_PFET[PARTNUMBER],Load_Switch_PFET[RDSON45])=\"(NULL)\",\"0\",\"1\"))","v":"0"},{"$f":"IF(OR($A18=0,$A18=\"\"),\"0\",IF(LOOKUP($A18,Load_Switch_PFET[PARTNUMBER],Load_Switch_PFET[RDSON8])=\"(NULL)\",\"0\",\"1\"))","v":"0"},false,false,false,false,false,{"$f":"OR(PFET_PLOSS[[#This Row],[1V5]:[8V]])","v":false},false,false,false,false,false,{"$f":"IF(Q18,LOOKUP(A18,Load_Switch_PFET[PARTNUMBER],Load_Switch_PFET[RDSON8])*1000,IF(P18,LOOKUP(A18,Load_Switch_PFET[PARTNUMBER],Load_Switch_PFET[RDSON45])*1000,IF(O18,LOOKUP(A18,Load_Switch_PFET[PARTNUMBER],Load_Switch_PFET[RDSON25])*1000,IF(N18,LOOKUP(A18,Load_Switch_PFET[PARTNUMBER],Load_Switch_PFET[RDSON18])*1000,IF(M18,LOOKUP(A18,Load_Switch_PFET[PARTNUMBER],Load_Switch_PFET[RDSON15])*1000,\"\")))))","v":""},{"$f":"IF(AND(A18<>0,A18<>\"\"),R18*(1+(Tj-25)*(LOOKUP(A18,Load_Switch_PFET[PARTNUMBER],Load_Switch_PFET[RDSDELTA])/((LOOKUP(A18,Load_Switch_PFET[PARTNUMBER],Load_Switch_PFET[TJMAX])-25)))),\"\")","v":""},{"$f":"IF(AND(A18<>0,A18<>\"\"),LOOKUP(A18,Load_Switch_PFET[PARTNUMBER],Load_Switch_PFET[VTHMAX]),\"\")","v":""},{"$f":"IF(AND(A18<>0,A18<>\"\"),LOOKUP(A18,Load_Switch_PFET[PARTNUMBER],Load_Switch_PFET[VTHMIN]),\"\")","v":""},"#N/A",{"$f":"IF(AND($A18<>0,$A18<>\"\"),LOOKUP($A18,Load_Switch_PFET[PARTNUMBER],Load_Switch_PFET[RGIMAX]),\"\")","v":""},{"$f":"IF(AND($A18<>0,$A18<>\"\"),LOOKUP($A18,Load_Switch_PFET[PARTNUMBER],Load_Switch_PFET[QGTYP]),\"\")","v":""},{"$f":"IF(AND($A18<>0,$A18<>\"\"),LOOKUP($A18,Load_Switch_PFET[PARTNUMBER],Load_Switch_PFET[QGS]),\"\")","v":""},{"$f":"IF(AND($A18<>0,$A18<>\"\"),LOOKUP($A18,Load_Switch_PFET[PARTNUMBER],Load_Switch_PFET[QGD]),\"\")","v":""},{"$f":"IF(AND($A18<>0,$A18<>\"\"),LOOKUP($A18,Load_Switch_PFET[PARTNUMBER],Load_Switch_PFET[COSS_AT_VDSSPEC]),\"\")","v":""},"","","",{"$f":"IF(AND($A18<>0,$A18<>\"\"),LOOKUP($A18,Load_Switch_PFET[PARTNUMBER],Load_Switch_PFET[1KPRICE]),\"\")","v":""},{"$f":"IF(AND($A18<>0,$A18<>\"\"),LOOKUP(A18,Load_Switch_PFET[PARTNUMBER],Load_Switch_PFET[TI_EQ_PACKAGE]),\"\")","v":""},"Invalid Part"]
[{"$f":"IF(CH=\"P\",PLogic!B19,\"\")","v":""},{"$f":"IF(OR($A19=0,$A19=\"\"),\"0\",IF(LOOKUP($A19,Load_Switch_PFET[PARTNUMBER],Load_Switch_PFET[RDSON15])=\"(NULL)\",\"0\",\"1\"))","v":"0"},{"$f":"IF(OR($A19=0,$A19=\"\"),\"0\",IF(LOOKUP($A19,Load_Switch_PFET[PARTNUMBER],Load_Switch_PFET[RDSON18])=\"(NULL)\",\"0\",\"1\"))","v":"0"},{"$f":"IF(OR($A19=0,$A19=\"\"),\"0\",IF(LOOKUP($A19,Load_Switch_PFET[PARTNUMBER],Load_Switch_PFET[RDSON25])=\"(NULL)\",\"0\",\"1\"))","v":"0"},{"$f":"IF(OR($A19=0,$A19=\"\"),\"0\",IF(LOOKUP($A19,Load_Switch_PFET[PARTNUMBER],Load_Switch_PFET[RDSON45])=\"(NULL)\",\"0\",\"1\"))","v":"0"},{"$f":"IF(OR($A19=0,$A19=\"\"),\"0\",IF(LOOKUP($A19,Load_Switch_PFET[PARTNUMBER],Load_Switch_PFET[RDSON8])=\"(NULL)\",\"0\",\"1\"))","v":"0"},false,false,false,false,false,{"$f":"OR(PFET_PLOSS[[#This Row],[1V5]:[8V]])","v":false},false,false,false,false,false,{"$f":"IF(Q19,LOOKUP(A19,Load_Switch_PFET[PARTNUMBER],Load_Switch_PFET[RDSON8])*1000,IF(P19,LOOKUP(A19,Load_Switch_PFET[PARTNUMBER],Load_Switch_PFET[RDSON45])*1000,IF(O19,LOOKUP(A19,Load_Switch_PFET[PARTNUMBER],Load_Switch_PFET[RDSON25])*1000,IF(N19,LOOKUP(A19,Load_Switch_PFET[PARTNUMBER],Load_Switch_PFET[RDSON18])*1000,IF(M19,LOOKUP(A19,Load_Switch_PFET[PARTNUMBER],Load_Switch_PFET[RDSON15])*1000,\"\")))))","v":""},{"$f":"IF(AND(A19<>0,A19<>\"\"),R19*(1+(Tj-25)*(LOOKUP(A19,Load_Switch_PFET[PARTNUMBER],Load_Switch_PFET[RDSDELTA])/((LOOKUP(A19,Load_Switch_PFET[PARTNUMBER],Load_Switch_PFET[TJMAX])-25)))),\"\")","v":""},{"$f":"IF(AND(A19<>0,A19<>\"\"),LOOKUP(A19,Load_Switch_PFET[PARTNUMBER],Load_Switch_PFET[VTHMAX]),\"\")","v":""},{"$f":"IF(AND(A19<>0,A19<>\"\"),LOOKUP(A19,Load_Switch_PFET[PARTNUMBER],Load_Switch_PFET[VTHMIN]),\"\")","v":""},"#N/A",{"$f":"IF(AND($A19<>0,$A19<>\"\"),LOOKUP($A19,Load_Switch_PFET[PARTNUMBER],Load_Switch_PFET[RGIMAX]),\"\")","v":""},{"$f":"IF(AND($A19<>0,$A19<>\"\"),LOOKUP($A19,Load_Switch_PFET[PARTNUMBER],Load_Switch_PFET[QGTYP]),\"\")","v":""},{"$f":"IF(AND($A19<>0,$A19<>\"\"),LOOKUP($A19,Load_Switch_PFET[PARTNUMBER],Load_Switch_PFET[QGS]),\"\")","v":""},{"$f":"IF(AND($A19<>0,$A19<>\"\"),LOOKUP($A19,Load_Switch_PFET[PARTNUMBER],Load_Switch_PFET[QGD]),\"\")","v":""},{"$f":"IF(AND($A19<>0,$A19<>\"\"),LOOKUP($A19,Load_Switch_PFET[PARTNUMBER],Load_Switch_PFET[COSS_AT_VDSSPEC]),\"\")","v":""},"","","",{"$f":"IF(AND($A19<>0,$A19<>\"\"),LOOKUP($A19,Load_Switch_PFET[PARTNUMBER],Load_Switch_PFET[1KPRICE]),\"\")","v":""},{"$f":"IF(AND($A19<>0,$A19<>\"\"),LOOKUP(A19,Load_Switch_PFET[PARTNUMBER],Load_Switch_PFET[TI_EQ_PACKAGE]),\"\")","v":""},"Invalid Part"]
[{"$f":"IF(CH=\"P\",PLogic!B20,\"\")","v":""},{"$f":"IF(OR($A20=0,$A20=\"\"),\"0\",IF(LOOKUP($A20,Load_Switch_PFET[PARTNUMBER],Load_Switch_PFET[RDSON15])=\"(NULL)\",\"0\",\"1\"))","v":"0"},{"$f":"IF(OR($A20=0,$A20=\"\"),\"0\",IF(LOOKUP($A20,Load_Switch_PFET[PARTNUMBER],Load_Switch_PFET[RDSON18])=\"(NULL)\",\"0\",\"1\"))","v":"0"},{"$f":"IF(OR($A20=0,$A20=\"\"),\"0\",IF(LOOKUP($A20,Load_Switch_PFET[PARTNUMBER],Load_Switch_PFET[RDSON25])=\"(NULL)\",\"0\",\"1\"))","v":"0"},{"$f":"IF(OR($A20=0,$A20=\"\"),\"0\",IF(LOOKUP($A20,Load_Switch_PFET[PARTNUMBER],Load_Switch_PFET[RDSON45])=\"(NULL)\",\"0\",\"1\"))","v":"0"},{"$f":"IF(OR($A20=0,$A20=\"\"),\"0\",IF(LOOKUP($A20,Load_Switch_PFET[PARTNUMBER],Load_Switch_PFET[RDSON8])=\"(NULL)\",\"0\",\"1\"))","v":"0"},false,false,false,false,false,{"$f":"OR(PFET_PLOSS[[#This Row],[1V5]:[8V]])","v":false},false,false,false,false,false,{"$f":"IF(Q20,LOOKUP(A20,Load_Switch_PFET[PARTNUMBER],Load_Switch_PFET[RDSON8])*1000,IF(P20,LOOKUP(A20,Load_Switch_PFET[PARTNUMBER],Load_Switch_PFET[RDSON45])*1000,IF(O20,LOOKUP(A20,Load_Switch_PFET[PARTNUMBER],Load_Switch_PFET[RDSON25])*1000,IF(N20,LOOKUP(A20,Load_Switch_PFET[PARTNUMBER],Load_Switch_PFET[RDSON18])*1000,IF(M20,LOOKUP(A20,Load_Switch_PFET[PARTNUMBER],Load_Switch_PFET[RDSON15])*1000,\"\")))))","v":""},{"$f":"IF(AND(A20<>0,A20<>\"\"),R20*(1+(Tj-25)*(LOOKUP(A20,Load_Switch_PFET[PARTNUMBER],Load_Switch_PFET[RDSDELTA])/((LOOKUP(A20,Load_Switch_PFET[PARTNUMBER],Load_Switch_PFET[TJMAX])-25)))),\"\")","v":""},{"$f":"IF(AND(A20<>0,A20<>\"\"),LOOKUP(A20,Load_Switch_PFET[PARTNUMBER],Load_Switch_PFET[VTHMAX]),\"\")","v":""},{"$f":"IF(AND(A20<>0,A20<>\"\"),LOOKUP(A20,Load_Switch_PFET[PARTNUMBER],Load_Switch_PFET[VTHMIN]),\"\")","v":""},"#N/A",{"$f":"IF(AND($A20<>0,$A20<>\"\"),LOOKUP($A20,Load_Switch_PFET[PARTNUMBER],Load_Switch_PFET[RGIMAX]),\"\")","v":""},{"$f":"IF(AND($A20<>0,$A20<>\"\"),LOOKUP($A20,Load_Switch_PFET[PARTNUMBER],Load_Switch_PFET[QGTYP]),\"\")","v":""},{"$f":"IF(AND($A20<>0,$A20<>\"\"),LOOKUP($A20,Load_Switch_PFET[PARTNUMBER],Load_Switch_PFET[QGS]),\"\")","v":""},{"$f":"IF(AND($A20<>0,$A20<>\"\"),LOOKUP($A20,Load_Switch_PFET[PARTNUMBER],Load_Switch_PFET[QGD]),\"\")","v":""},{"$f":"IF(AND($A20<>0,$A20<>\"\"),LOOKUP($A20,Load_Switch_PFET[PARTNUMBER],Load_Switch_PFET[COSS_AT_VDSSPEC]),\"\")","v":""},"","","",{"$f":"IF(AND($A20<>0,$A20<>\"\"),LOOKUP($A20,Load_Switch_PFET[PARTNUMBER],Load_Switch_PFET[1KPRICE]),\"\")","v":""},{"$f":"IF(AND($A20<>0,$A20<>\"\"),LOOKUP(A20,Load_Switch_PFET[PARTNUMBER],Load_Switch_PFET[TI_EQ_PACKAGE]),\"\")","v":""},"Invalid Part"]
[{"$f":"IF(CH=\"P\",PLogic!B21,\"\")","v":""},{"$f":"IF(OR($A21=0,$A21=\"\"),\"0\",IF(LOOKUP($A21,Load_Switch_PFET[PARTNUMBER],Load_Switch_PFET[RDSON15])=\"(NULL)\",\"0\",\"1\"))","v":"0"},{"$f":"IF(OR($A21=0,$A21=\"\"),\"0\",IF(LOOKUP($A21,Load_Switch_PFET[PARTNUMBER],Load_Switch_PFET[RDSON18])=\"(NULL)\",\"0\",\"1\"))","v":"0"},{"$f":"IF(OR($A21=0,$A21=\"\"),\"0\",IF(LOOKUP($A21,Load_Switch_PFET[PARTNUMBER],Load_Switch_PFET[RDSON25])=\"(NULL)\",\"0\",\"1\"))","v":"0"},{"$f":"IF(OR($A21=0,$A21=\"\"),\"0\",IF(LOOKUP($A21,Load_Switch_PFET[PARTNUMBER],Load_Switch_PFET[RDSON45])=\"(NULL)\",\"0\",\"1\"))","v":"0"},{"$f":"IF(OR($A21=0,$A21=\"\"),\"0\",IF(LOOKUP($A21,Load_Switch_PFET[PARTNUMBER],Load_Switch_PFET[RDSON8])=\"(NULL)\",\"0\",\"1\"))","v":"0"},false,false,false,false,false,{"$f":"OR(PFET_PLOSS[[#This Row],[1V5]:[8V]])","v":false},false,false,false,false,false,{"$f":"IF(Q21,LOOKUP(A21,Load_Switch_PFET[PARTNUMBER],Load_Switch_PFET[RDSON8])*1000,IF(P21,LOOKUP(A21,Load_Switch_PFET[PARTNUMBER],Load_Switch_PFET[RDSON45])*1000,IF(O21,LOOKUP(A21,Load_Switch_PFET[PARTNUMBER],Load_Switch_PFET[RDSON25])*1000,IF(N21,LOOKUP(A21,Load_Switch_PFET[PARTNUMBER],Load_Switch_PFET[RDSON18])*1000,IF(M21,LOOKUP(A21,Load_Switch_PFET[PARTNUMBER],Load_Switch_PFET[RDSON15])*1000,\"\")))))","v":""},{"$f":"IF(AND(A21<>0,A21<>\"\"),R21*(1+(Tj-25)*(LOOKUP(A21,Load_Switch_PFET[PARTNUMBER],Load_Switch_PFET[RDSDELTA])/((LOOKUP(A21,Load_Switch_PFET[PARTNUMBER],Load_Switch_PFET[TJMAX])-25)))),\"\")","v":""},{"$f":"IF(AND(A21<>0,A21<>\"\"),LOOKUP(A21,Load_Switch_PFET[PARTNUMBER],Load_Switch_PFET[VTHMAX]),\"\")","v":""},{"$f":"IF(AND(A21<>0,A21<>\"\"),LOOKUP(A21,Load_Switch_PFET[PARTNUMBER],Load_Switch_PFET[VTHMIN]),\"\")","v":""},"#N/A",{"$f":"IF(AND($A21<>0,$A21<>\"\"),LOOKUP($A21,Load_Switch_PFET[PARTNUMBER],Load_Switch_PFET[RGIMAX]),\"\")","v":""},{"$f":"IF(AND($A21<>0,$A21<>\"\"),LOOKUP($A21,Load_Switch_PFET[PARTNUMBER],Load_Switch_PFET[QGTYP]),\"\")","v":""},{"$f":"IF(AND($A21<>0,$A21<>\"\"),LOOKUP($A21,Load_Switch_PFET[PARTNUMBER],Load_Switch_PFET[QGS]),\"\")","v":""},{"$f":"IF(AND($A21<>0,$A21<>\"\"),LOOKUP($A21,Load_Switch_PFET[PARTNUMBER],Load_Switch_PFET[QGD]),\"\")","v":""},{"$f":"IF(AND($A21<>0,$A21<>\"\"),LOOKUP($A21,Load_Switch_PFET[PARTNUMBER],Load_Switch_PFET[COSS_AT_VDSSPEC]),\"\")","v":""},"","","",{"$f":"IF(AND($A21<>0,$A21<>\"\"),LOOKUP($A21,Load_Switch_PFET[PARTNUMBER],Load_Switch_PFET[1KPRICE]),\"\")","v":""},{"$f":"IF(AND($A21<>0,$A21<>\"\"),LOOKUP(A21,Load_Switch_PFET[PARTNUMBER],Load_Switch_PFET[TI_EQ_PACKAGE]),\"\")","v":""},"Invalid Part"]
[{"$f":"IF(CH=\"P\",PLogic!B22,\"\")","v":""},{"$f":"IF(OR($A22=0,$A22=\"\"),\"0\",IF(LOOKUP($A22,Load_Switch_PFET[PARTNUMBER],Load_Switch_PFET[RDSON15])=\"(NULL)\",\"0\",\"1\"))","v":"0"},{"$f":"IF(OR($A22=0,$A22=\"\"),\"0\",IF(LOOKUP($A22,Load_Switch_PFET[PARTNUMBER],Load_Switch_PFET[RDSON18])=\"(NULL)\",\"0\",\"1\"))","v":"0"},{"$f":"IF(OR($A22=0,$A22=\"\"),\"0\",IF(LOOKUP($A22,Load_Switch_PFET[PARTNUMBER],Load_Switch_PFET[RDSON25])=\"(NULL)\",\"0\",\"1\"))","v":"0"},{"$f":"IF(OR($A22=0,$A22=\"\"),\"0\",IF(LOOKUP($A22,Load_Switch_PFET[PARTNUMBER],Load_Switch_PFET[RDSON45])=\"(NULL)\",\"0\",\"1\"))","v":"0"},{"$f":"IF(OR($A22=0,$A22=\"\"),\"0\",IF(LOOKUP($A22,Load_Switch_PFET[PARTNUMBER],Load_Switch_PFET[RDSON8])=\"(NULL)\",\"0\",\"1\"))","v":"0"},false,false,false,false,false,{"$f":"OR(PFET_PLOSS[[#This Row],[1V5]:[8V]])","v":false},false,false,false,false,false,{"$f":"IF(Q22,LOOKUP(A22,Load_Switch_PFET[PARTNUMBER],Load_Switch_PFET[RDSON8])*1000,IF(P22,LOOKUP(A22,Load_Switch_PFET[PARTNUMBER],Load_Switch_PFET[RDSON45])*1000,IF(O22,LOOKUP(A22,Load_Switch_PFET[PARTNUMBER],Load_Switch_PFET[RDSON25])*1000,IF(N22,LOOKUP(A22,Load_Switch_PFET[PARTNUMBER],Load_Switch_PFET[RDSON18])*1000,IF(M22,LOOKUP(A22,Load_Switch_PFET[PARTNUMBER],Load_Switch_PFET[RDSON15])*1000,\"\")))))","v":""},{"$f":"IF(AND(A22<>0,A22<>\"\"),R22*(1+(Tj-25)*(LOOKUP(A22,Load_Switch_PFET[PARTNUMBER],Load_Switch_PFET[RDSDELTA])/((LOOKUP(A22,Load_Switch_PFET[PARTNUMBER],Load_Switch_PFET[TJMAX])-25)))),\"\")","v":""},{"$f":"IF(AND(A22<>0,A22<>\"\"),LOOKUP(A22,Load_Switch_PFET[PARTNUMBER],Load_Switch_PFET[VTHMAX]),\"\")","v":""},{"$f":"IF(AND(A22<>0,A22<>\"\"),LOOKUP(A22,Load_Switch_PFET[PARTNUMBER],Load_Switch_PFET[VTHMIN]),\"\")","v":""},"#N/A",{"$f":"IF(AND($A22<>0,$A22<>\"\"),LOOKUP($A22,Load_Switch_PFET[PARTNUMBER],Load_Switch_PFET[RGIMAX]),\"\")","v":""},{"$f":"IF(AND($A22<>0,$A22<>\"\"),LOOKUP($A22,Load_Switch_PFET[PARTNUMBER],Load_Switch_PFET[QGTYP]),\"\")","v":""},{"$f":"IF(AND($A22<>0,$A22<>\"\"),LOOKUP($A22,Load_Switch_PFET[PARTNUMBER],Load_Switch_PFET[QGS]),\"\")","v":""},{"$f":"IF(AND($A22<>0,$A22<>\"\"),LOOKUP($A22,Load_Switch_PFET[PARTNUMBER],Load_Switch_PFET[QGD]),\"\")","v":""},{"$f":"IF(AND($A22<>0,$A22<>\"\"),LOOKUP($A22,Load_Switch_PFET[PARTNUMBER],Load_Switch_PFET[COSS_AT_VDSSPEC]),\"\")","v":""},"","","",{"$f":"IF(AND($A22<>0,$A22<>\"\"),LOOKUP($A22,Load_Switch_PFET[PARTNUMBER],Load_Switch_PFET[1KPRICE]),\"\")","v":""},{"$f":"IF(AND($A22<>0,$A22<>\"\"),LOOKUP(A22,Load_Switch_PFET[PARTNUMBER],Load_Switch_PFET[TI_EQ_PACKAGE]),\"\")","v":""},"Invalid Part"]
[{"$f":"IF(CH=\"P\",PLogic!B23,\"\")","v":""},{"$f":"IF(OR($A23=0,$A23=\"\"),\"0\",IF(LOOKUP($A23,Load_Switch_PFET[PARTNUMBER],Load_Switch_PFET[RDSON15])=\"(NULL)\",\"0\",\"1\"))","v":"0"},{"$f":"IF(OR($A23=0,$A23=\"\"),\"0\",IF(LOOKUP($A23,Load_Switch_PFET[PARTNUMBER],Load_Switch_PFET[RDSON18])=\"(NULL)\",\"0\",\"1\"))","v":"0"},{"$f":"IF(OR($A23=0,$A23=\"\"),\"0\",IF(LOOKUP($A23,Load_Switch_PFET[PARTNUMBER],Load_Switch_PFET[RDSON25])=\"(NULL)\",\"0\",\"1\"))","v":"0"},{"$f":"IF(OR($A23=0,$A23=\"\"),\"0\",IF(LOOKUP($A23,Load_Switch_PFET[PARTNUMBER],Load_Switch_PFET[RDSON45])=\"(NULL)\",\"0\",\"1\"))","v":"0"},{"$f":"IF(OR($A23=0,$A23=\"\"),\"0\",IF(LOOKUP($A23,Load_Switch_PFET[PARTNUMBER],Load_Switch_PFET[RDSON8])=\"(NULL)\",\"0\",\"1\"))","v":"0"},false,false,false,false,false,{"$f":"OR(PFET_PLOSS[[#This Row],[1V5]:[8V]])","v":false},false,false,false,false,false,{"$f":"IF(Q23,LOOKUP(A23,Load_Switch_PFET[PARTNUMBER],Load_Switch_PFET[RDSON8])*1000,IF(P23,LOOKUP(A23,Load_Switch_PFET[PARTNUMBER],Load_Switch_PFET[RDSON45])*1000,IF(O23,LOOKUP(A23,Load_Switch_PFET[PARTNUMBER],Load_Switch_PFET[RDSON25])*1000,IF(N23,LOOKUP(A23,Load_Switch_PFET[PARTNUMBER],Load_Switch_PFET[RDSON18])*1000,IF(M23,LOOKUP(A23,Load_Switch_PFET[PARTNUMBER],Load_Switch_PFET[RDSON15])*1000,\"\")))))","v":""},{"$f":"IF(AND(A23<>0,A23<>\"\"),R23*(1+(Tj-25)*(LOOKUP(A23,Load_Switch_PFET[PARTNUMBER],Load_Switch_PFET[RDSDELTA])/((LOOKUP(A23,Load_Switch_PFET[PARTNUMBER],Load_Switch_PFET[TJMAX])-25)))),\"\")","v":""},{"$f":"IF(AND(A23<>0,A23<>\"\"),LOOKUP(A23,Load_Switch_PFET[PARTNUMBER],Load_Switch_PFET[VTHMAX]),\"\")","v":""},{"$f":"IF(AND(A23<>0,A23<>\"\"),LOOKUP(A23,Load_Switch_PFET[PARTNUMBER],Load_Switch_PFET[VTHMIN]),\"\")","v":""},"#N/A",{"$f":"IF(AND($A23<>0,$A23<>\"\"),LOOKUP($A23,Load_Switch_PFET[PARTNUMBER],Load_Switch_PFET[RGIMAX]),\"\")","v":""},{"$f":"IF(AND($A23<>0,$A23<>\"\"),LOOKUP($A23,Load_Switch_PFET[PARTNUMBER],Load_Switch_PFET[QGTYP]),\"\")","v":""},{"$f":"IF(AND($A23<>0,$A23<>\"\"),LOOKUP($A23,Load_Switch_PFET[PARTNUMBER],Load_Switch_PFET[QGS]),\"\")","v":""},{"$f":"IF(AND($A23<>0,$A23<>\"\"),LOOKUP($A23,Load_Switch_PFET[PARTNUMBER],Load_Switch_PFET[QGD]),\"\")","v":""},{"$f":"IF(AND($A23<>0,$A23<>\"\"),LOOKUP($A23,Load_Switch_PFET[PARTNUMBER],Load_Switch_PFET[COSS_AT_VDSSPEC]),\"\")","v":""},"","","",{"$f":"IF(AND($A23<>0,$A23<>\"\"),LOOKUP($A23,Load_Switch_PFET[PARTNUMBER],Load_Switch_PFET[1KPRICE]),\"\")","v":""},{"$f":"IF(AND($A23<>0,$A23<>\"\"),LOOKUP(A23,Load_Switch_PFET[PARTNUMBER],Load_Switch_PFET[TI_EQ_PACKAGE]),\"\")","v":""},"Invalid Part"]
[{"$f":"IF(CH=\"P\",PLogic!B24,\"\")","v":""},{"$f":"IF(OR($A24=0,$A24=\"\"),\"0\",IF(LOOKUP($A24,Load_Switch_PFET[PARTNUMBER],Load_Switch_PFET[RDSON15])=\"(NULL)\",\"0\",\"1\"))","v":"0"},{"$f":"IF(OR($A24=0,$A24=\"\"),\"0\",IF(LOOKUP($A24,Load_Switch_PFET[PARTNUMBER],Load_Switch_PFET[RDSON18])=\"(NULL)\",\"0\",\"1\"))","v":"0"},{"$f":"IF(OR($A24=0,$A24=\"\"),\"0\",IF(LOOKUP($A24,Load_Switch_PFET[PARTNUMBER],Load_Switch_PFET[RDSON25])=\"(NULL)\",\"0\",\"1\"))","v":"0"},{"$f":"IF(OR($A24=0,$A24=\"\"),\"0\",IF(LOOKUP($A24,Load_Switch_PFET[PARTNUMBER],Load_Switch_PFET[RDSON45])=\"(NULL)\",\"0\",\"1\"))","v":"0"},{"$f":"IF(OR($A24=0,$A24=\"\"),\"0\",IF(LOOKUP($A24,Load_Switch_PFET[PARTNUMBER],Load_Switch_PFET[RDSON8])=\"(NULL)\",\"0\",\"1\"))","v":"0"},false,false,false,false,false,{"$f":"OR(PFET_PLOSS[[#This Row],[1V5]:[8V]])","v":false},false,false,false,false,false,{"$f":"IF(Q24,LOOKUP(A24,Load_Switch_PFET[PARTNUMBER],Load_Switch_PFET[RDSON8])*1000,IF(P24,LOOKUP(A24,Load_Switch_PFET[PARTNUMBER],Load_Switch_PFET[RDSON45])*1000,IF(O24,LOOKUP(A24,Load_Switch_PFET[PARTNUMBER],Load_Switch_PFET[RDSON25])*1000,IF(N24,LOOKUP(A24,Load_Switch_PFET[PARTNUMBER],Load_Switch_PFET[RDSON18])*1000,IF(M24,LOOKUP(A24,Load_Switch_PFET[PARTNUMBER],Load_Switch_PFET[RDSON15])*1000,\"\")))))","v":""},{"$f":"IF(AND(A24<>0,A24<>\"\"),R24*(1+(Tj-25)*(LOOKUP(A24,Load_Switch_PFET[PARTNUMBER],Load_Switch_PFET[RDSDELTA])/((LOOKUP(A24,Load_Switch_PFET[PARTNUMBER],Load_Switch_PFET[TJMAX])-25)))),\"\")","v":""},{"$f":"IF(AND(A24<>0,A24<>\"\"),LOOKUP(A24,Load_Switch_PFET[PARTNUMBER],Load_Switch_PFET[VTHMAX]),\"\")","v":""},{"$f":"IF(AND(A24<>0,A24<>\"\"),LOOKUP(A24,Load_Switch_PFET[PARTNUMBER],Load_Switch_PFET[VTHMIN]),\"\")","v":""},"#N/A",{"$f":"IF(AND($A24<>0,$A24<>\"\"),LOOKUP($A24,Load_Switch_PFET[PARTNUMBER],Load_Switch_PFET[RGIMAX]),\"\")","v":""},{"$f":"IF(AND($A24<>0,$A24<>\"\"),LOOKUP($A24,Load_Switch_PFET[PARTNUMBER],Load_Switch_PFET[QGTYP]),\"\")","v":""},{"$f":"IF(AND($A24<>0,$A24<>\"\"),LOOKUP($A24,Load_Switch_PFET[PARTNUMBER],Load_Switch_PFET[QGS]),\"\")","v":""},{"$f":"IF(AND($A24<>0,$A24<>\"\"),LOOKUP($A24,Load_Switch_PFET[PARTNUMBER],Load_Switch_PFET[QGD]),\"\")","v":""},{"$f":"IF(AND($A24<>0,$A24<>\"\"),LOOKUP($A24,Load_Switch_PFET[PARTNUMBER],Load_Switch_PFET[COSS_AT_VDSSPEC]),\"\")","v":""},"","","",{"$f":"IF(AND($A24<>0,$A24<>\"\"),LOOKUP($A24,Load_Switch_PFET[PARTNUMBER],Load_Switch_PFET[1KPRICE]),\"\")","v":""},{"$f":"IF(AND($A24<>0,$A24<>\"\"),LOOKUP(A24,Load_Switch_PFET[PARTNUMBER],Load_Switch_PFET[TI_EQ_PACKAGE]),\"\")","v":""},"Invalid Part"]
[{"$f":"IF(CH=\"P\",PLogic!B25,\"\")","v":""},{"$f":"IF(OR($A25=0,$A25=\"\"),\"0\",IF(LOOKUP($A25,Load_Switch_PFET[PARTNUMBER],Load_Switch_PFET[RDSON15])=\"(NULL)\",\"0\",\"1\"))","v":"0"},{"$f":"IF(OR($A25=0,$A25=\"\"),\"0\",IF(LOOKUP($A25,Load_Switch_PFET[PARTNUMBER],Load_Switch_PFET[RDSON18])=\"(NULL)\",\"0\",\"1\"))","v":"0"},{"$f":"IF(OR($A25=0,$A25=\"\"),\"0\",IF(LOOKUP($A25,Load_Switch_PFET[PARTNUMBER],Load_Switch_PFET[RDSON25])=\"(NULL)\",\"0\",\"1\"))","v":"0"},{"$f":"IF(OR($A25=0,$A25=\"\"),\"0\",IF(LOOKUP($A25,Load_Switch_PFET[PARTNUMBER],Load_Switch_PFET[RDSON45])=\"(NULL)\",\"0\",\"1\"))","v":"0"},{"$f":"IF(OR($A25=0,$A25=\"\"),\"0\",IF(LOOKUP($A25,Load_Switch_PFET[PARTNUMBER],Load_Switch_PFET[RDSON8])=\"(NULL)\",\"0\",\"1\"))","v":"0"},false,false,false,false,false,{"$f":"OR(PFET_PLOSS[[#This Row],[1V5]:[8V]])","v":false},false,false,false,false,false,{"$f":"IF(Q25,LOOKUP(A25,Load_Switch_PFET[PARTNUMBER],Load_Switch_PFET[RDSON8])*1000,IF(P25,LOOKUP(A25,Load_Switch_PFET[PARTNUMBER],Load_Switch_PFET[RDSON45])*1000,IF(O25,LOOKUP(A25,Load_Switch_PFET[PARTNUMBER],Load_Switch_PFET[RDSON25])*1000,IF(N25,LOOKUP(A25,Load_Switch_PFET[PARTNUMBER],Load_Switch_PFET[RDSON18])*1000,IF(M25,LOOKUP(A25,Load_Switch_PFET[PARTNUMBER],Load_Switch_PFET[RDSON15])*1000,\"\")))))","v":""},{"$f":"IF(AND(A25<>0,A25<>\"\"),R25*(1+(Tj-25)*(LOOKUP(A25,Load_Switch_PFET[PARTNUMBER],Load_Switch_PFET[RDSDELTA])/((LOOKUP(A25,Load_Switch_PFET[PARTNUMBER],Load_Switch_PFET[TJMAX])-25)))),\"\")","v":""},{"$f":"IF(AND(A25<>0,A25<>\"\"),LOOKUP(A25,Load_Switch_PFET[PARTNUMBER],Load_Switch_PFET[VTHMAX]),\"\")","v":""},{"$f":"IF(AND(A25<>0,A25<>\"\"),LOOKUP(A25,Load_Switch_PFET[PARTNUMBER],Load_Switch_PFET[VTHMIN]),\"\")","v":""},"#N/A",{"$f":"IF(AND($A25<>0,$A25<>\"\"),LOOKUP($A25,Load_Switch_PFET[PARTNUMBER],Load_Switch_PFET[RGIMAX]),\"\")","v":""},{"$f":"IF(AND($A25<>0,$A25<>\"\"),LOOKUP($A25,Load_Switch_PFET[PARTNUMBER],Load_Switch_PFET[QGTYP]),\"\")","v":""},{"$f":"IF(AND($A25<>0,$A25<>\"\"),LOOKUP($A25,Load_Switch_PFET[PARTNUMBER],Load_Switch_PFET[QGS]),\"\")","v":""},{"$f":"IF(AND($A25<>0,$A25<>\"\"),LOOKUP($A25,Load_Switch_PFET[PARTNUMBER],Load_Switch_PFET[QGD]),\"\")","v":""},{"$f":"IF(AND($A25<>0,$A25<>\"\"),LOOKUP($A25,Load_Switch_PFET[PARTNUMBER],Load_Switch_PFET[COSS_AT_VDSSPEC]),\"\")","v":""},"","","",{"$f":"IF(AND($A25<>0,$A25<>\"\"),LOOKUP($A25,Load_Switch_PFET[PARTNUMBER],Load_Switch_PFET[1KPRICE]),\"\")","v":""},{"$f":"IF(AND($A25<>0,$A25<>\"\"),LOOKUP(A25,Load_Switch_PFET[PARTNUMBER],Load_Switch_PFET[TI_EQ_PACKAGE]),\"\")","v":""},"Invalid Part"]
[null,null,null,null,null,null,null,null,null,null,null,null,null,null,null,null,null,null,null,null,null,null,null,null,null,null,null,null,null,null,null,null,{"$f":"IF(AND($A26<>0,$A26<>\"\"),CONCATENATE(A26,\", \",AF26,\", \",AD26,\"W, $\",AE26),\"\")","v":""}]

{"sheet":"FET_List1","index":10,"n_rows":167,"n_cols":2,"rows_kept":167,"cut":false,"hidden":true,"merged":[]}
[]
[]
[2.2250000000000001,"CSD16570Q5B, SON5X6, 2.225W, $0.753"]
[2.7480000000000002,"CSD17570Q5B, SON5X6, 2.748W, $0.762"]
[4.5359999999999996,"CSD16556Q5B, SON5X6, 4.536W, $0.788"]
[4.7039999999999997,"CSD16415Q5, SON5X6, 4.704W, $0.843"]
[4.7089999999999996,"CSD17573Q5B, SON5x6, 4.709W, $0.55"]
[5.069,"CSD17559Q5, SON5X6, 5.069W, $0.898"]
[6.5519999999999996,"CSD17556Q5B, SON5x6, 6.552W, $0.806"]
[6.843,"CSD16401Q5, SON5X6, 6.843W, $0.796"]
[8.0990000000000002,"CSD16414Q5, SON5X6, 8.099W, $0.676"]
[9.36,"CSD17575Q3, SON5X6, 9.36W, $0.324"]
[9.6479999999999997,"CSD17576Q5B, SON5X6, 9.648W, $0.397"]
[10.092000000000001,"CSD16407Q5, SON5X6, 10.092W, $0.595"]
[12.177,"CSD16403Q5A, SON5X6, 12.177W, $0.534"]
[12.319000000000001,"CSD17501Q5A, SON5x6, 12.319W, $0.625"]
[12.442,"CSD17555Q5A, SON5X6, 12.442W, $0.562"]
[14.285,"CSD17553Q5A, SON5X6, 14.285W, $0.443"]
[15.12,"CSD17505Q5A, SON5x6, 15.12W, $0.562"]
[15.178000000000001,"CSD17581Q5A, SON5X6, 15.178W, $0.252"]
[16.280999999999999,"CSD16413Q5A, SON5X6, 16.281W, $0.425"]
[16.963000000000001,"CSD17581Q3A, SON3X3, 16.963W, $0.234"]
[16.992000000000001,"CSD17506Q5A, SON5x6, 16.992W, $0.495"]
[17.600000000000001,"CSD16406Q3, SON3X3, 17.6W, $0.339"]
[18.748999999999999,"CSD17577Q5A, SON5x6, 18.749W, $0.212"]
[19.375,"CSD16408Q5, SON5X6, 19.375W, $0.459"]
[21.518000000000001,"CSD16404Q5A, SON5X6, 21.518W, $0.319"]
[27.648,"CSD17552Q3A, SON3X3, 27.648W, $0.295"]
[29.015999999999998,"CSD17552Q5A, SON5X6, 29.016W, $0.313"]
[34.058999999999997,"CSD17522Q5A, SON5x6, 34.059W, $0.374"]
[34.834000000000003,"CSD16409Q3, SON3X3, 34.834W, $0.293"]
[46.189,"CSD17507Q5A, SON5x6, 46.189W, $0.244"]
[46.655999999999999,"CSD17527Q5A, SON5x6, 46.656W, $0.351"]
["","Invalid Part"]
[""]
[""]
[""]
[""]
[""]
[""]
[""]
[""]
[""]
[""]
[""]
[""]
[""]
[""]
[""]
[""]
[""]
[""]
[""]
[""]
[""]
[""]
[""]
[""]
[""]
[""]
[""]
[""]
[""]
[""]
[""]
[""]
[""]
[""]
[""]
[""]
[""]
[""]
[""]
[""]
[""]
[""]
[""]
[""]
[""]
[""]
[""]
[""]
[""]
[""]
[""]
[""]
[""]
[""]
[""]
[""]
[""]
[""]
[""]
[""]
[""]
[""]
[""]
[""]
[""]
[""]
[""]
[""]
[""]
[""]
[""]
[""]
[""]
[""]
[""]
[""]
[""]
[""]
[""]
[""]
[""]
[""]
[""]
[""]
[""]
[""]
[""]
[""]
[""]
[""]
[""]
[""]
[""]
[""]
[""]
[""]
[""]
[""]
[""]
[""]
[""]
[""]
[""]
[""]
[""]
[""]
[""]
[""]
[""]
[""]
[""]
[""]
[""]
[""]
[""]
[""]
[""]
[""]
[""]
[""]
[""]
[""]
[""]
[""]
[""]
[""]
[""]
[""]
[""]
[""]
[""]
[""]
[""]

{"sheet":"FET_List2","index":11,"n_rows":0,"n_cols":0,"rows_kept":0,"cut":false,"hidden":true,"merged":[]}

{"sheet":"FET_List3","index":12,"n_rows":0,"n_cols":0,"rows_kept":0,"cut":false,"hidden":true,"merged":[]}