Workbook
Name DC_gain_comp: Sheet2!$B$31
Name DC_gain_power: Sheet2!$B$21
Name fp: Sheet2!$B$18
Name fp_comp1: Sheet2!$B$29
Name fp_comp2: Sheet2!$B$30
Name fp_ff: Sheet2!$B$55
Name fz_comp: Sheet2!$B$28
Name fz_ff: Sheet2!$B$54
Name fzESR: Sheet2!$B$20
Name fzRHP: Sheet2!$B$19
Name GmPS: Sheet2!$B$6
Name Rsns: Sheet2!$D$5
Name Vout: Sheet2!$B$11
Name Vref: Sheet2!$B$3

Sheet Sheet1
B1: TPS61288 18V, 15A Boost Converter Design Tool
D5: User Input | G5: ABOUT | K5: Terms of Use
A10: Input Voltage Parameters
A11: Input Minimum Voltage | B11: 5.5 | C11: V
A12: Input Norminal Voltage | B12: 7.4 | C12: V | I12: =B33 -> 2.2 | J12: uH
A13: Input Maximum Voltage | B13: 8.4 | C13: V | E13: =B12 -> 7.4 | F13: V
A15: Output Parameters
A16: Output Voltage | B16: 12.95 | C16: V | M16: =B16 -> 12.95 | N16: V
A17: Maximum Output Current | B17: 3.5 | C17: A | M17: =B17 -> 3.5 | N17: A
A18: Efficiency | B18: 90 | C18: %
N19: =B42 -> 43 | O19: uF
A20: Setting Output Voltage
A21: Resistor Divider R2 | B21: 13.3 | C21: kΩ | K21: =B22 -> 273.75833 | L21: kΩ
A22: Resistor Divider R1 | B22: =((B16/0.6)-1)*B21 -> 273.75833 | C22: kΩ | L22: =B51 -> 0.0005816651 | M22: pF
A24: Frequency and Duty at Normal Inout Voltage | D24: 0.6
A25: Switching Frequency | B25: =0.5 -> 0.5 | C25: MHz | D25: =0.6+(B12-1)*0.8 -> 5.72 | K25: =B21 -> 13.3 | L25: kΩ
A26: Duty Cycle | B26: =1-B12*B18/B16/100 -> 0.48571429 | D26: 1
A28: Inductor Selection
A29: Inductor DC Current | B29: =B16*B17/B12/B18*100 -> 6.8055556 | C29: A
A30: Inductor Peak-to-Peak Current Ratio | B30: 30 | C30: %
A31: Inductor Peak-to-Peak Current | B31: =B29*B30/100 -> 2.0416667 | C31: A
A32: Calculated Inductance Value | B32: =B12*B26/B25/B31 -> 3.5209329 | C32: uH
A33: Selected Inductance Value L1 | B33: 2.2 | C33: uH
A34: Inductor Peak-to-Peak Current | B34: =B12*B26/B33/B25 -> 3.2675325 | C34: A
A35: Inductor Peak Current | B35: =B29+B34/2 -> 8.4393218 | C35: A
A36: Inductor Valley Current | B36: =B29-B34/2 -> 5.1717893 | C36: A
A38: Output Capacitor Selection
A39: Output Ripple | B39: 100 | C39: mV
A40: Output Ripple Percentage | B40: =B39/10/B16 -> 0.77220077 | C40: %
A41: Calculated Effective Output Capacitance | B41: =B17*(1-B11*B18/100/B16)/B25/B39*1000 -> 43.243243 | C41: uF
A42: Selected Effective Output Capacitance C2 | B42: 43 | C42: uF
A43: Output Capacitor ESR | B43: 1 | C43: mΩ
A44: Real Output Ripple | B44: =B43*B35+1000*B17*(1-B11*B18/100/B16)/B25/B42 -> 109.005 | C44: mV
A46: Loop Stability and Feedforward Capacitor
A47: Rc COMP | B47: 36.5 | C47: kΩ
A48: Cc COMP | B48: 1 | C48: nF
A49: Cp COMP | B49: 30 | C49: pF | F49: time | G49: IL
A50: Zero Frequency Inducing by Feedforward Capacitor | B50: 1000000 | C50: kHz | F50: 0 | G50: =B36 -> 5.1717893
A51: Feedforward Capacitance C3 | B51: =1/2/3.14/B50/B22*1000000 -> 0.0005816651 | C51: pF | F51: =B26/B25 -> 0.97142857 | G51: =B35 -> 8.4393218
A52: Cross-over Frequency | B52: =Sheet2!BH4/1000 -> 9.5499259 | C52: kHz | F52: =1/B25 -> 2 | G52: =B36 -> 5.1717893
A53: Phase Margin | B53: =Sheet2!BH5 -> 66 | C53: ⁰ | F53: =F51+F52 -> 2.9714286 | G53: =B35 -> 8.4393218
A54: Gain Margin | B54: =Sheet2!BH6*-1 -> 46 | C54: dB | F54: =2/B25 -> 4 | G54: =B36 -> 5.1717893

Sheet Sheet2
A1: BOOST peak current control loop response BY Jing
A2: fsw | B2: =Sheet1!B25*1000 -> 500 | C2: kHz | D2: =B2*1000 -> 500000 | X2: power stage | AG2: error AMP | AR2: loop | AT2: feedforward | AV2: feedforward | AX2: feedforward | AZ2: Loop+Cff | BD2: Loop+Cff ROUND
A3: Vref | B3: 0.6 | C3: V | W3: f | X3: DCgain | Y3: fp gain | Z3: fp phase | AA3: fzRHP gain | AB3: fzRHP phase | AC3: fzESR gain | AD3: fzESR phase | AE3: power gain | AF3: power phase | AG3: Dcgain | AH3: fp_comp1 gain | AI3: fp_comp1 phase | AJ3: fz_comp gain | AK3: fz_comp phase | AL3: fp_comp2 gain | AM3: fp_comp2 phase | AN3: err gain | AO3: err phase | AP3: current sense gain | AQ3: FB divider gain | AR3: loop gain | AS3: loop phase | AT3: fz_ff gain | AU3: fz_ff phase | AV3: fp_ff gain | AW3: fp_ff hase | AX3: Cff gain | AY3: Cff phase | AZ3: gain | BA3: phase | BB3: phase+180 | BD3: gain | BE3: phase | BF3: phase+180
A4: GmEA | B4: 0.18 | C4: mA/V | D4: =B4/1000 -> 0.00018 | V4: 1 | W4: =10*10^V4 -> 100 | X4: =DC_gain_power -> -0.43247622 | Y4: =20*LOG(1/SQRT((W4/fp)^2+1)) -> -0.010836337 | Z4: =-180/PI()*ATAN(W4/fp) -> -2.8614187 | AA4: =20*LOG(SQRT((W4/fzRHP)^2+1)) -> 8.6649824e-06 | AB4: =-180/PI()*ATAN(W4/fzRHP) -> -0.080930877 | AC4: =20*LOG(SQRT((W4/fzESR)^2+1)) -> 3.1701571e-09 | AD4: =180/PI()*ATAN(W4/fzESR) -> 0.001548 | AE4: =X4+Y4+AA4+AC4 -> -0.44330389 | AF4: =Z4+AB4+AD4 -> -2.9408016 | AG4: =DC_gain_comp -> 92.11041 | AH4: =20*LOG(1/SQRT((W4/fp_comp1)^2+1)) -> -43.225509 | AI4: =-180/PI()*ATAN(W4/fp_comp1) -> -89.604769 | AJ4: =20*LOG(SQRT((W4/fz_comp)^2+1)) -> 0.0022835766 | AK4: =180/PI()*ATAN(W4/fz_comp) -> 1.3137697 | AL4: =20*LOG(1/SQRT((W4/fp_comp2)^2+1)) -> -2.0557589e-06 | AM4: =-180/PI()*ATAN(W4/fp_comp2) -> -0.039419994 | AN4: =AG4+AH4+AJ4+AL4 -> 48.887183 | AO4: =AI4+AK4+AM4 -> -88.33042 | AP4: =-20*LOG(GmPS*Rsns) -> 23.609121 | AQ4: =20*LOG(Vref/Vout) -> -26.68237 | AR4: =AE4+AN4+AP4+AQ4 -> 45.37063 | AS4: =AF4+AO4 -> -91.271221 | AT4: =20*LOG(SQRT((W4/fz_ff)^2+1)) -> 4.2430409e-14 | AU4: =180/PI()*ATAN(W4/fz_ff) -> 5.7324841e-06 | AV4: =20*LOG(1/SQRT((W4/fp_ff)^2+1)) -> 0 | AW4: =-180/PI()*ATAN(W4/fp_ff) -> -2.6559772e-07 | AX4: =AT4+AV4 -> 4.2430409e-14 | AY4: =AU4+AW4 -> 5.4668864e-06 | AZ4: =AR4+AX4 -> 45.37063 | BA4: =AS4+AY4 -> -91.271216 | BB4: =BA4+180 -> 88.728784 | BD4: =ROUND(AZ4,0) -> 45 | BE4: =ROUND(BA4,0) -> -91 | BF4: =ROUND(BB4,0) -> 89 | BG4: crossoverf | BH4: =LOOKUP(1,0/(BD4:BD822=0),W4:W822) -> 9549.9259
A5: Rsns | B5: 66 | C5: mΩ | D5: =B5/1000 -> 0.066 | V5: 1.01 | W5: =10*10^V5 -> 102.3293 | X5: =DC_gain_power -> -0.43247622 | Y5: =20*LOG(1/SQRT((W5/fp)^2+1)) -> -0.011346371 | Z5: =-180/PI()*ATAN(W5/fp) -> -2.9279551 | AA5: =20*LOG(SQRT((W5/fzRHP)^2+1)) -> 9.07335e-06 | AB5: =-180/PI()*ATAN(W5/fzRHP) -> -0.082815997 | AC5: =20*LOG(SQRT((W5/fzESR)^2+1)) -> 3.3195623e-09 | AD5: =180/PI()*ATAN(W5/fzESR) -> 0.0015840576 | AE5: =X5+Y5+AA5+AC5 -> -0.44381351 | AF5: =Z5+AB5+AD5 -> -3.009187 | AG5: =DC_gain_comp -> 92.11041 | AH5: =20*LOG(1/SQRT((W5/fp_comp1)^2+1)) -> -43.4255 | AI5: =-180/PI()*ATAN(W5/fp_comp1) -> -89.613766 | AJ5: =20*LOG(SQRT((W5/fz_comp)^2+1)) -> 0.0023911687 | AK5: =180/PI()*ATAN(W5/fz_comp) -> 1.3443602 | AL5: =20*LOG(1/SQRT((W5/fp_comp2)^2+1)) -> -2.1526438e-06 | AM5: =-180/PI()*ATAN(W5/fp_comp2) -> -0.040338203 | AN5: =AG5+AH5+AJ5+AL5 -> 48.6873 | AO5: =AI5+AK5+AM5 -> -88.309744 | AP5: =-20*LOG(GmPS*Rsns) -> 23.609121 | AQ5: =20*LOG(Vref/Vout) -> -26.68237 | AR5: =AE5+AN5+AP5+AQ5 -> 45.170237 | AS5: =AF5+AO5 -> -91.318931 | AT5: =20*LOG(SQRT((W5/fz_ff)^2+1)) -> 4.4359063e-14 | AU5: =180/PI()*ATAN(W5/fz_ff) -> 5.8660108e-06 | AV5: =20*LOG(1/SQRT((W5/fp_ff)^2+1)) -> 0 | AW5: =-180/PI()*ATAN(W5/fp_ff) -> -2.7178428e-07 | AX5: =AT5+AV5 -> 4.4359063e-14 | AY5: =AU5+AW5 -> 5.5942265e-06 | AZ5: =AR5+AX5 -> 45.170237 | BA5: =AS5+AY5 -> -91.318925 | BB5: =BA5+180 -> 88.681075 | BD5: =ROUND(AZ5,0) -> 45 | BE5: =ROUND(BA5,0) -> -91 | BF5: =ROUND(BB5,0) -> 89 | BG5: phase margin | BH5: =LOOKUP(1,0/(BD4:BD822=0),BF4:BF822) -> 66
A6: GmPS | B6: 1 | C6: A/V | V6: 1.02 | W6: =10*10^V6 -> 104.71285 | X6: =DC_gain_power -> -0.43247622 | Y6: =20*LOG(1/SQRT((W6/fp)^2+1)) -> -0.011880378 | Z6: =-180/PI()*ATAN(W6/fp) -> -2.9960331 | AA6: =20*LOG(SQRT((W6/fzRHP)^2+1)) -> 9.5009634e-06 | AB6: =-180/PI()*ATAN(W6/fzRHP) -> -0.084745026 | AC6: =20*LOG(SQRT((W6/fzESR)^2+1)) -> 3.476009e-09 | AD6: =180/PI()*ATAN(W6/fzESR) -> 0.001620955 | AE6: =X6+Y6+AA6+AC6 -> -0.44434709 | AF6: =Z6+AB6+AD6 -> -3.0791571 | AG6: =DC_gain_comp -> 92.11041 | AH6: =20*LOG(1/SQRT((W6/fp_comp1)^2+1)) -> -43.625491 | AI6: =-180/PI()*ATAN(W6/fp_comp1) -> -89.622557 | AJ6: =20*LOG(SQRT((W6/fz_comp)^2+1)) -> 0.0025038285 | AK6: =180/PI()*ATAN(W6/fz_comp) -> 1.3756625 | AL6: =20*LOG(1/SQRT((W6/fp_comp2)^2+1)) -> -2.2540948e-06 | AM6: =-180/PI()*ATAN(W6/fp_comp2) -> -0.0412778 | AN6: =AG6+AH6+AJ6+AL6 -> 48.487421 | AO6: =AI6+AK6+AM6 -> -88.288172 | AP6: =-20*LOG(GmPS*Rsns) -> 23.609121 | AQ6: =20*LOG(Vref/Vout) -> -26.68237 | AR6: =AE6+AN6+AP6+AQ6 -> 44.969825 | AS6: =AF6+AO6 -> -91.36733 | AT6: =20*LOG(SQRT((W6/fz_ff)^2+1)) -> 4.6287718e-14 | AU6: =180/PI()*ATAN(W6/fz_ff) -> 6.0026477e-06 | AV6: =20*LOG(1/SQRT((W6/fp_ff)^2+1)) -> 0 | AW6: =-180/PI()*ATAN(W6/fp_ff) -> -2.7811495e-07 | AX6: =AT6+AV6 -> 4.6287718e-14 | AY6: =AU6+AW6 -> 5.7245328e-06 | AZ6: =AR6+AX6 -> 44.969825 | BA6: =AS6+AY6 -> -91.367324 | BB6: =BA6+180 -> 88.632676 | BD6: =ROUND(AZ6,0) -> 45 | BE6: =ROUND(BA6,0) -> -91 | BF6: =ROUND(BB6,0) -> 89 | BG6: gain margin | BH6: =LOOKUP(1,0/(BF4:BF822=0),BD4:BD822) -> -46
A7: L | B7: =Sheet1!B33 -> 2.2 | C7: uH | D7: =B7/1000000 -> 2.2e-06 | V7: 1.03 | W7: =10*10^V7 -> 107.15193 | X7: =DC_gain_power -> -0.43247622 | Y7: =20*LOG(1/SQRT((W7/fp)^2+1)) -> -0.012439482 | Z7: =-180/PI()*ATAN(W7/fp) -> -3.065688 | AA7: =20*LOG(SQRT((W7/fzRHP)^2+1)) -> 9.9487295e-06 | AB7: =-180/PI()*ATAN(W7/fzRHP) -> -0.086718989 | AC7: =20*LOG(SQRT((W7/fzESR)^2+1)) -> 3.6398289e-09 | AD7: =180/PI()*ATAN(W7/fzESR) -> 0.0016587119 | AE7: =X7+Y7+AA7+AC7 -> -0.44490575 | AF7: =Z7+AB7+AD7 -> -3.1507483 | AG7: =DC_gain_comp -> 92.11041 | AH7: =20*LOG(1/SQRT((W7/fp_comp1)^2+1)) -> -43.825482 | AI7: =-180/PI()*ATAN(W7/fp_comp1) -> -89.631149 | AJ7: =20*LOG(SQRT((W7/fz_comp)^2+1)) -> 0.0026217947 | AK7: =180/PI()*ATAN(W7/fz_comp) -> 1.4076931 | AL7: =20*LOG(1/SQRT((W7/fp_comp2)^2+1)) -> -2.360327e-06 | AM7: =-180/PI()*ATAN(W7/fp_comp2) -> -0.042239283 | AN7: =AG7+AH7+AJ7+AL7 -> 48.287548 | AO7: =AI7+AK7+AM7 -> -88.265695 | AP7: =-20*LOG(GmPS*Rsns) -> 23.609121 | AQ7: =20*LOG(Vref/Vout) -> -26.68237 | AR7: =AE7+AN7+AP7+AQ7 -> 44.769393 | AS7: =AF7+AO7 -> -91.416443 | AT7: =20*LOG(SQRT((W7/fz_ff)^2+1)) -> 5.0145028e-14 | AU7: =180/PI()*ATAN(W7/fz_ff) -> 6.1424674e-06 | AV7: =20*LOG(1/SQRT((W7/fp_ff)^2+1)) -> 0 | AW7: =-180/PI()*ATAN(W7/fp_ff) -> -2.8459308e-07 | AX7: =AT7+AV7 -> 5.0145028e-14 | AY7: =AU7+AW7 -> 5.8578743e-06 | AZ7: =AR7+AX7 -> 44.769393 | BA7: =AS7+AY7 -> -91.416437 | BB7: =BA7+180 -> 88.583563 | BD7: =ROUND(AZ7,0) -> 45 | BE7: =ROUND(BA7,0) -> -91 | BF7: =ROUND(BB7,0) -> 89
A8: Cout | B8: =Sheet1!B42 -> 43 | C8: uF | D8: =B8/1000000 -> 4.3e-05 | V8: 1.04 | W8: =10*10^V8 -> 109.64782 | X8: =DC_gain_power -> -0.43247622 | Y8: =20*LOG(1/SQRT((W8/fp)^2+1)) -> -0.013024858 | Z8: =-180/PI()*ATAN(W8/fp) -> -3.1369561 | AA8: =20*LOG(SQRT((W8/fzRHP)^2+1)) -> 1.0417598e-05 | AB8: =-180/PI()*ATAN(W8/fzRHP) -> -0.08873893 | AC8: =20*LOG(SQRT((W8/fzESR)^2+1)) -> 3.8113674e-09 | AD8: =180/PI()*ATAN(W8/fzESR) -> 0.0016973482 | AE8: =X8+Y8+AA8+AC8 -> -0.44549065 | AF8: =Z8+AB8+AD8 -> -3.2239976 | AG8: =DC_gain_comp -> 92.11041 | AH8: =20*LOG(1/SQRT((W8/fp_comp1)^2+1)) -> -44.025474 | AI8: =-180/PI()*ATAN(W8/fp_comp1) -> -89.639544 | AJ8: =20*LOG(SQRT((W8/fz_comp)^2+1)) -> 0.002745317 | AK8: =180/PI()*ATAN(W8/fz_comp) -> 1.4404688 | AL8: =20*LOG(1/SQRT((W8/fp_comp2)^2+1)) -> -2.4715657e-06 | AM8: =-180/PI()*ATAN(W8/fp_comp2) -> -0.043223162 | AN8: =AG8+AH8+AJ8+AL8 -> 48.087679 | AO8: =AI8+AK8+AM8 -> -88.242299 | AP8: =-20*LOG(GmPS*Rsns) -> 23.609121 | AQ8: =20*LOG(Vref/Vout) -> -26.68237 | AR8: =AE8+AN8+AP8+AQ8 -> 44.568939 | AS8: =AF8+AO8 -> -91.466296 | AT8: =20*LOG(SQRT((W8/fz_ff)^2+1)) -> 5.2073683e-14 | AU8: =180/PI()*ATAN(W8/fz_ff) -> 6.2855438e-06 | AV8: =20*LOG(1/SQRT((W8/fp_ff)^2+1)) -> 0 | AW8: =-180/PI()*ATAN(W8/fp_ff) -> -2.9122211e-07 | AX8: =AT8+AV8 -> 5.2073683e-14 | AY8: =AU8+AW8 -> 5.9943217e-06 | AZ8: =AR8+AX8 -> 44.568939 | BA8: =AS8+AY8 -> -91.46629 | BB8: =BA8+180 -> 88.53371 | BD8: =ROUND(AZ8,0) -> 45 | BE8: =ROUND(BA8,0) -> -91 | BF8: =ROUND(BB8,0) -> 89
A9: ESR | B9: =Sheet1!B43 -> 1 | C9: mΩ | D9: =B9/1000 -> 0.001 | V9: 1.05 | W9: =10*10^V9 -> 112.20185 | X9: =DC_gain_power -> -0.43247622 | Y9: =20*LOG(1/SQRT((W9/fp)^2+1)) -> -0.013637738 | Z9: =-180/PI()*ATAN(W9/fp) -> -3.2098741 | AA9: =20*LOG(SQRT((W9/fzRHP)^2+1)) -> 1.0908564e-05 | AB9: =-180/PI()*ATAN(W9/fzRHP) -> -0.090805922 | AC9: =20*LOG(SQRT((W9/fzESR)^2+1)) -> 3.9909927e-09 | AD9: =180/PI()*ATAN(W9/fzESR) -> 0.0017368846 | AE9: =X9+Y9+AA9+AC9 -> -0.44610304 | AF9: =Z9+AB9+AD9 -> -3.2989431 | AG9: =DC_gain_comp -> 92.11041 | AH9: =20*LOG(1/SQRT((W9/fp_comp1)^2+1)) -> -44.225466 | AI9: =-180/PI()*ATAN(W9/fp_comp1) -> -89.647749 | AJ9: =20*LOG(SQRT((W9/fz_comp)^2+1)) -> 0.002874657 | AK9: =180/PI()*ATAN(W9/fz_comp) -> 1.474007 | AL9: =20*LOG(1/SQRT((W9/fp_comp2)^2+1)) -> -2.588047e-06 | AM9: =-180/PI()*ATAN(W9/fp_comp2) -> -0.044229959 | AN9: =AG9+AH9+AJ9+AL9 -> 47.887816 | AO9: =AI9+AK9+AM9 -> -88.217972 | AP9: =-20*LOG(GmPS*Rsns) -> 23.609121 | AQ9: =20*LOG(Vref/Vout) -> -26.68237 | AR9: =AE9+AN9+AP9+AQ9 -> 44.368464 | AS9: =AF9+AO9 -> -91.516915 | AT9: =20*LOG(SQRT((W9/fz_ff)^2+1)) -> 5.4002338e-14 | AU9: =180/PI()*ATAN(W9/fz_ff) -> 6.4319529e-06 | AV9: =20*LOG(1/SQRT((W9/fp_ff)^2+1)) -> 0 | AW9: =-180/PI()*ATAN(W9/fp_ff) -> -2.9800554e-07 | AX9: =AT9+AV9 -> 5.4002338e-14 | AY9: =AU9+AW9 -> 6.1339474e-06 | AZ9: =AR9+AX9 -> 44.368464 | BA9: =AS9+AY9 -> -91.516909 | BB9: =BA9+180 -> 88.483091 | BD9: =ROUND(AZ9,0) -> 44 | BE9: =ROUND(BA9,0) -> -92 | BF9: =ROUND(BB9,0) -> 88
A10: Iout | B10: =Sheet1!B17 -> 3.5 | C10: A | V10: 1.06 | W10: =10*10^V10 -> 114.81536 | X10: =DC_gain_power -> -0.43247622 | Y10: =20*LOG(1/SQRT((W10/fp)^2+1)) -> -0.01427941 | Z10: =-180/PI()*ATAN(W10/fp) -> -3.2844798 | AA10: =20*LOG(SQRT((W10/fzRHP)^2+1)) -> 1.1422668e-05 | AB10: =-180/PI()*ATAN(W10/fzRHP) -> -0.09292106 | AC10: =20*LOG(SQRT((W10/fzESR)^2+1)) -> 4.1790828e-09 | AD10: =180/PI()*ATAN(W10/fzESR) -> 0.0017773418 | AE10: =X10+Y10+AA10+AC10 -> -0.4467442 | AF10: =Z10+AB10+AD10 -> -3.3756236 | AG10: =DC_gain_comp -> 92.11041 | AH10: =20*LOG(1/SQRT((W10/fp_comp1)^2+1)) -> -44.425459 | AI10: =-180/PI()*ATAN(W10/fp_comp1) -> -89.655767 | AJ10: =20*LOG(SQRT((W10/fz_comp)^2+1)) -> 0.0030100885 | AK10: =180/PI()*ATAN(W10/fz_comp) -> 1.5083253 | AL10: =20*LOG(1/SQRT((W10/fp_comp2)^2+1)) -> -2.7100178e-06 | AM10: =-180/PI()*ATAN(W10/fp_comp2) -> -0.045260206 | AN10: =AG10+AH10+AJ10+AL10 -> 47.687959 | AO10: =AI10+AK10+AM10 -> -88.192702 | AP10: =-20*LOG(GmPS*Rsns) -> 23.609121 | AQ10: =20*LOG(Vref/Vout) -> -26.68237 | AR10: =AE10+AN10+AP10+AQ10 -> 44.167966 | AS10: =AF10+AO10 -> -91.568326 | AT10: =20*LOG(SQRT((W10/fz_ff)^2+1)) -> 5.5930993e-14 | AU10: =180/PI()*ATAN(W10/fz_ff) -> 6.5817724e-06 | AV10: =20*LOG(1/SQRT((W10/fp_ff)^2+1)) -> 0 | AW10: =-180/PI()*ATAN(W10/fp_ff) -> -3.0494698e-07 | AX10: =AT10+AV10 -> 5.5930993e-14 | AY10: =AU10+AW10 -> 6.2768254e-06 | AZ10: =AR10+AX10 -> 44.167966 | BA10: =AS10+AY10 -> -91.568319 | BB10: =BA10+180 -> 88.431681 | BD10: =ROUND(AZ10,0) -> 44 | BE10: =ROUND(BA10,0) -> -92 | BF10: =ROUND(BB10,0) -> 88
A11: Vout | B11: =Sheet1!B16 -> 12.95 | C11: V | V11: 1.07 | W11: =10*10^V11 -> 117.48976 | X11: =DC_gain_power -> -0.43247622 | Y11: =20*LOG(1/SQRT((W11/fp)^2+1)) -> -0.01495122 | Z11: =-180/PI()*ATAN(W11/fp) -> -3.3608118 | AA11: =20*LOG(SQRT((W11/fzRHP)^2+1)) -> 1.1961001e-05 | AB11: =-180/PI()*ATAN(W11/fzRHP) -> -0.095085466 | AC11: =20*LOG(SQRT((W11/fzESR)^2+1)) -> 4.376037e-09 | AD11: =180/PI()*ATAN(W11/fzESR) -> 0.0018187414 | AE11: =X11+Y11+AA11+AC11 -> -0.44741547 | AF11: =Z11+AB11+AD11 -> -3.4540785 | AG11: =DC_gain_comp -> 92.11041 | AH11: =20*LOG(1/SQRT((W11/fp_comp1)^2+1)) -> -44.625452 | AI11: =-180/PI()*ATAN(W11/fp_comp1) -> -89.663603 | AJ11: =20*LOG(SQRT((W11/fz_comp)^2+1)) -> 0.0031518981 | AK11: =180/PI()*ATAN(W11/fz_comp) -> 1.5434419 | AL11: =20*LOG(1/SQRT((W11/fp_comp2)^2+1)) -> -2.837737e-06 | AM11: =-180/PI()*ATAN(W11/fp_comp2) -> -0.046314452 | AN11: =AG11+AH11+AJ11+AL11 -> 47.488108 | AO11: =AI11+AK11+AM11 -> -88.166475 | AP11: =-20*LOG(GmPS*Rsns) -> 23.609121 | AQ11: =20*LOG(Vref/Vout) -> -26.68237 | AR11: =AE11+AN11+AP11+AQ11 -> 43.967443 | AS11: =AF11+AO11 -> -91.620554 | AT11: =20*LOG(SQRT((W11/fz_ff)^2+1)) -> 5.9788303e-14 | AU11: =180/PI()*ATAN(W11/fz_ff) -> 6.7350815e-06 | AV11: =20*LOG(1/SQRT((W11/fp_ff)^2+1)) -> 0 | AW11: =-180/PI()*ATAN(W11/fp_ff) -> -3.1205011e-07 | AX11: =AT11+AV11 -> 5.9788303e-14 | AY11: =AU11+AW11 -> 6.4230314e-06 | AZ11: =AR11+AX11 -> 43.967443 | BA11: =AS11+AY11 -> -91.620547 | BB11: =BA11+180 -> 88.379453 | BD11: =ROUND(AZ11,0) -> 44 | BE11: =ROUND(BA11,0) -> -92 | BF11: =ROUND(BB11,0) -> 88
A12: Rout | B12: =B11/B10 -> 3.7 | C12: Ω | V12: 1.08 | W12: =10*10^V12 -> 120.22644 | X12: =DC_gain_power -> -0.43247622 | Y12: =20*LOG(1/SQRT((W12/fp)^2+1)) -> -0.015654581 | Z12: =-180/PI()*ATAN(W12/fp) -> -3.4389094 | AA12: =20*LOG(SQRT((W12/fzRHP)^2+1)) -> 1.2524705e-05 | AB12: =-180/PI()*ATAN(W12/fzRHP) -> -0.097300286 | AC12: =20*LOG(SQRT((W12/fzESR)^2+1)) -> 4.582272e-09 | AD12: =180/PI()*ATAN(W12/fzESR) -> 0.0018611053 | AE12: =X12+Y12+AA12+AC12 -> -0.44811827 | AF12: =Z12+AB12+AD12 -> -3.5343486 | AG12: =DC_gain_comp -> 92.11041 | AH12: =20*LOG(1/SQRT((W12/fp_comp1)^2+1)) -> -44.825445 | AI12: =-180/PI()*ATAN(W12/fp_comp1) -> -89.67126 | AJ12: =20*LOG(SQRT((W12/fz_comp)^2+1)) -> 0.0033003861 | AK12: =180/PI()*ATAN(W12/fz_comp) -> 1.5793753 | AL12: =20*LOG(1/SQRT((W12/fp_comp2)^2+1)) -> -2.9714754e-06 | AM12: =-180/PI()*ATAN(W12/fp_comp2) -> -0.047393253 | AN12: =AG12+AH12+AJ12+AL12 -> 47.288263 | AO12: =AI12+AK12+AM12 -> -88.139278 | AP12: =-20*LOG(GmPS*Rsns) -> 23.609121 | AQ12: =20*LOG(Vref/Vout) -> -26.68237 | AR12: =AE12+AN12+AP12+AQ12 -> 43.766895 | AS12: =AF12+AO12 -> -91.673626 | AT12: =20*LOG(SQRT((W12/fz_ff)^2+1)) -> 6.1716958e-14 | AU12: =180/PI()*ATAN(W12/fz_ff) -> 6.8919617e-06 | AV12: =20*LOG(1/SQRT((W12/fp_ff)^2+1)) -> 0 | AW12: =-180/PI()*ATAN(W12/fp_ff) -> -3.1931869e-07 | AX12: =AT12+AV12 -> 6.1716958e-14 | AY12: =AU12+AW12 -> 6.572643e-06 | AZ12: =AR12+AX12 -> 43.766895 | BA12: =AS12+AY12 -> -91.67362 | BB12: =BA12+180 -> 88.32638 | BD12: =ROUND(AZ12,0) -> 44 | BE12: =ROUND(BA12,0) -> -92 | BF12: =ROUND(BB12,0) -> 88
A13: Vin | B13: =Sheet1!B12 -> 7.4 | C13: V | V13: 1.09 | W13: =10*10^V13 -> 123.02688 | X13: =DC_gain_power -> -0.43247622 | Y13: =20*LOG(1/SQRT((W13/fp)^2+1)) -> -0.016390968 | Z13: =-180/PI()*ATAN(W13/fp) -> -3.518813 | AA13: =20*LOG(SQRT((W13/fzRHP)^2+1)) -> 1.3114975e-05 | AB13: =-180/PI()*ATAN(W13/fzRHP) -> -0.099566697 | AC13: =20*LOG(SQRT((W13/fzESR)^2+1)) -> 4.7982292e-09 | AD13: =180/PI()*ATAN(W13/fzESR) -> 0.0019044561 | AE13: =X13+Y13+AA13+AC13 -> -0.44885407 | AF13: =Z13+AB13+AD13 -> -3.6164752 | AG13: =DC_gain_comp -> 92.11041 | AH13: =20*LOG(1/SQRT((W13/fp_comp1)^2+1)) -> -45.025439 | AI13: =-180/PI()*ATAN(W13/fp_comp1) -> -89.678743 | AJ13: =20*LOG(SQRT((W13/fz_comp)^2+1)) -> 0.0034558666 | AK13: =180/PI()*ATAN(W13/fz_comp) -> 1.6161444 | AL13: =20*LOG(1/SQRT((W13/fp_comp2)^2+1)) -> -3.1115167e-06 | AM13: =-180/PI()*ATAN(W13/fp_comp2) -> -0.048497183 | AN13: =AG13+AH13+AJ13+AL13 -> 47.088424 | AO13: =AI13+AK13+AM13 -> -88.111096 | AP13: =-20*LOG(GmPS*Rsns) -> 23.609121 | AQ13: =20*LOG(Vref/Vout) -> -26.68237 | AR13: =AE13+AN13+AP13+AQ13 -> 43.566321 | AS13: =AF13+AO13 -> -91.727571 | AT13: =20*LOG(SQRT((W13/fz_ff)^2+1)) -> 6.5574268e-14 | AU13: =180/PI()*ATAN(W13/fz_ff) -> 7.0524961e-06 | AV13: =20*LOG(1/SQRT((W13/fp_ff)^2+1)) -> 0 | AW13: =-180/PI()*ATAN(W13/fp_ff) -> -3.2675658e-07 | AX13: =AT13+AV13 -> 6.5574268e-14 | AY13: =AU13+AW13 -> 6.7257396e-06 | AZ13: =AR13+AX13 -> 43.566321 | BA13: =AS13+AY13 -> -91.727564 | BB13: =BA13+180 -> 88.272436 | BD13: =ROUND(AZ13,0) -> 44 | BE13: =ROUND(BA13,0) -> -92 | BF13: =ROUND(BB13,0) -> 88
A14: Efficiency | B14: =Sheet1!B18 -> 90 | C14: % | D14: =B14/100 -> 0.9 | V14: 1.1 | W14: =10*10^V14 -> 125.89254 | X14: =DC_gain_power -> -0.43247622 | Y14: =20*LOG(1/SQRT((W14/fp)^2+1)) -> -0.017161926 | Z14: =-180/PI()*ATAN(W14/fp) -> -3.6005635 | AA14: =20*LOG(SQRT((W14/fzRHP)^2+1)) -> 1.3733064e-05 | AB14: =-180/PI()*ATAN(W14/fzRHP) -> -0.1018859 | AC14: =20*LOG(SQRT((W14/fzESR)^2+1)) -> 5.0243621e-09 | AD14: =180/PI()*ATAN(W14/fzESR) -> 0.0019488165 | AE14: =X14+Y14+AA14+AC14 -> -0.44962441 | AF14: =Z14+AB14+AD14 -> -3.7005005 | AG14: =DC_gain_comp -> 92.11041 | AH14: =20*LOG(1/SQRT((W14/fp_comp1)^2+1)) -> -45.225433 | AI14: =-180/PI()*ATAN(W14/fp_comp1) -> -89.686055 | AJ14: =20*LOG(SQRT((W14/fz_comp)^2+1)) -> 0.0036186688 | AK14: =180/PI()*ATAN(W14/fz_comp) -> 1.6537686 | AL14: =20*LOG(1/SQRT((W14/fp_comp2)^2+1)) -> -3.2581579e-06 | AM14: =-180/PI()*ATAN(W14/fp_comp2) -> -0.049626827 | AN14: =AG14+AH14+AJ14+AL14 -> 46.888593 | AO14: =AI14+AK14+AM14 -> -88.081914 | AP14: =-20*LOG(GmPS*Rsns) -> 23.609121 | AQ14: =20*LOG(Vref/Vout) -> -26.68237 | AR14: =AE14+AN14+AP14+AQ14 -> 43.36572 | AS14: =AF14+AO14 -> -91.782414 | AT14: =20*LOG(SQRT((W14/fz_ff)^2+1)) -> 6.7502923e-14 | AU14: =180/PI()*ATAN(W14/fz_ff) -> 7.2167699e-06 | AV14: =20*LOG(1/SQRT((W14/fp_ff)^2+1)) -> 0 | AW14: =-180/PI()*ATAN(W14/fp_ff) -> -3.3436772e-07 | AX14: =AT14+AV14 -> 6.7502923e-14 | AY14: =AU14+AW14 -> 6.8824022e-06 | AZ14: =AR14+AX14 -> 43.36572 | BA14: =AS14+AY14 -> -91.782407 | BB14: =BA14+180 -> 88.217593 | BD14: =ROUND(AZ14,0) -> 43 | BE14: =ROUND(BA14,0) -> -92 | BF14: =ROUND(BB14,0) -> 88
V15: 1.11 | W15: =10*10^V15 -> 128.82496 | X15: =DC_gain_power -> -0.43247622 | Y15: =20*LOG(1/SQRT((W15/fp)^2+1)) -> -0.017969072 | Z15: =-180/PI()*ATAN(W15/fp) -> -3.684203 | AA15: =20*LOG(SQRT((W15/fzRHP)^2+1)) -> 1.4380282e-05 | AB15: =-180/PI()*ATAN(W15/fzRHP) -> -0.10425912 | AC15: =20*LOG(SQRT((W15/fzESR)^2+1)) -> 5.2611527e-09 | AD15: =180/PI()*ATAN(W15/fzESR) -> 0.0019942103 | AE15: =X15+Y15+AA15+AC15 -> -0.4504309 | AF15: =Z15+AB15+AD15 -> -3.7864679 | AG15: =DC_gain_comp -> 92.11041 | AH15: =20*LOG(1/SQRT((W15/fp_comp1)^2+1)) -> -45.425427 | AI15: =-180/PI()*ATAN(W15/fp_comp1) -> -89.693201 | AJ15: =20*LOG(SQRT((W15/fz_comp)^2+1)) -> 0.003789137 | AK15: =180/PI()*ATAN(W15/fz_comp) -> 1.6922677 | AL15: =20*LOG(1/SQRT((W15/fp_comp2)^2+1)) -> -3.4117101e-06 | AM15: =-180/PI()*ATAN(W15/fp_comp2) -> -0.050782784 | AN15: =AG15+AH15+AJ15+AL15 -> 46.688769 | AO15: =AI15+AK15+AM15 -> -88.051717 | AP15: =-20*LOG(GmPS*Rsns) -> 23.609121 | AQ15: =20*LOG(Vref/Vout) -> -26.68237 | AR15: =AE15+AN15+AP15+AQ15 -> 43.165089 | AS15: =AF15+AO15 -> -91.838184 | AT15: =20*LOG(SQRT((W15/fz_ff)^2+1)) -> 7.1360233e-14 | AU15: =180/PI()*ATAN(W15/fz_ff) -> 7.38487e-06 | AV15: =20*LOG(1/SQRT((W15/fp_ff)^2+1)) -> 0 | AW15: =-180/PI()*ATAN(W15/fp_ff) -> -3.4215614e-07 | AX15: =AT15+AV15 -> 7.1360233e-14 | AY15: =AU15+AW15 -> 7.0427139e-06 | AZ15: =AR15+AX15 -> 43.165089 | BA15: =AS15+AY15 -> -91.838177 | BB15: =BA15+180 -> 88.161823 | BD15: =ROUND(AZ15,0) -> 43 | BE15: =ROUND(BA15,0) -> -92 | BF15: =ROUND(BB15,0) -> 88
A16: Power stage | D16: 1-D | V16: 1.12 | W16: =10*10^V16 -> 131.82567 | X16: =DC_gain_power -> -0.43247622 | Y16: =20*LOG(1/SQRT((W16/fp)^2+1)) -> -0.018814097 | Z16: =-180/PI()*ATAN(W16/fp) -> -3.7697745 | AA16: =20*LOG(SQRT((W16/fzRHP)^2+1)) -> 1.5058003e-05 | AB16: =-180/PI()*ATAN(W16/fzRHP) -> -0.10668762 | AC16: =20*LOG(SQRT((W16/fzESR)^2+1)) -> 5.5091025e-09 | AD16: =180/PI()*ATAN(W16/fzESR) -> 0.0020406614 | AE16: =X16+Y16+AA16+AC16 -> -0.45127525 | AF16: =Z16+AB16+AD16 -> -3.8744214 | AG16: =DC_gain_comp -> 92.11041 | AH16: =20*LOG(1/SQRT((W16/fp_comp1)^2+1)) -> -45.625421 | AI16: =-180/PI()*ATAN(W16/fp_comp1) -> -89.700185 | AJ16: =20*LOG(SQRT((W16/fz_comp)^2+1)) -> 0.003967632 | AK16: =180/PI()*ATAN(W16/fz_comp) -> 1.7316619 | AL16: =20*LOG(1/SQRT((W16/fp_comp2)^2+1)) -> -3.5724989e-06 | AM16: =-180/PI()*ATAN(W16/fp_comp2) -> -0.051965666 | AN16: =AG16+AH16+AJ16+AL16 -> 46.488953 | AO16: =AI16+AK16+AM16 -> -88.020489 | AP16: =-20*LOG(GmPS*Rsns) -> 23.609121 | AQ16: =20*LOG(Vref/Vout) -> -26.68237 | AR16: =AE16+AN16+AP16+AQ16 -> 42.964429 | AS16: =AF16+AO16 -> -91.89491 | AT16: =20*LOG(SQRT((W16/fz_ff)^2+1)) -> 7.5217542e-14 | AU16: =180/PI()*ATAN(W16/fz_ff) -> 7.5568858e-06 | AV16: =20*LOG(1/SQRT((W16/fp_ff)^2+1)) -> 0 | AW16: =-180/PI()*ATAN(W16/fp_ff) -> -3.5012598e-07 | AX16: =AT16+AV16 -> 7.5217542e-14 | AY16: =AU16+AW16 -> 7.2067598e-06 | AZ16: =AR16+AX16 -> 42.964429 | BA16: =AS16+AY16 -> -91.894903 | BB16: =BA16+180 -> 88.105097 | BD16: =ROUND(AZ16,0) -> 43 | BE16: =ROUND(BA16,0) -> -92 | BF16: =ROUND(BB16,0) -> 88
A17: D | B17: =(1-B13*D14/B11) -> 0.48571429 | D17: =1-B17 -> 0.51428571 | V17: 1.13 | W17: =10*10^V17 -> 134.89629 | X17: =DC_gain_power -> -0.43247622 | Y17: =20*LOG(1/SQRT((W17/fp)^2+1)) -> -0.01969877 | Z17: =-180/PI()*ATAN(W17/fp) -> -3.8573217 | AA17: =20*LOG(SQRT((W17/fzRHP)^2+1)) -> 1.5767663e-05 | AB17: =-180/PI()*ATAN(W17/fzRHP) -> -0.10917269 | AC17: =20*LOG(SQRT((W17/fzESR)^2+1)) -> 5.76874e-09 | AD17: =180/PI()*ATAN(W17/fzESR) -> 0.0020881945 | AE17: =X17+Y17+AA17+AC17 -> -0.45215921 | AF17: =Z17+AB17+AD17 -> -3.9644062 | AG17: =DC_gain_comp -> 92.11041 | AH17: =20*LOG(1/SQRT((W17/fp_comp1)^2+1)) -> -45.825416 | AI17: =-180/PI()*ATAN(W17/fp_comp1) -> -89.707009 | AJ17: =20*LOG(SQRT((W17/fz_comp)^2+1)) -> 0.0041545313 | AK17: =180/PI()*ATAN(W17/fz_comp) -> 1.7719721 | AL17: =20*LOG(1/SQRT((W17/fp_comp2)^2+1)) -> -3.7408655e-06 | AM17: =-180/PI()*ATAN(W17/fp_comp2) -> -0.053176102 | AN17: =AG17+AH17+AJ17+AL17 -> 46.289145 | AO17: =AI17+AK17+AM17 -> -87.988213 | AP17: =-20*LOG(GmPS*Rsns) -> 23.609121 | AQ17: =20*LOG(Vref/Vout) -> -26.68237 | AR17: =AE17+AN17+AP17+AQ17 -> 42.763737 | AS17: =AF17+AO17 -> -91.95262 | AT17: =20*LOG(SQRT((W17/fz_ff)^2+1)) -> 7.9074852e-14 | AU17: =180/PI()*ATAN(W17/fz_ff) -> 7.7329082e-06 | AV17: =20*LOG(1/SQRT((W17/fp_ff)^2+1)) -> 0 | AW17: =-180/PI()*ATAN(W17/fp_ff) -> -3.5828146e-07 | AX17: =AT17+AV17 -> 7.9074852e-14 | AY17: =AU17+AW17 -> 7.3746268e-06 | AZ17: =AR17+AX17 -> 42.763737 | BA17: =AS17+AY17 -> -91.952612 | BB17: =BA17+180 -> 88.047388 | BD17: =ROUND(AZ17,0) -> 43 | BE17: =ROUND(BA17,0) -> -92 | BF17: =ROUND(BB17,0) -> 88
A18: fp | B18: =1/PI()/B12/D8 -> 2000.6907 | C18: Hz | D18: =fp -> 2000.6907 | E18: =fp -> 2000.6907 | F18: 180 | G18: -180 | V18: 1.14 | W18: =10*10^V18 -> 138.03843 | X18: =DC_gain_power -> -0.43247622 | Y18: =20*LOG(1/SQRT((W18/fp)^2+1)) -> -0.020624943 | Z18: =-180/PI()*ATAN(W18/fp) -> -3.9468895 | AA18: =20*LOG(SQRT((W18/fzRHP)^2+1)) -> 1.6510769e-05 | AB18: =-180/PI()*ATAN(W18/fzRHP) -> -0.11171564 | AC18: =20*LOG(SQRT((W18/fzESR)^2+1)) -> 6.0406109e-09 | AD18: =180/PI()*ATAN(W18/fzESR) -> 0.0021368348 | AE18: =X18+Y18+AA18+AC18 -> -0.45308464 | AF18: =Z18+AB18+AD18 -> -4.0564683 | AG18: =DC_gain_comp -> 92.11041 | AH18: =20*LOG(1/SQRT((W18/fp_comp1)^2+1)) -> -46.025411 | AI18: =-180/PI()*ATAN(W18/fp_comp1) -> -89.713679 | AJ18: =20*LOG(SQRT((W18/fz_comp)^2+1)) -> 0.0043502303 | AK18: =180/PI()*ATAN(W18/fz_comp) -> 1.8132194 | AL18: =20*LOG(1/SQRT((W18/fp_comp2)^2+1)) -> -3.917167e-06 | AM18: =-180/PI()*ATAN(W18/fp_comp2) -> -0.054414731 | AN18: =AG18+AH18+AJ18+AL18 -> 46.089346 | AO18: =AI18+AK18+AM18 -> -87.954874 | AP18: =-20*LOG(GmPS*Rsns) -> 23.609121 | AQ18: =20*LOG(Vref/Vout) -> -26.68237 | AR18: =AE18+AN18+AP18+AQ18 -> 42.563012 | AS18: =AF18+AO18 -> -92.011342 | AT18: =20*LOG(SQRT((W18/fz_ff)^2+1)) -> 8.2932162e-14 | AU18: =180/PI()*ATAN(W18/fz_ff) -> 7.9130308e-06 | AV18: =20*LOG(1/SQRT((W18/fp_ff)^2+1)) -> 0 | AW18: =-180/PI()*ATAN(W18/fp_ff) -> -3.6662691e-07 | AX18: =AT18+AV18 -> 8.2932162e-14 | AY18: =AU18+AW18 -> 7.5464039e-06 | AZ18: =AR18+AX18 -> 42.563012 | BA18: =AS18+AY18 -> -92.011335 | BB18: =BA18+180 -> 87.988665 | BD18: =ROUND(AZ18,0) -> 43 | BE18: =ROUND(BA18,0) -> -92 | BF18: =ROUND(BB18,0) -> 88
A19: fzRHP | B19: =B12*(1-B17)^2/2/PI()/D7 -> 70795.898 | C19: Hz | D19: =fzRHP -> 70795.898 | E19: =fzRHP -> 70795.898 | V19: 1.15 | W19: =10*10^V19 -> 141.25375 | X19: =DC_gain_power -> -0.43247622 | Y19: =20*LOG(1/SQRT((W19/fp)^2+1)) -> -0.021594554 | Z19: =-180/PI()*ATAN(W19/fp) -> -4.0385236 | AA19: =20*LOG(SQRT((W19/fzRHP)^2+1)) -> 1.7288896e-05 | AB19: =-180/PI()*ATAN(W19/fzRHP) -> -0.11431783 | AC19: =20*LOG(SQRT((W19/fzESR)^2+1)) -> 6.3252977e-09 | AD19: =180/PI()*ATAN(W19/fzESR) -> 0.0021866081 | AE19: =X19+Y19+AA19+AC19 -> -0.45405348 | AF19: =Z19+AB19+AD19 -> -4.1506548 | AG19: =DC_gain_comp -> 92.11041 | AH19: =20*LOG(1/SQRT((W19/fp_comp1)^2+1)) -> -46.225406 | AI19: =-180/PI()*ATAN(W19/fp_comp1) -> -89.720196 | AJ19: =20*LOG(SQRT((W19/fz_comp)^2+1)) -> 0.0045551428 | AK19: =180/PI()*ATAN(W19/fz_comp) -> 1.8554255 | AL19: =20*LOG(1/SQRT((W19/fp_comp2)^2+1)) -> -4.1017773e-06 | AM19: =-180/PI()*ATAN(W19/fp_comp2) -> -0.055682212 | AN19: =AG19+AH19+AJ19+AL19 -> 45.889556 | AO19: =AI19+AK19+AM19 -> -87.920453 | AP19: =-20*LOG(GmPS*Rsns) -> 23.609121 | AQ19: =20*LOG(Vref/Vout) -> -26.68237 | AR19: =AE19+AN19+AP19+AQ19 -> 42.362253 | AS19: =AF19+AO19 -> -92.071107 | AT19: =20*LOG(SQRT((W19/fz_ff)^2+1)) -> 8.6789472e-14 | AU19: =180/PI()*ATAN(W19/fz_ff) -> 8.097349e-06 | AV19: =20*LOG(1/SQRT((W19/fp_ff)^2+1)) -> 0 | AW19: =-180/PI()*ATAN(W19/fp_ff) -> -3.7516675e-07 | AX19: =AT19+AV19 -> 8.6789472e-14 | AY19: =AU19+AW19 -> 7.7221822e-06 | AZ19: =AR19+AX19 -> 42.362253 | BA19: =AS19+AY19 -> -92.0711 | BB19: =BA19+180 -> 87.9289 | BD19: =ROUND(AZ19,0) -> 42 | BE19: =ROUND(BA19,0) -> -92 | BF19: =ROUND(BB19,0) -> 88
A20: fzESR | B20: =1/2/PI()/D8/D9 -> 3701277.7 | C20: Hz | D20: =fzESR -> 3701277.7 | E20: =fzESR -> 3701277.7 | V20: 1.16 | W20: =10*10^V20 -> 144.54398 | X20: =DC_gain_power -> -0.43247622 | Y20: =20*LOG(1/SQRT((W20/fp)^2+1)) -> -0.022609629 | Z20: =-180/PI()*ATAN(W20/fp) -> -4.1322707 | AA20: =20*LOG(SQRT((W20/fzRHP)^2+1)) -> 1.8103695e-05 | AB20: =-180/PI()*ATAN(W20/fzRHP) -> -0.11698062 | AC20: =20*LOG(SQRT((W20/fzESR)^2+1)) -> 6.6233983e-09 | AD20: =180/PI()*ATAN(W20/fzESR) -> 0.0022375408 | AE20: =X20+Y20+AA20+AC20 -> -0.45506774 | AF20: =Z20+AB20+AD20 -> -4.2470138 | AG20: =DC_gain_comp -> 92.11041 | AH20: =20*LOG(1/SQRT((W20/fp_comp1)^2+1)) -> -46.425401 | AI20: =-180/PI()*ATAN(W20/fp_comp1) -> -89.726565 | AJ20: =20*LOG(SQRT((W20/fz_comp)^2+1)) -> 0.0047697023 | AK20: =180/PI()*ATAN(W20/fz_comp) -> 1.8986126 | AL20: =20*LOG(1/SQRT((W20/fp_comp2)^2+1)) -> -4.2950881e-06 | AM20: =-180/PI()*ATAN(W20/fp_comp2) -> -0.056979217 | AN20: =AG20+AH20+AJ20+AL20 -> 45.689775 | AO20: =AI20+AK20+AM20 -> -87.884932 | AP20: =-20*LOG(GmPS*Rsns) -> 23.609121 | AQ20: =20*LOG(Vref/Vout) -> -26.68237 | AR20: =AE20+AN20+AP20+AQ20 -> 42.161458 | AS20: =AF20+AO20 -> -92.131945 | AT20: =20*LOG(SQRT((W20/fz_ff)^2+1)) -> 9.0646782e-14 | AU20: =180/PI()*ATAN(W20/fz_ff) -> 8.2859605e-06 | AV20: =20*LOG(1/SQRT((W20/fp_ff)^2+1)) -> 0 | AW20: =-180/PI()*ATAN(W20/fp_ff) -> -3.839055e-07 | AX20: =AT20+AV20 -> 9.0646782e-14 | AY20: =AU20+AW20 -> 7.902055e-06 | AZ20: =AR20+AX20 -> 42.161458 | BA20: =AS20+AY20 -> -92.131937 | BB20: =BA20+180 -> 87.868063 | BD20: =ROUND(AZ20,0) -> 42 | BE20: =ROUND(BA20,0) -> -92 | BF20: =ROUND(BB20,0) -> 88
A21: DC_gain_power | B21: =20*LOG(B12*D17/2) -> -0.43247622 | C21: dB | D21: =DC_gain_power -> -0.43247622 | E21: =DC_gain_power -> -0.43247622 | F21: 100 | G21: 1000000 | V21: 1.17 | W21: =10*10^V21 -> 147.91084 | X21: =DC_gain_power -> -0.43247622 | Y21: =20*LOG(1/SQRT((W21/fp)^2+1)) -> -0.02367229 | Z21: =-180/PI()*ATAN(W21/fp) -> -4.2281786 | AA21: =20*LOG(SQRT((W21/fzRHP)^2+1)) -> 1.8956894e-05 | AB21: =-180/PI()*ATAN(W21/fzRHP) -> -0.11970544 | AC21: =20*LOG(SQRT((W21/fzESR)^2+1)) -> 6.9355511e-09 | AD21: =180/PI()*ATAN(W21/fzESR) -> 0.0022896598 | AE21: =X21+Y21+AA21+AC21 -> -0.45612954 | AF21: =Z21+AB21+AD21 -> -4.3455944 | AG21: =DC_gain_comp -> 92.11041 | AH21: =20*LOG(1/SQRT((W21/fp_comp1)^2+1)) -> -46.625397 | AI21: =-180/PI()*ATAN(W21/fp_comp1) -> -89.732789 | AJ21: =20*LOG(SQRT((W21/fz_comp)^2+1)) -> 0.0049943622 | AK21: =180/PI()*ATAN(W21/fz_comp) -> 1.9428035 | AL21: =20*LOG(1/SQRT((W21/fp_comp2)^2+1)) -> -4.4975092e-06 | AM21: =-180/PI()*ATAN(W21/fp_comp2) -> -0.058306433 | AN21: =AG21+AH21+AJ21+AL21 -> 45.490004 | AO21: =AI21+AK21+AM21 -> -87.848292 | AP21: =-20*LOG(GmPS*Rsns) -> 23.609121 | AQ21: =20*LOG(Vref/Vout) -> -26.68237 | AR21: =AE21+AN21+AP21+AQ21 -> 41.960625 | AS21: =AF21+AO21 -> -92.193886 | AT21: =20*LOG(SQRT((W21/fz_ff)^2+1)) -> 9.4504092e-14 | AU21: =180/PI()*ATAN(W21/fz_ff) -> 8.4789653e-06 | AV21: =20*LOG(1/SQRT((W21/fp_ff)^2+1)) -> 0 | AW21: =-180/PI()*ATAN(W21/fp_ff) -> -3.9284781e-07 | AX21: =AT21+AV21 -> 9.4504092e-14 | AY21: =AU21+AW21 -> 8.0861175e-06 | AZ21: =AR21+AX21 -> 41.960625 | BA21: =AS21+AY21 -> -92.193878 | BB21: =BA21+180 -> 87.806122 | BD21: =ROUND(AZ21,0) -> 42 | BE21: =ROUND(BA21,0) -> -92 | BF21: =ROUND(BB21,0) -> 88
V22: 1.18 | W22: =10*10^V22 -> 151.35612 | X22: =DC_gain_power -> -0.43247622 | Y22: =20*LOG(1/SQRT((W22/fp)^2+1)) -> -0.024784753 | Z22: =-180/PI()*ATAN(W22/fp) -> -4.3262958 | AA22: =20*LOG(SQRT((W22/fzRHP)^2+1)) -> 1.9850302e-05 | AB22: =-180/PI()*ATAN(W22/fzRHP) -> -0.12249373 | AC22: =20*LOG(SQRT((W22/fzESR)^2+1)) -> 7.2624119e-09 | AD22: =180/PI()*ATAN(W22/fzESR) -> 0.0023429928 | AE22: =X22+Y22+AA22+AC22 -> -0.45724111 | AF22: =Z22+AB22+AD22 -> -4.4464466 | AG22: =DC_gain_comp -> 92.11041 | AH22: =20*LOG(1/SQRT((W22/fp_comp1)^2+1)) -> -46.825392 | AI22: =-180/PI()*ATAN(W22/fp_comp1) -> -89.738871 | AJ22: =20*LOG(SQRT((W22/fz_comp)^2+1)) -> 0.0052295976 | AK22: =180/PI()*ATAN(W22/fz_comp) -> 1.9880213 | AL22: =20*LOG(1/SQRT((W22/fp_comp2)^2+1)) -> -4.7094702e-06 | AM22: =-180/PI()*ATAN(W22/fp_comp2) -> -0.059664563 | AN22: =AG22+AH22+AJ22+AL22 -> 45.290243 | AO22: =AI22+AK22+AM22 -> -87.810515 | AP22: =-20*LOG(GmPS*Rsns) -> 23.609121 | AQ22: =20*LOG(Vref/Vout) -> -26.68237 | AR22: =AE22+AN22+AP22+AQ22 -> 41.759753 | AS22: =AF22+AO22 -> -92.256961 | AT22: =20*LOG(SQRT((W22/fz_ff)^2+1)) -> 9.8361402e-14 | AU22: =180/PI()*ATAN(W22/fz_ff) -> 8.6764658e-06 | AV22: =20*LOG(1/SQRT((W22/fp_ff)^2+1)) -> 0 | AW22: =-180/PI()*ATAN(W22/fp_ff) -> -4.0199841e-07 | AX22: =AT22+AV22 -> 9.8361402e-14 | AY22: =AU22+AW22 -> 8.2744673e-06 | AZ22: =AR22+AX22 -> 41.759753 | BA22: =AS22+AY22 -> -92.256953 | BB22: =BA22+180 -> 87.743047 | BD22: =ROUND(AZ22,0) -> 42 | BE22: =ROUND(BA22,0) -> -92 | BF22: =ROUND(BB22,0) -> 88
A23: Error Amplifier | V23: 1.19 | W23: =10*10^V23 -> 154.88166 | X23: =DC_gain_power -> -0.43247622 | Y23: =20*LOG(1/SQRT((W23/fp)^2+1)) -> -0.025949339 | Z23: =-180/PI()*ATAN(W23/fp) -> -4.4266722 | AA23: =20*LOG(SQRT((W23/fzRHP)^2+1)) -> 2.0785816e-05 | AB23: =-180/PI()*ATAN(W23/fzRHP) -> -0.12534697 | AC23: =20*LOG(SQRT((W23/fzESR)^2+1)) -> 7.6046806e-09 | AD23: =180/PI()*ATAN(W23/fzESR) -> 0.0023975681 | AE23: =X23+Y23+AA23+AC23 -> -0.45840476 | AF23: =Z23+AB23+AD23 -> -4.5496216 | AG23: =DC_gain_comp -> 92.11041 | AH23: =20*LOG(1/SQRT((W23/fp_comp1)^2+1)) -> -47.025388 | AI23: =-180/PI()*ATAN(W23/fp_comp1) -> -89.744815 | AJ23: =20*LOG(SQRT((W23/fz_comp)^2+1)) -> 0.0054759056 | AK23: =180/PI()*ATAN(W23/fz_comp) -> 2.0342898 | AL23: =20*LOG(1/SQRT((W23/fp_comp2)^2+1)) -> -4.9314205e-06 | AM23: =-180/PI()*ATAN(W23/fp_comp2) -> -0.061054328 | AN23: =AG23+AH23+AJ23+AL23 -> 45.090493 | AO23: =AI23+AK23+AM23 -> -87.77158 | AP23: =-20*LOG(GmPS*Rsns) -> 23.609121 | AQ23: =20*LOG(Vref/Vout) -> -26.68237 | AR23: =AE23+AN23+AP23+AQ23 -> 41.558839 | AS23: =AF23+AO23 -> -92.321201 | AT23: =20*LOG(SQRT((W23/fz_ff)^2+1)) -> 1.0414737e-13 | AU23: =180/PI()*ATAN(W23/fz_ff) -> 8.8785666e-06 | AV23: =20*LOG(1/SQRT((W23/fp_ff)^2+1)) -> 0 | AW23: =-180/PI()*ATAN(W23/fp_ff) -> -4.1136216e-07 | AX23: =AT23+AV23 -> 1.0414737e-13 | AY23: =AU23+AW23 -> 8.4672044e-06 | AZ23: =AR23+AX23 -> 41.558839 | BA23: =AS23+AY23 -> -92.321193 | BB23: =BA23+180 -> 87.678807 | BD23: =ROUND(AZ23,0) -> 42 | BE23: =ROUND(BA23,0) -> -92 | BF23: =ROUND(BB23,0) -> 88
A24: Ro_ea | B24: 224 | C24: MΩ | D24: =B24*1000000 -> 224000000 | V24: 1.2 | W24: =10*10^V24 -> 158.48932 | X24: =DC_gain_power -> -0.43247622 | Y24: =20*LOG(1/SQRT((W24/fp)^2+1)) -> -0.027168476 | Z24: =-180/PI()*ATAN(W24/fp) -> -4.5293584 | AA24: =20*LOG(SQRT((W24/fzRHP)^2+1)) -> 2.1765419e-05 | AB24: =-180/PI()*ATAN(W24/fzRHP) -> -0.12826667 | AC24: =20*LOG(SQRT((W24/fzESR)^2+1)) -> 7.9630768e-09 | AD24: =180/PI()*ATAN(W24/fzESR) -> 0.0024534147 | AE24: =X24+Y24+AA24+AC24 -> -0.45962292 | AF24: =Z24+AB24+AD24 -> -4.6551717 | AG24: =DC_gain_comp -> 92.11041 | AH24: =20*LOG(1/SQRT((W24/fp_comp1)^2+1)) -> -47.225384 | AI24: =-180/PI()*ATAN(W24/fp_comp1) -> -89.750624 | AJ24: =20*LOG(SQRT((W24/fz_comp)^2+1)) -> 0.0057338068 | AK24: =180/PI()*ATAN(W24/fz_comp) -> 2.0816333 | AL24: =20*LOG(1/SQRT((W24/fp_comp2)^2+1)) -> -5.1638311e-06 | AM24: =-180/PI()*ATAN(W24/fp_comp2) -> -0.062476465 | AN24: =AG24+AH24+AJ24+AL24 -> 44.890755 | AO24: =AI24+AK24+AM24 -> -87.731467 | AP24: =-20*LOG(GmPS*Rsns) -> 23.609121 | AQ24: =20*LOG(Vref/Vout) -> -26.68237 | AR24: =AE24+AN24+AP24+AQ24 -> 41.357883 | AS24: =AF24+AO24 -> -92.386639 | AT24: =20*LOG(SQRT((W24/fz_ff)^2+1)) -> 1.0800468e-13 | AU24: =180/PI()*ATAN(W24/fz_ff) -> 9.085375e-06 | AV24: =20*LOG(1/SQRT((W24/fp_ff)^2+1)) -> 0 | AW24: =-180/PI()*ATAN(W24/fp_ff) -> -4.2094401e-07 | AX24: =AT24+AV24 -> 1.0800468e-13 | AY24: =AU24+AW24 -> 8.664431e-06 | AZ24: =AR24+AX24 -> 41.357883 | BA24: =AS24+AY24 -> -92.38663 | BB24: =BA24+180 -> 87.61337 | BD24: =ROUND(AZ24,0) -> 41 | BE24: =ROUND(BA24,0) -> -92 | BF24: =ROUND(BB24,0) -> 88
A25: Rc | B25: =Sheet1!B47 -> 36.5 | C25: kΩ | D25: =B25*1000 -> 36500 | V25: 1.21 | W25: =10*10^V25 -> 162.18101 | X25: =DC_gain_power -> -0.43247622 | Y25: =20*LOG(1/SQRT((W25/fp)^2+1)) -> -0.028444703 | Z25: =-180/PI()*ATAN(W25/fp) -> -4.6344064 | AA25: =20*LOG(SQRT((W25/fzRHP)^2+1)) -> 2.2791189e-05 | AB25: =-180/PI()*ATAN(W25/fzRHP) -> -0.13125437 | AC25: =20*LOG(SQRT((W25/fzESR)^2+1)) -> 8.338366e-09 | AD25: =180/PI()*ATAN(W25/fzESR) -> 0.002510562 | AE25: =X25+Y25+AA25+AC25 -> -0.46089812 | AF25: =Z25+AB25+AD25 -> -4.7631502 | AG25: =DC_gain_comp -> 92.11041 | AH25: =20*LOG(1/SQRT((W25/fp_comp1)^2+1)) -> -47.425381 | AI25: =-180/PI()*ATAN(W25/fp_comp1) -> -89.7563 | AJ25: =20*LOG(SQRT((W25/fz_comp)^2+1)) -> 0.0060038461 | AK25: =180/PI()*ATAN(W25/fz_comp) -> 2.1300766 | AL25: =20*LOG(1/SQRT((W25/fp_comp2)^2+1)) -> -5.4071948e-06 | AM25: =-180/PI()*ATAN(W25/fp_comp2) -> -0.063931728 | AN25: =AG25+AH25+AJ25+AL25 -> 44.691028 | AO25: =AI25+AK25+AM25 -> -87.690155 | AP25: =-20*LOG(GmPS*Rsns) -> 23.609121 | AQ25: =20*LOG(Vref/Vout) -> -26.68237 | AR25: =AE25+AN25+AP25+AQ25 -> 41.156881 | AS25: =AF25+AO25 -> -92.453306 | AT25: =20*LOG(SQRT((W25/fz_ff)^2+1)) -> 1.1379064e-13 | AU25: =180/PI()*ATAN(W25/fz_ff) -> 9.2970006e-06 | AV25: =20*LOG(1/SQRT((W25/fp_ff)^2+1)) -> 0 | AW25: =-180/PI()*ATAN(W25/fp_ff) -> -4.3074906e-07 | AX25: =AT25+AV25 -> 1.1379064e-13 | AY25: =AU25+AW25 -> 8.8662515e-06 | AZ25: =AR25+AX25 -> 41.156881 | BA25: =AS25+AY25 -> -92.453297 | BB25: =BA25+180 -> 87.546703 | BD25: =ROUND(AZ25,0) -> 41 | BE25: =ROUND(BA25,0) -> -92 | BF25: =ROUND(BB25,0) -> 88
A26: Cc | B26: =Sheet1!B48/1000 -> 0.001 | C26: uF | D26: =B26/1000000 -> 1e-09 | V26: 1.22 | W26: =10*10^V26 -> 165.95869 | X26: =DC_gain_power -> -0.43247622 | Y26: =20*LOG(1/SQRT((W26/fp)^2+1)) -> -0.029780675 | Z26: =-180/PI()*ATAN(W26/fp) -> -4.7418689 | AA26: =20*LOG(SQRT((W26/fzRHP)^2+1)) -> 2.3865301e-05 | AB26: =-180/PI()*ATAN(W26/fzRHP) -> -0.13431167 | AC26: =20*LOG(SQRT((W26/fzESR)^2+1)) -> 8.731341e-09 | AD26: =180/PI()*ATAN(W26/fzESR) -> 0.0025690405 | AE26: =X26+Y26+AA26+AC26 -> -0.46223302 | AF26: =Z26+AB26+AD26 -> -4.8736115 | AG26: =DC_gain_comp -> 92.11041 | AH26: =20*LOG(1/SQRT((W26/fp_comp1)^2+1)) -> -47.625377 | AI26: =-180/PI()*ATAN(W26/fp_comp1) -> -89.761848 | AJ26: =20*LOG(SQRT((W26/fz_comp)^2+1)) -> 0.0062865939 | AK26: =180/PI()*ATAN(W26/fz_comp) -> 2.1796451 | AL26: =20*LOG(1/SQRT((W26/fp_comp2)^2+1)) -> -5.6620279e-06 | AM26: =-180/PI()*ATAN(W26/fp_comp2) -> -0.065420887 | AN26: =AG26+AH26+AJ26+AL26 -> 44.491314 | AO26: =AI26+AK26+AM26 -> -87.647623 | AP26: =-20*LOG(GmPS*Rsns) -> 23.609121 | AQ26: =20*LOG(Vref/Vout) -> -26.68237 | AR26: =AE26+AN26+AP26+AQ26 -> 40.955832 | AS26: =AF26+AO26 -> -92.521235 | AT26: =20*LOG(SQRT((W26/fz_ff)^2+1)) -> 1.1957661e-13 | AU26: =180/PI()*ATAN(W26/fz_ff) -> 9.5135555e-06 | AV26: =20*LOG(1/SQRT((W26/fp_ff)^2+1)) -> 0 | AW26: =-180/PI()*ATAN(W26/fp_ff) -> -4.407825e-07 | AX26: =AT26+AV26 -> 1.1957661e-13 | AY26: =AU26+AW26 -> 9.072773e-06 | AZ26: =AR26+AX26 -> 40.955832 | BA26: =AS26+AY26 -> -92.521226 | BB26: =BA26+180 -> 87.478774 | BD26: =ROUND(AZ26,0) -> 41 | BE26: =ROUND(BA26,0) -> -93 | BF26: =ROUND(BB26,0) -> 87
A27: Cp | B27: =Sheet1!B49 -> 30 | C27: pF | D27: =B27/1000000000000 -> 3e-11 | V27: 1.23 | W27: =10*10^V27 -> 169.82437 | X27: =DC_gain_power -> -0.43247622 | Y27: =20*LOG(1/SQRT((W27/fp)^2+1)) -> -0.031179168 | Z27: =-180/PI()*ATAN(W27/fp) -> -4.8517999 | AA27: =20*LOG(SQRT((W27/fzRHP)^2+1)) -> 2.4990035e-05 | AB27: =-180/PI()*ATAN(W27/fzRHP) -> -0.13744018 | AC27: =20*LOG(SQRT((W27/fzESR)^2+1)) -> 9.1428369e-09 | AD27: =180/PI()*ATAN(W27/fzESR) -> 0.0026288812 | AE27: =X27+Y27+AA27+AC27 -> -0.46363039 | AF27: =Z27+AB27+AD27 -> -4.9866112 | AG27: =DC_gain_comp -> 92.11041 | AH27: =20*LOG(1/SQRT((W27/fp_comp1)^2+1)) -> -47.825374 | AI27: =-180/PI()*ATAN(W27/fp_comp1) -> -89.767269 | AJ27: =20*LOG(SQRT((W27/fz_comp)^2+1)) -> 0.0065826476 | AK27: =180/PI()*ATAN(W27/fz_comp) -> 2.2303649 | AL27: =20*LOG(1/SQRT((W27/fp_comp2)^2+1)) -> -5.9288708e-06 | AM27: =-180/PI()*ATAN(W27/fp_comp2) -> -0.066944734 | AN27: =AG27+AH27+AJ27+AL27 -> 44.291613 | AO27: =AI27+AK27+AM27 -> -87.603848 | AP27: =-20*LOG(GmPS*Rsns) -> 23.609121 | AQ27: =20*LOG(Vref/Vout) -> -26.68237 | AR27: =AE27+AN27+AP27+AQ27 -> 40.754734 | AS27: =AF27+AO27 -> -92.59046 | AT27: =20*LOG(SQRT((W27/fz_ff)^2+1)) -> 1.2536257e-13 | AU27: =180/PI()*ATAN(W27/fz_ff) -> 9.7351547e-06 | AV27: =20*LOG(1/SQRT((W27/fp_ff)^2+1)) -> 0 | AW27: =-180/PI()*ATAN(W27/fp_ff) -> -4.5104964e-07 | AX27: =AT27+AV27 -> 1.2536257e-13 | AY27: =AU27+AW27 -> 9.2841051e-06 | AZ27: =AR27+AX27 -> 40.754734 | BA27: =AS27+AY27 -> -92.59045 | BB27: =BA27+180 -> 87.40955 | BD27: =ROUND(AZ27,0) -> 41 | BE27: =ROUND(BA27,0) -> -93 | BF27: =ROUND(BB27,0) -> 87
A28: fz_comp | B28: =1/2/PI()/D25/D26 -> 4360.4094 | C28: Hz | D28: =fz_comp -> 4360.4094 | E28: =fz_comp -> 4360.4094 | F28: 180 | G28: -180 | V28: 1.24 | W28: =10*10^V28 -> 173.78008 | X28: =DC_gain_power -> -0.43247622 | Y28: =20*LOG(1/SQRT((W28/fp)^2+1)) -> -0.032643088 | Z28: =-180/PI()*ATAN(W28/fp) -> -4.9642545 | AA28: =20*LOG(SQRT((W28/fzRHP)^2+1)) -> 2.6167776e-05 | AB28: =-180/PI()*ATAN(W28/fzRHP) -> -0.14064156 | AC28: =20*LOG(SQRT((W28/fzESR)^2+1)) -> 9.5737254e-09 | AD28: =180/PI()*ATAN(W28/fzESR) -> 0.0026901157 | AE28: =X28+Y28+AA28+AC28 -> -0.46509313 | AF28: =Z28+AB28+AD28 -> -5.1022059 | AG28: =DC_gain_comp -> 92.11041 | AH28: =20*LOG(1/SQRT((W28/fp_comp1)^2+1)) -> -48.025371 | AI28: =-180/PI()*ATAN(W28/fp_comp1) -> -89.772566 | AJ28: =20*LOG(SQRT((W28/fz_comp)^2+1)) -> 0.0068926321 | AK28: =180/PI()*ATAN(W28/fz_comp) -> 2.2822625 | AL28: =20*LOG(1/SQRT((W28/fp_comp2)^2+1)) -> -6.2082897e-06 | AM28: =-180/PI()*ATAN(W28/fp_comp2) -> -0.068504076 | AN28: =AG28+AH28+AJ28+AL28 -> 44.091926 | AO28: =AI28+AK28+AM28 -> -87.558808 | AP28: =-20*LOG(GmPS*Rsns) -> 23.609121 | AQ28: =20*LOG(Vref/Vout) -> -26.68237 | AR28: =AE28+AN28+AP28+AQ28 -> 40.553584 | AS28: =AF28+AO28 -> -92.661014 | AT28: =20*LOG(SQRT((W28/fz_ff)^2+1)) -> 1.3114854e-13 | AU28: =180/PI()*ATAN(W28/fz_ff) -> 9.9619156e-06 | AV28: =20*LOG(1/SQRT((W28/fp_ff)^2+1)) -> 0 | AW28: =-180/PI()*ATAN(W28/fp_ff) -> -4.6155593e-07 | AX28: =AT28+AV28 -> 1.3114854e-13 | AY28: =AU28+AW28 -> 9.5003596e-06 | AZ28: =AR28+AX28 -> 40.553584 | BA28: =AS28+AY28 -> -92.661004 | BB28: =BA28+180 -> 87.338996 | BD28: =ROUND(AZ28,0) -> 41 | BE28: =ROUND(BA28,0) -> -93 | BF28: =ROUND(BB28,0) -> 87
A29: fp_comp1 | B29: =1/2/PI()/(D26+D27)/D24 -> 0.68981858 | C29: Hz | D29: =fp_comp1 -> 0.68981858 | E29: =fp_comp1 -> 0.68981858 | V29: 1.25 | W29: =10*10^V29 -> 177.82794 | X29: =DC_gain_power -> -0.43247622 | Y29: =20*LOG(1/SQRT((W29/fp)^2+1)) -> -0.034175472 | Z29: =-180/PI()*ATAN(W29/fp) -> -5.0792888 | AA29: =20*LOG(SQRT((W29/fzRHP)^2+1)) -> 2.7401021e-05 | AB29: =-180/PI()*ATAN(W29/fzRHP) -> -0.14391751 | AC29: =20*LOG(SQRT((W29/fzESR)^2+1)) -> 1.0024921e-08 | AD29: =180/PI()*ATAN(W29/fzESR) -> 0.0027527765 | AE29: =X29+Y29+AA29+AC29 -> -0.46662428 | AF29: =Z29+AB29+AD29 -> -5.2204535 | AG29: =DC_gain_comp -> 92.11041 | AH29: =20*LOG(1/SQRT((W29/fp_comp1)^2+1)) -> -48.225368 | AI29: =-180/PI()*ATAN(W29/fp_comp1) -> -89.777743 | AJ29: =20*LOG(SQRT((W29/fz_comp)^2+1)) -> 0.0072172021 | AK29: =180/PI()*ATAN(W29/fz_comp) -> 2.335365 | AL29: =20*LOG(1/SQRT((W29/fp_comp2)^2+1)) -> -6.5008772e-06 | AM29: =-180/PI()*ATAN(W29/fp_comp2) -> -0.070099739 | AN29: =AG29+AH29+AJ29+AL29 -> 43.892254 | AO29: =AI29+AK29+AM29 -> -87.512478 | AP29: =-20*LOG(GmPS*Rsns) -> 23.609121 | AQ29: =20*LOG(Vref/Vout) -> -26.68237 | AR29: =AE29+AN29+AP29+AQ29 -> 40.35238 | AS29: =AF29+AO29 -> -92.732931 | AT29: =20*LOG(SQRT((W29/fz_ff)^2+1)) -> 1.369345e-13 | AU29: =180/PI()*ATAN(W29/fz_ff) -> 1.0193958e-05 | AV29: =20*LOG(1/SQRT((W29/fp_ff)^2+1)) -> 0 | AW29: =-180/PI()*ATAN(W29/fp_ff) -> -4.7230695e-07 | AX29: =AT29+AV29 -> 1.369345e-13 | AY29: =AU29+AW29 -> 9.7216514e-06 | AZ29: =AR29+AX29 -> 40.35238 | BA29: =AS29+AY29 -> -92.732922 | BB29: =BA29+180 -> 87.267078 | BD29: =ROUND(AZ29,0) -> 40 | BE29: =ROUND(BA29,0) -> -93 | BF29: =ROUND(BB29,0) -> 87
A30: fp_comp2 | B30: =1/2/PI()/D25/D27 -> 145346.98 | C30: Hz | D30: =fp_comp2 -> 145346.98 | E30: =fp_comp2 -> 145346.98 | V30: 1.26 | W30: =10*10^V30 -> 181.97009 | X30: =DC_gain_power -> -0.43247622 | Y30: =20*LOG(1/SQRT((W30/fp)^2+1)) -> -0.035779496 | Z30: =-180/PI()*ATAN(W30/fp) -> -5.1969601 | AA30: =20*LOG(SQRT((W30/fzRHP)^2+1)) -> 2.8692387e-05 | AB30: =-180/PI()*ATAN(W30/fzRHP) -> -0.14726976 | AC30: =20*LOG(SQRT((W30/fzESR)^2+1)) -> 1.0497381e-08 | AD30: =180/PI()*ATAN(W30/fzESR) -> 0.0028168969 | AE30: =X30+Y30+AA30+AC30 -> -0.46822701 | AF30: =Z30+AB30+AD30 -> -5.3414129 | AG30: =DC_gain_comp -> 92.11041 | AH30: =20*LOG(1/SQRT((W30/fp_comp1)^2+1)) -> -48.425365 | AI30: =-180/PI()*ATAN(W30/fp_comp1) -> -89.782802 | AJ30: =20*LOG(SQRT((W30/fz_comp)^2+1)) -> 0.0075570426 | AK30: =180/PI()*ATAN(W30/fz_comp) -> 2.3897003 | AL30: =20*LOG(1/SQRT((W30/fp_comp2)^2+1)) -> -6.8072538e-06 | AM30: =-180/PI()*ATAN(W30/fp_comp2) -> -0.07173257 | AN30: =AG30+AH30+AJ30+AL30 -> 43.692596 | AO30: =AI30+AK30+AM30 -> -87.464834 | AP30: =-20*LOG(GmPS*Rsns) -> 23.609121 | AQ30: =20*LOG(Vref/Vout) -> -26.68237 | AR30: =AE30+AN30+AP30+AQ30 -> 40.15112 | AS30: =AF30+AO30 -> -92.806247 | AT30: =20*LOG(SQRT((W30/fz_ff)^2+1)) -> 1.4272047e-13 | AU30: =180/PI()*ATAN(W30/fz_ff) -> 1.0431406e-05 | AV30: =20*LOG(1/SQRT((W30/fp_ff)^2+1)) -> 0 | AW30: =-180/PI()*ATAN(W30/fp_ff) -> -4.833084e-07 | AX30: =AT30+AV30 -> 1.4272047e-13 | AY30: =AU30+AW30 -> 9.9480978e-06 | AZ30: =AR30+AX30 -> 40.15112 | BA30: =AS30+AY30 -> -92.806237 | BB30: =BA30+180 -> 87.193763 | BD30: =ROUND(AZ30,0) -> 40 | BE30: =ROUND(BA30,0) -> -93 | BF30: =ROUND(BB30,0) -> 87
A31: DC_gain_comp | B31: =20*LOG(D24*D4) -> 92.11041 | C31: dB | D31: =DC_gain_comp -> 92.11041 | E31: =DC_gain_comp -> 92.11041 | F31: 100 | G31: 1000000 | V31: 1.27 | W31: =10*10^V31 -> 186.20871 | X31: =DC_gain_power -> -0.43247622 | Y31: =20*LOG(1/SQRT((W31/fp)^2+1)) -> -0.03745848 | Z31: =-180/PI()*ATAN(W31/fp) -> -5.3173268 | AA31: =20*LOG(SQRT((W31/fzRHP)^2+1)) -> 3.0044613e-05 | AB31: =-180/PI()*ATAN(W31/fzRHP) -> -0.1507001 | AC31: =20*LOG(SQRT((W31/fzESR)^2+1)) -> 1.0992106e-08 | AD31: =180/PI()*ATAN(W31/fzESR) -> 0.0028825109 | AE31: =X31+Y31+AA31+AC31 -> -0.46990464 | AF31: =Z31+AB31+AD31 -> -5.4651444 | AG31: =DC_gain_comp -> 92.11041 | AH31: =20*LOG(1/SQRT((W31/fp_comp1)^2+1)) -> -48.625362 | AI31: =-180/PI()*ATAN(W31/fp_comp1) -> -89.787746 | AJ31: =20*LOG(SQRT((W31/fz_comp)^2+1)) -> 0.0079128708 | AK31: =180/PI()*ATAN(W31/fz_comp) -> 2.4452968 | AL31: =20*LOG(1/SQRT((W31/fp_comp2)^2+1)) -> -7.1280696e-06 | AM31: =-180/PI()*ATAN(W31/fp_comp2) -> -0.073403435 | AN31: =AG31+AH31+AJ31+AL31 -> 43.492954 | AO31: =AI31+AK31+AM31 -> -87.415853 | AP31: =-20*LOG(GmPS*Rsns) -> 23.609121 | AQ31: =20*LOG(Vref/Vout) -> -26.68237 | AR31: =AE31+AN31+AP31+AQ31 -> 39.949801 | AS31: =AF31+AO31 -> -92.880997 | AT31: =20*LOG(SQRT((W31/fz_ff)^2+1)) -> 1.5043508e-13 | AU31: =180/PI()*ATAN(W31/fz_ff) -> 1.0674385e-05 | AV31: =20*LOG(1/SQRT((W31/fp_ff)^2+1)) -> 0 | AW31: =-180/PI()*ATAN(W31/fp_ff) -> -4.9456609e-07 | AX31: =AT31+AV31 -> 1.5043508e-13 | AY31: =AU31+AW31 -> 1.0179819e-05 | AZ31: =AR31+AX31 -> 39.949801 | BA31: =AS31+AY31 -> -92.880987 | BB31: =BA31+180 -> 87.119013 | BD31: =ROUND(AZ31,0) -> 40 | BE31: =ROUND(BA31,0) -> -93 | BF31: =ROUND(BB31,0) -> 87
A32: mid_DC_gain_comp | B32: =20*LOG(D25*D4) -> 16.351307 | C32: dB | D32: =B32 -> 16.351307 | E32: =B32 -> 16.351307 | V32: 1.28 | W32: =10*10^V32 -> 190.54607 | X32: =DC_gain_power -> -0.43247622 | Y32: =20*LOG(1/SQRT((W32/fp)^2+1)) -> -0.039215896 | Z32: =-180/PI()*ATAN(W32/fp) -> -5.4404485 | AA32: =20*LOG(SQRT((W32/fzRHP)^2+1)) -> 3.1460567e-05 | AB32: =-180/PI()*ATAN(W32/fzRHP) -> -0.15421034 | AC32: =20*LOG(SQRT((W32/fzESR)^2+1)) -> 1.1510149e-08 | AD32: =180/PI()*ATAN(W32/fzESR) -> 0.0029496532 | AE32: =X32+Y32+AA32+AC32 -> -0.47166064 | AF32: =Z32+AB32+AD32 -> -5.5917092 | AG32: =DC_gain_comp -> 92.11041 | AH32: =20*LOG(1/SQRT((W32/fp_comp1)^2+1)) -> -48.825359 | AI32: =-180/PI()*ATAN(W32/fp_comp1) -> -89.792578 | AJ32: =20*LOG(SQRT((W32/fz_comp)^2+1)) -> 0.0082854374 | AK32: =180/PI()*ATAN(W32/fz_comp) -> 2.5021835 | AL32: =20*LOG(1/SQRT((W32/fp_comp2)^2+1)) -> -7.4640049e-06 | AM32: =-180/PI()*ATAN(W32/fp_comp2) -> -0.075113218 | AN32: =AG32+AH32+AJ32+AL32 -> 43.293329 | AO32: =AI32+AK32+AM32 -> -87.365507 | AP32: =-20*LOG(GmPS*Rsns) -> 23.609121 | AQ32: =20*LOG(Vref/Vout) -> -26.68237 | AR32: =AE32+AN32+AP32+AQ32 -> 39.74842 | AS32: =AF32+AO32 -> -92.957217 | AT32: =20*LOG(SQRT((W32/fz_ff)^2+1)) -> 1.581497e-13 | AU32: =180/PI()*ATAN(W32/fz_ff) -> 1.0923023e-05 | AV32: =20*LOG(1/SQRT((W32/fp_ff)^2+1)) -> 0 | AW32: =-180/PI()*ATAN(W32/fp_ff) -> -5.0608602e-07 | AX32: =AT32+AV32 -> 1.581497e-13 | AY32: =AU32+AW32 -> 1.0416937e-05 | AZ32: =AR32+AX32 -> 39.74842 | BA32: =AS32+AY32 -> -92.957206 | BB32: =BA32+180 -> 87.042794 | BD32: =ROUND(AZ32,0) -> 40 | BE32: =ROUND(BA32,0) -> -93 | BF32: =ROUND(BB32,0) -> 87
V33: 1.29 | W33: =10*10^V33 -> 194.98446 | X33: =DC_gain_power -> -0.43247622 | Y33: =20*LOG(1/SQRT((W33/fp)^2+1)) -> -0.041055376 | Z33: =-180/PI()*ATAN(W33/fp) -> -5.5663859 | AA33: =20*LOG(SQRT((W33/fzRHP)^2+1)) -> 3.2943252e-05 | AB33: =-180/PI()*ATAN(W33/fzRHP) -> -0.15780234 | AC33: =20*LOG(SQRT((W33/fzESR)^2+1)) -> 1.2052606e-08 | AD33: =180/PI()*ATAN(W33/fzESR) -> 0.0030183594 | AE33: =X33+Y33+AA33+AC33 -> -0.47349864 | AF33: =Z33+AB33+AD33 -> -5.7211699 | AG33: =DC_gain_comp -> 92.11041 | AH33: =20*LOG(1/SQRT((W33/fp_comp1)^2+1)) -> -49.025357 | AI33: =-180/PI()*ATAN(W33/fp_comp1) -> -89.797299 | AJ33: =20*LOG(SQRT((W33/fz_comp)^2+1)) -> 0.0086755282 | AK33: =180/PI()*ATAN(W33/fz_comp) -> 2.5603901 | AL33: =20*LOG(1/SQRT((W33/fp_comp2)^2+1)) -> -7.8157722e-06 | AM33: =-180/PI()*ATAN(W33/fp_comp2) -> -0.076862828 | AN33: =AG33+AH33+AJ33+AL33 -> 43.093722 | AO33: =AI33+AK33+AM33 -> -87.313772 | AP33: =-20*LOG(GmPS*Rsns) -> 23.609121 | AQ33: =20*LOG(Vref/Vout) -> -26.68237 | AR33: =AE33+AN33+AP33+AQ33 -> 39.546974 | AS33: =AF33+AO33 -> -93.034942 | AT33: =20*LOG(SQRT((W33/fz_ff)^2+1)) -> 1.6393567e-13 | AU33: =180/PI()*ATAN(W33/fz_ff) -> 1.1177453e-05 | AV33: =20*LOG(1/SQRT((W33/fp_ff)^2+1)) -> 0 | AW33: =-180/PI()*ATAN(W33/fp_ff) -> -5.1787428e-07 | AX33: =AT33+AV33 -> 1.6393567e-13 | AY33: =AU33+AW33 -> 1.0659579e-05 | AZ33: =AR33+AX33 -> 39.546974 | BA33: =AS33+AY33 -> -93.034931 | BB33: =BA33+180 -> 86.965069 | BD33: =ROUND(AZ33,0) -> 40 | BE33: =ROUND(BA33,0) -> -93 | BF33: =ROUND(BB33,0) -> 87
A34: FB Divider | V34: 1.3 | W34: =10*10^V34 -> 199.52623 | X34: =DC_gain_power -> -0.43247622 | Y34: =20*LOG(1/SQRT((W34/fp)^2+1)) -> -0.042980712 | Z34: =-180/PI()*ATAN(W34/fp) -> -5.6952009 | AA34: =20*LOG(SQRT((W34/fzRHP)^2+1)) -> 3.4495814e-05 | AB34: =-180/PI()*ATAN(W34/fzRHP) -> -0.16147801 | AC34: =20*LOG(SQRT((W34/fzESR)^2+1)) -> 1.2620628e-08 | AD34: =180/PI()*ATAN(W34/fzESR) -> 0.0030886661 | AE34: =X34+Y34+AA34+AC34 -> -0.47542242 | AF34: =Z34+AB34+AD34 -> -5.8535903 | AG34: =DC_gain_comp -> 92.11041 | AH34: =20*LOG(1/SQRT((W34/fp_comp1)^2+1)) -> -49.225354 | AI34: =-180/PI()*ATAN(W34/fp_comp1) -> -89.801913 | AJ34: =20*LOG(SQRT((W34/fz_comp)^2+1)) -> 0.009083966 | AK34: =180/PI()*ATAN(W34/fz_comp) -> 2.6199471 | AL34: =20*LOG(1/SQRT((W34/fp_comp2)^2+1)) -> -8.1841179e-06 | AM34: =-180/PI()*ATAN(W34/fp_comp2) -> -0.078653191 | AN34: =AG34+AH34+AJ34+AL34 -> 42.894132 | AO34: =AI34+AK34+AM34 -> -87.260619 | AP34: =-20*LOG(GmPS*Rsns) -> 23.609121 | AQ34: =20*LOG(Vref/Vout) -> -26.68237 | AR34: =AE34+AN34+AP34+AQ34 -> 39.345461 | AS34: =AF34+AO34 -> -93.114209 | AT34: =20*LOG(SQRT((W34/fz_ff)^2+1)) -> 1.7165029e-13 | AU34: =180/PI()*ATAN(W34/fz_ff) -> 1.1437809e-05 | AV34: =20*LOG(1/SQRT((W34/fp_ff)^2+1)) -> 0 | AW34: =-180/PI()*ATAN(W34/fp_ff) -> -5.2993712e-07 | AX34: =AT34+AV34 -> 1.7165029e-13 | AY34: =AU34+AW34 -> 1.0907872e-05 | AZ34: =AR34+AX34 -> 39.345461 | BA34: =AS34+AY34 -> -93.114199 | BB34: =BA34+180 -> 86.885801 | BD34: =ROUND(AZ34,0) -> 39 | BE34: =ROUND(BA34,0) -> -93 | BF34: =ROUND(BB34,0) -> 87
A35: R1 | B35: =Sheet1!B21 -> 13.3 | C35: kΩ | D35: =B35*1000 -> 13300 | V35: 1.31 | W35: =10*10^V35 -> 204.17379 | X35: =DC_gain_power -> -0.43247622 | Y35: =20*LOG(1/SQRT((W35/fp)^2+1)) -> -0.044995873 | Z35: =-180/PI()*ATAN(W35/fp) -> -5.8269566 | AA35: =20*LOG(SQRT((W35/fzRHP)^2+1)) -> 3.6121545e-05 | AB35: =-180/PI()*ATAN(W35/fzRHP) -> -0.16523929 | AC35: =20*LOG(SQRT((W35/fzESR)^2+1)) -> 1.3215419e-08 | AD35: =180/PI()*ATAN(W35/fzESR) -> 0.0031606103 | AE35: =X35+Y35+AA35+AC35 -> -0.47743595 | AF35: =Z35+AB35+AD35 -> -5.9890353 | AG35: =DC_gain_comp -> 92.11041 | AH35: =20*LOG(1/SQRT((W35/fp_comp1)^2+1)) -> -49.425352 | AI35: =-180/PI()*ATAN(W35/fp_comp1) -> -89.806422 | AJ35: =20*LOG(SQRT((W35/fz_comp)^2+1)) -> 0.0095116116 | AK35: =180/PI()*ATAN(W35/fz_comp) -> 2.6808855 | AL35: =20*LOG(1/SQRT((W35/fp_comp2)^2+1)) -> -8.5698231e-06 | AM35: =-180/PI()*ATAN(W35/fp_comp2) -> -0.080485257 | AN35: =AG35+AH35+AJ35+AL35 -> 42.694562 | AO35: =AI35+AK35+AM35 -> -87.206022 | AP35: =-20*LOG(GmPS*Rsns) -> 23.609121 | AQ35: =20*LOG(Vref/Vout) -> -26.68237 | AR35: =AE35+AN35+AP35+AQ35 -> 39.143877 | AS35: =AF35+AO35 -> -93.195057 | AT35: =20*LOG(SQRT((W35/fz_ff)^2+1)) -> 1.8129356e-13 | AU35: =180/PI()*ATAN(W35/fz_ff) -> 1.170423e-05 | AV35: =20*LOG(1/SQRT((W35/fp_ff)^2+1)) -> 0 | AW35: =-180/PI()*ATAN(W35/fp_ff) -> -5.4228094e-07 | AX35: =AT35+AV35 -> 1.8129356e-13 | AY35: =AU35+AW35 -> 1.1161949e-05 | AZ35: =AR35+AX35 -> 39.143877 | BA35: =AS35+AY35 -> -93.195046 | BB35: =BA35+180 -> 86.804954 | BD35: =ROUND(AZ35,0) -> 39 | BE35: =ROUND(BA35,0) -> -93 | BF35: =ROUND(BB35,0) -> 87
A36: R2 | B36: =(B11-B3)/B3*B35 -> 273.75833 | C36: kΩ | V36: 1.32 | W36: =10*10^V36 -> 208.92961 | X36: =DC_gain_power -> -0.43247622 | Y36: =20*LOG(1/SQRT((W36/fp)^2+1)) -> -0.047105003 | Z36: =-180/PI()*ATAN(W36/fp) -> -5.9617174 | AA36: =20*LOG(SQRT((W36/fzRHP)^2+1)) -> 3.7823893e-05 | AB36: =-180/PI()*ATAN(W36/fzRHP) -> -0.16908819 | AC36: =20*LOG(SQRT((W36/fzESR)^2+1)) -> 1.3838242e-08 | AD36: =180/PI()*ATAN(W36/fzESR) -> 0.0032342304 | AE36: =X36+Y36+AA36+AC36 -> -0.47954338 | AF36: =Z36+AB36+AD36 -> -6.1275713 | AG36: =DC_gain_comp -> 92.11041 | AH36: =20*LOG(1/SQRT((W36/fp_comp1)^2+1)) -> -49.62535 | AI36: =-180/PI()*ATAN(W36/fp_comp1) -> -89.810828 | AJ36: =20*LOG(SQRT((W36/fz_comp)^2+1)) -> 0.0099593665 | AK36: =180/PI()*ATAN(W36/fz_comp) -> 2.743237 | AL36: =20*LOG(1/SQRT((W36/fp_comp2)^2+1)) -> -8.973706e-06 | AM36: =-180/PI()*ATAN(W36/fp_comp2) -> -0.082359997 | AN36: =AG36+AH36+AJ36+AL36 -> 42.495011 | AO36: =AI36+AK36+AM36 -> -87.149951 | AP36: =-20*LOG(GmPS*Rsns) -> 23.609121 | AQ36: =20*LOG(Vref/Vout) -> -26.68237 | AR36: =AE36+AN36+AP36+AQ36 -> 38.942219 | AS36: =AF36+AO36 -> -93.277523 | AT36: =20*LOG(SQRT((W36/fz_ff)^2+1)) -> 1.8900818e-13 | AU36: =180/PI()*ATAN(W36/fz_ff) -> 1.1976857e-05 | AV36: =20*LOG(1/SQRT((W36/fp_ff)^2+1)) -> 0 | AW36: =-180/PI()*ATAN(W36/fp_ff) -> -5.5491228e-07 | AX36: =AT36+AV36 -> 1.8900818e-13 | AY36: =AU36+AW36 -> 1.1421945e-05 | AZ36: =AR36+AX36 -> 38.942219 | BA36: =AS36+AY36 -> -93.277511 | BB36: =BA36+180 -> 86.722489 | BD36: =ROUND(AZ36,0) -> 39 | BE36: =ROUND(BA36,0) -> -93 | BF36: =ROUND(BB36,0) -> 87
V37: 1.33 | W37: =10*10^V37 -> 213.79621 | X37: =DC_gain_power -> -0.43247622 | Y37: =20*LOG(1/SQRT((W37/fp)^2+1)) -> -0.049312436 | Z37: =-180/PI()*ATAN(W37/fp) -> -6.0995486 | AA37: =20*LOG(SQRT((W37/fzRHP)^2+1)) -> 3.960647e-05 | AB37: =-180/PI()*ATAN(W37/fzRHP) -> -0.17302674 | AC37: =20*LOG(SQRT((W37/fzESR)^2+1)) -> 1.4490418e-08 | AD37: =180/PI()*ATAN(W37/fzESR) -> 0.0033095653 | AE37: =X37+Y37+AA37+AC37 -> -0.48174903 | AF37: =Z37+AB37+AD37 -> -6.2692657 | AG37: =DC_gain_comp -> 92.11041 | AH37: =20*LOG(1/SQRT((W37/fp_comp1)^2+1)) -> -49.825347 | AI37: =-180/PI()*ATAN(W37/fp_comp1) -> -89.815134 | AJ37: =20*LOG(SQRT((W37/fz_comp)^2+1)) -> 0.010428174 | AK37: =180/PI()*ATAN(W37/fz_comp) -> 2.8070342 | AL37: =20*LOG(1/SQRT((W37/fp_comp2)^2+1)) -> -9.3966233e-06 | AM37: =-180/PI()*ATAN(W37/fp_comp2) -> -0.084278405 | AN37: =AG37+AH37+AJ37+AL37 -> 42.295482 | AO37: =AI37+AK37+AM37 -> -87.092379 | AP37: =-20*LOG(GmPS*Rsns) -> 23.609121 | AQ37: =20*LOG(Vref/Vout) -> -26.68237 | AR37: =AE37+AN37+AP37+AQ37 -> 38.740484 | AS37: =AF37+AO37 -> -93.361644 | AT37: =20*LOG(SQRT((W37/fz_ff)^2+1)) -> 1.9865146e-13 | AU37: =180/PI()*ATAN(W37/fz_ff) -> 1.2255834e-05 | AV37: =20*LOG(1/SQRT((W37/fp_ff)^2+1)) -> 0 | AW37: =-180/PI()*ATAN(W37/fp_ff) -> -5.6783785e-07 | AX37: =AT37+AV37 -> 1.9865146e-13 | AY37: =AU37+AW37 -> 1.1687996e-05 | AZ37: =AR37+AX37 -> 38.740484 | BA37: =AS37+AY37 -> -93.361633 | BB37: =BA37+180 -> 86.638367 | BD37: =ROUND(AZ37,0) -> 39 | BE37: =ROUND(BA37,0) -> -93 | BF37: =ROUND(BB37,0) -> 87
V38: 1.34 | W38: =10*10^V38 -> 218.77616 | X38: =DC_gain_power -> -0.43247622 | Y38: =20*LOG(1/SQRT((W38/fp)^2+1)) -> -0.051622701 | Z38: =-180/PI()*ATAN(W38/fp) -> -6.2405169 | AA38: =20*LOG(SQRT((W38/fzRHP)^2+1)) -> 4.1473057e-05 | AB38: =-180/PI()*ATAN(W38/fzRHP) -> -0.17705702 | AC38: =20*LOG(SQRT((W38/fzESR)^2+1)) -> 1.5173332e-08 | AD38: =180/PI()*ATAN(W38/fzESR) -> 0.003386655 | AE38: =X38+Y38+AA38+AC38 -> -0.48405743 | AF38: =Z38+AB38+AD38 -> -6.4141873 | AG38: =DC_gain_comp -> 92.11041 | AH38: =20*LOG(1/SQRT((W38/fp_comp1)^2+1)) -> -50.025345 | AI38: =-180/PI()*ATAN(W38/fp_comp1) -> -89.819342 | AJ38: =20*LOG(SQRT((W38/fz_comp)^2+1)) -> 0.010919021 | AK38: =180/PI()*ATAN(W38/fz_comp) -> 2.8723102 | AL38: =20*LOG(1/SQRT((W38/fp_comp2)^2+1)) -> -9.839472e-06 | AM38: =-180/PI()*ATAN(W38/fp_comp2) -> -0.086241498 | AN38: =AG38+AH38+AJ38+AL38 -> 42.095974 | AO38: =AI38+AK38+AM38 -> -87.033274 | AP38: =-20*LOG(GmPS*Rsns) -> 23.609121 | AQ38: =20*LOG(Vref/Vout) -> -26.68237 | AR38: =AE38+AN38+AP38+AQ38 -> 38.538668 | AS38: =AF38+AO38 -> -93.447461 | AT38: =20*LOG(SQRT((W38/fz_ff)^2+1)) -> 2.0829473e-13 | AU38: =180/PI()*ATAN(W38/fz_ff) -> 1.2541309e-05 | AV38: =20*LOG(1/SQRT((W38/fp_ff)^2+1)) -> 0 | AW38: =-180/PI()*ATAN(W38/fp_ff) -> -5.8106449e-07 | AX38: =AT38+AV38 -> 2.0829473e-13 | AY38: =AU38+AW38 -> 1.1960244e-05 | AZ38: =AR38+AX38 -> 38.538668 | BA38: =AS38+AY38 -> -93.447449 | BB38: =BA38+180 -> 86.552551 | BD38: =ROUND(AZ38,0) -> 39 | BE38: =ROUND(BA38,0) -> -93 | BF38: =ROUND(BB38,0) -> 87
V39: 1.35 | W39: =10*10^V39 -> 223.87211 | X39: =DC_gain_power -> -0.43247622 | Y39: =20*LOG(1/SQRT((W39/fp)^2+1)) -> -0.054040529 | Z39: =-180/PI()*ATAN(W39/fp) -> -6.3846904 | AA39: =20*LOG(SQRT((W39/fzRHP)^2+1)) -> 4.3427612e-05 | AB39: =-180/PI()*ATAN(W39/fzRHP) -> -0.18118118 | AC39: =20*LOG(SQRT((W39/fzESR)^2+1)) -> 1.5888429e-08 | AD39: =180/PI()*ATAN(W39/fzESR) -> 0.0034655403 | AE39: =X39+Y39+AA39+AC39 -> -0.4864733 | AF39: =Z39+AB39+AD39 -> -6.562406 | AG39: =DC_gain_comp -> 92.11041 | AH39: =20*LOG(1/SQRT((W39/fp_comp1)^2+1)) -> -50.225343 | AI39: =-180/PI()*ATAN(W39/fp_comp1) -> -89.823455 | AJ39: =20*LOG(SQRT((W39/fz_comp)^2+1)) -> 0.011432942 | AK39: =180/PI()*ATAN(W39/fz_comp) -> 2.9390989 | AL39: =20*LOG(1/SQRT((W39/fp_comp2)^2+1)) -> -1.0303191e-05 | AM39: =-180/PI()*ATAN(W39/fp_comp2) -> -0.088250317 | AN39: =AG39+AH39+AJ39+AL39 -> 41.89649 | AO39: =AI39+AK39+AM39 -> -86.972606 | AP39: =-20*LOG(GmPS*Rsns) -> 23.609121 | AQ39: =20*LOG(Vref/Vout) -> -26.68237 | AR39: =AE39+AN39+AP39+AQ39 -> 38.336767 | AS39: =AF39+AO39 -> -93.535012 | AT39: =20*LOG(SQRT((W39/fz_ff)^2+1)) -> 2.1793801e-13 | AU39: =180/PI()*ATAN(W39/fz_ff) -> 1.2833433e-05 | AV39: =20*LOG(1/SQRT((W39/fp_ff)^2+1)) -> 0 | AW39: =-180/PI()*ATAN(W39/fp_ff) -> -5.9459923e-07 | AX39: =AT39+AV39 -> 2.1793801e-13 | AY39: =AU39+AW39 -> 1.2238834e-05 | AZ39: =AR39+AX39 -> 38.336767 | BA39: =AS39+AY39 -> -93.535 | BB39: =BA39+180 -> 86.465 | BD39: =ROUND(AZ39,0) -> 38 | BE39: =ROUND(BA39,0) -> -94 | BF39: =ROUND(BB39,0) -> 86
V40: 1.36 | W40: =10*10^V40 -> 229.08677 | X40: =DC_gain_power -> -0.43247622 | Y40: =20*LOG(1/SQRT((W40/fp)^2+1)) -> -0.056570863 | Z40: =-180/PI()*ATAN(W40/fp) -> -6.532138 | AA40: =20*LOG(SQRT((W40/fzRHP)^2+1)) -> 4.5474281e-05 | AB40: =-180/PI()*ATAN(W40/fzRHP) -> -0.1854014 | AC40: =20*LOG(SQRT((W40/fzESR)^2+1)) -> 1.6637227e-08 | AD40: =180/PI()*ATAN(W40/fzESR) -> 0.0035462631 | AE40: =X40+Y40+AA40+AC40 -> -0.48900159 | AF40: =Z40+AB40+AD40 -> -6.7139932 | AG40: =DC_gain_comp -> 92.11041 | AH40: =20*LOG(1/SQRT((W40/fp_comp1)^2+1)) -> -50.425342 | AI40: =-180/PI()*ATAN(W40/fp_comp1) -> -89.827473 | AJ40: =20*LOG(SQRT((W40/fz_comp)^2+1)) -> 0.011971018 | AK40: =180/PI()*ATAN(W40/fz_comp) -> 3.0074351 | AL40: =20*LOG(1/SQRT((W40/fp_comp2)^2+1)) -> -1.0788765e-05 | AM40: =-180/PI()*ATAN(W40/fp_comp2) -> -0.090305928 | AN40: =AG40+AH40+AJ40+AL40 -> 41.697029 | AO40: =AI40+AK40+AM40 -> -86.910344 | AP40: =-20*LOG(GmPS*Rsns) -> 23.609121 | AQ40: =20*LOG(Vref/Vout) -> -26.68237 | AR40: =AE40+AN40+AP40+AQ40 -> 38.134778 | AS40: =AF40+AO40 -> -93.624337 | AT40: =20*LOG(SQRT((W40/fz_ff)^2+1)) -> 2.2758128e-13 | AU40: =180/PI()*ATAN(W40/fz_ff) -> 1.3132362e-05 | AV40: =20*LOG(1/SQRT((W40/fp_ff)^2+1)) -> 0 | AW40: =-180/PI()*ATAN(W40/fp_ff) -> -6.0844922e-07 | AX40: =AT40+AV40 -> 2.2758128e-13 | AY40: =AU40+AW40 -> 1.2523913e-05 | AZ40: =AR40+AX40 -> 38.134778 | BA40: =AS40+AY40 -> -93.624325 | BB40: =BA40+180 -> 86.375675 | BD40: =ROUND(AZ40,0) -> 38 | BE40: =ROUND(BA40,0) -> -94 | BF40: =ROUND(BB40,0) -> 86
V41: 1.37 | W41: =10*10^V41 -> 234.42288 | X41: =DC_gain_power -> -0.43247622 | Y41: =20*LOG(1/SQRT((W41/fp)^2+1)) -> -0.059218869 | Z41: =-180/PI()*ATAN(W41/fp) -> -6.6829303 | AA41: =20*LOG(SQRT((W41/fzRHP)^2+1)) -> 4.7617406e-05 | AB41: =-180/PI()*ATAN(W41/fzRHP) -> -0.18971993 | AC41: =20*LOG(SQRT((W41/fzESR)^2+1)) -> 1.7421316e-08 | AD41: =180/PI()*ATAN(W41/fzESR) -> 0.0036288662 | AE41: =X41+Y41+AA41+AC41 -> -0.49164745 | AF41: =Z41+AB41+AD41 -> -6.8690213 | AG41: =DC_gain_comp -> 92.11041 | AH41: =20*LOG(1/SQRT((W41/fp_comp1)^2+1)) -> -50.62534 | AI41: =-180/PI()*ATAN(W41/fp_comp1) -> -89.831401 | AJ41: =20*LOG(SQRT((W41/fz_comp)^2+1)) -> 0.012534381 | AK41: =180/PI()*ATAN(W41/fz_comp) -> 3.0773541 | AL41: =20*LOG(1/SQRT((W41/fp_comp2)^2+1)) -> -1.1297224e-05 | AM41: =-180/PI()*ATAN(W41/fp_comp2) -> -0.09240942 | AN41: =AG41+AH41+AJ41+AL41 -> 41.497594 | AO41: =AI41+AK41+AM41 -> -86.846456 | AP41: =-20*LOG(GmPS*Rsns) -> 23.609121 | AQ41: =20*LOG(Vref/Vout) -> -26.68237 | AR41: =AE41+AN41+AP41+AQ41 -> 37.932697 | AS41: =AF41+AO41 -> -93.715477 | AT41: =20*LOG(SQRT((W41/fz_ff)^2+1)) -> 2.3915321e-13 | AU41: =180/PI()*ATAN(W41/fz_ff) -> 1.3438254e-05 | AV41: =20*LOG(1/SQRT((W41/fp_ff)^2+1)) -> 0 | AW41: =-180/PI()*ATAN(W41/fp_ff) -> -6.2262182e-07 | AX41: =AT41+AV41 -> 2.3915321e-13 | AY41: =AU41+AW41 -> 1.2815633e-05 | AZ41: =AR41+AX41 -> 37.932697 | BA41: =AS41+AY41 -> -93.715464 | BB41: =BA41+180 -> 86.284536 | BD41: =ROUND(AZ41,0) -> 38 | BE41: =ROUND(BA41,0) -> -94 | BF41: =ROUND(BB41,0) -> 86
V42: 1.38 | W42: =10*10^V42 -> 239.88329 | X42: =DC_gain_power -> -0.43247622 | Y42: =20*LOG(1/SQRT((W42/fp)^2+1)) -> -0.061989942 | Z42: =-180/PI()*ATAN(W42/fp) -> -6.8371387 | AA42: =20*LOG(SQRT((W42/fzRHP)^2+1)) -> 4.9861533e-05 | AB42: =-180/PI()*ATAN(W42/fzRHP) -> -0.19413904 | AC42: =20*LOG(SQRT((W42/fzESR)^2+1)) -> 1.8242356e-08 | AD42: =180/PI()*ATAN(W42/fzESR) -> 0.0037133934 | AE42: =X42+Y42+AA42+AC42 -> -0.49441628 | AF42: =Z42+AB42+AD42 -> -7.0275643 | AG42: =DC_gain_comp -> 92.11041 | AH42: =20*LOG(1/SQRT((W42/fp_comp1)^2+1)) -> -50.825338 | AI42: =-180/PI()*ATAN(W42/fp_comp1) -> -89.835238 | AJ42: =20*LOG(SQRT((W42/fz_comp)^2+1)) -> 0.013124217 | AK42: =180/PI()*ATAN(W42/fz_comp) -> 3.1488923 | AL42: =20*LOG(1/SQRT((W42/fp_comp2)^2+1)) -> -1.1829645e-05 | AM42: =-180/PI()*ATAN(W42/fp_comp2) -> -0.094561908 | AN42: =AG42+AH42+AJ42+AL42 -> 41.298185 | AO42: =AI42+AK42+AM42 -> -86.780908 | AP42: =-20*LOG(GmPS*Rsns) -> 23.609121 | AQ42: =20*LOG(Vref/Vout) -> -26.68237 | AR42: =AE42+AN42+AP42+AQ42 -> 37.730519 | AS42: =AF42+AO42 -> -93.808472 | AT42: =20*LOG(SQRT((W42/fz_ff)^2+1)) -> 2.4879649e-13 | AU42: =180/PI()*ATAN(W42/fz_ff) -> 1.3751272e-05 | AV42: =20*LOG(1/SQRT((W42/fp_ff)^2+1)) -> 0 | AW42: =-180/PI()*ATAN(W42/fp_ff) -> -6.3712455e-07 | AX42: =AT42+AV42 -> 2.4879649e-13 | AY42: =AU42+AW42 -> 1.3114147e-05 | AZ42: =AR42+AX42 -> 37.730519 | BA42: =AS42+AY42 -> -93.808459 | BB42: =BA42+180 -> 86.191541 | BD42: =ROUND(AZ42,0) -> 38 | BE42: =ROUND(BA42,0) -> -94 | BF42: =ROUND(BB42,0) -> 86
V43: 1.39 | W43: =10*10^V43 -> 245.47089 | X43: =DC_gain_power -> -0.43247622 | Y43: =20*LOG(1/SQRT((W43/fp)^2+1)) -> -0.064889719 | Z43: =-180/PI()*ATAN(W43/fp) -> -6.9948361 | AA43: =20*LOG(SQRT((W43/fzRHP)^2+1)) -> 5.221142e-05 | AB43: =-180/PI()*ATAN(W43/fzRHP) -> -0.19866108 | AC43: =20*LOG(SQRT((W43/fzESR)^2+1)) -> 1.9102093e-08 | AD43: =180/PI()*ATAN(W43/fzESR) -> 0.0037998894 | AE43: =X43+Y43+AA43+AC43 -> -0.4973137 | AF43: =Z43+AB43+AD43 -> -7.1896972 | AG43: =DC_gain_comp -> 92.11041 | AH43: =20*LOG(1/SQRT((W43/fp_comp1)^2+1)) -> -51.025337 | AI43: =-180/PI()*ATAN(W43/fp_comp1) -> -89.838989 | AJ43: =20*LOG(SQRT((W43/fz_comp)^2+1)) -> 0.013741765 | AK43: =180/PI()*ATAN(W43/fz_comp) -> 3.2220866 | AL43: =20*LOG(1/SQRT((W43/fp_comp2)^2+1)) -> -1.2387158e-05 | AM43: =-180/PI()*ATAN(W43/fp_comp2) -> -0.096764533 | AN43: =AG43+AH43+AJ43+AL43 -> 41.098803 | AO43: =AI43+AK43+AM43 -> -86.713667 | AP43: =-20*LOG(GmPS*Rsns) -> 23.609121 | AQ43: =20*LOG(Vref/Vout) -> -26.68237 | AR43: =AE43+AN43+AP43+AQ43 -> 37.528241 | AS43: =AF43+AO43 -> -93.903364 | AT43: =20*LOG(SQRT((W43/fz_ff)^2+1)) -> 2.6229707e-13 | AU43: =180/PI()*ATAN(W43/fz_ff) -> 1.407158e-05 | AV43: =20*LOG(1/SQRT((W43/fp_ff)^2+1)) -> 0 | AW43: =-180/PI()*ATAN(W43/fp_ff) -> -6.5196509e-07 | AX43: =AT43+AV43 -> 2.6229707e-13 | AY43: =AU43+AW43 -> 1.3419615e-05 | AZ43: =AR43+AX43 -> 37.528241 | BA43: =AS43+AY43 -> -93.90335 | BB43: =BA43+180 -> 86.09665 | BD43: =ROUND(AZ43,0) -> 38 | BE43: =ROUND(BA43,0) -> -94 | BF43: =ROUND(BB43,0) -> 86
V44: 1.4 | W44: =10*10^V44 -> 251.18864 | X44: =DC_gain_power -> -0.43247622 | Y44: =20*LOG(1/SQRT((W44/fp)^2+1)) -> -0.067924083 | Z44: =-180/PI()*ATAN(W44/fp) -> -7.1560965 | AA44: =20*LOG(SQRT((W44/fzRHP)^2+1)) -> 5.4672053e-05 | AB44: =-180/PI()*ATAN(W44/fzRHP) -> -0.20328845 | AC44: =20*LOG(SQRT((W44/fzESR)^2+1)) -> 2.0002346e-08 | AD44: =180/PI()*ATAN(W44/fzESR) -> 0.0038884002 | AE44: =X44+Y44+AA44+AC44 -> -0.50034561 | AF44: =Z44+AB44+AD44 -> -7.3554966 | AG44: =DC_gain_comp -> 92.11041 | AH44: =20*LOG(1/SQRT((W44/fp_comp1)^2+1)) -> -51.225335 | AI44: =-180/PI()*ATAN(W44/fp_comp1) -> -89.842654 | AJ44: =20*LOG(SQRT((W44/fz_comp)^2+1)) -> 0.014388322 | AK44: =180/PI()*ATAN(W44/fz_comp) -> 3.296975 | AL44: =20*LOG(1/SQRT((W44/fp_comp2)^2+1)) -> -1.2970946e-05 | AM44: =-180/PI()*ATAN(W44/fp_comp2) -> -0.099018465 | AN44: =AG44+AH44+AJ44+AL44 -> 40.899451 | AO44: =AI44+AK44+AM44 -> -86.644697 | AP44: =-20*LOG(GmPS*Rsns) -> 23.609121 | AQ44: =20*LOG(Vref/Vout) -> -26.68237 | AR44: =AE44+AN44+AP44+AQ44 -> 37.325856 | AS44: =AF44+AO44 -> -94.000194 | AT44: =20*LOG(SQRT((W44/fz_ff)^2+1)) -> 2.73869e-13 | AU44: =180/PI()*ATAN(W44/fz_ff) -> 1.4399349e-05 | AV44: =20*LOG(1/SQRT((W44/fp_ff)^2+1)) -> 0 | AW44: =-180/PI()*ATAN(W44/fp_ff) -> -6.671513e-07 | AX44: =AT44+AV44 -> 2.73869e-13 | AY44: =AU44+AW44 -> 1.3732198e-05 | AZ44: =AR44+AX44 -> 37.325856 | BA44: =AS44+AY44 -> -94.00018 | BB44: =BA44+180 -> 85.99982 | BD44: =ROUND(AZ44,0) -> 37 | BE44: =ROUND(BA44,0) -> -94 | BF44: =ROUND(BB44,0) -> 86
V45: 1.41 | W45: =10*10^V45 -> 257.03958 | X45: =DC_gain_power -> -0.43247622 | Y45: =20*LOG(1/SQRT((W45/fp)^2+1)) -> -0.071099182 | Z45: =-180/PI()*ATAN(W45/fp) -> -7.3209953 | AA45: =20*LOG(SQRT((W45/fzRHP)^2+1)) -> 5.7248651e-05 | AB45: =-180/PI()*ATAN(W45/fzRHP) -> -0.20802361 | AC45: =20*LOG(SQRT((W45/fzESR)^2+1)) -> 2.0945029e-08 | AD45: =180/PI()*ATAN(W45/fzESR) -> 0.0039789727 | AE45: =X45+Y45+AA45+AC45 -> -0.50351813 | AF45: =Z45+AB45+AD45 -> -7.5250399 | AG45: =DC_gain_comp -> 92.11041 | AH45: =20*LOG(1/SQRT((W45/fp_comp1)^2+1)) -> -51.425334 | AI45: =-180/PI()*ATAN(W45/fp_comp1) -> -89.846235 | AJ45: =20*LOG(SQRT((W45/fz_comp)^2+1)) -> 0.015065248 | AK45: =180/PI()*ATAN(W45/fz_comp) -> 3.373596 | AL45: =20*LOG(1/SQRT((W45/fp_comp2)^2+1)) -> -1.3582246e-05 | AM45: =-180/PI()*ATAN(W45/fp_comp2) -> -0.1013249 | AN45: =AG45+AH45+AJ45+AL45 -> 40.700129 | AO45: =AI45+AK45+AM45 -> -86.573964 | AP45: =-20*LOG(GmPS*Rsns) -> 23.609121 | AQ45: =20*LOG(Vref/Vout) -> -26.68237 | AR45: =AE45+AN45+AP45+AQ45 -> 37.123361 | AS45: =AF45+AO45 -> -94.099004 | AT45: =20*LOG(SQRT((W45/fz_ff)^2+1)) -> 2.8736959e-13 | AU45: =180/PI()*ATAN(W45/fz_ff) -> 1.4734753e-05 | AV45: =20*LOG(1/SQRT((W45/fp_ff)^2+1)) -> 0 | AW45: =-180/PI()*ATAN(W45/fp_ff) -> -6.8269125e-07 | AX45: =AT45+AV45 -> 2.8736959e-13 | AY45: =AU45+AW45 -> 1.4052062e-05 | AZ45: =AR45+AX45 -> 37.123361 | BA45: =AS45+AY45 -> -94.09899 | BB45: =BA45+180 -> 85.90101 | BD45: =ROUND(AZ45,0) -> 37 | BE45: =ROUND(BA45,0) -> -94 | BF45: =ROUND(BB45,0) -> 86
V46: 1.42 | W46: =10*10^V46 -> 263.0268 | X46: =DC_gain_power -> -0.43247622 | Y46: =20*LOG(1/SQRT((W46/fp)^2+1)) -> -0.074421433 | Z46: =-180/PI()*ATAN(W46/fp) -> -7.4896089 | AA46: =20*LOG(SQRT((W46/fzRHP)^2+1)) -> 5.9946678e-05 | AB46: =-180/PI()*ATAN(W46/fzRHP) -> -0.21286906 | AC46: =20*LOG(SQRT((W46/fzESR)^2+1)) -> 2.1932137e-08 | AD46: =180/PI()*ATAN(W46/fzESR) -> 0.0040716548 | AE46: =X46+Y46+AA46+AC46 -> -0.50683768 | AF46: =Z46+AB46+AD46 -> -7.6984063 | AG46: =DC_gain_comp -> 92.11041 | AH46: =20*LOG(1/SQRT((W46/fp_comp1)^2+1)) -> -51.625332 | AI46: =-180/PI()*ATAN(W46/fp_comp1) -> -89.849735 | AJ46: =20*LOG(SQRT((W46/fz_comp)^2+1)) -> 0.015773964 | AK46: =180/PI()*ATAN(W46/fz_comp) -> 3.4519893 | AL46: =20*LOG(1/SQRT((W46/fp_comp2)^2+1)) -> -1.4222357e-05 | AM46: =-180/PI()*ATAN(W46/fp_comp2) -> -0.10368505 | AN46: =AG46+AH46+AJ46+AL46 -> 40.500838 | AO46: =AI46+AK46+AM46 -> -86.501431 | AP46: =-20*LOG(GmPS*Rsns) -> 23.609121 | AQ46: =20*LOG(Vref/Vout) -> -26.68237 | AR46: =AE46+AN46+AP46+AQ46 -> 36.920751 | AS46: =AF46+AO46 -> -94.199837 | AT46: =20*LOG(SQRT((W46/fz_ff)^2+1)) -> 3.0087017e-13 | AU46: =180/PI()*ATAN(W46/fz_ff) -> 1.5077969e-05 | AV46: =20*LOG(1/SQRT((W46/fp_ff)^2+1)) -> 0 | AW46: =-180/PI()*ATAN(W46/fp_ff) -> -6.9859318e-07 | AX46: =AT46+AV46 -> 3.0087017e-13 | AY46: =AU46+AW46 -> 1.4379376e-05 | AZ46: =AR46+AX46 -> 36.920751 | BA46: =AS46+AY46 -> -94.199823 | BB46: =BA46+180 -> 85.800177 | BD46: =ROUND(AZ46,0) -> 37 | BE46: =ROUND(BA46,0) -> -94 | BF46: =ROUND(BB46,0) -> 86
V47: 1.43 | W47: =10*10^V47 -> 269.15348 | X47: =DC_gain_power -> -0.43247622 | Y47: =20*LOG(1/SQRT((W47/fp)^2+1)) -> -0.077897535 | Z47: =-180/PI()*ATAN(W47/fp) -> -7.662015 | AA47: =20*LOG(SQRT((W47/fzRHP)^2+1)) -> 6.2771857e-05 | AB47: =-180/PI()*ATAN(W47/fzRHP) -> -0.21782737 | AC47: =20*LOG(SQRT((W47/fzESR)^2+1)) -> 2.2965767e-08 | AD47: =180/PI()*ATAN(W47/fzESR) -> 0.0041664959 | AE47: =X47+Y47+AA47+AC47 -> -0.51031096 | AF47: =Z47+AB47+AD47 -> -7.8756758 | AG47: =DC_gain_comp -> 92.11041 | AH47: =20*LOG(1/SQRT((W47/fp_comp1)^2+1)) -> -51.825331 | AI47: =-180/PI()*ATAN(W47/fp_comp1) -> -89.853156 | AJ47: =20*LOG(SQRT((W47/fz_comp)^2+1)) -> 0.016515956 | AK47: =180/PI()*ATAN(W47/fz_comp) -> 3.5321952 | AL47: =20*LOG(1/SQRT((W47/fp_comp2)^2+1)) -> -1.4892635e-05 | AM47: =-180/PI()*ATAN(W47/fp_comp2) -> -0.10610018 | AN47: =AG47+AH47+AJ47+AL47 -> 40.301581 | AO47: =AI47+AK47+AM47 -> -86.427061 | AP47: =-20*LOG(GmPS*Rsns) -> 23.609121 | AQ47: =20*LOG(Vref/Vout) -> -26.68237 | AR47: =AE47+AN47+AP47+AQ47 -> 36.718021 | AS47: =AF47+AO47 -> -94.302737 | AT47: =20*LOG(SQRT((W47/fz_ff)^2+1)) -> 3.1437075e-13 | AU47: =180/PI()*ATAN(W47/fz_ff) -> 1.542918e-05 | AV47: =20*LOG(1/SQRT((W47/fp_ff)^2+1)) -> 0 | AW47: =-180/PI()*ATAN(W47/fp_ff) -> -7.148655e-07 | AX47: =AT47+AV47 -> 3.1437075e-13 | AY47: =AU47+AW47 -> 1.4714315e-05 | AZ47: =AR47+AX47 -> 36.718021 | BA47: =AS47+AY47 -> -94.302722 | BB47: =BA47+180 -> 85.697278 | BD47: =ROUND(AZ47,0) -> 37 | BE47: =ROUND(BA47,0) -> -94 | BF47: =ROUND(BB47,0) -> 86
V48: 1.44 | W48: =10*10^V48 -> 275.42287 | X48: =DC_gain_power -> -0.43247622 | Y48: =20*LOG(1/SQRT((W48/fp)^2+1)) -> -0.081534482 | Z48: =-180/PI()*ATAN(W48/fp) -> -7.8382925 | AA48: =20*LOG(SQRT((W48/fzRHP)^2+1)) -> 6.5730182e-05 | AB48: =-180/PI()*ATAN(W48/fzRHP) -> -0.22290117 | AC48: =20*LOG(SQRT((W48/fzESR)^2+1)) -> 2.4048111e-08 | AD48: =180/PI()*ATAN(W48/fzESR) -> 0.004263546 | AE48: =X48+Y48+AA48+AC48 -> -0.51394494 | AF48: =Z48+AB48+AD48 -> -8.0569302 | AG48: =DC_gain_comp -> 92.11041 | AH48: =20*LOG(1/SQRT((W48/fp_comp1)^2+1)) -> -52.025329 | AI48: =-180/PI()*ATAN(W48/fp_comp1) -> -89.856498 | AJ48: =20*LOG(SQRT((W48/fz_comp)^2+1)) -> 0.017292781 | AK48: =180/PI()*ATAN(W48/fz_comp) -> 3.614255 | AL48: =20*LOG(1/SQRT((W48/fp_comp2)^2+1)) -> -1.5594502e-05 | AM48: =-180/PI()*ATAN(W48/fp_comp2) -> -0.10857157 | AN48: =AG48+AH48+AJ48+AL48 -> 40.102358 | AO48: =AI48+AK48+AM48 -> -86.350815 | AP48: =-20*LOG(GmPS*Rsns) -> 23.609121 | AQ48: =20*LOG(Vref/Vout) -> -26.68237 | AR48: =AE48+AN48+AP48+AQ48 -> 36.515164 | AS48: =AF48+AO48 -> -94.407745 | AT48: =20*LOG(SQRT((W48/fz_ff)^2+1)) -> 3.2979999e-13 | AU48: =180/PI()*ATAN(W48/fz_ff) -> 1.5788572e-05 | AV48: =20*LOG(1/SQRT((W48/fp_ff)^2+1)) -> 0 | AW48: =-180/PI()*ATAN(W48/fp_ff) -> -7.3151686e-07 | AX48: =AT48+AV48 -> 3.2979999e-13 | AY48: =AU48+AW48 -> 1.5057055e-05 | AZ48: =AR48+AX48 -> 36.515164 | BA48: =AS48+AY48 -> -94.40773 | BB48: =BA48+180 -> 85.59227 | BD48: =ROUND(AZ48,0) -> 37 | BE48: =ROUND(BA48,0) -> -94 | BF48: =ROUND(BB48,0) -> 86
V49: 1.45 | W49: =10*10^V49 -> 281.83829 | X49: =DC_gain_power -> -0.43247622 | Y49: =20*LOG(1/SQRT((W49/fp)^2+1)) -> -0.08533957 | Z49: =-180/PI()*ATAN(W49/fp) -> -8.0185217 | AA49: =20*LOG(SQRT((W49/fzRHP)^2+1)) -> 6.8827925e-05 | AB49: =-180/PI()*ATAN(W49/fzRHP) -> -0.22809315 | AC49: =20*LOG(SQRT((W49/fzESR)^2+1)) -> 2.5181462e-08 | AD49: =180/PI()*ATAN(W49/fzESR) -> 0.0043628568 | AE49: =X49+Y49+AA49+AC49 -> -0.51774693 | AF49: =Z49+AB49+AD49 -> -8.242252 | AG49: =DC_gain_comp -> 92.11041 | AH49: =20*LOG(1/SQRT((W49/fp_comp1)^2+1)) -> -52.225328 | AI49: =-180/PI()*ATAN(W49/fp_comp1) -> -89.859765 | AJ49: =20*LOG(SQRT((W49/fz_comp)^2+1)) -> 0.018106068 | AK49: =180/PI()*ATAN(W49/fz_comp) -> 3.6982108 | AL49: =20*LOG(1/SQRT((W49/fp_comp2)^2+1)) -> -1.6329447e-05 | AM49: =-180/PI()*ATAN(W49/fp_comp2) -> -0.11110052 | AN49: =AG49+AH49+AJ49+AL49 -> 39.903172 | AO49: =AI49+AK49+AM49 -> -86.272655 | AP49: =-20*LOG(GmPS*Rsns) -> 23.609121 | AQ49: =20*LOG(Vref/Vout) -> -26.68237 | AR49: =AE49+AN49+AP49+AQ49 -> 36.312176 | AS49: =AF49+AO49 -> -94.514907 | AT49: =20*LOG(SQRT((W49/fz_ff)^2+1)) -> 3.4522923e-13 | AU49: =180/PI()*ATAN(W49/fz_ff) -> 1.6156335e-05 | AV49: =20*LOG(1/SQRT((W49/fp_ff)^2+1)) -> 0 | AW49: =-180/PI()*ATAN(W49/fp_ff) -> -7.4855607e-07 | AX49: =AT49+AV49 -> 3.4522923e-13 | AY49: =AU49+AW49 -> 1.5407779e-05 | AZ49: =AR49+AX49 -> 36.312176 | BA49: =AS49+AY49 -> -94.514891 | BB49: =BA49+180 -> 85.485109 | BD49: =ROUND(AZ49,0) -> 36 | BE49: =ROUND(BA49,0) -> -95 | BF49: =ROUND(BB49,0) -> 85
A50: Feedforward | V50: 1.46 | W50: =10*10^V50 -> 288.40315 | X50: =DC_gain_power -> -0.43247622 | Y50: =20*LOG(1/SQRT((W50/fp)^2+1)) -> -0.089320417 | Z50: =-180/PI()*ATAN(W50/fp) -> -8.2027836 | AA50: =20*LOG(SQRT((W50/fzRHP)^2+1)) -> 7.2071658e-05 | AB50: =-180/PI()*ATAN(W50/fzRHP) -> -0.23340606 | AC50: =20*LOG(SQRT((W50/fzESR)^2+1)) -> 2.6368229e-08 | AD50: =180/PI()*ATAN(W50/fzESR) -> 0.0044644808 | AE50: =X50+Y50+AA50+AC50 -> -0.52172454 | AF50: =Z50+AB50+AD50 -> -8.4317252 | AG50: =DC_gain_comp -> 92.11041 | AH50: =20*LOG(1/SQRT((W50/fp_comp1)^2+1)) -> -52.425327 | AI50: =-180/PI()*ATAN(W50/fp_comp1) -> -89.862957 | AJ50: =20*LOG(SQRT((W50/fz_comp)^2+1)) -> 0.018957521 | AK50: =180/PI()*ATAN(W50/fz_comp) -> 3.7841057 | AL50: =20*LOG(1/SQRT((W50/fp_comp2)^2+1)) -> -1.7099028e-05 | AM50: =-180/PI()*ATAN(W50/fp_comp2) -> -0.11368837 | AN50: =AG50+AH50+AJ50+AL50 -> 39.704024 | AO50: =AI50+AK50+AM50 -> -86.19254 | AP50: =-20*LOG(GmPS*Rsns) -> 23.609121 | AQ50: =20*LOG(Vref/Vout) -> -26.68237 | AR50: =AE50+AN50+AP50+AQ50 -> 36.10905 | AS50: =AF50+AO50 -> -94.624265 | AT50: =20*LOG(SQRT((W50/fz_ff)^2+1)) -> 3.6065847e-13 | AU50: =180/PI()*ATAN(W50/fz_ff) -> 1.6532665e-05 | AV50: =20*LOG(1/SQRT((W50/fp_ff)^2+1)) -> 0 | AW50: =-180/PI()*ATAN(W50/fp_ff) -> -7.6599219e-07 | AX50: =AT50+AV50 -> 3.6065847e-13 | AY50: =AU50+AW50 -> 1.5766672e-05 | AZ50: =AR50+AX50 -> 36.10905 | BA50: =AS50+AY50 -> -94.624249 | BB50: =BA50+180 -> 85.375751 | BD50: =ROUND(AZ50,0) -> 36 | BE50: =ROUND(BA50,0) -> -95 | BF50: =ROUND(BB50,0) -> 85
A51: Cff | B51: =Sheet1!B51*10^-12 -> 5.816651e-16 | C51: F | V51: 1.47 | W51: =10*10^V51 -> 295.12092 | X51: =DC_gain_power -> -0.43247622 | Y51: =20*LOG(1/SQRT((W51/fp)^2+1)) -> -0.093484968 | Z51: =-180/PI()*ATAN(W51/fp) -> -8.3911609 | AA51: =20*LOG(SQRT((W51/fzRHP)^2+1)) -> 7.5468261e-05 | AB51: =-180/PI()*ATAN(W51/fzRHP) -> -0.23884273 | AC51: =20*LOG(SQRT((W51/fzESR)^2+1)) -> 2.7610925e-08 | AD51: =180/PI()*ATAN(W51/fzESR) -> 0.0045684719 | AE51: =X51+Y51+AA51+AC51 -> -0.52588569 | AF51: =Z51+AB51+AD51 -> -8.6254352 | AG51: =DC_gain_comp -> 92.11041 | AH51: =20*LOG(1/SQRT((W51/fp_comp1)^2+1)) -> -52.625326 | AI51: =-180/PI()*ATAN(W51/fp_comp1) -> -89.866077 | AJ51: =20*LOG(SQRT((W51/fz_comp)^2+1)) -> 0.019848923 | AK51: =180/PI()*ATAN(W51/fz_comp) -> 3.8719838 | AL51: =20*LOG(1/SQRT((W51/fp_comp2)^2+1)) -> -1.7904879e-05 | AM51: =-180/PI()*ATAN(W51/fp_comp2) -> -0.11633651 | AN51: =AG51+AH51+AJ51+AL51 -> 39.504916 | AO51: =AI51+AK51+AM51 -> -86.110429 | AP51: =-20*LOG(GmPS*Rsns) -> 23.609121 | AQ51: =20*LOG(Vref/Vout) -> -26.68237 | AR51: =AE51+AN51+AP51+AQ51 -> 35.905781 | AS51: =AF51+AO51 -> -94.735864 | AT51: =20*LOG(SQRT((W51/fz_ff)^2+1)) -> 3.7801637e-13 | AU51: =180/PI()*ATAN(W51/fz_ff) -> 1.691776e-05 | AV51: =20*LOG(1/SQRT((W51/fp_ff)^2+1)) -> 0 | AW51: =-180/PI()*ATAN(W51/fp_ff) -> -7.8383444e-07 | AX51: =AT51+AV51 -> 3.7801637e-13 | AY51: =AU51+AW51 -> 1.6133925e-05 | AZ51: =AR51+AX51 -> 35.905781 | BA51: =AS51+AY51 -> -94.735848 | BB51: =BA51+180 -> 85.264152 | BD51: =ROUND(AZ51,0) -> 36 | BE51: =ROUND(BA51,0) -> -95 | BF51: =ROUND(BB51,0) -> 85
A52: R1 | B52: =B35*1000 -> 13300 | C52: Ω | V52: 1.48 | W52: =10*10^V52 -> 301.99517 | X52: =DC_gain_power -> -0.43247622 | Y52: =20*LOG(1/SQRT((W52/fp)^2+1)) -> -0.097841512 | Z52: =-180/PI()*ATAN(W52/fp) -> -8.583737 | AA52: =20*LOG(SQRT((W52/fzRHP)^2+1)) -> 7.9024939e-05 | AB52: =-180/PI()*ATAN(W52/fzRHP) -> -0.24440602 | AC52: =20*LOG(SQRT((W52/fzESR)^2+1)) -> 2.8912188e-08 | AD52: =180/PI()*ATAN(W52/fzESR) -> 0.0046748853 | AE52: =X52+Y52+AA52+AC52 -> -0.53023868 | AF52: =Z52+AB52+AD52 -> -8.8234682 | AG52: =DC_gain_comp -> 92.11041 | AH52: =20*LOG(1/SQRT((W52/fp_comp1)^2+1)) -> -52.825325 | AI52: =-180/PI()*ATAN(W52/fp_comp1) -> -89.869125 | AJ52: =20*LOG(SQRT((W52/fz_comp)^2+1)) -> 0.020782139 | AK52: =180/PI()*ATAN(W52/fz_comp) -> 3.9618899 | AL52: =20*LOG(1/SQRT((W52/fp_comp2)^2+1)) -> -1.8748708e-05 | AM52: =-180/PI()*ATAN(W52/fp_comp2) -> -0.11904633 | AN52: =AG52+AH52+AJ52+AL52 -> 39.305849 | AO52: =AI52+AK52+AM52 -> -86.026281 | AP52: =-20*LOG(GmPS*Rsns) -> 23.609121 | AQ52: =20*LOG(Vref/Vout) -> -26.68237 | AR52: =AE52+AN52+AP52+AQ52 -> 35.702361 | AS52: =AF52+AO52 -> -94.84975 | AT52: =20*LOG(SQRT((W52/fz_ff)^2+1)) -> 3.9537426e-13 | AU52: =180/PI()*ATAN(W52/fz_ff) -> 1.7311825e-05 | AV52: =20*LOG(1/SQRT((W52/fp_ff)^2+1)) -> 0 | AW52: =-180/PI()*ATAN(W52/fp_ff) -> -8.0209228e-07 | AX52: =AT52+AV52 -> 3.9537426e-13 | AY52: =AU52+AW52 -> 1.6509733e-05 | AZ52: =AR52+AX52 -> 35.702361 | BA52: =AS52+AY52 -> -94.849733 | BB52: =BA52+180 -> 85.150267 | BD52: =ROUND(AZ52,0) -> 36 | BE52: =ROUND(BA52,0) -> -95 | BF52: =ROUND(BB52,0) -> 85
A53: R2 | B53: =(B11/B3-1)*B52 -> 273758.33 | C53: Ω | V53: 1.49 | W53: =10*10^V53 -> 309.02954 | X53: =DC_gain_power -> -0.43247622 | Y53: =20*LOG(1/SQRT((W53/fp)^2+1)) -> -0.10239869 | Z53: =-180/PI()*ATAN(W53/fp) -> -8.7805967 | AA53: =20*LOG(SQRT((W53/fzRHP)^2+1)) -> 8.2749234e-05 | AB53: =-180/PI()*ATAN(W53/fzRHP) -> -0.2500989 | AC53: =20*LOG(SQRT((W53/fzESR)^2+1)) -> 3.0274777e-08 | AD53: =180/PI()*ATAN(W53/fzESR) -> 0.0047837773 | AE53: =X53+Y53+AA53+AC53 -> -0.53479213 | AF53: =Z53+AB53+AD53 -> -9.0259119 | AG53: =DC_gain_comp -> 92.11041 | AH53: =20*LOG(1/SQRT((W53/fp_comp1)^2+1)) -> -53.025324 | AI53: =-180/PI()*ATAN(W53/fp_comp1) -> -89.872104 | AJ53: =20*LOG(SQRT((W53/fz_comp)^2+1)) -> 0.021759122 | AK53: =180/PI()*ATAN(W53/fz_comp) -> 4.05387 | AL53: =20*LOG(1/SQRT((W53/fp_comp2)^2+1)) -> -1.9632306e-05 | AM53: =-180/PI()*ATAN(W53/fp_comp2) -> -0.12181926 | AN53: =AG53+AH53+AJ53+AL53 -> 39.106826 | AO53: =AI53+AK53+AM53 -> -85.940053 | AP53: =-20*LOG(GmPS*Rsns) -> 23.609121 | AQ53: =20*LOG(Vref/Vout) -> -26.68237 | AR53: =AE53+AN53+AP53+AQ53 -> 35.498785 | AS53: =AF53+AO53 -> -94.965965 | AT53: =20*LOG(SQRT((W53/fz_ff)^2+1)) -> 4.1466081e-13 | AU53: =180/PI()*ATAN(W53/fz_ff) -> 1.7715069e-05 | AV53: =20*LOG(1/SQRT((W53/fp_ff)^2+1)) -> 0 | AW53: =-180/PI()*ATAN(W53/fp_ff) -> -8.2077541e-07 | AX53: =AT53+AV53 -> 4.1466081e-13 | AY53: =AU53+AW53 -> 1.6894294e-05 | AZ53: =AR53+AX53 -> 35.498785 | BA53: =AS53+AY53 -> -94.965948 | BB53: =BA53+180 -> 85.034052 | BD53: =ROUND(AZ53,0) -> 35 | BE53: =ROUND(BA53,0) -> -95 | BF53: =ROUND(BB53,0) -> 85
A54: fz_ff | B54: =1/2/PI()/B53/B51 -> 9.9949304e+08 | C54: Hz | V54: 1.5 | W54: =10*10^V54 -> 316.22777 | X54: =DC_gain_power -> -0.43247622 | Y54: =20*LOG(1/SQRT((W54/fp)^2+1)) -> -0.10716553 | Z54: =-180/PI()*ATAN(W54/fp) -> -8.9818258 | AA54: =20*LOG(SQRT((W54/fzRHP)^2+1)) -> 8.6649046e-05 | AB54: =-180/PI()*ATAN(W54/fzRHP) -> -0.25592437 | AC54: =20*LOG(SQRT((W54/fzESR)^2+1)) -> 3.1701583e-08 | AD54: =180/PI()*ATAN(W54/fzESR) -> 0.0048952058 | AE54: =X54+Y54+AA54+AC54 -> -0.53955507 | AF54: =Z54+AB54+AD54 -> -9.2328549 | AG54: =DC_gain_comp -> 92.11041 | AH54: =20*LOG(1/SQRT((W54/fp_comp1)^2+1)) -> -53.225323 | AI54: =-180/PI()*ATAN(W54/fp_comp1) -> -89.875015 | AJ54: =20*LOG(SQRT((W54/fz_comp)^2+1)) -> 0.022781913 | AK54: =180/PI()*ATAN(W54/fz_comp) -> 4.1479709 | AL54: =20*LOG(1/SQRT((W54/fp_comp2)^2+1)) -> -2.0557545e-05 | AM54: =-180/PI()*ATAN(W54/fp_comp2) -> -0.12465679 | AN54: =AG54+AH54+AJ54+AL54 -> 38.907849 | AO54: =AI54+AK54+AM54 -> -85.851701 | AP54: =-20*LOG(GmPS*Rsns) -> 23.609121 | AQ54: =20*LOG(Vref/Vout) -> -26.68237 | AR54: =AE54+AN54+AP54+AQ54 -> 35.295045 | AS54: =AF54+AO54 -> -95.084556 | AT54: =20*LOG(SQRT((W54/fz_ff)^2+1)) -> 4.3394736e-13 | AU54: =180/PI()*ATAN(W54/fz_ff) -> 1.8127706e-05 | AV54: =20*LOG(1/SQRT((W54/fp_ff)^2+1)) -> 0 | AW54: =-180/PI()*ATAN(W54/fp_ff) -> -8.3989373e-07 | AX54: =AT54+AV54 -> 4.3394736e-13 | AY54: =AU54+AW54 -> 1.7287813e-05 | AZ54: =AR54+AX54 -> 35.295045 | BA54: =AS54+AY54 -> -95.084539 | BB54: =BA54+180 -> 84.915461 | BD54: =ROUND(AZ54,0) -> 35 | BE54: =ROUND(BA54,0) -> -95 | BF54: =ROUND(BB54,0) -> 85
A55: fp_ff | B55: =1/2/PI()/(B53*B52/(B53+B52))/(B51) -> 2.1572392e+10 | C55: Hz | V55: 1.51 | W55: =10*10^V55 -> 323.59366 | X55: =DC_gain_power -> -0.43247622 | Y55: =20*LOG(1/SQRT((W55/fp)^2+1)) -> -0.11215142 | Z55: =-180/PI()*ATAN(W55/fp) -> -9.187511 | AA55: =20*LOG(SQRT((W55/fzRHP)^2+1)) -> 9.0732647e-05 | AB55: =-180/PI()*ATAN(W55/fzRHP) -> -0.26188554 | AC55: =20*LOG(SQRT((W55/fzESR)^2+1)) -> 3.3195633e-08 | AD55: =180/PI()*ATAN(W55/fzESR) -> 0.0050092298 | AE55: =X55+Y55+AA55+AC55 -> -0.54453687 | AF55: =Z55+AB55+AD55 -> -9.4443873 | AG55: =DC_gain_comp -> 92.11041 | AH55: =20*LOG(1/SQRT((W55/fp_comp1)^2+1)) -> -53.425322 | AI55: =-180/PI()*ATAN(W55/fp_comp1) -> -89.87786 | AJ55: =20*LOG(SQRT((W55/fz_comp)^2+1)) -> 0.023852648 | AK55: =180/PI()*ATAN(W55/fz_comp) -> 4.2442405 | AL55: =20*LOG(1/SQRT((W55/fp_comp2)^2+1)) -> -2.152639e-05 | AM55: =-180/PI()*ATAN(W55/fp_comp2) -> -0.12756041 | AN55: =AG55+AH55+AJ55+AL55 -> 38.70892 | AO55: =AI55+AK55+AM55 -> -85.76118 | AP55: =-20*LOG(GmPS*Rsns) -> 23.609121 | AQ55: =20*LOG(Vref/Vout) -> -26.68237 | AR55: =AE55+AN55+AP55+AQ55 -> 35.091134 | AS55: =AF55+AO55 -> -95.205567 | AT55: =20*LOG(SQRT((W55/fz_ff)^2+1)) -> 4.5516256e-13 | AU55: =180/PI()*ATAN(W55/fz_ff) -> 1.8549955e-05 | AV55: =20*LOG(1/SQRT((W55/fp_ff)^2+1)) -> 0 | AW55: =-180/PI()*ATAN(W55/fp_ff) -> -8.5945737e-07 | AX55: =AT55+AV55 -> 4.5516256e-13 | AY55: =AU55+AW55 -> 1.7690497e-05 | AZ55: =AR55+AX55 -> 35.091134 | BA55: =AS55+AY55 -> -95.20555 | BB55: =BA55+180 -> 84.79445 | BD55: =ROUND(AZ55,0) -> 35 | BE55: =ROUND(BA55,0) -> -95 | BF55: =ROUND(BB55,0) -> 85
B56: =1/2/PI()/(B53*B52/(B53+B52))/(B51+0.000000000005) -> 2509289.5 | V56: 1.52 | W56: =10*10^V56 -> 331.13112 | X56: =DC_gain_power -> -0.43247622 | Y56: =20*LOG(1/SQRT((W56/fp)^2+1)) -> -0.11736616 | Z56: =-180/PI()*ATAN(W56/fp) -> -9.3977402 | AA56: =20*LOG(SQRT((W56/fzRHP)^2+1)) -> 9.5008698e-05 | AB56: =-180/PI()*ATAN(W56/fzRHP) -> -0.26798555 | AC56: =20*LOG(SQRT((W56/fzESR)^2+1)) -> 3.4760096e-08 | AD56: =180/PI()*ATAN(W56/fzESR) -> 0.0051259097 | AE56: =X56+Y56+AA56+AC56 -> -0.54974733 | AF56: =Z56+AB56+AD56 -> -9.6605998 | AG56: =DC_gain_comp -> 92.11041 | AH56: =20*LOG(1/SQRT((W56/fp_comp1)^2+1)) -> -53.625321 | AI56: =-180/PI()*ATAN(W56/fp_comp1) -> -89.880641 | AJ56: =20*LOG(SQRT((W56/fz_comp)^2+1)) -> 0.024973563 | AK56: =180/PI()*ATAN(W56/fz_comp) -> 4.3427277 | AL56: =20*LOG(1/SQRT((W56/fp_comp2)^2+1)) -> -2.2540895e-05 | AM56: =-180/PI()*ATAN(W56/fp_comp2) -> -0.13053166 | AN56: =AG56+AH56+AJ56+AL56 -> 38.51004 | AO56: =AI56+AK56+AM56 -> -85.668445 | AP56: =-20*LOG(GmPS*Rsns) -> 23.609121 | AQ56: =20*LOG(Vref/Vout) -> -26.68237 | AR56: =AE56+AN56+AP56+AQ56 -> 34.887044 | AS56: =AF56+AO56 -> -95.329044 | AT56: =20*LOG(SQRT((W56/fz_ff)^2+1)) -> 4.7637777e-13 | AU56: =180/PI()*ATAN(W56/fz_ff) -> 1.8982039e-05 | AV56: =20*LOG(1/SQRT((W56/fp_ff)^2+1)) -> 0 | AW56: =-180/PI()*ATAN(W56/fp_ff) -> -8.794767e-07 | AX56: =AT56+AV56 -> 4.7637777e-13 | AY56: =AU56+AW56 -> 1.8102562e-05 | AZ56: =AR56+AX56 -> 34.887044 | BA56: =AS56+AY56 -> -95.329026 | BB56: =BA56+180 -> 84.670974 | BD56: =ROUND(AZ56,0) -> 35 | BE56: =ROUND(BA56,0) -> -95 | BF56: =ROUND(BB56,0) -> 85
A57: Filter at FB pin | V57: 1.53 | W57: =10*10^V57 -> 338.84416 | X57: =DC_gain_power -> -0.43247622 | Y57: =20*LOG(1/SQRT((W57/fp)^2+1)) -> -0.12281996 | Z57: =-180/PI()*ATAN(W57/fp) -> -9.6126022 | AA57: =20*LOG(SQRT((W57/fzRHP)^2+1)) -> 9.9486269e-05 | AB57: =-180/PI()*ATAN(W57/fzRHP) -> -0.27422764 | AC57: =20*LOG(SQRT((W57/fzESR)^2+1)) -> 3.6398287e-08 | AD57: =180/PI()*ATAN(W57/fzESR) -> 0.0052453075 | AE57: =X57+Y57+AA57+AC57 -> -0.55519665 | AF57: =Z57+AB57+AD57 -> -9.8815845 | AG57: =DC_gain_comp -> 92.11041 | AH57: =20*LOG(1/SQRT((W57/fp_comp1)^2+1)) -> -53.82532 | AI57: =-180/PI()*ATAN(W57/fp_comp1) -> -89.883357 | AJ57: =20*LOG(SQRT((W57/fz_comp)^2+1)) -> 0.026146994 | AK57: =180/PI()*ATAN(W57/fz_comp) -> 4.4434822 | AL57: =20*LOG(1/SQRT((W57/fp_comp2)^2+1)) -> -2.3603212e-05 | AM57: =-180/PI()*ATAN(W57/fp_comp2) -> -0.13357212 | AN57: =AG57+AH57+AJ57+AL57 -> 38.311214 | AO57: =AI57+AK57+AM57 -> -85.573447 | AP57: =-20*LOG(GmPS*Rsns) -> 23.609121 | AQ57: =20*LOG(Vref/Vout) -> -26.68237 | AR57: =AE57+AN57+AP57+AQ57 -> 34.682768 | AS57: =AF57+AO57 -> -95.455032 | AT57: =20*LOG(SQRT((W57/fz_ff)^2+1)) -> 4.9952163e-13 | AU57: =180/PI()*ATAN(W57/fz_ff) -> 1.9424187e-05 | AV57: =20*LOG(1/SQRT((W57/fp_ff)^2+1)) -> 0 | AW57: =-180/PI()*ATAN(W57/fp_ff) -> -8.9996235e-07 | AX57: =AT57+AV57 -> 4.9952163e-13 | AY57: =AU57+AW57 -> 1.8524225e-05 | AZ57: =AR57+AX57 -> 34.682768 | BA57: =AS57+AY57 -> -95.455013 | BB57: =BA57+180 -> 84.544987 | BD57: =ROUND(AZ57,0) -> 35 | BE57: =ROUND(BA57,0) -> -95 | BF57: =ROUND(BB57,0) -> 85
A58: R_filter | B58: NA | C58: Ω | V58: 1.54 | W58: =10*10^V58 -> 346.73685 | X58: =DC_gain_power -> -0.43247622 | Y58: =20*LOG(1/SQRT((W58/fp)^2+1)) -> -0.12852346 | Z58: =-180/PI()*ATAN(W58/fp) -> -9.8321868 | AA58: =20*LOG(SQRT((W58/fzRHP)^2+1)) -> 0.00010417486 | AB58: =-180/PI()*ATAN(W58/fzRHP) -> -0.28061512 | AC58: =20*LOG(SQRT((W58/fzESR)^2+1)) -> 3.8113685e-08 | AD58: =180/PI()*ATAN(W58/fzESR) -> 0.0053674864 | AE58: =X58+Y58+AA58+AC58 -> -0.56089546 | AF58: =Z58+AB58+AD58 -> -10.107434 | AG58: =DC_gain_comp -> 92.11041 | AH58: =20*LOG(1/SQRT((W58/fp_comp1)^2+1)) -> -54.025319 | AI58: =-180/PI()*ATAN(W58/fp_comp1) -> -89.886013 | AJ58: =20*LOG(SQRT((W58/fz_comp)^2+1)) -> 0.027375388 | AK58: =180/PI()*ATAN(W58/fz_comp) -> 4.5465552 | AL58: =20*LOG(1/SQRT((W58/fp_comp2)^2+1)) -> -2.4715594e-05 | AM58: =-180/PI()*ATAN(W58/fp_comp2) -> -0.13668341 | AN58: =AG58+AH58+AJ58+AL58 -> 38.112442 | AO58: =AI58+AK58+AM58 -> -85.476141 | AP58: =-20*LOG(GmPS*Rsns) -> 23.609121 | AQ58: =20*LOG(Vref/Vout) -> -26.68237 | AR58: =AE58+AN58+AP58+AQ58 -> 34.478297 | AS58: =AF58+AO58 -> -95.583575 | AT58: =20*LOG(SQRT((W58/fz_ff)^2+1)) -> 5.2266549e-13 | AU58: =180/PI()*ATAN(W58/fz_ff) -> 1.9876635e-05 | AV58: =20*LOG(1/SQRT((W58/fp_ff)^2+1)) -> 0 | AW58: =-180/PI()*ATAN(W58/fp_ff) -> -9.2092516e-07 | AX58: =AT58+AV58 -> 5.2266549e-13 | AY58: =AU58+AW58 -> 1.895571e-05 | AZ58: =AR58+AX58 -> 34.478297 | BA58: =AS58+AY58 -> -95.583556 | BB58: =BA58+180 -> 84.416444 | BD58: =ROUND(AZ58,0) -> 34 | BE58: =ROUND(BA58,0) -> -96 | BF58: =ROUND(BB58,0) -> 84
A59: C_filter | B59: NA | C59: F | V59: 1.55 | W59: =10*10^V59 -> 354.81339 | X59: =DC_gain_power -> -0.43247622 | Y59: =20*LOG(1/SQRT((W59/fp)^2+1)) -> -0.13448773 | Z59: =-180/PI()*ATAN(W59/fp) -> -10.056585 | AA59: =20*LOG(SQRT((W59/fzRHP)^2+1)) -> 0.0001090844 | AB59: =-180/PI()*ATAN(W59/fzRHP) -> -0.28715137 | AC59: =20*LOG(SQRT((W59/fzESR)^2+1)) -> 3.9909928e-08 | AD59: =180/PI()*ATAN(W59/fzESR) -> 0.0054925112 | AE59: =X59+Y59+AA59+AC59 -> -0.56685483 | AF59: =Z59+AB59+AD59 -> -10.338243 | AG59: =DC_gain_comp -> 92.11041 | AH59: =20*LOG(1/SQRT((W59/fp_comp1)^2+1)) -> -54.225319 | AI59: =-180/PI()*ATAN(W59/fp_comp1) -> -89.888607 | AJ59: =20*LOG(SQRT((W59/fz_comp)^2+1)) -> 0.028661303 | AK59: =180/PI()*ATAN(W59/fz_comp) -> 4.6519985 | AL59: =20*LOG(1/SQRT((W59/fp_comp2)^2+1)) -> -2.58804e-05 | AM59: =-180/PI()*ATAN(W59/fp_comp2) -> -0.13986716 | AN59: =AG59+AH59+AJ59+AL59 -> 37.913727 | AO59: =AI59+AK59+AM59 -> -85.376476 | AP59: =-20*LOG(GmPS*Rsns) -> 23.609121 | AQ59: =20*LOG(Vref/Vout) -> -26.68237 | AR59: =AE59+AN59+AP59+AQ59 -> 34.273623 | AS59: =AF59+AO59 -> -95.714719 | AT59: =20*LOG(SQRT((W59/fz_ff)^2+1)) -> 5.47738e-13 | AU59: =180/PI()*ATAN(W59/fz_ff) -> 2.0339621e-05 | AV59: =20*LOG(1/SQRT((W59/fp_ff)^2+1)) -> 0 | AW59: =-180/PI()*ATAN(W59/fp_ff) -> -9.4237626e-07 | AX59: =AT59+AV59 -> 5.47738e-13 | AY59: =AU59+AW59 -> 1.9397245e-05 | AZ59: =AR59+AX59 -> 34.273623 | BA59: =AS59+AY59 -> -95.7147 | BB59: =BA59+180 -> 84.2853 | BD59: =ROUND(AZ59,0) -> 34 | BE59: =ROUND(BA59,0) -> -96 | BF59: =ROUND(BB59,0) -> 84
A60: fp_filter | B60: =1/2/PI()/B58/B59 -> #VALUE! | C60: Hz | V60: 1.56 | W60: =10*10^V60 -> 363.07805 | X60: =DC_gain_power -> -0.43247622 | Y60: =20*LOG(1/SQRT((W60/fp)^2+1)) -> -0.14072433 | Z60: =-180/PI()*ATAN(W60/fp) -> -10.285887 | AA60: =20*LOG(SQRT((W60/fzRHP)^2+1)) -> 0.00011422533 | AB60: =-180/PI()*ATAN(W60/fzRHP) -> -0.29383987 | AC60: =20*LOG(SQRT((W60/fzESR)^2+1)) -> 4.1790826e-08 | AD60: =180/PI()*ATAN(W60/fzESR) -> 0.0056204483 | AE60: =X60+Y60+AA60+AC60 -> -0.57308628 | AF60: =Z60+AB60+AD60 -> -10.574106 | AG60: =DC_gain_comp -> 92.11041 | AH60: =20*LOG(1/SQRT((W60/fp_comp1)^2+1)) -> -54.425318 | AI60: =-180/PI()*ATAN(W60/fp_comp1) -> -89.891143 | AJ60: =20*LOG(SQRT((W60/fz_comp)^2+1)) -> 0.030007412 | AK60: =180/PI()*ATAN(W60/fz_comp) -> 4.7598652 | AL60: =20*LOG(1/SQRT((W60/fp_comp2)^2+1)) -> -2.7100102e-05 | AM60: =-180/PI()*ATAN(W60/fp_comp2) -> -0.14312507 | AN60: =AG60+AH60+AJ60+AL60 -> 37.715073 | AO60: =AI60+AK60+AM60 -> -85.274403 | AP60: =-20*LOG(GmPS*Rsns) -> 23.609121 | AQ60: =20*LOG(Vref/Vout) -> -26.68237 | AR60: =AE60+AN60+AP60+AQ60 -> 34.068738 | AS60: =AF60+AO60 -> -95.848509 | AT60: =20*LOG(SQRT((W60/fz_ff)^2+1)) -> 5.7281052e-13 | AU60: =180/PI()*ATAN(W60/fz_ff) -> 2.0813392e-05 | AV60: =20*LOG(1/SQRT((W60/fp_ff)^2+1)) -> 0 | AW60: =-180/PI()*ATAN(W60/fp_ff) -> -9.6432703e-07 | AX60: =AT60+AV60 -> 5.7281052e-13 | AY60: =AU60+AW60 -> 1.9849065e-05 | AZ60: =AR60+AX60 -> 34.068738 | BA60: =AS60+AY60 -> -95.848489 | BB60: =BA60+180 -> 84.151511 | BD60: =ROUND(AZ60,0) -> 34 | BE60: =ROUND(BA60,0) -> -96 | BF60: =ROUND(BB60,0) -> 84
V61: 1.57 | W61: =10*10^V61 -> 371.53523 | X61: =DC_gain_power -> -0.43247622 | Y61: =20*LOG(1/SQRT((W61/fp)^2+1)) -> -0.14724527 | Z61: =-180/PI()*ATAN(W61/fp) -> -10.520186 | AA61: =20*LOG(SQRT((W61/fzRHP)^2+1)) -> 0.00011960853 | AB61: =-180/PI()*ATAN(W61/fzRHP) -> -0.30068416 | AC61: =20*LOG(SQRT((W61/fzESR)^2+1)) -> 4.3760366e-08 | AD61: =180/PI()*ATAN(W61/fzESR) -> 0.0057513653 | AE61: =X61+Y61+AA61+AC61 -> -0.57960183 | AF61: =Z61+AB61+AD61 -> -10.815119 | AG61: =DC_gain_comp -> 92.11041 | AH61: =20*LOG(1/SQRT((W61/fp_comp1)^2+1)) -> -54.625317 | AI61: =-180/PI()*ATAN(W61/fp_comp1) -> -89.893621 | AJ61: =20*LOG(SQRT((W61/fz_comp)^2+1)) -> 0.031416515 | AK61: =180/PI()*ATAN(W61/fz_comp) -> 4.8702095 | AL61: =20*LOG(1/SQRT((W61/fp_comp2)^2+1)) -> -2.8377287e-05 | AM61: =-180/PI()*ATAN(W61/fp_comp2) -> -0.14645887 | AN61: =AG61+AH61+AJ61+AL61 -> 37.516481 | AO61: =AI61+AK61+AM61 -> -85.16987 | AP61: =-20*LOG(GmPS*Rsns) -> 23.609121 | AQ61: =20*LOG(Vref/Vout) -> -26.68237 | AR61: =AE61+AN61+AP61+AQ61 -> 33.863631 | AS61: =AF61+AO61 -> -95.984989 | AT61: =20*LOG(SQRT((W61/fz_ff)^2+1)) -> 5.9981168e-13 | AU61: =180/PI()*ATAN(W61/fz_ff) -> 2.1298198e-05 | AV61: =20*LOG(1/SQRT((W61/fp_ff)^2+1)) -> 0 | AW61: =-180/PI()*ATAN(W61/fp_ff) -> -9.8678909e-07 | AX61: =AT61+AV61 -> 5.9981168e-13 | AY61: =AU61+AW61 -> 2.0311409e-05 | AZ61: =AR61+AX61 -> 33.863631 | BA61: =AS61+AY61 -> -95.984969 | BB61: =BA61+180 -> 84.015031 | BD61: =ROUND(AZ61,0) -> 34 | BE61: =ROUND(BA61,0) -> -96 | BF61: =ROUND(BB61,0) -> 84
V62: 1.58 | W62: =10*10^V62 -> 380.1894 | X62: =DC_gain_power -> -0.43247622 | Y62: =20*LOG(1/SQRT((W62/fp)^2+1)) -> -0.15406305 | Z62: =-180/PI()*ATAN(W62/fp) -> -10.759575 | AA62: =20*LOG(SQRT((W62/fzRHP)^2+1)) -> 0.00012524542 | AB62: =-180/PI()*ATAN(W62/fzRHP) -> -0.30768786 | AC62: =20*LOG(SQRT((W62/fzESR)^2+1)) -> 4.5822729e-08 | AD62: =180/PI()*ATAN(W62/fzESR) -> 0.0058853318 | AE62: =X62+Y62+AA62+AC62 -> -0.58641398 | AF62: =Z62+AB62+AD62 -> -11.061377 | AG62: =DC_gain_comp -> 92.11041 | AH62: =20*LOG(1/SQRT((W62/fp_comp1)^2+1)) -> -54.825317 | AI62: =-180/PI()*ATAN(W62/fp_comp1) -> -89.896042 | AJ62: =20*LOG(SQRT((W62/fz_comp)^2+1)) -> 0.032891537 | AK62: =180/PI()*ATAN(W62/fz_comp) -> 4.9830865 | AL62: =20*LOG(1/SQRT((W62/fp_comp2)^2+1)) -> -2.9714662e-05 | AM62: =-180/PI()*ATAN(W62/fp_comp2) -> -0.14987032 | AN62: =AG62+AH62+AJ62+AL62 -> 37.317956 | AO62: =AI62+AK62+AM62 -> -85.062826 | AP62: =-20*LOG(GmPS*Rsns) -> 23.609121 | AQ62: =20*LOG(Vref/Vout) -> -26.68237 | AR62: =AE62+AN62+AP62+AQ62 -> 33.658293 | AS62: =AF62+AO62 -> -96.124203 | AT62: =20*LOG(SQRT((W62/fz_ff)^2+1)) -> 6.2874151e-13 | AU62: =180/PI()*ATAN(W62/fz_ff) -> 2.1794297e-05 | AV62: =20*LOG(1/SQRT((W62/fp_ff)^2+1)) -> 0 | AW62: =-180/PI()*ATAN(W62/fp_ff) -> -1.0097744e-06 | AX62: =AT62+AV62 -> 6.2874151e-13 | AY62: =AU62+AW62 -> 2.0784522e-05 | AZ62: =AR62+AX62 -> 33.658293 | BA62: =AS62+AY62 -> -96.124183 | BB62: =BA62+180 -> 83.875817 | BD62: =ROUND(AZ62,0) -> 34 | BE62: =ROUND(BA62,0) -> -96 | BF62: =ROUND(BB62,0) -> 84
V63: 1.59 | W63: =10*10^V63 -> 389.04514 | X63: =DC_gain_power -> -0.43247622 | Y63: =20*LOG(1/SQRT((W63/fp)^2+1)) -> -0.16119069 | Z63: =-180/PI()*ATAN(W63/fp) -> -11.004147 | AA63: =20*LOG(SQRT((W63/fzRHP)^2+1)) -> 0.00013114797 | AB63: =-180/PI()*ATAN(W63/fzRHP) -> -0.31485469 | AC63: =20*LOG(SQRT((W63/fzESR)^2+1)) -> 4.7982288e-08 | AD63: =180/PI()*ATAN(W63/fzESR) -> 0.0060224188 | AE63: =X63+Y63+AA63+AC63 -> -0.59353571 | AF63: =Z63+AB63+AD63 -> -11.312979 | AG63: =DC_gain_comp -> 92.11041 | AH63: =20*LOG(1/SQRT((W63/fp_comp1)^2+1)) -> -55.025316 | AI63: =-180/PI()*ATAN(W63/fp_comp1) -> -89.898409 | AJ63: =20*LOG(SQRT((W63/fz_comp)^2+1)) -> 0.034435537 | AK63: =180/PI()*ATAN(W63/fz_comp) -> 5.0985526 | AL63: =20*LOG(1/SQRT((W63/fp_comp2)^2+1)) -> -3.1115066e-05 | AM63: =-180/PI()*ATAN(W63/fp_comp2) -> -0.15336123 | AN63: =AG63+AH63+AJ63+AL63 -> 37.119499 | AO63: =AI63+AK63+AM63 -> -84.953217 | AP63: =-20*LOG(GmPS*Rsns) -> 23.609121 | AQ63: =20*LOG(Vref/Vout) -> -26.68237 | AR63: =AE63+AN63+AP63+AQ63 -> 33.452714 | AS63: =AF63+AO63 -> -96.266196 | AT63: =20*LOG(SQRT((W63/fz_ff)^2+1)) -> 6.5767133e-13 | AU63: =180/PI()*ATAN(W63/fz_ff) -> 2.2301951e-05 | AV63: =20*LOG(1/SQRT((W63/fp_ff)^2+1)) -> 0 | AW63: =-180/PI()*ATAN(W63/fp_ff) -> -1.033295e-06 | AX63: =AT63+AV63 -> 6.5767133e-13 | AY63: =AU63+AW63 -> 2.1268656e-05 | AZ63: =AR63+AX63 -> 33.452714 | BA63: =AS63+AY63 -> -96.266175 | BB63: =BA63+180 -> 83.733825 | BD63: =ROUND(AZ63,0) -> 33 | BE63: =ROUND(BA63,0) -> -96 | BF63: =ROUND(BB63,0) -> 84
V64: 1.6 | W64: =10*10^V64 -> 398.10717 | X64: =DC_gain_power -> -0.43247622 | Y64: =20*LOG(1/SQRT((W64/fp)^2+1)) -> -0.16864173 | Z64: =-180/PI()*ATAN(W64/fp) -> -11.253996 | AA64: =20*LOG(SQRT((W64/fzRHP)^2+1)) -> 0.00013732868 | AB64: =-180/PI()*ATAN(W64/fzRHP) -> -0.32218844 | AC64: =20*LOG(SQRT((W64/fzESR)^2+1)) -> 5.0243623e-08 | AD64: =180/PI()*ATAN(W64/fzESR) -> 0.006162699 | AE64: =X64+Y64+AA64+AC64 -> -0.60098057 | AF64: =Z64+AB64+AD64 -> -11.570022 | AG64: =DC_gain_comp -> 92.11041 | AH64: =20*LOG(1/SQRT((W64/fp_comp1)^2+1)) -> -55.225315 | AI64: =-180/PI()*ATAN(W64/fp_comp1) -> -89.900721 | AJ64: =20*LOG(SQRT((W64/fz_comp)^2+1)) -> 0.036051716 | AK64: =180/PI()*ATAN(W64/fz_comp) -> 5.2166653 | AL64: =20*LOG(1/SQRT((W64/fp_comp2)^2+1)) -> -3.2581469e-05 | AM64: =-180/PI()*ATAN(W64/fp_comp2) -> -0.15693345 | AN64: =AG64+AH64+AJ64+AL64 -> 36.921114 | AO64: =AI64+AK64+AM64 -> -84.840989 | AP64: =-20*LOG(GmPS*Rsns) -> 23.609121 | AQ64: =20*LOG(Vref/Vout) -> -26.68237 | AR64: =AE64+AN64+AP64+AQ64 -> 33.246885 | AS64: =AF64+AO64 -> -96.411011 | AT64: =20*LOG(SQRT((W64/fz_ff)^2+1)) -> 6.8852981e-13 | AU64: =180/PI()*ATAN(W64/fz_ff) -> 2.282143e-05 | AV64: =20*LOG(1/SQRT((W64/fp_ff)^2+1)) -> -1.9286549e-15 | AW64: =-180/PI()*ATAN(W64/fp_ff) -> -1.0573636e-06 | AX64: =AT64+AV64 -> 6.8660116e-13 | AY64: =AU64+AW64 -> 2.1764067e-05 | AZ64: =AR64+AX64 -> 33.246885 | BA64: =AS64+AY64 -> -96.410989 | BB64: =BA64+180 -> 83.589011 | BD64: =ROUND(AZ64,0) -> 33 | BE64: =ROUND(BA64,0) -> -96 | BF64: =ROUND(BB64,0) -> 84
V65: 1.61 | W65: =10*10^V65 -> 407.38028 | X65: =DC_gain_power -> -0.43247622 | Y65: =20*LOG(1/SQRT((W65/fp)^2+1)) -> -0.17643025 | Z65: =-180/PI()*ATAN(W65/fp) -> -11.509216 | AA65: =20*LOG(SQRT((W65/fzRHP)^2+1)) -> 0.00014380068 | AB65: =-180/PI()*ATAN(W65/fzRHP) -> -0.32969301 | AC65: =20*LOG(SQRT((W65/fzESR)^2+1)) -> 5.2611533e-08 | AD65: =180/PI()*ATAN(W65/fzESR) -> 0.0063062467 | AE65: =X65+Y65+AA65+AC65 -> -0.60876261 | AF65: =Z65+AB65+AD65 -> -11.832603 | AG65: =DC_gain_comp -> 92.11041 | AH65: =20*LOG(1/SQRT((W65/fp_comp1)^2+1)) -> -55.425315 | AI65: =-180/PI()*ATAN(W65/fp_comp1) -> -89.902981 | AJ65: =20*LOG(SQRT((W65/fz_comp)^2+1)) -> 0.037743419 | AK65: =180/PI()*ATAN(W65/fz_comp) -> 5.3374832 | AL65: =20*LOG(1/SQRT((W65/fp_comp2)^2+1)) -> -3.411698e-05 | AM65: =-180/PI()*ATAN(W65/fp_comp2) -> -0.16058888 | AN65: =AG65+AH65+AJ65+AL65 -> 36.722805 | AO65: =AI65+AK65+AM65 -> -84.726087 | AP65: =-20*LOG(GmPS*Rsns) -> 23.609121 | AQ65: =20*LOG(Vref/Vout) -> -26.68237 | AR65: =AE65+AN65+AP65+AQ65 -> 33.040793 | AS65: =AF65+AO65 -> -96.55869 | AT65: =20*LOG(SQRT((W65/fz_ff)^2+1)) -> 7.2131694e-13 | AU65: =180/PI()*ATAN(W65/fz_ff) -> 2.335301e-05 | AV65: =20*LOG(1/SQRT((W65/fp_ff)^2+1)) -> -1.9286549e-15 | AW65: =-180/PI()*ATAN(W65/fp_ff) -> -1.0819927e-06 | AX65: =AT65+AV65 -> 7.1938829e-13 | AY65: =AU65+AW65 -> 2.2271017e-05 | AZ65: =AR65+AX65 -> 33.040793 | BA65: =AS65+AY65 -> -96.558668 | BB65: =BA65+180 -> 83.441332 | BD65: =ROUND(AZ65,0) -> 33 | BE65: =ROUND(BA65,0) -> -97 | BF65: =ROUND(BB65,0) -> 83
V66: 1.62 | W66: =10*10^V66 -> 416.86938 | X66: =DC_gain_power -> -0.43247622 | Y66: =20*LOG(1/SQRT((W66/fp)^2+1)) -> -0.18457088 | Z66: =-180/PI()*ATAN(W66/fp) -> -11.769904 | AA66: =20*LOG(SQRT((W66/fzRHP)^2+1)) -> 0.00015057768 | AB66: =-180/PI()*ATAN(W66/fzRHP) -> -0.33737237 | AC66: =20*LOG(SQRT((W66/fzESR)^2+1)) -> 5.5091039e-08 | AD66: =180/PI()*ATAN(W66/fzESR) -> 0.006453138 | AE66: =X66+Y66+AA66+AC66 -> -0.61689647 | AF66: =Z66+AB66+AD66 -> -12.100823 | AG66: =DC_gain_comp -> 92.11041 | AH66: =20*LOG(1/SQRT((W66/fp_comp1)^2+1)) -> -55.625314 | AI66: =-180/PI()*ATAN(W66/fp_comp1) -> -89.905189 | AJ66: =20*LOG(SQRT((W66/fz_comp)^2+1)) -> 0.039514143 | AK66: =180/PI()*ATAN(W66/fz_comp) -> 5.461066 | AL66: =20*LOG(1/SQRT((W66/fp_comp2)^2+1)) -> -3.5724857e-05 | AM66: =-180/PI()*ATAN(W66/fp_comp2) -> -0.16432946 | AN66: =AG66+AH66+AJ66+AL66 -> 36.524575 | AO66: =AI66+AK66+AM66 -> -84.608453 | AP66: =-20*LOG(GmPS*Rsns) -> 23.609121 | AQ66: =20*LOG(Vref/Vout) -> -26.68237 | AR66: =AE66+AN66+AP66+AQ66 -> 32.834429 | AS66: =AF66+AO66 -> -96.709276 | AT66: =20*LOG(SQRT((W66/fz_ff)^2+1)) -> 7.5410408e-13 | AU66: =180/PI()*ATAN(W66/fz_ff) -> 2.3896971e-05 | AV66: =20*LOG(1/SQRT((W66/fp_ff)^2+1)) -> -1.9286549e-15 | AW66: =-180/PI()*ATAN(W66/fp_ff) -> -1.1071956e-06 | AX66: =AT66+AV66 -> 7.5217542e-13 | AY66: =AU66+AW66 -> 2.2789775e-05 | AZ66: =AR66+AX66 -> 32.834429 | BA66: =AS66+AY66 -> -96.709253 | BB66: =BA66+180 -> 83.290747 | BD66: =ROUND(AZ66,0) -> 33 | BE66: =ROUND(BA66,0) -> -97 | BF66: =ROUND(BB66,0) -> 83
V67: 1.63 | W67: =10*10^V67 -> 426.57952 | X67: =DC_gain_power -> -0.43247622 | Y67: =20*LOG(1/SQRT((W67/fp)^2+1)) -> -0.19307885 | Z67: =-180/PI()*ATAN(W67/fp) -> -12.036152 | AA67: =20*LOG(SQRT((W67/fzRHP)^2+1)) -> 0.00015767405 | AB67: =-180/PI()*ATAN(W67/fzRHP) -> -0.3452306 | AC67: =20*LOG(SQRT((W67/fzESR)^2+1)) -> 5.7687398e-08 | AD67: =180/PI()*ATAN(W67/fzESR) -> 0.0066034509 | AE67: =X67+Y67+AA67+AC67 -> -0.62539734 | AF67: =Z67+AB67+AD67 -> -12.374779 | AG67: =DC_gain_comp -> 92.11041 | AH67: =20*LOG(1/SQRT((W67/fp_comp1)^2+1)) -> -55.825314 | AI67: =-180/PI()*ATAN(W67/fp_comp1) -> -89.907347 | AJ67: =20*LOG(SQRT((W67/fz_comp)^2+1)) -> 0.041367546 | AK67: =180/PI()*ATAN(W67/fz_comp) -> 5.5874747 | AL67: =20*LOG(1/SQRT((W67/fp_comp2)^2+1)) -> -3.740851e-05 | AM67: =-180/PI()*ATAN(W67/fp_comp2) -> -0.16815716 | AN67: =AG67+AH67+AJ67+AL67 -> 36.326427 | AO67: =AI67+AK67+AM67 -> -84.48803 | AP67: =-20*LOG(GmPS*Rsns) -> 23.609121 | AQ67: =20*LOG(Vref/Vout) -> -26.68237 | AR67: =AE67+AN67+AP67+AQ67 -> 32.627781 | AS67: =AF67+AO67 -> -96.862809 | AT67: =20*LOG(SQRT((W67/fz_ff)^2+1)) -> 7.9074852e-13 | AU67: =180/PI()*ATAN(W67/fz_ff) -> 2.4453603e-05 | AV67: =20*LOG(1/SQRT((W67/fp_ff)^2+1)) -> -1.9286549e-15 | AW67: =-180/PI()*ATAN(W67/fp_ff) -> -1.1329855e-06 | AX67: =AT67+AV67 -> 7.8881987e-13 | AY67: =AU67+AW67 -> 2.3320618e-05 | AZ67: =AR67+AX67 -> 32.627781 | BA67: =AS67+AY67 -> -96.862786 | BB67: =BA67+180 -> 83.137214 | BD67: =ROUND(AZ67,0) -> 33 | BE67: =ROUND(BA67,0) -> -97 | BF67: =ROUND(BB67,0) -> 83
V68: 1.64 | W68: =10*10^V68 -> 436.51583 | X68: =DC_gain_power -> -0.43247622 | Y68: =20*LOG(1/SQRT((W68/fp)^2+1)) -> -0.20196996 | Z68: =-180/PI()*ATAN(W68/fp) -> -12.308057 | AA68: =20*LOG(SQRT((W68/fzRHP)^2+1)) -> 0.00016510486 | AB68: =-180/PI()*ATAN(W68/fzRHP) -> -0.35327185 | AC68: =20*LOG(SQRT((W68/fzESR)^2+1)) -> 6.0406122e-08 | AD68: =180/PI()*ATAN(W68/fzESR) -> 0.0067572651 | AE68: =X68+Y68+AA68+AC68 -> -0.63428101 | AF68: =Z68+AB68+AD68 -> -12.654572 | AG68: =DC_gain_comp -> 92.11041 | AH68: =20*LOG(1/SQRT((W68/fp_comp1)^2+1)) -> -56.025313 | AI68: =-180/PI()*ATAN(W68/fp_comp1) -> -89.909457 | AJ68: =20*LOG(SQRT((W68/fz_comp)^2+1)) -> 0.043307449 | AK68: =180/PI()*ATAN(W68/fz_comp) -> 5.7167714 | AL68: =20*LOG(1/SQRT((W68/fp_comp2)^2+1)) -> -3.9171511e-05 | AM68: =-180/PI()*ATAN(W68/fp_comp2) -> -0.17207402 | AN68: =AG68+AH68+AJ68+AL68 -> 36.128366 | AO68: =AI68+AK68+AM68 -> -84.364759 | AP68: =-20*LOG(GmPS*Rsns) -> 23.609121 | AQ68: =20*LOG(Vref/Vout) -> -26.68237 | AR68: =AE68+AN68+AP68+AQ68 -> 32.420836 | AS68: =AF68+AO68 -> -97.019331 | AT68: =20*LOG(SQRT((W68/fz_ff)^2+1)) -> 8.2739297e-13 | AU68: =180/PI()*ATAN(W68/fz_ff) -> 2.5023201e-05 | AV68: =20*LOG(1/SQRT((W68/fp_ff)^2+1)) -> -1.9286549e-15 | AW68: =-180/PI()*ATAN(W68/fp_ff) -> -1.1593761e-06 | AX68: =AT68+AV68 -> 8.2546431e-13 | AY68: =AU68+AW68 -> 2.3863824e-05 | AZ68: =AR68+AX68 -> 32.420836 | BA68: =AS68+AY68 -> -97.019307 | BB68: =BA68+180 -> 82.980693 | BD68: =ROUND(AZ68,0) -> 32 | BE68: =ROUND(BA68,0) -> -97 | BF68: =ROUND(BB68,0) -> 83
V69: 1.65 | W69: =10*10^V69 -> 446.68359 | X69: =DC_gain_power -> -0.43247622 | Y69: =20*LOG(1/SQRT((W69/fp)^2+1)) -> -0.21126063 | Z69: =-180/PI()*ATAN(W69/fp) -> -12.585714 | AA69: =20*LOG(SQRT((W69/fzRHP)^2+1)) -> 0.00017288586 | AB69: =-180/PI()*ATAN(W69/fzRHP) -> -0.36150039 | AC69: =20*LOG(SQRT((W69/fzESR)^2+1)) -> 6.3252975e-08 | AD69: =180/PI()*ATAN(W69/fzESR) -> 0.006914662 | AE69: =X69+Y69+AA69+AC69 -> -0.6435639 | AF69: =Z69+AB69+AD69 -> -12.940299 | AG69: =DC_gain_comp -> 92.11041 | AH69: =20*LOG(1/SQRT((W69/fp_comp1)^2+1)) -> -56.225313 | AI69: =-180/PI()*ATAN(W69/fp_comp1) -> -89.911518 | AJ69: =20*LOG(SQRT((W69/fz_comp)^2+1)) -> 0.045337849 | AK69: =180/PI()*ATAN(W69/fz_comp) -> 5.8490193 | AL69: =20*LOG(1/SQRT((W69/fp_comp2)^2+1)) -> -4.1017599e-05 | AM69: =-180/PI()*ATAN(W69/fp_comp2) -> -0.17608212 | AN69: =AG69+AH69+AJ69+AL69 -> 35.930395 | AO69: =AI69+AK69+AM69 -> -84.23858 | AP69: =-20*LOG(GmPS*Rsns) -> 23.609121 | AQ69: =20*LOG(Vref/Vout) -> -26.68237 | AR69: =AE69+AN69+AP69+AQ69 -> 32.213582 | AS69: =AF69+AO69 -> -97.17888 | AT69: =20*LOG(SQRT((W69/fz_ff)^2+1)) -> 8.6596606e-13 | AU69: =180/PI()*ATAN(W69/fz_ff) -> 2.5606066e-05 | AV69: =20*LOG(1/SQRT((W69/fp_ff)^2+1)) -> -1.9286549e-15 | AW69: =-180/PI()*ATAN(W69/fp_ff) -> -1.1863814e-06 | AX69: =AT69+AV69 -> 8.6403741e-13 | AY69: =AU69+AW69 -> 2.4419684e-05 | AZ69: =AR69+AX69 -> 32.213582 | BA69: =AS69+AY69 -> -97.178855 | BB69: =BA69+180 -> 82.821145 | BD69: =ROUND(AZ69,0) -> 32 | BE69: =ROUND(BA69,0) -> -97 | BF69: =ROUND(BB69,0) -> 83
V70: 1.66 | W70: =10*10^V70 -> 457.08819 | X70: =DC_gain_power -> -0.43247622 | Y70: =20*LOG(1/SQRT((W70/fp)^2+1)) -> -0.22096789 | Z70: =-180/PI()*ATAN(W70/fp) -> -12.869217 | AA70: =20*LOG(SQRT((W70/fzRHP)^2+1)) -> 0.00018103355 | AB70: =-180/PI()*ATAN(W70/fzRHP) -> -0.36992059 | AC70: =20*LOG(SQRT((W70/fzESR)^2+1)) -> 6.6233995e-08 | AD70: =180/PI()*ATAN(W70/fzESR) -> 0.0070757251 | AE70: =X70+Y70+AA70+AC70 -> -0.65326301 | AF70: =Z70+AB70+AD70 -> -13.232062 | AG70: =DC_gain_comp -> 92.11041 | AH70: =20*LOG(1/SQRT((W70/fp_comp1)^2+1)) -> -56.425312 | AI70: =-180/PI()*ATAN(W70/fp_comp1) -> -89.913532 | AJ70: =20*LOG(SQRT((W70/fz_comp)^2+1)) -> 0.047462922 | AK70: =180/PI()*ATAN(W70/fz_comp) -> 5.9842829 | AL70: =20*LOG(1/SQRT((W70/fp_comp2)^2+1)) -> -4.2950689e-05 | AM70: =-180/PI()*ATAN(W70/fp_comp2) -> -0.18018357 | AN70: =AG70+AH70+AJ70+AL70 -> 35.732518 | AO70: =AI70+AK70+AM70 -> -84.109432 | AP70: =-20*LOG(GmPS*Rsns) -> 23.609121 | AQ70: =20*LOG(Vref/Vout) -> -26.68237 | AR70: =AE70+AN70+AP70+AQ70 -> 32.006006 | AS70: =AF70+AO70 -> -97.341494 | AT70: =20*LOG(SQRT((W70/fz_ff)^2+1)) -> 9.0839647e-13 | AU70: =180/PI()*ATAN(W70/fz_ff) -> 2.6202508e-05 | AV70: =20*LOG(1/SQRT((W70/fp_ff)^2+1)) -> -1.9286549e-15 | AW70: =-180/PI()*ATAN(W70/fp_ff) -> -1.2140158e-06 | AX70: =AT70+AV70 -> 9.0646782e-13 | AY70: =AU70+AW70 -> 2.4988492e-05 | AZ70: =AR70+AX70 -> 32.006006 | BA70: =AS70+AY70 -> -97.341469 | BB70: =BA70+180 -> 82.658531 | BD70: =ROUND(AZ70,0) -> 32 | BE70: =ROUND(BA70,0) -> -97 | BF70: =ROUND(BB70,0) -> 83
V71: 1.67 | W71: =10*10^V71 -> 467.73514 | X71: =DC_gain_power -> -0.43247622 | Y71: =20*LOG(1/SQRT((W71/fp)^2+1)) -> -0.23110945 | Z71: =-180/PI()*ATAN(W71/fp) -> -13.158662 | AA71: =20*LOG(SQRT((W71/fzRHP)^2+1)) -> 0.00018956521 | AB71: =-180/PI()*ATAN(W71/fzRHP) -> -0.3785369 | AC71: =20*LOG(SQRT((W71/fzESR)^2+1)) -> 6.9355507e-08 | AD71: =180/PI()*ATAN(W71/fzESR) -> 0.0072405399 | AE71: =X71+Y71+AA71+AC71 -> -0.66339603 | AF71: =Z71+AB71+AD71 -> -13.529958 | AG71: =DC_gain_comp -> 92.11041 | AH71: =20*LOG(1/SQRT((W71/fp_comp1)^2+1)) -> -56.625312 | AI71: =-180/PI()*ATAN(W71/fp_comp1) -> -89.9155 | AJ71: =20*LOG(SQRT((W71/fz_comp)^2+1)) -> 0.049687032 | AK71: =180/PI()*ATAN(W71/fz_comp) -> 6.1226279 | AL71: =20*LOG(1/SQRT((W71/fp_comp2)^2+1)) -> -4.4974883e-05 | AM71: =-180/PI()*ATAN(W71/fp_comp2) -> -0.18438056 | AN71: =AG71+AH71+AJ71+AL71 -> 35.534741 | AO71: =AI71+AK71+AM71 -> -83.977253 | AP71: =-20*LOG(GmPS*Rsns) -> 23.609121 | AQ71: =20*LOG(Vref/Vout) -> -26.68237 | AR71: =AE71+AN71+AP71+AQ71 -> 31.798096 | AS71: =AF71+AO71 -> -97.507211 | AT71: =20*LOG(SQRT((W71/fz_ff)^2+1)) -> 9.5082688e-13 | AU71: =180/PI()*ATAN(W71/fz_ff) -> 2.6812842e-05 | AV71: =20*LOG(1/SQRT((W71/fp_ff)^2+1)) -> -1.9286549e-15 | AW71: =-180/PI()*ATAN(W71/fp_ff) -> -1.2422939e-06 | AX71: =AT71+AV71 -> 9.4889823e-13 | AY71: =AU71+AW71 -> 2.5570549e-05 | AZ71: =AR71+AX71 -> 31.798096 | BA71: =AS71+AY71 -> -97.507185 | BB71: =BA71+180 -> 82.492815 | BD71: =ROUND(AZ71,0) -> 32 | BE71: =ROUND(BA71,0) -> -98 | BF71: =ROUND(BB71,0) -> 82
V72: 1.68 | W72: =10*10^V72 -> 478.63009 | X72: =DC_gain_power -> -0.43247622 | Y72: =20*LOG(1/SQRT((W72/fp)^2+1)) -> -0.24170364 | Z72: =-180/PI()*ATAN(W72/fp) -> -13.454143 | AA72: =20*LOG(SQRT((W72/fzRHP)^2+1)) -> 0.00019849894 | AB72: =-180/PI()*ATAN(W72/fzRHP) -> -0.38735389 | AC72: =20*LOG(SQRT((W72/fzESR)^2+1)) -> 7.2624132e-08 | AD72: =180/PI()*ATAN(W72/fzESR) -> 0.0074091938 | AE72: =X72+Y72+AA72+AC72 -> -0.67398128 | AF72: =Z72+AB72+AD72 -> -13.834087 | AG72: =DC_gain_comp -> 92.11041 | AH72: =20*LOG(1/SQRT((W72/fp_comp1)^2+1)) -> -56.825311 | AI72: =-180/PI()*ATAN(W72/fp_comp1) -> -89.917423 | AJ72: =20*LOG(SQRT((W72/fz_comp)^2+1)) -> 0.052014741 | AK72: =180/PI()*ATAN(W72/fz_comp) -> 6.2641213 | AL72: =20*LOG(1/SQRT((W72/fp_comp2)^2+1)) -> -4.7094472e-05 | AM72: =-180/PI()*ATAN(W72/fp_comp2) -> -0.1886753 | AN72: =AG72+AH72+AJ72+AL72 -> 35.337067 | AO72: =AI72+AK72+AM72 -> -83.841977 | AP72: =-20*LOG(GmPS*Rsns) -> 23.609121 | AQ72: =20*LOG(Vref/Vout) -> -26.68237 | AR72: =AE72+AN72+AP72+AQ72 -> 31.589837 | AS72: =AF72+AO72 -> -97.676065 | AT72: =20*LOG(SQRT((W72/fz_ff)^2+1)) -> 9.9518595e-13 | AU72: =180/PI()*ATAN(W72/fz_ff) -> 2.7437394e-05 | AV72: =20*LOG(1/SQRT((W72/fp_ff)^2+1)) -> -1.9286549e-15 | AW72: =-180/PI()*ATAN(W72/fp_ff) -> -1.2712306e-06 | AX72: =AT72+AV72 -> 9.9325729e-13 | AY72: =AU72+AW72 -> 2.6166163e-05 | AZ72: =AR72+AX72 -> 31.589837 | BA72: =AS72+AY72 -> -97.676039 | BB72: =BA72+180 -> 82.323961 | BD72: =ROUND(AZ72,0) -> 32 | BE72: =ROUND(BA72,0) -> -98 | BF72: =ROUND(BB72,0) -> 82
... V822: 9.18 | W822: =10*10^V822 -> 1.5135612e+10 | X822: =DC_gain_power -> -0.43247622 | Y822: =20*LOG(1/SQRT((W822/fp)^2+1)) -> -137.5764 | Z822: =-180/PI()*ATAN(W822/fp) -> -89.999992 | AA822: =20*LOG(SQRT((W822/fzRHP)^2+1)) -> 106.59984 | AB822: =-180/PI()*ATAN(W822/fzRHP) -> -89.999732 | AC822: =20*LOG(SQRT((W822/fzESR)^2+1)) -> 72.232967 | AD822: =180/PI()*ATAN(W822/fzESR) -> 89.985989 | AE822: =X822+Y822+AA822+AC822 -> 40.823928 | AF822: =Z822+AB822+AD822 -> -90.013736 | AG822: =DC_gain_comp -> 92.11041 | AH822: =20*LOG(1/SQRT((W822/fp_comp1)^2+1)) -> -206.8253 | AI822: =-180/PI()*ATAN(W822/fp_comp1) -> -90 | AJ822: =20*LOG(SQRT((W822/fz_comp)^2+1)) -> 130.80945 | AK822: =180/PI()*ATAN(W822/fz_comp) -> 89.999983 | AL822: =20*LOG(1/SQRT((W822/fp_comp2)^2+1)) -> -100.35188 | AM822: =-180/PI()*ATAN(W822/fp_comp2) -> -89.99945 | AN822: =AG822+AH822+AJ822+AL822 -> -84.257317 | AO822: =AI822+AK822+AM822 -> -89.999466 | AP822: =-20*LOG(GmPS*Rsns) -> 23.609121 | AQ822: =20*LOG(Vref/Vout) -> -26.68237 | AR822: =AE822+AN822+AP822+AQ822 -> -46.506638 | AS822: =AF822+AO822 -> -180.0132 | AT822: =20*LOG(SQRT((W822/fz_ff)^2+1)) -> 23.623302 | AU822: =180/PI()*ATAN(W822/fz_ff) -> 86.22191 | AV822: =20*LOG(1/SQRT((W822/fp_ff)^2+1)) -> -1.7384742 | AW822: =-180/PI()*ATAN(W822/fp_ff) -> -35.054252 | AX822: =AT822+AV822 -> 21.884828 | AY822: =AU822+AW822 -> 51.167658 | AZ822: =AR822+AX822 -> -24.621811 | BA822: =AS822+AY822 -> -128.84554 | BB822: =BA822+180 -> 51.154456 | BD822: =ROUND(AZ822,0) -> -25 | BE822: =ROUND(BA822,0) -> -129 | BF822: =ROUND(BB822,0) -> 51

Sheet Sheet3
D3: test condition: Vin=3.6V Vout=5V Iout=1A

Sheet Sheet4

Sheet Sheet5
I21: =10^6^1.208 -> 17701090
I22: =(0.01927*2.6)^2.354 -> 0.00086987894
I23: =I21*I22*4.21 -> 64824.759
I24: 64mW
