{"text_format":"1","workbook":"xlsx","n_sheets":4,"sheets":["Enter Parameters and See Result","Intermediate Calculations","DCR sense calculations","Datasheet Parameters"],"not_rendered":{"charts":4,"images":3,"macros":1,"external_links":0,"defined_names":303,"comments":1,"pivot_tables":0},"unopened":[],"bounds":{"document_bytes":16777216,"sheet_cells":100000,"rows_first":2000,"rows_last":500,"rows_between":2000,"halvings":0,"cell_chars":16384,"cell_head_chars":4096},"cells_cut":0,"cells_raw":0,"read":"whole","date_system":"1900"}

{"sheet":"Enter Parameters and See Result","index":0,"n_rows":145,"n_cols":12,"rows_kept":145,"cut":false,"hidden":false,"merged":[[101,9,105,9],[32,6,32,8],[80,4,81,4],[58,4,60,4],[73,4,74,4],[80,1,80,2],[35,1,35,2],[33,1,33,2],[26,1,26,2],[20,8,23,8],[40,1,40,2],[42,1,42,2]]}
["TPS53625 (VR12) Design Procedure with DCR Sensing Temperature Compensation"]
[]
["INSTRUCTIONS"]
["1. When you open this file Click on 'Enable Macros' when the prompt appears"]
["2. This Program has a Macro to calculate an optimized set of DCR sense component values."]
["3. You need the Excel Add-in \"Solver\" to use this Program. Go to Tools -> Add-in. Check the box \"Solver\" and \"Analysis Tool-pak'"]
["4. Enter the parameters in Green Cells"]
["5. DO NOT CHANGE ANY CELLS OTHER THAN GREEN CELLS"]
["6. The Program automatically selects the TRIPSEL selection"]
["7. Run the Macro (By pressing CTRL+q) for correct DCR sense values. The DCR sense and some of the results will update only after running the macro.",null,null,null,null,null,null,null,null,null,null,"LOADLINE vs Temperature"]
["8. Use the 'PASS' / 'FAIL' criteria as a guideline only. Judgement should be made based on actual numbers."]
["9. When you get an 'ERROR!' in the results, the input parameters must be adjusted to get a correct result."]
["10. The Bode Plot at the end is based on Linearized model and is valid only << switching frequency. "]
[]
["Enter the parameters in Green Cells",null,null,null,null,null,"RUN MACRO (CTRL+q) for Correct DCR sense values"]
["DO NOT CHANGE any other cells",null,null,null,null,null,"CPU"]
[null,null,null,null,null,null,"Rsequ",{"$f":"'DCR sense calculations'!$D$10/1000","v":2.4038196587407383},"kW"]
["Processor Requirements",null,null,null,null,null,"Rseries",{"$f":"'DCR sense calculations'!$D$11/1000","v":2.9643938057817869},"kW"]
[null,null,null,null,null,null,"Rpar",{"$f":"IF(('DCR sense calculations'!$D$12/1000)<(15*RNTC_25C),'DCR sense calculations'!$D$12/1000,\"OPEN\")","v":13.978337702220175},"kW"]
["Number of phases",1,null,null,null,null,"Csense",{"$f":"'DCR sense calculations'!$D$15/0.000000001","v":47.780462478497874},"nF"]
["VID_PS0 (0 A)",1,null,"V",null,null,"Divider Ratio",{"$f":"Rcs_eff/L_DCR","v":0.73256691478542812},"If Divide Ratio is lower than 0.75, try increasing OCL and run macro again."]
["R_Loadline (DC Loadline)",0,null,"mV/A",null,null,"TEMP COMPENSATION",{"$f":"IF(('DCR sense calculations'!I6<0.00001)*AND('DCR sense calculations'!I14<4),\"PASS\",\"FAIL\")","v":"PASS"}]
["Maximum Current (Icc_max)",5,null,"A",5]
["Per phase Maximum Current ",{"$f":"Icc_max/N_ph","v":5},null,"A"]
["Thermal Design Current (I_TDC_total)",3,null,"A"]
["Per phase Thermal Design Current ",{"$f":"I_TDC/N_ph","v":3},null,"A"]
["SetVID Fast Slew Rate (Typical)",10,null,"mV/ms"]
[]
[]
[]
[]
[null,null,null,null,null,null,null,null,null,null,null,"CPU-Vcore OVER-CURRENT LIMIT Vs Temperature"]
["System Requirements"]
["Vin max",10.8,null,"V",null,null,"Pin 1, 30-32",null,null,"SVID lines. Pull-up per Intel Spec"]
[null,null,null,null,null,null,"Pin 2 (VDD) to GND",1,"mF","3.3V supply by-pass capacitor"]
["Vin_min",13.2,null,"V",null,null,"Pin 3 PGOOD",null,null,"PGOOD  need external pull-up"]
[null,null,null,null,null,null,"Pin 4 to GND",{"$f":"(IF((B91=\"NO\"),\"OPEN\",\"100\"))","v":"100"},"kW","Enable or disable OSR"]
[null,null,null,null,null,null,"Pin 5,6 (CPWM1-CPWM2)",null,null,"PWM outputs,"]
["Freq",600,null,"kHz",null,null,"Pin 7 (SKIP) ",null,null,"Connect to driver"]
[null,null,null,null,null,null,"Pin 8",null,null,"VR_ON logic"]
["Boot Voltage",1,null,"V",null,null,"Pin 9 (O-USR) to GND",{"$f":"VLOOKUP(B96,G138:H146,2,FALSE)","v":39},"kW","Resistor to GND sets OSR level"]
[null,null,null,null,null,null,"Pin 9 (O-USR) to VREF",{"$f":"(H41*(1-((VLOOKUP(B89,J138:K146,2,FALSE))/1.7)))/((VLOOKUP(B89,J138:K146,2,FALSE))/1.7)","v":292.5},"kW","Resistor to GND sets USR level"]
["SVID Address",3,null,null,null,null,"Pin 10 (F-IMAX) to GND",{"$f":"VLOOKUP(Freq,B138:C145,2,FALSE)","v":39},"kW","Selects the Switching Frequency "]
[null,null,null,null,null,null,"Pin 10 (F-IMAX) to VREF",{"$f":"H43*(1-((Icc_max+1)/255))/((Icc_max+1)/255)","v":1618.4999999999998},"kW","Sets the Icc_max"]
[null,null,null,null,null,null,"Pin 11 (B-RAMP) to GND",{"$f":"VLOOKUP(B93,K114:L120,2,FALSE)","v":100},"kW","Ramp setting"]
[null,null,null,null,null,null,"Pin 11 (B-RAMP) to VREF",{"$f":"(1.7*H45-B41*H45)/B41","v":70},"kW","This resistor sets the boot voltage"]
[null,null,null,null,null,null,"Pin 12 (COCP-I) to GND",{"$f":"'Intermediate Calculations'!B18","v":100},"kW","Selects the OCP level for CPU-Vcore"]
[null,null,null,null,null,null,"Pin 13 (CIMON) to COCP-I",{"$f":"H47*((V_IMON/(10*Icc_max*Rcs_eff*0.001)-1))","v":1090.0549345041391},"kW","Sets IMON voltage for CPU-Vcore on CIMON pin"]
[null,null,null,null,null,null,"Pin 14 THERM to GND",{"$f":"(V_THRMSD)/((VREF-V_THRMSD)/(VLOOKUP(TEMP_SD,C125:D135,2,FALSE)))","v":10.419331718744864},"kW","Sets the Thermal Shutdown Level for CPU-Vcore"]
[null,null,null,null,null,null,"Pin 14 THERM to VREF",100,"kW","NTC for VR_HOT flag and Thermal Shutdown. "]
[null,null,null,null,null,null,"Pin 15 (SLEWA) to GND",{"$f":"VLOOKUP(Slew_rate,H124:I131,2,FALSE)","v":39},"kW","This resistor sets the SLEW rate"]
[null,null,null,null,null,null,"Pin 15 (SLEWA) to VREF",{"$f":"(1.7*H51-'Datasheet Parameters'!C35*H51)/'Datasheet Parameters'!C35","v":43.874999999999993},"kW","This resistor sets the SVID Address"]
[null,null,null,null,null,null,"Pin 16 (VBAT)",null,null,"Connect to Converter Input Voltage, VIN (VBAT)"]
[null,null,null,null,null,null,"Pin 17 to Pin 22(CCSP-N)",null,null,"See DCR sensing for CPU"]
[null,null,null,null,null,null,"Pin 23, Pin 24",null,null,"Voltage sense  Feedback, CPU"]
[null,null,null,null,null,null,"Pin 25-26 (DROOP to COMP)",10,"kW","FIXED"]
[null,null,null,null,null,null,"Pin 25-26 (DROOP to COMP)","5.76k + 1500pF",null,"FIXED"]
["Inductor",null,null,null,null,null,"Pin 26-27 (COMP) to VREF",{"$f":"H56/(Droop_Gain-1)","v":{"$error":"#DIV/0!"}},"kW","Sets the DROOP for CPU-Vcore"]
["Minimum Recommended Inductance",{"$f":"((Vin_max-Vcore_HFM)*(Vcore_HFM/(Freq*1000*Vin_max))/(0.4*Icc_max_N))*1000000","v":0.75617283950617287},null,"mH","DO NOT     CHANGE",null,"Pin 27 (VREF) to Pin 29 (GND)",0.33,"mF","VREF to Analog Ground By-pass capacitor"]
[null,null,null,null,null,null,"Pin 28 (V5) to Pin 29 (GND)",1,"mF","V5 to Analog Ground by-pass cap"]
["Maximum Recommended Inductance",{"$f":"((Vin_max-Vcore_HFM)*(Vcore_HFM/(Freq*1000*Vin_max))/(0.2*Icc_max_N))*1000000","v":1.5123456790123457},null,"mH"]
["Chosen Inductance, L",0.33,null,"mH",{"$f":"IF(AND(L_min<=L_chosen,L_chosen<=L_max),\"PASS\",\"FAIL\")","v":"FAIL"}]
["Inductor DCR, L_DCR",3.9,null,"mW",{"$f":"IF(DCR_Ploss<DCR_Pmax,\"PASS\",\"FAIL, DCR too high\")","v":"PASS"}]
[]
["Bulk Capacitor"]
["Output Capacitor, Bulk",1000,null,"mF"]
["Ceramic (account for DC voltage factor)",47,null,"mF"]
["ESR of Bulk Output capacitor",4.5,null,"mW"]
["Total No. of ceramic Capacitors",8]
["Total No. of Bulk Capacitors",2]
["ESL of Bulk Capacitor",1,null,"nH"]
[]
["DCR power loss"]
["Max. allowed DCR power loss",{"$f":"0.03*Vcore_HFM*I_TDC/N_ph","v":0.09},null,"W","DO NOT     CHANGE"]
["DCR Power loss (TDC)",{"$f":"I_TDC_N^2*(1.4*L_DCR/1000)","v":4.9139999999999996E-2},null,"W"]
[]
[]
["DCR Temperature Compensation","B57232V5103F360"]
["B value of DCR thermal compensation NTC",3380,null,"K"]
["Resistance of NTC at 25C",10,null,"kW"]
["TCR_cu",3.8999999999999998E-3,null,"ppm/C","DO NOT     CHANGE"]
[]
[]
["Over Current Limit (TRIPSEL)"]
["Min. Over Current Limit (OCL) Target",13,null,"A",10]
[]
[]
["Undershoot Reduction"]
["Select USR level","Level 1"]
[]
["Overshoot Reduction Enable","YES"]
[]
["RAMP Amplitude",160,null,"mV"]
[]
["Overshoot Reduction/Pulse-Truncation"]
["Select OSR or PT level","Level 4"]
[]
["Thermal Shutdown","B57250V2104F360"]
["IMVP-7 Thermal Shutdown voltage \n(Voltage at which VR_HOT is active)",100,null,"oC"]
["Resistance of Thermal Shutdown NTC at 25C",100,null,"kW"]
["B value of Thermal shutdown NTC",4250]
[null,null,null,null,null,null,"R_sequ",{"$f":"H17","v":2.4038196587407383},"kW","CPU-Vcore Current sensing parts.\nFor C_sense, use the next higher available standard value but make sure it is not too high."]
[null,null,null,null,null,null,"R_series (with NTC)",{"$f":"H18","v":2.9643938057817869},"kW"]
["Current Monitor (IMON)",null,null,null,null,null,"R_NTC",{"$f":"RNTC_25C","v":10},"kW"]
["IMON voltage at Icc_max",1.7,null,"V",null,null,"R_par",{"$f":"H19","v":13.978337702220175},"kW"]
[null,null,null,null,null,null,"C_sense",{"$f":"H20","v":47.780462478497874},"nF"]
[]
[]
[]
[]
[]
[]
[]
[null,null,null,null,null,null,null,null,null,null,20,20]
[null,null,25,{"$f":"RNTC_25C_TH","v":100},{"$f":"RNTC_25C_TH_G","v":0},null,null,null,null,null,60,30]
[null,null,30,{"$f":"D115/(EXP(B_NTC_TH*(C116-C115)/((C116+273)*(C115+273))))","v":79.030026284772319},{"$f":"E115/(EXP(B_NTC_TH_G*(C116-C115)/((C116+273)*(C115+273))))","v":0},null,null,null,null,null,100,39]
[null,null,35,62.936514895336408,0,null,null,null,null,null,120,56]
[null,null,40,50.486197390785549,0,null,null,null,null,null,140,75]
[null,null,45,40.780543544446843,0,null,null,null,null,null,160,100]
[null,null,50,33.159191771994017,0,null,null,null,null,null,40,150]
[null,null,55,27.132771906396599,0]
[null,null,60,22.335737681479618,0]
[null,null,65,18.49295255597012,0]
[null,null,70,15.395815835065527,0,null,null,2.5,20]
[null,null,75,12.885065115822817,0,null,null,5,24]
[null,null,80,10.83829045208727,0,null,null,7.5,30]
[null,null,85,9.1608008090490376,0,null,null,10,39]
[null,null,90,7.7788942454997789,0,null,null,12.5,56]
[null,null,95,6.634864615793524,0,null,null,15,75]
[null,null,100,5.6832718465881058,0,null,null,17.5,100]
[null,null,105,4.8881380442607316,0,null,null,20,">=150"]
[null,null,110,4.2208265072542757,0]
[null,null,115,3.6584277073855151,0]
[null,null,120,3.1825239705637864,0,null,"YES"]
[null,null,125,2.7782387377211006,0,null,"NO"]
[]
[null,"Freq",null,"Ramp",null,null,"OSR",null,null,"USR"]
[null,300,20,20,20,null,"Level 1",20,1,"Level 1",0.2]
[null,400,24,"Dynamic",24,null,"Level 2",24,2,"Level 2",0.4]
[null,500,30,60,30,null,"Level 3",30,null,"Level 3",0.6]
[null,600,39,100,39,null,"Level 4",39,null,"Level 4",0.8]
[null,700,56,120,56,null,"Level 5",56,null,"Level 5",1]
[null,800,75,140,75,null,"Level 6",75,null,"Level 6",1.2]
[null,900,100,160,100,null,"Level 7",100,null,"Level 7 ",1.4]
[null,1000,150,"Internal",150,null,"Level 8",150,null,"Level 8",1.6]

{"sheet":"Intermediate Calculations","index":1,"n_rows":34,"n_cols":5,"rows_kept":34,"cut":false,"hidden":false,"merged":[[15,3,15,4]]}
["Intermediate Calculations"]
[]
[null,"CPU"]
["System"]
["Dmin",{"$f":"Vcore_HFM/Vin_max","v":9.2592592592592587E-2}]
["Iin_DC_TDC_atDmin",{"$f":"(Vcore_HFM*Icc_max)/(Vin_max*0.8)","v":0.57870370370370372},"A"]
[]
["Inductor"]
["Inductor current ripple",{"$f":"(((Vin_max-Vcore_HFM)*(Vcore_HFM/(Freq*1000*Vin_max)))/L_chosen)*1000000","v":4.5828656939768058},"A","Ripple doubled for DCR de-tuning"]
["Inductor Saturation Current rating",{"$f":"(Icc_max_N+I_ripple/2)*1.2*1.25","v":10.937149270482605},"A"]
[null,null,null,null,"Icl_Valley*L_DCR*(IF(B_NTC>4199,0.95,0.89))"]
["Over Current Limit"]
["Min. Over Current Limit (OCL) Target in single phase",{"$f":"(OCL_Tar/N_ph)","v":13},"A"]
["Valley current limit",{"$f":"OCL_N-I_ripple/2","v":10.708567153011597},"A"]
["DCR * Valley current",{"$f":"Icl_Valley*L_DCR","v":41.763411896745225}]
["TRIPSEL voltage target",{"$f":"Icl_Valley*L_DCR*0.95","v":39.67524130190796},"mV"]
["TRIPSEL closest match",{"$f":"VLOOKUP(TRIPSEL,'Datasheet Parameters'!D4:D11,1,TRUE)","v":37.9},"mV"]
["TRIPSEL Setting",{"$f":"VLOOKUP(TRIPSEL,'Datasheet Parameters'!D4:E11,2,TRUE)","v":100},"kW"]
[]
["DROOP"]
["Gain",{"$f":"(Acs*Rcs_eff)/(R_LL)","v":{"$error":"#DIV/0!"}}]
[]
[]
["Output capacitor"]
["Effective bulk Capacitor",{"$f":"Cout*nc+Ccerm*ncerm","v":2376}]
["Effective ESR",{"$f":"(((ESR/nc)*(Cout*nc))+((2/ncerm)*(Ccerm*ncerm)))/(Cout*nc+Ccerm*ncerm)","v":1.9335016835016836}]
["Effective ESL",{"$f":"ESL/nc","v":0.5}]
["Load resistance for Bode Plot",{"$f":"Vcore_HFM/I_load","v":{"$error":"#REF!"}}]
[]
[]
["Input Capacitors"]
["RMS Current",{"$f":"SQRT(((Icc_max-(N_ph*Iin_DC))^2)*Dmin+(Iin_DC^2)*((1/N_ph)-Dmin))","v":1.4539174766150189},"A"]
["Input Capacitor Current Rating",3,"A"]
["Number of Input Capacitors",{"$f":"ROUNDUP(Irms_Cin/Irating_Cin,0)","v":1}]

{"sheet":"DCR sense calculations","index":2,"n_rows":52,"n_cols":19,"rows_kept":52,"cut":false,"hidden":false,"merged":[]}
[]
[null,null,null,null,null,null,"Coming from other sheets"]
[null,null,null,null,null,null,"Calculated in this sheet"]
[]
[null,null,"F",{"$f":"Freq*1000","v":600000},"Hz",null,null,null,"result","target",null,"Vin(min)",{"$f":"Vin_min","v":13.2},"V"]
[null,null,"B:Rth",{"$f":"B_NTC","v":3380},"K",null,null,"V Slope",{"$f":"SLOPE($K$27:$K$44,$A$27:$A$44)","v":2.0018143226070652E-11},0,null,"TRIPSELmin",{"$f":"TRIPSEL_V","v":37.9},"mV"]
[null,null,"Rth25",{"$f":"RNTC_25C*1000","v":10000},"ohm",null,null,"Rcs_eff",{"$f":"INTERCEPT($K$27:$K$44,$A$27:$A$44)","v":2.8570109676631694},{"$f":"Rcs_max*0.95","v":3.3622612143655672},null,"OCL Target",{"$f":"OCL_N","v":13},"A/phase"]
[null,null,"LDCR",{"$f":"L_DCR/1000","v":3.8999999999999998E-3},"ohm",null,null,"Σ Sq. Err.",{"$f":"SUM($M$27:$M$44)","v":2.9881651363330257E-3},null,null,"Vcore",{"$f":"Vcore_HFM","v":1},"V"]
[null,null,"TCR_cu",{"$f":"TCR_Cu","v":3.8999999999999998E-3},"3900ppm/degC",null,null,"RMSE",{"$f":"SQRT(I8/85)","v":5.9291554168244848E-3},1E-3,null,"Ip-p",{"$f":"I_ripple","v":4.5828656939768058},"A "]
[null,null,"Rsequ",2403.8196587407383,"ohm",null,null,null,null,null,null,"Ivalley",{"$f":"Icl_Valley","v":10.708567153011597},"A"]
[null,null,"Rseries",2964.3938057817868,"ohm",null,null,"Max",{"$f":"MAX($K$27:$K$44)","v":2.8788314516455751},null,null,"Rcs(max)",{"$f":"(TRIPSEL_V/Icl_Valley)","v":3.5392223309111235},"mΩ"]
[null,null,"Rpar",13978.337702220175,"ohm",null,null,"Min",{"$f":"MIN($K$27:$K$44)","v":2.8319620947645157},null,null,"Vcs_p-p",{"$f":"I_ripple*Rcs_eff","v":13.093297551019017},"mV"]
[null,null,"I",1,"A",null,null,"R",{"$f":"ABS(I11-I12)","v":4.6869356881059421E-2}]
[null,null,"L",{"$f":"L_chosen*0.000001","v":3.3000000000000002E-7},"H",null,null,"R%",{"$f":"I13/I7*100","v":1.6405032186276556},null,null,"Rsequ_guess",{"$f":"D7*0.2","v":2000}]
[null,null,"Csense",{"$f":"D14/(D8*(I32*D10/(I32+D10)))","v":4.7780462478497875E-8},"F",null,null,null,null,null,null,"Rseries_guess",2000]
[null,null,"Rseqmin",1000,null,null,null,null,null,null,null,"Rpar_guess",{"$f":"D7*2","v":20000}]
[]
["Temp","B","Rth","R1","R2","R3","DCR","V1","Rnet1","Rnet2","Vout","Vapp","SqrErr",null,"Loadline","OCL",null,"LL Target","OCL Target"]
[-40,null,{"$f":"C20*(EXP($D$6*(A20-A19)/((A20+273)*(A19+273))))","v":236687.56541516655},{"$f":"$D$10","v":2403.8196587407383},{"$f":"$D$11","v":2964.3938057817868},{"$f":"$D$12","v":13978.337702220175},{"$f":"G20*(1-$D$9)^5","v":3.025211296480171E-3},{"$f":"G19*$D$13*1000","v":3.0252112964801712},{"$f":"(E19*F19+C19*F19)/(C19+E19+F19)","v":13207.948962043363},{"$f":"D19+I19","v":15611.768620784102},{"$f":"I19*H19/J19","v":2.559404855008689},{"$f":"A19*$I$6+$I$7","v":2.8570109668624437},{"$f":"(K19-L19)^2","v":8.8569397812709574E-2},null,{"$f":"R_LL*K19/Rcs_eff","v":0},{"$f":"((TRIPSEL_V/K19)+I_ripple/2)*N_ph","v":17.099562919036472},null,{"$f":"R_LL","v":0},{"$f":"OCL_N*N_ph","v":13}]
[-35,null,174510.32100752127,2403.8196587407383,2964.3938057817868,13978.337702220175,3.0848994488933356E-3,3.0848994488933354,12957.753687758106,15361.573346498844,2.6021662175229694,2.8570109669625343,6.4945846316914621E-2,null,0,16.856221116385516,null,0,13]
[-30,null,130290.71648761853,2403.8196587407383,2964.3938057817868,13978.337702220175,3.1457652630264075E-3,3.1457652630264077,12651.234876216113,15055.054534956851,2.6434852903110326,2.8570109670626249,4.559321463222548E-2,null,0,16.62856577483635,null,0,13]
[-25,null,98428.999584495337,2403.8196587407383,2964.3938057817868,13978.337702220175,3.2078319744306728E-3,3.2078319744306727,12284.734571998819,14688.554230739557,2.6828620256568021,2.857010967162716,3.0327853827630209E-2,null,0,16.418137700817606,null,0,13]
[-20,null,75187.651467696167,2403.8196587407383,2964.3938057817868,13978.337702220175,3.2711232771004779E-3,3.2711232771004779,11857.496361868314,14261.316020609052,2.7197582818717452,2.8570109672628066,1.8838299647057678E-2,null,0,16.226494742973188,null,0,13]
[-15,null,58036.864739616976,2403.8196587407383,2964.3938057817868,13978.337702220175,3.3356633325184229E-3,3.3356633325184228,11372.376418139309,13776.196076880047,2.7536207244645765,2.8570109673628972,1.0689542326573745E-2,null,0,16.055129373266329,null,0,13]
[-10,null,45241.474357960033,2403.8196587407383,2964.3938057817868,13978.337702220175,3.4014767788790178E-3,3.4014767788790179,10836.158394849401,13239.978053590139,2.7839125565877003,2.8570109674629878,5.3433776724923438E-3,null,0,15.90536619784581,null,0,13]
[-5,null,35596.364516021655,2403.8196587407383,2964.3938057817868,13978.337702220175,3.4685887404943246E-3,3.4685887404943245,10259.318158603252,12663.13781734399,2.8101530571151914,2.8570109675630788,2.1956637715422399E-3,null,0,15.778242721645858,null,0,13]
[0,null,28254.580746096068,2403.8196587407383,2964.3938057817868,13978.337702220175,3.5370248373851748E-3,3.5370248373851747,9655.2061890272944,12059.025847768033,2.8319620947645157,2.8570109676631694,6.2744603349291096E-4,null,0,15.674380334197433,null,0,13]
[5,null,22614.167606121209,2403.8196587407383,2964.3938057817868,13978.337702220175,3.6068111950616224E-3,3.6068111950616224,9038.7714244492363,11442.591083189975,2.8491048684943499,2.85701096776326,6.2506405649861955E-5,null,0,15.593856502607929,null,0,13]
[10,null,18242.720273465933,2403.8196587407383,2964.3938057817868,13978.337702220175,3.6779744544963694E-3,3.6779744544963693,8425.0787550031419,10828.89841374388,2.8615306242685867,2.8570109678633511,2.0427294021387741E-5,null,0,15.536092777785866,null,0,13]
[15,null,14826.473382107537,2403.8196587407383,2964.3938057817868,13978.337702220175,3.7505417822949697E-3,3.7505417822949698,7827.9185905935974,10231.738249334336,2.8693986326648742,2.8570109679634417,1.5345423675511646E-4,null,0,15.499775378608497,null,0,13]
[20,null,{"$f":"C32*(EXP($D$6*(A32-A31)/((A32+273)*(A31+273))))","v":12135.552787266106},2403.8196587407383,2964.3938057817868,13978.337702220175,3.8245408810666909E-3,3.824540881066691,7258.7553866601538,9662.5750454008921,2.8730857552468323,2.8570109680635323,2.583987829883866E-4,null,0,15.482824691379744,null,0,13]
[25,null,{"$f":"D7","v":10000},2403.8196587407383,2964.3938057817868,13978.337702220175,{"$f":"$D$8","v":3.8999999999999998E-3},3.9,6726.1433633025254,9129.9630220432628,2.8731725477469898,2.8570109681636229,2.6119665462950333E-4,null,0,15.482426207174669,null,0,13]
[30,null,{"$f":"C32/(EXP($D$6*(A33-A32)/((A33+273)*(A32+273))))","v":8293.0575526370103},2403.8196587407383,2964.3938057817868,13978.337702220175,{"$f":"G32*(1+$D$9)^5","v":3.9766455079557287E-3},3.9766455079557286,6235.6067557933075,8639.4264145340458,2.8701902655352645,2.8570109682637139,1.7369387657189948E-4,null,0,15.496132359455041,null,0,13]
[35,null,{"$f":"C33/(EXP($D$6*(A34-A33)/((A34+273)*(A33+273))))","v":6919.4008798518353},2403.8196587407383,2964.3938057817868,13978.337702220175,4.0547973066524298E-3,4.0547973066524294,5789.8857339975621,8193.7053927383004,2.8652254327871058,2.8570109683638045,6.7477425761683008E-5,null,0,15.519013325056871,null,0,13]
[40,null,5806.7745309822658,2403.8196587407383,2964.3938057817868,13978.337702220175,4.1344849987616341E-3,4.1344849987616339,5389.4072620393117,7793.22692078005,2.859203729549328,2.8570109684638951,4.8082011777887405E-6,null,0,15.546871628181464,null,0,13]
[45,null,4899.9942488385695,2403.8196587407383,2964.3938057817868,13978.337702220175,4.2157387687271281E-3,4.2157387687271282,5032.8458669752954,7436.6655257160337,2.8530479641805551,2.8570109685639857,1.570540374309069E-5,null,0,15.5754716980091,null,0,13]
[50,null,4156.6085884851136,2403.8196587407383,2964.3938057817868,13978.337702220175,4.2985893941983461E-3,4.2985893941983457,4717.6724859728656,7121.4921447136039,2.8476246973828334,2.8570109686640768,8.810208856509393E-5,null,0,15.600770989347104,null,0,13]
[55,null,3543.7350244488252,2403.8196587407383,2964.3938057817868,13978.337702220175,4.3830682576884586E-3,4.3830682576884588,4440.6302304214687,6844.449889162207,2.8437033979767454,2.8570109687641674,1.7709144026224611E-4,null,0,15.619123782324806,null,0,13]
[60,null,3035.7343750282021,2403.8196587407383,2964.3938057817868,13978.337702220175,4.4692073584615775E-3,4.4692073584615777,4198.1110290961469,6601.9306878368852,2.8419305791019487,2.857010968864258,2.2741815538316311E-4,null,0,15.627437701820718,null,0,13]
[65,null,2612.4884959037472,2403.8196587407383,2964.3938057817868,13978.337702220175,4.5570393246535694E-3,4.5570393246535694,3986.4314552802516,6390.2511140209899,2.8428186283460652,2.8570109689643486,2.0142253222537511E-4,null,0,15.623271755772391,null,0,13]
[70,null,2258.1155071502753,2403.8196587407383,2964.3938057817868,13978.337702220175,4.646597425631083E-3,4.6465974256310831,3802.0197115025767,6205.839370243315,2.8467470634796417,2.8570109690644396,1.0534775785364654E-4,null,0,15.604874173129263,null,0,13]
[75,null,1960.0047406928338,2403.8196587407383,2964.3938057817868,13978.337702220175,4.737915584593461E-3,4.7379155845934608,3641.5313083415299,6045.3509670822677,2.8539729176225941,2.8570109691645302,9.2297571714606105E-6,null,0,15.571166430294904,null,0,13]
[80,null,1708.0870076724962,2403.8196587407383,2964.3938057817868,13978.337702220175,4.8310283914223149E-3,4.8310283914223149,3501.9114395820125,5905.7310983227508,2.864646782457132,2.8570109692646208,5.8305643110927547E-5,null,0,15.521685257895246,null,0,13]
[85,null,1494.2792684603821,2403.8196587407383,2964.3938057817868,13978.337702220175,4.9259711157836252E-3,4.925971115783625,3380.419889710126,5784.2395484508643,2.8788314516455751,2.8570109693647114,4.7613344696948411E-4,null,0,15.456496740651193,null,0,13]
[90,null,1312.0594206680166,2403.8196587407383,2964.3938057817868,13978.337702220175,5.0227797204873388E-3,5.022779720487339,3274.631169463617,5678.4508282043553,2.8965208166218663,2.8570109694648025,1.5610280223745463E-3,null,0,15.376096275784935,null,0,13]
[95,null,1156.138788725865,2403.8196587407383,2964.3938057817868,13978.337702220175,5.1214908751095146E-3,5.1214908751095143,3182.4194093178762,5586.2390680586141,2.9176574376823461,2.8570109695648931,3.6779940951212433E-3,null,0,15.281305993339,null,0,13]
[100,null,1022.2084279089581,2403.8196587407383,2964.3938057817868,13978.337702220175,5.2221419698821811E-3,5.2221419698821814,3101.9347966514028,5505.7544553921416,2.9421478964734362,2.8570109696649837,7.2482963063878027E-3,null,0,15.173178202287604,null,0,13]
[105,null,906.74152774613231,2403.8196587407383,2964.3938057817868,13978.337702220175,5.3247711298561682E-3,5.3247711298561686,3031.5761633229681,5435.3958220637069,2.9698755639645977,2.8570109697650743,1.27384166238231E-2,null,0,15.052910283910331,null,0,13]
[110,null,806.83869574407788,2403.8196587407383,2964.3938057817868,13978.337702220175,5.4294172293422776E-3,5.4294172293422776,2969.9627007752279,5373.7823595159662,3.0007107804688595,2.8570109698651653,2.0649635567537582E-2,null,0,14.921773713787349,null,0,13]
[115,null,720.10619844030271,2403.8196587407383,2964.3938057817868,13978.337702220175,5.5361199066362582E-3,5.5361199066362579,2915.9066158470669,5319.7262745878052,3.0345186629238974,2.8570109699652559,3.1508981059499321E-2,null,0,14.781057795770764,null,0,13]
[120,null,644.55966815805618,2403.8196587407383,2964.3938057817868,13978.337702220175,5.6449195790331703E-3,5.6449195790331705,2868.3877411840485,5272.2073999247868,3.0711648636393853,2.8570109700653465,4.5861890132920739E-2,null,0,14.632027273784436,null,0,13]
[125,null,578.54758803990967,2403.8196587407383,2964.3938057817868,13978.337702220175,5.7558574581368207E-3,5.7558574581368207,2826.5305854982976,5230.3502442390363,3.110519638548451,2.8570109701654371,6.426664494532891E-2,null,0,14.475892167002964,null,0,13]

{"sheet":"Datasheet Parameters","index":3,"n_rows":35,"n_cols":5,"rows_kept":35,"cut":false,"hidden":false,"merged":[[3,0,10,0],[3,1,10,1]]}
["Datasheet Values",null,"Typ","Min","R-OCP"]
[null,null,"mV","mV","kohm"]
[]
["V_OCP","Valley current limit\n OCP voltage set",7,5.0999999999999996,20]
[null,null,10,8.1,24]
[null,null,14,12.1,30]
[null,null,19,{"$f":"0.9*C7","v":17.100000000000001},39]
[null,null,25,23.1,56]
[null,null,32,29.7,75]
[null,null,40,37.9,100]
[null,null,49,46.8,150]
[]
[]
["Acs","Current Sense Amplifier Gain",12,"V/V"]
["VREF","Reference Voltage",1.7,"V"]
["V_THRMSD","Voltage at Thermal Shutdown due to THERM pin.",1.1000000000000001,"V"]
[]
[]
[]
[]
[]
[]
[]
[null,"SVID Address","SLEWA Voltage"]
[null,0,0.2]
[null,1,0.4]
[null,2,0.6]
[null,3,0.8]
[null,4,1]
[null,5,1.2]
[null,6,1.4]
[null,7,1.6]
[]
[]
[null,{"$f":"'Enter Parameters and See Result'!B43:C43","v":3},{"$f":"VLOOKUP(B35,B25:C32,2,FALSE)","v":0.8}]