Workbook
Name agap0000_cc_cvdd1_11: 'Calculation sheet'!$J$92
Name agap0000_cc_cvdd11: 'Calculation sheet'!$E$92
Name agap0000_cc_cvdd12: 'Calculation sheet'!$I$92
Name agap7912_cvdd11: 'Calculation sheet'!#REF!
Name agap7912_cvdd12: 'Calculation sheet'!#REF!
Name agap7913_cvdd11: 'Calculation sheet'!#REF!
Name agap7913_cvdd12: 'Calculation sheet'!#REF!
Name agap7915_cvdd1_11: 'Calculation sheet'!#REF!
Name agap7915_cvdd11: 'Calculation sheet'!#REF!
Name agap7915_cvdd12: 'Calculation sheet'!#REF!
Name aif_act_tot_cvdd: 'Calculation sheet'!$E$455
Name aif_act_tot_cvdd1: 'Calculation sheet'!$F$455
Name aif_act_tot_dvdd15: '66AK2H14'!#REF!
Name aif_clk_cvdd: 'Calculation sheet'!$E$427
Name aif_clk_cvdd1: 'Calculation sheet'!$F$427
Name aif_clk_cvddt: 'Calculation sheet'!#REF!
Name aif_clk_cvddt1: 'Calculation sheet'!#REF!
Name aif_clk_dvdd15: 'Calculation sheet'!$G$427
Name aif_en: '66AK2H14'!$B$42
Name AIF_idle_cvdd: 'Calculation sheet'!$E$429
Name AIF_idle_Cvdd1: 'Calculation sheet'!$F$429
Name AIF_idle_CVDDT1: 'Calculation sheet'!#REF!
Name aif_lanes: '66AK2H14'!$E$42
Name aif_line_rate: '66AK2H14'!$C$42
Name aif_prot: '66AK2H14'!$F$42
Name aif_rate: '66AK2H14'!#REF!
Name aif_switch: '66AK2H14'!#REF!
Name aif_switch_per: 'Calculation sheet'!$T$455
Name aif_util: '66AK2H14'!$D$42
Name aif_util_per: 'Calculation sheet'!$R$455
Name aif2_idle_tot_vddahv: 'Calculation sheet'!$H$429
Name aif2_idle_tot_vddalh: 'Calculation sheet'!$I$429
Name aif2_lane_list: 'Calculation sheet'!$P$454:$P$456
Name aif2_mode_list: 'Calculation sheet'!$Q$454:$Q$457
Name aif2_rate_list: 'Calculation sheet'!$S$455
Name all_cores_cvdd_idle_clk: 'Calculation sheet'!$E$112
Name all_cores_cvdd1_idle_clk: 'Calculation sheet'!$F$112
Name ARM_act_tot_cvdd: 'Calculation sheet'!$E$122
Name ARM_Act_total_cvdd1: 'Calculation sheet'!$F$122
Name ARM_cpuF: '66AK2H14'!$C$16
Name ARM_idle_CVDD: 'Calculation sheet'!#REF!
Name ARM_IDLE_CVDD1: 'Calculation sheet'!#REF!
Name ARM_idle_CVDDT1: 'Calculation sheet'!#REF!
Name ARM_SS_en: '66AK2H14'!$B$16
Name ARM_SS_status: 'Calculation sheet'!$A$125
Name ARM_Status: 'Calculation sheet'!$B$76:$B$78
Name ARM_util_0: '66AK2H14'!$D$17
Name ARM_util_1: '66AK2H14'!$D$18
Name ARM_util_2: '66AK2H14'!$D$19
Name ARM_util_3: '66AK2H14'!$D$20
Name ARM0_en: '66AK2H14'!$B$17
Name ARM1_en: '66AK2H14'!$B$18
Name ARM2_en: '66AK2H14'!$B$19
Name ARM3_en: '66AK2H14'!$B$20
Name armss_idle_clocking: 'Calculation sheet'!$B$75
Name BCP_Act_cvdd: 'Calculation sheet'!$E$512
Name BCP_Act_cvdd1: 'Calculation sheet'!$F$512
Name BCP_Act_tot_cvdd: 'Calculation sheet'!$E$513
Name BCP_Act_tot_cvdd1: 'Calculation sheet'!$F$513
Name BCP_act_tot_CVDDt: 'Calculation sheet'!#REF!

Sheet 66AK2H14
A1: Rev 1.0.3 | C1: =CONCATENATE(Device_Var," Power Consumption Summary Spreadsheet ",A1) -> 66AK2H14 Power Consumption Summary Spreadsheet Rev 1.0.3
A2: =NOT('Calculation sheet'!B7) -> FALSE | B2: ='Calculation sheet'!C7 -> 0 | C2: Case Temp ( C ) | D2: Voltage | E2: Variable | G2: For information about how to use this spreadsheet and how to interpret its results, refer to
A3: ='Calculation sheet'!B8 -> FALSE | B3: ='Calculation sheet'!C8 -> 0 | C3: 95 | D3: SmartReflex | E3: Current | G3: Keystone-II Power Consumption Summary
G4: Module | H4: =IF(var="Power","CVDD (mW)","CVDD (mA)") -> CVDD (mA) | I4: =IF(var="Power","CVDD1 (mW)","CVDD1 (mA)") -> CVDD1 (mA) | J4: =IF(var="Power","DVDD15 (mW)", "DVDD15 (mA)") -> DVDD15 (mA) | K4: =IF(var="Power","DVDD18 (mW)", "DVDD18 (mA)") -> DVDD18 (mA) | L4: =IF(var="Power","DVDD33 (mW)", "DVDD33 (mA)") -> DVDD33 (mA) | M4: =IF(var="Power","VDDALV (mW)", "VDDALV (mA)") -> VDDALV (mA) | N4: =IF(var="Power","Total (mW)","Total (mA)") -> Total (mA)
A5: C66x CorePacs | B5: CorePac Status | C5: Frequency | D5: % SP Util | E5: % CC Util | G5: CorePacs
A6: CorePac 0 | B6: Enabled | C6: 1200 | D6: 50 | E6: 50 | G6: C66x CorePac 0 | H6: ='Calculation sheet'!E95/mW_mA_sel_cvdd + 'Calculation sheet'!E104 -> 902.43519 | I6: ='Calculation sheet'!F95/mW_mA_sel_cvdd + 'Calculation sheet'!F104 -> 3.2565806 | J6: - | K6: - | L6: - | M6: - | N6: =SUM(H6:M6) -> 905.69177
A7: CorePac 1 | B7: Enabled | D7: 50 | E7: 50 | G7: C66x CorePac 1 | H7: ='Calculation sheet'!E96/mW_mA_sel_cvdd + 'Calculation sheet'!E105 -> 902.43519 | I7: ='Calculation sheet'!F96/mW_mA_sel_cvdd + 'Calculation sheet'!F105 -> 3.2565806 | J7: - | K7: - | L7: - | M7: - | N7: =SUM(H7:M7) -> 905.69177
A8: CorePac 2 | B8: Enabled | D8: 50 | E8: 50 | G8: C66x CorePac 2 | H8: ='Calculation sheet'!E97/mW_mA_sel_cvdd + 'Calculation sheet'!E106 -> 902.43519 | I8: ='Calculation sheet'!F97/mW_mA_sel_cvdd + 'Calculation sheet'!F106 -> 3.2565806 | J8: - | K8: - | L8: - | M8: - | N8: =SUM(H8:M8) -> 905.69177
A9: CorePac 3 | B9: Enabled | D9: 50 | E9: 50 | G9: C66x CorePac 3 | H9: ='Calculation sheet'!E98/mW_mA_sel_cvdd + 'Calculation sheet'!E107 -> 902.43519 | I9: ='Calculation sheet'!F98/mW_mA_sel_cvdd + 'Calculation sheet'!F107 -> 3.2565806 | J9: - | K9: - | L9: - | M9: - | N9: =SUM(H9:M9) -> 905.69177
A10: CorePac 4 | B10: Enabled | D10: 50 | E10: 50 | G10: C66x CorePac 4 | H10: ='Calculation sheet'!E99/mW_mA_sel_cvdd + 'Calculation sheet'!E108 -> 902.43519 | I10: ='Calculation sheet'!F99/mW_mA_sel_cvdd + 'Calculation sheet'!F108 -> 3.2565806 | J10: - | K10: - | L10: - | M10: - | N10: =SUM(H10:M10) -> 905.69177
A11: CorePac 5 | B11: Enabled | D11: 50 | E11: 50 | G11: C66x CorePac 5 | H11: ='Calculation sheet'!E100/mW_mA_sel_cvdd + 'Calculation sheet'!E109 -> 902.43519 | I11: ='Calculation sheet'!F100/mW_mA_sel_cvdd + 'Calculation sheet'!F109 -> 3.2565806 | J11: - | K11: - | L11: - | M11: - | N11: =SUM(H11:M11) -> 905.69177
A12: CorePac 6 | B12: Enabled | D12: 50 | E12: 50 | G12: C66x CorePac 6 | H12: ='Calculation sheet'!E101/mW_mA_sel_cvdd + 'Calculation sheet'!E110 -> 902.43519 | I12: ='Calculation sheet'!F101/mW_mA_sel_cvdd + 'Calculation sheet'!F110 -> 3.2565806 | J12: - | K12: - | L12: - | M12: - | N12: =SUM(H12:M12) -> 905.69177
A13: CorePac 7 | B13: Enabled | D13: 50 | E13: 50 | G13: C66x CorePac 7 | H13: ='Calculation sheet'!E102/mW_mA_sel_cvdd + 'Calculation sheet'!E111 -> 902.43519 | I13: ='Calculation sheet'!F102/mW_mA_sel_cvdd + 'Calculation sheet'!F111 -> 3.2565806 | J13: - | K13: - | L13: - | M13: - | N13: =SUM(H13:M13) -> 905.69177
A15: ARM A15 CorePacs | B15: CorePac Status | C15: Frequency | D15: %Utilization | G15: ARM
A16: ARM Subsystem | B16: Enabled | C16: 1400 | G16: ARM Subsystem | H16: ='Calculation sheet'!B75*ARM_cpuF/mW_mA_sel_cvdd -> 217.41176 | I16: - | J16: - | K16: - | L16: - | M16: - | N16: =SUM(H16:M16) -> 217.41176
A17: A15 CorePac 0 | B17: Enabled | D17: 100 | G17: ARM A15 CorePac0 | H17: ='Calculation sheet'!E123/mW_mA_sel_cvdd -> 1131.2449 | I17: ='Calculation sheet'!F123/mW_mA_sel_cvdd1 -> 14.626874 | J17: - | K17: - | L17: - | M17: - | N17: =SUM(H17:M17) -> 1145.8718
A18: A15 CorePac 1 | B18: Enabled | D18: 100 | G18: ARM A15 CorePac1 | H18: ='Calculation sheet'!E124/mW_mA_sel_cvdd -> 1131.2449 | I18: ='Calculation sheet'!F124/mW_mA_sel_cvdd1 -> 14.626874 | J18: - | K18: - | L18: - | M18: - | N18: =SUM(H18:M18) -> 1145.8718
A19: A15 CorePac 2 | B19: Enabled | D19: 100 | G19: ARM A15 CorePac2 | H19: ='Calculation sheet'!E125/mW_mA_sel_cvdd -> 1131.2449 | I19: ='Calculation sheet'!F125/mW_mA_sel_cvdd1 -> 14.626874 | J19: - | K19: - | L19: - | M19: - | N19: =SUM(H19:M19) -> 1145.8718
A20: A15 CorePac 3 | B20: Enabled | D20: 100 | G20: ARM A15 CorePac3 | H20: ='Calculation sheet'!E126/mW_mA_sel_cvdd -> 1131.2449 | I20: ='Calculation sheet'!F126/mW_mA_sel_cvdd1 -> 14.626874 | J20: - | K20: - | L20: - | M20: - | N20: =SUM(H20:M20) -> 1145.8718
G21: MSMC
A22: MSMC | B22: Enabled | D22: 100 | G22: MSMC | H22: ='Calculation sheet'!E315/mW_mA_sel_cvdd -> 1092.8045 | I22: ='Calculation sheet'!F315/mW_mA_sel_cvdd1 -> 13.572493 | J22: - | K22: - | L22: - | M22: - | N22: =SUM(H22:M22) -> 1106.377
A24: External Memory Interfaces | B24: Status | C24: DDR Clock | D24: %Utilization | E24: Bits | F24: %Writes | G24: External memory interfaces
A25: DDR3A | B25: Enabled | C25: 800 | D25: 100 | E25: 16 | F25: 50 | G25: DDR3A | H25: ='Calculation sheet'!E153/mW_mA_sel_cvdd+'Calculation sheet'!T139 -> 241.39047 | I25: - | J25: ='Calculation sheet'!G153/mW_mA_sel_dvdd15+'Calculation sheet'!V139 -> 330.42128 | K25: - | L25: - | M25: - | N25: =SUM(H25:M25) -> 571.81175
A26: DDR3B | B26: Enabled | C26: 800 | D26: 100 | E26: 16 | F26: 50 | G26: DDR3B | H26: ='Calculation sheet'!E172/mW_mA_sel_cvdd+'Calculation sheet'!T158 -> 263.65857 | I26: - | J26: ='Calculation sheet'!G172/mW_mA_sel_dvdd15+'Calculation sheet'!V158 -> 405.33675 | K26: - | L26: - | M26: - | N26: =SUM(H26:M26) -> 668.99532
A27: EMIF16 | B27: Enabled | D27: 100 | F27: 50 | G27: =A27 -> EMIF16 | H27: ='Calculation sheet'!E367/mW_mA_sel_cvdd -> 7.0588235 | I27: - | J27: - | K27: - | L27: - | M27: - | N27: =SUM(H27:M27) -> 7.0588235
A29: Multicore Navigator | B29: Enabled | D29: 40 | G29: Navigator | H29: ='Calculation sheet'!E349/mW_mA_sel_cvdd -> 118.58824 | I29: ='Calculation sheet'!F349/mW_mA_sel_cvdd1 -> 20.715789 | J29: - | K29: - | L29: - | M29: - | N29: =SUM(H29:M29) -> 139.30402
A31: High Speed Peripherals | B31: Status | C31: Baud Rate/Freq | D31: %Utilization | E31: #modules/lane select | F31: Mode | G31: High Speed Peripherals
A32: SRIO | B32: Enabled | C32: 5 | D32: 100 | E32: 4 | F32: MP | G32: SRIO | H32: ='Calculation sheet'!E207/mW_mA_sel_cvdd+'Calculation sheet'!T188 -> 347.29412 | I32: ='Calculation sheet'!F207/mW_mA_sel_cvdd1+'Calculation sheet'!U188 -> 39.157895 | J32: - | K32: ='Calculation sheet'!W188 -> 131.11956 | L32: - | M32: ='Calculation sheet'!Z188 -> 196.88906 | N32: =SUM(H32:M32) -> 714.46063
A33: HyperLink | B33: Enabled | C33: 10 | D33: 100 | E33: 2 | G33: HyperLink | H33: ='Calculation sheet'!E223/mW_mA_sel_cvdd+'Calculation sheet'!T211 -> 313.41176 | I33: ='Calculation sheet'!F223/mW_mA_sel_cvdd1+'Calculation sheet'!U211 -> 35.368421 | J33: - | K33: ='Calculation sheet'!W211 -> 361.11111 | L33: - | M33: ='Calculation sheet'!Z211 -> 662.53082 | N33: =SUM(H33:M33) -> 1372.4221
A34: PCIe | B34: Disabled | D34: 25 | G34: PCIe | H34: ='Calculation sheet'!E238/mW_mA_sel_cvdd+'Calculation sheet'!T227 -> 0 | I34: ='Calculation sheet'!F238/mW_mA_sel_cvdd1+'Calculation sheet'!U227 -> 0 | J34: - | K34: ='Calculation sheet'!W227 -> 2.2777778 | L34: - | M34: ='Calculation sheet'!Z227 -> 8.5882353 | N34: =SUM(H34:M34) -> 10.866013
A35: 10-GbE Switch Subsystem | B35: Enabled | C35: 10 | D35: 100 | E35: 2 | G35: 10GE | H35: ='Calculation sheet'!E261/mW_mA_sel_cvdd+'Calculation sheet'!T259 -> 1082.8235 | I35: ='Calculation sheet'!F261/mW_mA_sel_cvdd1+'Calculation sheet'!U259 -> 123.78947 | J35: - | K35: ='Calculation sheet'!W259 -> 109.22222 | L35: - | M35: ='Calculation sheet'!Z259 -> 211.52941 | N35: =SUM(H35:M35) -> 1527.3646
A36: USB 3.0 | B36: Disabled | C36: SS | D36: 25 | G36: USB | H36: =('Calculation sheet'!E500)/mW_mA_sel_cvdd+'Calculation sheet'!T495 -> 0 | I36: ='Calculation sheet'!F501/mW_mA_sel_cvdd1+'Calculation sheet'!U495 -> 0 | J36: - | K36: - | L36: ='Calculation sheet'!X495 -> 0.90909091 | M36: ='Calculation sheet'!Z495 -> 1.1764706 | N36: =SUM(H36:M36) -> 2.0855615
A38: Network CoProcessor | B38: Enabled | D38: 100 | F38: PA+SA+SGMII | G38: =A38 -> Network CoProcessor | H38: ='Calculation sheet'!E331/mW_mA_sel_cvdd+'Calculation sheet'!T324 -> 838.62118 | I38: ='Calculation sheet'!F331/mW_mA_sel_cvdd1+'Calculation sheet'!U324 -> 122.84463 | J38: - | K38: ='Calculation sheet'!W324 -> 79.799833 | L38: - | M38: ='Calculation sheet'!Z324 -> 144.46682 | N38: =SUM(H38:M38) -> 1185.7325
A40: Radio Acceleration PACs | G40: Radio Acceleration PACs
A42: AIF2 | B42: Disabled | C42: 6.144 | D42: 0 | E42: 4 | F42: CPRI_CPPI | G42: AIF2 | H42: ='Calculation sheet'!E456/mW_mA_sel_cvdd -> 0 | I42: =INDEX('Calculation sheet'!F456:G456,cvdd_select)/mW_mA_sel_cvdd1 -> 0 | J42: - | K42: - | L42: - | M42: - | N42: =SUM(H42:I42) -> 0
A44: BCP | B44: Disabled | D44: 0 | G44: BCP | H44: ='Calculation sheet'!E513/mW_mA_sel_cvdd -> 0 | I44: ='Calculation sheet'!F513/mW_mA_sel_cvdd1 -> 0 | J44: - | K44: - | L44: - | M44: - | N44: =SUM(H44:I44) -> 0
A46: FFTC_0 | B46: Disabled | D46: 0 | G46: FFTC_0 | H46: ='Calculation sheet'!E478/mW_mA_sel_cvdd -> 0 | I46: ='Calculation sheet'!F478/mW_mA_sel_cvdd1 -> 0 | J46: - | K46: - | L46: - | M46: - | N46: =SUM(H46:I46) -> 0
A47: FFTC_1 | B47: Disabled | D47: 0 | G47: FFTC_1 | H47: ='Calculation sheet'!E479/mW_mA_sel_cvdd -> 0 | I47: ='Calculation sheet'!F479/mW_mA_sel_cvdd1 -> 0 | J47: - | K47: - | L47: - | M47: - | N47: =SUM(H47:I47) -> 0
A48: FFTC_2 | B48: Disabled | D48: 0 | G48: FFTC_2 | H48: ='Calculation sheet'!E480/mW_mA_sel_cvdd -> 0 | I48: ='Calculation sheet'!F480/mW_mA_sel_cvdd1 -> 0 | J48: - | K48: - | L48: - | M48: - | N48: =SUM(H48:I48) -> 0
A49: FFTC_3 | B49: Disabled | D49: 0 | G49: FFTC_3 | H49: ='Calculation sheet'!E481/mW_mA_sel_cvdd -> 0 | I49: ='Calculation sheet'!F481/mW_mA_sel_cvdd1 -> 0 | J49: - | K49: - | L49: - | M49: - | N49: =SUM(H49:I49) -> 0
A50: FFTC_4 | B50: Disabled | D50: 0 | G50: FFTC_4 | H50: ='Calculation sheet'!E482/mW_mA_sel_cvdd -> 0 | I50: ='Calculation sheet'!F482/mW_mA_sel_cvdd1 -> 0 | J50: - | K50: - | L50: - | M50: - | N50: =SUM(H50:I50) -> 0
A51: FFTC_5 | B51: Disabled | D51: 0 | G51: FFTC_5 | H51: ='Calculation sheet'!E483/mW_mA_sel_cvdd -> 0 | I51: ='Calculation sheet'!F483/mW_mA_sel_cvdd1 -> 0 | J51: - | K51: - | L51: - | M51: - | N51: =SUM(H51:I51) -> 0
A53: TAC | B53: Disabled | D53: 0 | G53: TAC | H53: ='Calculation sheet'!E547/mW_mA_sel_cvdd -> 0 | I53: ='Calculation sheet'!F547/mW_mA_sel_cvdd1 -> 0 | J53: - | K53: - | L53: - | M53: - | N53: =SUM(H53:I53) -> 0
A55: RAC_0 | B55: Disabled | D55: 0 | G55: RAC_0 | H55: ='Calculation sheet'!E528/mW_mA_sel_cvdd -> 0 | I55: ='Calculation sheet'!F528/mW_mA_sel_cvdd1 -> 0 | J55: - | K55: - | L55: - | M55: - | N55: =SUM(H55:I55) -> 0
A56: RAC_1 | D56: 0 | G56: RAC_1 | H56: ='Calculation sheet'!E529/mW_mA_sel_cvdd -> 0 | I56: ='Calculation sheet'!F529/mW_mA_sel_cvdd1 -> 0 | J56: - | K56: - | L56: - | M56: - | N56: =SUM(H56:I56) -> 0
A57: RAC_2 | B57: Disabled | D57: 0 | G57: RAC_2 | H57: ='Calculation sheet'!E530/mW_mA_sel_cvdd -> 0 | I57: ='Calculation sheet'!F530/mW_mA_sel_cvdd1 -> 0 | J57: - | K57: - | L57: - | M57: - | N57: =SUM(H57:I57) -> 0
A58: RAC_3 | D58: 0 | G58: RAC_3 | H58: ='Calculation sheet'!E531/mW_mA_sel_cvdd -> 0 | I58: ='Calculation sheet'!F531/mW_mA_sel_cvdd1 -> 0 | J58: - | K58: - | L58: - | M58: - | N58: =SUM(H58:I58) -> 0
A60: TCP3d_0 | B60: Disabled | D60: 0 | G60: TCP3d_0 | H60: ='Calculation sheet'!E416/mW_mA_sel_cvdd -> 0 | I60: ='Calculation sheet'!F416/mW_mA_sel_cvdd1 -> 0 | J60: - | K60: - | L60: - | M60: - | N60: =SUM(H60:K60) -> 0
A61: TCP3d_1 | B61: Disabled | D61: 0 | G61: TCP3d_1 | H61: ='Calculation sheet'!E417/mW_mA_sel_cvdd -> 0 | I61: ='Calculation sheet'!F417/mW_mA_sel_cvdd1 -> 0 | J61: - | K61: - | L61: - | M61: - | N61: =SUM(H61:K61) -> 0
A62: TCP3d_2 | B62: Disabled | D62: 0 | G62: TCP3d_2 | H62: ='Calculation sheet'!E418/mW_mA_sel_cvdd -> 0 | I62: ='Calculation sheet'!F418/mW_mA_sel_cvdd1 -> 0 | J62: - | K62: - | L62: - | M62: - | N62: =SUM(H62:K62) -> 0
A63: TCP3d_3 | B63: Disabled | D63: 0 | G63: TCP3d_3 | H63: ='Calculation sheet'!E419/mW_mA_sel_cvdd -> 0 | I63: ='Calculation sheet'!F419/mW_mA_sel_cvdd1 -> 0 | J63: - | K63: - | L63: - | M63: - | N63: =SUM(H63:K63) -> 0
A65: VCP2_0 | B65: Disabled | D65: 0 | G65: VCP2_0 | H65: ='Calculation sheet'!E390/mW_mA_sel_cvdd -> 0 | I65: ='Calculation sheet'!F390/mW_mA_sel_cvdd1 -> 0 | J65: - | K65: - | L65: - | M65: - | N65: =SUM(H65:K65) -> 0
A66: VCP2_1 | B66: Disabled | D66: 0 | G66: VCP2_1 | H66: ='Calculation sheet'!E391/mW_mA_sel_cvdd -> 0 | I66: ='Calculation sheet'!F391/mW_mA_sel_cvdd1 -> 0 | J66: - | K66: - | L66: - | M66: - | N66: =SUM(H66:K66) -> 0
A67: VCP2_2 | B67: Disabled | D67: 0 | G67: VCP2_2 | H67: ='Calculation sheet'!E392/mW_mA_sel_cvdd -> 0 | I67: ='Calculation sheet'!F392/mW_mA_sel_cvdd1 -> 0 | J67: - | K67: - | L67: - | M67: - | N67: =SUM(H67:K67) -> 0
A68: VCP2_3 | B68: Disabled | D68: 0 | G68: VCP2_3 | H68: ='Calculation sheet'!E393/mW_mA_sel_cvdd -> 0 | I68: ='Calculation sheet'!F393/mW_mA_sel_cvdd1 -> 0 | J68: - | K68: - | L68: - | M68: - | N68: =SUM(H68:K68) -> 0
A69: VCP2_4 | B69: Disabled | D69: 0 | G69: VCP2_4 | H69: ='Calculation sheet'!E394/mW_mA_sel_cvdd -> 0 | I69: ='Calculation sheet'!F394/mW_mA_sel_cvdd1 -> 0 | J69: - | K69: - | L69: - | M69: - | N69: =SUM(H69:K69) -> 0
A70: VCP2_5 | B70: Disabled | D70: 0 | G70: VCP2_5 | H70: ='Calculation sheet'!E395/mW_mA_sel_cvdd -> 0 | I70: ='Calculation sheet'!F395/mW_mA_sel_cvdd1 -> 0 | J70: - | K70: - | L70: - | M70: - | N70: =SUM(H70:K70) -> 0
A71: VCP2_6 | B71: Disabled | D71: 0 | G71: VCP2_6 | H71: ='Calculation sheet'!E396/mW_mA_sel_cvdd -> 0 | I71: ='Calculation sheet'!F396/mW_mA_sel_cvdd1 -> 0 | J71: - | K71: - | L71: - | M71: - | N71: =SUM(H71:K71) -> 0
A72: VCP2_7 | B72: Disabled | D72: 0 | G72: VCP2_7 | H72: ='Calculation sheet'!E397/mW_mA_sel_cvdd -> 0 | I72: ='Calculation sheet'!F397/mW_mA_sel_cvdd1 -> 0 | J72: - | K72: - | L72: - | M72: - | N72: =SUM(H72:K72) -> 0
A74: 64-bit Timer | B74: Enabled | D74: 50 | E74: 20 | G74: Timer | H74: ='Calculation sheet'!E289/mW_mA_sel_cvdd -> 28.043529 | I74: - | J74: - | K74: - | L74: - | M74: - | N74: =SUM(H74:M74) -> 28.043529
A75: SPI | B75: Enabled | D75: 100 | E75: 3 | G75: SPI | H75: ='Calculation sheet'!E251/mW_mA_sel_cvdd -> 55.270588 | I75: - | J75: - | K75: - | L75: - | M75: - | N75: =SUM(H75:M75) -> 55.270588
A76: UART | B76: Enabled | D76: 100 | E76: 2 | G76: UART | H76: =UART_Act_final_cvdd/mW_mA_sel_cvdd -> 20.494118 | I76: ='Calculation sheet'!F275/mW_mA_sel_cvdd1 -> 2.2955789 | J76: - | K76: - | L76: - | M76: - | N76: =SUM(H76:M76) -> 22.789697
A77: I2C | B77: Enabled | D77: 100 | E77: 3 | G77: I2C | H77: ='Calculation sheet'!E301/mW_mA_sel_cvdd -> 42.352941 | I77: - | J77: - | K77: - | L77: - | M77: - | N77: =SUM(H77:M77) -> 42.352941
G79: Totals
G80: DYNAMIC | H80: ='Calculation sheet'!M10 -> 16413.685 | I80: ='Calculation sheet'!N10 -> 442.30442 | J80: ='Calculation sheet'!O10 -> 735.75803 | K80: ='Calculation sheet'!P10 -> 683.5305 | L80: ='Calculation sheet'!Q10 -> 0.90909091 | M80: ='Calculation sheet'!S10 -> 1225.1808 | N80: ='Calculation sheet'!T10 -> 19501.368
G81: BASELINE | H81: ='Calculation sheet'!M8 -> 10484.212 | I81: ='Calculation sheet'!N8 -> 2382.4865 | J81: ='Calculation sheet'!O8 -> 242.67945 | K81: ='Calculation sheet'!P8 -> 384.0591 | L81: ='Calculation sheet'!Q8 -> 0 | M81: ='Calculation sheet'!S8 -> 0 | N81: =SUM(H81:M81) -> 13493.437
G82: TOTALS | H82: ='Calculation sheet'!M12 -> 26897.898 | I82: ='Calculation sheet'!N12 -> 2824.791 | J82: ='Calculation sheet'!O12 -> 978.43747 | K82: ='Calculation sheet'!P12 -> 1067.5896 | L82: ='Calculation sheet'!Q12 -> 0.90909091 | M82: ='Calculation sheet'!S12 -> 1225.1808 | N82: ='Calculation sheet'!T12 -> 32994.805

Sheet Calculation sheet
A1: Device variants supported | B1: 66AK2H14 | M1: =IF(var="Power","CVDD (mW)","CVDD (mA)") -> CVDD (mA) | N1: =IF(var="Power","CVDD1 (mW)","CVDD1 (mA)") -> CVDD1 (mA) | O1: =IF(var="Power","DVDD15 (mW)", "DVDD15 (mA)") -> DVDD15 (mA) | P1: =IF(var="Power","DVDD18 (mW)", "DVDD18 (mA)") -> DVDD18 (mA) | Q1: =IF(var="Power","DVDD33 (mW)", "DVDD33 (mA)") -> DVDD33 (mA) | R1: =IF(var="Power","VDDAHV (mW)", "VDDAHV (mA)") -> VDDAHV (mA) | S1: =IF(var="Power","VDDALH (mW)", "VDDALH (mA)") -> VDDALH (mA)
A2: TCI6638K2K | B2: =RIGHT(Device_Var,3) -> H14 | C2: Temp Vals | D2: CGEM1 | E2: cvdd vals | F2: cvdd select | G2: Variable | H2: Rev list | M2: Var Divider | N2: Var Divider | O2: Var Divider | P2: Var Divider | Q2: Var Divider | R2: Var Divider | S2: Var Divider
A3: 66AK2H12 | C3: 0 | D3: 800 | E3: 0.85 | F3: 1 | G3: Power | H3: 1.x | M3: =IF(var="Power",1,INDEX(E3:E4,var_select)) -> 0.85 | N3: =IF(var="Power",1,0.95) -> 0.95 | O3: =IF(var="Power",1,1.5) -> 1.5 | P3: =IF(var="Power",1,1.8) -> 1.8 | Q3: =IF(var="Power",1,3.3) -> 3.3 | R3: =IF(var="Power",1,1.8) -> 1.8 | S3: =IF(var="Power",1,0.85) -> 0.85
A4: 66AK2H14 | C4: 100 | D4: 900 | E4: 0.9 | F4: Cvdd | G4: Current | H4: 2 | L4: LEAKAGE | M4: =E13/mW_mA_sel_cvdd -> 8869.5521 | N4: =F13/mW_mA_sel_cvdd1 -> 2360.9028 | O4: =G13/mW_mA_sel_dvdd15 -> 0 | P4: =(H13+J13)/mW_mA_sel_dvdd18 -> 0 | Q4: =K13/mW_mA_sel_dvdd33 -> 0 | R4: =L13/mW_mA_sel_vddahv -> 0 | S4: =M13/mW_mA_sel_vddalh -> 0 | T4: =SUM(M4:S4) -> 11230.455
A5: 66AK2H06 | C5: 25 | D5: 1200 | E5: 1 | F5: 1
E6: 1 | L6: BASELINE CLOCKING | M6: =E65/mW_mA_sel_cvdd -> 1614.6602 | N6: =F65/mW_mA_sel_cvdd1 -> 21.583698 | O6: =G65/mW_mA_sel_dvdd15 -> 242.67945 | P6: =(H65+J65)/mW_mA_sel_dvdd18 -> 384.0591 | Q6: =I65/mW_mA_sel_dvdd33 -> 0 | S6: =K65/mW_mA_sel_vddalh -> 0 | T6: =SUM(M6:S6) -> 2262.9825
A7: To decide XGE inclusion | B7: =NOT(OR('Calculation sheet'!B2="H12",'Calculation sheet'!B2="H06")) -> TRUE
A8: To decide 4 v/s 2 GEM and ARM cores | B8: =IF(B2="H06",TRUE) -> FALSE | L8: TOTAL BASELINE | M8: =SUM(M4,M6) -> 10484.212 | N8: =SUM(N4,N6) -> 2382.4865 | O8: =SUM(O4,O6) -> 242.67945 | P8: =SUM(P4,P6) -> 384.0591 | Q8: =SUM(Q4,Q6) -> 0 | S8: =SUM(S4,S6) -> 0 | T8: =SUM(M8:S8) -> 13493.437
E9: CVDD | F9: CVDD1 | G9: DVDD15 | H9: DVDD18 | I9: DVDD33 | J9: VDDAHV | K9: VDDALH
A10: Baseline | E10: =E13+E67 -> 11721.79 | F10: =F13+F67 -> 2273.1325 | G10: =G13+G67 -> 694.68807 | H10: =H13+H67 -> 691.30637 | L10: TOTAL DYNAMIC | M10: =SUM('66AK2H14'!H6:'66AK2H14'!H77) -> 16413.685 | N10: =SUM('66AK2H14'!I6:'66AK2H14'!I77) -> 442.30442 | O10: =SUM('66AK2H14'!J6:'66AK2H14'!J77) -> 735.75803 | P10: =SUM('66AK2H14'!K6:'66AK2H14'!K77) -> 683.5305 | Q10: =SUM('66AK2H14'!L6:'66AK2H14'!L77) -> 0.90909091 | S10: =SUM('66AK2H14'!M6:'66AK2H14'!M77) -> 1225.1808 | T10: =SUM(M10:S10) -> 19501.368
A11: CVDD leakage scaling | B11: 11.082 | L11: (activity + idle clocking)
A12: CVDD1 leakage scaling | B12: 3.324 | E12: CVDD | F12: CVDD1 | G12: DVDD15 | H12: DVDD18 | I12: DVDD33 | J12: VDDAHV | K12: VDDALH | L12: TOTAL | M12: =SUM(M4,M6,M10) -> 26897.898 | N12: =SUM(N4,N6,N10) -> 2824.791 | O12: =SUM(O4,O6,O10) -> 978.43747 | P12: =SUM(P4,P6,P10) -> 1067.5896 | Q12: =SUM(Q4,Q6,Q10) -> 0.90909091 | S12: =SUM(S4,S6,S10) -> 1225.1808 | T12: =SUM(T4,T6,T10) -> 32994.805
A13: Leakage Total | E13: =(E14+E18)-num_dis_ARM_cores*B62*E52 -> 7539.1193 | F13: =(F14+F18)-num_dis_ARM_cores*C62*F52 -> 2242.8577 | G13: =(G14+G18) -> 0 | H13: =(H14+H18) -> 0 | I13: =(I14+I18) -> 37.632315 | J13: =(J14+J18) -> 0 | K13: =(K14+K18) -> 0
A14: Baseline Leakage cvdd | B14: =1-B53 -> 0.31477922 | C14: =1-C53 -> 0.39383111 | E14: =B14*E19 -> 3156.4198 | F14: =C14*F19 -> 1121.1285 | G14: 0 | H14: 0 | I14: 37.632315 | J14: 0 | K14: 0 | L14: DYNAMIC | M14: =SUM(M6,M10) -> 18028.345 | N14: =SUM(N6,N10) -> 463.88812 | O14: =SUM(O6,O10) -> 978.43747 | P14: =SUM(P6,P10) -> 1067.5896 | Q14: =SUM(Q6,Q10) -> 0.90909091 | S14: =SUM(S6,S10) -> 1225.1808 | T14: =SUM(T6,T10) -> 21764.351
B15: CVDD | C15: CVDD1
A16: Adjustment Pading
E17: CVDD | F17: CVDD1 | G17: DVDD15 | H17: DVDD18 | I17: DVDD33 | J17: VDDAHV | K17: VDDALH
D18: Power Domain Leakage Total | E18: =SUM(E22:E52) -> 4382.6995 | F18: =SUM(F22:F52) -> 1121.7292 | G18: =SUM(G22:G52) -> 0 | H18: =SUM(H22:H52) -> 0
D19: Leakage curve model from PE | E19: =EXP((Tdut-100)*0.02)*CVDD_SF*1000 -> 10027.408 | F19: =EXP((Tdut-100)*0.031)*CVDD1_SF*1000 -> 2846.724
B20: CVDD | C20: CVDD1
A21: 0 PD Always ON | E21: 0 | F21: 0 | G21: 0 | H21: 0 | I21: 0 | J21: 0 | K21: 0
A22: 1 PD_TETB | E22: 0 | F22: 0 | G22: 0 | H22: 0 | I22: 0 | J22: 0 | K22: 0
A23: 2 PD_NETCP | B23: 0.035615504 | C23: 0.039012503 | E23: =IF(PASS_en="Enabled", PD_NETCP_LEAK_DVDD33_25*E$19,0) -> 357.1312 | F23: =IF(PASS_en="Enabled", C23*F19, 0) -> 111.05783 | G23: 0 | H23: 0 | I23: 0 | J23: 0 | K23: 0
A24: 3 PD_PCIE | B24: 0.0071810224 | C24: 0.0056240651 | E24: =IF(PCIe_en="Enabled", PD_PCIE_LEAK_DVDD33_25*E19, 0) -> 0 | F24: =IF(PCIe_en="Enabled", C24*F19, 0) -> 0 | G24: 0 | H24: 0 | I24: 0 | J24: 0 | K24: 0
A25: 4 PD_SRIO | B25: 0.016398831 | C25: 0.011513965 | E25: =IF(srio_en="Enabled", PD_SRIO_LEAK_DVDD33_25*E19, 0) -> 164.43778 | F25: =IF(srio_en="Enabled", C25*F19, 0) -> 32.77708 | G25: 0 | H25: 0 | I25: 0 | J25: 0 | K25: 0
A26: 5 PD_HYPERLINK0 | B26: 0.0054348046 | C26: 0.0045832236 | E26: =IF(mcm_en="Enabled", PD_HYPERLINK0_LEAK_DVDD33_25*E19, 0) -> 54.497005 | F26: =IF(mcm_en="Enabled", C26*F19, 0) -> 13.047173 | G26: 0 | H26: 0 | I26: 0 | J26: 0 | K26: 0
A27: 6 PD_RESERVED | B27: 0.0080478379 | C27: 0.0024388947 | E27: =B27*E19 -> 80.698956 | F27: =C27*F19 -> 6.9428601 | G27: 0 | H27: 0 | I27: 0 | J27: 0 | K27: 0
A28: 7 PD_MSMC_RAM | E28: 0 | F28: 0 | G28: 0 | H28: 0 | I28: 0 | J28: 0 | K28: 0
A29: 8 PD_CORE0 | B29: 0.027639198 | C29: 0.020942688 | E29: =IF(core0_en=1,B29*E$19,0) -> 277.14952 | F29: =IF(core0_en=1,C29*F$19,0) -> 59.618053 | G29: 0 | H29: 0 | I29: 0 | J29: 0 | K29: 0
A30: 9 PD_CORE1 | B30: 0.027639198 | C30: 0.020942688 | E30: =IF(core1_en=1,B30*E$19,0) -> 277.14952 | F30: =IF(core1_en=1,C30*F$19,0) -> 59.618053 | G30: 0 | H30: 0 | I30: 0 | J30: 0 | K30: 0
A31: 10 PD_CORE2 | B31: 0.027639198 | C31: 0.020942688 | E31: =IF(core2_en=1,B31*E$19,0) -> 277.14952 | F31: =IF(core2_en=1,C31*F$19,0) -> 59.618053 | G31: 0 | H31: 0 | I31: 0 | J31: 0 | K31: 0
A32: 11 PD_CORE3 | B32: 0.027639198 | C32: 0.020942688 | E32: =IF(core3_en=1,B32*E$19,0) -> 277.14952 | F32: =IF(core3_en=1,C32*F$19,0) -> 59.618053 | G32: 0 | H32: 0 | I32: 0 | J32: 0 | K32: 0
A33: =IF(two_core_select=FALSE,"12 PD_CORE4","12 PD RESERVED") -> 12 PD_CORE4 | B33: 0.027639198 | C33: 0.020942688 | E33: =IF(two_core_select=FALSE,IF(core4_en=1,B33*E$19,0),0) -> 277.14952 | F33: =IF(two_core_select=FALSE,IF(core4_en=1,C33*F$19,0),0) -> 59.618053 | G33: 0 | H33: 0 | I33: 0 | J33: 0 | K33: 0
A34: =IF(two_core_select=FALSE,"13 PD_CORE5","13 PD RESERVED") -> 13 PD_CORE5 | B34: 0.027639198 | C34: 0.020942688 | E34: =IF(two_core_select=FALSE,IF(core5_en=1,B34*E$19,0),0) -> 277.14952 | F34: =IF(two_core_select=FALSE,IF(core5_en=1,C34*F$19,0),0) -> 59.618053 | G34: 0 | H34: 0 | I34: 0 | J34: 0 | K34: 0
A35: =IF(two_core_select=FALSE,"14 PD_CORE6","14 PD RESERVED") -> 14 PD_CORE6 | B35: 0.027639198 | C35: 0.020942688 | E35: =IF(two_core_select=FALSE, IF(core6_en=1,B35*E$19,0),0) -> 277.14952 | F35: =IF(two_core_select=FALSE,IF(core6_en=1,C35*F$19,0),0) -> 59.618053 | G35: 0 | H35: 0 | I35: 0 | J35: 0 | K35: 0
A36: =IF(two_core_select=FALSE,"15 PD_CORE7","15 PD RESERVED") -> 15 PD_CORE7 | B36: 0.027639198 | C36: 0.020942688 | E36: =IF(two_core_select=FALSE,IF(core7_en=1,B36*E$19,0),0) -> 277.14952 | F36: =IF(two_core_select=FALSE,IF(core7_en=1,C36*F$19,0),0) -> 59.618053 | G36: 0 | H36: 0 | I36: 0 | J36: 0 | K36: 0
A37: 16 PD_EMIF(DDRA/B) | E37: 0 | F37: 0 | G37: 0 | H37: 0 | I37: 0 | J37: 0 | K37: 0
A38: =IF(B2<>"K2K","17 PD_RESERVED","17 PD_RAC0/1_TAC") -> 17 PD_RESERVED | B38: 0.058758159 | C38: 0.081853261 | E38: =IF(OR(RAC_0_1_en="Enabled",TAC_enable="Enabled"),B38*E19,0) -> 0 | F38: =IF(OR(RAC_0_1_en="Enabled",TAC_enable="Enabled"),C38*F19,0) -> 0 | G38: 0 | H38: 0 | I38: 0 | J38: 0 | K38: 0
A39: =IF(B2<>"K2K","18 PD_RESERVED","17 PD_RAC2/3") -> 18 PD_RESERVED | B39: 0.031041974 | C39: 0.050836956 | E39: =IF(RAC_2_3_en="Enabled",B39*E19,0) -> 0 | F39: =IF(RAC_2_3_en="Enabled",C39*F19,0) -> 0 | G39: 0 | H39: 0 | I39: 0 | J39: 0 | K39: 0
A40: =IF(B2<>"K2K","19 PD_RESERVED","17 PD_FFTC0/1") -> 19 PD_RESERVED | B40: 0.033870168 | C40: 0.008307869 | E40: =IF(OR(FFTC_0_enable="Enabled", FFTC_1_enable="Enabled"),B40*E19,0) -> 0 | F40: =IF(OR(FFTC_0_enable="Enabled", FFTC_1_enable="Enabled"),C40*F19,0) -> 0 | G40: 0 | H40: 0 | I40: 0 | J40: 0 | K40: 0
A41: =IF(B2<>"K2K","20 PD_RESERVED","20 PD_FFTC2/3/4/5") -> 20 PD_RESERVED | B41: 0.069628985 | C41: 0.017249211 | E41: =IF(OR(FFTC_2_enable="Enabled", FFTC_3_enable="Enabled",FFTC_4_enable="Enabled",FFTC_5_enable="Enabled"),B41*E19,0) -> 0 | F41: =IF(OR(FFTC_2_enable="Enabled", FFTC_3_enable="Enabled",FFTC_4_enable="Enabled",FFTC_5_enable="Enabled"),C41*F19,0) -> 0 | G41: 0 | H41: 0 | I41: 0 | J41: 0 | K41: 0
A42: =IF(B2<>"K2K","21 PD_RESERVED","21 PD_AIF2") -> 21 PD_RESERVED | B42: 0.0054408774 | C42: 0.0074778487 | E42: =IF(aif_en="enabled",B42*E19,0) -> 0 | F42: =IF(aif_en="enabled",C42*F19,0) -> 0 | G42: 0 | H42: 0 | I42: 0 | J42: 0 | K42: 0
A43: =IF(B2<>"K2K","22 PD_RESERVED","22 PD_TCP3d_0/1") -> 22 PD_RESERVED | B43: 0.0091276992 | C43: 0.010320832 | E43: =IF(OR(tcp3d_0_enable="Enabled",tcp3d_1_enable="Enabled"),B43*E19,0) -> 0 | F43: =IF(OR(tcp3d_0_enable="Enabled",tcp3d_1_enable="Enabled"),C43*F19,0) -> 0 | G43: 0 | H43: 0 | I43: 0 | J43: 0 | K43: 0
A44: =IF(B2<>"K2K","23 PD_RESERVED","23 PD_TCP3d_2/3") -> 23 PD_RESERVED | B44: 0.0091276992 | C44: 0.010320832 | E44: =IF(OR(tcp3d_2_enable="Enabled",tcp3d_3_enable="Enabled"),B44*E19,0) -> 0 | F44: =IF(OR(tcp3d_2_enable="Enabled",tcp3d_3_enable="Enabled"),C44*F19,0) -> 0 | G44: 0 | H44: 0 | I44: 0 | J44: 0 | K44: 0
A45: =IF(B2<>"K2K","24 PD_RESERVED","24 PD_VCP0/1/2/3") -> 24 PD_RESERVED | B45: 0.0012803235 | C45: 0.00093452038 | E45: =IF(OR(vcp2_0_enable="Enabled",vcp2_1_enable="Enabled",vcp2_2_enable="Enabled",vcp2_3_enable="Enabled"),B45*E19,0) -> 0 | F45: =IF(OR(vcp2_0_enable="Enabled",vcp2_1_enable="Enabled",vcp2_2_enable="Enabled",vcp2_3_enable="Enabled"),C45*F19,0) -> 0 | G45: 0 | H45: 0 | I45: 0 | J45: 0 | K45: 0
A46: =IF(B2<>"K2K","25 PD_RESERVED","25 PD_VCP4/5/6/7") -> 25 PD_RESERVED | B46: 0.0012803235 | C46: 0.00093452038 | E46: =IF(OR(vcp2_4_enable="Enabled",vcp2_5_enable="Enabled",vcp2_6_enable="Enabled",vcp2_7_enable="Enabled"),B46*E19,0) -> 0 | F46: =IF(OR(vcp2_4_enable="Enabled",vcp2_5_enable="Enabled",vcp2_6_enable="Enabled",vcp2_7_enable="Enabled"),C46*F19,0) -> 0 | G46: 0 | H46: 0 | I46: 0 | J46: 0 | K46: 0
A47: =IF(B2<>"K2K","26 PD_RESERVED","26 PD_BCP") -> 26 PD_RESERVED | B47: 0.021411532 | C47: 0.018266843 | E47: =IF(BCP_enable="enabled",B47*E19,0) -> 0 | F47: =IF(BCP_enable="enabled",C47*F19,0) -> 0 | G47: 0 | H47: 0 | I47: 0 | J47: 0 | K47: 0
A48: 27 PD_RESERVED | E48: 0 | F48: 0 | G48: 0 | H48: 0 | I48: 0 | J48: 0 | K48: 0
A49: 28 PD_HYPERLINK1 | B49: 0.0081729761 | C49: 0.0031155433 | E49: =IF(mcm_en="enabled",B49*E19,0) -> 81.953768 | F49: =IF(mcm_en="enabled",C49*F19,0) -> 8.869092 | G49: 0 | H49: 0 | I49: 0 | J49: 0 | K49: 0
A50: =IF(OR(B2="H14",B2="K2K"),"29 PD_10GBE", "29 PD_RESERVED") -> 29 PD_10GBE | B50: 0.038203785 | C50: 0.029614038 | E50: =IF(XGE_select=TRUE,IF(XG_en="Enabled",B50*E19,0),0) -> 383.08495 | F50: =IF(XGE_select=TRUE, IF(XG_en="Enabled",C50*F19,0),0) -> 84.302994 | G50: 0 | H50: 0 | I50: 0 | J50: 0 | K50: 0
A51: 30 PD_ARM_SMARTREFLEX | E51: 0 | F51: 0 | G51: 0 | H51: 0 | I51: 0 | J51: 0 | K51: 0
A52: 31 PD_ARM_COREPAC | B52: 0.10408469 | C52: 0.13622246 | E52: =IF(ARM_SS_en="Enabled",B52*E19,0) -> 1043.6997 | F52: =IF(ARM_SS_en="Enabled",C52*F19,0) -> 387.78776 | G52: 0 | H52: 0 | I52: 0 | J52: 0 | K52: 0
A53: Total contribution of non-baseline (sum of above) | B53: 0.68522078 | C53: 0.60616889
A56: ARM core0 disable status | B56: =IF(ARM0_en="Disabled",1,0) -> 0
A57: ARM core1 disable status | B57: =IF(ARM1_en="Disabled",1,0) -> 0
A58: ARM core2 disable status | B58: =IF(two_core_select=FALSE,IF(ARM2_en="Disabled",1,0),1) -> 0
A59: ARM core3 disable status | B59: =IF(two_core_select=FALSE,IF(ARM3_en="Disabled",1,0),1) -> 0
A60: # of ARM cores off | B60: =SUM(B56:B59) -> 0
A61: leakage contribution/core as % of baseline lkg (same across temp and vltg) | B61: 0.0348 | C61: 0.0192
A62: leakage contribution/core as % of ARMCorePac lkg (same across temp and vltg) | B62: =B61*(B14/B52) -> 0.10524427 | C62: =C61*(C14/C52) -> 0.055508888 | E62: 3.0889359 | F62: 0.018073327 | G62: 0.094825202 | H62: 0.33322203
E63: 0 | F63: 0 | G63: 250.22893 | H63: 241.43994
E64: CVDD | F64: CVDD1 | G64: DVDD15 | H64: DVDD18 | I64: DVDD33 | J64: VDDAVH | K64: VDDALH
A65: Baseline Clocking | C65: 6638_01092014_MSMC_rev1D.xls | E65: =(E62-armss_idle_clocking)*cpuF+E63-(8*E103)-num_ARM_cores_WFI*wfi_per_core*cpuF -> 1372.4612 | F65: =F62*cpuF+F63-core0_clk_idle_cvdd1 -> 20.504513 | G65: =G62*cpuF+G63 -> 364.01917 | H65: =H62*cpuF+H63+50 -> 691.30637
A66: Peripheral Clocking | E66: =all_cores_cvdd_idle_clk+ddr3a_cvdd_idle+ddr3b_cvdd_idle+'Calculation sheet'!E186+mcm_idle_tot_cvdd+PCIe_idle_tot_cvdd+XGE_Idle_total_CVDD+NETCP_Idle_CVDD+vcp2_idle_total_cvdd+tcp_idle_total_cvdd+AIF_idle_cvdd+FFTC_Idle_tot_cvdd+USB_total_idle+BCP_total_idle+RAC_clock_cvdd+TAC_total_idle -> 2810.2093 | F66: =all_cores_cvdd1_idle_clk+'Calculation sheet'!F186+mcm_idle_tot_cvdd1+PCIe_idle_tot_cvdd1+XGE_idle_total_CVDD1+NETCP_IDLE_CVDD1+vcp2_idle_en_cvdd1+TCP3d_idle_tot_cvdd1+AIF_idle_Cvdd1+FFTC_idle_tot_cvdd1+USB_total_idle_CVDD1+'Calculation sheet'!F510+'Calculation sheet'!F523+'Calculation sheet'!F544 -> 9.770237 | G66: =ddr3a_dvdd15_idle+ddr3b_dvdd15_idle -> 330.6689 | H66: =0 -> 0 | I66: =USB_tot_idle_dvdd33 -> 3 | J66: =mcm_idle_tot_vddahv+srio_idle_vddahv+pcie_idle_tot_vddahv+xge_idle_tot_vddahv+pa_idle_tot_vddahv+aif2_idle_tot_vddahv -> 1230.3549 | K66: =mcm_idle_tot_vddalh+srio_idle_vddalh+pcie_idle_tot_vddalh+xge_idle_tot_vddalh+pa_idle_tot_vddalh+aif2_idle_tot_vddalh+I495 -> 1041.4037
A67: Total Clocking | E67: =E65+E66 -> 4182.6706 | F67: =F65+F66 -> 30.27475 | G67: =G65+G66 -> 694.68807 | H67: =H65+H66 -> 691.30637 | I67: =I65+I66 -> 3 | J67: =J65+J66 -> 1230.3549 | K67: =K65+K66 -> 1041.4037
A69: ARM core0 WFI status | B69: =IF(ARM0_en="WFI",1,0) -> 0
A70: ARM core1 WFI status | B70: =IF(ARM1_en="WFI",1,0) -> 0
A71: ARM core2 WFI status | B71: =IF(ARM2_en="WFI",1,0) -> 0
A72: ARM core3 WFI status | B72: =IF(ARM3_en="WFI",1,0) -> 0
A73: # ARM cores in WFI | B73: =SUM(B69:B72) -> 0
A74: Savings due to WFI clock gating in mW/MHz per core | B74: =B75/4 -> 0.033
A75: ARM Subsystem clocking power (mW/mHz) | B75: =IF(ARM_SS_en="Enabled",0.132,0) -> 0.132
A76: Enabled | B76: Enabled
A77: Disabled | B77: WFI
B78: Disabled
A79: GEM Activity
B80: Frequency | D80: Choice | E80: Max CC | M80: % Util CPU | N80: % Util CC | V80: % Util Idle
A81: min | B81: 800 | D81: Clocking | E81: =(1-cpu0_ac_util_per)*100 -> 50 | L81: CorePac 0 | M81: =cpu0_ac_util/100*core0_en -> 0.5 | N81: =cpu0_cc_util/100*core0_en -> 0.5 | V81: =1-cpu0_ac_util_per-cpu0_cc_util_per -> 0
A82: max | B82: 1250 | D82: Max Power | E82: =(1-cpu1_ac_util_per)*100 -> 50 | L82: CorePac 1 | M82: =cpu1_ac_util/100*core1_en -> 0.5 | N82: =cpu1_cc_util/100*core1_en -> 0.5 | V82: =1-cpu1_ac_util_per-cpu1_cc_util_per -> 0
D83: Idle | E83: =(1-cpu2_ac_util_per)*100 -> 50 | L83: CorePac 2 | M83: =cpu2_ac_util/100*core2_en -> 0.5 | N83: =cpu2_cc_util/100*core2_en -> 0.5 | V83: =1-cpu2_ac_util_per-cpu2_cc_util_per -> 0
E84: =(1-cpu3_ac_util_per)*100 -> 50 | L84: CorePac 3 | M84: =cpu3_ac_util/100*core3_en -> 0.5 | N84: =cpu3_cc_util/100*core3_en -> 0.5 | V84: =1-cpu3_ac_util_per-cpu3_cc_util_per -> 0
E85: =(1-cpu4_ac_util_per)*100 -> 50 | L85: CorePac 4 | M85: =cpu4_ac_util/100*core4_en -> 0.5 | N85: =cpu4_cc_util/100*core4_en -> 0.5 | V85: =1-cpu4_ac_util_per-cpu4_cc_util_per -> 0
A86: Subtracting out the VT compensated IDLE from VT compensated activity tests show good consistency across temps (6638K2K_11112013_MultiIP_Rev1D jr121813 r3_ak121913.xls). Use the raw measurement data at 30C since temp compensation across other IPs does not show any improvement and CVDD variations are insignificant. | E86: =(1-cpu5_ac_util_per)*100 -> 50 | L86: CorePac 5 | M86: =cpu5_ac_util/100*core5_en -> 0.5 | N86: =cpu5_cc_util/100*core5_en -> 0.5 | V86: =1-cpu5_ac_util_per-cpu5_cc_util_per -> 0
E87: =(1-cpu6_ac_util_per)*100 -> 50 | L87: CorePac 6 | M87: =cpu6_ac_util/100*core6_en -> 0.5 | N87: =cpu6_cc_util/100*core6_en -> 0.5 | V87: =1-cpu6_ac_util_per-cpu6_cc_util_per -> 0
E88: =(1-cpu7_ac_util_per)*100 -> 50 | L88: CorePac 7 | M88: =cpu7_ac_util/100*core7_en -> 0.5 | N88: =cpu7_cc_util/100*core7_en -> 0.5 | V88: =1-cpu7_ac_util_per-cpu7_cc_util_per -> 0
D89: REFERENCE
D90: 6638K2K_11112013_MultiIP_Rev1D jr121813 r3_ak121913.xls!'GEM activity' | M90: CVDD | O90: CVDD1
A91: DV Test | B91: ACT | E91: CVDD | F91: CVDD1 | G91: DVDD15 | H91: DVDD18 | I91: DVDD_33 | J91: VDDAHV | K91: VDDALH | M91: SLOPE | N91: INTERCEPT | O91: SLOPE | P91: INTERCEPT
A92: zimcggp0001yz-ckdg0000 | B92: CONTROL | E92: =M92*cpuF+N92 -> 347.93234 | F92: =O92*cpuF+P92 -> 1.2858235 | G92: 0 | H92: 0 | I92: 0 | J92: 0 | K92: 0 | M92: 0.28366265 | N92: 7.5371598 | O92: 0.00068018666 | P92: 0.46959956
A93: zimcggp7912yz-ckdg5000 | B93: MAX_SPL | E93: =M93*cpuF+N93 -> 723.83684 | F93: =O93*cpuF+P93 -> 2.2384481 | G93: 0 | H93: 0 | I93: 0 | J93: 0 | K93: 0 | M93: 0.60056266 | N93: 3.1616548 | O93: 0.0011622056 | P93: 0.84380137
A95: Enable status for Core0 | B95: =IF('66AK2H14'!B6="Enabled",1,0) -> 1 | D95: Total CPU0 | E95: =(E$93*cpu0_ac_util_per) +(E$92*cpu0_cc_util_per) -> 535.88459 | F95: =(F$93*cpu0_ac_util_per) +(F$92*cpu0_cc_util_per) -> 1.7621358 | G95: =(G$93*cpu0_ac_util_per) +(G$92*cpu0_cc_util_per) -> 0 | H95: =(H$93*cpu0_ac_util_per) +(H$92*cpu0_cc_util_per) -> 0 | I95: =(I$93*cpu0_ac_util_per) +(I$92*cpu0_cc_util_per) -> 0 | J95: =(J$93*cpu0_ac_util_per) +(J$92*cpu0_cc_util_per) -> 0 | K95: 0
A96: Enable status for Core1 | B96: =IF('66AK2H14'!B7="Enabled",1,0) -> 1 | D96: Total CPU1 | E96: =(E$93*cpu1_ac_util_per) +(E$92*cpu1_cc_util_per) -> 535.88459 | F96: =(F$93*cpu1_ac_util_per) +(F$92*cpu1_cc_util_per) -> 1.7621358 | G96: =(G$93*cpu1_ac_util_per) +(G$92*cpu1_cc_util_per) -> 0 | H96: =(H$93*cpu1_ac_util_per) +(H$92*cpu1_cc_util_per) -> 0 | I96: =(I$93*cpu1_ac_util_per) +(I$92*cpu1_cc_util_per) -> 0 | J96: =(J$93*cpu1_ac_util_per) +(J$92*cpu1_cc_util_per) -> 0 | K96: 0
A97: Enable status for Core2 | B97: =IF('66AK2H14'!B8="Enabled",1,0) -> 1 | D97: Total CPU2 | E97: =(E$93*cpu2_ac_util_per) +(E$92*cpu2_cc_util_per) -> 535.88459 | F97: =(F$93*cpu2_ac_util_per) +(F$92*cpu2_cc_util_per) -> 1.7621358 | G97: =(G$93*cpu2_ac_util_per) +(G$92*cpu2_cc_util_per) -> 0 | H97: =(H$93*cpu2_ac_util_per) +(H$92*cpu2_cc_util_per) -> 0 | I97: =(I$93*cpu2_ac_util_per) +(I$92*cpu2_cc_util_per) -> 0 | J97: =(J$93*cpu2_ac_util_per) +(J$92*cpu2_cc_util_per) -> 0 | K97: 0
A98: Enable status for Core3 | B98: =IF('66AK2H14'!B9="Enabled",1,0) -> 1 | D98: Total CPU3 | E98: =(E$93*cpu3_ac_util_per) +(E$92*cpu3_cc_util_per) -> 535.88459 | F98: =(F$93*cpu3_ac_util_per) +(F$92*cpu3_cc_util_per) -> 1.7621358 | G98: =(G$93*cpu3_ac_util_per) +(G$92*cpu3_cc_util_per) -> 0 | H98: =(H$93*cpu3_ac_util_per) +(H$92*cpu3_cc_util_per) -> 0 | I98: =(I$93*cpu3_ac_util_per) +(I$92*cpu3_cc_util_per) -> 0 | J98: =(J$93*cpu3_ac_util_per) +(J$92*cpu3_cc_util_per) -> 0 | K98: 0
A99: Enable status for Core4 | B99: =IF('66AK2H14'!B10="Enabled",1,0) -> 1 | D99: Total CPU4 | E99: =IF(two_core_select=FALSE,(E$93*cpu4_ac_util_per) +(E$92*cpu4_cc_util_per),0) -> 535.88459 | F99: =IF(two_core_select=FALSE,(F$93*cpu4_ac_util_per) +(F$92*cpu4_cc_util_per),0) -> 1.7621358 | G99: =(G$93*cpu4_ac_util_per) +(G$92*cpu4_cc_util_per) -> 0 | H99: =(H$93*cpu4_ac_util_per) +(H$92*cpu4_cc_util_per) -> 0 | I99: =(I$93*cpu4_ac_util_per) +(I$92*cpu4_cc_util_per) -> 0 | J99: =(J$93*cpu4_ac_util_per) +(J$92*cpu4_cc_util_per) -> 0 | K99: 0
A100: Enable status for Core5 | B100: =IF('66AK2H14'!B11="Enabled",1,0) -> 1 | D100: Total CPU5 | E100: =IF(two_core_select=FALSE,(E$93*cpu5_ac_util_per) +(E$92*cpu5_cc_util_per),0) -> 535.88459 | F100: =IF(two_core_select=FALSE,(F$93*cpu5_ac_util_per) +(F$92*cpu5_cc_util_per),0) -> 1.7621358 | G100: =(G$93*cpu5_ac_util_per) +(G$92*cpu5_cc_util_per) -> 0 | H100: =(H$93*cpu5_ac_util_per) +(H$92*cpu5_cc_util_per) -> 0 | I100: =(I$93*cpu5_ac_util_per) +(I$92*cpu5_cc_util_per) -> 0 | J100: =(J$93*cpu5_ac_util_per) +(J$92*cpu5_cc_util_per) -> 0 | K100: 0
A101: Enable status for Core6 | B101: =IF('66AK2H14'!B12="Enabled",1,0) -> 1 | D101: Total CPU6 | E101: =IF(two_core_select=FALSE,(E$93*cpu6_ac_util_per) +(E$92*cpu6_cc_util_per),0) -> 535.88459 | F101: =IF(two_core_select=FALSE,(F$93*cpu6_ac_util_per) +(F$92*cpu6_cc_util_per),0) -> 1.7621358 | G101: =(G$93*cpu6_ac_util_per) +(G$92*cpu6_cc_util_per) -> 0 | H101: =(H$93*cpu6_ac_util_per) +(H$92*cpu6_cc_util_per) -> 0 | I101: =(I$93*cpu6_ac_util_per) +(I$92*cpu6_cc_util_per) -> 0 | J101: =(J$93*cpu6_ac_util_per) +(J$92*cpu6_cc_util_per) -> 0 | K101: 0
A102: Enable status for Core7 | B102: =IF('66AK2H14'!B13="Enabled",1,0) -> 1 | D102: Total CPU7 | E102: =IF(two_core_select=FALSE,(E$93*cpu7_ac_util_per) +(E$92*cpu7_cc_util_per),0) -> 535.88459 | F102: =IF(two_core_select=FALSE,(F$93*cpu7_ac_util_per) +(F$92*cpu7_cc_util_per),0) -> 1.7621358 | G102: =(G$93*cpu7_ac_util_per) +(G$92*cpu7_cc_util_per) -> 0 | H102: =(H$93*cpu7_ac_util_per) +(H$92*cpu7_cc_util_per) -> 0 | I102: =(I$93*cpu7_ac_util_per) +(I$92*cpu7_cc_util_per) -> 0 | J102: =(J$93*cpu7_ac_util_per) +(J$92*cpu7_cc_util_per) -> 0 | K102: 0
D103: Idle clocking per core | E103: =M103*cpuF+N103 -> 271.98273 | F103: =O103*cpuF+P103 -> 1.1834796 | M103: 0.22665227 | N103: 0 | O103: 0.00098623302 | P103: 0
D104: Idle clocking CPU0 | E104: =core0_en*E$103 -> 271.98273 | F104: =core0_en*F$103 -> 1.1834796
...
