Workbook
Name agap0000_cc_cvdd1_11: 'Calculation sheet'!$J$92
Name agap0000_cc_cvdd11: 'Calculation sheet'!$E$92
Name agap0000_cc_cvdd12: 'Calculation sheet'!$I$92
Name agap7912_cvdd11: 'Calculation sheet'!#REF!
Name agap7912_cvdd12: 'Calculation sheet'!#REF!
Name agap7913_cvdd11: 'Calculation sheet'!#REF!
Name agap7913_cvdd12: 'Calculation sheet'!#REF!
Name agap7915_cvdd1_11: 'Calculation sheet'!#REF!
Name agap7915_cvdd11: 'Calculation sheet'!#REF!
Name agap7915_cvdd12: 'Calculation sheet'!#REF!
Name aif_act_tot_cvdd: 'Calculation sheet'!$E$455
Name aif_act_tot_cvdd1: 'Calculation sheet'!$F$455
Name aif_act_tot_dvdd15: '66AK2H14'!#REF!
Name aif_clk_cvdd: 'Calculation sheet'!$E$427
Name aif_clk_cvdd1: 'Calculation sheet'!$F$427
Name aif_clk_cvddt: 'Calculation sheet'!#REF!
Name aif_clk_cvddt1: 'Calculation sheet'!#REF!
Name aif_clk_dvdd15: 'Calculation sheet'!$G$427
Name aif_en: '66AK2H14'!$B$42
Name AIF_idle_cvdd: 'Calculation sheet'!$E$429
Name AIF_idle_Cvdd1: 'Calculation sheet'!$F$429
Name AIF_idle_CVDDT1: 'Calculation sheet'!#REF!
Name aif_lanes: '66AK2H14'!$E$42
Name aif_line_rate: '66AK2H14'!$C$42
Name aif_prot: '66AK2H14'!$F$42
Name aif_rate: '66AK2H14'!#REF!
Name aif_switch: '66AK2H14'!#REF!
Name aif_switch_per: 'Calculation sheet'!$T$455
Name aif_util: '66AK2H14'!$D$42
Name aif_util_per: 'Calculation sheet'!$R$455
Name aif2_idle_tot_vddahv: 'Calculation sheet'!$H$429
Name aif2_idle_tot_vddalh: 'Calculation sheet'!$I$429
Name aif2_lane_list: 'Calculation sheet'!$P$454:$P$456
Name aif2_mode_list: 'Calculation sheet'!$Q$454:$Q$457
Name aif2_rate_list: 'Calculation sheet'!$S$455
Name all_cores_cvdd_idle_clk: 'Calculation sheet'!$E$112
Name all_cores_cvdd1_idle_clk: 'Calculation sheet'!$F$112
Name ARM_act_tot_cvdd: 'Calculation sheet'!$E$122
Name ARM_Act_total_cvdd1: 'Calculation sheet'!$F$122
Name ARM_cpuF: '66AK2H14'!$C$16
Name ARM_idle_CVDD: 'Calculation sheet'!#REF!
Name ARM_IDLE_CVDD1: 'Calculation sheet'!#REF!
Name ARM_idle_CVDDT1: 'Calculation sheet'!#REF!
Name ARM_SS_en: '66AK2H14'!$B$16
Name ARM_SS_status: 'Calculation sheet'!$A$125
Name ARM_Status: 'Calculation sheet'!$B$76:$B$78
Name ARM_util_0: '66AK2H14'!$D$17
Name ARM_util_1: '66AK2H14'!$D$18
Name ARM_util_2: '66AK2H14'!$D$19
Name ARM_util_3: '66AK2H14'!$D$20
Name ARM0_en: '66AK2H14'!$B$17
Name ARM1_en: '66AK2H14'!$B$18
Name ARM2_en: '66AK2H14'!$B$19
Name ARM3_en: '66AK2H14'!$B$20
Name armss_idle_clocking: 'Calculation sheet'!$B$75
Name BCP_Act_cvdd: 'Calculation sheet'!$E$512
Name BCP_Act_cvdd1: 'Calculation sheet'!$F$512
Name BCP_Act_tot_cvdd: 'Calculation sheet'!$E$513
Name BCP_Act_tot_cvdd1: 'Calculation sheet'!$F$513
Name BCP_act_tot_CVDDt: 'Calculation sheet'!#REF!

Sheet 66AK2H14
A1: Rev 1.0.3 | C1: =CONCATENATE(Device_Var," Power Consumption Summary Spreadsheet ",A1) -> 66AK2H14 Power Consumption Summary Spreadsheet Rev 1.0.3
A2: =NOT('Calculation sheet'!B7) -> FALSE | B2: ='Calculation sheet'!C7 -> 0 | C2: Case Temp ( C ) | D2: Voltage | E2: Variable | G2: For information about how to use this spreadsheet and how to interpret its results, refer to
A3: ='Calculation sheet'!B8 -> FALSE | B3: ='Calculation sheet'!C8 -> 0 | C3: 95 | D3: SmartReflex | E3: Current | G3: Keystone-II Power Consumption Summary
G4: Module | H4: =IF(var="Power","CVDD (mW)","CVDD (mA)") -> CVDD (mA) | I4: =IF(var="Power","CVDD1 (mW)","CVDD1 (mA)") -> CVDD1 (mA) | J4: =IF(var="Power","DVDD15 (mW)", "DVDD15 (mA)") -> DVDD15 (mA) | K4: =IF(var="Power","DVDD18 (mW)", "DVDD18 (mA)") -> DVDD18 (mA) | L4: =IF(var="Power","DVDD33 (mW)", "DVDD33 (mA)") -> DVDD33 (mA) | M4: =IF(var="Power","VDDALV (mW)", "VDDALV (mA)") -> VDDALV (mA) | N4: =IF(var="Power","Total (mW)","Total (mA)") -> Total (mA)
A5: C66x CorePacs | B5: CorePac Status | C5: Frequency | D5: % SP Util | E5: % CC Util | G5: CorePacs
A6: CorePac 0 | B6: Enabled | C6: 1200 | D6: 50 | E6: 50 | G6: C66x CorePac 0 | H6: ='Calculation sheet'!E95/mW_mA_sel_cvdd + 'Calculation sheet'!E104 -> 902.43519 | I6: ='Calculation sheet'!F95/mW_mA_sel_cvdd + 'Calculation sheet'!F104 -> 3.2565806 | J6: - | K6: - | L6: - | M6: - | N6: =SUM(H6:M6) -> 905.69177
A7: CorePac 1 | B7: Enabled | D7: 50 | E7: 50 | G7: C66x CorePac 1 | H7: ='Calculation sheet'!E96/mW_mA_sel_cvdd + 'Calculation sheet'!E105 -> 902.43519 | I7: ='Calculation sheet'!F96/mW_mA_sel_cvdd + 'Calculation sheet'!F105 -> 3.2565806 | J7: - | K7: - | L7: - | M7: - | N7: =SUM(H7:M7) -> 905.69177
A8: CorePac 2 | B8: Enabled | D8: 50 | E8: 50 | G8: C66x CorePac 2 | H8: ='Calculation sheet'!E97/mW_mA_sel_cvdd + 'Calculation sheet'!E106 -> 902.43519 | I8: ='Calculation sheet'!F97/mW_mA_sel_cvdd + 'Calculation sheet'!F106 -> 3.2565806 | J8: - | K8: - | L8: - | M8: - | N8: =SUM(H8:M8) -> 905.69177
A9: CorePac 3 | B9: Enabled | D9: 50 | E9: 50 | G9: C66x CorePac 3 | H9: ='Calculation sheet'!E98/mW_mA_sel_cvdd + 'Calculation sheet'!E107 -> 902.43519 | I9: ='Calculation sheet'!F98/mW_mA_sel_cvdd + 'Calculation sheet'!F107 -> 3.2565806 | J9: - | K9: - | L9: - | M9: - | N9: =SUM(H9:M9) -> 905.69177
A10: CorePac 4 | B10: Enabled | D10: 50 | E10: 50 | G10: C66x CorePac 4 | H10: ='Calculation sheet'!E99/mW_mA_sel_cvdd + 'Calculation sheet'!E108 -> 902.43519 | I10: ='Calculation sheet'!F99/mW_mA_sel_cvdd + 'Calculation sheet'!F108 -> 3.2565806 | J10: - | K10: - | L10: - | M10: - | N10: =SUM(H10:M10) -> 905.69177
A11: CorePac 5 | B11: Enabled | D11: 50 | E11: 50 | G11: C66x CorePac 5 | H11: ='Calculation sheet'!E100/mW_mA_sel_cvdd + 'Calculation sheet'!E109 -> 902.43519 | I11: ='Calculation sheet'!F100/mW_mA_sel_cvdd + 'Calculation sheet'!F109 -> 3.2565806 | J11: - | K11: - | L11: - | M11: - | N11: =SUM(H11:M11) -> 905.69177
A12: CorePac 6 | B12: Enabled | D12: 50 | E12: 50 | G12: C66x CorePac 6 | H12: ='Calculation sheet'!E101/mW_mA_sel_cvdd + 'Calculation sheet'!E110 -> 902.43519 | I12: ='Calculation sheet'!F101/mW_mA_sel_cvdd + 'Calculation sheet'!F110 -> 3.2565806 | J12: - | K12: - | L12: - | M12: - | N12: =SUM(H12:M12) -> 905.69177
A13: CorePac 7 | B13: Enabled | D13: 50 | E13: 50 | G13: C66x CorePac 7 | H13: ='Calculation sheet'!E102/mW_mA_sel_cvdd + 'Calculation sheet'!E111 -> 902.43519 | I13: ='Calculation sheet'!F102/mW_mA_sel_cvdd + 'Calculation sheet'!F111 -> 3.2565806 | J13: - | K13: - | L13: - | M13: - | N13: =SUM(H13:M13) -> 905.69177
A15: ARM A15 CorePacs | B15: CorePac Status | C15: Frequency | D15: %Utilization | G15: ARM
A16: ARM Subsystem | B16: Enabled | C16: 1400 | G16: ARM Subsystem | H16: ='Calculation sheet'!B75*ARM_cpuF/mW_mA_sel_cvdd -> 217.41176 | I16: - | J16: - | K16: - | L16: - | M16: - | N16: =SUM(H16:M16) -> 217.41176
A17: A15 CorePac 0 | B17: Enabled | D17: 100 | G17: ARM A15 CorePac0 | H17: ='Calculation sheet'!E123/mW_mA_sel_cvdd -> 1131.2449 | I17: ='Calculation sheet'!F123/mW_mA_sel_cvdd1 -> 14.626874 | J17: - | K17: - | L17: - | M17: - | N17: =SUM(H17:M17) -> 1145.8718
A18: A15 CorePac 1 | B18: Enabled | D18: 100 | G18: ARM A15 CorePac1 | H18: ='Calculation sheet'!E124/mW_mA_sel_cvdd -> 1131.2449 | I18: ='Calculation sheet'!F124/mW_mA_sel_cvdd1 -> 14.626874 | J18: - | K18: - | L18: - | M18: - | N18: =SUM(H18:M18) -> 1145.8718
A19: A15 CorePac 2 | B19: Enabled | D19: 100 | G19: ARM A15 CorePac2 | H19: ='Calculation sheet'!E125/mW_mA_sel_cvdd -> 1131.2449 | I19: ='Calculation sheet'!F125/mW_mA_sel_cvdd1 -> 14.626874 | J19: - | K19: - | L19: - | M19: - | N19: =SUM(H19:M19) -> 1145.8718
A20: A15 CorePac 3 | B20: Enabled | D20: 100 | G20: ARM A15 CorePac3 | H20: ='Calculation sheet'!E126/mW_mA_sel_cvdd -> 1131.2449 | I20: ='Calculation sheet'!F126/mW_mA_sel_cvdd1 -> 14.626874 | J20: - | K20: - | L20: - | M20: - | N20: =SUM(H20:M20) -> 1145.8718
G21: MSMC
A22: MSMC | B22: Enabled | D22: 100 | G22: MSMC | H22: ='Calculation sheet'!E315/mW_mA_sel_cvdd -> 1092.8045 | I22: ='Calculation sheet'!F315/mW_mA_sel_cvdd1 -> 13.572493 | J22: - | K22: - | L22: - | M22: - | N22: =SUM(H22:M22) -> 1106.377
A24: External Memory Interfaces | B24: Status | C24: DDR Clock | D24: %Utilization | E24: Bits | F24: %Writes | G24: External memory interfaces
A25: DDR3A | B25: Enabled | C25: 800 | D25: 100 | E25: 16 | F25: 50 | G25: DDR3A | H25: ='Calculation sheet'!E153/mW_mA_sel_cvdd+'Calculation sheet'!T139 -> 241.39047 | I25: - | J25: ='Calculation sheet'!G153/mW_mA_sel_dvdd15+'Calculation sheet'!V139 -> 330.42128 | K25: - | L25: - | M25: - | N25: =SUM(H25:M25) -> 571.81175
A26: DDR3B | B26: Enabled | C26: 800 | D26: 100 | E26: 16 | F26: 50 | G26: DDR3B | H26: ='Calculation sheet'!E172/mW_mA_sel_cvdd+'Calculation sheet'!T158 -> 263.65857 | I26: - | J26: ='Calculation sheet'!G172/mW_mA_sel_dvdd15+'Calculation sheet'!V158 -> 405.33675 | K26: - | L26: - | M26: - | N26: =SUM(H26:M26) -> 668.99532
A27: EMIF16 | B27: Enabled | D27: 100 | F27: 50 | G27: =A27 -> EMIF16 | H27: ='Calculation sheet'!E367/mW_mA_sel_cvdd -> 7.0588235 | I27: - | J27: - | K27: - | L27: - | M27: - | N27: =SUM(H27:M27) -> 7.0588235
A29: Multicore Navigator | B29: Enabled | D29: 40 | G29: Navigator | H29: ='Calculation sheet'!E349/mW_mA_sel_cvdd -> 118.58824 | I29: ='Calculation sheet'!F349/mW_mA_sel_cvdd1 -> 20.715789 | J29: - | K29: - | L29: - | M29: - | N29: =SUM(H29:M29) -> 139.30402
A31: High Speed Peripherals | B31: Status | C31: Baud Rate/Freq | D31: %Utilization | E31: #modules/lane select | F31: Mode | G31: High Speed Peripherals
A32: SRIO | B32: Enabled | C32: 5 | D32: 100 | E32: 4 | F32: MP | G32: SRIO | H32: ='Calculation sheet'!E207/mW_mA_sel_cvdd+'Calculation sheet'!T188 -> 347.29412 | I32: ='Calculation sheet'!F207/mW_mA_sel_cvdd1+'Calculation sheet'!U188 -> 39.157895 | J32: - | K32: ='Calculation sheet'!W188 -> 131.11956 | L32: - | M32: ='Calculation sheet'!Z188 -> 196.88906 | N32: =SUM(H32:M32) -> 714.46063
A33: HyperLink | B33: Enabled | C33: 10 | D33: 100 | E33: 2 | G33: HyperLink | H33: ='Calculation sheet'!E223/mW_mA_sel_cvdd+'Calculation sheet'!T211 -> 313.41176 | I33: ='Calculation sheet'!F223/mW_mA_sel_cvdd1+'Calculation sheet'!U211 -> 35.368421 | J33: - | K33: ='Calculation sheet'!W211 -> 361.11111 | L33: - | M33: ='Calculation sheet'!Z211 -> 662.53082 | N33: =SUM(H33:M33) -> 1372.4221
A34: PCIe | B34: Disabled | D34: 25 | G34: PCIe | H34: ='Calculation sheet'!E238/mW_mA_sel_cvdd+'Calculation sheet'!T227 -> 0 | I34: ='Calculation sheet'!F238/mW_mA_sel_cvdd1+'Calculation sheet'!U227 -> 0 | J34: - | K34: ='Calculation sheet'!W227 -> 2.2777778 | L34: - | M34: ='Calculation sheet'!Z227 -> 8.5882353 | N34: =SUM(H34:M34) -> 10.866013
A35: 10-GbE Switch Subsystem | B35: Enabled | C35: 10 | D35: 100 | E35: 2 | G35: 10GE | H35: ='Calculation sheet'!E261/mW_mA_sel_cvdd+'Calculation sheet'!T259 -> 1082.8235 | I35: ='Calculation sheet'!F261/mW_mA_sel_cvdd1+'Calculation sheet'!U259 -> 123.78947 | J35: - | K35: ='Calculation sheet'!W259 -> 109.22222 | L35: - | M35: ='Calculation sheet'!Z259 -> 211.52941 | N35: =SUM(H35:M35) -> 1527.3646
A36: USB 3.0 | B36: Disabled | C36: SS | D36: 25 | G36: USB | H36: =('Calculation sheet'!E500)/mW_mA_sel_cvdd+'Calculation sheet'!T495 -> 0 | I36: ='Calculation sheet'!F501/mW_mA_sel_cvdd1+'Calculation sheet'!U495 -> 0 | J36: - | K36: - | L36: ='Calculation sheet'!X495 -> 0.90909091 | M36: ='Calculation sheet'!Z495 -> 1.1764706 | N36: =SUM(H36:M36) -> 2.0855615
A38: Network CoProcessor | B38: Enabled | D38: 100 | F38: PA+SA+SGMII | G38: =A38 -> Network CoProcessor | H38: ='Calculation sheet'!E331/mW_mA_sel_cvdd+'Calculation sheet'!T324 -> 838.62118 | I38: ='Calculation sheet'!F331/mW_mA_sel_cvdd1+'Calculation sheet'!U324 -> 122.84463 | J38: - | K38: ='Calculation sheet'!W324 -> 79.799833 | L38: - | M38: ='Calculation sheet'!Z324 -> 144.46682 | N38: =SUM(H38:M38) -> 1185.7325
A40: Radio Acceleration PACs | G40: Radio Acceleration PACs
A42: AIF2 | B42: Disabled | C42: 6.144 | D42: 0 | E42: 4 | F42: CPRI_CPPI | G42: AIF2 | H42: ='Calculation sheet'!E456/mW_mA_sel_cvdd -> 0 | I42: =INDEX('Calculation sheet'!F456:G456,cvdd_select)/mW_mA_sel_cvdd1 -> 0 | J42: - | K42: - | L42: - | M42: - | N42: =SUM(H42:I42) -> 0
A44: BCP | B44: Disabled | D44: 0 | G44: BCP | H44: ='Calculation sheet'!E513/mW_mA_sel_cvdd -> 0 | I44: ='Calculation sheet'!F513/mW_mA_sel_cvdd1 -> 0 | J44: - | K44: - | L44: - | M44: - | N44: =SUM(H44:I44) -> 0
A46: FFTC_0 | B46: Disabled | D46: 0 | G46: FFTC_0 | H46: ='Calculation sheet'!E478/mW_mA_sel_cvdd -> 0 | I46: ='Calculation sheet'!F478/mW_mA_sel_cvdd1 -> 0 | J46: - | K46: - | L46: - | M46: - | N46: =SUM(H46:I46) -> 0
A47: FFTC_1 | B47: Disabled | D47: 0 | G47: FFTC_1 | H47: ='Calculation sheet'!E479/mW_mA_sel_cvdd -> 0 | I47: ='Calculation sheet'!F479/mW_mA_sel_cvdd1 -> 0 | J47: - | K47: - | L47: - | M47: - | N47: =SUM(H47:I47) -> 0
A48: FFTC_2 | B48: Disabled | D48: 0 | G48: FFTC_2 | H48: ='Calculation sheet'!E480/mW_mA_sel_cvdd -> 0 | I48: ='Calculation sheet'!F480/mW_mA_sel_cvdd1 -> 0 | J48: - | K48: - | L48: - | M48: - | N48: =SUM(H48:I48) -> 0
A49: FFTC_3 | B49: Disabled | D49: 0 | G49: FFTC_3 | H49: ='Calculation sheet'!E481/mW_mA_sel_cvdd -> 0 | I49: ='Calculation sheet'!F481/mW_mA_sel_cvdd1 -> 0 | J49: - | K49: - | L49: - | M49: - | N49: =SUM(H49:I49) -> 0
...

Sheet Calculation sheet
A1: Device variants supported | B1: 66AK2H14 | M1: =IF(var="Power","CVDD (mW)","CVDD (mA)") -> CVDD (mA) | N1: =IF(var="Power","CVDD1 (mW)","CVDD1 (mA)") -> CVDD1 (mA) | O1: =IF(var="Power","DVDD15 (mW)", "DVDD15 (mA)") -> DVDD15 (mA) | P1: =IF(var="Power","DVDD18 (mW)", "DVDD18 (mA)") -> DVDD18 (mA) | Q1: =IF(var="Power","DVDD33 (mW)", "DVDD33 (mA)") -> DVDD33 (mA) | R1: =IF(var="Power","VDDAHV (mW)", "VDDAHV (mA)") -> VDDAHV (mA) | S1: =IF(var="Power","VDDALH (mW)", "VDDALH (mA)") -> VDDALH (mA)
A2: TCI6638K2K | B2: =RIGHT(Device_Var,3) -> H14 | C2: Temp Vals | D2: CGEM1 | E2: cvdd vals | F2: cvdd select | G2: Variable | H2: Rev list | M2: Var Divider | N2: Var Divider | O2: Var Divider | P2: Var Divider | Q2: Var Divider | R2: Var Divider | S2: Var Divider
A3: 66AK2H12 | C3: 0 | D3: 800 | E3: 0.85 | F3: 1 | G3: Power | H3: 1.x | M3: =IF(var="Power",1,INDEX(E3:E4,var_select)) -> 0.85 | N3: =IF(var="Power",1,0.95) -> 0.95 | O3: =IF(var="Power",1,1.5) -> 1.5 | P3: =IF(var="Power",1,1.8) -> 1.8 | Q3: =IF(var="Power",1,3.3) -> 3.3 | R3: =IF(var="Power",1,1.8) -> 1.8 | S3: =IF(var="Power",1,0.85) -> 0.85
A4: 66AK2H14 | C4: 100 | D4: 900 | E4: 0.9 | F4: Cvdd | G4: Current | H4: 2 | L4: LEAKAGE | M4: =E13/mW_mA_sel_cvdd -> 8869.5521 | N4: =F13/mW_mA_sel_cvdd1 -> 2360.9028 | O4: =G13/mW_mA_sel_dvdd15 -> 0 | P4: =(H13+J13)/mW_mA_sel_dvdd18 -> 0 | Q4: =K13/mW_mA_sel_dvdd33 -> 0 | R4: =L13/mW_mA_sel_vddahv -> 0 | S4: =M13/mW_mA_sel_vddalh -> 0 | T4: =SUM(M4:S4) -> 11230.455
A5: 66AK2H06 | C5: 25 | D5: 1200 | E5: 1 | F5: 1
E6: 1 | L6: BASELINE CLOCKING | M6: =E65/mW_mA_sel_cvdd -> 1614.6602 | N6: =F65/mW_mA_sel_cvdd1 -> 21.583698 | O6: =G65/mW_mA_sel_dvdd15 -> 242.67945 | P6: =(H65+J65)/mW_mA_sel_dvdd18 -> 384.0591 | Q6: =I65/mW_mA_sel_dvdd33 -> 0 | S6: =K65/mW_mA_sel_vddalh -> 0 | T6: =SUM(M6:S6) -> 2262.9825
A7: To decide XGE inclusion | B7: =NOT(OR('Calculation sheet'!B2="H12",'Calculation sheet'!B2="H06")) -> TRUE
A8: To decide 4 v/s 2 GEM and ARM cores | B8: =IF(B2="H06",TRUE) -> FALSE | L8: TOTAL BASELINE | M8: =SUM(M4,M6) -> 10484.212 | N8: =SUM(N4,N6) -> 2382.4865 | O8: =SUM(O4,O6) -> 242.67945 | P8: =SUM(P4,P6) -> 384.0591 | Q8: =SUM(Q4,Q6) -> 0 | S8: =SUM(S4,S6) -> 0 | T8: =SUM(M8:S8) -> 13493.437
E9: CVDD | F9: CVDD1 | G9: DVDD15 | H9: DVDD18 | I9: DVDD33 | J9: VDDAHV | K9: VDDALH
A10: Baseline | E10: =E13+E67 -> 11721.79 | F10: =F13+F67 -> 2273.1325 | G10: =G13+G67 -> 694.68807 | H10: =H13+H67 -> 691.30637 | L10: TOTAL DYNAMIC | M10: =SUM('66AK2H14'!H6:'66AK2H14'!H77) -> 16413.685 | N10: =SUM('66AK2H14'!I6:'66AK2H14'!I77) -> 442.30442 | O10: =SUM('66AK2H14'!J6:'66AK2H14'!J77) -> 735.75803 | P10: =SUM('66AK2H14'!K6:'66AK2H14'!K77) -> 683.5305 | Q10: =SUM('66AK2H14'!L6:'66AK2H14'!L77) -> 0.90909091 | S10: =SUM('66AK2H14'!M6:'66AK2H14'!M77) -> 1225.1808 | T10: =SUM(M10:S10) -> 19501.368
A11: CVDD leakage scaling | B11: 11.082 | L11: (activity + idle clocking)
A12: CVDD1 leakage scaling | B12: 3.324 | E12: CVDD | F12: CVDD1 | G12: DVDD15 | H12: DVDD18 | I12: DVDD33 | J12: VDDAHV | K12: VDDALH | L12: TOTAL | M12: =SUM(M4,M6,M10) -> 26897.898 | N12: =SUM(N4,N6,N10) -> 2824.791 | O12: =SUM(O4,O6,O10) -> 978.43747 | P12: =SUM(P4,P6,P10) -> 1067.5896 | Q12: =SUM(Q4,Q6,Q10) -> 0.90909091 | S12: =SUM(S4,S6,S10) -> 1225.1808 | T12: =SUM(T4,T6,T10) -> 32994.805
A13: Leakage Total | E13: =(E14+E18)-num_dis_ARM_cores*B62*E52 -> 7539.1193 | F13: =(F14+F18)-num_dis_ARM_cores*C62*F52 -> 2242.8577 | G13: =(G14+G18) -> 0 | H13: =(H14+H18) -> 0 | I13: =(I14+I18) -> 37.632315 | J13: =(J14+J18) -> 0 | K13: =(K14+K18) -> 0
A14: Baseline Leakage cvdd | B14: =1-B53 -> 0.31477922 | C14: =1-C53 -> 0.39383111 | E14: =B14*E19 -> 3156.4198 | F14: =C14*F19 -> 1121.1285 | G14: 0 | H14: 0 | I14: 37.632315 | J14: 0 | K14: 0 | L14: DYNAMIC | M14: =SUM(M6,M10) -> 18028.345 | N14: =SUM(N6,N10) -> 463.88812 | O14: =SUM(O6,O10) -> 978.43747 | P14: =SUM(P6,P10) -> 1067.5896 | Q14: =SUM(Q6,Q10) -> 0.90909091 | S14: =SUM(S6,S10) -> 1225.1808 | T14: =SUM(T6,T10) -> 21764.351
B15: CVDD | C15: CVDD1
A16: Adjustment Pading
E17: CVDD | F17: CVDD1 | G17: DVDD15 | H17: DVDD18 | I17: DVDD33 | J17: VDDAHV | K17: VDDALH
D18: Power Domain Leakage Total | E18: =SUM(E22:E52) -> 4382.6995 | F18: =SUM(F22:F52) -> 1121.7292 | G18: =SUM(G22:G52) -> 0 | H18: =SUM(H22:H52) -> 0
D19: Leakage curve model from PE | E19: =EXP((Tdut-100)*0.02)*CVDD_SF*1000 -> 10027.408 | F19: =EXP((Tdut-100)*0.031)*CVDD1_SF*1000 -> 2846.724
B20: CVDD | C20: CVDD1
A21: 0 PD Always ON | E21: 0 | F21: 0 | G21: 0 | H21: 0 | I21: 0 | J21: 0 | K21: 0
A22: 1 PD_TETB | E22: 0 | F22: 0 | G22: 0 | H22: 0 | I22: 0 | J22: 0 | K22: 0
A23: 2 PD_NETCP | B23: 0.035615504 | C23: 0.039012503 | E23: =IF(PASS_en="Enabled", PD_NETCP_LEAK_DVDD33_25*E$19,0) -> 357.1312 | F23: =IF(PASS_en="Enabled", C23*F19, 0) -> 111.05783 | G23: 0 | H23: 0 | I23: 0 | J23: 0 | K23: 0
A24: 3 PD_PCIE | B24: 0.0071810224 | C24: 0.0056240651 | E24: =IF(PCIe_en="Enabled", PD_PCIE_LEAK_DVDD33_25*E19, 0) -> 0 | F24: =IF(PCIe_en="Enabled", C24*F19, 0) -> 0 | G24: 0 | H24: 0 | I24: 0 | J24: 0 | K24: 0
A25: 4 PD_SRIO | B25: 0.016398831 | C25: 0.011513965 | E25: =IF(srio_en="Enabled", PD_SRIO_LEAK_DVDD33_25*E19, 0) -> 164.43778 | F25: =IF(srio_en="Enabled", C25*F19, 0) -> 32.77708 | G25: 0 | H25: 0 | I25: 0 | J25: 0 | K25: 0
A26: 5 PD_HYPERLINK0 | B26: 0.0054348046 | C26: 0.0045832236 | E26: =IF(mcm_en="Enabled", PD_HYPERLINK0_LEAK_DVDD33_25*E19, 0) -> 54.497005 | F26: =IF(mcm_en="Enabled", C26*F19, 0) -> 13.047173 | G26: 0 | H26: 0 | I26: 0 | J26: 0 | K26: 0
A27: 6 PD_RESERVED | B27: 0.0080478379 | C27: 0.0024388947 | E27: =B27*E19 -> 80.698956 | F27: =C27*F19 -> 6.9428601 | G27: 0 | H27: 0 | I27: 0 | J27: 0 | K27: 0
A28: 7 PD_MSMC_RAM | E28: 0 | F28: 0 | G28: 0 | H28: 0 | I28: 0 | J28: 0 | K28: 0
A29: 8 PD_CORE0 | B29: 0.027639198 | C29: 0.020942688 | E29: =IF(core0_en=1,B29*E$19,0) -> 277.14952 | F29: =IF(core0_en=1,C29*F$19,0) -> 59.618053 | G29: 0 | H29: 0 | I29: 0 | J29: 0 | K29: 0
A30: 9 PD_CORE1 | B30: 0.027639198 | C30: 0.020942688 | E30: =IF(core1_en=1,B30*E$19,0) -> 277.14952 | F30: =IF(core1_en=1,C30*F$19,0) -> 59.618053 | G30: 0 | H30: 0 | I30: 0 | J30: 0 | K30: 0
A31: 10 PD_CORE2 | B31: 0.027639198 | C31: 0.020942688 | E31: =IF(core2_en=1,B31*E$19,0) -> 277.14952 | F31: =IF(core2_en=1,C31*F$19,0) -> 59.618053 | G31: 0 | H31: 0 | I31: 0 | J31: 0 | K31: 0
A32: 11 PD_CORE3 | B32: 0.027639198 | C32: 0.020942688 | E32: =IF(core3_en=1,B32*E$19,0) -> 277.14952 | F32: =IF(core3_en=1,C32*F$19,0) -> 59.618053 | G32: 0 | H32: 0 | I32: 0 | J32: 0 | K32: 0
A33: =IF(two_core_select=FALSE,"12 PD_CORE4","12 PD RESERVED") -> 12 PD_CORE4 | B33: 0.027639198 | C33: 0.020942688 | E33: =IF(two_core_select=FALSE,IF(core4_en=1,B33*E$19,0),0) -> 277.14952 | F33: =IF(two_core_select=FALSE,IF(core4_en=1,C33*F$19,0),0) -> 59.618053 | G33: 0 | H33: 0 | I33: 0 | J33: 0 | K33: 0
A34: =IF(two_core_select=FALSE,"13 PD_CORE5","13 PD RESERVED") -> 13 PD_CORE5 | B34: 0.027639198 | C34: 0.020942688 | E34: =IF(two_core_select=FALSE,IF(core5_en=1,B34*E$19,0),0) -> 277.14952 | F34: =IF(two_core_select=FALSE,IF(core5_en=1,C34*F$19,0),0) -> 59.618053 | G34: 0 | H34: 0 | I34: 0 | J34: 0 | K34: 0
A35: =IF(two_core_select=FALSE,"14 PD_CORE6","14 PD RESERVED") -> 14 PD_CORE6 | B35: 0.027639198 | C35: 0.020942688 | E35: =IF(two_core_select=FALSE, IF(core6_en=1,B35*E$19,0),0) -> 277.14952 | F35: =IF(two_core_select=FALSE,IF(core6_en=1,C35*F$19,0),0) -> 59.618053 | G35: 0 | H35: 0 | I35: 0 | J35: 0 | K35: 0
A36: =IF(two_core_select=FALSE,"15 PD_CORE7","15 PD RESERVED") -> 15 PD_CORE7 | B36: 0.027639198 | C36: 0.020942688 | E36: =IF(two_core_select=FALSE,IF(core7_en=1,B36*E$19,0),0) -> 277.14952 | F36: =IF(two_core_select=FALSE,IF(core7_en=1,C36*F$19,0),0) -> 59.618053 | G36: 0 | H36: 0 | I36: 0 | J36: 0 | K36: 0
A37: 16 PD_EMIF(DDRA/B) | E37: 0 | F37: 0 | G37: 0 | H37: 0 | I37: 0 | J37: 0 | K37: 0
A38: =IF(B2<>"K2K","17 PD_RESERVED","17 PD_RAC0/1_TAC") -> 17 PD_RESERVED | B38: 0.058758159 | C38: 0.081853261 | E38: =IF(OR(RAC_0_1_en="Enabled",TAC_enable="Enabled"),B38*E19,0) -> 0 | F38: =IF(OR(RAC_0_1_en="Enabled",TAC_enable="Enabled"),C38*F19,0) -> 0 | G38: 0 | H38: 0 | I38: 0 | J38: 0 | K38: 0
A39: =IF(B2<>"K2K","18 PD_RESERVED","17 PD_RAC2/3") -> 18 PD_RESERVED | B39: 0.031041974 | C39: 0.050836956 | E39: =IF(RAC_2_3_en="Enabled",B39*E19,0) -> 0 | F39: =IF(RAC_2_3_en="Enabled",C39*F19,0) -> 0 | G39: 0 | H39: 0 | I39: 0 | J39: 0 | K39: 0
A40: =IF(B2<>"K2K","19 PD_RESERVED","17 PD_FFTC0/1") -> 19 PD_RESERVED | B40: 0.033870168 | C40: 0.008307869 | E40: =IF(OR(FFTC_0_enable="Enabled", FFTC_1_enable="Enabled"),B40*E19,0) -> 0 | F40: =IF(OR(FFTC_0_enable="Enabled", FFTC_1_enable="Enabled"),C40*F19,0) -> 0 | G40: 0 | H40: 0 | I40: 0 | J40: 0 | K40: 0
...
